{"text_format":"1","workbook":"xlsx","n_sheets":17,"sheets":["Directions","1-Cover","2-Constants","3-H&H","4-Soil","5-Wood","Prelim-Top#1","Prelim-Top#2","Prelim-Top#3","Foot#1","Foot#2","Final-Top#1","Final-Top#2","Final-Top#3","7-Notation","Anchors","Interactions"],"not_rendered":{"charts":8,"images":8,"macros":1,"external_links":0,"defined_names":50,"comments":13,"pivot_tables":0},"unopened":[],"bounds":{"document_bytes":16777216,"sheet_cells":100000,"rows_first":2000,"rows_last":500,"rows_between":2000,"halvings":0,"cell_chars":16384,"cell_head_chars":4096},"cells_cut":0,"cells_raw":0,"read":"whole","date_system":"1900"}

{"sheet":"Directions","index":0,"n_rows":146,"n_cols":16,"rows_kept":146,"cut":false,"hidden":false,"merged":[[82,11,83,15],[88,11,96,15],[0,0,0,9],[2,0,2,9],[4,0,4,9],[5,0,12,9],[13,0,13,9],[110,0,113,9],[90,1,99,9],[83,1,89,9],[78,1,80,9],[100,1,100,9],[101,1,106,9],[107,0,107,9],[108,0,109,9],[126,0,126,3],[53,0,54,9],[56,0,57,9],[59,0,63,9],[50,0,51,9],[65,0,66,9],[118,0,119,9],[122,0,122,9],[123,0,123,9],[124,0,124,9],[125,0,125,9],[73,0,77,9],[81,1,82,9],[114,0,115,9],[68,0,69,9],[121,0,121,9]]}
["Directions for LW Stability Analysis Tool"]
[]
["This design tool may be used by practitioners if they cite the developer on each sheet."]
[]
["Disclaimer:"]
["This Microsoft Excel 2010 spreadsheet tool is provided free of charge. Use this tool at your own risk. In offering this tool, the author, the U.S. Forest Service, and Colorado State University do not accept any responsibility or liability for the tool's use by third parties. This tool has specific uses and limits of applicability. Design practitioners shall take full responsibility for the final large wood structure design and performance. Designers are expected to verify the calculated values and validity of the design method. Designers should be qualified to work in river environments, and depending on the State, they may be required to be licensed as a professional engineer to design large wood structures. You cannot be sure the tool is authentic and unmolested unless downloaded from the following website:  "]
[]
[]
[]
[]
[]
[]
[]
["http://www.fs.fed.us/biology/nsaec/products-tools.html"]
[]
["DATA INPUT"]
[]
["Order of Input"]
[null,"Update the worksheets from \"left to right\""]
[null,"Update the spreadsheet cells from \"left to right\" and \"top to bottom\""]
[]
["IMPORTANT - User should only edit the following cells:"]
[]
[null,"Cell Format",null,"Directions"]
[null,"Dropdown List",null,"Select value from dropdown list"]
[]
[null,"User Input",null,"Type value into cell"]
[]
[null,"User Verify",null,"Verify value in cell (edit if necessary)"]
[]
["User should verify, but not edit the following cells because these cells contain formulas or headings:"]
[]
[null,"Cell Format",null,"Directions"]
[null,"Heading",null,"Table Heading (Scroll over sample heading for description of comments)"]
[]
[null,"Automatic Value",null,"Verify value in cell which is automatically calculated by formulas"]
[]
[null,"Key Value",null,"Verify value of force calculation"]
[]
[null,"Solution",null,"Verify value of force balance or factor of safety calculation"]
[]
[null,"Background Value",null,"Optional - Verify value of background calculation (outside of print area)"]
[]
["The \"Single Log\" and \"Multi-Log\" spreadsheets have several built-in error messages (in column 'K'):"]
[]
[null,"Error Message"]
[null,"\"CHECK\"",null,"Prompts user to check a specific input"]
[]
[null,"\"ERROR\"",null,"Prompts user to change a specific input"]
[]
["User Input Note 1 - Several worksheets have a built in \"clear inputs\" button linked to a macro (these are the only macros built into the tool).  Be aware that you can't undo the \"clear input\" command."]
[]
[]
["User Input Note 2 - User may enter a custom \"bank soil type\", \"wood species\", or \"anchor type\" by scrolling over to the right to find the lookup table and editing the \"custom\" cells."]
[]
[]
["User Input Note 3 - The spreadsheet is not locked, and therefore every cell can be manually edited.  However, the user is encouraged to exercise caution to avoid unintended consequences of changing reference formulas."]
[]
[]
["User Input Note 4 - User should also be very careful when removing or adding cells (at least scroll over and down to see what other cells may be impacted).  Hiding unused rows or columns is recommended instead of deleting them.  If the user needs to add cells on the \"Single Log Design\" spreadsheet, they should add a row of cells for all columns between 'A' and 'J'.  Important: Adding cells will break the code in the \"Clear Inputs\" macro, and cause it to clear the wrong cells."]
[]
[]
[]
[]
[]
["User Input Note 5 - To avoid compounding potential errors, the user should use the original download version of the spreadsheet (without personal edits) at the beginning of each design."]
[]
[]
["User Input Note 6 - Input values should be in English units, with one exception: D50 for the bed substrate gradation (mm)."]
[]
[]
["ANALYSIS OF MULTIPLE LOG STRUCTURES"]
[]
["The LW Stability Analysis Tool can also be used to design multiple log structures.  The user must manually translate the resulting vertical and horizontal forces from one log design sheet into another (or write their own formulas).  This data should be entered in the \"Interaction Forces with Adjacent Logs\" section of the \"Single Log Design\" worksheet.  In theory, there is no limit to the number of logs that can be considered, although the force balance accounting may become cumbersome beyond a few logs.  The general procedure is as follows:"]
[]
[]
[]
[]
["Step 1","Begin by creating a preliminary structure layout (in AutoCAD or similar) to define the quantity of logs, locate intersect points, and identify key members.  Key members are typically the largest logs (or the logs that are going to be have anchors attached)."]
[]
[]
["Step 2","Fill out Sheets 1 through 5 of this tool.  Next, input the channel geometry in a blank \"Single Log Design\" worksheet (Sheet 6), and then make copies for analysis of each log."]
[null,null,null,null,null,null,null,null,null,null,null,"(Example) Required Resisting Forces for Stacked and Wracked Members (to be supplied by Key Members)"]
["Step 3","Complete a preliminary force balance analysis for each stacked member log, ignoring the \"Interaction Forces with Adjacent Logs\" and \"Anchor Forces\" sections.  The user should manually record the resisting forces required to stabilize each stacked member in a table.  The required vertical force can be found in cell 'K61' of the \"Single Log Design\" worksheet, and the required horizontal force can be found in cell 'K72'.  If the log is already vertically or horizontally stable, record the excess force that may be applied to resist driving forces of the adjacent log(s).  This information can be found in cell 'K62' and 'K73'.  An example table is shown to the right of these directions →"]
[null,null,null,null,null,null,null,null,null,null,null,"Log ID","FV (lbf)","FV (per\"key log)","FH (lbf)","FH (per key log)"]
[null,null,null,null,null,null,null,null,null,null,null,"Top #1",7278,{"$f":"M86/2","v":3639},1872,{"$f":"O86/2","v":936}]
[null,null,null,null,null,null,null,null,null,null,null,"Top #2",7113,{"$f":"M87/2","v":3556.5},1087,543.5]
[null,null,null,null,null,null,null,null,null,null,null,"Top #3",5323,2661.5,-3547,-1773.5]
[null,null,null,null,null,null,null,null,null,null,null,"* In this example, the required resisting forces for the 3 stacked members are divided between 2 proposed key members.  Note that the log identified as \"Top #3\" is horizontally stable (hence, listed as a negative number), with an excess resisting force of 3,547 lbf.  This excess force may be applied to resist the driving horizontal forces of the key members, provided the logs are pinned together.  These values in the columns highlighted in light yellow should be entered exactly as shown in the \"Interaction Forces with Adjacent Logs\" section of the \"Single Log Design\" worksheet for each key member."]
[]
["Step 4","Complete a force balance analysis for the key members.  In the \"Interaction Forces with Adjacent Logs\" section on the force balance sheet, enter the relative position of each adjacent stacked log in contact with the key member, the connection type (gravity or pinned), the intersection point, and the required vertical and horizontal forces to achieve stability for each stacked member.  If the load from the adjacent logs is spread over multiple key members, divide the required forces by the number of key members sharing the load (note--these loads do not need to be evenly distributed between key members).  If an adjacent log is either horizontally or vertically stable, then enter any excess force (see Step 3 above) value as a negative number in the key member design spreadsheet.  The tool will automatically determine which loads are transferable to the next layer of logs.  For instance, a non-pinned log situated above the key member will not transfer buoyancy force to the key member."]
[]
[]
[]
[]
[]
[]
[]
[]
[]
["Step 5","Add \"Anchor Forces\" as necessary to stabilize the key members."]
["Step 6","Return to the stacked member log worksheets and in the \"Interaction Forces with Adjacent Logs\" section, input the forces that were resisted by the stability analysis of the key members.  Add additional \"Anchor Forces\" as necessary to stabilize the forces that were not resisted by the design of the key members. It is advisable to create a copy of the \"preliminary\" design worksheets for the stacked member logs to create a separate \"final\" design worksheet. This will make it easier for the user to review the interaction forces between logs or make necessary edits."]
[]
[]
[]
[]
[]
["Tip 1:  It is recommended that the user creates a spreadsheet to tally the transferred forces for each log."]
["Tip 2:  The design of multiple log structures should initially focus on achieving vertical stability, before moving on to horizontal stability, and finally the moment analysis."]
[]
["Note 1:  Most design procedures for larger wood jams (ELJ's) typically ignore the lift and moment forces, and the drag coefficient may be assumed to be between 0.6 and 0.7 for the entire structure (plus corrections for constriction, or blockage, of the channel).  Therefore, the analysis procedure described above is likely conservative for larger structures."]
[]
[]
[]
["Note 2:  The designer should also perform scour computations and consider the structure's potential to trap mobile wood.  The design and/or factor of safety may need modified accordingly."]
[]
[]
["TO PRINT WORKBOOK"]
["Highlight tabs numbered 1 through 7, and click \"Print\".  Pages are pre-formatted except the \"Anchors\" Lookup sheet, which is not intended to be printed."]
[]
[]
["User is encouraged to provide comments and feedback for:"]
["Suitability:  Range of application or limitations"]
["Ease of use"]
["Results:  Are they reasonable and verified?"]
["Any other comments for improvement"]
["E-mail comments to:  ",null,null,null,"michael.rafferty@otak.com"]
[]
[]
[]
[]
["TOOL UPDATES"]
[]
["Version 1.0  July 2, 2013"]
[]
["Version 1.1  January 8, 2016"]
["Sheet, Cell"]
["S1, A42","Added reference on cover sheet to new companion paper (USFS National Stream and Aquatic Ecology Center Tech Note TN-103.1)"]
["S2, A6,7","Changed default factor of safety to 1.5 (from 2.0) for horizontal and moment force balances"]
["S6, B6","Updated log structure types in pull-down list on worksheet for single log design"]
["S6, B9","Added terminology of \"key\", \"stacked\", and \"wracked\" logs to dropdown list for consistency with guidelines"]
["S6, B25","Added error message restricting input values for orientation angle (can not equal exactly 0)"]
["S6, B26","Added error message restricting input values for tilt angle (can not equal exactly 0, 90, 180, 270, or 360)"]
["S6, D83","Changed soil type from stream bed to bank soils in formula for FA,V applied by additional soil ballast"]
["Multiple","General updates to cell formats"]
["Multiple","Fixed page layouts for printing"]

{"sheet":"1-Cover","index":1,"n_rows":46,"n_cols":11,"rows_kept":46,"cut":false,"hidden":false,"merged":[[21,2,21,6],[18,10,19,13],[0,0,0,9],[2,0,2,9],[16,0,16,9],[18,2,18,6],[19,2,19,6],[20,2,20,6],[6,10,7,13],[44,0,44,9],[45,0,47,9],[22,2,22,6],[28,2,28,6],[41,0,41,9],[42,0,42,9],[23,2,23,6],[24,2,24,6],[25,2,25,6],[26,2,26,6],[27,2,27,6],[41,10,42,14],[31,3,31,5],[34,1,34,3],[34,5,34,8],[33,1,33,2],[33,5,33,6]]}
["Sample Multi-Log Structure"]
[]
["Large Wood Structure Stability Analysis"]
[]
[]
[]
[null,null,null,null,null,null,null,null,null,null,"← (Optional - To change photo, right-click on image and path to new image)"]
[]
[]
[]
[]
[]
[]
[]
[]
[]
["TABLE OF CONTENTS"]
[null,null,null,null,null,null,null,"Sheet"]
[null,null,"Factors of Safety and Design Constants",null,null,null,null,2,null,null,"← (Note - Sheet names and numbering must be manually updated)"]
[null,null,"Hydrologic and Hydraulic Inputs",null,null,null,null,3]
[null,null,"Stream Bed Substrate Properties",null,null,null,null,4]
[null,null,"Bank Soil Properties",null,null,null,null,5]
[null,null,"Wood Properties",null,null,null,null,6]
[null,null,"Stability Analysis of Log ID: Foot #1",null,null,null,null,"7 - 9"]
[null,null,"Stability Analysis of Log ID: Foot #2",null,null,null,null,"10 - 12"]
[null,null,"Final Stability Analysis of Log ID: Top #1",null,null,null,null,"13 - 15"]
[null,null,"Final Stability Analysis of Log ID: Top #2",null,null,null,null,"16 - 18"]
[null,null,"Final Stability Analysis of Log ID: Top #3",null,null,null,null,"19 - 21"]
[null,null,"Notation and List of Symbols",null,null,null,null,"22 - 23"]
[]
[]
[null,null,"Date of Last Revision:","2016-01-07"]
[]
[null,"Designer:",null,null,null,"Reviewed by:"]
[null,"Michael Rafferty, P.E.",null,null,null,"N/A"]
[null,null,null,null,null,null,null,null,null,null,"← (Optional - Insert P.E. Stamp)"]
[]
[]
[]
[]
[]
["Large Wood Structure Stability Analysis Spreadsheet was developed by Michael Rafferty, P.E.",null,null,null,null,null,null,null,null,null,"← (Note - This design tool may be used by practitioners if they cite the developer on each sheet)"]
["Version 1.1"]
[]
["Reference for Companion Paper:"]
["Rafferty, M. 2016. Computational Design Tool for Evaluating the Stability of Large Wood Structures. Technical Note TN-103.1. Fort Collins, CO: U.S. Department of Agriculture, Forest Service, National Stream & Aquatic Ecology Center."]

{"sheet":"2-Constants","index":2,"n_rows":19,"n_cols":4,"rows_kept":19,"cut":false,"hidden":false,"merged":[[0,2,1,3]]}
[{"$f":"'1-Cover'!A1","v":"Sample Multi-Log Structure"},null,"Spreadsheet developed by Michael Rafferty, P.E."]
["Factors of Safety and Design Constants"]
[]
["Symbol","Description","Value"]
["FSV","Factor of Safety for Vertical Force Balance",1.5]
["FSH","Factor of Safety for Horizontal Force Balance",1.5]
["FSM","Factor of Safety for Moment Force Balance",1.5]
[]
["Symbol","Description","Units","Value"]
["CLrock","Coefficient of lift for submerged boulder (D’Aoust, 2000)","-",0.17]
["CDrock","Coefficient of drag for submerged boulder (Schultz, 1954)","-",0.85]
["g","Gravitational acceleration constant","ft/s2",32.173999999999999]
["DFRW","Diameter factor for rootwad (DFRW = DRW/DTS)","-",3]
["LFRW","Length factor for rootwad (LFRW = LRW/DTS)","-",1.5]
["SGrock","Specific gravity of quartz particles","-",2.65]
["grock","Dry unit weight of boulders","lb/ft3",165]
["gw","Specific weight of water at 50⁰F","lb/ft3",62.4]
["h","Rootwad porosity from NRCS Tech Note 15 (2001)","-",0.2]
["n","Kinematic viscosity of water at 50⁰F","ft/s2",1.4100000000000001E-5]

{"sheet":"3-H&H","index":3,"n_rows":32,"n_cols":12,"rows_kept":32,"cut":false,"hidden":false,"merged":[[0,5,1,7],[31,9,33,17],[5,7,7,7],[5,9,7,9],[5,0,7,0],[5,4,7,4],[5,2,7,2],[5,5,7,5],[5,8,7,8],[5,3,7,3],[5,6,7,6],[5,1,7,1],[3,0,3,4]]}
[{"$f":"'1-Cover'!A1","v":"Sample Multi-Log Structure"},null,null,null,null,"Spreadsheet developed by                                Michael Rafferty, P.E."]
["Hydrologic and Hydraulic Inputs"]
[]
["Average Return Interval (ARI) of Design Discharge:",null,null,null,null,50,"yr"]
[]
["Site ID","Proposed Station","Design Discharge, Qdes (cfs)","Maximum Depth, dw (ft)","Average Velocity, uavg (ft/s)","Bankfull Width, WBF (ft)","Wetted Area, AW (ft2)","Radius of Curvature, Rc (ft)","Rc/WBF","Velocity at Outer Meander Bend1, um (ft/s)"]
[]
[]
["Sample1",1000,3700,8.4499999999999993,3.4,94,1650,500,{"$f":"IF(OR($F9=\"\",$H9=\"\"),\"\",$H9/$F9)","v":5.3191489361702127},{"$f":"IF(OR(E9=\"\",I9=\"\"),\"\",IF(I9>26,E9,E9*(1.74-(0.52*LOG(I9)))))","v":4.6327110774981861}]
[null,null,null,null,null,null,null,null,"",""]
[null,null,null,null,null,null,null,null,"",""]
[null,null,null,null,null,null,null,null,"",""]
[null,null,null,null,null,null,null,null,"",""]
[null,null,null,null,null,null,null,null,"",""]
[null,null,null,null,null,null,null,null,"",""]
[null,null,null,null,null,null,null,null,"",""]
[null,null,null,null,null,null,null,null,"",""]
[null,null,null,null,null,null,null,null,"",""]
[null,null,null,null,null,null,null,null,"",""]
[null,null,null,null,null,null,null,null,"",""]
[null,null,null,null,null,null,null,null,"",""]
[null,null,null,null,null,null,null,null,"",""]
[null,null,null,null,null,null,null,null,"",""]
[null,null,null,null,null,null,null,null,"",""]
[null,null,null,null,null,null,null,null,"",""]
[null,null,null,null,null,null,null,null,"",""]
[null,null,null,null,null,null,null,null,"",""]
[null,null,null,null,null,null,null,null,"",""]
[null,null,null,null,null,null,null,null,null,"1 Meander velocity, um = ",null,"uavg          [for Rc/WBF > 26]"]
[null,null,null,null,null,null,null,null,null,null,null,"uavg(1.74 - 0.52 log (Rc/WBF))      [for Rc/WBF < 26]"]
[null,null,null,null,null,null,null,null,null,"Source for meander velocity in channel bends:"]
[null,null,null,null,null,null,null,null,null,"US Dept of Transportation. (2009) Hydraulic Engineering Circular No. 23 v2: Bridge Scour and Stream Instability Countermeasures: Experience, Selection, and Design Guidance-Third Edition. Design Guideline 4 Riprap Revetment."]

{"sheet":"4-Soil","index":4,"n_rows":30,"n_cols":30,"rows_kept":30,"cut":false,"hidden":false,"merged":[[2,15,2,19],[3,29,5,29],[3,0,5,0],[3,2,5,2],[3,4,5,4],[3,1,5,1],[3,15,5,15],[3,16,5,16],[3,17,5,17],[3,18,5,18],[3,7,5,7],[3,9,5,9],[3,8,5,8],[3,10,5,10],[3,12,5,12],[3,11,5,11],[26,3,27,7],[0,11,1,12],[0,6,1,7],[3,28,5,28],[3,19,5,19],[3,25,5,25],[3,21,5,21],[3,22,5,22],[3,23,5,23],[3,24,5,24],[3,3,5,3],[3,5,5,5],[3,26,5,26],[3,27,5,27],[2,21,2,29],[3,6,5,6]]}
[null,null,{"$f":"'1-Cover'!A1","v":"Sample Multi-Log Structure"},null,null,null,"Spreadsheet developed by Michael Rafferty, P.E.",null,{"$f":"'1-Cover'!A1","v":"Sample Multi-Log Structure"},null,null,"Spreadsheet developed by Michael Rafferty, P.E."]
[null,null,"Stream Bed Substrate Properties",null,null,null,null,null,"Bank Soil Properties",null,null,null,null,null,null,"Substrate and Soil Properties Lookup Table",null,null,null,null,null,"Bank Soil Properties Lookup Table"]
[null,null,null,null,null,null,null,null,null,null,null,null,null,null,null,"General Substrate and Soil Properties1",null,null,null,null,null,"Bank Soil Properties1"]
["Site ID","Proposed Station","Stream bed D50          (mm)","Stream Bed Substrate Grain Size Class","Bed Soil Class","Dry Unit Weight1,   gbed (lb/ft3)","Buoyant Unit Weight,   g'bed (lb/ft3)","Friction Angle, fbed (deg)","Bank Soils (from field observations)","Bank Soil Class","Dry Unit Weight,   gbank (lb/ft3)","Buoyant Unit Weight, g'bank (lb/ft3)","Friction Angle, fbank (deg)",null,null,"Grain size (mm)","Stream Substrate Sediment Class","Average Dry Unit Weight,    gs (lb/ft3)","Internal Friction Angle, f (deg)","Bed Soil Class",null,"Description (from field observations)","Bank Soil Class","Probe Value (in/lb)","Average Dry Unit Weight,    gbank (lb/ft3)","Friction Angle, fbank (deg)","Void ratio2, e (Vv/Vs)","Porosity, po e/(1+e)","Saturated Unit Weight3, gbank,sat (lb/ft3)","Buoyant Unit Weight4, g'bank (lb/ft3)"]
[]
[]
[{"$f":"IF('3-H&H'!A9=\"\",\"\",'3-H&H'!A9)","v":"Sample1"},{"$f":"IF('3-H&H'!B9=\"\",\"\",'3-H&H'!B9)","v":1000},88.8,{"$f":"IF(C7=\"\",\"\",IF(C7>2048,$Q$7,IF(C7>256,$Q$8,IF(C7>128,$Q$9,IF(C7>64,$Q$10,IF(C7>32,$Q$11,IF(C7>16,$Q$12,IF(C7>8,$Q$13,IF(C7>4,$Q$14,IF(C7>2,$Q$15,IF(C7>1,$Q$16,IF(C7>0.5,$Q$17,IF(C7>0.25,$Q$18,IF(C7>0.125,$Q$19,IF(C7>0.0625,$Q$20,IF(C7>0.004,$Q$21,$Q$22))))))))))))))))","v":"Small Cobble"},{"$f":"IF(C7=\"\",\"\",VLOOKUP(D7,$Q$7:$T$22,4,0))","v":4},{"$f":"IF(C7=\"\",\"\",(1600+300*LOG(C7))*$E$30)","v":136.37545738828794},{"$f":"IF(D7=\"\",\"\",(((SG+((SG*SWWater/F7)-1))*SWWater)/(1+((SG*SWWater/F7)-1)))-SWWater)","v":84.913020637990599},{"$f":"IF(C7=\"\",\"\",VLOOKUP(D7,$Q$7:$T$22,3,0))","v":41},"Gravel/cobble",{"$f":"IF(I7=\"\",\"\",VLOOKUP(I7,$V$7:$Z$22,2,0))","v":4},{"$f":"IF(I7=\"\",\"\",VLOOKUP(I7,$V$7:$Z$22,4,0))","v":137},{"$f":"IF(I7=\"\",\"\",VLOOKUP(I7,$V$7:$AD$22,9,0))","v":85.301886792452819},{"$f":"IF(I7=\"\",\"\",VLOOKUP(I7,$V$7:$Z$22,5,0))","v":41},null,null,"Bedrock","Bedrock",165,"-",1,null,"Gravel/cobble",4,"400-500",{"$f":"R10","v":137},{"$f":"S10","v":41},{"$f":"((SG*SWWater)/Y7)-1","v":0.20700729927007289},{"$f":"AA7/(1+AA7)","v":0.17150459603289786},{"$f":"((SG+AA7)*SWWater)/(1+AA7)","v":147.70188679245283},{"$f":"AC7-SWWater","v":85.301886792452819}]
[{"$f":"IF('3-H&H'!A10=\"\",\"\",'3-H&H'!A10)","v":""},{"$f":"IF('3-H&H'!B10=\"\",\"\",'3-H&H'!B10)","v":""},null,"","","",{"$f":"IF(D8=\"\",\"\",(((SG+((SG*SWWater/F8)-1))*SWWater)/(1+((SG*SWWater/F8)-1)))-SWWater)","v":""},"",null,"","","","",null,null,"256-2048","Boulder",146,42,4,null,"Gravel, dense",4,"400-500",131.4,40,{"$f":"((SG*SWWater)/Y8)-1","v":0.25844748858447475},{"$f":"AA8/(1+AA8)","v":0.20537010159651661},{"$f":"((SG+AA8)*SWWater)/(1+AA8)","v":144.21509433962265},{"$f":"AC8-SWWater","v":81.815094339622647}]
[{"$f":"IF('3-H&H'!A11=\"\",\"\",'3-H&H'!A11)","v":""},{"$f":"IF('3-H&H'!B11=\"\",\"\",'3-H&H'!B11)","v":""},null,"","","","","",null,"","","","",null,null,"128-256","Large Cobble",142.6,42,4,null,"Gravel, loose",5,"300-400",125.7,36,0.31551312649164664,0.2398403483309143,140.66603773584907,78.266037735849068]
[{"$f":"IF('3-H&H'!A12=\"\",\"\",'3-H&H'!A12)","v":""},{"$f":"IF('3-H&H'!B12=\"\",\"\",'3-H&H'!B12)","v":""},null,"","","","","",null,"","","","",null,null,"64-128","Small Cobble",137,41,4,null,"Gravel/sand",5,"400-500",111.65,39,0.48105687416032228,0.32480648282535068,131.91792452830188,69.517924528301876]
[{"$f":"IF('3-H&H'!A13=\"\",\"\",'3-H&H'!A13)","v":""},{"$f":"IF('3-H&H'!B13=\"\",\"\",'3-H&H'!B13)","v":""},null,"","","","","",null,"","","","",null,null,"32-64","Very coarse gravel",131.4,40,5,null,"Coarse sand, dense",5,"300-400",120,43,0.37799999999999989,0.27431059506531197,137.11698113207547,74.71698113207546]
[{"$f":"IF('3-H&H'!A14=\"\",\"\",'3-H&H'!A14)","v":""},{"$f":"IF('3-H&H'!B14=\"\",\"\",'3-H&H'!B14)","v":""},null,"","","","","",null,"","","","",null,null,"16-32","Coarse gravel",125.7,38,5,null,"Coarse sand, loose",6,"200-300",98,31,0.68734693877551001,0.40735365263667145,123.41886792452831,61.018867924528315]
[{"$f":"IF('3-H&H'!A15=\"\",\"\",'3-H&H'!A15)","v":""},{"$f":"IF('3-H&H'!B15=\"\",\"\",'3-H&H'!B15)","v":""},null,"","","","","",null,"","","","",null,null,"8-16","Medium gravel",120.1,36,5,null,"Fine sand, dense",6,"200-300",114,42,0.45052631578947366,0.31059506531204645,133.3811320754717,70.981132075471692]
[{"$f":"IF('3-H&H'!A16=\"\",\"\",'3-H&H'!A16)","v":""},{"$f":"IF('3-H&H'!B16=\"\",\"\",'3-H&H'!B16)","v":""},null,"","","","","",null,"","","","",null,null,"4-8","Fine gravel",114.5,35,5,null,"Fine sand, loose",7,"100-200",93,30,0.77806451612903205,0.43759071117561676,120.30566037735849,57.905660377358494]
[{"$f":"IF('3-H&H'!A17=\"\",\"\",'3-H&H'!A17)","v":""},{"$f":"IF('3-H&H'!B17=\"\",\"\",'3-H&H'!B17)","v":""},null,"","","","","",null,"","","","",null,null,"2-4","Very fine gravel",108.8,33,6,null,"Clay, firm",6,"200-300",90,27,0.83733333333333326,0.45573294629898403,118.43773584905659,56.037735849056595]
[{"$f":"IF('3-H&H'!A18=\"\",\"\",'3-H&H'!A18)","v":""},{"$f":"IF('3-H&H'!B18=\"\",\"\",'3-H&H'!B18)","v":""},null,"","","","","",null,"","","","",null,null,"1-2","Very course sand",103.2,32,6,null,"Clay, soft",7,"100-200",78,25,1.1199999999999997,0.52830188679245271,110.96603773584906,48.566037735849058]
[{"$f":"IF('3-H&H'!A19=\"\",\"\",'3-H&H'!A19)","v":""},{"$f":"IF('3-H&H'!B19=\"\",\"\",'3-H&H'!B19)","v":""},null,"","","","","",null,"","","","",null,null,"0.5-1","Coarse sand",98,31,6,null,"Clayey silt",6,"200-300",84,27,0.96857142857142842,0.4920174165457184,114.70188679245283,52.301886792452827]
[{"$f":"IF('3-H&H'!A20=\"\",\"\",'3-H&H'!A20)","v":""},{"$f":"IF('3-H&H'!B20=\"\",\"\",'3-H&H'!B20)","v":""},null,"","","","","",null,"","","","",null,null,"0.25-0.5","Medium sand",94,30,7,null,"Silt, firm",6,"200-300",90,32,0.83733333333333326,0.45573294629898403,118.43773584905659,56.037735849056595]
[{"$f":"IF('3-H&H'!A21=\"\",\"\",'3-H&H'!A21)","v":""},{"$f":"IF('3-H&H'!B21=\"\",\"\",'3-H&H'!B21)","v":""},null,"","","","","",null,"","","","",null,null,"0.125-0.25","Fine sand",93,30,7,null,"Silt, soft",7,"100-200",82,30,1.0165853658536586,0.50411223996129662,113.4566037735849,51.056603773584904]
[{"$f":"IF('3-H&H'!A22=\"\",\"\",'3-H&H'!A22)","v":""},{"$f":"IF('3-H&H'!B22=\"\",\"\",'3-H&H'!B22)","v":""},null,"","","","","",null,"","","","",null,null,"0.063-0.125","Very fine sand",92,30,7,null,"Bedrock, solid",1,"-",165,"-","-","-","-","-"]
[{"$f":"IF('3-H&H'!A23=\"\",\"\",'3-H&H'!A23)","v":""},{"$f":"IF('3-H&H'!B23=\"\",\"\",'3-H&H'!B23)","v":""},null,"","","","","",null,"","","","",null,null,"0.004-0.063","Silt",82,30,7,null,"Custom1 (optional)","(input)","(input)","(input)","(input)",{"$f":"IF(Y21=\"(input)\",\"\",((SG*SWWater)/Y21)-1)","v":""},{"$f":"IF(Y21=\"(input)\",\"\",AA21/(1+AA21))","v":""},{"$f":"IF(Y21=\"(input)\",\"\",((SG+AA21)*SWWater)/(1+AA21))","v":""},{"$f":"IF(Y21=\"(input)\",\"\",AC21-SWWater)","v":""}]
[{"$f":"IF('3-H&H'!A24=\"\",\"\",'3-H&H'!A24)","v":""},{"$f":"IF('3-H&H'!B24=\"\",\"\",'3-H&H'!B24)","v":""},null,"","","","","",null,"","","","",null,null,"< 0.004","Clay",78,25,7,null,"Custom2 (optional)","(input)","(input)","(input)","(input)",{"$f":"IF(Y22=\"(input)\",\"\",((SG*SWWater)/Y22)-1)","v":""},{"$f":"IF(Y22=\"(input)\",\"\",AA22/(1+AA22))","v":""},{"$f":"IF(Y22=\"(input)\",\"\",((SG+AA22)*SWWater)/(1+AA22))","v":""},{"$f":"IF(Y22=\"(input)\",\"\",AC22-SWWater)","v":""}]
[{"$f":"IF('3-H&H'!A25=\"\",\"\",'3-H&H'!A25)","v":""},{"$f":"IF('3-H&H'!B25=\"\",\"\",'3-H&H'!B25)","v":""},null,"","","","","",null,"","","","",null,null,"1 Compiled from Julien (2010) and Shen and Julien (1993)",null,null,null,null,null,"1 Compiled from NRCS Table TS14E–2 Soil classification and Bowles (2001)"]
[{"$f":"IF('3-H&H'!A26=\"\",\"\",'3-H&H'!A26)","v":""},{"$f":"IF('3-H&H'!B26=\"\",\"\",'3-H&H'!B26)","v":""},null,"","","","","",null,"","","","",null,null,null,null,null,null,null,null,"2 Void ratio, e, is backcalculated using the following equation:  e = (SGrock*gw/gbank) - 1"]
[{"$f":"IF('3-H&H'!A27=\"\",\"\",'3-H&H'!A27)","v":""},{"$f":"IF('3-H&H'!B27=\"\",\"\",'3-H&H'!B27)","v":""},null,"","","","","",null,"","","","",null,null,null,null,null,null,null,null,"3 Saturated Unit Weight of soil, gbank,sat = ((SGrock+e)*gw)/(1+e)"]
[{"$f":"IF('3-H&H'!A28=\"\",\"\",'3-H&H'!A28)","v":""},{"$f":"IF('3-H&H'!B28=\"\",\"\",'3-H&H'!B28)","v":""},null,"","","","","",null,"","","","",null,null,null,null,null,null,null,null,"4 Effective Buoyant Unit Weight of soil, g'bank = gbank,sat - gw"]
[null,null,"Source:","Compiled from Julien (2010) and Shen and Julien (1993); soil classes from NRCS Table TS14E–2 Soil classification"]
[]
[null,null,"1 gbed (kg/m3) = 1,600 + 300 log D50 (mm)   ",null,null,null," (from Julien 2010)"]
[null,null,null,"1 kg/m3 =",6.2427999999999997E-2,"1 lb/ft3"]

{"sheet":"5-Wood","index":5,"n_rows":130,"n_cols":33,"rows_kept":130,"cut":false,"hidden":false,"merged":[[0,20,0,25],[0,27,0,32],[64,27,64,32],[0,13,0,18],[68,20,68,25],[0,3,1,4],[61,6,61,11],[58,13,58,18],[5,0,5,2],[27,0,28,4],[17,0,19,4],[20,0,24,4],[25,6,25,11],[5,3,6,3],[5,4,6,4]]}
[{"$f":"'1-Cover'!A1","v":"Sample Multi-Log Structure"},null,null,"Spreadsheet developed by Michael Rafferty, P.E.",null,null,null,null,null,null,null,null,null,"Common Trees in Great Plains Region",null,null,null,null,null,null,"Common Trees in Upper Midwest Region",null,null,null,null,null,null,"Common Trees in New England Region"]
["Large Wood Properties",null,null,null,null,null,null,null,null,null,null,null,null,"Common Name","Scientific Name","Type","SGT","gTd (lb/ft3)","gTgr (lb/ft3)",null,"Common Name","Scientific Name","Type","SGT","gTd (lb/ft3)","gTgr (lb/ft3)",null,"Common Name","Scientific Name","Type","SGT","gTd (lb/ft3)","gTgr (lb/ft3)"]
[null,null,null,null,null,null,null,null,null,null,null,null,null,"Ash, Black","Fraxinus nigra","Hardwood",0.49,{"$f":"Q3*62.4*1.12","v":34.245120000000007},52,null,"Ash, Black","Fraxinus nigra","Hardwood",0.49,{"$f":"X3*62.4*1.12","v":34.245120000000007},52,null,"Ash, Black","Fraxinus nigra","Hardwood",0.49,{"$f":"AE3*62.4*1.12","v":34.245120000000007},52]
["Project Location:","West Coast",null,null,null,null,null,null,null,null,null,null,null,"Ash, Blue","Fraxinus quadrangulata","Hardwood",0.57999999999999996,40.535040000000002,50,null,"Ash, Blue","Fraxinus quadrangulata","Hardwood",0.57999999999999996,40.535040000000002,50,null,"Ash, Green","Fraxinus pennsylvanica","Hardwood",0.56000000000000005,39.137280000000004,52]
[null,null,null,null,null,null,null,null,null,null,null,null,null,"Ash, Green","Fraxinus pennsylvanica","Hardwood",0.56000000000000005,39.137280000000004,52,null,"Ash, Green","Fraxinus pennsylvanica","Hardwood",0.56000000000000005,39.137280000000004,52,null,"Ash, White","Fraxinus americana","Hardwood",0.6,41.9328,50]
["Timber Unit Weights",null,null,"Air-dried1 gTd (lb/ft3)","Green2 gTgr (lb/ft3)",null,null,null,null,null,null,null,null,"Ash, White","Fraxinus americana","Hardwood",0.6,41.9328,50,null,"Ash, White","Fraxinus americana","Hardwood",0.6,41.9328,50,null,"Aspen, Bigtooth","Populus grandidentata","Hardwood",0.39,27.256320000000002,43]
["Selected Species","Common Name","Scientific Name",null,null,null,null,null,null,null,null,null,null,"Aspen, Bigtooth","Populus grandidentata","Hardwood",0.39,27.256320000000002,43,null,"Aspen, Bigtooth","Populus grandidentata","Hardwood",0.39,27.256320000000002,43,null,"Aspen, Quaking","Populus tremuloides","Hardwood",0.38,26.557440000000003,50]
["Tree Type #1:","Douglas-fir, Interior west",{"$f":"IF($B8=\"\",\"\",IF($B$4=\"West Coast\",VLOOKUP($B8,WCTreesTable,2,0),IF($B$4=\"Mountain West\",VLOOKUP($B8,MWTreesTable,2,0),IF($B$4=\"Great Plains\",VLOOKUP($B8,GPTreesTable,2,0),IF($B$4=\"South Central\",VLOOKUP($B8,SCTreesTable,2,0),IF($B$4=\"Upper Midwest\",VLOOKUP($B8,UMWTreesTable,2,0),IF($B$4=\"Southeast\",VLOOKUP($B8,SETreesTable,2,0),IF($B$4=\"New England\",VLOOKUP($B8,NETreesTable,2,0),IF($B$4=\"Mid-Atlantic\",VLOOKUP($B8,MATreesTable,2,0),\"\")))))))))","v":"Pseudotsuga menziesii var. glauca"},{"$f":"IF($B8=\"\",\"\",IF($B$4=\"West Coast\",VLOOKUP($B8,WCTreesTable,5,0),IF($B$4=\"Mountain West\",VLOOKUP($B8,MWTreesTable,5,0),IF($B$4=\"Great Plains\",VLOOKUP($B8,GPTreesTable,5,0),IF($B$4=\"South Central\",VLOOKUP($B8,SCTreesTable,5,0),IF($B$4=\"Upper Midwest\",VLOOKUP($B8,UMWTreesTable,5,0),IF($B$4=\"Southeast\",VLOOKUP($B8,SETreesTable,5,0),IF($B$4=\"New England\",VLOOKUP($B8,NETreesTable,5,0),IF($B$4=\"Mid-Atlantic\",VLOOKUP($B8,MATreesTable,5,0),\"\")))))))))","v":34.944000000000003},{"$f":"IF($B8=\"\",\"\",IF($B$4=\"West Coast\",VLOOKUP($B8,WCTreesTable,6,0),IF($B$4=\"Mountain West\",VLOOKUP($B8,MWTreesTable,6,0),IF($B$4=\"Great Plains\",VLOOKUP($B8,GPTreesTable,6,0),IF($B$4=\"South Central\",VLOOKUP($B8,SCTreesTable,6,0),IF($B$4=\"Upper Midwest\",VLOOKUP($B8,UMWTreesTable,6,0),IF($B$4=\"Southeast\",VLOOKUP($B8,SETreesTable,6,0),IF($B$4=\"New England\",VLOOKUP($B8,NETreesTable,6,0),IF($B$4=\"Mid-Atlantic\",VLOOKUP($B8,MATreesTable,6,0),\"\")))))))))","v":39},null,null,null,null,null,null,null,null,"Aspen, Quaking","Populus tremuloides","Hardwood",0.38,26.557440000000003,50,null,"Aspen, Quaking","Populus tremuloides","Hardwood",0.38,26.557440000000003,50,null,"Balsam poplar (cottonwood)","Populus balsamifera","Hardwood",0.34,23.761920000000003,40]
["Tree Type #2:","Cedar, Western redcedar","Thuja plicata",22.364160000000002,27,null,null,null,null,null,null,null,null,"Balsam poplar (cottonwood)","Populus balsamifera","Hardwood",0.34,23.761920000000003,40,null,"Balsam poplar (cottonwood)","Populus balsamifera","Hardwood",0.34,23.761920000000003,40,null,"Basswood, American","Tilia americana","Hardwood",0.37,25.858560000000004,41]
["Tree Type #3:",null,"","","",null,null,null,null,null,null,null,null,"Basswood, American","Tilia americana","Hardwood",0.37,25.858560000000004,41,null,"Basswood, American","Tilia americana","Hardwood",0.37,25.858560000000004,41,null,"Beech, American","Fagus grandifolia","Hardwood",0.64,44.728320000000004,54]
["Tree Type #4:",null,"","","",null,null,null,null,null,null,null,null,"Birch, Paper","Betula papyrifera","Hardwood",0.55000000000000004,38.438400000000001,52,null,"Beech, American","Fagus grandifolia","Hardwood",0.64,44.728320000000004,54,null,"Birch, Paper","Betula papyrifera","Hardwood",0.55000000000000004,38.438400000000001,52]
["Tree Type #5:",null,"","","",null,null,null,null,null,null,null,null,"Birch, Yellow","Betula alleghaniensis","Hardwood",0.62,43.330560000000006,59,null,"Birch, Paper","Betula papyrifera","Hardwood",0.55000000000000004,38.438400000000001,52,null,"Birch, Sweet","Betula lenta","Hardwood",0.65,45.427200000000006,65]
["Tree Type #6:",null,"","","",null,null,null,null,null,null,null,null,"Butternut","Juglans cinerea","Hardwood",0.38,26.557440000000003,46,null,"Birch, Sweet","Betula lenta","Hardwood",0.65,45.427200000000006,65,null,"Birch, Yellow","Betula alleghaniensis","Hardwood",0.62,43.330560000000006,59]
["Tree Type #7:",null,"","","",null,null,null,null,null,null,null,null,"Cedar, Eastern redcedar","Juniperus virginiana","Softwood",0.47,32.847360000000002,37,null,"Birch, Yellow","Betula alleghaniensis","Hardwood",0.62,43.330560000000006,59,null,"Butternut","Juglans cinerea","Hardwood",0.38,26.557440000000003,46]
["Tree Type #8:",null,"","","",null,null,null,null,null,null,null,null,"Cedar, Northern white","Thuja occidentalis","Softwood",0.31,21.665280000000003,36,null,"Butternut","Juglans cinerea","Hardwood",0.38,26.557440000000003,46,null,"Cedar, Atlantic white","Chamaecyparis thyoides","Softwood",0.32,22.364160000000002,36]
["Tree Type #9:",null,"","","",null,null,null,null,null,null,null,null,"Cherry, Black","Prunus serotina","Hardwood",0.5,34.944000000000003,45,null,"Cedar, Eastern redcedar","Juniperus virginiana","Softwood",0.47,32.847360000000002,37,null,"Cedar, Eastern redcedar","Juniperus virginiana","Softwood",0.47,32.847360000000002,37]
["Tree Type #10:",null,"","","",null,null,null,null,null,null,null,null,"Cottonwood, Eastern","Populus deltoides","Hardwood",0.4,27.955200000000005,50,null,"Cedar, Northern white","Thuja occidentalis","Softwood",0.31,21.665280000000003,36,null,"Cedar, Northern white","Thuja occidentalis","Softwood",0.31,21.665280000000003,36]
["1 Air-dried unit weight, gTd = Average unit weight of wood after exposure to air on a 12% moisture content volume basis.  Air-dried unit weight is used in the force balance calculations for the portion of wood that is above the proposed thalweg elevation (assuming unsaturated conditions).",null,null,null,null,null,null,null,null,null,null,null,null,"Elm, American","Ulmus americana","Hardwood",0.5,34.944000000000003,56,null,"Cherry, Black","Prunus serotina","Hardwood",0.5,34.944000000000003,45,null,"Cherry, Black","Prunus serotina","Hardwood",0.5,34.944000000000003,45]
[null,null,null,null,null,null,null,null,null,null,null,null,null,"Elm, Rock","Ulmus thomasii","Hardwood",0.63,44.029440000000001,54,null,"Chestnut, American","Castanea dentata","Hardwood",0.43,30.051840000000002,55,null,"Chestnut, American","Castanea dentata","Hardwood",0.43,30.051840000000002,55]
[null,null,null,null,null,null,null,null,null,null,null,null,null,"Elm, Slippery","Ulmus rubra","Hardwood",0.53,37.040640000000003,53,null,"Cottonwood, Eastern","Populus deltoides","Hardwood",0.4,27.955200000000005,50,null,"Cottonwood, Eastern","Populus deltoides","Hardwood",0.4,27.955200000000005,50]
["2 Green unit weight, gTgr = Average unit weight of freshly sawn wood when the cell walls are completely saturated with water. Green unit weight is used in the force balance calculations as a conservative estimate of the unit weight for the portion of wood that is below the proposed thalweg elevation (assuming saturated conditions). For comparison, Thevenet, Citterio, & Piegay (1998) determined wood unit weight typically increases by more than 100% after less than 24 hours exposure to water.",null,null,null,null,null,null,null,null,null,null,null,null,"Fir, Balsam","Abies balsamea","Softwood",0.35,24.460800000000003,45,null,"Cucumbertree (magnolia)","Magnolia acuminata","Hardwood",0.48,33.546240000000004,48,null,"Cucumbertree (magnolia)","Magnolia acuminata","Hardwood",0.48,33.546240000000004,48]
[null,null,null,null,null,null,null,null,null,null,null,null,null,"Hackberry","Celtis occidentalis","Hardwood",0.53,37.040640000000003,50,null,"Elm, American","Ulmus americana","Hardwood",0.5,34.944000000000003,56,null,"Elm, American","Ulmus americana","Hardwood",0.5,34.944000000000003,56]
[null,null,null,null,null,null,null,null,null,null,null,null,null,"Hickory, Bitternut","Carya cordiformis","Hardwood",0.66,46.126080000000002,64,null,"Elm, Rock","Ulmus thomasii","Hardwood",0.63,44.029440000000001,54,null,"Elm, Rock","Ulmus thomasii","Hardwood",0.63,44.029440000000001,54]
[null,null,null,null,null,null,null,null,null,null,null,null,null,"Hickory, Mockernut","Carya tomentosa","Hardwood",0.72,50.319360000000003,65,null,"Elm, Slippery","Ulmus rubra","Hardwood",0.53,37.040640000000003,53,null,"Elm, Slippery","Ulmus rubra","Hardwood",0.53,37.040640000000003,53]
[null,null,null,null,null,null,null,null,null,null,null,null,null,"Hickory, Pignut","Carya glabra","Hardwood",0.75,52.416000000000004,68,null,"Fir, Balsam","Abies balsamea","Softwood",0.35,24.460800000000003,45,null,"Fir, Balsam","Abies balsamea","Softwood",0.35,24.460800000000003,45]
[null,null,null,null,null,null,"Common Trees in West Coast Region",null,null,null,null,null,null,"Hickory, Shagbark","Carya ovata","Hardwood",0.72,50.319360000000003,64,null,"Hackberry","Celtis occidentalis","Hardwood",0.53,37.040640000000003,50,null,"Hackberry","Celtis occidentalis","Hardwood",0.53,37.040640000000003,50]
["Source for timber unit weights:",null,null,null,null,null,"Common Name","Scientific Name","Type","SGT","gTd (lb/ft3)","gTgr (lb/ft3)",null,"Hickory, Shellbark","Carya laciniosa","Hardwood",0.69,48.222720000000002,64,null,"Hemlock, Eastern","Tsuga canadensis","Softwood",0.4,27.955200000000005,50,null,"Hemlock, Eastern","Tsuga canadensis","Softwood",0.4,27.955200000000005,50]
["U.S. Department of Agriculture, U.S. Forest Service. (2009) Specific Gravity and Other Properties of Wood and Bark for 156 Tree Species Found in North America. Research Note NRS-38. Table 1A.",null,null,null,null,null,"Alder, Red","Alnus rubra","Hardwood",0.41,{"$f":"J28*62.4*1.12","v":28.654080000000004},46,null,"Honey locust","Gleditsia triacanthos","Hardwood",0.65,45.427200000000006,60,null,"Hickory, Bitternut","Carya cordiformis","Hardwood",0.66,46.126080000000002,64,null,"Hickory, Bitternut","Carya cordiformis","Hardwood",0.66,46.126080000000002,64]
[null,null,null,null,null,null,"Ash, Oregon","Fraxinus latifolia","Hardwood",0.55000000000000004,38.438400000000001,50,null,"Locust, Black","Robinia pseudoacacia","Hardwood",0.69,48.222720000000002,58,null,"Hickory, Mockernut","Carya tomentosa","Hardwood",0.72,50.319360000000003,65,null,"Hickory, Mockernut","Carya tomentosa","Hardwood",0.72,50.319360000000003,65]
[null,null,null,null,null,null,"Aspen, Quaking","Populus tremuloides","Hardwood",0.38,26.557440000000003,50,null,"Maple, Black","Acer nigrum","Hardwood",0.56999999999999995,39.83616,55,null,"Hickory, Pignut","Carya glabra","Hardwood",0.75,52.416000000000004,68,null,"Hickory, Pignut","Carya glabra","Hardwood",0.75,52.416000000000004,68]
[null,null,null,null,null,null,"Birch, Paper","Betula papyrifera","Hardwood",0.55000000000000004,38.438400000000001,52,null,"Maple, Red","Acer rubrum","Hardwood",0.54,37.739519999999999,50,null,"Hickory, Shagbark","Carya ovata","Hardwood",0.72,50.319360000000003,64,null,"Hickory, Shagbark","Carya ovata","Hardwood",0.72,50.319360000000003,64]
[null,null,null,null,null,null,"Cedar, Alaska-yellow","Cupressus nootkatensis","Softwood",0.44,30.750720000000001,45,null,"Maple, Silver","Acer saccharinum","Hardwood",0.47,32.847360000000002,46,null,"Hickory, Shellbark","Carya laciniosa","Hardwood",0.69,48.222720000000002,64,null,"Hickory, Shellbark","Carya laciniosa","Hardwood",0.69,48.222720000000002,64]
[null,null,null,null,null,null,"Cedar, Incense","Calocedrus decurrens","Softwood",0.37,25.858560000000004,45,null,"Maple, Sugar","Acer saccharum","Hardwood",0.63,44.029440000000001,55,null,"Honey locust","Gleditsia triacanthos","Hardwood",0.65,45.427200000000006,60,null,"Honey locust","Gleditsia triacanthos","Hardwood",0.65,45.427200000000006,60]
[null,null,null,null,null,null,"Cedar, Port-Orford","Chamaecyparis lawsoniana","Softwood",0.43,30.051840000000002,42,null,"Oak, Black","Quercus velutina","Hardwood",0.61,42.631680000000003,64,null,"Locust, Black","Robinia pseudoacacia","Hardwood",0.69,48.222720000000002,58,null,"Locust, Black","Robinia pseudoacacia","Hardwood",0.69,48.222720000000002,58]
[null,null,null,null,null,null,"Cedar, Western redcedar","Thuja plicata","Softwood",0.32,22.364160000000002,27,null,"Oak, Bur","Quercus macrocarpa","Hardwood",0.64,{"$f":"Q35*62.4*1.12","v":44.728320000000004},63,null,"Maple, Black","Acer nigrum","Hardwood",0.56999999999999995,{"$f":"X35*62.4*1.12","v":39.83616},55,null,"Maple, Black","Acer nigrum","Hardwood",0.56999999999999995,{"$f":"AE35*62.4*1.12","v":39.83616},55]
[null,null,null,null,null,null,"Cottonwood, Black","Populus trichocarpa","Hardwood",0.35,24.460800000000003,46,null,"Oak, Cherrybark","Quercus pagoda","Hardwood",0.69,48.222720000000002,64,null,"Maple, Red","Acer rubrum","Hardwood",0.54,37.739519999999999,50,null,"Maple, Red","Acer rubrum","Hardwood",0.54,37.739519999999999,50]
[null,null,null,null,null,null,"Douglas-fir, Coast","Pseudotsuga menziesii var. menzi.","Softwood",0.48,33.546240000000004,38,null,"Oak, Northern red","Quercus rubra","Hardwood",0.63,44.029440000000001,64,null,"Maple, Silver","Acer saccharinum","Hardwood",0.47,32.847360000000002,46,null,"Maple, Silver","Acer saccharinum","Hardwood",0.47,32.847360000000002,46]
[null,null,null,null,null,null,"Douglas-fir, Interior west","Pseudotsuga menziesii var. glauca","Softwood",0.5,34.944000000000003,39,null,"Oak, Pin","Quercus palustris","Hardwood",0.63,44.029440000000001,64,null,"Maple, Sugar","Acer saccharum","Hardwood",0.63,44.029440000000001,55,null,"Maple, Sugar","Acer saccharum","Hardwood",0.63,44.029440000000001,55]
[null,null,null,null,null,null,"Fir, California red","Abies magnifica","Softwood",0.38,26.557440000000003,48,null,"Oak, Post ","Quercus stellata","Hardwood",0.67,46.824960000000004,64,null,"Oak, Black","Quercus velutina","Hardwood",0.61,42.631680000000003,64,null,"Oak, Black","Quercus velutina","Hardwood",0.61,42.631680000000003,64]
[null,null,null,null,null,null,"Fir, Grand","Abies grandis","Softwood",0.37,25.858560000000004,45,null,"Oak, Scarlet","Quercus coccinea","Hardwood",0.67,46.824960000000004,64,null,"Oak, Bur","Quercus macrocarpa","Hardwood",0.64,44.728320000000004,63,null,"Oak, Bur","Quercus macrocarpa","Hardwood",0.64,44.728320000000004,63]
[null,null,null,null,null,null,"Fir, Noble","Abies procera","Softwood",0.39,27.256320000000002,30,null,"Oak, Southern red","Quercus falcata","Hardwood",0.59,41.233919999999998,64,null,"Oak, Cherrybark","Quercus pagoda","Hardwood",0.69,48.222720000000002,64,null,"Oak, Chestnut","Quercus prinus","Hardwood",0.66,46.126080000000002,63]
[null,null,null,null,null,null,"Fir, Pacific silver","Abies amabilis","Softwood",0.43,30.051840000000002,42,null,"Oak, Swamp white","Quercus bicolor","Hardwood",0.72,50.319360000000003,63,null,"Oak, Chestnut","Quercus prinus","Hardwood",0.66,46.126080000000002,63,null,"Oak, Northern red","Quercus rubra","Hardwood",0.63,44.029440000000001,64]
[null,null,null,null,null,null,"Fir, Subalpine","Abies lasiocarpa","Softwood",0.32,22.364160000000002,28,null,"Oak, White","Quercus alba","Hardwood",0.68,47.523840000000007,63,null,"Oak, Northern red","Quercus rubra","Hardwood",0.63,44.029440000000001,64,null,"Oak, Pin","Quercus palustris","Hardwood",0.63,44.029440000000001,64]
[null,null,null,null,null,null,"Fir, White","Abies concolor","Softwood",0.39,27.256320000000002,47,null,"Pecan (hickory)","Carya illinoinensis","Hardwood",0.66,46.126080000000002,62,null,"Oak, Overcup","Quercus lyrata","Hardwood",0.63,44.029440000000001,63,null,"Oak, Post ","Quercus stellata","Hardwood",0.67,46.824960000000004,64]
[null,null,null,null,null,null,"Hemlock, Mountain","Tsuga mertensiana","Softwood",0.45,31.4496,44,null,"Pine, Eastern white","Pinus strobus","Softwood",0.35,24.460800000000003,35,null,"Oak, Pin","Quercus palustris","Hardwood",0.63,44.029440000000001,64,null,"Oak, Scarlet","Quercus coccinea","Hardwood",0.67,46.824960000000004,64]
[null,null,null,null,null,null,"Hemlock, Western","Tsuga heterophylla","Softwood",0.45,31.4496,41,null,"Pine, Jack","Pinus banksiana","Softwood",0.43,30.051840000000002,50,null,"Oak, Post ","Quercus stellata","Hardwood",0.67,46.824960000000004,64,null,"Oak, Swamp white","Quercus bicolor","Hardwood",0.72,50.319360000000003,63]
[null,null,null,null,null,null,"Larch, Western","Larix occidentalis","Softwood",0.52,36.341760000000001,48,null,"Pine, Red","Pinus resinosa","Softwood",0.46,32.148480000000006,42,null,"Oak, Scarlet","Quercus coccinea","Hardwood",0.67,46.824960000000004,64,null,"Oak, White","Quercus alba","Hardwood",0.68,47.523840000000007,63]
[null,null,null,null,null,null,"Maple, Bigleaf","Acer macrophyllum","Hardwood",0.48,33.546240000000004,47,null,"Pine, Shortleaf","Pinus echinata","Softwood",0.51,35.642879999999998,52,null,"Oak, Southern red","Quercus falcata","Hardwood",0.59,41.233919999999998,64,null,"Pine, Eastern white","Pinus strobus","Softwood",0.35,24.460800000000003,35]
[null,null,null,null,null,null,"Pine, Lodgepole","Pinus contorta","Softwood",0.41,28.654080000000004,39,null,"Spruce, Black","Picea mariana","Softwood",0.46,32.148480000000006,35,null,"Oak, Swamp chestnut","Quercus michauxii","Hardwood",0.67,46.824960000000004,63,null,"Pine, Jack","Pinus banksiana","Softwood",0.43,30.051840000000002,50]
[null,null,null,null,null,null,"Pine, Ponderosa","Pinus ponderosa","Softwood",0.4,27.955200000000005,45,null,"Spruce, White","Picea glauca","Softwood",0.4,27.955200000000005,35,null,"Oak, Swamp white","Quercus bicolor","Hardwood",0.72,50.319360000000003,63,null,"Pine, Pitch","Pinus rigida","Softwood",0.52,36.341760000000001,50]
[null,null,null,null,null,null,"Pine, Sugar","Pinus lambertiana","Softwood",0.36,25.159680000000002,49,null,"Sycamore, American","Platanus occidentalis","Hardwood",0.49,34.245120000000007,52,null,"Oak, White","Quercus alba","Hardwood",0.68,47.523840000000007,63,null,"Pine, Red","Pinus resinosa","Softwood",0.46,32.148480000000006,42]
[null,null,null,null,null,null,"Pine, Western white","Pinus monticola","Softwood",0.38,26.557440000000003,35,null,"Tamarack","Larix laricina","Softwood",0.53,37.040640000000003,47,null,"Pecan (hickory)","Carya illinoinensis","Hardwood",0.66,46.126080000000002,62,null,"Pine, Shortleaf","Pinus echinata","Softwood",0.51,35.642879999999998,52]
[null,null,null,null,null,null,"Redwood, Coast (Old)","Sequoia sempervirens","Softwood",0.4,27.955200000000005,50,null,"Tupelo, Black","Nyssa sylvatica","Hardwood",0.5,34.944000000000003,56,null,"Pine, Eastern white","Pinus strobus","Softwood",0.35,24.460800000000003,35,null,"Pine, Virginia","Pinus virginiana","Softwood",0.48,33.546240000000004,50]
[null,null,null,null,null,null,"Redwood, Coast (young)","Sequoia sempervirens","Softwood",0.35,24.460800000000003,50,null,"Walnut, Black","Juglans nigra","Hardwood",0.55000000000000004,38.438400000000001,57,null,"Pine, Jack","Pinus banksiana","Softwood",0.43,30.051840000000002,50,null,"Spruce, Black","Picea mariana","Softwood",0.46,32.148480000000006,35]
[null,null,null,null,null,null,"Spruce, Engelmann","Picea engelmannii","Softwood",0.35,24.460800000000003,39,null,"Willow, Black","Salix nigra","Hardwood",0.39,27.256320000000002,51,null,"Pine, Pitch","Pinus rigida","Softwood",0.52,36.341760000000001,50,null,"Spruce, Red","Picea rubens","Softwood",0.4,27.955200000000005,34]
[null,null,null,null,null,null,"Spruce, Sitka","Picea sitchensis","Softwood",0.36,25.159680000000002,33,null,"Custom (optional)","(user selection in input table)","(input)","(input)","(input)","(input)",null,"Pine, Red","Pinus resinosa","Softwood",0.46,32.148480000000006,42,null,"Spruce, White","Picea glauca","Softwood",0.4,27.955200000000005,35]
[null,null,null,null,null,null,"Tanoak","Notholithocarpus densiflorus","Hardwood",0.62,43.330560000000006,65,null,null,null,null,null,null,null,null,"Pine, Virginia","Pinus virginiana","Softwood",0.48,33.546240000000004,50,null,"Sycamore, American","Platanus occidentalis","Hardwood",0.49,34.245120000000007,52]
[null,null,null,null,null,null,"Willow, Black","Salix nigra","Hardwood",0.39,27.256320000000002,51,null,null,null,null,null,null,null,null,"Spruce, Black","Picea mariana","Softwood",0.46,32.148480000000006,35,null,"Tamarack","Larix laricina","Softwood",0.53,37.040640000000003,47]
[null,null,null,null,null,null,"Custom (optional)","(user selection in input table)","(input)","(input)","(input)","(input)",null,"Common Trees in South Central Region",null,null,null,null,null,null,"Spruce, White","Picea glauca","Softwood",0.4,27.955200000000005,35,null,"Tupelo, Black","Nyssa sylvatica","Hardwood",0.5,34.944000000000003,56]
[null,null,null,null,null,null,null,null,null,null,null,null,null,"Common Name","Scientific Name","Type","SGT","gTd (lb/ft3)","gTgr (lb/ft3)",null,"Sweetgum, American","Liquidambar styraciflua","Hardwood",0.52,36.341760000000001,50,null,"Walnut, Black","Juglans nigra","Hardwood",0.55000000000000004,38.438400000000001,57]
[null,null,null,null,null,null,null,null,null,null,null,null,null,"Ash, Blue","Fraxinus quadrangulata","Hardwood",0.57999999999999996,{"$f":"Q61*62.4*1.12","v":40.535040000000002},50,null,"Sycamore, American","Platanus occidentalis","Hardwood",0.49,34.245120000000007,52,null,"Willow, Black","Salix nigra","Hardwood",0.39,27.256320000000002,51]
[null,null,null,null,null,null,"Common Trees in Mountain West Region",null,null,null,null,null,null,"Ash, Green","Fraxinus pennsylvanica","Hardwood",0.56000000000000005,39.137280000000004,52,null,"Tamarack","Larix laricina","Softwood",0.53,37.040640000000003,47,null,"Custom (optional)","(user selection in input table)","(input)","(input)","(input)","(input)"]
[null,null,null,null,null,null,"Common Name","Scientific Name","Type","SGT","gTd (lb/ft3)","gTgr (lb/ft3)",null,"Ash, White","Fraxinus americana","Hardwood",0.6,41.9328,50,null,"Tupelo, Black","Nyssa sylvatica","Hardwood",0.5,34.944000000000003,56]
[null,null,null,null,null,null,"Ash, Green","Fraxinus pennsylvanica","Hardwood",0.56000000000000005,{"$f":"J64*62.4*1.12","v":39.137280000000004},52,null,"Aspen, Bigtooth","Populus grandidentata","Hardwood",0.39,27.256320000000002,43,null,"Walnut, Black","Juglans nigra","Hardwood",0.55000000000000004,38.438400000000001,57]
[null,null,null,null,null,null,"Aspen, Quaking","Populus tremuloides","Hardwood",0.38,26.557440000000003,50,null,"Baldcypress","Taxodium distichum","Softwood",0.46,32.148480000000006,51,null,"Willow, Black","Salix nigra","Hardwood",0.39,27.256320000000002,51,null,"Common Trees in Mid-Atlantic Region"]
[null,null,null,null,null,null,"Balsam poplar (cottonwood)","Populus balsamifera","Hardwood",0.34,23.761920000000003,40,null,"Basswood, American","Tilia americana","Hardwood",0.37,25.858560000000004,41,null,"Custom (optional)","(user selection in input table)","(input)","(input)","(input)","(input)",null,"Common Name","Scientific Name","Type","SGT","gTd (lb/ft3)","gTgr (lb/ft3)"]
[null,null,null,null,null,null,"Birch, Paper","Betula papyrifera","Hardwood",0.55000000000000004,38.438400000000001,52,null,"Beech, American","Fagus grandifolia","Hardwood",0.64,44.728320000000004,54,null,null,null,null,null,null,null,null,"Ash, Green","Fraxinus pennsylvanica","Hardwood",0.56000000000000005,{"$f":"AE67*62.4*1.12","v":39.137280000000004},52]
[null,null,null,null,null,null,"Cedar, Western redcedar","Thuja plicata","Softwood",0.32,22.364160000000002,27,null,"Birch, Sweet","Betula lenta","Hardwood",0.65,45.427200000000006,65,null,null,null,null,null,null,null,null,"Ash, White","Fraxinus americana","Hardwood",0.6,41.9328,50]
[null,null,null,null,null,null,"Cherry, Black","Prunus serotina","Hardwood",0.5,34.944000000000003,45,null,"Birch, Yellow","Betula alleghaniensis","Hardwood",0.62,43.330560000000006,59,null,"Common Trees in Southeast Region",null,null,null,null,null,null,"Aspen, Bigtooth","Populus grandidentata","Hardwood",0.39,27.256320000000002,43]
[null,null,null,null,null,null,"Cottonwood, Black","Populus trichocarpa","Hardwood",0.35,24.460800000000003,46,null,"Butternut","Juglans cinerea","Hardwood",0.38,26.557440000000003,46,null,"Common Name","Scientific Name","Type","SGT","gTd (lb/ft3)","gTgr (lb/ft3)",null,"Aspen, Quaking","Populus tremuloides","Hardwood",0.38,26.557440000000003,50]
[null,null,null,null,null,null,"Cottonwood, Eastern","Populus deltoides","Hardwood",0.4,27.955200000000005,50,null,"Cedar, Eastern redcedar","Juniperus virginiana","Softwood",0.47,32.847360000000002,37,null,"Ash, Green","Fraxinus pennsylvanica","Hardwood",0.56000000000000005,{"$f":"X71*62.4*1.12","v":39.137280000000004},52,null,"Baldcypress","Taxodium distichum","Softwood",0.46,32.148480000000006,51]
[null,null,null,null,null,null,"Douglas-fir, Interior north","Pseudotsuga menziesii var. glauca","Softwood",0.48,33.546240000000004,38,null,"Cherry, Black","Prunus serotina","Hardwood",0.5,34.944000000000003,45,null,"Ash, White","Fraxinus americana","Hardwood",0.6,41.9328,50,null,"Basswood, American","Tilia americana","Hardwood",0.37,25.858560000000004,41]
[null,null,null,null,null,null,"Douglas-fir, Interior south","Pseudotsuga menziesii var. glauca","Softwood",0.46,32.148480000000006,37,null,"Chestnut, American","Castanea dentata","Hardwood",0.43,30.051840000000002,55,null,"Baldcypress","Taxodium distichum","Softwood",0.46,32.148480000000006,51,null,"Beech, American","Fagus grandifolia","Hardwood",0.64,44.728320000000004,54]
[null,null,null,null,null,null,"Fir, Grand","Abies grandis","Softwood",0.37,25.858560000000004,45,null,"Cottonwood, Eastern","Populus deltoides","Hardwood",0.4,27.955200000000005,50,null,"Basswood, American","Tilia americana","Hardwood",0.37,25.858560000000004,41,null,"Birch, Sweet","Betula lenta","Hardwood",0.65,45.427200000000006,65]
[null,null,null,null,null,null,"Fir, Subalpine","Abies lasiocarpa","Softwood",0.32,22.364160000000002,28,null,"Cucumbertree (magnolia)","Magnolia acuminata","Hardwood",0.48,33.546240000000004,48,null,"Beech, American","Fagus grandifolia","Hardwood",0.64,44.728320000000004,54,null,"Birch, Yellow","Betula alleghaniensis","Hardwood",0.62,43.330560000000006,59]
[null,null,null,null,null,null,"Fir, White","Abies concolor","Softwood",0.39,27.256320000000002,47,null,"Elm, American","Ulmus americana","Hardwood",0.5,34.944000000000003,56,null,"Birch, Sweet","Betula lenta","Hardwood",0.65,45.427200000000006,65,null,"Butternut","Juglans cinerea","Hardwood",0.38,26.557440000000003,46]
[null,null,null,null,null,null,"Hemlock, Mountain","Tsuga mertensiana","Softwood",0.45,31.4496,44,null,"Elm, Rock","Ulmus thomasii","Hardwood",0.63,44.029440000000001,54,null,"Birch, Yellow","Betula alleghaniensis","Hardwood",0.62,43.330560000000006,59,null,"Cedar, Atlantic white","Chamaecyparis thyoides","Softwood",0.32,22.364160000000002,36]
[null,null,null,null,null,null,"Hemlock, Western","Tsuga heterophylla","Softwood",0.45,31.4496,41,null,"Elm, Slippery","Ulmus rubra","Hardwood",0.53,37.040640000000003,53,null,"Butternut","Juglans cinerea","Hardwood",0.38,26.557440000000003,46,null,"Cedar, Eastern redcedar","Juniperus virginiana","Softwood",0.47,32.847360000000002,37]
[null,null,null,null,null,null,"Larch, Western","Larix occidentalis","Softwood",0.52,36.341760000000001,48,null,"Hackberry","Celtis occidentalis","Hardwood",0.53,37.040640000000003,50,null,"Cedar, Atlantic white","Chamaecyparis thyoides","Softwood",0.32,22.364160000000002,36,null,"Cherry, Black","Prunus serotina","Hardwood",0.5,34.944000000000003,45]
[null,null,null,null,null,null,"Pine, Lodgepole","Pinus contorta","Softwood",0.41,28.654080000000004,39,null,"Hemlock, Eastern","Tsuga canadensis","Softwood",0.4,27.955200000000005,50,null,"Cedar, Eastern redcedar","Juniperus virginiana","Softwood",0.47,32.847360000000002,37,null,"Chestnut, American","Castanea dentata","Hardwood",0.43,30.051840000000002,55]
[null,null,null,null,null,null,"Pine, Ponderosa","Pinus ponderosa","Softwood",0.4,27.955200000000005,45,null,"Hickory, Bitternut","Carya cordiformis","Hardwood",0.66,46.126080000000002,64,null,"Cherry, Black","Prunus serotina","Hardwood",0.5,34.944000000000003,45,null,"Cottonwood, Eastern","Populus deltoides","Hardwood",0.4,27.955200000000005,50]
[null,null,null,null,null,null,"Pine, Western white","Pinus monticola","Softwood",0.38,26.557440000000003,35,null,"Hickory, Mockernut","Carya tomentosa","Hardwood",0.72,50.319360000000003,65,null,"Chestnut, American","Castanea dentata","Hardwood",0.43,30.051840000000002,55,null,"Cucumbertree (magnolia)","Magnolia acuminata","Hardwood",0.48,33.546240000000004,48]
[null,null,null,null,null,null,"Spruce, Engelmann","Picea engelmannii","Softwood",0.35,24.460800000000003,39,null,"Hickory, Nutmeg","Carya myristiciformis","Hardwood",0.6,41.9328,62,null,"Cottonwood, Eastern","Populus deltoides","Hardwood",0.4,27.955200000000005,50,null,"Elm, American","Ulmus americana","Hardwood",0.5,34.944000000000003,56]
[null,null,null,null,null,null,"Willow, Black","Salix nigra","Hardwood",0.39,27.256320000000002,51,null,"Hickory, Pignut","Carya glabra","Hardwood",0.75,52.416000000000004,68,null,"Cucumbertree (magnolia)","Magnolia acuminata","Hardwood",0.48,33.546240000000004,48,null,"Elm, Slippery","Ulmus rubra","Hardwood",0.53,37.040640000000003,53]
[null,null,null,null,null,null,"Custom (optional)","(user selection in input table)","(input)","(input)","(input)","(input)",null,"Hickory, Shagbark","Carya ovata","Hardwood",0.72,50.319360000000003,64,null,"Elm, American","Ulmus americana","Hardwood",0.5,34.944000000000003,56,null,"Hackberry","Celtis occidentalis","Hardwood",0.53,37.040640000000003,50]
[null,null,null,null,null,null,null,null,null,null,null,null,null,"Hickory, Shellbark","Carya laciniosa","Hardwood",0.69,48.222720000000002,64,null,"Elm, Slippery","Ulmus rubra","Hardwood",0.53,37.040640000000003,53,null,"Hemlock, Eastern","Tsuga canadensis","Softwood",0.4,27.955200000000005,50]
[null,null,null,null,null,null,null,null,null,null,null,null,null,"Hickory, Water","Carya aquatica","Hardwood",0.62,43.330560000000006,70,null,"Hackberry","Celtis occidentalis","Hardwood",0.53,37.040640000000003,50,null,"Hickory, Bitternut","Carya cordiformis","Hardwood",0.66,46.126080000000002,64]
[null,null,null,null,null,null,null,null,null,null,null,null,null,"Honey locust","Gleditsia triacanthos","Hardwood",0.65,45.427200000000006,60,null,"Hemlock, Eastern","Tsuga canadensis","Softwood",0.4,27.955200000000005,50,null,"Hickory, Mockernut","Carya tomentosa","Hardwood",0.72,50.319360000000003,65]
[null,null,null,null,null,null,null,null,null,null,null,null,null,"Locust, Black","Robinia pseudoacacia","Hardwood",0.69,48.222720000000002,58,null,"Hickory, Bitternut","Carya cordiformis","Hardwood",0.66,46.126080000000002,64,null,"Hickory, Pignut","Carya glabra","Hardwood",0.75,52.416000000000004,68]
[null,null,null,null,null,null,null,null,null,null,null,null,null,"Magnolia, Southern","Magnolia grandiflora","Hardwood",0.5,34.944000000000003,59,null,"Hickory, Mockernut","Carya tomentosa","Hardwood",0.72,50.319360000000003,65,null,"Hickory, Shagbark","Carya ovata","Hardwood",0.72,50.319360000000003,64]
[null,null,null,null,null,null,null,null,null,null,null,null,null,"Maple, Black","Acer nigrum","Hardwood",0.56999999999999995,39.83616,55,null,"Hickory, Nutmeg","Carya myristiciformis","Hardwood",0.6,41.9328,62,null,"Locust, Black","Robinia pseudoacacia","Hardwood",0.69,48.222720000000002,58]
[null,null,null,null,null,null,null,null,null,null,null,null,null,"Maple, Red","Acer rubrum","Hardwood",0.54,37.739519999999999,50,null,"Hickory, Pignut","Carya glabra","Hardwood",0.75,52.416000000000004,68,null,"Maple, Red","Acer rubrum","Hardwood",0.54,37.739519999999999,50]
[null,null,null,null,null,null,null,null,null,null,null,null,null,"Maple, Silver","Acer saccharinum","Hardwood",0.47,{"$f":"Q93*62.4*1.12","v":32.847360000000002},46,null,"Hickory, Shagbark","Carya ovata","Hardwood",0.72,50.319360000000003,64,null,"Maple, Silver","Acer saccharinum","Hardwood",0.47,32.847360000000002,46]
[null,null,null,null,null,null,null,null,null,null,null,null,null,"Maple, Sugar","Acer saccharum","Hardwood",0.63,44.029440000000001,55,null,"Hickory, Water","Carya aquatica","Hardwood",0.62,43.330560000000006,70,null,"Maple, Sugar","Acer saccharum","Hardwood",0.63,44.029440000000001,55]
[null,null,null,null,null,null,null,null,null,null,null,null,null,"Oak, Black","Quercus velutina","Hardwood",0.61,42.631680000000003,64,null,"Locust, Black","Robinia pseudoacacia","Hardwood",0.69,48.222720000000002,58,null,"Oak, Black","Quercus velutina","Hardwood",0.61,42.631680000000003,64]
[null,null,null,null,null,null,null,null,null,null,null,null,null,"Oak, Bur","Quercus macrocarpa","Hardwood",0.64,44.728320000000004,63,null,"Magnolia, Southern","Magnolia grandiflora","Hardwood",0.5,34.944000000000003,59,null,"Oak, Cherrybark","Quercus pagoda","Hardwood",0.69,48.222720000000002,64]
[null,null,null,null,null,null,null,null,null,null,null,null,null,"Oak, Cherrybark","Quercus pagoda","Hardwood",0.69,48.222720000000002,64,null,"Maple, Red","Acer rubrum","Hardwood",0.54,37.739519999999999,50,null,"Oak, Chestnut","Quercus prinus","Hardwood",0.66,46.126080000000002,63]
[null,null,null,null,null,null,null,null,null,null,null,null,null,"Oak, Chestnut","Quercus prinus","Hardwood",0.66,46.126080000000002,63,null,"Maple, Silver","Acer saccharinum","Hardwood",0.47,32.847360000000002,46,null,"Oak, Laurel","Quercus laurifolia","Hardwood",0.63,44.029440000000001,64]
[null,null,null,null,null,null,null,null,null,null,null,null,null,"Oak, Laurel","Quercus laurifolia","Hardwood",0.63,44.029440000000001,64,null,"Oak, Black","Quercus velutina","Hardwood",0.61,42.631680000000003,64,null,"Oak, Northern red","Quercus rubra","Hardwood",0.63,{"$f":"AE99*62.4*1.12","v":44.029440000000001},64]
[null,null,null,null,null,null,null,null,null,null,null,null,null,"Oak, Northern red","Quercus rubra","Hardwood",0.63,44.029440000000001,64,null,"Oak, Cherrybark","Quercus pagoda","Hardwood",0.69,48.222720000000002,64,null,"Oak, Overcup","Quercus lyrata","Hardwood",0.63,44.029440000000001,63]
[null,null,null,null,null,null,null,null,null,null,null,null,null,"Oak, Overcup","Quercus lyrata","Hardwood",0.63,44.029440000000001,63,null,"Oak, Chestnut","Quercus prinus","Hardwood",0.66,46.126080000000002,63,null,"Oak, Pin","Quercus palustris","Hardwood",0.63,44.029440000000001,64]
[null,null,null,null,null,null,null,null,null,null,null,null,null,"Oak, Pin","Quercus palustris","Hardwood",0.63,44.029440000000001,64,null,"Oak, Laurel","Quercus laurifolia","Hardwood",0.63,44.029440000000001,64,null,"Oak, Post ","Quercus stellata","Hardwood",0.67,46.824960000000004,64]
[null,null,null,null,null,null,null,null,null,null,null,null,null,"Oak, Post ","Quercus stellata","Hardwood",0.67,46.824960000000004,64,null,"Oak, Northern red","Quercus rubra","Hardwood",0.63,{"$f":"X103*62.4*1.12","v":44.029440000000001},64,null,"Oak, Scarlet","Quercus coccinea","Hardwood",0.67,46.824960000000004,64]
[null,null,null,null,null,null,null,null,null,null,null,null,null,"Oak, Scarlet","Quercus coccinea","Hardwood",0.67,46.824960000000004,64,null,"Oak, Overcup","Quercus lyrata","Hardwood",0.63,44.029440000000001,63,null,"Oak, Southern red","Quercus falcata","Hardwood",0.59,41.233919999999998,64]
[null,null,null,null,null,null,null,null,null,null,null,null,null,"Oak, Southern live","Quercus virginiana","Hardwood",0.88,61.501440000000002,76,null,"Oak, Pin","Quercus palustris","Hardwood",0.63,44.029440000000001,64,null,"Oak, Swamp chestnut","Quercus michauxii","Hardwood",0.67,46.824960000000004,63]
[null,null,null,null,null,null,null,null,null,null,null,null,null,"Oak, Southern red","Quercus falcata","Hardwood",0.59,41.233919999999998,64,null,"Oak, Post ","Quercus stellata","Hardwood",0.67,46.824960000000004,64,null,"Oak, Swamp white","Quercus bicolor","Hardwood",0.72,50.319360000000003,63]
[null,null,null,null,null,null,null,null,null,null,null,null,null,"Oak, Swamp chestnut","Quercus michauxii","Hardwood",0.67,46.824960000000004,63,null,"Oak, Scarlet","Quercus coccinea","Hardwood",0.67,46.824960000000004,64,null,"Oak, Water","Quercus nigra","Hardwood",0.63,44.029440000000001,64]
[null,null,null,null,null,null,null,null,null,null,null,null,null,"Oak, Swamp white","Quercus bicolor","Hardwood",0.72,50.319360000000003,63,null,"Oak, Southern live","Quercus virginiana","Hardwood",0.88,61.501440000000002,76,null,"Oak, White","Quercus alba","Hardwood",0.68,47.523840000000007,63]
[null,null,null,null,null,null,null,null,null,null,null,null,null,"Oak, Water","Quercus nigra","Hardwood",0.63,44.029440000000001,64,null,"Oak, Southern red","Quercus falcata","Hardwood",0.59,41.233919999999998,64,null,"Oak, Willow","Quercus phellos","Hardwood",0.69,48.222720000000002,64]
[null,null,null,null,null,null,null,null,null,null,null,null,null,"Oak, White","Quercus alba","Hardwood",0.68,47.523840000000007,63,null,"Oak, Swamp chestnut","Quercus michauxii","Hardwood",0.67,46.824960000000004,63,null,"Pine, Eastern white","Pinus strobus","Softwood",0.35,24.460800000000003,35]
[null,null,null,null,null,null,null,null,null,null,null,null,null,"Oak, Willow","Quercus phellos","Hardwood",0.69,48.222720000000002,64,null,"Oak, Water","Quercus nigra","Hardwood",0.63,44.029440000000001,64,null,"Pine, Loblolly","Pinus taeda","Softwood",0.51,35.642879999999998,53]
[null,null,null,null,null,null,null,null,null,null,null,null,null,"Pecan (hickory)","Carya illinoinensis","Hardwood",0.66,46.126080000000002,62,null,"Oak, White","Quercus alba","Hardwood",0.68,47.523840000000007,63,null,"Pine, Pitch","Pinus rigida","Softwood",0.52,36.341760000000001,50]
[null,null,null,null,null,null,null,null,null,null,null,null,null,"Pine, Eastern white","Pinus strobus","Softwood",0.35,24.460800000000003,35,null,"Oak, Willow","Quercus phellos","Hardwood",0.69,48.222720000000002,64,null,"Pine, Pond","Pinus serotina","Softwood",0.56000000000000005,39.137280000000004,51]
[null,null,null,null,null,null,null,null,null,null,null,null,null,"Pine, Loblolly","Pinus taeda","Softwood",0.51,35.642879999999998,53,null,"Pine, Eastern white","Pinus strobus","Softwood",0.35,24.460800000000003,35,null,"Pine, Shortleaf","Pinus echinata","Softwood",0.51,35.642879999999998,52]
[null,null,null,null,null,null,null,null,null,null,null,null,null,"Pine, Longleaf","Pinus palustris","Softwood",0.59,41.233919999999998,55,null,"Pine, Loblolly","Pinus taeda","Softwood",0.51,35.642879999999998,53,null,"Pine, Virginia","Pinus virginiana","Softwood",0.48,33.546240000000004,50]
[null,null,null,null,null,null,null,null,null,null,null,null,null,"Pine, Pitch","Pinus rigida","Softwood",0.52,36.341760000000001,50,null,"Pine, Longleaf","Pinus palustris","Softwood",0.59,41.233919999999998,55,null,"Sweetgum, American","Liquidambar styraciflua","Hardwood",0.52,36.341760000000001,50]
[null,null,null,null,null,null,null,null,null,null,null,null,null,"Pine, Shortleaf","Pinus echinata","Softwood",0.51,35.642879999999998,52,null,"Pine, Pitch","Pinus rigida","Softwood",0.52,36.341760000000001,50,null,"Sycamore, American","Platanus occidentalis","Hardwood",0.49,34.245120000000007,52]
[null,null,null,null,null,null,null,null,null,null,null,null,null,"Pine, Slash","Pinus elliottii","Softwood",0.59,41.233919999999998,58,null,"Pine, Pond","Pinus serotina","Softwood",0.56000000000000005,39.137280000000004,51,null,"Tupelo, Black","Nyssa sylvatica","Hardwood",0.5,34.944000000000003,56]
[null,null,null,null,null,null,null,null,null,null,null,null,null,"Pine, Spruce","Pinus glabra","Softwood",0.44,30.750720000000001,45,null,"Pine, Sand","Pinus clausa","Softwood",0.48,33.546240000000004,38,null,"Walnut, Black","Juglans nigra","Hardwood",0.55000000000000004,38.438400000000001,57]
[null,null,null,null,null,null,null,null,null,null,null,null,null,"Pine, Virginia","Pinus virginiana","Softwood",0.48,33.546240000000004,50,null,"Pine, Shortleaf","Pinus echinata","Softwood",0.51,35.642879999999998,52,null,"Willow, Black","Salix nigra","Hardwood",0.39,27.256320000000002,51]
[null,null,null,null,null,null,null,null,null,null,null,null,null,"Sweetgum, American","Liquidambar styraciflua","Hardwood",0.52,36.341760000000001,50,null,"Pine, Slash","Pinus elliottii","Softwood",0.59,41.233919999999998,58,null,"Custom (optional)","(user selection in input table)","(input)","(input)","(input)","(input)"]
[null,null,null,null,null,null,null,null,null,null,null,null,null,"Sycamore, American","Platanus occidentalis","Hardwood",0.49,34.245120000000007,52,null,"Pine, Spruce","Pinus glabra","Softwood",0.44,30.750720000000001,45]
[null,null,null,null,null,null,null,null,null,null,null,null,null,"Tupelo, Black","Nyssa sylvatica","Hardwood",0.5,34.944000000000003,56,null,"Pine, Virginia","Pinus virginiana","Softwood",0.48,33.546240000000004,50]
[null,null,null,null,null,null,null,null,null,null,null,null,null,"Tupelo, Water","Nyssa aquatica","Hardwood",0.5,34.944000000000003,56,null,"Sweetgum, American","Liquidambar styraciflua","Hardwood",0.52,36.341760000000001,50]
[null,null,null,null,null,null,null,null,null,null,null,null,null,"Walnut, Black","Juglans nigra","Hardwood",0.55000000000000004,{"$f":"Q125*62.4*1.12","v":38.438400000000001},57,null,"Sycamore, American","Platanus occidentalis","Hardwood",0.49,34.245120000000007,52]
[null,null,null,null,null,null,null,null,null,null,null,null,null,"Willow, Black","Salix nigra","Hardwood",0.39,{"$f":"Q126*62.4*1.12","v":27.256320000000002},51,null,"Tupelo, Black","Nyssa sylvatica","Hardwood",0.5,34.944000000000003,56]
[null,null,null,null,null,null,null,null,null,null,null,null,null,"Custom (optional)","(user selection in input table)","(input)","(input)","(input)","(input)",null,"Tupelo, Water","Nyssa aquatica","Hardwood",0.5,34.944000000000003,56]
[null,null,null,null,null,null,null,null,null,null,null,null,null,null,null,null,null,null,null,null,"Walnut, Black","Juglans nigra","Hardwood",0.55000000000000004,38.438400000000001,57]
[null,null,null,null,null,null,null,null,null,null,null,null,null,null,null,null,null,null,null,null,"Willow, Black","Salix nigra","Hardwood",0.39,27.256320000000002,51]
[null,null,null,null,null,null,null,null,null,null,null,null,null,null,null,null,null,null,null,null,"Custom (optional)","(user selection in input table)","(input)","(input)","(input)","(input)"]

{"sheet":"Prelim-Top#1","index":6,"n_rows":245,"n_cols":72,"rows_kept":245,"cut":false,"hidden":false,"merged":[[109,31,109,32],[102,31,102,32],[6,11,6,12],[7,11,7,12],[8,11,8,12],[9,11,9,12],[10,11,10,12],[11,11,11,12],[12,11,12,12],[7,18,7,20],[13,13,13,16],[75,15,75,16],[44,23,45,23],[44,25,45,25],[74,18,74,20],[44,24,45,24],[90,29,90,30],[90,31,90,32],[90,27,90,28],[102,27,102,28],[86,20,86,21],[83,19,83,23],[83,18,84,18],[85,20,85,21],[87,20,87,21],[56,0,56,4],[63,0,63,5],[27,1,27,2],[28,1,28,2],[47,1,47,2],[5,13,5,16],[6,13,6,16],[7,13,7,16],[8,13,8,16],[9,13,9,16],[10,13,10,16],[11,13,11,16],[12,13,12,16],[10,0,10,2],[23,3,23,4],[20,0,20,2],[21,0,21,2],[13,11,13,12],[22,10,23,10],[83,27,84,27],[41,34,41,38],[4,32,5,35],[5,28,5,30],[83,28,83,31],[28,18,28,22],[7,22,7,24],[17,43,17,44],[22,43,22,44],[27,43,27,44],[13,28,13,30],[33,43,33,44],[29,19,30,19],[10,28,10,30],[17,32,17,33],[22,32,22,33],[16,18,16,20],[42,34,42,40],[42,41,42,49],[54,18,54,22],[55,19,56,19],[55,20,55,23],[44,29,44,31],[90,1,90,2],[80,0,80,4],[84,0,84,9],[79,0,79,9],[64,7,64,9],[73,0,73,9],[62,0,62,9],[74,3,74,6],[67,0,67,2],[80,7,80,9],[67,3,67,5],[77,3,77,4],[4,60,4,63],[74,7,74,9],[0,8,1,9],[2,0,2,9],[4,1,4,2],[4,3,4,4],[5,1,5,2],[5,3,5,4],[52,7,52,9],[17,22,17,27],[64,26,65,26],[24,3,24,4],[23,0,24,0],[27,32,27,33],[44,26,45,26],[66,10,69,10],[4,11,4,12],[5,11,5,12],[4,43,5,46],[37,27,38,27],[38,45,38,48],[48,0,48,9],[49,0,49,5],[49,7,49,8],[107,27,107,28],[90,20,90,24],[91,14,91,25],[97,20,97,22],[91,0,91,9],[7,0,8,0],[74,0,74,2],[4,54,4,59],[5,54,5,55],[26,1,26,2],[51,13,51,14],[38,34,38,37],[33,32,33,33],[83,25,84,25],[64,21,64,22],[64,23,65,23],[64,24,65,24],[64,25,65,25],[84,20,84,21],[50,13,50,14],[37,26,38,26],[29,20,29,23],[74,22,74,30],[44,21,44,22]]}
[{"$f":"'1-Cover'!A1","v":"Sample Multi-Log Structure"},null,null,null,null,null,null,null,"Spreadsheet developed by Michael Rafferty, P.E."]
[]
["Single Log Stability Analysis Model Inputs",null,null,null,null,null,null,null,null,null,"ERROR CHECKS"]
[]
["Site ID","Structure Type",null,"Structure Position",null,"Meander","Station","dw (ft)","Rc/WBF","udes (ft/s)",null,"Type Lookup Table",null,null,null,null,null,null,null,null,null,null,null,null,null,null,null,null,null,null,null,null,"Tilted Cylindrical (Stem) \"Below Water Surface\" Volume Calculation (Below High Flow)",null,null,null,null,null,null,null,null,null,null,"Tilted Cylindrical (Stem) Wet Volume Calculation (Below Channel Thalweg)",null,null,null,null,null,null,null,null,null,null,"Tilted Frustum (RW) Volume Calculation (Slice Method)",null,null,null,null,null,"A = R2 arccos [(R - h)/R] - [(R - h)*SQRT(2Rh - h2)]"]
["Sample1","Flow Deflection",null,"Left bank",null,"Outside",{"$f":"IF($A6=\"\",\"\",VLOOKUP($A6,SiteInfo,2,0))","v":1000},{"$f":"IF($A6=\"\",\"\",VLOOKUP($A6,SiteInfo,4,0))","v":8.4499999999999993},{"$f":"IF($A6=\"\",\"\",VLOOKUP($A6,SiteInfo,9,0))","v":5.3191489361702127},{"$f":"IF(OR($A$6=\"\",$F$6=\"\"),\"\",IF($F$6=\"Outside\",VLOOKUP($A$6,SiteInfo,10,0),VLOOKUP($A$6,SiteInfo,5,0)))","v":4.6327110774981861},{"$f":"IF($F$6=\"\",\"\",IF(AND($I$6<26,$F$6=\"Straight\"),\"CHECK - Structure is located on a meander (Rc/WBF < 26)\",\"\"))","v":""},"Structure Types",null,"Description",null,null,null,null,null,null,null,null,null,null,null,null,null,null,"Water Surface",null,null,null,null,null,null,null,null,null,null,null,null,null,null,null,null,null,null,null,null,null,null,null,null,null,"Slice thickness (ft) =",null,{"$f":"IF($G$22=\"\",\"\",$G$22/$BC$39)","v":0.1},"WSE (ft) =",{"$f":"IF($AE$8=\"\",\"\",$AE$8)","v":101.25},"RRW (ft) =",{"$f":"IF($H$22=\"\",\"\",$H$22/2)","v":3},"yRW,crown (ft) =",{"$f":"IF($U$10=\"\",\"\",$U$10)","v":98.473668085761574},"yRW,bot (ft) =",{"$f":"IF($U$15=\"\",\"\",$U$15)","v":92.47389654737654}]
[null,null,null,null,null,null,null,null,null,null,{"$f":"IF(OR($F$6=\"\",$I$6=\"\"),\"\",IF(AND($I$6>26,$F$6<>\"Straight\"),\"CHECK - Structure is not on a meander (Rc/WBF > 26)\",\"\"))","v":""},"Rootwad",null,"Logs buried in bank with rootwads protruding into channel",null,null,null,null,null,null,null,null,null,null,null,null,null,null,null,"x (ft)","y (ft)",null,null,"R = DTS/2",{"$f":"$F$22/2","v":1},"ft",null,null,null,null,null,null,null,null,"R = DTS/2",{"$f":"$F$22/2","v":1},"ft",null,null,null,null,null,null,null,null,null,null,"Thalweg Elevation (ft) =",{"$f":"$C$16","v":92.8},"RTS (ft) =",{"$f":"IF($F$22=\"\",\"\",$F$22/2)","v":1},"yRC,crown (ft) =",{"$f":"IF($U$11=\"\",\"\",$U$11)","v":96.499923846128354},"yRC,bot (ft) =",{"$f":"IF($U$14=\"\",\"\",$U$14)","v":94.5}]
["Multi-Log Structures","Layer","Log ID",null,null,null,null,null,null,null,null,"Log Vane",null,"Logs protruding from bank and angled either up- or downstream",null,null,null,null,"Large Wood Coordinates",null,null,null,null,null,null,null,null,null,"WSE",{"$f":"IF(OR($A$6=\"\",$C$16=\"\"),0,IF(($H$6+$C$16)>=$C$13,$B$13,IF(AND(($H$6+$C$16)<$C$13,($H$6+$C$16)>=$C$14),((($C$13-($H$6+$C$16))/($C$13-$C$14))*($B$14-$B$13))+$B$13,IF(AND(($H$6+$C$16)<$C$14,($H$6+$C$16)>=$C$15),((($C$14-($H$6+$C$16))/($C$14-$C$15))*($B$15-$B$14))+$B$14,IF(AND(($H$6+$C$16)<$C$15,($H$6+$C$16)>=$C$16),((($C$15-($H$6+$C$16))/($C$15-$C$16))*($B$16-$B$15))+$B$15,\"\")))))","v":0},{"$f":"IF(OR($A$6=\"\",$C$16=\"\"),$C$13,$H$6+$C$16)","v":101.25},null,null,"b (rad)",{"$f":"ABS($C$25)*PI()/180","v":8.7266462599716477E-3},"rad",null,null,null,null,null,null,null,null,"b (rad)",{"$f":"ABS($C$25)*PI()/180","v":8.7266462599716477E-3},"rad"]
[null,"Stacked","Top#1",null,null,null,null,null,null,null,null,"Log Weir",null,"Weirs spanning small streams comprised of one or more large logs",null,null,null,null,null,"x (ft)","y (ft)",null,"Large wood check","x (ft)",null,"y (ft)",null,null,"WSE",{"$f":"IF(OR($A$6=\"\",$C$16=\"\"),0,IF(($H$6+$C$16)>=$C$19,$B$19,IF(AND(($H$6+$C$16)<$C$19,($H$6+$C$16)>=$C$18),(((($H$6+$C$16)-$C$18)/($C$19-$C$18))*($B$19-$B$18))+$B$18,IF(AND(($H$6+$C$16)<$C$18,($H$6+$C$16)>=$C$17),(((($H$6+$C$16)-$C$17)/($C$18-$C$17))*($B$18-$B$17))+$B$17,IF(AND(($H$6+$C$16)<$C$17,($H$6+$C$16)>=$C$16),(((($H$6+$C$16)-$C$16)/($C$17-$C$16))*($B$17-$B$16))+$B$16,\"\")))))","v":150},{"$f":"IF(OR($A$6=\"\",$C$16=\"\"),$C$13,$H$6+$C$16)","v":101.25},null,null,"dwet,max",{"$f":"IF($AB$23>$AB$24,$AB$23,IF($AB$23<$AB$24,$AB$24,\"\"))","v":6.75},"ft",null,null,null,null,null,null,null,null,"dwet,max",{"$f":"IF($Z$23>$Z$24,$Z$23,IF($Z$23<$Z$24,$Z$24,\"\"))","v":""},"ft",null,null,null,null,null,null,null,"Slice #","xRW,avg (ft)","RRW,slice (ft)","Aslice,avg (ft)","Vslice (ft3)","ycrown,avg (ft)","ybot,avg (ft)","hRW,cr,↑WSE (ft)","ARW,↑WSE (ft2)","VRW,↑WSE (ft3)","hRW,bot,↓thw (ft)","ARW,↓thw (ft2)","VRW,↓thw (ft3)"]
[null,null,null,null,null,null,null,null,null,null,{"$f":"IF(OR($C$14=\"\",$C$15=\"\"),\"\",IF($C$15>=$C$14,\"ERROR - LB top elevation must be > LB toe elevation\",\"\"))","v":""},"Tree Revetment",null,"Row of logs secured along the bank and placed parallel to flow",null,null,null,"Pt 1","Rootwad: Crown",{"$f":"IF($F$25=\"\",0,IF($D$25=\"Rootwad: Crown\",$F$25,IF($D$22=\"No\",$T$15+(($F$22*-$M$20)*$M$17),$T$15+(($H$22*-$M$20)*$M$17))))","v":64.652866137979757},{"$f":"IF($G$25=\"\",$C$13,IF($D$25=\"Rootwad: Crown\",$G$25,IF($D$22=\"No\",$U$15+($F$22*$M$19),$U$15+($H$22*$M$19))))","v":98.473668085761574},null,"Rootwad: Crown",{"$f":"IF($D$22=\"No\",$T$15+(($F$22*-$M$20)*$M$17),$T$15+(($H$22*-$M$20)*$M$17))","v":64.652866137979757},{"$f":"IF(X10=T10,\"OK\",\"ERROR\")","v":"OK"},{"$f":"IF($D$22=\"No\",$U$15+($F$22*$M$19),$U$15+($H$22*$M$19))","v":98.473668085761574},{"$f":"IF(Z10=U10,\"OK\",\"ERROR\")","v":"OK"},null,null,null,null,null,null,"dwet,avgH",{"$f":"IF(AND($AB$23>0,$AB$24>0),(($AB$23/COS($AI$8))+($AB$24/COS($AI$8)))/2,\"\")","v":6.6237174461377144},"ft",null,null,null,null,null,null,null,null,"dwet,avgH",{"$f":"IF(AND($Z$23>0,$Z$24>0),(($Z$23/COS($AT$8))+($Z$24/COS($AT$8)))/2,\"\")","v":""},"ft",null,null,null,null,null,null,null,1,{"$f":"($BE$6/2)+(($BC10-1)*$BE$6)","v":0.05},{"$f":"(($G$22-$BD10)/$G$22)*($BI$6-$BI$7)+$BI$7","v":2.9666666666666668},{"$f":"PI()*($BE10^2)","v":27.649506010094171},{"$f":"$BF10*$BE$6","v":2.7649506010094171},{"$f":"(($G$22-$BD10)/$G$22)*($BK$6-$BK$7)+$BK$7","v":98.440772348434351},{"$f":"(($G$22-$BD10)/$G$22)*($BM$6-$BM$7)+$BM$7","v":92.507664938253598},{"$f":"IF($BH10<=$BG$6,0,IF((($BH10-$BG$6)*$M$19)>=($BE10*2),$BE10*2,($BH10-$BG$6)*$M$19))","v":0},{"$f":"(($BE10^2)*ACOS(($BE10-$BJ10)/$BE10))-(($BE10-$BJ10)*SQRT(2*$BE10*$BJ10-($BJ10^2)))","v":0},{"$f":"$BK10*$BE$6","v":0},{"$f":"IF($BI10>=$BG$7,0,IF((($BG$7-$BI10)*$M$19)>=($BE10*2),$BE10*2,($BG$7-$BI10)*$M$19))","v":0.29232393052301298},{"$f":"(($BE10^2)*ACOS(($BE10-$BM10)/$BE10))-(($BE10-$BM10)*SQRT(2*$BE10*$BM10-($BM10^2)))","v":0.50566075111979059},{"$f":"$BN10*$BE$6","v":5.056607511197906E-2}]
["Channel Geometry Coordinates",null,null,null,null,null,null,null,null,null,{"$f":"IF(OR($C$15=\"\",$C$16=\"\",$C$17=\"\"),\"\",IF(OR($C$15<$C$16,$C$17<$C$16),\"ERROR - Toe elevation must be >= thalweg elevation\",\"\"))","v":""},"Flow Deflection",null,"Partially spanning multiple log structure along the bank",null,null,null,"Pt 2","Root collar: Crown",{"$f":"IF($F$25=\"\",0,IF($D$25=\"Root collar: Crown\",$F$25,IF($D$22=\"No\",$T$10,$T$10+(($G$22*$M$19)*$M$17)-(((($H$22-$F$22)/2)*-$M$20)*$M$17))))","v":63.009505623745717},{"$f":"IF($G$25=\"\",$C$13,IF($D$25=\"Root collar: Crown\",$G$25,IF($D$22=\"No\",$U$10,$U$10-($G$22*-$M$20)-((($H$22-$F$22)/2)*$M$19))))","v":96.499923846128354},null,"Root collar: Crown",{"$f":"IF($D$22=\"No\",$X$10,$T$10+(($G$22*$M$19)*$M$17)-(((($H$22-$F$22)/2)*-$M$20)*$M$17))","v":63.009505623745717},"OK",{"$f":"IF($D$22=\"No\",$Z$10,$U$10-($G$22*-$M$20)-((($H$22-$F$22)/2)*$M$19))","v":96.499923846128354},"OK",null,"Water Surface Label",null,null,null,null,"hmax,lower",{"$f":"IF($AI$9/COS($AI$8)>$F$22,$F$22,$AI$9/COS($AI$8))","v":2},"ft",null,null,null,null,null,null,null,null,"hmax,lower",{"$f":"IF($AT$9/COS($AT$8)>$F$22,$F$22,$AT$9/COS($AT$8))","v":{"$error":"#VALUE!"}},"ft",null,null,null,null,null,null,null,2,{"$f":"($BE$6/2)+(($BC11-1)*$BE$6)","v":0.15000000000000002},2.9000000000000004,{"$f":"PI()*($BE11^2)","v":26.420794216690165},{"$f":"$BF11*$BE$6","v":2.6420794216690169},98.374980873779919,92.575201720007712,{"$f":"IF($BH11<=$BG$6,0,IF((($BH11-$BG$6)*$M$19)>=($BE11*2),$BE11*2,($BH11-$BG$6)*$M$19))","v":0},{"$f":"(($BE11^2)*ACOS(($BE11-$BJ11)/$BE11))-(($BE11-$BJ11)*SQRT(2*$BE11*$BJ11-($BJ11^2)))","v":0},{"$f":"$BK11*$BE$6","v":0},{"$f":"IF($BI11>=$BG$7,0,IF((($BG$7-$BI11)*$M$19)>=($BE11*2),$BE11*2,($BG$7-$BI11)*$M$19))","v":0.22478972036260353},{"$f":"(($BE11^2)*ACOS(($BE11-$BM11)/$BE11))-(($BE11-$BM11)*SQRT(2*$BE11*$BM11-($BM11^2)))","v":0.33822238628601076},{"$f":"$BN11*$BE$6","v":3.3822238628601078E-2}]
["Proposed","x (ft)","y (ft)",null,null,null,null,null,null,null,{"$f":"IF(OR($C$18=\"\",$C$17=\"\"),\"\",IF($C$17>=$C$18,\"ERROR - RB top elevation must be > RB toe elevation\",\"\"))","v":""},"Mid-Channel",null,"Logs placed at the head of an island or bar",null,null,null,"Pt 3","Stem tip: Crown",{"$f":"IF($F$25=\"\",0,IF($D$25=\"Stem tip: Crown\",$F$25,$T$11+((($E$22-$G$22)*$M$19)*$M$17)))","v":47.215575015691925},{"$f":"IF($G$25=\"\",$C$13,IF($D$25=\"Stem tip: Crown\",$G$25,$U$11-(($E$22-$G$22)*-$M$20)))","v":96.752993375581198},null,"Stem tip: Crown",{"$f":"$T$11+((($E$22-$G$22)*$M$19)*$M$17)","v":47.215575015691925},"OK",{"$f":"$U$11-(($E$22-$G$22)*-$M$20)","v":96.752993375581198},"OK",null,"WSE",{"$f":"IF($AD$8=\"\",\"\",AVERAGE(AD8:AD9))","v":75},{"$f":"IF($AE$8=\"\",\"\",AVERAGE(AE8:AE9))","v":101.25},null,null,"hmax,up,dry",{"$f":"IF(AND($AB$23>$F$22,$AB$24>$F$22),0,IF(AND($AB$23>=$F$22,(($F$22-$AB$24)/(COS($AI$8)))>$F$22),$F$22,IF($AB$23>=$F$22,($F$22-$AB$24)/(COS($AI$8)),IF(AND($AB$24>=$F$22,(($F$22-$AB$23)/(COS($AI$8))>$F$22)),$F$22,IF($AB$24>=$F$22,($F$22-$AB$23)/(COS($AI$8)),\"\")))))","v":0},"ft",null,null,null,null,null,null,null,null,"hmax,up,dry",{"$f":"IF(AND($Z$23>$F$22,$Z$24>$F$22),0,IF(AND($Z$23>=$F$22,(($F$22-$Z$24)/(COS($AT$8)))>$F$22),$F$22,IF($Z$23>=$F$22,($F$22-$Z$24)/(COS($AT$8)),IF(AND($Z$24>=$F$22,(($F$22-$Z$23)/(COS($AT$8))>$F$22)),$F$22,IF($Z$24>=$F$22,($F$22-$Z$23)/(COS($AT$8)),\"\")))))","v":""},"ft",null,null,null,null,null,null,null,3,0.25,2.833333333333333,25.22000769131806,2.522000769131806,98.309189399125472,92.642738501761826,0,0,0,0.15725551020219408,0.19627380824632512,1.9627380824632515E-2]
["Fldpln LB",0,99.18,null,null,null,null,null,null,null,{"$f":"IF(OR($B$14<$B$13,$B$15<$B$14,$B$16<$B$15,$B$17<$B$16,$B$18<$B$17,$B$19<$B$18),\"ERROR - Each 'x' distance must be >= previous point\",\"\")","v":""},"Full-Span",null,"Multiple logs constricting a large portion of the cross-sectional area",null,null,null,"Pt 4","Stem tip: Bottom",{"$f":"IF($F$25=\"\",0,IF($D$25=\"Stem tip: Bottom\",$F$25,$T$12-(($F$22*-$M$20)*$M$17)))","v":47.206069391946208},{"$f":"IF($G$25=\"\",$C$13,IF($D$25=\"Stem tip: Bottom\",$G$25,$U$12-($F$22*$M$19)))","v":94.753069529452858},null,"Stem tip: Bottom",{"$f":"$T$12-(($F$22*-$M$20)*$M$17)","v":47.206069391946208},"OK",{"$f":"$U$12-($F$22*$M$19)","v":94.753069529452858},"OK",null,null,null,null,null,null,"LTS,bot,wet",{"$f":"IF(($AI$9/SIN($AI$8))>($E$22-$G$22),($E$22-$G$22-$AI$14),($AI$9/SIN($AI$8))-$AI$14)","v":-515.32554073226038},"ft",null,null,null,null,null,null,null,null,"LTS,bot,wet",{"$f":"IF(($AT$9/SIN($AT$8))>($E$22-$G$22),($E$22-$G$22-$AT$14),($AT$9/SIN($AT$8))-$AT$14)","v":{"$error":"#VALUE!"}},"ft",null,null,null,null,null,null,null,4,0.35000000000000003,2.7666666666666666,24.047146433977868,2.4047146433977868,98.243397924471026,92.710275283515941,0,0,0,8.9721300041784635E-2,8.3878675399100766E-2,8.387867539910077E-3]
["Top LB",33,98.59,null,null,null,null,null,null,null,null,"Floodplain",null,"Logs placed outside of the bankfull channel",null,null,null,"Pt 5","Root collar: Bottom",{"$f":"IF($F$25=\"\",0,IF($D$25=\"Root collar: Bottom\",$F$25,$T$13-((($E$22-$G$22)*$M$19)*$M$17)))","v":63},{"$f":"IF($G$25=\"\",$C$13,IF($D$25=\"Root collar: Bottom\",$G$25,$U$13+(($E$22-$G$22)*-$M$20)))","v":94.5},null,"Root collar: Bottom",{"$f":"$T$13-((($E$22-$G$22)*$M$19)*$M$17)","v":63},"OK",{"$f":"$U$13+(($E$22-$G$22)*-$M$20)","v":94.500000000000014},"OK",null,"Bank Labels",null,null,null,null,"LTS,top,wet",{"$f":"IF($AI$11>=$F$22,(($AI$9-($AI$11/(COS($AI$8))))/SIN($AI$8))+($AI$11*TAN($AI$8)),0)","v":544.32554073226038},"ft",null,null,null,null,null,null,null,null,"LTS,top,wet",{"$f":"IF($AT$11>=$F$22,(($AT$9-($AT$11/(COS($AT$8))))/SIN($AT$8))+($AT$11*TAN($AT$8)),0)","v":{"$error":"#VALUE!"}},"ft",null,null,null,null,null,null,null,5,0.45,2.7,22.902210444669596,2.2902210444669597,98.177606449816594,92.777812065270055,0,0,0,2.2187089881375188E-2,1.022704314628442E-2,1.0227043146284422E-3]
["Toe LB",54,95.63,null,null,null,null,null,null,null,{"$f":"IF(AND($B$6=\"Rootwad\",$D$22=\"No\"),\"ERROR - Rootwad structure type should have a rootwad\",\"\")","v":""},null,null,null,null,null,null,"Pt 6","Rootwad: Bottom",{"$f":"IF($F$25=\"\",0,IF($D$25=\"Rootwad: Bottom\",$F$25,IF($D$22=\"No\",$T$14,$T$14-(($G$22*$M$19)*$M$17)-(((($H$22-$F$22)/2)*-$M$20)*$M$17))))","v":64.624349266742598},{"$f":"IF($G$25=\"\",$C$13,IF($D$25=\"Rootwad: Bottom\",$G$25,IF($D$22=\"No\",$U$14,$U$14+($G$22*-$M$20)-((($H$22-$F$22)/2)*$M$19))))","v":92.47389654737654},null,"Rootwad: Bottom",{"$f":"IF($D$22=\"No\",$T$14,$T$14-(($G$22*$M$19)*$M$17)-(((($H$22-$F$22)/2)*-$M$20)*$M$17))","v":64.624349266742598},"OK",{"$f":"IF($D$22=\"No\",$U$14,$U$14+($G$22*-$M$20)-((($H$22-$F$22)/2)*$M$19))","v":92.47389654737654},"OK",null,"LB",{"$f":"IF(OR($B$13=\"\",$B$14=\"\"),\"\",AVERAGE($B$13:$B$14))","v":16.5},{"$f":"IF(OR($C$13=\"\",$C$14=\"\"),\"\",AVERAGE($C$13:$C$14))","v":98.885000000000005},null,null,"K1",{"$f":"IF(AND(($AI$11-$AI$7)=1,$AH$17=\"Case 1\"),PI(),ACOS(1-($AI$11/$AI$7)))","v":3.1415926535897931},"rad",null,null,null,null,null,null,null,null,"K1",{"$f":"ACOS(1-($AT$11/$AT$7))","v":{"$error":"#VALUE!"}},"rad",null,null,null,null,null,null,null,6,0.55000000000000004,2.6333333333333337,21.785199723393227,2.1785199723393229,98.111814975162147,92.845348847024169,0,0,0,0,0,0]
["Thalweg",79,92.8,null,null,null,null,null,null,null,{"$f":"IF(OR($N$52=\"\",$F$25=\"\",$G$25=\"\"),\"\",IF(AND($B$6=\"Rootwad\",$N$52<>\"Exposed in stream\"),\"CHECK - Rootwad structure typically has exposed rootwad\",\"\"))","v":""},null,null,null,null,null,null,null,null,null,null,null,null,null,null,null,null,null,"RB",{"$f":"IF(OR($B$18=\"\",$B$19=\"\"),\"\",AVERAGE($B$18:$B$19))","v":138.5},{"$f":"IF(OR($C$18=\"\",$C$19=\"\"),\"\",AVERAGE($C$18:$C$19))","v":98.8},null,null,"K2",{"$f":"IF($AI$12=\"\",\"\",ACOS(1-($AI$12/$AI$7)))","v":0},"rad",null,null,null,null,null,null,null,null,"K2",{"$f":"IF($AT$12=\"\",\"\",ACOS(1-($AT$12/$AT$7)))","v":""},"rad",null,null,null,null,null,null,null,7,0.65000000000000013,2.5666666666666664,20.696114270148755,2.0696114270148755,98.046023500507715,92.912885628778284,0,0,0,0,0,0]
["Toe RB",108,94.94,null,null,null,null,null,null,null,null,"cos (q+90) =",{"$f":"IF($B$25=\"\",0,COS(($B$25+90)*PI()/180))","v":-0.54463903501502708},null,null,null,null,null,"Rootwad Coordinates",null,null,null,null,null,null,null,null,null,null,null,null,null,"check:",{"$f":"IF(AND($AA$21=\"Wet\",$AA$22=\"Wet\",$AA$23=\"Wet\",$AA$24=\"Wet\"),\"Log is completely submerged\",IF(AND($AA$21=\"Dry\",$AA$22=\"Dry\",OR(AND($AA$23=\"Dry\",$AA$24=\"Wet\"),AND($AA$24=\"Dry\",$AA$23=\"Wet\"))),\"Case 1\",IF(OR(AND($AA$21=\"Wet\",$AA$24=\"Wet\",$AA$22=\"Dry\",$AA$23=\"Dry\"),AND($AA$22=\"Wet\",$AA$23=\"Wet\",$AA$21=\"Dry\",$AA$24=\"Dry\")),\"Case 2\",IF(AND($AA$22=\"Dry\",$AA$23=\"Wet\",$AA$21=\"Dry\",$AA$24=\"Wet\"),\"Case 3\",IF(OR(AND($AA$21=\"Dry\",$AA$22=\"Wet\",$AA$23=\"Wet\",$AA$24=\"Wet\"),AND($AA$21=\"Wet\",$AA$22=\"Dry\",$AA$23=\"Wet\",$AA$24=\"Wet\")),\"Case 4\",\"Stem is Dry\")))))","v":"Log is completely submerged"},null,null,"VTS =",{"$f":"PI()*(($F$22/2)^2)*($E$22-$G$22)","v":91.106186954104004},"ft3",null,null,null,null,"check:",{"$f":"IF(AND($Y$21=\"Wet\",$Y$22=\"Wet\",$Y$23=\"Wet\",$Y$24=\"Wet\"),\"Log is completely submerged\",IF(AND($Y$21=\"Dry\",$Y$22=\"Dry\",OR(AND($Y$23=\"Dry\",$Y$24=\"Wet\"),AND($Y$24=\"Dry\",$Y$23=\"Wet\"))),\"Case 1\",IF(OR(AND($Y$21=\"Wet\",$Y$24=\"Wet\",$Y$22=\"Dry\",$Y$23=\"Dry\"),AND($Y$22=\"Wet\",$Y$23=\"Wet\",$Y$21=\"Dry\",$Y$24=\"Dry\")),\"Case 2\",IF(AND($Y$22=\"Dry\",$Y$23=\"Wet\",$Y$21=\"Dry\",$Y$24=\"Wet\"),\"Case 3\",IF(OR(AND($Y$21=\"Dry\",$Y$22=\"Wet\",$Y$23=\"Wet\",$Y$24=\"Wet\"),AND($Y$21=\"Wet\",$Y$22=\"Dry\",$Y$23=\"Wet\",$Y$24=\"Wet\")),\"Case 4\",\"Stem is Dry\")))))","v":"Stem is Dry"},null,null,"VTS =",{"$f":"PI()*(($F$22/2)^2)*($E$22-$G$22)","v":91.106186954104004},"ft3",null,null,null,null,8,0.75000000000000011,2.5,19.634954084936208,1.9634954084936209,97.980232025853269,92.980422410532412,0,0,0,0,0,0]
["Top RB",127,98.72,null,null,null,null,null,null,null,null,"sin (q+90) =",{"$f":"IF($B$25=\"\",0,SIN(($B$25+90)*PI()/180))","v":0.83867056794542394},null,null,null,null,null,null,"x (ft)","y (ft)",null,"Large Wood \"Below Thalweg\" and \"Below Water Surface\" Depths",null,null,null,null,null,null,null,null,null,"Case 1",null,null,null,null,null,null,null,null,null,null,"Case 1",null,null,null,null,null,null,null,null,null,null,9,0.85000000000000009,2.4333333333333336,18.601719167755569,1.860171916775557,97.914440551198823,93.047959192286527,0,0,0,0,0,0]
["Fldpln RB",150,98.88,null,null,null,null,null,null,null,{"$f":"IF($C$25=\"\",\"\", IF($C$25=0,\"ERROR - Angle of tilt can not be exactly 0 deg, change to 0.01\", IF(OR($C$25>=90,$C$25<=-90),\"ERROR - Angle of tilt must be between (-)89.9 and (+)89.9 deg\",\"\")))","v":""},"cos b =",{"$f":"IF($C$25=\"\",0,COS($C$25*PI()/180))","v":0.99996192306417131},null,null,null,null,null,"RW bottom1",{"$f":"IF($T$15=\"\",\"\",$T$15)","v":64.624349266742598},{"$f":"IF($U$15=\"\",$C$13,$U$15)","v":92.47389654737654},null,null,"Point","↓twCondition","dT,wet","↓WSECondition","dT↓dw",null,null,null,null,null,null,"V =","LTS,bot,wet/hmax,lower*R3*(sin K1 – K1*cos K1 – 1/3*(sin K1)3)",null,null,null,null,null,null,null,null,null,"V =","LTS,bot,wet/hmax,lower*R3*(sin K1 – K1*cos K1 – 1/3*(sin K1)3)",null,null,null,null,null,null,null,10,0.95000000000000007,2.3666666666666663,17.596409518606823,1.7596409518606824,97.84864907654439,93.115495974040641,0,0,0,0,0,0]
[null,null,null,null,null,null,null,null,null,null,{"$f":"IF(OR($B$25=\"\",$A$6=\"\"),\"\",IF(OR($B$25>360,$B$25<-180),\"ERROR - Orientation angle must be (-)180 to (+)360 deg\",\"\"))","v":""},"sin b =",{"$f":"IF($C$25=\"\",0,SIN($C$25*PI()/180))","v":8.7265354983739347E-3},null,null,null,null,null,"RW sid1",{"$f":"IF($T$19=\"\",\"\",IF($D$22=\"No\",$T$19+((SIN(45*PI()/180))*$M$18),(($T$19+$T$21)/2)+((SIN(45*PI()/180))*$M$18)))","v":66.482513982245806},{"$f":"IF($U$15=\"\",$C$13,($U$21+$U$19)/2)","v":93.973839431972806},null,"Rootwad: Crown","Pt 1",{"$f":"IF($U10<$C$16,\"Wet\",\"Dry\")","v":"Dry"},{"$f":"IF($C$16<U10,0,$C$16-U10)","v":0},{"$f":"IF($U10<$AE$8,\"Wet\",\"Dry\")","v":"Wet"},{"$f":"IF(U10>$AE$8,0,$AE$8-U10)","v":2.7763319142384262},null,null,null,null,null,null,"where:","K1 = arccos(1-hmax,lower/R)",null,null,null,null,null,null,null,null,null,"where:","K1 = arccos(1-hmax,lower/R)",null,null,null,null,null,null,null,11,1.05,2.2999999999999998,16.619025137490002,1.6619025137490002,97.782857601889944,93.183032755794756,0,0,0,0,0,0]
["Wood Species",null,null,"Rootwad","LT (ft)","DTS (ft)","LRW (ft)","DRW (ft)","gTd (lb/ft3)","gTgr (lb/ft3)",{"$f":"IF(AND($D$22=\"No\",OR($D$25=\"Rootwad: Crown\",$D$25=\"Rootwad: Bottom\")),\"ERROR - No rootwad, define a different starting point\",\"\")","v":""},"typ RW b =",{"$f":"IF($E$22=\"\",0,ROUND((-ATAN(((($H$22-$F$22)/2))/$E$22)*180/PI()),1))","v":-3.6},null,null,null,null,null,"RW sid2",{"$f":"IF($T$19=\"\",\"\",IF($D$22=\"No\",(($T$19+$T$23)/2)+($F$22/2*$M$18),(($T$19+$T$23)/2)+($H$22/2*$M$18)))","v":67.154619406197455},{"$f":"IF($U$15=\"\",$C$13,($U$19+$U$23)/2)","v":95.473782316569057},null,"Root collar: Crown","Pt 2","Dry",0,"Wet",4.7500761538716461,null,null,null,null,null,null,"VTS,wet,C1",{"$f":"($AI$13/$AI$11)*($AI$7^3)*(SIN($AI$15)-($AI$15*COS($AI$15))-((1/3)*(SIN($AI$15))^3))","v":-809.4714664858285},"ft3",null,null,null,null,null,null,null,null,"VTS,wet,C1",{"$f":"($AT$13/$AT$11)*($AT$7^3)*(SIN($AT$15)-($AT$15*COS($AT$15))-((1/3)*(SIN($AT$15))^3))","v":{"$error":"#VALUE!"}},"ft3",null,null,null,null,null,null,12,1.1500000000000001,2.2333333333333334,15.669566024405089,1.566956602440509,97.717066127235512,93.25056953754887,0,0,0,0,0,0]
["Douglas-fir, Interior west",null,null,"Yes",32,2,{"$f":"IF(OR($D$22=\"No\",$D$22=\"\"),0,IF($F$22=\"\",0,$F$22*LFRW))","v":3},{"$f":"IF(OR($D$22=\"No\",$D$22=\"\"),0,IF($F$22=\"\",0,$F$22*DFRW))","v":6},{"$f":"IF($A$22=\"\",\"\",VLOOKUP($A$22,'5-Wood'!$B$8:$E$17,3,0))","v":34.944000000000003},{"$f":"IF($A$22=\"\",\"\",VLOOKUP($A$22,'5-Wood'!$B$8:$E$17,4,0))","v":39},null,null,null,null,null,null,null,null,"RW sid3",{"$f":"IF($T$19=\"\",\"\",IF($D$22=\"No\",$T$23+((SIN(45*PI()/180))*$M$18),(($T$23+$T$21)/2)+((SIN(45*PI()/180))*$M$18)))","v":66.496772417864392},{"$f":"IF($U$15=\"\",$C$13,($U$21+$U$23)/2)","v":96.973725201165308},null,"Stem tip: Crown","Pt 3","Dry",0,"Wet",4.4970066244188018,null,null,null,null,null,null,null,null,null,null,null,null,null,null,null,null,null,null,null,null,null,null,null,null,null,null,13,1.2500000000000002,2.1666666666666665,14.748032179352082,1.4748032179352082,97.651274652581066,93.318106319302984,0,0,0,0,0,0]
[null,null,null,null,null,null,null,null,null,null,{"$f":"IF(OR($B$25=\"\",$A$6=\"\"),\"\",IF(OR($B$25=360,$B$25=270,$B$25=180,$B$25=90,$B$25=0,$B$25=-90,$B$25=-180),\"ERROR - Orientation angle can not EXACTLY equal 0, 90, 180, 270, or 360 deg. Change input value to 0.01, 89.99 (or similar)\",\"\"))","v":""},null,null,null,null,null,null,null,"RW crown",{"$f":"IF($T$19=\"\",\"\",$T$10)","v":64.652866137979757},{"$f":"IF($U$15=\"\",$C$13,$U$10)","v":98.473668085761574},null,"Stem tip: Bottom","Pt 4","Dry",0,"Wet",6.4969304705471416,null,null,null,null,"Case 2",null,null,null,null,null,null,null,null,null,null,"Case 2",null,null,null,null,null,null,null,null,null,null,14,1.35,2.0999999999999996,13.854423602330982,1.3854423602330983,97.585483177926619,93.385643101057099,0,0,0,0,0,0]
["Structure Geometry","q (deg)","b (deg)","Define Fixed Point",null,"xT (ft)","yT (ft)","yT,min (ft)","yT,max (ft)","ATp (ft2)",null,null,null,null,null,null,null,null,"RW sid4",{"$f":"IF($T$19=\"\",\"\",IF($D$22=\"No\",$T$23-((SIN(45*PI()/180))*$M$18),(($T$23+$T$25)/2)-((SIN(45*PI()/180))*$M$18)))","v":62.794701422476557},{"$f":"IF($U$15=\"\",$C$13,($U$25+$U$23)/2)","v":96.973725201165308},null,"Root collar: Bottom","Pt 5","Dry",0,"Wet",6.75,null,null,null,null,null,null,"V =","(p*R2*LTS,top,wet) + (LTS,bot,wet/hmax,lower*R3*(sin K1 – K1*cos K1 – 1/3*(sin K1)3)",null,null,null,null,null,null,null,null,null,"V =","(p*R2*LTS,top,wet) + (LTS,bot,wet/hmax,lower*R3*(sin K1 – K1*cos K1 – 1/3*(sin K1)3)",null,null,null,null,null,null,null,15,1.4500000000000002,2.0333333333333332,12.988740293341799,1.2988740293341801,97.519691703272187,93.453179882811213,0,0,0,0,0,0]
[null,33,0.5,"Root collar: Bottom",null,63,94.5,{"$f":"IF(OR($E$22=\"\",$F$22=\"\",$F$25=\"\",$G$25=\"\"),\"\",MIN($U$10:$U$15))","v":92.47389654737654},{"$f":"IF(OR($E$22=\"\",$F$22=\"\",$F$25=\"\",$G$25=\"\"),\"\",MAX($U$10:$U$15))","v":98.473668085761574},{"$f":"IF(OR($E$22=\"\",$F$22=\"\",$F$25=\"\",$G$25=\"\"),\"\",IF($T$81<0,$AB$80,IF($T$81>$T$77,$T$77+$AB$80,IF(OR(AND($C$25=0,$D$22=\"No\",$B$25=0),AND($C$25=0,$D$22=\"No\",$B$25=360),AND($C$25=0,$D$22=\"No\",$B$25=180)),PI()*(($F$22/2)^2),$T$81+$AB$80))))","v":43.426879414893911},{"$f":"IF(OR($B$13=\"\",$B$19=\"\",$U$38=0,$U$39=0),\"\",IF(OR(MAX($U$38:$U$39)>$B$19,MIN($U$38:$U$39)<$B$13),\"ERROR - Log extends beyond limits of floodplain\",\"\"))","v":""},null,null,null,null,null,null,null,"RW sid5",{"$f":"IF($T$19=\"\",\"\",IF($D$22=\"No\",(($T$27+$T$23)/2)-($F$22/2*$M$18),(($T$27+$T$23)/2)-($H$22/2*$M$18)))","v":62.122595998524915},{"$f":"IF($U$15=\"\",$C$13,($U$27+$U$23)/2)","v":95.473782316569057},null,"Rootwad: Bottom","Pt 6","Wet",0.32610345262345675,"Wet",8.7761034526234596,null,null,null,null,null,null,"where:","K1 = arccos(1-hmax,lower/R)",null,null,null,null,null,null,null,null,null,"where:","K1 = arccos(1-hmax,lower/R)",null,null,null,null,null,null,null,16,1.55,1.9666666666666668,12.150982252384525,1.2150982252384526,97.453900228617741,93.520716664565327,0,0,0,0,0,0]
[null,null,null,null,null,null,null,null,null,null,null,null,null,null,null,null,null,null,"RW sid6",{"$f":"IF($T$19=\"\",\"\",IF($D$22=\"No\",$T$27-((SIN(45*PI()/180))*$M$18),(($T$27+$T$25)/2)-((SIN(45*PI()/180))*$M$18)))","v":62.780442986857977},{"$f":"IF($U$15=\"\",$C$13,($U$25+$U$27)/2)","v":93.973839431972806},null,null,null,null,null,null,null,null,null,null,null,null,null,"VTS,wet,C2",{"$f":"(PI()*(($AI$7)^2)*($AI$14))+($AI$13/$AI$11)*($AI$7^3)*(SIN($AI$15)-($AI$15*COS($AI$15))-((1/3)*(SIN($AI$15))^3))","v":900.57765343993231},"ft3",null,null,null,null,null,null,null,null,"VTS,wet,C2",{"$f":"(PI()*(($AT$7)^2)*($AT$14))+($AT$13/$AT$11)*($AT$7^3)*(SIN($AT$15)-($AT$15*COS($AT$15))-((1/3)*(SIN($AT$15))^3))","v":{"$error":"#VALUE!"}},"ft3",null,null,null,null,null,null,17,1.6500000000000001,1.9,11.341149479459153,1.1341149479459154,97.388108753963309,93.588253446319442,0,0,0,0,0,0]
["Soils","Material",null,"gs (lb/ft3)","g's (lb/ft3)","f (deg)","Soil Class","LT,em (ft)","db,max (ft)","db,avg (ft)",null,null,null,null,null,null,null,null,"RW bottom2",{"$f":"IF($T$19=\"\",\"\",$T$15)","v":64.624349266742598},{"$f":"IF($U$15=\"\",$C$13,$U$15)","v":92.47389654737654},null,null,null,null,null,null,null,null,null,null,null,null,null,null,null,null,null,null,null,null,null,null,null,null,null,null,null,null,null,null,null,null,null,18,1.7500000000000002,1.833333333333333,10.559241974565689,1.055924197456569,97.322317279308862,93.655790228073556,0,0,0,0,0,0]
["Stream Bed",{"$f":"IF($A$6=\"\",\"\",VLOOKUP($A$6,Soil,4,0))","v":"Small Cobble"},null,{"$f":"IF($A$6=\"\",\"\",VLOOKUP($A$6,Soil,6,0))","v":136.37545738828794},{"$f":"IF($A$6=\"\",\"\",VLOOKUP($A$6,Soil,7,0))","v":84.913020637990599},{"$f":"IF($A$6=\"\",\"\",VLOOKUP($A$6,Soil,8,0))","v":41},{"$f":"IF($A$6=\"\",\"\",VLOOKUP($A$6,Soil,5,0))","v":4},{"$f":"IF(OR($E$22=\"\",$F$22=\"\",$F$25=\"\",$G$25=\"\"),\"\",IF(AND($F$25<=$B$17,$F$25>=$B$15,OR($B$25=0,$B$25=180,$B$25=360)),SUM($X$49:$X$50),$AB$49+$AB$50))","v":0},{"$f":"IF(OR($E$22=\"\",$F$22=\"\",$F$25=\"\",$G$25=\"\"),\"\",$AT$42)","v":0},{"$f":"IF(OR($E$22=\"\",$F$22=\"\",$F$25=\"\",$G$25=\"\"),\"\",$AT$41)","v":0},null,null,null,null,null,null,null,null,null,null,null,null,null,null,null,null,null,null,null,null,null,null,"Case 3",null,null,null,null,null,null,null,null,null,null,"Case 3",null,null,null,null,null,null,null,null,null,null,19,1.85,1.7666666666666666,9.8052597377041426,0.98052597377041428,97.256525804654416,93.723327009827671,0,0,0,0,0,0]
["Bank",{"$f":"IF($A$6=\"\",\"\",VLOOKUP($A$6,Soil,9,0))","v":"Gravel/cobble"},null,{"$f":"IF($A$6=\"\",\"\",VLOOKUP($A$6,Soil,11,0))","v":137},{"$f":"IF($A$6=\"\",\"\",VLOOKUP($A$6,Soil,12,0))","v":85.301886792452819},{"$f":"IF($A$6=\"\",\"\",VLOOKUP($A$6,Soil,13,0))","v":41},{"$f":"IF($A$6=\"\",\"\",VLOOKUP($A$6,Soil,10,0))","v":4},{"$f":"IF(OR($E$22=\"\",$F$22=\"\",$F$25=\"\",$G$25=\"\"),\"\",IF(AND(OR($F$25>$B$17,$F$25<$B$15),OR($B$25=0,$B$25=180,$B$25=360)),$X$47+$X$48+$X$51+$X$52,$AB$47+$AB$48+$AB$51+$AB$52))","v":0},{"$f":"IF(OR($E$22=\"\",$F$22=\"\",$F$25=\"\",$G$25=\"\"),\"\",$AU$42)","v":0},{"$f":"IF(OR($E$22=\"\",$F$22=\"\",$F$25=\"\",$G$25=\"\"),\"\",$AU$41)","v":0},{"$f":"IF(OR($E$22=\"\",$F$22=\"\",$F$25=\"\",$G$25=\"\"),\"\",IF(($H$28+$H$29)>$E$22,\"ERROR - Embedded length of log exceeds total length of log\",\"\"))","v":""},null,null,null,null,null,null,null,"Coordinates of Large Wood Crown at Key Points",null,null,null,null,null,null,null,null,null,null,null,null,null,null,null,"V =","LTS*(R2*arccos((R-dwet,avgH)/R)-(R-dwet,avgH)*((2*R*dwet,avgH)-dwet,avgH2)0.5)",null,null,null,null,null,null,null,null,null,"V =","LTS*(R2*arccos((R-dwet,avgH)/R)-(R-dwet,avgH)*((2*R*dwet,avgH)-dwet,avgH2)0.5)",null,null,null,null,null,null,null,20,1.9500000000000002,1.6999999999999997,9.0792027688745005,0.90792027688745014,97.190734329999984,93.790863791581785,0,0,0,0,0,0]
[null,null,null,null,null,null,null,null,null,null,null,null,null,null,null,null,null,null,null,"Wood Present?","Large Wood Parameters",null,null,null,"Soil",null,"Slope","Bank (ft/ft)",null,null,null,null,null,null,"VTS,wet,C3",{"$f":"IF($AI$10=\"\",\"\",($E$22-$G$22)*((($AI$7^2)*ACOS(($AI$7-$AI$10)/$AI$7))-(($AI$7-$AI$10)*((2*$AI$7*$AI$10)-($AI$10^2))^0.5)))","v":{"$error":"#NUM!"}},"ft3",null,null,null,null,null,null,null,null,"VTS,wet,C3",{"$f":"IF($AT$10=\"\",\"\",($E$22-$G$22)*((($AT$7^2)*ACOS(($AT$7-$AT$10)/$AT$7))-(($AT$7-$AT$10)*((2*$AT$7*$AT$10)-($AT$10^2))^0.5)))","v":""},"ft3",null,null,null,null,null,null,21,2.0499999999999998,1.6333333333333333,8.3810710680767713,0.83810710680767719,97.124942855345537,93.858400573335899,0,{"$f":"(($BE30^2)*ACOS(($BE30-$BJ30)/$BE30))-(($BE30-$BJ30)*SQRT(2*$BE30*$BJ30-($BJ30^2)))","v":0},{"$f":"$BK30*$BE$6","v":0},0,0,0]
[null,null,null,null,null,null,null,null,null,null,null,null,null,null,null,null,null,null,null,null,"xTS (ft)","Dist (ft)","Adjusted Dist (ft)","yTS (ft)","ysoil (ft)",null,"Fldpln LB",{"$f":"IF(OR($B$13=\"\",$B$14=\"\",$C$13=\"\",$C$14=\"\"),\"\",($C$14-$C$13)/($B$14-$B$13))","v":-1.7878787878787984E-2},null,null,null,null,null,null,null,null,null,null,null,null,null,null,null,null,null,null,null,null,null,null,null,null,null,null,22,2.15,1.5666666666666669,7.7108646353109487,0.77108646353109489,97.059151380691105,93.925937355090014,0,0,0,0,0,0]
[null,null,null,null,null,null,null,null,null,null,null,null,null,null,null,null,null,null,"At Left Bank Top",{"$f":"IF(OR($F$25=\"\",$G$25=\"\"),\"No\",IF(MIN($U$38:$U$39)>$B$14,\"No\",IF(MAX($U$38:$U$39)<$B$14,\"No\",\"Yes\")))","v":"No"},{"$f":"$B$14","v":33},{"$f":"IF(OR($B$25=0,$B$25=180,$B$25=360),0,IF($T$11>$T$12,$G$22+((($T$11-$B$14)/ABS($M$17))/$M$19),(($T$12-$B$14)/ABS($M$17))/$M$19))","v":58.101904945995308},{"$f":"IF(V32<0,0,IF(V32>$E$22,$E$22,V32))","v":32},{"$f":"IF($T$11>$T$12,$U$11+(($V$32-$G$22)*$M$20),$U$12-($V$32*$M$20))","v":96.980772575667615},{"$f":"$C$14","v":98.59},null,"LB",{"$f":"IF(OR($B$14=\"\",$B$15=\"\",$C$14=\"\",$C$15=\"\"),\"\",($C$15-$C$14)/($B$15-$B$14))","v":-0.14095238095238133},null,null,null,null,null,null,null,null,null,null,null,null,null,null,null,null,null,null,null,null,null,null,null,null,null,null,23,2.25,1.5,7.0685834705770345,0.70685834705770345,96.993359906036659,93.993474136844128,0,0,0,0,0,0]
[null,null,null,null,null,null,null,null,null,null,null,null,null,null,null,null,null,null,"At Left Bank Toe",{"$f":"IF(OR($F$25=\"\",$G$25=\"\"),\"No\",IF(MIN($U$38:$U$39)>$B$15,\"No\",IF(MAX($U$38:$U$39)<$B$15,\"No\",\"Yes\")))","v":"Yes"},{"$f":"$B$15","v":54},{"$f":"IF(OR($B$25=0,$B$25=180,$B$25=360),0,IF($T$11>$T$12,$G$22+((($T$11-$B$15)/ABS($M$17))/$M$19),(($T$12-$B$15)/ABS($M$17))/$M$19))","v":19.542789098705654},19.542789098705654,{"$f":"IF($T$11>$T$12,$U$11+(($V$33-$G$22)*$M$20),$U$12-($V$33*$M$20))","v":96.644285082440319},{"$f":"$C$15","v":95.63},null,"Stream L",{"$f":"IF(OR($B$15=\"\",$B$16=\"\",$C$15=\"\",$C$16=\"\"),\"\",($C$16-$C$15)/($B$16-$B$15))","v":-0.11319999999999993},null,null,null,null,null,null,null,null,null,null,null,null,null,null,null,null,null,null,null,null,null,null,null,null,null,null,24,2.35,1.4333333333333333,6.4542275738750305,0.6454227573875031,96.927568431382213,94.061010918598257,0,0,0,0,0,0]
[null,null,null,null,null,null,null,null,null,null,null,null,null,null,null,null,null,null,"At Left Thalweg",{"$f":"IF(OR($F$25=\"\",$G$25=\"\"),\"No\",IF(AND(MAX($U$38:$U$39)>$B$16,MIN($U$38:$U$39)<$B$16),\"Yes\",\"No\"))","v":"No"},{"$f":"$B$16","v":79},{"$f":"IF(OR($B$25=0,$B$25=180,$B$25=360),0,IF($T$11>$T$12,$G$22+((($T$11-$B$16)/ABS($M$17))/$M$19),(($T$12-$B$16)/ABS($M$17))/$M$19))","v":-26.360920243305838},0,{"$f":"IF($T$11>$T$12,$U$11+(($V$34-$G$22)*$M$20),$U$12-($V$34*$M$20))","v":96.243704733360218},{"$f":"$C$16","v":92.8},null,"Stream R",{"$f":"IF(OR($B$17=\"\",$B$16=\"\",$C$17=\"\",$C$16=\"\"),\"\",($C$16-$C$17)/($B$16-$B$17))","v":7.3793103448275887E-2},null,null,null,null,"Case 4",null,null,null,null,null,null,null,null,null,null,"Case 4",null,null,null,null,null,null,null,null,null,null,25,2.4500000000000002,1.3666666666666665,5.8677969452049341,0.58677969452049339,96.86177695672778,94.128547700352371,0,0,0,0,0,0]
[null,null,null,null,null,null,null,null,null,null,null,null,null,null,null,null,null,null,"At Right Thalweg",{"$f":"IF(OR($F$25=\"\",$G$25=\"\"),\"No\",IF(AND(MAX($U$38:$U$39)>$B$16,MIN($U$38:$U$39)<$B$16),\"Yes\",\"No\"))","v":"No"},{"$f":"$B$16","v":79},{"$f":"IF(OR($B$25=0,$B$25=180,$B$25=360),0,IF($T$11<$T$12,$G$22+((($B$16-$T$11)/ABS($M$17))/$M$19),(($B$16-$T$12)/ABS($M$17))/$M$19))","v":58.360920243305841},32,{"$f":"IF($T$11<$T$12,$U$11+(($V$35-$G$22)*$M$20),$U$12-($V$35*$M$20))","v":96.243704733360218},{"$f":"$C$16","v":92.8},null,"RB",{"$f":"IF(OR($B$18=\"\",$B$17=\"\",$C$18=\"\",$C$17=\"\"),\"\",($C$18-$C$17)/($B$18-$B$17))","v":0.19894736842105268},null,null,null,null,null,null,"V =","VTS - (LTS,wet/hmax,up,dry*R3*(sin K2 – K2*cos K2 – 1/3*(sin K2)3)",null,null,null,null,null,null,null,null,null,"V =","VTS - (LTS,wet/hmax,up,dry*R3*(sin K2 – K2*cos K2 – 1/3*(sin K2)3)",null,null,null,null,null,null,null,26,2.5499999999999998,1.3,5.3092915845667505,0.5309291584566751,96.795985482073334,94.196084482106485,0,0,0,0,0,0]
[null,null,null,null,null,null,null,null,null,null,null,null,null,null,null,null,null,null,"At Right Bank Toe",{"$f":"IF(OR($F$25=\"\",$G$25=\"\"),\"No\",IF(MAX($U$38:$U$39)<$B$17,\"No\",IF(MIN($U$38:$U$39)>$B$17,\"No\",\"Yes\")))","v":"No"},{"$f":"$B$17","v":108},{"$f":"IF(OR($B$25=0,$B$25=180,$B$25=360),0,IF($T$11<$T$12,$G$22+((($B$17-$T$11)/ABS($M$17))/$M$19),(($B$17-$T$12)/ABS($M$17))/$M$19))","v":111.60922308003917},32,{"$f":"IF($T$11<$T$12,$U$11+(($V$36-$G$22)*$M$20),$U$12-($V$36*$M$20))","v":95.779031528427296},{"$f":"$C$17","v":94.94},null,"Fldpln RB",{"$f":"IF(OR($B$19=\"\",$B$18=\"\",$C$19=\"\",$C$18=\"\"),\"\",($C$19-$C$18)/($B$19-$B$18))","v":6.9565217391302867E-3},null,null,null,null,null,null,null,"K2 = arccos(1-hmax,up,dry/R)",null,null,null,null,null,null,null,null,null,null,"K2 = arccos(1-hmax,up,dry/R)",null,null,null,null,null,null,null,27,2.65,1.2333333333333334,4.7787114919604745,0.47787114919604745,96.730194007418902,94.2636212638606,0,0,0,0,0,0]
[null,null,null,null,null,null,null,null,null,null,null,null,null,null,null,null,null,null,"At Right Bank Top",{"$f":"IF(OR($F$25=\"\",$G$25=\"\"),\"No\",IF(MAX($U$38:$U$39)<$B$18,\"No\",IF(MIN($U$38:$U$39)>$B$18,\"No\",\"Yes\")))","v":"No"},{"$f":"$B$18","v":127},{"$f":"IF(OR($B$25=0,$B$25=180,$B$25=360),0,IF($T$11<$T$12,$G$22+((($B$18-$T$11)/ABS($M$17))/$M$19),(($B$18-$T$12)/ABS($M$17))/$M$19))","v":146.4960421799679},32,{"$f":"IF($T$11<$T$12,$U$11+(($V$37-$G$22)*$M$20),$U$12-($V$37*$M$20))","v":95.474590463126418},{"$f":"$C$18","v":98.72},null,null,null,null,null,null,null,null,null,"VTS,wet,C4",{"$f":"IF($AI$16=\"\",\"\",$AW$17-(($AI$13/$AI$12)*($AI$7^3)*(SIN($AI$16)-($AI$16*COS($AI$16))-((1/3)*(SIN($AI$16))^3))))","v":{"$error":"#DIV/0!"}},"ft3",null,null,null,null,null,null,null,null,"VTS,wet,C4",{"$f":"IF($AT$16=\"\",\"\",$AW$17-(($AT$13/$AT$12)*($AT$7^3)*(SIN($AT$16)-($AT$16*COS($AT$16))-((1/3)*(SIN($AT$16))^3))))","v":""},"ft3",null,null,null,null,null,null,28,2.75,1.1666666666666667,4.2760566673861078,0.42760566673861078,96.664402532764456,94.331158045614714,0,0,0,0,0,0]
[null,null,null,null,null,null,null,null,null,null,null,null,null,null,null,null,null,null,"Low Pt on Crown",{"$f":"IF(OR($F$25=\"\",$G$25=\"\"),\"No\",\"Yes\")","v":"Yes"},{"$f":"IF($T$38=\"No\",0,IF($U$12<=$U$11,$T$12,$T$11-($G$22*$M$19*$M$17)))","v":64.643360514234047},0,0,{"$f":"IF($T$38=\"No\",0,IF($U$12<=$U$11,$U$12,$U$11-($G$22*$M$20)))","v":96.473744239633234},{"$f":"IF($T$38=\"\",\"\",IF($U$38<$B$14,(($U$38-$B$13)*$AB$31)+$C$13,IF($U$38<$B$15,(($U$38-$B$14)*$AB$32)+$C$14,IF($U$38<$B$16,(($U$38-$B$15)*$AB$33)+$C$15,IF($U$38<$B$17,(($U$38-$B$16)*$AB$34)+$C$16,IF($U$38<$B$18,(($U$38-$B$17)*$AB$35)+$C$17,IF($U$38<$B$19,(($U$38-$B$18)*$AB$36)+$C$18)))))))","v":94.425171589788704},null,"Slope Log (ft/ft)","Slope Log Face (ft/ft)",null,null,null,null,null,null,null,null,null,null,null,null,null,null,null,null,null,null,null,null,null,null,null,null,null,null,29,2.85,1.0999999999999999,3.801327110843649,0.38013271108436492,96.598611058110009,94.398694827368828,0,0,0,0,0,0,null,null,"Max","Min","cP (ft)"]
[null,null,null,null,null,null,null,null,null,null,null,null,null,null,null,null,null,null,"High Pt on Crown","Yes",{"$f":"IF($T$39=\"No\",0,IF($U$12>$U$11,$T$12,$T$11-($G$22*$M$19*$M$17)))","v":47.215575015691925},{"$f":"IF($T$39=\"No\",0,$E$22)","v":32},32,{"$f":"IF($T$39=\"No\",0,IF($U$12>=$U$11,$U$12,$U$11-($G$22*$M$20)))","v":96.752993375581198},{"$f":"IF($T$39=\"\",\"\",IF($U$39<$B$14,(($U$39-$B$13)*$AB$31)+$C$13,IF($U$39<$B$15,(($U$39-$B$14)*$AB$32)+$C$14,IF($U$39<$B$16,(($U$39-$B$15)*$AB$33)+$C$15,IF($U$39<$B$17,(($U$39-$B$16)*$AB$34)+$C$16,IF($U$39<$B$18,(($U$39-$B$17)*$AB$35)+$C$17,IF($U$39<$B$19,(($U$39-$B$18)*$AB$36)+$C$18)))))))","v":96.586280854931047},null,null,null,null,null,null,null,null,null,"Free internet tilted cylinder calculator:",null,null,null,"http://planetcalc.com/1442/",null,null,null,null,null,null,"Free internet tilted cylinder calculator:",null,null,null,"http://planetcalc.com/1442/",null,null,null,null,30,2.95,1.0333333333333332,3.3545228223331005,0.33545228223331008,96.532819583455577,94.466231609122943,0,0,0,0,0,0,null,null,{"$f":"MAX($BS$45:$BS$245)","v":0},{"$f":"MIN($BS$45:$BS$245)","v":0},{"$f":"IF($BS$43=0,0,IF(AND($BS$39=0,$BR$39=$E$22),($BR$39+$BS$39)/2,IF($BS$39=0,$BR$39-((1/3)*($BR$39-$BS$39)),IF($BR$39=$E$22,$BR$39-((2/3)*($BR$39-$BS$39)),($BR$39+$BS$39)/2))))","v":0}]
[null,null,null,null,null,null,null,null,null,null,null,null,null,null,null,null,null,null,"Low Pt on Bottom","Yes",{"$f":"IF($T$40=\"No\",0,IF($U$13<=$U$14,$T$13,$T$14-($G$22*$M$19*$M$17)))","v":64.633854890488323},0,0,{"$f":"IF($T$40=\"No\",0,IF($U$13<=$U$14,$U$13,$U$14-($G$22*$M$20)))","v":94.47382039350488},{"$f":"IF($T$40=\"\",\"\",IF($U$40<$B$14,(($U$40-$B$13)*$AB$31)+$C$13,IF($U$40<$B$15,(($U$40-$B$14)*$AB$32)+$C$14,IF($U$40<$B$16,(($U$40-$B$15)*$AB$33)+$C$15,IF($U$40<$B$17,(($U$40-$B$16)*$AB$34)+$C$16,IF($U$40<$B$18,(($U$40-$B$17)*$AB$35)+$C$17,IF($U$40<$B$19,(($U$40-$B$18)*$AB$36)+$C$18)))))))","v":94.426247626396716},null,{"$f":"IF(OR($B$25=0,$B$25=180,$B$25=360),($U$11-$U$12)/0.001,IF($X$38=$X$39,1E-25,($U$11-$U$12)/($T$11-$T$12)))","v":-1.6023213963204105E-2},{"$f":"IF(OR($B$25=0,$B$25=180,$B$25=360),9999,IF($X$38=$X$39,1E-25,($U$12-$U$13)/($T$12-$T$13)))","v":210.39375212272836},null,null,null,null,null,null,null,null,null,null,null,null,null,null,null,null,null,null,null,null,null,null,null,null,null,null,"Total",null,null,null,{"$f":"SUM(BG10:BG39)","v":40.837213838163322},null,null,null,null,{"$f":"SUM($BL$10:$BL$39)","v":0},null,null,{"$f":"SUM($BO$10:$BO$39)","v":0.11342626641975119}]
[null,null,null,null,null,null,null,null,null,null,null,null,null,null,null,null,null,null,"High Pt on Bottom","Yes",{"$f":"IF($T$41=\"No\",0,IF($U$13>$U$14,$T$13,$T$14-($G$22*$M$19*$M$17)))","v":47.206069391946208},{"$f":"IF($T$41=\"No\",0,$E$22)","v":32},32,{"$f":"IF($T$41=\"No\",0,IF($U$13>=$U$14,$U$13,$U$14-($G$22*$M$20)))","v":94.753069529452858},{"$f":"IF($T$41=\"\",\"\",IF($U$41<$B$14,(($U$41-$B$13)*$AB$31)+$C$13,IF($U$41<$B$15,(($U$41-$B$14)*$AB$32)+$C$14,IF($U$41<$B$16,(($U$41-$B$15)*$AB$33)+$C$15,IF($U$41<$B$17,(($U$41-$B$16)*$AB$34)+$C$16,IF($U$41<$B$18,(($U$41-$B$17)*$AB$35)+$C$17,IF($U$41<$B$19,(($U$41-$B$18)*$AB$36)+$C$18)))))))","v":96.587620695230441},null,null,null,null,null,null,null,null,null,null,null,null,null,null,null,null,null,null,null,"Average",{"$f":"IF(AT42=0,0,AVERAGE(AT45:AT245))","v":0},{"$f":"IF(AU42=0,0,AVERAGE(AU45:AU245))","v":0}]
[null,null,null,null,null,null,null,null,null,null,null,null,null,null,null,null,null,null,"Low Pt on Centerline","Yes",{"$f":"IF($T$42=\"No\",0,AVERAGE($U$38,$U$40))","v":64.638607702361185},0,0,{"$f":"IF($T$42=\"No\",0,AVERAGE($X$38,$X$40))","v":95.473782316569057},{"$f":"IF($T$42=\"\",\"\",IF($U$42<$B$14,(($U$42-$B$13)*$AB$31)+$C$13,IF($U$42<$B$15,(($U$42-$B$14)*$AB$32)+$C$14,IF($U$42<$B$16,(($U$42-$B$15)*$AB$33)+$C$15,IF($U$42<$B$17,(($U$42-$B$16)*$AB$34)+$C$16,IF($U$42<$B$18,(($U$42-$B$17)*$AB$35)+$C$17,IF($U$42<$B$19,(($U$42-$B$18)*$AB$36)+$C$18)))))))","v":94.425709608092717},null,null,null,null,null,null,null,null,null,"Log Partial Area Calculations",null,null,null,null,null,null,null,null,null,"Max",{"$f":"MAX(AT45:AT245)","v":0},{"$f":"MAX(AU45:AU245)","v":0},null,null,null,"Total","Total","Total","Total","Total",null,"Total",null,"Total","Total","Average",null,"Average","Average","Average","Average","Total","Total","Total","Average","Average"]
[null,null,null,null,null,null,null,null,null,null,null,null,null,null,null,null,null,null,"High Pt on Centerline","Yes",{"$f":"IF($T$42=\"No\",0,AVERAGE($U$39,$U$41))","v":47.210822203819063},{"$f":"IF($T$43=\"No\",0,$E$22)","v":32},32,{"$f":"IF($T$42=\"No\",0,AVERAGE($X$39,$X$41))","v":95.753031452517035},{"$f":"IF($T$43=\"\",\"\",IF($U$43<$B$14,(($U$43-$B$13)*$AB$31)+$C$13,IF($U$43<$B$15,(($U$43-$B$14)*$AB$32)+$C$14,IF($U$43<$B$16,(($U$43-$B$15)*$AB$33)+$C$15,IF($U$43<$B$17,(($U$43-$B$16)*$AB$34)+$C$16,IF($U$43<$B$18,(($U$43-$B$17)*$AB$35)+$C$17,IF($U$43<$B$19,(($U$43-$B$18)*$AB$36)+$C$18)))))))","v":96.586950775080737},null,null,null,null,null,null,null,null,null,"Log Parameters",null,null,null,null,null,null,"Soil Parameters",null,null,null,null,null,null,null,null,{"$f":"SUM(AY45:AY245)","v":0},{"$f":"SUM($AZ$45:$AZ$245)","v":0},{"$f":"SUM($BA$45:$BA$245)","v":0},{"$f":"SUM($BB$45:$BB$245)","v":0},{"$f":"SUM($BC$45:$BC$245)","v":0},null,{"$f":"SUM($BE$45:$BE$245)","v":14.641189247127471},null,{"$f":"SUM($BG$45:$BG$245)","v":0},{"$f":"SUM($BH$45:$BH$245)","v":32.000000000000021},{"$f":"IF(SUM($BI$45:$BI$245)=0,0,AVERAGE($BI$45:$BI$245))","v":16},null,{"$f":"IF(SUM($BK$45:$BK$245)=0,0,AVERAGE($BK$45:$BK$245))","v":1.3063713562820324E-2},{"$f":"IF(SUM($BL$45:$BL$245)=0,0,AVERAGE($BL$45:$BL$245))","v":31.599999999999998},{"$f":"IF(SUM($BM$45:$BM$245)=0,0,AVERAGE($BM$45:$BM$245))","v":5.6366692707788433},{"$f":"IF(SUM($BN$45:$BN$245)=0,0,AVERAGE($BN$45:$BN$245))","v":0.12180017033366351},{"$f":"SUM(BO45:BO245)","v":31.120000000000022},{"$f":"SUM($BP$45:$BP$245)","v":18.720000000000013},{"$f":"SUM($BQ$45:$BQ$245)","v":12.400000000000007},{"$f":"IF(SUM($BR$45:$BR$245)=0,0,AVERAGE($BR$45:$BR$245))","v":15.520000000000001},{"$f":"IF(SUM($BS$45:$BS$245)=0,0,AVERAGE($BS$45:$BS$245))","v":0}]
[null,null,null,null,null,null,null,null,null,null,null,null,null,null,null,null,null,null,null,null,null,null,null,null,null,null,null,null,null,null,null,null,null,null,"Point","Distance","Zone","xcrown (ft)","ycrown (ft)","xbottom (ft)","ybottom (ft)","ysoil (ft)","db,dry,crown (ft)","db,sat,crown (ft)","db,crown (ft)","db,crown,bed (ft)","db,crown,bank (ft)","db,dry,bottom (ft)","db,sat,bottom (ft)","db,bottom (ft)","LT,em (ft)","Vbed,dry (ft3)","Vbed,sat (ft3)","Vbank,dry (ft3)","Vbank,sat (ft3)","hb,TS (ft)","ATSp,em (ft2)","dTSp,dry,em (ft)","ATSp,dry,em (ft2)","LT,ex (ft)","cD (ft)","hT↑bed,ex,wet (ft)","CL (ft)","cL (ft)","zT,CL↓WSE","CW","LTf,tot (ft)","LTf,bed (ft)","LTf,banks (ft)","cF (ft)","csoil (ft)"]
[null,null,null,null,null,null,null,null,null,null,null,null,null,null,null,null,null,null,null,null,null,"Log Crown and Soil Intercept",null,"Dist to Intercept","Intercept in Zone?","LW Buried?","Exposed Segment",null,null,"Large Wood Centerline",null,null,null,null,0,{"$f":"($AI45/$AI$245)*$AJ$245","v":0},{"$f":"IF(OR($C$19=\"\",$F$25=\"\",$G$25=\"\"),\"None\",IF(AL45<$B$14,\"Left Floodplain\",IF(AL45<$B$15,\"Left Bank\",IF(AL45<$B$16,\"Left Stream Bed\",IF(AL45<$B$17,\"Right Stream Bed\",IF(AL45<$B$18,\"Right Bank\",\"Right Floodplain\"))))))","v":"Left Bank"},{"$f":"MIN($U$38:$U$39)","v":47.215575015691925},{"$f":"IF($U$38<=$U$39,$X$38,$X$39)","v":96.752993375581198},{"$f":"MIN($U$40:$U$41)","v":47.206069391946208},{"$f":"IF($U$40<=$U$41,$X$40,$X$41)","v":94.753069529452858},{"$f":"IF($AL45<$B$14,(($AL45-$B$13)*$AB$31)+$C$13,IF($AL45<$B$15,(($AL45-$B$14)*$AB$32)+$C$14,IF($AL45<$B$16,(($AL45-$B$15)*$AB$33)+$C$15,IF($AL45<$B$17,(($AL45-$B$16)*$AB$34)+$C$16,IF($AL45<$B$18,(($AL45-$B$17)*$AB$35)+$C$17,IF($AL45<$B$19,(($AL45-$B$18)*$AB$36)+$C$18))))))","v":96.586280854931047},{"$f":"IF(OR($AP45<$AE$12,$AP45<=$AM45),0,IF(OR($AP45>=$AE$12,$AM45>=$AE$12),$AP45-$AM45-$AR45,$AP45-$AE$12))","v":0},{"$f":"IF($AP45<=$AM45,0,IF($AM45>=$AE$12,0,IF($AP45<=$AE$12,$AP45-$AM45,$AE$12-$AM45)))","v":0},{"$f":"IF(AP45<=AM45,0,AP45-AM45)","v":0},{"$f":"IF(OR($AS45=\"\",$AS45=0),\"\",IF(OR($AK45=\"Left Stream Bed\",$AK45=\"Right Stream Bed\"),$AS45,\"\"))","v":""},{"$f":"IF(OR($AS45=\"\",$AS45=0),\"\",IF(OR($AK45=\"Left Floodplain\",$AK45=\"Left Bank\",$AK45=\"Right Bank\",$AK45=\"Right Floodplain\"),$AS45,\"\"))","v":""},{"$f":"IF(OR($AP45<$AE$12,$AP45<=$AO45),0,IF($AO45>=$AE$12,$AP45-$AO45,$AP45-$AE$12))","v":0},{"$f":"IF($AP45<=$AO45,0,IF($AO45>=$AE$12,0,IF($AP45<=$AE$12,$AP45-$AO45,$AE$12-$AO45)))","v":1.8332113254781888},{"$f":"IF(AP45<=AO45,0,AP45-AO45)","v":1.8332113254781888},{"$f":"IF($AS45=0,0,IF(OR($AJ45=0,$AJ45=$E$22),$AJ$46/2,$AJ$46))","v":0},{"$f":"IF(OR($AK45=\"Left Stream Bed\",$AK45=\"Right Stream Bed\"),$F$22*$AQ45*$AY45,0)","v":0},{"$f":"IF(OR($AK45=\"Left Stream Bed\",$AK45=\"Right Stream Bed\"),$F$22*$AR45*$AY45,0)","v":0},{"$f":"IF(OR($AK45=\"Left Floodplain\",$AK45=\"Left Bank\",$AK45=\"Right Bank\",$AK45=\"Right Floodplain\"),$F$22*$AQ45*$AY45,0)","v":0},{"$f":"IF(OR($AK45=\"Left Floodplain\",$AK45=\"Left Bank\",$AK45=\"Right Bank\",$AK45=\"Right Floodplain\"),$F$22*$AR45*$AY45,0)","v":0},{"$f":"AX45-AS45","v":1.8332113254781888},{"$f":"$BD45*$AJ$46*ABS($M$17)","v":0.1597501515659295},{"$f":"AV45-AQ45","v":0},{"$f":"IF(OR($AJ45=0,$AJ45=$E$22),($BF45*$AJ$46/2)*ABS($M$17),$BF45*$AJ$46*ABS($M$17))","v":0},{"$f":"IF(OR($AM45<$AP45,$AO45>$AE$8),\"\",IF(OR($AJ45=0,$AJ45=$E$22),$AJ$46/2,$AJ$46))","v":0.08},{"$f":"IF($BH45=\"\",\"\",IF($BH45>0,$AJ45,\"\"))","v":0},{"$f":"IF($BH45=\"\",\"\",IF(OR(($AO45-$AP45)<0,$AO$45>=$AE$8),0,($AO45-$AP45)))","v":0},{"$f":"IF($BJ45=\"\",\"\",IF(OR($BJ45>($F$22/2),$BJ45=0),0,0.45-($BJ45*0.45/($F$22/2))))","v":0},{"$f":"IF($BK45=\"\",\"\",IF($BK45>0,$AJ45,\"\"))","v":""},{"$f":"IF($BH45=\"\",\"\",IF(OR(($AM45-$AP45)<0,$AM45>=$AE$8),\"\",($AE$8-($AM45-(($F$22/2)/$M$19)))))","v":5.4970447028045442},{"$f":"IF($BM45=\"\",\"\",(((PI()^2)/32)*($B$66^-6)*EXP(-($BM45/$F$22)/(2*($B$66^2)))))","v":0.13498926311601028},{"$f":"IF($AO45=0,0,IF($AO45>$AP45,0,IF(OR($AJ45=0,$AJ45=$E$22),$AJ$46/2,$AJ$46)))","v":0.08},{"$f":"IF(AND($BO45>0,OR($AK45=\"Left Stream Bed\",$AK45=\"Right Stream Bed\")),$BO45,0)","v":0},{"$f":"IF(AND($BO45>0,OR($AK45=\"Left Floodplain\",$AK45=\"Left Bank\",$AK45=\"Right Bank\",$AK45=\"Right Floodplain\")),$BO45,0)","v":0.08},{"$f":"IF($BO45>0,$AJ45,\"\")","v":0},{"$f":"IF($AY45>0,$AJ45,\"\")","v":""}]
[null,null,null,null,null,null,null,null,null,null,null,null,null,null,null,null,null,null,null,"Zone L (ft)","Log L (ft)","xcrown (ft)","ycrown (ft)",null,null,null,null,"Lem,crown (ft)",null,null,"x (ft)","y (ft)",null,null,1,{"$f":"($AI46/$AI$245)*$AJ$245","v":0.16},"Left Bank",{"$f":"$AL$45+ABS(AJ46*$M$19*$M$17)","v":47.302713943184635},{"$f":"AM45+((AL46-AL45)*$AA$40)","v":96.751597129901455},{"$f":"$AN$45+ABS(AJ46*$M$19*$M$17)","v":47.293208319438918},{"$f":"AO45+((AN46-AN45)*$AA$40)","v":94.751673283773115},{"$f":"IF($AL46<$B$14,(($AL46-$B$13)*$AB$31)+$C$13,IF($AL46<$B$15,(($AL46-$B$14)*$AB$32)+$C$14,IF($AL46<$B$16,(($AL46-$B$15)*$AB$33)+$C$15,IF($AL46<$B$17,(($AL46-$B$16)*$AB$34)+$C$16,IF($AL46<$B$18,(($AL46-$B$17)*$AB$35)+$C$17,IF($AL46<$B$19,(($AL46-$B$18)*$AB$36)+$C$18))))))","v":96.573998415627301},0,0,{"$f":"IF(AP46<=AM46,0,AP46-AM46)","v":0},{"$f":"IF(OR($AS46=\"\",$AS46=0),\"\",IF(OR($AK46=\"Left Stream Bed\",$AK46=\"Right Stream Bed\"),$AS46,\"\"))","v":""},{"$f":"IF(OR($AS46=\"\",$AS46=0),\"\",IF(OR($AK46=\"Left Floodplain\",$AK46=\"Left Bank\",$AK46=\"Right Bank\",$AK46=\"Right Floodplain\"),$AS46,\"\"))","v":""},{"$f":"IF(OR($AP46<$AE$12,$AP46<=$AO46),0,IF($AO46>=$AE$12,$AP46-$AO46,$AP46-$AE$12))","v":0},1.8223251318541855,1.8223251318541855,0,0,0,0,0,1.8223251318541855,{"$f":"$BD46*$AJ$46*ABS($M$17)","v":0.1588015042074713},{"$f":"AV46-AQ46","v":0},0,0.16,{"$f":"IF($BH46=\"\",\"\",IF($BH46>0,$AJ46,\"\"))","v":0.16},{"$f":"IF($BH46=\"\",\"\",IF(OR(($AO46-$AP46)<0,$AO$45>=$AE$8),0,($AO46-$AP46)))","v":0},0,"",{"$f":"IF($BH46=\"\",\"\",IF(OR(($AM46-$AP46)<0,$AM46>=$AE$8),\"\",($AE$8-($AM46-(($F$22/2)/$M$19)))))","v":5.4984409484842871},{"$f":"IF($BM46=\"\",\"\",(((PI()^2)/32)*($B$66^-6)*EXP(-($BM46/$F$22)/(2*($B$66^2)))))","v":0.13484806189251819},0.16,0,0.16,0.16,{"$f":"IF($AY46>0,$AJ46,\"\")","v":""}]
[null,null,null,null,null,null,null,null,null,null,null,null,null,null,null,null,null,null,"LB Floodplain",{"$f":"($B$14-$B$13)/ABS($M$17)/ABS($M$19)","v":60.592896331455172},{"$f":"IF(MAX($U$38:$U$39)<=$B$14,$E$22,IF($T$32=\"No\",0,$E$22-$W$32))","v":0},{"$f":"IF($U$47=0,0,IF(OR($B$25=0,$B$25=180,$B$25=360),$U$38,$U$32+(($X$32-$C$14)/($AB$31-$AA$40))))","v":0},{"$f":"IF($U$47=0,0,IF(OR($B$25=0,$B$25=180,$B$25=360),(($U$38-$B$13)*$AB$31)+$C$13,$X$32+(($V$47-$U$32)*$AA$40)))","v":0},{"$f":"IF($U$47=0,0,IF(OR($B$25=0,$B$25=180,$B$25=360),$E$22-ABS(($X$39-$W$47)/$M$20),IF(AND($U$38<=$U$39,$X$38>=$Y$38),ABS(($X$38-$W$47)/($AA$40*$M$17*$M$19)),IF(AND($U$38<=$U$39,$X$38<$Y$38),ABS($E$22-(ABS(($X$38-$W$47)/($AA$40*$M$17*$M$19)))),IF(AND($U$38>$U$39,$X$39>=$Y$39),ABS(($X$39-$W$47)/($AA$40*$M$17*$M$19)),IF(AND($U$38>=$U$39,$X$39<$Y$39),ABS($E$22-(ABS(($X$38-$W$47)/($AA$40*$M$17*$M$19))))))))))","v":0},{"$f":"IF(AND($U$47=0,$W$47=0),\"No\",IF(AND($V$47<=$B$14,$V$47>=$B$13,$V$47>=MIN($U$38:$U$39),$V$47<=MAX($U$38:$U$39),$W$47<$C$13,$X$47<=$E$22),\"Yes\",\"No\"))","v":"No"},{"$f":"IF($U$47=0,\"No\",IF($Y$47=\"Yes\",\"Partial\",IF(AND($U$47<$E$22,$X$39<$Y$39,$Y$47=\"No\",$Y$48=\"No\",$Y$49=\"No\",$Y$50=\"No\",$Y$51=\"No\",$Y$52=\"No\"),\"Yes\",IF(AND($Y$47=\"No\",$X$32>$Y$32),\"No\",\"Yes\"))))","v":"No"},{"$f":"IF($Z$47=\"Yes\",\"None\",IF(AND($Z$47=\"No\",$U$47=0),\"None\",IF($Z$47=\"No\",\"All\",IF(AND($X$39>=$Y$39,$U$39<=$U$38),\"Left\",\"Right\"))))","v":"None"},{"$f":"IF($U$47=0,0,IF($Z$47=\"No\",0,IF($Z$47=\"Yes\",$U$47,IF(OR($AA$47=\"Left\",$U$47=$E$22),$U$47-(ABS(($U$39-$V$47)/($M$17*$M$19))),$U$47-(ABS(($V$47-$B$14)/($M$17*$M$19)))))))","v":0},null,"Rootwad",{"$f":"AVERAGE(T10,T15)","v":64.638607702361185},{"$f":"AVERAGE(U10,U15)","v":95.473782316569057},null,null,2,0.32,"Left Bank",{"$f":"$AL$45+ABS(AJ47*$M$19*$M$17)","v":47.389852870677345},{"$f":"AM46+((AL47-AL46)*$AA$40)","v":96.750200884221712},47.380347246931628,{"$f":"AO46+((AN47-AN46)*$AA$40)","v":94.750277038093373},{"$f":"IF($AL47<$B$14,(($AL47-$B$13)*$AB$31)+$C$13,IF($AL47<$B$15,(($AL47-$B$14)*$AB$32)+$C$14,IF($AL47<$B$16,(($AL47-$B$15)*$AB$33)+$C$15,IF($AL47<$B$17,(($AL47-$B$16)*$AB$34)+$C$16,IF($AL47<$B$18,(($AL47-$B$17)*$AB$35)+$C$17,IF($AL47<$B$19,(($AL47-$B$18)*$AB$36)+$C$18))))))","v":96.561715976323569},0,0,0,"","",0,1.8114389382301965,1.8114389382301965,0,0,0,0,0,1.8114389382301965,0.15785285684901432,0,0,0.16,0.32,0,0,"",5.4998371941640301,{"$f":"IF($BM47=\"\",\"\",(((PI()^2)/32)*($B$66^-6)*EXP(-($BM47/$F$22)/(2*($B$66^2)))))","v":0.13470700836807303},0.16,0,0.16,0.32,""]
[{"$f":"IF($A$6=\"\",\"\",$A$6)","v":"Sample1"},{"$f":"IF($A$6=\"\",\"\",$B$6)","v":"Flow Deflection"},null,{"$f":"IF(OR($B$9=\"N/A\",$B$9=\"\"),\"\",$B$9)","v":"Stacked"},{"$f":"IF($D$48=\"\",\"\",\"Log ID\")","v":"Log ID"},{"$f":"IF($D$48=\"\",\"\",$C$9)","v":"Top#1"},null,null,null,"Page 2",null,null,null,null,null,null,null,null,"Left Bank",{"$f":"($B$15-$B$14)/ABS($M$17)/ABS($M$19)","v":38.559115847289654},{"$f":"IF(AND(MIN($U$38:$U$39)>=$B$14,MAX($U$38:$U$39)<=$B$15),$E$22,IF(AND($T$33=\"No\",$T$32=\"No\"),0,$E$22-$W$33-$U$47))","v":12.457210901294346},{"$f":"IF($U$48=0,0,IF(OR($B$25=0,$B$25=180,$B$25=360),$U$38,$U$33+(($C$15-$X$33)/($AA$40-$AB$32))))","v":45.881118661999942},{"$f":"IF($U$48=0,0,IF(OR($B$25=0,$B$25=180,$B$25=360),(($U$38-$B$14)*$AB$32)+$C$14,$X$33+(($V$48-$U$33)*$AA$40)))","v":96.774375655260954},{"$f":"IF($U$48=0,0,IF(OR($B$25=0,$B$25=180,$B$25=360),$E$22-ABS(($X$39-$W$48)/$M$20),IF(AND($U$38<=$U$39,$X$38>=$Y$38),ABS(($X$38-$W$48)/($AA$40*$M$17*$M$19)),IF(AND($U$38<=$U$39,$X$38<$Y$38),ABS($E$22-(ABS(($X$38-$W$48)/($AA$40*$M$17*$M$19)))),IF(AND($U$38>$U$39,$X$39>=$Y$39),ABS(($X$39-$W$48)/($AA$40*$M$17*$M$19)),IF(AND($U$38>=$U$39,$X$39<$Y$39),ABS($E$22-(ABS(($X$38-$W$48)/($AA$40*$M$17*$M$19))))))))))","v":2.4502598635781738},{"$f":"IF(AND($U$48=0,$W$48=0),\"No\",IF(AND($V$48<=$B$15,$V$48>=$B$14,$V$48>=MIN($U$38:$U$39),$V$48<=MAX($U$38:$U$39),$W$48<$C$14,$X$48<=$E$22),\"Yes\",\"No\"))","v":"No"},{"$f":"IF($U$48=0,\"No\",IF($Y$48=\"Yes\",\"Partial\",IF(AND($U$48<$E$22,$X$39<$Y$39,$Y$47=\"No\",$Y$48=\"No\",$Y$49=\"No\",$Y$50=\"No\",$Y$51=\"No\",$Y$52=\"No\"),\"Yes\",IF(AND($Y$48=\"No\",$X$33>$Y$33),\"No\",\"Yes\"))))","v":"No"},{"$f":"IF($Z$48=\"Yes\",\"None\",IF(AND($Z$48=\"No\",$U$48=0),\"None\",IF($Z$48=\"No\",\"All\",IF(AND($X$39>=$Y$39,$U$39<=$U$38,$AA$47<>\"Left\"),\"Left\",\"Right\"))))","v":"All"},{"$f":"IF($U$48=0,0,IF($Z$48=\"No\",0,IF($Z$48=\"Yes\",$U$48,IF(OR($U$48=$E$22,AND($AA$48=\"Left\",MIN($U$38:$U$39)>=$B$14,MAX($U$38:$U$39)>=$B$15)),$U$48-(ABS(($U$39-$V$48)/($M$17*$M$19))),IF($AA$48=\"Left\",$U$48-(ABS(($B$14-$V$48)/($M$17*$M$19))),IF(MAX($U$38:$U$39)>=$B$15,$U$48-(ABS(($V$48-$B$15)/($M$17*$M$19))),ABS(($V$48-$B$14)/($M$17*$M$19))))))))","v":0},null,"Root collar",{"$f":"AVERAGE(T11,T14)","v":63.004752811872862},{"$f":"AVERAGE(U11,U14)","v":95.499961923064177},null,null,3,0.48,"Left Bank",{"$f":"$AL$45+ABS(AJ48*$M$19*$M$17)","v":47.476991798170054},96.748804638541969,47.467486174424337,94.74888079241363,96.549433537019837,0,0,0,"","",0,1.8005527446062075,1.8005527446062075,0,0,0,0,0,1.8005527446062075,0.15690420949055736,0,0,0.16,0.48,0,0,"",5.501233439843773,0.13456610238817898,0.16,0,0.16,0.48,""]
["Vertical Force Analysis",null,null,null,null,null,null,null,null,null,null,null,null,null,null,null,null,null,"Left Stream Bed",{"$f":"($B$16-$B$15)/ABS($M$17)/ABS($M$19)","v":45.903709342011489},{"$f":"IF(AND(MIN($U$38:$U$39)>=$B$15,MAX($U$38:$U$39)<=$B$16),$E$22,IF(AND($T$34=\"No\",$T$33=\"No\"),0,IF(AND($T$33=\"Yes\",$T$34=\"No\"),$E$22-$U$48-$U$47,IF(AND($T$33=\"Yes\",$T$34=\"Yes\",$T$36=\"No\"),$E$22-$U$50-$U$48-$U$47,IF(AND($T$33=\"Yes\",$T$34=\"Yes\",$T$36=\"Yes\"),$E$22-$U$52-$U$51-$U$50-$U$48-$U$47,$E$22-$U$52-$U$51-$U$50)))))","v":19.542789098705654},{"$f":"IF($U$49=0,0,IF(OR($B$25=0,$B$25=180,$B$25=360),$U$38,$U$34+(($C$16-$X$34)/($AA$40-$AB$33))))","v":43.562475527269775},{"$f":"IF($U$49=0,0,IF(OR($B$25=0,$B$25=180,$B$25=360),(($U$38-$B$15)*$AB$33)+$C$15,$X$34+(($V$49-$U$34)*$AA$40)))","v":96.811527770313063},{"$f":"IF(OR($U$49=0,AND($C$25=0,$B$25=0),AND($C$25=0,$B$25=360),AND($C$25=0,$B$25=180)),0,IF(OR($B$25=0,$B$25=180,$B$25=360),$E$22-ABS(($X$39-$W$49)/$M$20),IF(AND($U$38<=$U$39,$X$38>=$Y$38),ABS(($X$38-$W$49)/($AA$40*$M$17*$M$19)),IF(AND($U$38<=$U$39,$X$38<$Y$38),ABS($E$22-(ABS(($X$38-$W$49)/($AA$40*$M$17*$M$19)))),IF(AND($U$38>$U$39,$X$39>=$Y$39),ABS(($X$39-$W$49)/($AA$40*$M$17*$M$19)),IF(AND($U$38>=$U$39,$X$39<$Y$39),ABS($E$22-(ABS(($X$38-$W$49)/($AA$40*$M$17*$M$19))))))))))","v":6.7076326845598544},{"$f":"IF(AND($U$49=0,$W$49=0),\"No\",IF(AND($V$49<=$B$16,$V$49>=$B$15,$V$49>=MIN($U$38:$U$39),$V$49<=MAX($U$38:$U$39),$W$49<$C$15,$X$49<=$E$22),\"Yes\",\"No\"))","v":"No"},{"$f":"IF($U$49=0,\"No\",IF($Y$49=\"Yes\",\"Partial\",IF(AND($U$49<$E$22,$X$39<$Y$39,$Y$47=\"No\",$Y$48=\"No\",$Y$49=\"No\",$Y$50=\"No\",$Y$51=\"No\",$Y$52=\"No\"),\"Yes\",IF(AND($Y$49=\"No\",$X$34>$Y$34),\"No\",\"Yes\"))))","v":"No"},{"$f":"IF($Z$49=\"Yes\",\"None\",IF(AND($Z$49=\"No\",$U$49=0),\"None\",IF($Z$49=\"No\",\"All\",IF(AND($X$39>=$Y$39,$U$39<=$U$38,$AA$48<>\"Left\"),\"Left\",\"Right\"))))","v":"All"},{"$f":"IF($U$49=0,0,IF($Z$49=\"No\",0,IF($Z$49=\"Yes\",$U$49,IF(OR($U$49=$E$22,AND($AA$49=\"Left\",MIN($U$38:$U$39)>=$B$15,MAX($U$38:$U$39)>=$B$16)),$U$49-(ABS(($U$39-$V$49)/($M$17*$M$19))),IF($AA$49=\"Left\",$U$49-(ABS(($B$15-$V$49)/($M$17*$M$19))),IF(MAX($U$38:$U$39)>=$B$16,$U$49-(ABS(($V$49-$B$16)/($M$17*$M$19))),ABS(($V$49-$B$15)/($M$17*$M$19))))))))","v":0},null,"Stem tip",{"$f":"AVERAGE(T12,T13)","v":47.210822203819063},{"$f":"AVERAGE(U12,U13)","v":95.753031452517035},null,null,4,0.64,"Left Bank",47.564130725662764,96.747408392862226,47.554625101917054,94.747484546733887,96.537151097716105,0,0,0,"","",0,1.7896665509822185,1.7896665509822185,0,0,0,0,0,1.7896665509822185,0.15595556213210038,0,0,0.16,0.64,0,0,"",5.5026296855235159,0.13442534379850188,0.16,0,0.16,0.64,""]
["Net Buoyancy Force",null,null,null,null,null,null,"Lift Force",null,null,null,null,null,null,null,null,null,null,"Right Stream Bed",{"$f":"($B$17-$B$16)/ABS($M$17)/ABS($M$19)","v":53.24830283673333},{"$f":"IF(AND(MIN($U$38:$U$39)>=$B$16,MAX($U$38:$U$39)<=$B$17),$E$22,IF(AND($T$35=\"No\",$T$36=\"No\"),0,IF(AND($T$36=\"Yes\",$T$35=\"No\"),$E$22-$U$51-$U$52,IF(AND($T$36=\"Yes\",$T$35=\"Yes\"),$E$22-$W$35-$U$51-$U$52,$E$22-$W$35))))","v":0},{"$f":"IF($U$50=0,0,IF(OR($B$25=0,$B$25=180,$B$25=360),$U$38,$U$35+(($X$35-$C$16)/($AB$34-$AA$40))))","v":0},{"$f":"IF($U$50=0,0,IF(OR($B$25=0,$B$25=180,$B$25=360),(($U$38-$B$16)*$AB$34)+$C$16,$X$35+(($V$50-$U$35)*$AA$40)))","v":0},{"$f":"IF(OR($U$50=0,AND($C$25=0,$B$25=0),AND($C$25=0,$B$25=360),AND($C$25=0,$B$25=180)),0,IF(OR($B$25=0,$B$25=180,$B$25=360),$E$22-ABS(($X$39-$W$50)/$M$20),IF(AND($U$38<=$U$39,$X$38>=$Y$38),ABS(($X$38-$W$50)/($AA$40*$M$17*$M$19)),IF(AND($U$38<=$U$39,$X$38<$Y$38),ABS($E$22-(ABS(($X$38-$W$50)/($AA$40*$M$17*$M$19)))),IF(AND($U$38>$U$39,$X$39>=$Y$39),ABS(($X$39-$W$50)/($AA$40*$M$17*$M$19)),IF(AND($U$38>=$U$39,$X$39<$Y$39),ABS($E$22-(ABS(($X$38-$W$50)/($AA$40*$M$17*$M$19))))))))))","v":0},{"$f":"IF(AND($U$50=0,$W$50=0),\"No\",IF(AND($V$50<=$B$17,$V$50>=$B$16,$V$50>=MIN($U$38:$U$39),$V$50<=MAX($U$38:$U$39),$W$50<$C$17,$X$50<=$E$22),\"Yes\",\"No\"))","v":"No"},{"$f":"IF($U$50=0,\"No\",IF($Y$50=\"Yes\",\"Partial\",IF(AND($U$50<$E$22,$X$39<$Y$39,$Y$47=\"No\",$Y$48=\"No\",$Y$49=\"No\",$Y$50=\"No\",$Y$51=\"No\",$Y$52=\"No\"),\"Yes\",IF(AND($Y$50=\"No\",$X$35>$Y$35),\"No\",\"Yes\"))))","v":"No"},{"$f":"IF($Z$50=\"Yes\",\"None\",IF(AND($Z$50=\"No\",$U$50=0),\"None\",IF($Z$50=\"No\",\"All\",IF(AND($X$39>=$Y$39,$U$39>=$U$38,$AA$51<>\"Right\"),\"Right\",\"Left\"))))","v":"None"},{"$f":"IF($U$50=0,0,IF($Z$50=\"No\",0,IF($Z$50=\"Yes\",$U$50,IF(OR($U$50=$E$22,AND($AA$50=\"Right\",MIN($U$38:$U$39)<=$B$16,MAX($U$38:$U$39)<=$B$17)),$U$50-(ABS(($U$39-$V$50)/($M$17*$M$19))),IF($AA$50=\"Right\",$U$50-(ABS(($B$17-$V$50)/($M$17*$M$19))),IF(MIN($U$38:$U$39)<=$B$16,$U$50-(ABS(($V$50-$B$16)/($M$17*$M$19))),ABS(($V$50-$B$17)/($M$17*$M$19))))))))","v":0},null,null,null,null,null,null,5,0.8,"Left Bank",47.651269653155481,96.746012147182483,47.641764029409764,94.746088301054144,96.524868658412373,0,0,0,"","",0,1.7787803573582295,1.7787803573582295,0,0,0,0,0,1.7787803573582295,0.15500691477364337,0,0,0.16,0.8,0,0,"",5.5040259312032589,0.13428473244486863,0.16,0,0.16,0.8,""]
["Wood","VTS (ft3)","VRW (ft3)","VT (ft3)","WT (lbf)","FB (lbf)",null,"CLT",{"$f":"$BK$43","v":1.3063713562820324E-2},null,null,null,null,{"$f":"IF(OR($D$22=\"\",$D$22=\"No\"),\"\",\"Rootwad Position\")","v":"Rootwad Position"},null,null,null,null,"Right Bank",{"$f":"($B$18-$B$17)/ABS($M$17)/ABS($M$19)","v":34.886819099928736},{"$f":"IF(AND(MIN($U$38:$U$39)>=$B$17,MAX($U$38:$U$39)<=$B$18),$E$22,IF(AND($T$36=\"No\",$T$37=\"No\"),0,$E$22-$W$36-$U$52))","v":0},{"$f":"IF($U$51=0,0,IF(OR($B$25=0,$B$25=180,$B$25=360),$U$38,$U$36+(($X$36-$C$17)/($AB$35-$AA$40))))","v":0},{"$f":"IF($U$51=0,0,IF(OR($B$25=0,$B$25=180,$B$25=360),(($U$38-$B$17)*$AB$35)+$C$17,$X$36+(($V$51-$U$36)*$AA$40)))","v":0},{"$f":"IF($U$51=0,0,IF(OR($B$25=0,$B$25=180,$B$25=360),$E$22-ABS(($X$39-$W$51)/$M$20),IF(AND($U$38<=$U$39,$X$38>=$Y$38),ABS(($X$38-$W$51)/($AA$40*$M$17*$M$19)),IF(AND($U$38<=$U$39,$X$38<$Y$38),ABS($E$22-(ABS(($X$38-$W$51)/($AA$40*$M$17*$M$19)))),IF(AND($U$38>$U$39,$X$39>=$Y$39),ABS(($X$39-$W$51)/($AA$40*$M$17*$M$19)),IF(AND($U$38>=$U$39,$X$39<$Y$39),ABS($E$22-(ABS(($X$38-$W$51)/($AA$40*$M$17*$M$19))))))))))","v":0},{"$f":"IF(AND($U$51=0,$W$51=0),\"No\",IF(AND($V$51<=$B$18,$V$51>=$B$17,$V$51>=MIN($U$38:$U$39),$V$51<=MAX($U$38:$U$39),$W$51<$C$18,$X$51<=$E$22),\"Yes\",\"No\"))","v":"No"},{"$f":"IF($U$51=0,\"No\",IF($Y$51=\"Yes\",\"Partial\",IF(AND($U$51<$E$22,$X$39<$Y$39,$Y$47=\"No\",$Y$48=\"No\",$Y$49=\"No\",$Y$50=\"No\",$Y$51=\"No\",$Y$52=\"No\"),\"Yes\",IF(AND($Y$51=\"No\",$X$36>$Y$36),\"No\",\"Yes\"))))","v":"No"},{"$f":"IF($Z$51=\"Yes\",\"None\",IF(AND($Z$51=\"No\",$U$51=0),\"None\",IF($Z$51=\"No\",\"All\",IF(AND($X$39>=$Y$39,$U$39>=$U$38,$AA$52<>\"Right\"),\"Right\",\"Left\"))))","v":"None"},{"$f":"IF($U$51=0,0,IF($Z$51=\"No\",0,IF($Z$51=\"Yes\",$U$51,IF(OR($U$51=$E$22,AND($AA$51=\"Right\",MIN($U$38:$U$39)<=$B$17,MAX($U$38:$U$39)<=$B$18)),$U$51-(ABS(($U$39-$V$51)/($M$17*$M$19))),IF($AA$51=\"Right\",$U$51-(ABS(($B$18-$V$51)/($M$17*$M$19))),IF(MIN($U$38:$U$39)<=$B$17,$U$51-(ABS(($V$51-$B$17)/($M$17*$M$19))),ABS(($V$51-$B$18)/($M$17*$M$19))))))))","v":0},null,null,null,null,null,null,6,0.96,"Left Bank",47.738408580648191,96.74461590150274,47.728902956902473,94.744692055374401,96.512586219108627,0,0,0,"","",0,1.7678941637342263,1.7678941637342263,0,0,0,0,0,1.7678941637342263,0.15405826741518516,0,0,0.16,0.96,0,0,"",5.5054221768830018,0.13414426817326774,0.16,0,0.16,0.96,""]
["↑WSE",{"$f":"IF(OR($E$22=\"\",$F$22=\"\"),0,IF($AH$17=\"Case 1\",$AL$17-$AJ$21,IF($AH$17=\"Case 2\",$AL$17-$AJ$26,IF($AH$17=\"Case 3\",$AL$17-$AJ$30,IF($AH$17=\"Case 4\",$AL$17-$AJ$37,IF($AH$17=\"Log is completely submerged\",0,IF($AH$17=\"Stem is dry\",PI()*(($F$22/2)^2)*($E$22-$G$22),\"\")))))))","v":0},{"$f":"IF(OR($E$22=\"\",$F$22=\"\",$D$22=\"No\",$D$22=\"\"),0,$BL$40*(1-RWporosity))","v":0},{"$f":"B52+C52","v":0},{"$f":"IF($I$22=\"\",0,($B$52*$I$22)+($C$52*$I$22))","v":0},0,null,"FL (lbf)",{"$f":"IF($J$6=\"\",0,$I$51*$J$25*SWWater*(($J$6^2)/(2*g)))","v":11.807154350250796},null,null,null,null,{"$f":"IF($D$22=\"\",\"\",IF($D$22=\"No\",\"No Rootwad\",IF($U$15>=$AE$8,\"Above high water\",IF($U$10<=$C$16,\"Buried in bed\",IF(OR($AE$48<=$B$14,$AE$48>=$B$18),\"On bank/buried in bank\",\"Exposed in stream\")))))","v":"Exposed in stream"},null,null,null,null,"RB Floodplain",{"$f":"($B$19-$B$18)/ABS($M$17)/ABS($M$19)","v":42.231412594650578},{"$f":"IF(MIN($U$38:$U$39)>=$B$18,$E$22,IF($T$37=\"No\",0,$E$22-$W$37))","v":0},{"$f":"IF($U$52=0,0,IF(OR($B$25=0,$B$25=180,$B$25=360),$U$38,$U$37+(($X$37-$C$18)/($AB$36-$AA$40))))","v":0},{"$f":"IF($U$52=0,0,IF(OR($B$25=0,$B$25=180,$B$25=360),(($U$38-$B$18)*$AB$36)+$C$18,$X$37+(($V$52-$U$37)*$AA$40)))","v":0},{"$f":"IF($U$52=0,0,IF(OR($B$25=0,$B$25=180,$B$25=360),$E$22-ABS(($X$39-$W$52)/$M$20),IF(AND($U$38<=$U$39,$X$38>=$Y$38),ABS(($X$38-$W$52)/($AA$40*$M$17*$M$19)),IF(AND($U$38<=$U$39,$X$38<$Y$38),ABS($E$22-(ABS(($X$38-$W$52)/($AA$40*$M$17*$M$19)))),IF(AND($U$38>$U$39,$X$39>=$Y$39),ABS(($X$39-$W$52)/($AA$40*$M$17*$M$19)),IF(AND($U$38>=$U$39,$X$39<$Y$39),ABS($E$22-(ABS(($X$38-$W$52)/($AA$40*$M$17*$M$19))))))))))","v":0},{"$f":"IF(AND($U$52=0,$W$52=0),\"No\",IF(AND($V$52<=$B$19,$V$52>=$B$18,$V$52>=MIN($U$38:$U$39),$V$52<=MAX($U$38:$U$39),$W$52<$C$19,$X$52<=$E$22),\"Yes\",\"No\"))","v":"No"},{"$f":"IF($U$52=0,\"No\",IF($Y$52=\"Yes\",\"Partial\",IF(AND($U$52<$E$22,$X$39<$Y$39,$Y$47=\"No\",$Y$48=\"No\",$Y$49=\"No\",$Y$50=\"No\",$Y$51=\"No\",$Y$52=\"No\"),\"Yes\",IF(AND($Y$52=\"No\",$X$37>$Y$37),\"No\",\"Yes\"))))","v":"No"},{"$f":"IF($Z$52=\"Yes\",\"None\",IF(AND($Z$52=\"No\",$U$52=0),\"None\",IF($Z$52=\"No\",\"All\",IF(AND($X$39>=$Y$39,$U$39>=$U$38),\"Right\",\"Left\"))))","v":"None"},{"$f":"IF($U$52=0,0,IF($Z$52=\"No\",0,IF($Z$52=\"Yes\",$U$52,IF(OR($AA$52=\"Right\",$U$52=$E$22),$U$52-(ABS(($U$39-$V$52)/($M$17*$M$19))),$U$52-(ABS(($V$52-$B$18)/($M$17*$M$19)))))))","v":0},null,null,null,null,null,null,7,1.1200000000000001,"Left Bank",47.8255475081409,96.743219655822998,47.816041884395183,94.743295809694658,96.500303779804895,0,0,0,"","",0,1.7570079701102372,1.7570079701102372,0,0,0,0,0,1.7570079701102372,0.15310962005672818,0,0,0.16,1.1200000000000001,0,0,"",5.5068184225627448,0.13400395082984881,0.16,0,0.16,1.1200000000000001,""]
["↓WS↑Thw",{"$f":"IF(OR($E$22=\"\",$F$22=\"\"),0,IF(AND(MIN($U$10:$U$15)>=$C$16,MAX($U$10:$U$15)<=$AE$8),PI()*(($F$22/2)^2)*($E$22-$G$22),(PI()*(($F$22/2)^2)*($E$22-$G$22))-$B$52-$B$54))","v":91.106186954104004},{"$f":"IF(OR($F$22=\"\",$D$22=\"No\"),0,((1/3)*PI()*(($H$22/2)^2+($F$22/2)^2+(($H$22/2)*($F$22/2)))*$G$22*(1-RWporosity))-$C$52-$C$54)","v":32.581822584198051},{"$f":"B53+C53","v":123.68800953830205},{"$f":"IF($I$22=\"\",0,($B$53*$I$22)+($C$53*$I$22))","v":4322.1538053064269},{"$f":"($D$53*SWWater)","v":7718.1317951900483},null,"Vertical Force Balance",null,null,null,"Formatting",null,null,null,null,null,null,null,"L check",{"$f":"SUM(U47:U52)","v":32},{"$f":"IF($U$53=$E$22,\"OK\",\"ERROR\")","v":"OK"},null,null,null,null,"Total",{"$f":"SUM(AB47:AB52)","v":0},null,null,null,null,null,null,8,1.28,"Left Bank",47.91268643563361,96.741823410143255,47.903180811887893,94.741899564014915,96.488021340501163,0,0,0,"","",0,1.7461217764862482,1.7461217764862482,0,0,0,0,0,1.7461217764862482,0.15216097269827122,0,0,0.16,1.28,0,0,"",5.5082146682424877,0.13386378026092219,0.16,0,0.16,1.28,""]
["↓Thalweg",{"$f":"IF(OR($E$22=\"\",$F$22=\"\"),0,IF($AS$17=\"Case 1\",$AU$21,IF($AS$17=\"Case 2\",$AU$26,IF($AS$17=\"Case 3\",$AU$30,IF($AS$17=\"Case 4\",$AU$37,IF($AS$17=\"Log is completely submerged\",PI()*(($F$22/2)^2)*($E$22-$G$22),IF($AS$17=\"Stem is dry\",0,\"\")))))))","v":0},{"$f":"IF(OR($E$22=\"\",$F$22=\"\",$D$22=\"No\",$D$22=\"\"),0,$BO$40*(1-RWporosity))","v":9.0741013135800963E-2},{"$f":"B54+C54","v":9.0741013135800963E-2},{"$f":"IF($J$22=\"\",0,($B$54*$J$22)+($C$54*$J$22))","v":3.5388995122962377},{"$f":"($D$54*SWWater)","v":5.6622392196739799},null,"FB (lbf)",{"$f":"$F$55","v":7723.7940344097224},{"$f":"IF($L54=0,\"\",IF($L54>0,CHAR(233),CHAR(234)))","v":"é"},null,{"$f":"$F$55","v":7723.7940344097224},null,"check:",{"$f":"IF(OR($D$22=\"\",$B$25=\"\",$N$52=\"\"),\"\",IF($D$22=\"No\",\"use CD stem\",IF(AND($D$22=\"Yes\",$N$52=\"Exposed in stream\"),\"use CD RW\",\"use CD stem\")))","v":"use CD RW"},null,null,null,null,null,null,null,null,null,null,null,null,null,null,null,null,null,null,null,9,1.44,"Left Bank",47.99982536312632,96.740427164463512,47.990319739380602,94.740503318335172,96.475738901197431,0,0,0,"","",0,1.7352355828622592,1.7352355828622592,0,0,0,0,0,1.7352355828622592,0.15121232533981424,0,0,0.16,1.44,0,0,"",5.5096109139222307,0.1337237563129593,0.16,0,0.16,1.44,""]
["Total",{"$f":"$B$52+$B$53+$B$54","v":91.106186954104004},{"$f":"$C$52+$C$53+$C$54","v":32.672563597333848},{"$f":"$D$52+$D$53+$D$54","v":123.77875055143785},{"$f":"$E$52+$E$53+$E$54","v":4325.6927048187235},{"$f":"$F$53+$F$54+$F$52","v":7723.7940344097224},null,"FL (lbf)",{"$f":"$I$52","v":11.807154350250796},"é",null,{"$f":"$I$52","v":11.807154350250796},null,"CDi for Stem Only (i.e., RW is not in contact with streamflow)",null,null,null,null,"Coordinates of Large Wood Bottom at Key Points",null,null,null,null,null,null,null,null,null,null,null,null,null,null,null,10,1.6,"Left Bank",48.086964290619029,96.739030918783769,48.077458666873312,94.739107072655429,96.463456461893699,0,0,0,"","",0,1.7243493892382702,1.7243493892382702,0,0,0,0,0,1.7243493892382702,0.15026367798135723,0,0,0.16,1.6,0,0,"",5.5110071596019736,0.13358387883259165,0.16,0,0.16,1.6,""]
[null,null,null,null,null,null,null,"WT (lbf)",{"$f":"$E$55","v":4325.6927048187235},"ê",null,{"$f":"-$E$55","v":-4325.6927048187235},null,"Adjusted q (deg)","CDi Stem only1",null,null,null,null,"Wood Present?","Large Wood Parameters",null,null,null,"Soil",null,null,null,null,null,null,null,null,null,11,1.76,"Left Bank",48.174103218111739,96.737634673104026,48.164597594366022,94.737710826975686,96.451174022589967,0,0,0,"","",0,1.7134631956142812,1.7134631956142812,0,0,0,0,0,1.7134631956142812,0.14931503062290027,0,0,0.16,1.76,0,0,"",5.5124034052817166,0.13344414766661158,0.16,0,0.16,1.76,""]
["Soil Ballast Force",null,null,null,null,null,null,"Fsoil (lbf)",{"$f":"$E$61","v":0},"",null,{"$f":"-$E$61","v":0},null,{"$f":"IF(OR($O$54=\"\",$O$54=\"use CD RW\"),\"\",IF($B$25<-180,\"Error\",IF($B$25<-90,$B$25+180,IF($B$25<0,-$B$25,IF($B$25<=90,$B$25,IF($B$25<=180,180-$B$25,IF($B$25<=270,$B$25-180,IF($B$25<=360,360-$B$25,\"Error\"))))))))","v":""},{"$f":"IF($O$54=\"use CD stem\",(1.1173-((5.28*10^-2)*$N$57)+((1.4385*10^-3)*$N$57^2)-((9.7668*10^-6)*$N$57^3)),\"\")","v":""},null,null,null,null,null,"xTS (ft)","Dist (ft)","Adjusted Dist (ft)","yTS (ft)","ysoil (ft)",null,null,null,null,null,null,null,null,null,12,1.92,"Left Bank",48.261242145604449,96.736238427424283,48.251736521858732,94.736314581295943,96.438891583286221,0,0,0,"","",0,1.7025770019902779,1.7025770019902779,0,0,0,0,0,1.7025770019902779,0.14836638326444207,0,0,0.16,1.92,0,0,"",5.5137996509614595,0.13330456266197166,0.16,0,0.16,1.92,""]
["Soil","Vdry (ft3)","Vsat (ft3)","Vsoil (ft3)","Fsoil (lbf)",null,null,"FW,V (lbf)",{"$f":"ABS($L$99)","v":0},{"$f":"IF($L58=0,\"\",IF($L58>0,CHAR(233),CHAR(234)))","v":""},null,{"$f":"$L$99","v":0},"Flex","1Applies Gippel et al (1996) Formula:",null,null,null,null,"At Left Bank Top",{"$f":"IF(OR($F$25=\"\",$G$25=\"\"),\"No\",IF(MIN($U$40:$U$41)>$B$14,\"No\",IF(MAX($U$40:$U$41)<$B$14,\"No\",\"Yes\")))","v":"No"},{"$f":"$B$14","v":33},{"$f":"IF(OR($B$25=0,$B$25=180,$B$25=360),0,IF($T$14>$T$13,$G$22+((($T$14-$B$14)/ABS($M$17))/$M$19),(($T$13-$B$14)/ABS($M$17))/$M$19))","v":58.084451210413789},{"$f":"IF(V58<0,0,IF(V58>$E$22,$E$22,V58))","v":32},{"$f":"IF($T$14>$T$13,$U$14+(($V$58-$G$22)*$M$20),$U$13-($V$58*$M$20))","v":94.980696418896116},{"$f":"$C$14","v":98.59},null,null,null,null,null,null,null,null,null,13,2.08,"Left Bank",48.348381073097165,96.73484218174454,48.338875449351448,94.7349183356162,96.426609143982489,0,0,0,"","",0,1.6916908083662889,1.6916908083662889,0,0,0,0,0,1.6916908083662889,0.14741773590598509,0,0,0.16,2.08,0,0,"",5.5151958966412025,0.13316512366578442,0.16,0,0.16,2.08,""]
["Bed",{"$f":"IF(AND($H$28=\"\",$H$29=\"\"),0,$AZ$43)","v":0},{"$f":"IF(AND($H$28=\"\",$H$29=\"\"),0,$BA$43)","v":0},{"$f":"B59+C59","v":0},{"$f":"IF(OR($D$28=\"\",$E$28=\"\"),0,($B$59*$D$28)+($C$59*$E$28))","v":0},null,null,"FA,V (lbf)",{"$f":"ABS($L$59)+ABS($M$59)","v":0},{"$f":"IF(($L59+M59)=0,\"\",IF(($L59+M59)>0,CHAR(233),CHAR(234)))","v":""},null,{"$f":"$L$86","v":0},{"$f":"$L$92","v":0},"CDi = 1.1173 - (5.2800*10-2) q + (1.4385*10-3) q2 - (9.7668*10-6) q3",null,null,null,null,"At Left Bank Toe",{"$f":"IF(OR($F$25=\"\",$G$25=\"\"),\"No\",IF(MIN($U$40:$U$41)>$B$15,\"No\",IF(MAX($U$40:$U$41)<$B$15,\"No\",\"Yes\")))","v":"Yes"},{"$f":"$B$15","v":54},{"$f":"IF(OR($B$25=0,$B$25=180,$B$25=360),0,IF($T$14>$T$13,$G$22+((($T$14-$B$15)/ABS($M$17))/$M$19),(($T$13-$B$15)/ABS($M$17))/$M$19))","v":19.525335363124139},19.525335363124139,{"$f":"IF($T$14>$T$13,$U$14+(($V$59-$G$22)*$M$20),$U$13-($V$59*$M$20))","v":94.644208925668835},{"$f":"$C$15","v":95.63},null,null,null,null,null,null,null,null,null,14,2.2400000000000002,"Left Bank",48.435520000589875,96.733445936064797,48.426014376844158,94.733522089936457,96.414326704678757,0,0,0,"","",0,1.6808046147422999,1.6808046147422999,0,0,0,0,0,1.6808046147422999,0.1464690885475281,0,0,0.16,2.2400000000000002,0,0,"",5.5165921423209454,0.13302583052532249,0.16,0,0.16,2.2400000000000002,""]
["Bank",{"$f":"IF(AND($H$28=\"\",$H$29=\"\"),0,$BB$43)","v":0},{"$f":"IF(AND($H$28=\"\",$H$29=\"\"),0,$BC$43)","v":0},{"$f":"B60+C60","v":0},{"$f":"IF(OR($D$29=\"\",$E$29=\"\"),0,($B$60*$D$29)+($C$60*$E$29))","v":0},null,null,"S FV (lbf)",{"$f":"ABS($L$60)","v":3409.9084839412499},"é","Additional resisting force (lbf) needed:",{"$f":"$L$54+$L$55+$L$56+$L$57+$L$58+$L$59+$M$59","v":3409.9084839412499},null,null,null,null,null,null,"At Left Thalweg",{"$f":"IF(OR($F$25=\"\",$G$25=\"\"),\"No\",IF(AND(MAX($U$40:$U$41)>$B$16,MIN($U$40:$U$41)<$B$16),\"Yes\",\"No\"))","v":"No"},{"$f":"$B$16","v":79},{"$f":"IF(OR($B$25=0,$B$25=180,$B$25=360),0,IF($T$14>$T$13,$G$22+((($T$14-$B$16)/ABS($M$17))/$M$19),(($T$13-$B$16)/ABS($M$17))/$M$19))","v":-26.378373978887357},0,{"$f":"IF($T$14>$T$13,$U$14+(($V$60-$G$22)*$M$20),$U$13-($V$60*$M$20))","v":94.243628576588733},{"$f":"$C$16","v":92.8},null,null,null,null,null,null,null,null,null,15,2.4,"Left Bank",48.522658928082585,96.732049690385054,48.513153304336868,94.732125844256714,96.402044265375025,0,0,0,"","",0,1.6699184211183109,1.6699184211183109,0,0,0,0,0,1.6699184211183109,0.14552044118907112,0,0,0.16,2.4,0,0,"",5.5179883880006884,0.13288668308801785,0.16,0,0.16,2.4,""]
["Total",{"$f":"$B$59+$B$60","v":0},{"$f":"$C$59+$C$60","v":0},{"$f":"$D$59+$D$60","v":0},{"$f":"$E$59+$E$60","v":0},null,null,"FSV",{"$f":"IF(OR($E$22=\"\",$F$22=\"\",$F$25=\"\",$G$25=\"\"),0,IF($L$58>=0,($I$56+$I$57+$I$59)/($I$54+$I$55+$I$58),($I$56+$I$57+$I$58+$I$59)/($I$54+$I$55)))","v":0.55919282797361192},{"$f":"$I$61-$L$61","v":-0.94080717202638808},{"$f":"IF(AND($F$25=\"\",$G$25=\"\"),\"\",IF($I$61>=$L$61,\"Structure is Vertically Stable\",IF(AND($I$61<$L$61,$L$58>=0),$L$61*($L$54+$L$55+$L$58)-(-$L$56-$L$57-$L$59-$M$59),IF(AND($I$61<$L$61,$L$58<0),$L$61*($L$54+$L$55)-(-$L$56-$L$57-$L$59-$M$59-$L$58),\"\"))))","v":7277.7090783212361},{"$f":"'2-Constants'!$C$5","v":1.5},null,"CD Stem with Exposed RW Lookup Table",null,null,null,null,"At Right Thalweg",{"$f":"IF(OR($F$25=\"\",$G$25=\"\"),\"No\",IF(AND(MAX($U$40:$U$41)>$B$16,MIN($U$40:$U$41)<$B$16),\"Yes\",\"No\"))","v":"No"},{"$f":"$B$16","v":79},{"$f":"IF(OR($B$25=0,$B$25=180,$B$25=360),0,IF($T$14<$T$13,$G$22+((($B$16-$T$14)/ABS($M$17))/$M$19),(($B$16-$T$13)/ABS($M$17))/$M$19))","v":58.37837397888736},32,{"$f":"IF($T$14<$T$13,$U$14+(($V$61-$G$22)*$M$20),$U$13-($V$61*$M$20))","v":94.243628576588748},{"$f":"$C$16","v":92.8},null,null,null,null,null,null,null,null,null,16,2.56,"Left Bank",48.609797855575295,96.730653444705311,48.600292231829577,94.730729598576971,96.389761826071293,0,0,0,"","",0,1.6590322274943219,1.6590322274943219,0,0,0,0,0,1.6590322274943219,0.14457179383061414,0,0,0.16,2.56,0,0,"",5.5193846336804313,0.13274768120146252,0.16,0,0.16,2.56,""]
[null,null,null,null,null,null,null,null,null,null,{"$f":"IF($K$61<>\"Structure is Vertically Stable\",\"\",IF($K$61=\"Structure is Vertically Stable\",IF($L$58>=0,($I$56+$I$57+$I$59)-(($I$58+$I$54+$I$55)*$L$61),($I$56+$I$57+$I$58+$I$59)-(($I$54+$I$55)*$L$61))))","v":""},null,null,"Adjusted q (deg)","CDi Stem + RW",null,null,null,"At Right Bank Toe",{"$f":"IF(OR($F$25=\"\",$G$25=\"\"),\"No\",IF(MAX($U$40:$U$41)<$B$17,\"No\",IF(MIN($U$40:$U$41)>$B$17,\"No\",\"Yes\")))","v":"No"},{"$f":"$B$17","v":108},{"$f":"IF(OR($B$25=0,$B$25=180,$B$25=360),0,IF($T$14<$T$13,$G$22+((($B$17-$T$14)/ABS($M$17))/$M$19),(($B$17-$T$13)/ABS($M$17))/$M$19))","v":111.6266768156207},32,{"$f":"IF($T$14<$T$13,$U$14+(($V$62-$G$22)*$M$20),$U$13-($V$62*$M$20))","v":93.778955371655826},{"$f":"$C$17","v":94.94},null,null,null,null,null,null,null,null,null,17,2.72,"Left Bank",48.696936783068004,96.729257199025568,48.687431159322287,94.729333352897228,96.377479386767561,0,0,0,"","",0,1.6481460338703329,1.6481460338703329,0,0,0,0,0,1.6481460338703329,0.14362314647215715,0,0,0.16,2.72,0,0,"",5.5207808793601743,0.13260882471340776,0.16,0,0.16,2.72,""]
["Horizontal Force Analysis",null,null,null,null,null,null,null,null,null,null,null,null,{"$f":"IF(OR($O$54=\"\",$O$54=\"use CD stem\"),\"\",IF(OR($B$25<-180,$B$25>360),\"Error\",IF($B$25>180,360-$B$25,IF($B$25<0,-$B$25,$B$25))))","v":33},{"$f":"IF(OR($O$54=\"\",$O$54=\"use CD stem\"),\"\",IF($B$25<22.5,(($B$25/22.5)*($O$67-$O$66)+$O$66),IF($B$25<45,((($B$25-$N$67)/22.5)*($O$68-$O$67)+$O$67),IF($B$25<67.5,((($B$25-$N$68)/22.5)*($O$69-$O$68)+$O$68),IF($B$25<90,((($B$25-$N$69)/22.5)*($O$70-$O$69)+$O$69),IF($B$25<112.5,((($B$25-$N$70)/22.5)*($O$71-$O$70)+$O$70),IF($B$25<135,((($B$25-$N$71)/22.5)*($O$72-$O$71)+$O$71),IF($B$25<157.5,((($B$25-$N$72)/22.5)*($O$73-$O$72)+$O$72),IF($B$25<=180,((($B$25-$N$74)/22.5)*($O$74-$O$73)+$O$74),$O$74)))))))))","v":1.1893333333333334},null,null,null,"At Right Bank Top",{"$f":"IF(OR($F$25=\"\",$G$25=\"\"),\"No\",IF(MAX($U$40:$U$41)<$B$18,\"No\",IF(MIN($U$40:$U$41)>$B$18,\"No\",\"Yes\")))","v":"No"},{"$f":"$B$18","v":127},{"$f":"IF(OR($B$25=0,$B$25=180,$B$25=360),0,IF($T$14<$T$13,$G$22+((($B$18-$T$14)/ABS($M$17))/$M$19),(($B$18-$T$13)/ABS($M$17))/$M$19))","v":146.51349591554941},32,{"$f":"IF($T$14<$T$13,$U$14+(($V$63-$G$22)*$M$20),$U$13-($V$63*$M$20))","v":93.474514306354948},{"$f":"$C$18","v":98.72},null,null,null,null,null,null,null,null,null,18,2.88,"Left Bank",48.784075710560714,96.727860953345825,48.774570086814997,94.727937107217485,96.365196947463815,0,0,0,"","",0,1.6372598402463296,1.6372598402463296,0,0,0,0,0,1.6372598402463296,0.14267449911369895,0,0,0.16,2.88,0,0,"",5.5221771250399172,0.13247011347176424,0.16,0,0.16,2.88,""]
["Drag Force",null,null,null,null,null,null,null,null,null,null,null,null,null,null,null,null,null,null,null,null,null,null,null,null,null,null,null,null,null,null,null,null,null,19,3.04,"Left Bank",48.871214638053424,96.726464707666082,48.861709014307706,94.726540861537742,96.352914508160083,0,0,0,"","",0,1.6263736466223406,1.6263736466223406,0,0,0,0,0,1.6263736466223406,0.14172585175524197,0,0,0.16,3.04,0,0,"",5.5235733707196601,0.13233154732460126,0.16,0,0.16,3.04,""]
["ATp / AW","FrL","CDi","Cw","CD*","FD (lbf)",null,"Horizontal Force Balance",null,null,null,"Formatting",null,"q (deg)","CDi Stem + RW",null,null,null,null,null,null,"Log Bottom and Soil Intercept",null,"Dist to Intercept","Intercept in Zone?","LW Buried?","Exposed Segment",null,null,null,null,null,null,null,20,3.2,"Left Bank",48.958353565546133,96.725068461986339,48.948847941800423,94.725144615857999,96.340632068856351,0,0,0,"","",0,1.6154874529983516,1.6154874529983516,0,0,0,0,0,1.6154874529983516,0.14077720439678498,0,0,0.16,3.2,0,0,"",5.5249696163994031,0.13219312612014752,0.16,0,0.16,3.2,""]
[{"$f":"IF(OR($A$6=\"\",$F$6=\"\"),0,$J$25/(VLOOKUP($A$6,SiteInfo,7,0)))","v":2.6319320857511461E-2},{"$f":"IF($A$6=\"\",0,$J$6/(($F$22*g)^0.5))","v":0.57752087841792843},{"$f":"IF($O$54=\"\",0,IF($O$54=\"use CD stem\",$O$57,$O$63))","v":1.1893333333333334},{"$f":"IF(OR($BM$43=\"\",$B$25=\"\"),0,IF($BN$43>0.43,0.43,$BN$43))","v":0.12180017033366351},{"$f":"IF(OR($F$22=\"\",$B$25=\"\"),0,0.997*($C$66+$D$66)*((1-$A$66)^-2.06))","v":1.381032743726673},{"$f":"IF(OR($E$66=\"\",$J$25=\"\"),0,$E$66*$J$25*SWWater*($J$6^2)/(2*g))","v":1248.1953687608921},null,"FD (lbf)",{"$f":"IF(AND($F$66=0,$I$71>0),0.4999,$F$66)","v":1248.1953687608921},{"$f":"IF($L$66=0,\"\",IF($L66>0,CHAR(232),CHAR(231)))","v":"è"},{"$f":"IF(AND($F$66=0,$I$71>0),\"NOTE - Tool has assumed the drag force = 0.49 lbf for FS calcs\",\"\")","v":""},{"$f":"$F$66","v":1248.1953687608921},null,0,1.2,null,null,null,null,"Zone L (ft)","Log L (ft)","xbottom (ft)","ybottom (ft)",null,null,null,null,"Lem,bot (ft)",null,null,null,null,null,null,21,3.36,"Left Bank",49.04549249303885,96.723672216306596,49.035986869293133,94.723748370178257,96.328349629552619,0,0,0,"","",0,1.6046012593743626,1.6046012593743626,0,0,0,0,0,1.6046012593743626,0.139828557038328,0,0,0.16,3.36,0,0,"",5.526365862079146,0.13205484970679029,0.16,0,0.16,3.36,""]
[null,null,null,null,null,null,null,"FP (lbf)",{"$f":"$C$72","v":0},{"$f":"IF($L$67=0,\"\",IF($L67>=0,CHAR(232),CHAR(231)))","v":""},{"$f":"IF(OR($M$59=0,$M$70=0),\"\",\"NOTE -- Mechanical soil anchors and deadman boulders provide equal resistance to vertical and horizontal forces.  The model first applies these anchor forces to resist the vertical forces, and then applies the balance to resist the horizontal forces.\")","v":""},{"$f":"-$C$72","v":0},null,22.5,1.25,null,null,null,"LB Floodplain",{"$f":"($B$14-$B$13)/ABS($M$17)/ABS($M$19)","v":60.592896331455172},{"$f":"IF(MAX($U$40:$U$41)<=$B$14,$E$22,IF($T$58=\"No\",0,$E$22-$W$58))","v":0},{"$f":"IF($U$67=0,0,IF(OR($B$25=0,$B$25=180,$B$25=360),$U$40,$U$58+(($X$58-$C$14)/($AB$31-$AA$40))))","v":0},{"$f":"IF($U$67=0,0,IF(OR($B$25=0,$B$25=180,$B$25=360),(($U$40-$B$13)*$AB$31)+$C$13,$X$58+(($V$67-$U$58)*$AA$40)))","v":0},{"$f":"IF($U$67=0,0,IF(OR($B$25=0,$B$25=180,$B$25=360),$E$22-ABS(($X$41-$W$67)/$M$20),IF(AND($U$40<=$U$41,$X$40>=$Y$40),ABS(($X$40-$W$67)/($AA$40*$M$17*$M$19)),IF(AND($U$40<=$U$41,$X$40<$Y$40),ABS($E$22-(ABS(($X$40-$W$67)/($AA$40*$M$17*$M$19)))),IF(AND($U$40>$U$41,$X$41>=$Y$41),ABS(($X$41-$W$67)/($AA$40*$M$17*$M$19)),IF(AND($U$40>=$U$41,$X$41<$Y$41),ABS($E$22-(ABS(($X$40-$W$67)/($AA$40*$M$17*$M$19))))))))))","v":0},{"$f":"IF(AND($U$67=0,$W$67=0),\"No\",IF(AND($V$67<=$B$14,$V$67>=$B$13,$V$67>=MIN($U$40:$U$41),$V$67<=MAX($U$40:$U$41),$W$67<$C$13,$X$67<=$E$22),\"Yes\",\"No\"))","v":"No"},{"$f":"IF($U$67=0,\"No\",IF($Y$67=\"Yes\",\"Partial\",IF(AND($U$67<$E$22,$X$41<$Y$41,$Y$67=\"No\",$Y$68=\"No\",$Y$69=\"No\",$Y$70=\"No\",$Y$71=\"No\",$Y$72=\"No\"),\"Yes\",IF(AND($Y$67=\"No\",$X$58>$Y$58),\"No\",\"Yes\"))))","v":"No"},{"$f":"IF($Z$67=\"Yes\",\"None\",IF(AND($Z$67=\"No\",$U$67=0),\"None\",IF($Z$67=\"No\",\"All\",IF(AND($X$41>=$Y$41,$U$41<=$U$40),\"Left\",\"Right\"))))","v":"None"},{"$f":"IF($U$67=0,0,IF($Z$67=\"No\",0,IF($Z$67=\"Yes\",$U$67,IF(OR($AA$67=\"Left\",$U$67=$E$22),$U$67-(ABS(($U$41-$V$67)/($M$17*$M$19))),$U$67-(ABS(($V$67-$B$14)/($M$17*$M$19)))))))","v":0},null,null,null,null,null,null,22,3.52,"Left Bank",49.13263142053156,96.722275970626853,49.123125796785843,94.722352124498514,96.316067190248887,0,0,0,"","",0,1.5937150657503736,1.5937150657503736,0,0,0,0,0,1.5937150657503736,0.13887990967987102,0,0,0.16,3.52,0,0,"",5.527762107758889,0.13191671793307552,0.16,0,0.16,3.52,""]
["Passive Soil Pressure",null,null,"Friction Force",null,null,null,"FF (lbf)",{"$f":"$F$72","v":0},{"$f":"IF($L$68=0,\"\",IF($L68>=0,CHAR(232),CHAR(231)))","v":""},null,{"$f":"-$F$72","v":0},null,45,1.1200000000000001,null,null,null,"Left Bank",{"$f":"($B$15-$B$14)/ABS($M$17)/ABS($M$19)","v":38.559115847289654},{"$f":"IF(AND(MIN($U$40:$U$41)>=$B$14,MAX($U$40:$U$41)<=$B$15),$E$22,IF(AND($T$59=\"No\",$T$58=\"No\"),0,$E$22-$W$59-$U$67))","v":12.474664636875861},{"$f":"IF($U$68=0,0,IF(OR($B$25=0,$B$25=180,$B$25=360),$U$40,$U$59+(($C$15-$X$59)/($AA$40-$AB$32))))","v":61.890800027639351},{"$f":"IF($U$68=0,0,IF(OR($B$25=0,$B$25=180,$B$25=360),(($U$40-$B$14)*$AB$32)+$C$14,$X$59+(($V$68-$U$59)*$AA$40)))","v":94.517772948485117},{"$f":"IF($U$68=0,0,IF(OR($B$25=0,$B$25=180,$B$25=360),$E$22-ABS(($X$41-$W$68)/$M$20),IF(AND($U$40<=$U$41,$X$40>=$Y$40),ABS(($X$40-$W$68)/($AA$40*$M$17*$M$19)),IF(AND($U$40<=$U$41,$X$40<$Y$40),ABS($E$22-(ABS(($X$40-$W$68)/($AA$40*$M$17*$M$19)))),IF(AND($U$40>$U$41,$X$41>=$Y$41),ABS(($X$41-$W$68)/($AA$40*$M$17*$M$19)),IF(AND($U$40>=$U$41,$X$41<$Y$41),ABS($E$22-(ABS(($X$40-$W$68)/($AA$40*$M$17*$M$19))))))))))","v":26.963344274663548},{"$f":"IF(AND($U$68=0,$W$68=0),\"No\",IF(AND($V$68<=$B$15,$V$68>=$B$14,$V$68>=MIN($U$40:$U$41),$V$68<=MAX($U$40:$U$41),$W$68<$C$14,$X$68<=$E$22),\"Yes\",\"No\"))","v":"No"},{"$f":"IF($U$68=0,\"No\",IF($Y$68=\"Yes\",\"Partial\",IF(AND($U$68<$E$22,$X$41<$Y$41,$Y$67=\"No\",$Y$68=\"No\",$Y$69=\"No\",$Y$70=\"No\",$Y$71=\"No\",$Y$72=\"No\"),\"Yes\",IF(AND($Y$68=\"No\",$X$59>$Y$59),\"No\",\"Yes\"))))","v":"Yes"},{"$f":"IF($Z$68=\"Yes\",\"None\",IF(AND($Z$68=\"No\",$U$68=0),\"None\",IF($Z$68=\"No\",\"All\",IF(AND($X$41>=$Y$41,$U$41<=$U$40,$AA$67<>\"Left\"),\"Left\",\"Right\"))))","v":"None"},{"$f":"IF($U$68=0,0,IF($Z$68=\"No\",0,IF($Z$68=\"Yes\",$U$68,IF(OR($U$68=$E$22,AND($AA$68=\"Left\",MIN($U$40:$U$41)>=$B$14,MAX($U$40:$U$41)>=$B$15)),$U$68-(ABS(($U$41-$V$68)/($M$17*$M$19))),IF($AA$68=\"Left\",$U$68-(ABS(($B$14-$V$68)/($M$17*$M$19))),IF(MAX($U$40:$U$41)>=$B$15,$U$68-(ABS(($V$68-$B$15)/($M$17*$M$19))),ABS(($V$68-$B$14)/($M$17*$M$19))))))))","v":12.474664636875861},null,null,null,null,null,null,23,3.68,"Left Bank",49.219770348024269,96.72087972494711,49.210264724278552,94.720955878818771,96.303784750945141,0,0,0,"","",0,1.5828288721263704,1.5828288721263704,0,0,0,0,0,1.5828288721263704,0.13793126232141281,0,0,0.16,3.68,0,0,"",5.5291583534386319,0.13177873064770754,0.16,0,0.16,3.68,""]
["Soil","KP","FP (lbf)","LTf (ft)","m","FF (lbf)",null,"FW,H (lbf)",{"$f":"ABS($M$99)","v":0},{"$f":"IF($L$69=0,\"\",IF($L69>=0,CHAR(232),CHAR(231)))","v":""},null,{"$f":"$M$99","v":0},"Flex",67.5,1.22,null,null,null,"Left Stream Bed",{"$f":"($B$16-$B$15)/ABS($M$17)/ABS($M$19)","v":45.903709342011489},{"$f":"IF(AND(MIN($U$40:$U$41)>=$B$15,MAX($U$40:$U$41)<=$B$16),$E$22,IF(AND($T$60=\"No\",$T$59=\"No\"),0,IF(AND($T$59=\"Yes\",$T$60=\"No\"),$E$22-$U$68-$U$67,IF(AND($T$59=\"Yes\",$T$60=\"Yes\",$T$62=\"No\"),$E$22-$U$70-$U$68-$U$67,IF(AND($T$59=\"Yes\",$T$60=\"Yes\",$T$62=\"Yes\"),$E$22-$U$72-$U$71-$U$70-$U$68-$U$67,$E$22-$U$72-$U$71-$U$70)))))","v":19.525335363124139},{"$f":"IF($U$69=0,0,IF(OR($B$25=0,$B$25=180,$B$25=360),$U$40,$U$60+(($C$16-$X$60)/($AA$40-$AB$33))))","v":64.144306212781018},{"$f":"IF($U$69=0,0,IF(OR($B$25=0,$B$25=180,$B$25=360),(($U$40-$B$15)*$AB$33)+$C$15,$X$60+(($V$69-$U$60)*$AA$40)))","v":94.481664536713183},{"$f":"IF($U$69=0,0,IF(OR($B$25=0,$B$25=180,$B$25=360),$E$22-ABS(($X$41-$W$69)/$M$20),IF(AND($U$40<=$U$41,$X$40>=$Y$40),ABS(($X$40-$W$69)/($AA$40*$M$17*$M$19)),IF(AND($U$40<=$U$41,$X$40<$Y$40),ABS($E$22-(ABS(($X$40-$W$69)/($AA$40*$M$17*$M$19)))),IF(AND($U$40>$U$41,$X$41>=$Y$41),ABS(($X$41-$W$69)/($AA$40*$M$17*$M$19)),IF(AND($U$40>=$U$41,$X$41<$Y$41),ABS($E$22-(ABS(($X$40-$W$69)/($AA$40*$M$17*$M$19))))))))))","v":31.101115991590916},{"$f":"IF(AND($U$69=0,$W$69=0),\"No\",IF(AND($V$69<=$B$16,$V$69>=$B$15,$V$69>=MIN($U$40:$U$41),$V$69<=MAX($U$40:$U$41),$W$69<$C$15,$X$69<=$E$22),\"Yes\",\"No\"))","v":"Yes"},{"$f":"IF($U$69=0,\"No\",IF($Y$69=\"Yes\",\"Partial\",IF(AND($U$69<$E$22,$X$41<$Y$41,$Y$67=\"No\",$Y$68=\"No\",$Y$69=\"No\",$Y$70=\"No\",$Y$71=\"No\",$Y$72=\"No\"),\"Yes\",IF(AND($Y$69=\"No\",$X$60>$Y$60),\"No\",\"Yes\"))))","v":"Partial"},{"$f":"IF($Z$69=\"Yes\",\"None\",IF(AND($Z$69=\"No\",$U$69=0),\"None\",IF($Z$69=\"No\",\"All\",IF(AND($X$41>=$Y$41,$U$41<=$U$40,$AA$68<>\"Left\"),\"Left\",\"Right\"))))","v":"Right"},{"$f":"IF($U$69=0,0,IF($Z$69=\"No\",0,IF($Z$69=\"Yes\",$U$69,IF(OR($U$69=$E$22,AND($AA$69=\"Left\",MIN($U$40:$U$41)>=$B$15,MAX($U$40:$U$41)>=$B$16)),$U$69-(ABS(($U$41-$V$69)/($M$17*$M$19))),IF($AA$69=\"Left\",$U$69-(ABS(($B$15-$V$69)/($M$17*$M$19))),IF(MAX($U$40:$U$41)>=$B$16,$U$69-(ABS(($V$69-$B$16)/($M$17*$M$19))),ABS(($V$69-$B$15)/($M$17*$M$19))))))))","v":18.626451354714451},null,null,null,null,null,null,24,3.84,"Left Bank",49.306909275516979,96.719483479267367,49.297403651771262,94.719559633139028,96.291502311641409,0,0,0,"","",0,1.5719426785023813,1.5719426785023813,0,0,0,0,0,1.5719426785023813,0.13698261496295586,0,0,0.16,3.84,0,0,"",5.5305545991183749,0.13164088769954874,0.16,0,0.16,3.84,""]
["Bed",{"$f":"IF(OR($A$6=\"\",$F$6=\"\",$F$25=\"\"),0,TAN((45+($F$28/2))*PI()/180)^2)","v":4.8149513101909616},{"$f":"IF($E$61=0,0,0.5*$B$70*$E$59)","v":0},{"$f":"IF($F$28=\"\",0,IF($U$15<$AF$47,$BP$43+2,$BP$43))","v":20.720000000000013},{"$f":"IF($F$28=\"\",0,TAN($F$28*PI()/180))","v":0.86928673781622645},{"$f":"IF(OR($L$60>=0,$D$70=0),0,$I$60*$E$70*($D$70/$D$72))","v":0},null,"FA,H (lbf)",{"$f":"ABS($L$70)+ABS($M$70)","v":0},{"$f":"IF(($L$70+M70)=0,\"\",IF(($L$70+M70)>=0,CHAR(232),CHAR(231)))","v":""},null,{"$f":"$M$86","v":0},{"$f":"$M$92","v":0},90,0.97,null,null,null,"Right Stream Bed",{"$f":"($B$17-$B$16)/ABS($M$17)/ABS($M$19)","v":53.24830283673333},{"$f":"IF(AND(MIN($U$40:$U$41)>=$B$16,MAX($U$40:$U$41)<=$B$17),$E$22,IF(AND($T$61=\"No\",$T$62=\"No\"),0,IF(AND($T$62=\"Yes\",$T$61=\"No\"),$E$22-$U$71-$U$72,IF(AND($T$62=\"Yes\",$T$61=\"Yes\"),$E$22-$W$61-$U$71-$U$72,$E$22-$W$61))))","v":0},{"$f":"IF($U$70=0,0,IF(OR($B$25=0,$B$25=180,$B$25=360),$U$40,$U$61+(($X$61-$C$16)/($AB$34-$AA$40))))","v":0},{"$f":"IF($U$70=0,0,IF(OR($B$25=0,$B$25=180,$B$25=360),(($U$40-$B$16)*$AB$34)+$C$16,$X$61+(($V$70-$U$61)*$AA$40)))","v":0},{"$f":"IF($U$70=0,0,IF(OR($B$25=0,$B$25=180,$B$25=360),$E$22-ABS(($X$41-$W$70)/$M$20),IF(AND($U$40<=$U$41,$X$40>=$Y$40),ABS(($X$40-$W$70)/($AA$40*$M$17*$M$19)),IF(AND($U$40<=$U$41,$X$40<$Y$40),ABS($E$22-(ABS(($X$40-$W$70)/($AA$40*$M$17*$M$19)))),IF(AND($U$40>$U$41,$X$41>=$Y$41),ABS(($X$41-$W$70)/($AA$40*$M$17*$M$19)),IF(AND($U$40>=$U$41,$X$41<$Y$41),ABS($E$22-(ABS(($X$40-$W$70)/($AA$40*$M$17*$M$19))))))))))","v":0},{"$f":"IF(AND($U$70=0,$W$70=0),\"No\",IF(AND($V$70<=$B$17,$V$70>=$B$16,$V$70>=MIN($U$40:$U$41),$V$70<=MAX($U$40:$U$41),$W$70<$C$17,$X$70<=$E$22),\"Yes\",\"No\"))","v":"No"},{"$f":"IF($U$70=0,\"No\",IF($Y$70=\"Yes\",\"Partial\",IF(AND($U$70<$E$22,$X$41<$Y$41,$Y$67=\"No\",$Y$68=\"No\",$Y$69=\"No\",$Y$70=\"No\",$Y$71=\"No\",$Y$72=\"No\"),\"Yes\",IF(AND($Y$70=\"No\",$X$61>$Y$61),\"No\",\"Yes\"))))","v":"No"},{"$f":"IF($Z$70=\"Yes\",\"None\",IF(AND($Z$70=\"No\",$U$70=0),\"None\",IF($Z$70=\"No\",\"All\",IF(AND($X$41>=$Y$41,$U$41>=$U$40,$AA$71<>\"Right\"),\"Right\",\"Left\"))))","v":"None"},{"$f":"IF($U$70=0,0,IF($Z$70=\"No\",0,IF($Z$70=\"Yes\",$U$70,IF(OR($U$70=$E$22,AND($AA$70=\"Right\",MIN($U$40:$U$41)<=$B$16,MAX($U$40:$U$41)<=$B$17)),$U$70-(ABS(($U$41-$V$70)/($M$17*$M$19))),IF($AA$70=\"Right\",$U$70-(ABS(($B$17-$V$70)/($M$17*$M$19))),IF(MIN($U$40:$U$41)<=$B$16,$U$70-(ABS(($V$70-$B$16)/($M$17*$M$19))),ABS(($V$70-$B$17)/($M$17*$M$19))))))))","v":0},null,null,null,null,null,null,25,4,"Left Bank",49.394048203009689,96.718087233587624,49.384542579263972,94.718163387459285,96.279219872337677,0,0,0,"","",0,1.5610564848783923,1.5610564848783923,0,0,0,0,0,1.5610564848783923,0.13603396760449885,0,0,0.16,4,0,0,"",5.5319508447981178,0.13150318893761984,0.16,0,0.16,4,""]
["Bank",{"$f":"IF(OR($A$6=\"\",$F$6=\"\",$F$25=\"\"),0,TAN((45+($F$29/2))*PI()/180)^2)","v":4.8149513101909616},{"$f":"IF($E$61=0,0,0.5*$B$71*$E$60)","v":0},{"$f":"IF($F$28=\"\",0,$BQ$43)","v":12.400000000000007},{"$f":"IF($F$28=\"\",0,TAN($F$29*PI()/180))","v":0.86928673781622645},{"$f":"IF(OR($L$60>=0,$D$71=0),0,$I$60*$E$71*($D$71/$D$72))","v":0},null,"S FH (lbf)",{"$f":"ABS($L$71)","v":1248.1953687608921},{"$f":"IF($L$71=0,\"\",IF($L71>=0,CHAR(232),CHAR(231)))","v":"è"},"Additional resisting force (lbf) needed:",{"$f":"$L$66+$L$67+$L$68+$L$69+$L$70+$M$70","v":1248.1953687608921},null,112.5,1,null,null,null,"Right Bank",{"$f":"($B$18-$B$17)/ABS($M$17)/ABS($M$19)","v":34.886819099928736},{"$f":"IF(AND(MIN($U$40:$U$41)>=$B$17,MAX($U$40:$U$41)<=$B$18),$E$22,IF(AND($T$62=\"No\",$T$63=\"No\"),0,$E$22-$W$62-$U$72))","v":0},{"$f":"IF($U$71=0,0,IF(OR($B$25=0,$B$25=180,$B$25=360),$U$40,$U$62+(($X$62-$C$17)/($AB$35-$AA$40))))","v":0},{"$f":"IF($U$71=0,0,IF(OR($B$25=0,$B$25=180,$B$25=360),(($U$40-$B$17)*$AB$35)+$C$17,$X$62+(($V$71-$U$62)*$AA$40)))","v":0},{"$f":"IF($U$71=0,0,IF(OR($B$25=0,$B$25=180,$B$25=360),$E$22-ABS(($X$41-$W$71)/$M$20),IF(AND($U$40<=$U$41,$X$40>=$Y$40),ABS(($X$40-$W$71)/($AA$40*$M$17*$M$19)),IF(AND($U$40<=$U$41,$X$40<$Y$40),ABS($E$22-(ABS(($X$40-$W$71)/($AA$40*$M$17*$M$19)))),IF(AND($U$40>$U$41,$X$41>=$Y$41),ABS(($X$41-$W$71)/($AA$40*$M$17*$M$19)),IF(AND($U$40>=$U$41,$X$41<$Y$41),ABS($E$22-(ABS(($X$40-$W$71)/($AA$40*$M$17*$M$19))))))))))","v":0},{"$f":"IF(AND($U$71=0,$W$71=0),\"No\",IF(AND($V$71<=$B$18,$V$71>=$B$17,$V$71>=MIN($U$40:$U$41),$V$71<=MAX($U$40:$U$41),$W$71<$C$18,$X$71<=$E$22),\"Yes\",\"No\"))","v":"No"},{"$f":"IF($U$71=0,\"No\",IF($Y$71=\"Yes\",\"Partial\",IF(AND($U$71<$E$22,$X$41<$Y$41,$Y$67=\"No\",$Y$68=\"No\",$Y$69=\"No\",$Y$70=\"No\",$Y$71=\"No\",$Y$72=\"No\"),\"Yes\",IF(AND($Y$71=\"No\",$X$62>$Y$62),\"No\",\"Yes\"))))","v":"No"},{"$f":"IF($Z$71=\"Yes\",\"None\",IF(AND($Z$71=\"No\",$U$71=0),\"None\",IF($Z$71=\"No\",\"All\",IF(AND($X$41>=$Y$41,$U$41>=$U$40,$AA$72<>\"Right\"),\"Right\",\"Left\"))))","v":"None"},{"$f":"IF($U$71=0,0,IF($Z$71=\"No\",0,IF($Z$71=\"Yes\",$U$71,IF(OR($U$71=$E$22,AND($AA$71=\"Right\",MIN($U$40:$U$41)<=$B$17,MAX($U$40:$U$41)<=$B$18)),$U$71-(ABS(($U$41-$V$71)/($M$17*$M$19))),IF($AA$71=\"Right\",$U$71-(ABS(($B$18-$V$71)/($M$17*$M$19))),IF(MIN($U$40:$U$41)<=$B$17,$U$71-(ABS(($V$71-$B$17)/($M$17*$M$19))),ABS(($V$71-$B$18)/($M$17*$M$19))))))))","v":0},null,null,null,null,null,null,26,4.16,"Left Bank",49.481187130502398,96.716690987907882,49.471681506756681,94.716767141779542,96.266937433033945,0,0,0,"","",0,1.5501702912544033,1.5501702912544033,0,0,0,0,0,1.5501702912544033,0.13508532024604189,0,0,0.16,4.16,0,0,"",5.5333470904778608,0.13136563421109951,0.16,0,0.16,4.16,""]
["Total","-",{"$f":"$C$70+$C$71","v":0},{"$f":"$D$70+$D$71","v":33.120000000000019},"-",{"$f":"$F$70+$F$71","v":0},null,"FSH",{"$f":"IF(OR($E$22=\"\",$F$22=\"\",$F$25=\"\",$G$25=\"\"),0,IF($I$66=0,0,IF($L$69>=0,($I$67+$I$68+$I$70)/($I$66+$I$69),($I$67+$I$68+$I$69+$I$70)/$I$66)))","v":0},{"$f":"$I$72-$L$72","v":-1.5},{"$f":"IF(AND($F$25=\"\",$G$25=\"\"),\"\",IF(OR($J$25=0,$I$72>=$L$72),\"Structure is Horizontally Stable\",IF(AND($I$72<$L$72,$L$69>=0),$L$72*($L$66+$L$69)-(-$L$67-$L$68-$L$70-$M$70),IF(AND($I$72<$L$72,$L$69<0),$L$72*($L$66)-(-$L$67-$L$68-$L$70-$M$70-$L$69),\"\"))))","v":1872.2930531413381},{"$f":"'2-Constants'!$C$6","v":1.5},null,135,0.81,null,null,null,"RB Floodplain",{"$f":"($B$19-$B$18)/ABS($M$17)/ABS($M$19)","v":42.231412594650578},{"$f":"IF(MIN($U$40:$U$41)>=$B$18,$E$22,IF($T$63=\"No\",0,$E$22-$W$63))","v":0},{"$f":"IF($U$72=0,0,IF(OR($B$25=0,$B$25=180,$B$25=360),$U$40,$U$63+(($X$63-$C$18)/($AB$36-$AA$40))))","v":0},{"$f":"IF($U$72=0,0,IF(OR($B$25=0,$B$25=180,$B$25=360),(($U$40-$B$18)*$AB$36)+$C$18,$X$63+(($V$72-$U$63)*$AA$40)))","v":0},{"$f":"IF($U$72=0,0,IF(OR($B$25=0,$B$25=180,$B$25=360),$E$22-ABS(($X$41-$W$72)/$M$20),IF(AND($U$40<=$U$41,$X$40>=$Y$40),ABS(($X$40-$W$72)/($AA$40*$M$17*$M$19)),IF(AND($U$40<=$U$41,$X$40<$Y$40),ABS($E$22-(ABS(($X$40-$W$72)/($AA$40*$M$17*$M$19)))),IF(AND($U$40>$U$41,$X$41>=$Y$41),ABS(($X$41-$W$72)/($AA$40*$M$17*$M$19)),IF(AND($U$40>=$U$41,$X$41<$Y$41),ABS($E$22-(ABS(($X$40-$W$72)/($AA$40*$M$17*$M$19))))))))))","v":0},{"$f":"IF(AND($U$72=0,$W$72=0),\"No\",IF(AND($V$72<=$B$19,$V$72>=$B$18,$V$72>=MIN($U$40:$U$41),$V$72<=MAX($U$40:$U$41),$W$72<$C$19,$X$72<=$E$22),\"Yes\",\"No\"))","v":"No"},{"$f":"IF($U$72=0,\"No\",IF($Y$72=\"Yes\",\"Partial\",IF(AND($U$72<$E$22,$X$41<$Y$41,$Y$67=\"No\",$Y$68=\"No\",$Y$69=\"No\",$Y$70=\"No\",$Y$71=\"No\",$Y$72=\"No\"),\"Yes\",IF(AND($Y$72=\"No\",$X$63>$Y$63),\"No\",\"Yes\"))))","v":"No"},{"$f":"IF($Z$72=\"Yes\",\"None\",IF(AND($Z$72=\"No\",$U$72=0),\"None\",IF($Z$72=\"No\",\"All\",IF(AND($X$41>=$Y$41,$U$41>=$U$40),\"Right\",\"Left\"))))","v":"None"},{"$f":"IF($U$72=0,0,IF($Z$72=\"No\",0,IF($Z$72=\"Yes\",$U$72,IF(OR($AA$72=\"Right\",$U$72=$E$22),$U$72-(ABS(($U$41-$V$72)/($M$17*$M$19))),$U$72-(ABS(($V$72-$B$18)/($M$17*$M$19)))))))","v":0},null,null,null,null,null,null,27,4.32,"Left Bank",49.568326057995108,96.715294742228139,49.558820434249391,94.715370896099799,96.254654993730213,0,0,0,"","",0,1.5392840976304143,1.5392840976304143,0,0,0,0,0,1.5392840976304143,0.13413667288758491,0,0,0.16,4.32,0,0,"",5.5347433361576037,0.13122822336932399,0.16,0,0.16,4.32,""]
[null,null,null,null,null,null,null,null,null,null,{"$f":"IF($K$72<>\"Structure is Horizontally Stable\",\"\",IF($K$72=\"Structure is Horizontally Stable\",IF($L$69>=0,($I$67+$I$68+$I$70)-(($I$69+$I$66)*$L$72),($I$67+$I$68+$I$69+$I$70)-(($I$66)*$L$72))))","v":""},null,null,157.5,0.75,null,null,null,null,"L check",{"$f":"SUM(U67:U72)","v":32},{"$f":"IF($U$53=$E$22,\"OK\",\"ERROR\")","v":"OK"},null,null,null,null,"Total",{"$f":"SUM(AB67:AB72)","v":31.101115991590312},null,null,null,null,null,null,28,4.4800000000000004,"Left Bank",49.655464985487825,96.713898496548396,49.645959361742101,94.713974650420056,96.242372554426481,0,0,0,"","",0,1.5283979040064253,1.5283979040064253,0,0,0,0,0,1.5283979040064253,0.13318802552912792,0,0,0.16,4.4800000000000004,0,0,"",5.5361395818373467,0.13109095626178741,0.16,0,0.16,4.4800000000000004,""]
["Moment Force Balance",null,null,null,null,null,null,null,null,null,null,{"$f":"IF($D$22=\"Yes\",\"Rootwad\",\"Root Collar\")","v":"Rootwad"},null,180,1.1000000000000001,null,null,null,null,null,null,null,null,null,null,null,null,null,null,null,null,null,null,null,29,4.6399999999999997,"Left Bank",49.742603912980535,96.712502250868653,49.733098289234817,94.712578404740313,96.230090115122735,0,0,0,"","",0,1.5175117103824221,1.5175117103824221,0,0,0,0,0,1.5175117103824221,0.13223937817066969,0,0,0.16,4.6399999999999997,0,0,"",5.5375358275170896,0.13095383273814085,0.16,0,0.16,4.6399999999999997,""]
["Driving Moment Centroids",null,null,"Resisting Moment Centroids",null,null,null,"Moment Force Balance",null,null,null,null,null,"Source:  Gippel (1992) plot of drag coefficients",null,null,null,null,"Projected Area of Log Calculation",null,null,null,"Projected Area of Rootwad Calculation",null,null,null,null,null,null,null,null,null,null,null,30,4.8,"Left Bank",49.829742840473244,96.71110600518891,49.820237216727527,94.71118215906057,96.217807675819003,0,0,0,"","",0,1.506625516758433,1.506625516758433,0,0,0,0,0,1.506625516758433,0.13129073081221271,0,0,0.16,4.8,0,0,"",5.5389320731968326,0.13081685264819312,0.16,0,0.16,4.8,""]
["cT,B (ft)","cL (ft)","cD (ft)","cT,W (ft)","csoil (ft)","cF&N (ft)","cP (ft)","Md (lbf)",{"$f":"IF(OR($C$19=\"\",$E$22=\"\",$D$22=\"\",$F$22=\"\",$F$25=\"\",$G$25=\"\"),0,IF($F$78=\"Stem Tip\",$L$77,$L$78))","v":121568.39542071123},null,null,"Md","Mr",null,null,"Centroid of Log",null,null,"DTS =",{"$f":"IF(OR($E$22=\"\",$F$22=\"\",$F$25=\"\",$G$25=\"\"),\"\",$F$22)","v":2},"ft",null,null,"a = DRW/2",{"$f":"$H$22/2","v":3},"ft","A =","a*b*((p/2)+arcsin(d/a)) + (b*d*(sqrt(a2-d2))/a)",null,null,null,null,null,null,31,4.96,"Left Bank",49.916881767965954,96.709709759509167,49.907376144220237,94.709785913380827,96.205525236515271,0,0,0,"","",0,1.495739323134444,1.495739323134444,0,0,0,0,0,1.495739323134444,0.13034208345375575,0,0,0.16,4.96,0,0,"",5.5403283188765755,0.13068001584190994,0.16,0,0.16,4.96,""]
[{"$f":"$Q$79","v":18.846208568686219},{"$f":"IF($I$52=0,0,IF($T$12>=$T$11,$E$22-$BL$43,$BL$43))","v":31.599999999999998},{"$f":"IF($F$66=0,0,IF($T$12>=$T$11,$E$22-$BI$43,$BI$43))","v":16},{"$f":"$Q$79","v":18.846208568686219},{"$f":"IF($E$61=0,0,IF($T$12>=$T$11,$E$22-$BS$43,$BS$43))","v":0},{"$f":"IF($F$72=0,0,IF($T$12>=$T$11,$E$22-$BR$43,$BR$43))","v":0},{"$f":"IF($C$72=0,0,IF($T$12>=$T$11,$E$22-$BT$39,$BT$39))","v":0},"Mr (lbf)",{"$f":"IF(OR($C$19=\"\",$E$22=\"\",$D$22=\"\",$F$22=\"\",$F$25=\"\",$G$25=\"\"),0,IF($F$78=\"Stem Tip\",$M$77,$M$78))","v":56897.093085683235},null,"Additional resisting moment force (lbf) needed:",{"$f":"(($I$54*$A$77)+($I$55*$B$77)+($I$66*$C$77)+(IF($L$95>0,$L$95*$D$95,0))+(IF($L$96>0,$L$96*$D$96,0))+(IF($L$97>0,$L$97*$D$97,0))+(IF($L$98>0,$L$98*$D$98,0))+(IF($M$95>0,$M$95*$D$95,0))+(IF($M$96>0,$M$96*$D$96,0))+(IF($M$97>0,$M$97*$D$97,0))+(IF($M$98>0,$M$98*$D$98,0)))*$M$19","v":165902.14800571589},{"$f":"(($I$56*$D$77)+(IF($L$60<0,$I$60*$F$77))+($I$57*$E$77)+($I$67*$G$77)+($I$68*$F$77)+(($D$83+$E$83)*$C$83)+($J$83*$H$83)+($J$84*$H$84)+(($I$87+$J$87)*$C$87)+(($I$88+$J$88)*$C$88)+(($I$89+$J$89)*$C$89)+(IF($L$95<=0,$G$95*$D$95,0))+(IF($L$96<=0,$G$96*$D$96,0))+(IF($L$97<=0,$G$97*$D$97,0))+(IF($L$98<=0,$G$98*$D$98,0))+(IF($M$95<=0,$I$95*$D$95,0))+(IF($M$96<=0,$I$96*$D$96,0))+(IF($M$97<=0,$I$97*$D$97,0))+(IF($M$98<=0,$I$98*$D$98,0)))*$M$19","v":81519.802776562763},"Stem Tip",null,"cRW",{"$f":"IF(OR($D$22=\"\",$D$22=\"No\",$F$22=\"\"),0,$E$22-((1/4)*$G$22*(($H$22^2)+(2*$H$22*$F$22)+(3*($F$22^2)))/(($H$22^2)+($H$22*$F$22)+($F$22^2))))","v":30.96153846153846},null,"ATSp,total =",{"$f":"IF($T$76=\"\",\"\",ABS(($U$42-$U$43)*$F$22/$M$19))","v":34.856898240961755},"ft2",null,null,"b= (DRW/2)*ABS(cos(q))",{"$f":"($H$22/2)*ABS(COS($B$25*PI()/180))","v":2.5160117038362722},"ft","ARW,total =",{"$f":"IF(OR($D$22=\"\",$D$22=\"No\"),0,PI()*$Y$76*$Y$77)","v":23.712851655353912},"ft2",null,null,null,null,null,32,5.12,"Left Bank",50.004020695458664,96.708313513829424,49.994515071712947,94.708389667701084,96.193242797211539,0,0,0,"","",0,1.484853129510455,1.484853129510455,0,0,0,0,0,1.484853129510455,0.12939343609529877,0,0,0.16,5.12,0,0,"",5.5417245645563185,0.130543322169414,0.16,0,0.16,5.12,""]
["*Distances are from the stem tip",null,null,"Point of Rotation:",null,{"$f":"IF(OR($F$25=\"\",$G$25=\"\",$D$22=\"\"),\"\",IF(AND($T$11<$T$12,$AY$45>0),$L$74,IF(AND($T$11>$T$12,$AY$245>0),$L$74,IF(AND($AY$45>0,$AY$245>0),$L$74,IF(AND($AY$45=0,$AY$245=0),$L$74,\"Stem Tip\")))))","v":"Rootwad"},null,"FSM",{"$f":"IF(OR($E$22=\"\",$F$22=\"\",$F$25=\"\",$G$25=\"\"),0,IF(OR($A$6=\"\",$F$25=\"\",$G$25=\"\"),\"\",$I$77/$I$76))","v":0.46802536867234046},{"$f":"$I$78-$L$80","v":-1.0319746313276594},{"$f":"IF(AND($F$25=\"\",$G$25=\"\"),\"\",IF($I$78>=$L$80,\"Structure is Stable with respect to Moment Forces\",($I$76*$L$80)-$I$77))","v":125455.50004538358},{"$f":"(($I$54*($E$22-$A$77))+($I$55*($E$22-$B$77))+($I$66*($E$22-$C$77))+(IF($L$95>0,$L$95*($E$22-$D$95),0))+(IF($L$96>0,$L$96*($E$22-$D$96),0))+(IF($L$97>0,$L$97*($E$22-$D$97),0))+(IF($L$98>0,$L$98*($E$22-$D$98),0))+(IF($M$95>0,$M$95*($E$22-$D$95),0))+(IF($M$96>0,$M$96*($E$22-$D$96),0))+(IF($M$97>0,$M$97*($E$22-$D$97),0))+(IF($M$98>0,$M$98*($E$22-$D$98),0)))*$M$19","v":121568.39542071123},{"$f":"(($I$56*($E$22-$D$77))+(IF($L$60<0,$I$60*($E$22-$F$77)))+($I$57*($E$22-$E$77))+($I$67*($E$22-$G$77))+($I$68*($E$22-$F$77))+(($D$83+$E$83)*($E$22-$C$83))+($J$83*($E$22-$H$83))+($J$84*($E$22-$H$84))+(($I$87+$J$87)*($E$22-$C$87))+(($I$88+$J$88)*($E$22-$C$88))+(($I$89+$J$89)*($E$22-$C$89))+(IF($L$95<=0,$G$95*($E$22-$D$95),0))+(IF($L$96<=0,$G$96*($E$22-$D$96),0))+(IF($L$97<=0,$G$97*($E$22-$D$97),0))+(IF($L$98<=0,$G$98*($E$22-$D$98),0))+(IF($M$95<=0,$I$95*($E$22-$D$95),0))+(IF($M$96<=0,$I$96*($E$22-$D$96),0))+(IF($M$97<=0,$I$97*($E$22-$D$97),0))+(IF($M$98<=0,$I$98*($E$22-$D$98),0)))*$M$19","v":56897.093085683235},"Root Collar or RW",null,"cTS",{"$f":"(($E$22-$G$22)/2)","v":14.5},null,"ATSp,dry =",{"$f":"IF($T$86=\"\",\"\",IF($T$86=\"Submerged\",0,IF($T$88=\"Dry\",$T$77,IF(AND($AC$86=\"Dry\",$T$86=\"Partial\"),ABS(($U$43-$W$87)*$F$22/$M$19),IF(AND($AC$86=\"Partial\",$AC$87=\"Partial\"),(ABS($U$39-$U$38))*(($AF$86+$AF$87)/2),IF($AC$86=\"Partial\",(ABS($U$39-$W$86))*$AF$86/2,(($U$41-$W$88)*$F$22)+(ABS($W$88-$U$40))*($AF$87+$F$22)/2))))))","v":0},"ft2",null,null,"d1 = (DRW/2) - (yRW,crown-WSE)",{"$f":"IF(OR($D$22=\"\",$F$22=\"\"),\"\",IF($AE$8>=$U$10,$Y$76,$Y$76-($U$10-$AE$8)))","v":3},"ft","ARW,↑WSE =",{"$f":"IF($D$22=\"No\",0,IF($U$15>$AE$8,$AB$77,IF($U$10<$AE$8,0,IF($D$22=\"\",0,$AB$77-(($Y$76*$Y$77*((PI()/2)+ASIN($Y$78/$Y$76)))+($Y$77*$Y$78*(SQRT(($Y$76^2)-($Y$78^2))/$Y$76)))))))","v":0},"ft2",null,null,null,null,null,33,5.28,"Left Bank",{"$f":"$AL$45+ABS(AJ78*$M$19*$M$17)","v":50.091159622951373},96.706917268149681,{"$f":"$AN$45+ABS(AJ78*$M$19*$M$17)","v":50.081653999205656},94.706993422021341,96.180960357907807,0,0,0,"","",0,1.473966935886466,1.473966935886466,0,0,0,0,0,1.473966935886466,0.12844478873684179,0,0,0.16,5.28,0,0,"",5.5431208102360614,0.13040677148098487,0.16,0,0.16,5.28,""]
[null,null,null,null,null,null,null,null,null,null,null,"Formatting",null,null,null,"cT",{"$f":"IF(OR($D$22=\"\",$D$22=\"No\",$F$22=\"\"),$Q$78,((((($B$53+$B$52)*$I$22)+($B$54*$J$22))*$Q$78)+(((($C$53+$C$52)*$I$22)+($C$54*$J$22))*$Q$77))/$E$55)","v":18.846208568686219},null,"ATSp,em =",{"$f":"$BE$43","v":14.641189247127471},"ft2",null,null,"d2 = (DRW/2) - (ythalweg-yRW,bot)",{"$f":"IF(OR($D$22=\"\",$F$22=\"\"),\"\",IF($U$15>=$C$16,$Y$76,$Y$76-($C$16-$U$15)))","v":2.6738965473765433},"ft","ARW,↓bed =",{"$f":"IF($D$22=\"No\",0,IF($U$10<$C$16,$AB$77,IF($U$15>$C$16,0,IF($D$22=\"\",0,$AB$77-(($Y$76*$Y$77*((PI()/2)+ASIN($Y$79/$Y$76)))+($Y$77*$Y$79*(SQRT(($Y$76^2)-($Y$79^2))/$Y$76)))))))","v":0.50168123429428491},"ft2",null,null,null,null,null,34,5.44,"Left Bank",50.178298550444083,96.705521022469938,50.168792926698366,94.705597176341598,96.168677918604075,0,0,0,"","",0,1.463080742262477,1.463080742262477,0,0,0,0,0,1.463080742262477,0.1274961413783848,0,0,0.16,5.44,0,0,"",5.5445170559158043,0.13027036362705838,0.16,0,0.16,5.44,""]
["Anchor Forces",null,null,null,null,null,null,null,null,null,null,{"$f":"'2-Constants'!$C$7","v":1.5},null,null,null,null,null,null,"(-) ATSp,dry,em =",{"$f":"-$BG$43","v":0},"ft3",null,null,null,null,null,"ARWp =",{"$f":"IF($D$22=\"\",0,$AB$77-$AB$78-$AB$79)","v":23.211170421059627},"ft2",null,null,null,null,null,35,5.6,"Left Bank",50.265437477936793,96.704124776790195,50.255931854191076,94.704200930661855,96.156395479300329,0,0,0,"","",0,1.4521945486384737,1.4521945486384737,0,0,0,0,0,1.4521945486384737,0.1265474940199266,0,0,0.16,5.6,0,0,"",5.5459133015955473,0.13013409845822715,0.16,0,0.16,5.6,""]
["Additional Soil Ballast",null,null,null,null,null,null,"Mechanical Anchors",null,null,{"$f":"IF(OR($H$83<>\"\",$H$84<>\"\",$C$87<>\"\",$C$88<>\"\",$C$89<>\"\"),\"CHECK--Verify anchors are correctly located on X-Sect (above)\",\"\")","v":""},"Formatting",null,null,null,"Buried anchors","Number",null,"ATSp,wet =",{"$f":"IF($D$22=\"\",\"\",IF($T$88=\"Dry\",0,$T$77-$T$78-$T$79-$T$80))","v":20.215708993834284},"ft2",null,null,null,null,null,null,null,null,null,null,null,null,null,36,5.76,"Left Bank",50.352576405429502,96.702728531110452,50.343070781683785,94.702804684982112,96.144113039996597,0,0,0,"","",0,1.4413083550144847,1.4413083550144847,0,0,0,0,0,1.4413083550144847,0.12559884666146962,0,0,0.16,5.76,0,0,"",5.5473095472752902,0.12999797582524003,0.16,0,0.16,5.76,""]
["VAdry (ft3)","VAwet (ft3)","cAsoil (ft)","FA,Vsoil (lbf)","FA,HP (lbf)",null,"Type","cAm (ft)","Soils","FAm (lbf)","Quick Design Reference:",{"$f":"IF($D$83=\"\",0,-$D$83)","v":0},{"$f":"IF($E$83=\"\",0,-$E$83)","v":0},null,"Total (lbf)",{"$f":"$J$83+$J$84+(IF($A$87=\"Deadman\",$F$87-$G$87,0))+(IF($A$88=\"Deadman\",$F$88-$G$88,0))+(IF($A$89=\"Deadman\",$F$89-$G$89,0))","v":0},{"$f":"(IF($J$83>0,1,0))+(IF($J$84>0,1,0))+(IF(AND($I$87>0,$A$87=\"Deadman\"),1,0))+(IF(AND($I$88>0,$A$88=\"Deadman\"),1,0))+(IF(AND($I$89>0,$A$89=\"Deadman\"),1,0))","v":0},null,null,null,null,null,null,null,null,null,null,null,null,null,null,null,null,null,37,5.92,"Left Bank",50.439715332922219,96.701332285430709,50.430209709176502,94.701408439302369,96.131830600692865,0,0,0,"","",0,1.4304221613904957,1.4304221613904957,0,0,0,0,0,1.4304221613904957,0.12465019930301263,0,0,0.16,5.92,0,0,"",5.5487057929550332,0.12986199557900197,0.16,0,0.16,5.92,""]
[null,null,null,{"$f":"IF(AND($A$83=\"\",$B$83=\"\"),0,($A$83*$D$29)+($B$83*$E$29))","v":0},{"$f":"IF($D$83=0,0,0.5*$B$71*$D$83)","v":0},null,null,null,{"$f":"$W$100","v":""},{"$f":"IF(OR($G83=\"\",$H83=\"\"),0,IF(AND($W100=\"Bed\",$G$28=4),HLOOKUP($G$83,AnchorRatings,3,0),IF(AND($W100=\"Bed\",$G$28=5),HLOOKUP($G$83,AnchorRatings,4,0),IF(AND($W100=\"Bed\",$G$28=6),HLOOKUP($G$83,AnchorRatings,5,0),IF(AND($W100=\"Bed\",$G$28=7),HLOOKUP($G$83,AnchorRatings,6,0),IF(AND($W100=\"Bank\",$G$29=4),HLOOKUP($G$83,AnchorRatings,3,0),IF(AND($W100=\"Bank\",$G$29=5),HLOOKUP($G$83,AnchorRatings,4,0),IF(AND($W100=\"Bank\",$G$29=6),HLOOKUP($G$83,AnchorRatings,5,0),IF(AND($W100=\"Bank\",$G$29=7),HLOOKUP($G$83,AnchorRatings,6,0))))))))))","v":0},{"$f":"$I$61","v":0.55919282797361192},0,{"$f":"(IF($A87=\"Behind\",-$J87,0))","v":0},null,"Required Vertical Resistance (lbf)",{"$f":"($L$54+$L$55+(IF($L$58>0,$L$58,0)))*$L$61","v":11603.40178313996},null,null,null,null,null,null,null,null,null,null,null,null,null,null,null,null,null,null,38,6.08,"Left Bank",50.526854260414929,96.699936039750966,50.517348636669212,94.700012193622626,96.119548161389133,0,0,0,"","",0,1.4195359677665067,1.4195359677665067,0,0,0,0,0,1.4195359677665067,0.12370155194455565,0,0,0.16,6.08,0,0,"",5.5501020386347761,0.12972615757057365,0.16,0,0.16,6.08,""]
[null,null,null,null,null,null,null,null,{"$f":"$W$101","v":""},{"$f":"IF(OR($G84=\"\",$H84=\"\"),0,IF(AND($W101=\"Bed\",$G$28=4),HLOOKUP($G$84,AnchorRatings,3,0),IF(AND($W101=\"Bed\",$G$28=5),HLOOKUP($G$84,AnchorRatings,4,0),IF(AND($W101=\"Bed\",$G$28=6),HLOOKUP($G$84,AnchorRatings,5,0),IF(AND($W101=\"Bed\",$G$28=7),HLOOKUP($G$84,AnchorRatings,6,0),IF(AND($W101=\"Bank\",$G$29=4),HLOOKUP($G$84,AnchorRatings,3,0),IF(AND($W101=\"Bank\",$G$29=5),HLOOKUP($G$84,AnchorRatings,4,0),IF(AND($W101=\"Bank\",$G$29=6),HLOOKUP($G$84,AnchorRatings,5,0),IF(AND($W101=\"Bank\",$G$29=7),HLOOKUP($G$84,AnchorRatings,6,0))))))))))","v":0},{"$f":"'2-Constants'!$C$5","v":1.5},0,{"$f":"(IF($A88=\"Behind\",-$J88,0))","v":0},null,"Actual Vertical Resistance (lbf)",{"$f":"ABS($L$56+$L$57+(IF($L$58<0,$L$58,0))+$L$59)","v":4325.6927048187235},null,null,"Log Position","Water and Log Intercept",null,null,null,null,"Soil","LW Buried at Intercept?",null,"Log Position","Water and Log Intercept at Face",null,null,null,null,null,39,6.24,"Left Bank",50.613993187907639,96.698539794071223,50.604487564161921,94.698615947942884,96.107265722085401,0,0,0,"","",0,1.4086497741425177,1.4086497741425177,0,0,0,0,0,1.4086497741425177,0.12275290458609867,0,0,0.16,6.24,0,0,"",5.5514982843145191,0.12959046165117186,0.16,0,0.16,6.24,""]
["Boulder Ballast",null,null,null,null,null,null,null,null,null,null,0,{"$f":"(IF($A89=\"Behind\",-$J89,0))","v":0},null,"Extra Needed Vertical Resistance (lbf)",{"$f":"$P$83-$P$84","v":7277.7090783212361},null,null,null,"Condition","Intercept Zone",null,"xTS (ft)","yTS (ft)","ysoil (ft)",null,null,null,"Condition","xTS (ft)","yTS (ft)","hTS,dry (ft)",null,null,40,6.4,"Left Bank",50.701132115400348,96.69714354839148,50.691626491654631,94.697219702263141,96.094983282781669,0,0,0,"","",0,1.3977635805185287,1.3977635805185287,0,0,0,0,0,1.3977635805185287,0.1218042572276417,0,0,0.16,6.4,0,0,"",5.552894529994262,0.12945490767216888,0.16,0,0.16,6.4,""]
["Position","Dr (ft)","cAr (ft)","Vr,dry (ft3)","Vr,wet (ft3)","Wr (lbf)","FL,r (lbf)","FD,r (lbf)","FA,Vr (lbf)","FA,Hr (lbf)",{"$f":"$I$72","v":0},{"$f":"$L$82+$L$83+$L$84+$L$85","v":0},{"$f":"$M$82+$M$83+$M$84+$M$85","v":0},null,"Required Horizontal Resistance (lbf)",{"$f":"($L$66+(IF($L$69>0,$L$69,0)))*$L$72","v":1872.2930531413381},null,null,"Crown",{"$f":"IF(OR($E$22=\"\",$F$22=\"\",$F$25=\"\",$G$25=\"\"),\"\",IF($X$39<=$AE$12,\"Submerged\",IF($X$38>$AE$12,\"Dry\",\"Partial\")))","v":"Submerged"},{"$f":"IF($X$86=\"\",\"None\",IF($W$86<$B$14,\"Left Floodplain\",IF($W$86<$B$15,\"Left Bank\",IF($W$86<$B$16,\"Left Stream Bed\",IF($W$86<$B$17,\"Right Stream Bed\",IF($W$86<$B$18,\"Right Bank\",\"Right Floodplain\"))))))","v":"None"},{"$f":"IF($U$47=0,0,IF(OR($B$25=0,$B$25=180,$B$25=360),$E$22-ABS(($X$39-$W$47)/$M$20),IF(AND($U$38<=$U$39,$X$38>=$Y$38),ABS(($X$38-$W$47)/($AA$40*$M$17*$M$19)),IF(AND($U$38<=$U$39,$X$38<$Y$38),ABS($E$22-(ABS(($X$38-$W$47)/($AA$40*$M$17*$M$19)))),IF(AND($U$38>$U$39,$X$39>=$Y$39),ABS(($X$39-$W$47)/($AA$40*$M$17*$M$19)),IF(AND($U$38>=$U$39,$X$39<$Y$39),ABS($E$22-(ABS(($X$38-$W$47)/($AA$40*$M$17*$M$19))))))))))","v":0},{"$f":"IF($X$86=\"\",\"\",$U$39-(($X$39-$AE$8)/$AA$40))","v":""},{"$f":"IF($T$86=\"Partial\",$AE$12,\"\")","v":""},{"$f":"IF($X$86=\"\",\"\",IF($W$86<$B$14,(($W$86-$B$13)*$AB$31)+$C$13,IF($W$86<$B$15,(($W$86-$B$14)*$AB$32)+$C$14,IF($W$86<$B$16,(($W$86-$B$15)*$AB$33)+$C$15,IF($W$86<$B$17,(($W$86-$B$16)*$AB$34)+$C$16,IF($W$86<$B$18,(($W$86-$B$17)*$AB$35)+$C$17,IF($W$86<$B$19,(($W$86-$B$18)*$AB$36)+$C$18)))))))","v":""},{"$f":"IF($X$86=\"\",\"\",IF($X$86<=$Y$86,\"Yes\",\"No\"))","v":""},null,"Upper Face",{"$f":"IF($T$86=\"\",\"\",IF($X$41>$AE$8,\"Dry\",IF($T$86=\"Submerged\",\"Submerged\",\"Partial\")))","v":"Submerged"},{"$f":"IF($AE$86=\"\",\"\",$U$39-(($X$39-$AE$8)/$AB$40))","v":""},{"$f":"IF($AC$86=\"Partial\",$AE$12,\"\")","v":""},{"$f":"IF($AC$86=\"Submerged\",0,IF($AC$86=\"Dry\",$F$22,($X$39-$AE$8)/$M$19))","v":0},null,null,41,6.56,"Left Bank",50.788271042893058,96.695747302711737,50.778765419147341,94.695823456583398,96.082700843477923,0,0,0,"","",0,1.3868773868945254,1.3868773868945254,0,0,0,0,0,1.3868773868945254,0.12085560986918348,0,0,0.16,6.56,0,0,"",5.554290775674005,0.12931949548509247,0.16,0,0.16,6.56,""]
[null,null,null,{"$f":"IF(OR($B87=\"\",$C87=\"\"),\"\",(PI()*($B87^3)/6)-$E87)","v":""},{"$f":"IF($B87=\"\",\"\",$U94)","v":""},{"$f":"IF(OR($B87=\"\",$C87=\"\"),\"\",($D87*DUWRock)+($E87*(DUWRock-SWWater)))","v":""},{"$f":"IF(OR($B87=\"\",$C87=\"\"),\"\",$Q99)","v":""},{"$f":"IF(OR($B87=\"\",$C87=\"\"),\"\",$P99)","v":""},{"$f":"IF(OR($B87=\"\",$C87=\"\"),0,IF($A87=\"Behind\",0,IF(AND($A87=\"Deadman\",$P$85<=0),0,IF(AND($A87=\"Deadman\",$P$82>=$P$85),($F87-$G87)*($P$85/$P$82),$F87-$G87))))","v":0},{"$f":"IF(OR($B87=\"\",$C87=\"\"),0,IF($A87=\"Above\",0,IF($A87=\"Deadman\",($F87-$G87)-$I87,IF(AND($A87=\"Behind\",OR($W94=\"Left Stream Bed\",$W94=\"Right Stream Bed\")),(($F87-$G87)*$E$70)-$H87,(($F87-$G87)*$E$71)-$H87))))","v":0},{"$f":"'2-Constants'!$C$6","v":1.5},{"$f":"IF($J83=0,0,IF($P$85<=0,0,IF($P$82>=$P$85,-J$83*($P$85/$P$82),-$J83)))","v":0},{"$f":"-($J83+$L87)","v":0},null,"Actual Horizontal Resistance (lbf)",{"$f":"ABS($L$67+$L$68+(IF($L$69<0,$L$69,0))+$L$70)","v":0},null,null,"Centerline",{"$f":"IF(OR($E$22=\"\",$F$22=\"\",$F$25=\"\",$G$25=\"\"),\"\",IF($X$43<=$AE$12,\"Submerged\",IF($X$42>=$AE$12,\"Dry\",\"Partial\")))","v":"Submerged"},{"$f":"IF($X$87=\"\",\"None\",IF($W$87<$B$14,\"Left Floodplain\",IF($W$87<$B$15,\"Left Bank\",IF($W$87<$B$16,\"Left Stream Bed\",IF($W$87<$B$17,\"Right Stream Bed\",IF($W$87<$B$18,\"Right Bank\",\"Right Floodplain\"))))))","v":"None"},{"$f":"IF($U$47=0,0,IF(OR($B$25=0,$B$25=180,$B$25=360),$E$22-ABS(($X$39-$W$47)/$M$20),IF(AND($U$38<=$U$39,$X$38>=$Y$38),ABS(($X$38-$W$47)/($AA$40*$M$17*$M$19)),IF(AND($U$38<=$U$39,$X$38<$Y$38),ABS($E$22-(ABS(($X$38-$W$47)/($AA$40*$M$17*$M$19)))),IF(AND($U$38>$U$39,$X$39>=$Y$39),ABS(($X$39-$W$47)/($AA$40*$M$17*$M$19)),IF(AND($U$38>=$U$39,$X$39<$Y$39),ABS($E$22-(ABS(($X$38-$W$47)/($AA$40*$M$17*$M$19))))))))))","v":0},{"$f":"IF($X$87=\"\",\"\",$U$43-(($X$43-$AE$8)/$AA$40))","v":""},{"$f":"IF($T$87=\"Partial\",$AE$12,\"\")","v":""},{"$f":"IF($X$87=\"\",\"\",IF($W$87<$B$14,(($W$87-$B$13)*$AB$31)+$C$13,IF($W$87<$B$15,(($W$87-$B$14)*$AB$32)+$C$14,IF($W$87<$B$16,(($W$87-$B$15)*$AB$33)+$C$15,IF($W$87<$B$17,(($W$87-$B$16)*$AB$34)+$C$16,IF($W$87<$B$18,(($W$87-$B$17)*$AB$35)+$C$17,IF($W$87<$B$19,(($W$87-$B$18)*$AB$36)+$C$18)))))))","v":""},{"$f":"IF($X$87=\"\",\"\",IF($X$87<=$Y$87,\"Yes\",\"No\"))","v":""},null,"Lower Face",{"$f":"IF($T$88=\"\",\"\",IF($X$40>=$AE$8,\"Dry\",IF($X$38<=$AE$8,\"Submerged\",\"Partial\")))","v":"Submerged"},{"$f":"IF($AE$87=\"\",\"\",$U$38-(($X$38-$AE$8)/$AB$40))","v":""},{"$f":"IF($AC$87=\"Partial\",$AE$12,\"\")","v":""},{"$f":"IF($AC$87=\"Submerged\",0,IF($AC$87=\"Dry\",$F$22,($X$38-$AE$8)/$M$19))","v":0},null,null,42,6.72,"Left Bank",50.875409970385768,96.694351057031994,50.86590434664005,94.694427210903655,96.070418404174191,0,0,0,"","",0,1.3759911932705364,1.3759911932705364,0,0,0,0,0,1.3759911932705364,0.11990696251072649,0,0,0.16,6.72,0,0,"",5.5556870213537479,0.12918422494162582,0.16,0,0.16,6.72,""]
[null,null,null,{"$f":"IF(OR($B88=\"\",$C88=\"\"),\"\",(PI()*($B88^3)/6)-$E88)","v":""},{"$f":"IF($B88=\"\",\"\",$U95)","v":""},{"$f":"IF(OR($B88=\"\",$C88=\"\"),\"\",($D88*DUWRock)+($E88*(DUWRock-SWWater)))","v":""},{"$f":"IF(OR($B88=\"\",$C88=\"\"),\"\",$Q100)","v":""},{"$f":"IF(OR($B88=\"\",$C88=\"\"),\"\",$P100)","v":""},{"$f":"IF(OR($B88=\"\",$C88=\"\"),0,IF($A88=\"Behind\",0,IF(AND($A88=\"Deadman\",$P$85<=0),0,IF(AND($A88=\"Deadman\",$P$82>=$P$85),($F88-$G88)*($P$85/$P$82),$F88-$G88))))","v":0},{"$f":"IF(OR($B88=\"\",$C88=\"\"),0,IF($A88=\"Above\",0,IF($A88=\"Deadman\",($F88-$G88)-$I88,IF(AND($A88=\"Behind\",OR($W95=\"Left Stream Bed\",$W95=\"Right Stream Bed\")),(($F88-$G88)*$E$70)-$H88,(($F88-$G88)*$E$71)-$H88))))","v":0},null,{"$f":"IF($J84=0,0,IF($P$85<=0,0,IF($P$82>=$P$85,-J$84*($P$85/$P$82),-$J84)))","v":0},{"$f":"-($J84+$L88)","v":0},null,"Extra needed Horizontal Resistance (lbf)",{"$f":"$P$86-$P$87","v":1872.2930531413381},null,null,"Bottom",{"$f":"IF(OR($E$22=\"\",$F$22=\"\",$F$25=\"\",$G$25=\"\"),\"\",IF($X$41<=$AE$12,\"Submerged\",IF($X$40>=$AE$12,\"Dry\",\"Partial\")))","v":"Submerged"},{"$f":"IF($X$88=\"\",\"None\",IF($W$88<$B$14,\"Left Floodplain\",IF($W$88<$B$15,\"Left Bank\",IF($W$88<$B$16,\"Left Stream Bed\",IF($W$88<$B$17,\"Right Stream Bed\",IF($W$88<$B$18,\"Right Bank\",\"Right Floodplain\"))))))","v":"None"},{"$f":"IF($U$47=0,0,IF(OR($B$25=0,$B$25=180,$B$25=360),$E$22-ABS(($X$39-$W$47)/$M$20),IF(AND($U$38<=$U$39,$X$38>=$Y$38),ABS(($X$38-$W$47)/($AA$40*$M$17*$M$19)),IF(AND($U$38<=$U$39,$X$38<$Y$38),ABS($E$22-(ABS(($X$38-$W$47)/($AA$40*$M$17*$M$19)))),IF(AND($U$38>$U$39,$X$39>=$Y$39),ABS(($X$39-$W$47)/($AA$40*$M$17*$M$19)),IF(AND($U$38>=$U$39,$X$39<$Y$39),ABS($E$22-(ABS(($X$38-$W$47)/($AA$40*$M$17*$M$19))))))))))","v":0},{"$f":"IF($X$88=\"\",\"\",$U$41-(($X$41-$AE$8)/$AA$40))","v":""},{"$f":"IF($T$88=\"Partial\",$AE$12,\"\")","v":""},{"$f":"IF($X$88=\"\",\"\",IF($W$88<$B$14,(($W$88-$B$13)*$AB$31)+$C$13,IF($W$88<$B$15,(($W$88-$B$14)*$AB$32)+$C$14,IF($W$88<$B$16,(($W$88-$B$15)*$AB$33)+$C$15,IF($W$88<$B$17,(($W$88-$B$16)*$AB$34)+$C$16,IF($W$88<$B$18,(($W$88-$B$17)*$AB$35)+$C$17,IF($W$88<$B$19,(($W$88-$B$18)*$AB$36)+$C$18)))))))","v":""},{"$f":"IF($X$88=\"\",\"\",IF($X$88<=$Y$88,\"Yes\",\"No\"))","v":""},null,null,null,null,null,null,null,null,43,6.88,"Left Bank",50.962548897878477,96.692954811352251,50.95304327413276,94.693030965223912,96.058135964870459,0,0,0,"","",0,1.3651049996465474,1.3651049996465474,0,0,0,0,0,1.3651049996465474,0.11895831515226953,0,0,0.16,6.88,0,0,"",5.5570832670334909,0.12904909589360694,0.16,0,0.16,6.88,""]
[null,null,null,{"$f":"IF(OR($B89=\"\",$C89=\"\"),\"\",(PI()*($B89^3)/6)-$E89)","v":""},{"$f":"IF($B89=\"\",\"\",$U96)","v":""},{"$f":"IF(OR($B89=\"\",$C89=\"\"),\"\",($D89*DUWRock)+($E89*(DUWRock-SWWater)))","v":""},{"$f":"IF(OR($B89=\"\",$C89=\"\"),\"\",$Q101)","v":""},"",{"$f":"IF(OR($B89=\"\",$C89=\"\"),0,IF($A89=\"Behind\",0,IF(AND($A89=\"Deadman\",$P$85<=0),0,IF(AND($A89=\"Deadman\",$P$82>=$P$85),($F89-$G89)*($P$85/$P$82),$F89-$G89))))","v":0},{"$f":"IF(OR($B89=\"\",$C89=\"\"),0,IF($A89=\"Above\",0,IF($A89=\"Deadman\",($F89-$G89)-$I89,IF(AND($A89=\"Behind\",OR($W96=\"Left Stream Bed\",$W96=\"Right Stream Bed\")),(($F89-$G89)*$E$70)-$H89,(($F89-$G89)*$E$71)-$H89))))","v":0},{"$f":"I78","v":0.46802536867234046},{"$f":"-$I87","v":0},{"$f":"IF($A87=\"Deadman\",-$J87,0)","v":0},null,null,null,null,null,null,null,null,null,null,null,null,null,null,null,null,null,null,null,null,null,44,7.04,"Left Bank",51.049687825371187,96.691558565672509,51.04018220162547,94.691634719544169,96.045853525566727,0,0,0,"","",0,1.3542188060225584,1.3542188060225584,0,0,0,0,0,1.3542188060225584,0.11800966779381254,0,0,0.16,7.04,0,0,"",5.5584795127132338,0.12891410819302906,0.16,0,0.16,7.04,""]
[null,null,null,null,null,null,null,null,null,null,{"$f":"'2-Constants'!$C$7","v":1.5},{"$f":"-$I88","v":0},{"$f":"IF($A88=\"Deadman\",-$J88,0)","v":0},null,null,null,null,null,null,null,null,null,null,null,null,null,null,null,null,null,null,null,null,null,45,7.2,"Left Bank",51.136826752863904,96.690162319992766,51.127321129118187,94.690238473864426,96.033571086262995,0,0,0,"","",0,1.3433326123985694,1.3433326123985694,0,0,0,0,0,1.3433326123985694,0.11706102043535556,0,0,0.16,7.2,0,0,"",5.5598757583929768,0.12877926169204026,0.16,0,0.16,7.2,""]
[{"$f":"IF($A$6=\"\",\"\",$A$6)","v":"Sample1"},{"$f":"IF($A$6=\"\",\"\",$B$6)","v":"Flow Deflection"},null,{"$f":"IF(OR($B$9=\"N/A\",$B$9=\"\"),\"\",$B$9)","v":"Stacked"},{"$f":"IF($D$48=\"\",\"\",\"Log ID\")","v":"Log ID"},{"$f":"IF($D$48=\"\",\"\",$C$9)","v":"Top#1"},null,null,null,"Page 3",null,{"$f":"-$I89","v":0},{"$f":"IF($A89=\"Deadman\",-$J89,0)","v":0},null,null,null,null,null,null,null,"A = [(R - ddry)*SQRT(2Rddry - ddry2)] - R2 arccos [(R - ddry)/R]",null,null,null,null,null,null,"Boulder #1",null,"Boulder #2",null,"Boulder #3",null,null,46,7.36,"Left Bank",51.223965680356613,96.688766074313023,51.214460056610896,94.688842228184683,96.021288646959249,0,0,0,"","",0,1.3324464187745662,1.3324464187745662,0,0,0,0,0,1.3324464187745662,0.11611237307689734,0,0,0.16,7.36,0,0,"",5.5612720040727197,0.12864455624294316,0.16,0,0.16,7.36,""]
["Interaction Forces with Adjacent Logs",null,null,null,null,null,null,null,null,null,null,{"$f":"$L$87+$L$88+$L$89+$L$90+$L$91","v":0},{"$f":"$M$87+$M$88+$M$89+$M$90+$M$91","v":0},"←Flex anchors","Ballast Boulder Calculations",null,null,null,null,null,null,null,null,null,null,null,null,"xTS (ft)","yTS (ft)","xTS (ft)","yTS (ft)","xTS (ft)","yTS (ft)",null,47,7.52,"Left Bank",51.311104607849323,96.68736982863328,51.301598984103606,94.68744598250494,96.009006207655517,0,0,0,"","",0,1.3215602251505771,1.3215602251505771,0,0,0,0,0,1.3215602251505771,0.11516372571844036,0,0,0.16,7.52,0,0,"",5.5626682497524627,0.12850999169819505,0.16,0,0.16,7.52,""]
[null,null,null,null,null,null,"Applied Forces from other Logs",null,null,null,{"$f":"IF(OR($B$95<>\"\",$B$96<>\"\",$B$97<>\"\",$B$98<>\"\"),\"NOTE -- The page is not formatted to print the Interaction Forces\",\"\")","v":""},null,null,null,null,"xr,bot (ft)","yr,bot (ft)","yTS,bot (ft)","ysoil (ft)","dr,dry (ft)","Vr,wet (ft3)","Ar↑WSE (ft2)","Zone","dr↓Thw (ft)","Ar↓Thw (ft2)","APr (ft2)","Point 1",{"$f":"IF($P$94=\"\",0,$P$94)","v":0},{"$f":"IF($Q$94=\"\",$C$13,$Q$94)","v":99.18},{"$f":"IF($P$95=\"\",0,$P$95)","v":0},{"$f":"IF($Q$95=\"\",$C$13,$Q$95)","v":99.18},{"$f":"IF($P$96=\"\",0,$P$96)","v":0},{"$f":"IF($Q$96=\"\",$C$13,$Q$96)","v":99.18},null,48,7.68,"Left Bank",51.398243535342033,96.685973582953537,51.388737911596316,94.686049736825197,95.996723768351785,0,0,0,"","",0,1.3106740315265881,1.3106740315265881,0,0,0,0,0,1.3106740315265881,0.11421507835998339,0,0,0.16,7.68,0,0,"",5.5640644954322056,0.12837556791040716,0.16,0,0.16,7.68,""]
["Log ID","Position","Link","cWI (ft)","FW,V (lbf)","FW,H (lbf)","FW,V (lbf)",null,"FW,H (lbf)",null,null,"Formatting",null,null,"Boulder 1",{"$f":"IF(OR($F$25=\"\",$C87=\"\"),\"\",$AE$49-(($C87*$M$19)*$M$17))","v":""},{"$f":"IF(OR($G$25=\"\",$C87=\"\"),\"\",IF($A87=\"Behind\",MIN($R94,$S94),IF($A87=\"Deadman\",(MIN($R94,$S94))-($F$22+1),$R94+$F$22)))","v":""},{"$f":"IF($P94=\"\",\"\",($AF$49+(($P94-$AE$49)*$AA$40))-($F$22/2))","v":""},{"$f":"IF($P94=\"\",\"\",IF($P94<$B$14,(($P94-$B$13)*$AB$31)+$C$13,IF($P94<$B$15,(($P94-$B$14)*$AB$32)+$C$14,IF($P94<$B$16,(($P94-$B$15)*$AB$33)+$C$15,IF($P94<$B$17,(($P94-$B$16)*$AB$34)+$C$16,IF($P94<$B$18,(($P94-$B$17)*$AB$35)+$C$17,IF($P94<$B$19,(($P94-$B$18)*$AB$36)+$C$18)))))))","v":""},{"$f":"IF($Q94=\"\",\"\",IF(($Q94+$B87-$AE$8)>=$B87,$B87,IF(($Q94+$B87)>$AE$8,($Q94+$B87)-$AE$8,0)))","v":""},{"$f":"IF($T94=\"\",\"\",IF($T94>=$B87,0,(PI()/3)*(($B87-$T94)^2)*((1.5*$B87)-($B87-$T94))))","v":""},{"$f":"IF($C87=\"\",\"\",IF($A87=\"Deadman\",0,IF($Q94>=$AE$8,PI()*(($B87/2)^2),((($B87/2)^2)*ACOS((($B87/2)-$T94)/($B87/2)))-((($B87/2)-$T94)*SQRT(2*($B87/2)*$T94-($T94^2))))))","v":""},{"$f":"IF($P94=\"\",\"\",IF(OR($C$19=\"\",$F$25=\"\",$G$25=\"\"),\"None\",IF($P94<$B$14,\"Left Floodplain\",IF($P94<$B$15,\"Left Bank\",IF($P94<$B$16,\"Left Stream Bed\",IF($P94<$B$17,\"Right Stream Bed\",IF($P94<$B$18,\"Right Bank\",\"Right Floodplain\")))))))","v":""},{"$f":"IF($Q94=\"\",\"\",IF(($Q94+$B87)<=$S94,$B87,IF($Q94>=$S94,0,$S94-$Q94)))","v":""},{"$f":"IF($C87=\"\",\"\",IF($A87=\"Deadman\",PI()*(($B87/2)^2),IF($Q94>$S94,0,((($B87/2)^2)*ACOS((($B87/2)-$X94)/($B87/2)))-((($B87/2)-$X94)*SQRT(2*($B87/2)*$X94-($X94^2))))))","v":""},{"$f":"IF($C87=\"\",\"\",IF(((PI()*(($B87/2)^2))-$V94-$Y94)<0,0,(PI()*(($B87/2)^2))-$V94-$Y94))","v":""},"Point 2",{"$f":"IF($AB$93=\"\",0,$AB$93-($B$87/4))","v":0},{"$f":"IF($AC$93=\"\",$C$13,$AC$93+($B$87/25))","v":99.18},{"$f":"IF($AD$93=\"\",0,$AD$93-($B$88/4))","v":0},{"$f":"IF($AE$93=\"\",$C$13,$AE$93+($B$88/25))","v":99.18},{"$f":"IF($AF$93=\"\",0,$AF$93-($B$89/4))","v":0},{"$f":"IF($AG$93=\"\",$C$13,$AG$93+($B$89/25))","v":99.18},null,49,7.84,"Left Bank",51.485382462834743,96.684577337273794,51.475876839089025,94.684653491145454,95.984441329048053,0,0,0,"","",0,1.2997878379025991,1.2997878379025991,0,0,0,0,0,1.2997878379025991,0.11326643100152642,0,0,0.16,7.84,0,0,"",5.5654607411119486,0.12824128473234531,0.16,0,0.16,7.84,""]
[null,null,null,null,null,null,{"$f":"IF(OR($E$95=\"\",$E$95=0),0,IF($C$95=\"Pinned\",ABS($E$95),IF(AND($C$95=\"Gravity\",$B$95=\"Below\",$E$95>=0),ABS($E$95),IF(AND($C$95=\"Gravity\",$B$95=\"Above\",$E$95<=0),ABS($E$95),0))))","v":0},{"$f":"IF($L$95=0,\"\",IF($L$95>0,CHAR(233),CHAR(234)))","v":""},{"$f":"IF(OR($F$95=\"\",$F$95=0),0,IF($C$95=\"Pinned\",ABS($F$95),IF(AND($C$95=\"Gravity\",$B$95=\"Behind\",$F$95<0),ABS($F$95),IF(AND($C$95=\"Gravity\",$B$95=\"In front\",$F$95>0),ABS($F$95),0))))","v":0},{"$f":"IF($M$95=0,\"\",IF($M$95>=0,CHAR(232),CHAR(231)))","v":""},null,{"$f":"IF($G$95=0,0,$E$95)","v":0},{"$f":"IF($I$95=0,0,$F$95)","v":0},null,"Boulder 2",{"$f":"IF(OR($F$25=\"\",$C88=\"\"),\"\",$AE$49-(($C88*$M$19)*$M$17))","v":""},{"$f":"IF(OR($G$25=\"\",$C88=\"\"),\"\",IF($A88=\"Behind\",MIN($R95,$S95),IF($A88=\"Deadman\",(MIN($R95,$S95))-($F$22+1),$R95+$F$22)))","v":""},{"$f":"IF($P95=\"\",\"\",($AF$49+(($P95-$AE$49)*$AA$40))-($F$22/2))","v":""},{"$f":"IF($P95=\"\",\"\",IF($P95<$B$14,(($P95-$B$13)*$AB$31)+$C$13,IF($P95<$B$15,(($P95-$B$14)*$AB$32)+$C$14,IF($P95<$B$16,(($P95-$B$15)*$AB$33)+$C$15,IF($P95<$B$17,(($P95-$B$16)*$AB$34)+$C$16,IF($P95<$B$18,(($P95-$B$17)*$AB$35)+$C$17,IF($P95<$B$19,(($P95-$B$18)*$AB$36)+$C$18)))))))","v":""},{"$f":"IF($Q95=\"\",\"\",IF(($Q95+$B88-$AE$8)>=$B88,$B88,IF(($Q95+$B88)>$AE$8,($Q95+$B88)-$AE$8,0)))","v":""},{"$f":"IF($T95=\"\",\"\",IF($T95>=$B88,0,(PI()/3)*(($B88-$T95)^2)*((1.5*$B88)-($B88-$T95))))","v":""},{"$f":"IF($C88=\"\",\"\",IF($A88=\"Deadman\",0,IF($Q95>=$AE$8,PI()*(($B88/2)^2),((($B88/2)^2)*ACOS((($B88/2)-$T95)/($B88/2)))-((($B88/2)-$T95)*SQRT(2*($B88/2)*$T95-($T95^2))))))","v":""},{"$f":"IF($P95=\"\",\"\",IF(OR($C$19=\"\",$F$25=\"\",$G$25=\"\"),\"None\",IF($P95<$B$14,\"Left Floodplain\",IF($P95<$B$15,\"Left Bank\",IF($P95<$B$16,\"Left Stream Bed\",IF($P95<$B$17,\"Right Stream Bed\",IF($P95<$B$18,\"Right Bank\",\"Right Floodplain\")))))))","v":""},{"$f":"IF($Q95=\"\",\"\",IF(($Q95+$B88)<=$S95,$B88,IF($Q95>=$S95,0,$S95-$Q95)))","v":""},{"$f":"IF($C88=\"\",\"\",IF($A88=\"Deadman\",PI()*(($B88/2)^2),IF($Q95>$S95,0,((($B88/2)^2)*ACOS((($B88/2)-$X95)/($B88/2)))-((($B88/2)-$X95)*SQRT(2*($B88/2)*$X95-($X95^2))))))","v":""},{"$f":"IF($C88=\"\",\"\",IF(((PI()*(($B88/2)^2))-$V95-$Y95)<0,0,(PI()*(($B88/2)^2))-$V95-$Y95))","v":""},"Point 3",{"$f":"IF($AB$93=\"\",0,$AB$93-($B$87/2))","v":0},{"$f":"IF($AC$93=\"\",$C$13,$AC$93+($B$87/2))","v":99.18},{"$f":"IF($AD$93=\"\",0,$AD$93-($B$88/2))","v":0},{"$f":"IF($AE$93=\"\",$C$13,$AE$93+($B$88/2))","v":99.18},{"$f":"IF($AF$93=\"\",0,$AF$93-($B$89/2))","v":0},{"$f":"IF($AG$93=\"\",$C$13,$AG$93+($B$89/2))","v":99.18},null,50,8,"Left Bank",51.572521390327452,96.683181091594051,51.563015766581735,94.683257245465711,95.972158889744321,0,0,0,"","",0,1.2889016442786101,1.2889016442786101,0,0,0,0,0,1.2889016442786101,0.11231778364306942,0,0,0.16,8,0,0,"",5.5668569867916915,0.12810714201692913,0.16,0,0.16,8,""]
[null,null,null,null,null,null,{"$f":"IF(OR($E$96=\"\",$E$96=0),0,IF($C$96=\"Pinned\",ABS($E$96),IF(AND($C$96=\"Gravity\",$B$96=\"Below\",$E$96>=0),ABS($E$96),IF(AND($C$96=\"Gravity\",$B$96=\"Above\",$E$96<=0),ABS($E$96),0))))","v":0},{"$f":"IF($L$96=0,\"\",IF($L$96>0,CHAR(233),CHAR(234)))","v":""},{"$f":"IF(OR($F$96=\"\",$F$96=0),0,IF($C$96=\"Pinned\",ABS($F$96),IF(AND($C$96=\"Gravity\",$B$96=\"Behind\",$F$96<0),ABS($F$96),IF(AND($C$96=\"Gravity\",$B$96=\"In front\",$F$96>0),ABS($F$96),0))))","v":0},{"$f":"IF($M$96=0,\"\",IF($M$96>=0,CHAR(232),CHAR(231)))","v":""},null,{"$f":"IF($G$96=0,0,$E$96)","v":0},{"$f":"IF($I$96=0,0,$F$96)","v":0},null,"Boulder 3",{"$f":"IF(OR($F$25=\"\",$C89=\"\"),\"\",$AE$49-(($C89*$M$19)*$M$17))","v":""},{"$f":"IF(OR($G$25=\"\",$C89=\"\"),\"\",IF($A89=\"Behind\",MIN($R96,$S96),IF($A89=\"Deadman\",(MIN($R96,$S96))-($F$22+1),$R96+$F$22)))","v":""},{"$f":"IF($P96=\"\",\"\",($AF$49+(($P96-$AE$49)*$AA$40))-($F$22/2))","v":""},{"$f":"IF($P96=\"\",\"\",IF($P96<$B$14,(($P96-$B$13)*$AB$31)+$C$13,IF($P96<$B$15,(($P96-$B$14)*$AB$32)+$C$14,IF($P96<$B$16,(($P96-$B$15)*$AB$33)+$C$15,IF($P96<$B$17,(($P96-$B$16)*$AB$34)+$C$16,IF($P96<$B$18,(($P96-$B$17)*$AB$35)+$C$17,IF($P96<$B$19,(($P96-$B$18)*$AB$36)+$C$18)))))))","v":""},{"$f":"IF($Q96=\"\",\"\",IF(($Q96+$B89-$AE$8)>=$B89,$B89,IF(($Q96+$B89)>$AE$8,($Q96+$B89)-$AE$8,0)))","v":""},{"$f":"IF($T96=\"\",\"\",IF($T96>=$B89,0,(PI()/3)*(($B89-$T96)^2)*((1.5*$B89)-($B89-$T96))))","v":""},{"$f":"IF($C89=\"\",\"\",IF($A89=\"Deadman\",0,IF($Q96>=$AE$8,PI()*(($B89/2)^2),((($B89/2)^2)*ACOS((($B89/2)-$T96)/($B89/2)))-((($B89/2)-$T96)*SQRT(2*($B89/2)*$T96-($T96^2))))))","v":""},{"$f":"IF($P96=\"\",\"\",IF(OR($C$19=\"\",$F$25=\"\",$G$25=\"\"),\"None\",IF($P96<$B$14,\"Left Floodplain\",IF($P96<$B$15,\"Left Bank\",IF($P96<$B$16,\"Left Stream Bed\",IF($P96<$B$17,\"Right Stream Bed\",IF($P96<$B$18,\"Right Bank\",\"Right Floodplain\")))))))","v":""},{"$f":"IF($Q96=\"\",\"\",IF(($Q96+$B89)<=$S96,$B89,IF($Q96>=$S96,0,$S96-$Q96)))","v":""},{"$f":"IF($C89=\"\",\"\",IF($A89=\"Deadman\",PI()*(($B89/2)^2),IF($Q96>$S96,0,((($B89/2)^2)*ACOS((($B89/2)-$X96)/($B89/2)))-((($B89/2)-$X96)*SQRT(2*($B89/2)*$X96-($X96^2))))))","v":""},{"$f":"IF($C89=\"\",\"\",IF(((PI()*(($B89/2)^2))-$V96-$Y96)<0,0,(PI()*(($B89/2)^2))-$V96-$Y96))","v":""},"Point 4",{"$f":"IF($AB$93=\"\",0,$AB$94)","v":0},{"$f":"IF($AC$97=\"\",$C$13,$AC$97-($B$87/25))","v":99.18},{"$f":"IF($AD$93=\"\",0,$AD$94)","v":0},{"$f":"IF($AE$97=\"\",$C$13,$AE$97-($B$88/25))","v":99.18},{"$f":"IF($AF$93=\"\",0,$AF$94)","v":0},{"$f":"IF($AG$97=\"\",$C$13,$AG$97-($B$89/25))","v":99.18},null,51,8.16,"Left Bank",51.659660317820162,96.681784845914308,51.650154694074445,94.681860999785968,95.959876450440589,0,0,0,"","",0,1.2780154506546211,1.2780154506546211,0,0,0,0,0,1.2780154506546211,0.11136913628461245,0,0,0.16,8.16,0,0,"",5.5682532324714344,0.12797313961723228,0.16,0,0.16,8.16,""]
[null,null,null,null,null,null,{"$f":"IF(OR($E$97=\"\",$E$97=0),0,IF($C$97=\"Pinned\",ABS($E$97),IF(AND($C$97=\"Gravity\",$B$97=\"Below\",$E$97>=0),ABS($E$97),IF(AND($C$97=\"Gravity\",$B$97=\"Above\",$E$97<=0),ABS($E$97),0))))","v":0},{"$f":"IF($L$97=0,\"\",IF($L$97>0,CHAR(233),CHAR(234)))","v":""},{"$f":"IF(OR($F$97=\"\",$F$97=0),0,IF($C$97=\"Pinned\",ABS($F$97),IF(AND($C$97=\"Gravity\",$B$97=\"Behind\",$F$97<0),ABS($F$97),IF(AND($C$97=\"Gravity\",$B$97=\"In front\",$F$97>0),ABS($F$97),0))))","v":0},{"$f":"IF($M$97=0,\"\",IF($M$97>=0,CHAR(232),CHAR(231)))","v":""},null,{"$f":"IF($G$97=0,0,$E$97)","v":0},{"$f":"IF($I$97=0,0,$F$97)","v":0},null,null,null,null,null,null,null,null,null,null,null,null,null,"Point 5",{"$f":"IF($AB$93=\"\",0,$AB$93)","v":0},{"$f":"IF($AC$93=\"\",$C$13,$AC$93+$B$87)","v":99.18},{"$f":"IF($AD$93=\"\",0,$AD$93)","v":0},{"$f":"IF($AE$93=\"\",$C$13,$AE$93+$B$88)","v":99.18},{"$f":"IF($AF$93=\"\",0,$AF$93)","v":0},{"$f":"IF($AG$93=\"\",$C$13,$AG$93+$B$89)","v":99.18},null,52,8.32,"Left Bank",51.746799245312872,96.680388600234565,51.737293621567161,94.680464754106225,95.947594011136843,0,0,0,"","",0,1.2671292570306179,1.2671292570306179,0,0,0,0,0,1.2671292570306179,0.11042048892615422,0,0,0.16,8.32,0,0,"",5.5696494781511774,0.12783927738648174,0.16,0,0.16,8.32,""]
[null,null,null,null,null,null,{"$f":"IF(OR($E$98=\"\",$E$98=0),0,IF($C$98=\"Pinned\",ABS($E$98),IF(AND($C$98=\"Gravity\",$B$98=\"Below\",$E$98>=0),ABS($E$98),IF(AND($C$98=\"Gravity\",$B$98=\"Above\",$E$98<=0),ABS($E$98),0))))","v":0},{"$f":"IF($L$98=0,\"\",IF($L$98>0,CHAR(233),CHAR(234)))","v":""},{"$f":"IF(OR($F$98=\"\",$F$98=0),0,IF($C$98=\"Pinned\",ABS($F$98),IF(AND($C$98=\"Gravity\",$B$98=\"Behind\",$F$98<0),ABS($F$98),IF(AND($C$98=\"Gravity\",$B$98=\"In front\",$F$98>0),ABS($F$98),0))))","v":0},{"$f":"IF($M$98=0,\"\",IF($M$98>=0,CHAR(232),CHAR(231)))","v":""},null,{"$f":"IF($G$98=0,0,$E$98)","v":0},{"$f":"IF($I$98=0,0,$F$98)","v":0},null,null,"FD,r (lbf)","FL,r (lbf)",null,null,null,"Soil Anchor Zone Calculation",null,null,null,null,null,"Point 6",{"$f":"IF($AB$93=\"\",0,$AB$93+($B$87/4))","v":0},{"$f":"IF($AC$93=\"\",$C$13,$AC$96)","v":99.18},{"$f":"IF($AD$93=\"\",\"\",$AD$93+($B$88/4))","v":0},{"$f":"IF($AE$93=\"\",$C$13,$AE$96)","v":99.18},{"$f":"IF($AF$93=\"\",0,$AF$93+($B$89/4))","v":0},{"$f":"IF($AG$93=\"\",$C$13,$AG$96)","v":99.18},null,53,8.48,"Left Bank",51.833938172805588,96.678992354554822,51.824432549059871,94.679068508426482,95.935311571833111,0,0,0,"","",0,1.2562430634066288,1.2562430634066288,0,0,0,0,0,1.2562430634066288,0.10947184156769725,0,0,0.16,8.48,0,0,"",5.5710457238309203,0.12770555517805834,0.16,0,0.16,8.48,""]
[null,null,null,null,null,null,null,null,null,null,null,{"$f":"$L$95+$L$96+$L$97+$L$98","v":0},{"$f":"$M$95+$M$96+$M$97+$M$98","v":0},null,"Boulder 1",{"$f":"IF(OR($F$25=\"\",$C87=\"\"),\"\",IF($A87=\"Behind\",0.5*CDrock*$Z94*SWWater*($J$6^2)/(2*g),CDrock*$Z94*SWWater*($J$6^2)/(2*g)))","v":""},{"$f":"IF(OR($F$25=\"\",$C87=\"\"),\"\",IF($A87=\"Behind\",0.5*CLrock*$Z94*SWWater*(($J$6^2)/(2*g)),CLrock*$Z94*SWWater*(($J$6^2)/(2*g))))","v":""},null,null,null,null,"xr,bot (ft)","Zone",null,null,null,"Point 7",{"$f":"IF($AB$93=\"\",0,$AB$93+($B$87/2))","v":0},{"$f":"IF($AC$93=\"\",$C$13,$AC$95)","v":99.18},{"$f":"IF($AD$93=\"\",0,$AD$93+($B$88/2))","v":0},{"$f":"IF($AE$93=\"\",$C$13,$AE$95)","v":99.18},{"$f":"IF($AF$93=\"\",\"\",$AF$93+($B$89/2))","v":0},{"$f":"IF($AG$93=\"\",$C$13,$AG$95)","v":99.18},null,54,8.64,"Left Bank",51.921077100298298,96.677596108875079,51.911571476552581,94.677672262746739,95.923029132529379,0,0,0,"","",0,1.2453568697826398,1.2453568697826398,0,0,0,0,0,1.2453568697826398,0.10852319420924028,0,0,0.16,8.64,0,0,"",5.5724419695106633,0.12757197284549618,0.16,0,0.16,8.64,""]
[null,null,null,null,null,null,null,null,null,null,null,null,null,null,"Boulder 2",{"$f":"IF(OR($F$25=\"\",$C88=\"\"),\"\",IF($A88=\"Behind\",0.5*CDrock*$Z95*SWWater*($J$6^2)/(2*g),CDrock*$Z95*SWWater*($J$6^2)/(2*g)))","v":""},{"$f":"IF(OR($F$25=\"\",$C88=\"\"),\"\",IF($A88=\"Behind\",0.5*CLrock*$Z95*SWWater*(($J$6^2)/(2*g)),CLrock*$Z95*SWWater*(($J$6^2)/(2*g))))","v":""},null,null,null,"Anchor 1",{"$f":"IF(OR($F$25=\"\",$H83=\"\"),\"\",$AE$49-(($H83*$M$19)*$M$17))","v":""},{"$f":"IF($V100=\"\",\"\",IF(OR($C$19=\"\",$F$25=\"\",$G$25=\"\"),\"None\",IF($V100<$B$14,\"Bank\",IF($V100<$B$15,\"Bank\",IF($V100<$B$16,\"Bed\",IF($V100<$B$17,\"Bed\",IF($V100<$B$18,\"Bank\",\"Bank\")))))))","v":""},null,null,null,"Point 8",{"$f":"IF($AB$93=\"\",0,$AB$98)","v":0},{"$f":"IF($AC$93=\"\",$C$13,$AC$94)","v":99.18},{"$f":"IF($AD$93=\"\",0,$AD$98)","v":0},{"$f":"IF($AE$93=\"\",$C$13,$AE$94)","v":99.18},{"$f":"IF($AF$93=\"\",0,$AF$98)","v":0},{"$f":"IF($AG$93=\"\",$C$13,$AG$94)","v":99.18},null,55,8.8000000000000007,"Left Bank",52.008216027791008,96.676199863195336,51.998710404045291,94.676276017066996,95.910746693225647,0,0,0,"","",0,1.2344706761586508,1.2344706761586508,0,0,0,0,0,1.2344706761586508,0.10757454685078328,0,0,0.16,8.8000000000000007,0,0,"",5.5738382151904062,0.12743853024248258,0.16,0,0.16,8.8000000000000007,""]
[null,null,null,null,null,null,null,null,null,null,null,null,null,null,"Boulder 3",{"$f":"IF(OR($F$25=\"\",$C89=\"\"),\"\",IF($A89=\"Behind\",0.5*CDrock*$Z96*SWWater*($J$6^2)/(2*g),CDrock*$Z96*SWWater*($J$6^2)/(2*g)))","v":""},{"$f":"IF(OR($F$25=\"\",$C89=\"\"),\"\",IF($A89=\"Behind\",0.5*CLrock*$Z96*SWWater*(($J$6^2)/(2*g)),CLrock*$Z96*SWWater*(($J$6^2)/(2*g))))","v":""},null,null,null,"Anchor 2",{"$f":"IF(OR($F$25=\"\",$H84=\"\"),\"\",$AE$49-(($H84*$M$19)*$M$17))","v":""},{"$f":"IF($V101=\"\",\"\",IF(OR($C$19=\"\",$F$25=\"\",$G$25=\"\"),\"None\",IF($V101<$B$14,\"Bank\",IF($V101<$B$15,\"Bank\",IF($V101<$B$16,\"Bed\",IF($V101<$B$17,\"Bed\",IF($V101<$B$18,\"Bank\",\"Bank\")))))))","v":""},null,null,null,"Point 9",{"$f":"IF($AB$93=\"\",0,$AB$93)","v":0},{"$f":"IF($AC$93=\"\",$C$13,$AC$93)","v":99.18},{"$f":"IF($AD$93=\"\",0,$AD$93)","v":0},{"$f":"IF($AE$93=\"\",$C$13,$AE$93)","v":99.18},{"$f":"IF($AF$93=\"\",0,$AF$93)","v":0},{"$f":"IF($AG$93=\"\",$C$13,$AG$93)","v":99.18},null,56,8.9600000000000009,"Left Bank",52.095354955283717,96.674803617515593,52.085849331538,94.674879771387253,95.898464253921915,0,0,0,"","",0,1.2235844825346618,1.2235844825346618,0,0,0,0,0,1.2235844825346618,0.10662589949232631,0,0,0.16,8.9600000000000009,0,0,"",5.5752344608701492,0.12730522722285798,0.16,0,0.16,8.9600000000000009,""]
[null,null,null,null,null,null,null,null,null,null,null,null,null,null,null,null,null,null,null,null,null,null,null,null,null,null,null,null,null,null,null,null,null,null,57,9.1199999999999992,"Left Bank",52.182493882776427,96.67340737183585,52.17298825903071,94.67348352570751,95.886181814618169,0,0,0,"","",0,1.2126982889106586,1.2126982889106586,0,0,0,0,0,1.2126982889106586,0.10567725213386811,0,0,0.16,9.1199999999999992,0,0,"",5.5766307065498921,0.12717206364061542,0.16,0,0.16,9.1199999999999992,""]
[null,null,null,null,null,null,null,null,null,null,null,null,null,null,null,null,null,null,null,null,null,null,null,null,null,null,null,"Anchor #1",null,null,null,"Soil Ballast #1",null,null,58,9.2799999999999994,"Left Bank",52.269632810269137,96.672011126156107,52.26012718652342,94.672087280027768,95.873899375314437,0,0,0,"","",0,1.2018120952866695,1.2018120952866695,0,0,0,0,0,1.2018120952866695,0.10472860477541111,0,0,0.16,9.2799999999999994,0,0,"",5.5780269522296351,0.12703903934990099,0.16,0,0.16,9.2799999999999994,""]
[null,null,null,null,null,null,null,null,null,null,null,null,null,null,null,null,null,null,null,null,null,null,null,null,null,null,null,"xTS (ft)","yTS (ft)",null,null,"xTS (ft)","yTS (ft)",null,59,9.44,"Left Bank",52.356771737761846,96.670614880476364,52.347266114016129,94.670691034348025,95.861616936010705,0,0,0,"","",0,1.1909259016626805,1.1909259016626805,0,0,0,0,0,1.1909259016626805,0.10377995741695414,0,0,0.16,9.44,0,0,"",5.579423197909378,0.12690615420501317,0.16,0,0.16,9.44,""]
[null,null,null,null,null,null,null,null,null,null,null,null,null,null,null,null,null,null,null,null,null,null,null,null,null,null,"Point 1",{"$f":"IF(OR($F$25=\"\",$H83=\"\"),0,$AE$49-(($H83*$M$19)*$M$17))","v":0},{"$f":"IF(OR($AB105=\"\",$AB$105=0),$C$13,($AF$49+(($AB105-$AE$49)*$AA$40))-($F$22/2))","v":99.18},null,"Point 1",{"$f":"IF(OR($F$25=\"\",$C83=\"\"),0,($AE$49-(($C83*$M$19)*$M$17))+(ABS(2*$M$17*$M$19)))","v":0},{"$f":"IF(OR($AF105=\"\",$AF$105=0),$C$13,($AF$49+(($AF105-$AE$49)*$AA$40))+($F$22/2))","v":99.18},null,60,9.6,"Left Bank",52.443910665254563,96.669218634796621,52.434405041508839,94.669294788668282,95.849334496706973,0,0,0,"","",0,1.1800397080386915,1.1800397080386915,0,0,0,0,0,1.1800397080386915,0.10283131005849716,0,0,0.16,9.6,0,0,"",5.580819443589121,0.12677340806040291,0.16,0,0.16,9.6,""]
[null,null,null,null,null,null,null,null,null,null,null,null,null,null,null,null,null,null,null,null,null,null,null,null,null,null,"Point 2",{"$f":"IF($AB105=\"\",0,$AB105)","v":0},{"$f":"IF(OR($AC105=\"\",$AB$105=0),$C$13,$AC105-4)","v":99.18},null,"Point 2",{"$f":"IF($AF105=\"\",0,$AF105)","v":0},{"$f":"IF(OR($AG105=\"\",$AF$105=0),$C$13,IF($AG$105>$AG$108,$AG105+2.25,$AG$108+2.25))","v":99.18},null,61,9.76,"Left Bank",52.531049592747266,96.667822389116878,52.521543969001556,94.667898542988539,95.837052057403241,0,0,0,"","",0,1.1691535144147025,1.1691535144147025,0,0,0,0,0,1.1691535144147025,0.10188266270004018,0,0,0.16,9.76,0,0,"",5.5822156892688639,0.12664080077067355,0.16,0,0.16,9.76,""]
[null,null,null,null,null,null,null,null,null,null,null,null,null,null,null,null,null,null,null,null,null,null,null,null,null,null,null,null,null,null,"Point 3",{"$f":"IF(OR($F$25=\"\",$C83=\"\"),0,($AE$49-(($C83*$M$19)*$M$17))-(ABS(2*$M$17*$M$19)))","v":0},{"$f":"IF(OR($AG106=\"\",$AF$105=0),$C$13,$AG106)","v":99.18},null,62,9.92,"Left Bank",52.618188520239983,96.666426143437135,52.608682896494265,94.666502297308796,95.824769618099509,0,0,0,"","",0,1.1582673207907135,1.1582673207907135,0,0,0,0,0,1.1582673207907135,0.10093401534158321,0,0,0.16,9.92,0,0,"",5.5836119349486069,0.12650833219058008,0.16,0,0.16,9.92,""]
[null,null,null,null,null,null,null,null,null,null,null,null,null,null,null,null,null,null,null,null,null,null,null,null,null,null,null,"Anchor #2",null,null,"Point 4",{"$f":"IF($AF105=\"\",0,$AF107)","v":0},{"$f":"IF(OR($AG105=\"\",$AF$105=0),$C$13,$AG105-((ABS($AF$105-$AF$108))*$AA$40))","v":99.18},null,63,10.08,"Left Bank",52.705327447732692,96.665029897757393,52.695821823986975,94.665106051629053,95.812487178795763,0,0,0,"","",0,1.1473811271667103,1.1473811271667103,0,0,0,0,0,1.1473811271667103,9.998536798312499E-2,0,0,0.16,10.08,0,0,"",5.5850081806283498,0.12637600217502981,0.16,0,0.16,10.08,""]
[null,null,null,null,null,null,null,null,null,null,null,null,null,null,null,null,null,null,null,null,null,null,null,null,null,null,null,"xTS (ft)","yTS (ft)",null,null,null,null,null,64,{"$f":"($AI109/$AI$245)*$AJ$245","v":10.24},{"$f":"IF(OR($C$19=\"\",$F$25=\"\",$G$25=\"\"),\"None\",IF(AL109<$B$14,\"Left Floodplain\",IF(AL109<$B$15,\"Left Bank\",IF(AL109<$B$16,\"Left Stream Bed\",IF(AL109<$B$17,\"Right Stream Bed\",IF(AL109<$B$18,\"Right Bank\",\"Right Floodplain\"))))))","v":"Left Bank"},52.792466375225402,96.66363365207765,52.782960751479685,94.66370980594931,{"$f":"IF($AL109<$B$14,(($AL109-$B$13)*$AB$31)+$C$13,IF($AL109<$B$15,(($AL109-$B$14)*$AB$32)+$C$14,IF($AL109<$B$16,(($AL109-$B$15)*$AB$33)+$C$15,IF($AL109<$B$17,(($AL109-$B$16)*$AB$34)+$C$16,IF($AL109<$B$18,(($AL109-$B$17)*$AB$35)+$C$17,IF($AL109<$B$19,(($AL109-$B$18)*$AB$36)+$C$18))))))","v":95.800204739492031},{"$f":"IF(OR($AP109<$AE$12,$AP109<=$AM109),0,IF(OR($AP109>=$AE$12,$AM109>=$AE$12),$AP109-$AM109-$AR109,$AP109-$AE$12))","v":0},{"$f":"IF($AP109<=$AM109,0,IF($AM109>=$AE$12,0,IF($AP109<=$AE$12,$AP109-$AM109,$AE$12-$AM109)))","v":0},{"$f":"IF(AP109<=AM109,0,AP109-AM109)","v":0},"","",0,{"$f":"IF($AP109<=$AO109,0,IF($AO109>=$AE$12,0,IF($AP109<=$AE$12,$AP109-$AO109,$AE$12-$AO109)))","v":1.1364949335427212},{"$f":"IF(AP109<=AO109,0,AP109-AO109)","v":1.1364949335427212},{"$f":"IF($AS109=0,0,IF(OR($AJ109=0,$AJ109=$E$22),$AJ$46/2,$AJ$46))","v":0},{"$f":"IF(OR($AK109=\"Left Stream Bed\",$AK109=\"Right Stream Bed\"),$F$22*$AQ109*$AY109,0)","v":0},{"$f":"IF(OR($AK109=\"Left Stream Bed\",$AK109=\"Right Stream Bed\"),$F$22*$AR109*$AY109,0)","v":0},{"$f":"IF(OR($AK109=\"Left Floodplain\",$AK109=\"Left Bank\",$AK109=\"Right Bank\",$AK109=\"Right Floodplain\"),$F$22*$AQ109*$AY109,0)","v":0},{"$f":"IF(OR($AK109=\"Left Floodplain\",$AK109=\"Left Bank\",$AK109=\"Right Bank\",$AK109=\"Right Floodplain\"),$F$22*$AR109*$AY109,0)","v":0},{"$f":"AX109-AS109","v":1.1364949335427212},9.9036720624668007E-2,{"$f":"AV109-AQ109","v":0},{"$f":"IF(OR($AJ109=0,$AJ109=$E$22),($BF109*$AJ$46/2)*ABS($M$17),$BF109*$AJ$46*ABS($M$17))","v":0},{"$f":"IF(OR($AM109<$AP109,$AO109>$AE$8),\"\",IF(OR($AJ109=0,$AJ109=$E$22),$AJ$46/2,$AJ$46))","v":0.16},10.24,0,{"$f":"IF($BJ109=\"\",\"\",IF(OR($BJ109>($F$22/2),$BJ109=0),0,0.45-($BJ109*0.45/($F$22/2))))","v":0},{"$f":"IF($BK109=\"\",\"\",IF($BK109>0,$AJ109,\"\"))","v":""},5.5864044263080928,0.12624381057908177,{"$f":"IF($AO109=0,0,IF($AO109>$AP109,0,IF(OR($AJ109=0,$AJ109=$E$22),$AJ$46/2,$AJ$46)))","v":0.16},{"$f":"IF(AND($BO109>0,OR($AK109=\"Left Stream Bed\",$AK109=\"Right Stream Bed\")),$BO109,0)","v":0},{"$f":"IF(AND($BO109>0,OR($AK109=\"Left Floodplain\",$AK109=\"Left Bank\",$AK109=\"Right Bank\",$AK109=\"Right Floodplain\")),$BO109,0)","v":0.16},{"$f":"IF($BO109>0,$AJ109,\"\")","v":10.24},""]
[null,null,null,null,null,null,null,null,null,null,null,null,null,null,null,null,null,null,null,null,null,null,null,null,null,null,"Point 1",{"$f":"IF(OR($F$25=\"\",$H84=\"\"),0,$AE$49-(($H84*$M$19)*$M$17))","v":0},{"$f":"IF(OR($AB$110=0,$AB110=\"\"),$C$13,($AF$49+(($AB110-$AE$49)*$AA$40))-($F$22/2))","v":99.18},null,null,"Log Interactions",null,null,65,10.4,"Left Bank",{"$f":"$AL$45+ABS(AJ110*$M$19*$M$17)","v":52.879605302718112},96.662237406397907,{"$f":"$AN$45+ABS(AJ110*$M$19*$M$17)","v":52.870099678972394},94.662313560269567,95.787922300188299,0,0,0,{"$f":"IF(OR($AS110=\"\",$AS110=0),\"\",IF(OR($AK110=\"Left Stream Bed\",$AK110=\"Right Stream Bed\"),$AS110,\"\"))","v":""},{"$f":"IF(OR($AS110=\"\",$AS110=0),\"\",IF(OR($AK110=\"Left Floodplain\",$AK110=\"Left Bank\",$AK110=\"Right Bank\",$AK110=\"Right Floodplain\"),$AS110,\"\"))","v":""},{"$f":"IF(OR($AP110<$AE$12,$AP110<=$AO110),0,IF($AO110>=$AE$12,$AP110-$AO110,$AP110-$AE$12))","v":0},1.1256087399187322,1.1256087399187322,0,0,0,0,0,1.1256087399187322,{"$f":"$BD110*$AJ$46*ABS($M$17)","v":9.8088073266211023E-2},0,0,0.16,{"$f":"IF($BH110=\"\",\"\",IF($BH110>0,$AJ110,\"\"))","v":10.4},{"$f":"IF($BH110=\"\",\"\",IF(OR(($AO110-$AP110)<0,$AO$45>=$AE$8),0,($AO110-$AP110)))","v":0},0,"",{"$f":"IF($BH110=\"\",\"\",IF(OR(($AM110-$AP110)<0,$AM110>=$AE$8),\"\",($AE$8-($AM110-(($F$22/2)/$M$19)))))","v":5.5878006719878357},0.1261117572579466,0.16,0,0.16,10.4,{"$f":"IF($AY110>0,$AJ110,\"\")","v":""}]
[null,null,null,null,null,null,null,null,null,null,null,null,null,null,null,null,null,null,null,null,null,null,null,null,null,null,"Point 2",{"$f":"IF($AB110=\"\",0,$AB110)","v":0},{"$f":"IF(OR($AB$110=0,$AC110=\"\"),$C$13,$AC110-4)","v":99.18},null,null,"xTS (ft)","yTS (ft)",null,66,10.56,"Left Bank",52.966744230210821,{"$f":"AM110+((AL111-AL110)*$AA$40)","v":96.660841160718164},52.957238606465104,{"$f":"AO110+((AN111-AN110)*$AA$40)","v":94.660917314589824},95.775639860884567,0,0,0,"","",0,1.1147225462947432,1.1147225462947432,0,0,0,0,0,1.1147225462947432,9.7139425907754054E-2,0,0,0.16,10.56,0,0,"",5.5891969176675786,{"$f":"IF($BM111=\"\",\"\",(((PI()^2)/32)*($B$66^-6)*EXP(-($BM111/$F$22)/(2*($B$66^2)))))","v":0.12597984206698609},0.16,0,0.16,10.56,""]
[null,null,null,null,null,null,null,null,null,null,null,null,null,null,null,null,null,null,null,null,null,null,null,null,null,null,null,null,null,null,"Point 1",{"$f":"IF(OR($F$25=\"\",$C90=\"\"),0,($AE$49-(($C90*$M$19)*$M$17))+(ABS(2*$M$17*$M$19)))","v":0},{"$f":"IF(OR($AF112=\"\",$AF$105=0),$C$13,($AF$49+(($AF112-$AE$49)*$AA$40))+($F$22/2))","v":99.18},null,67,10.72,"Left Bank",53.053883157703531,96.659444915038421,53.044377533957814,94.659521068910081,95.763357421580835,0,0,0,"","",0,1.1038363526707542,1.1038363526707542,0,0,0,0,0,1.1038363526707542,9.6190778549297071E-2,0,0,0.16,10.72,0,0,"",5.5905931633473216,0.12584806486171374,0.16,0,0.16,10.72,""]
[null,null,null,null,null,null,null,null,null,null,null,null,null,null,null,null,null,null,null,null,null,null,null,null,null,null,null,null,null,null,"Point 2",{"$f":"IF($AF112=\"\",0,$AF112)","v":0},{"$f":"IF(OR($AG112=\"\",$AF$105=0),$C$13,IF($AG$105>$AG$108,$AG112+2.25,$AG$108+2.25))","v":99.18},null,68,10.88,"Left Bank",53.141022085196241,96.658048669358678,53.131516461450531,94.658124823230338,95.751074982277103,0,0,0,"","",0,1.0929501590467652,1.0929501590467652,0,0,0,0,0,1.0929501590467652,9.5242131190840087E-2,0,0,0.16,10.88,0,0,"",5.5919894090270645,0.12571642549779397,0.16,0,0.16,10.88,""]
[null,null,null,null,null,null,null,null,null,null,null,null,null,null,null,null,null,null,null,null,null,null,null,null,null,null,null,null,null,null,"Point 3",{"$f":"IF(OR($F$25=\"\",$C90=\"\"),0,($AE$49-(($C90*$M$19)*$M$17))-(ABS(2*$M$17*$M$19)))","v":0},{"$f":"IF(OR($AG113=\"\",$AF$105=0),$C$13,$AG113)","v":99.18},null,69,11.04,"Left Bank",53.228161012688957,96.656652423678935,53.218655388943233,94.656728577550595,95.738792542973357,0,0,0,"","",0,1.082063965422762,1.082063965422762,0,0,0,0,0,1.082063965422762,9.4293483832381883E-2,0,0,0.16,11.04,0,0,"",5.5933856547068075,0.12558492383104222,0.16,0,0.16,11.04,""]
[null,null,null,null,null,null,null,null,null,null,null,null,null,null,null,null,null,null,null,null,null,null,null,null,null,null,null,null,null,null,"Point 4",{"$f":"IF($AF112=\"\",0,$AF114)","v":0},{"$f":"IF(OR($AG112=\"\",$AF$105=0),$C$13,$AG112-((ABS($AF$105-$AF$108))*$AA$40))","v":99.18},null,70,11.2,"Left Bank",53.315299940181667,96.655256177999192,53.30579431643595,94.655332331870852,95.726510103669625,0,0,0,"","",0,1.0711777717987729,1.0711777717987729,0,0,0,0,0,1.0711777717987729,9.3344836473924886E-2,0,0,0.16,11.2,0,0,"",5.5947819003865504,0.12545355971742486,0.16,0,0.16,11.2,""]
[null,null,null,null,null,null,null,null,null,null,null,null,null,null,null,null,null,null,null,null,null,null,null,null,null,null,null,null,null,null,null,null,null,null,71,11.36,"Left Bank",53.402438867674377,96.653859932319449,53.39293324392866,94.653936086191109,95.714227664365893,0,0,0,"","",0,1.0602915781747839,1.0602915781747839,0,0,0,0,0,1.0602915781747839,9.2396189115467917E-2,0,0,0.16,11.36,0,0,"",5.5961781460662934,0.12532233301305862,0.16,0,0.16,11.36,""]
[null,null,null,null,null,null,null,null,null,null,null,null,null,null,null,null,null,null,null,null,null,null,null,null,null,null,null,null,null,null,null,null,null,null,72,11.52,"Left Bank",53.489577795167087,96.652463686639706,53.480072171421369,94.652539840511366,95.701945225062161,0,0,0,"","",0,1.0494053845507949,1.0494053845507949,0,0,0,0,0,1.0494053845507949,9.1447541757010947E-2,0,0,0.16,11.52,0,0,"",5.5975743917460363,0.12519124357421099,0.16,0,0.16,11.52,""]
[null,null,null,null,null,null,null,null,null,null,null,null,null,null,null,null,null,null,null,null,null,null,null,null,null,null,null,null,null,null,null,null,null,null,73,11.68,"Left Bank",53.576716722659796,96.651067440959963,53.567211098914079,94.651143594831623,95.689662785758429,0,0,0,"","",0,1.0385191909268059,1.0385191909268059,0,0,0,0,0,1.0385191909268059,9.049889439855395E-2,0,0,0.16,11.68,0,0,"",5.5989706374257793,0.12506029125729978,0.16,0,0.16,11.68,""]
[null,null,null,null,null,null,null,null,null,null,null,null,null,null,null,null,null,null,null,null,null,null,null,null,null,null,null,null,null,null,null,null,null,null,74,11.84,"Left Bank",53.663855650152506,96.64967119528022,53.654350026406789,94.64974734915188,95.677380346454697,0,0,0,"","",0,1.0276329973028169,1.0276329973028169,0,0,0,0,0,1.0276329973028169,8.9550247040096981E-2,0,0,0.16,11.84,0,0,"",5.6003668831055222,0.12492947591889292,0.16,0,0.16,11.84,""]
[null,null,null,null,null,null,null,null,null,null,null,null,null,null,null,null,null,null,null,null,null,null,null,null,null,null,null,null,null,null,null,null,null,null,75,12,"Left Bank",53.750994577645216,96.648274949600477,53.741488953899498,94.648351103472137,95.665097907150951,0,0,0,"","",0,1.0167468036788136,1.0167468036788136,0,0,0,0,0,1.0167468036788136,8.8601599681638762E-2,0,0,0.16,12,0,0,"",5.6017631287852652,0.12479879741570854,0.16,0,0.16,12,""]
[null,null,null,null,null,null,null,null,null,null,null,null,null,null,null,null,null,null,null,null,null,null,null,null,null,null,null,null,null,null,null,null,null,null,76,12.16,"Left Bank",53.838133505137932,96.646878703920734,53.828627881392208,94.646954857792394,95.652815467847219,0,0,0,"","",0,1.0058606100548246,1.0058606100548246,0,0,0,0,0,1.0058606100548246,8.7652952323181779E-2,0,0,0.16,12.16,0,0,"",5.6031593744650081,0.12466825560461427,0.16,0,0.16,12.16,""]
[null,null,null,null,null,null,null,null,null,null,null,null,null,null,null,null,null,null,null,null,null,null,null,null,null,null,null,null,null,null,null,null,null,null,77,12.32,"Left Bank",53.925272432630635,96.645482458240991,53.915766808884925,94.645558612112652,95.640533028543487,0,0,0,"","",0,0.99497441643083562,0.99497441643083562,0,0,0,0,0,0.99497441643083562,8.670430496472481E-2,0,0,0.16,12.32,0,0,"",5.6045556201447511,0.12453785034262782,0.16,0,0.16,12.32,""]
[null,null,null,null,null,null,null,null,null,null,null,null,null,null,null,null,null,null,null,null,null,null,null,null,null,null,null,null,null,null,null,null,null,null,78,12.48,"Left Stream Bed",54.012411360123352,96.644086212561248,54.002905736377635,94.644162366432909,95.628595034034035,0,0,0,"","",0,0.98443266760112635,0.98443266760112635,0,0,0,0,0,0.98443266760112635,8.578567329912741E-2,0,0,0.16,12.48,0,0,"",5.605951865824494,0.12440758148691636,0.16,0.16,0,12.48,""]
[null,null,null,null,null,null,null,null,null,null,null,null,null,null,null,null,null,null,null,null,null,null,null,null,null,null,null,null,null,null,null,null,null,null,79,12.64,"Left Stream Bed",54.099550287616061,96.642689966881505,54.090044663870344,94.642766120753166,95.618730907441858,0,0,0,"","",0,0.97596478668869224,0.97596478668869224,0,0,0,0,0,0.97596478668869224,8.5047763140924187E-2,0,0,0.16,12.64,0,0,"",5.607348111504237,0.1242774488947964,0.16,0.16,0,12.64,""]
[null,null,null,null,null,null,null,null,null,null,null,null,null,null,null,null,null,null,null,null,null,null,null,null,null,null,null,null,null,null,null,null,null,null,80,12.8,"Left Stream Bed",54.186689215108771,96.641293721201762,54.177183591363054,94.641369875073423,95.608866780849681,0,0,0,"","",0,0.96749690577625813,0.96749690577625813,0,0,0,0,0,0.96749690577625813,8.4309852982720937E-2,0,0,0.16,12.8,0,0,"",5.6087443571839799,0.12414745242373389,0.16,0.16,0,12.8,""]
[null,null,null,null,null,null,null,null,null,null,null,null,null,null,null,null,null,null,null,null,null,null,null,null,null,null,null,null,null,null,null,null,null,null,81,12.96,"Left Stream Bed",54.273828142601481,96.639897475522019,54.264322518855764,94.63997362939368,95.599002654257504,0,0,0,"","",0,0.95902902486382402,0.95902902486382402,0,0,0,0,0,0.95902902486382402,8.3571942824517687E-2,0,0,0.16,12.96,0,0,"",5.6101406028637228,0.12401759193134348,0.16,0.16,0,12.96,""]
[null,null,null,null,null,null,null,null,null,null,null,null,null,null,null,null,null,null,null,null,null,null,null,null,null,null,null,null,null,null,null,null,null,null,82,13.12,"Left Stream Bed",54.36096707009419,96.638501229842277,54.351461446348473,94.638577383713937,95.589138527665327,0,0,0,"","",0,0.95056114395138991,0.95056114395138991,0,0,0,0,0,0.95056114395138991,8.283403266631445E-2,0,0,0.16,13.12,0,0,"",5.6115368485434658,0.12388786727538915,0.16,0.16,0,13.12,""]
[null,null,null,null,null,null,null,null,null,null,null,null,null,null,null,null,null,null,null,null,null,null,null,null,null,null,null,null,null,null,null,null,null,null,83,13.28,"Left Stream Bed",54.4481059975869,96.637104984162534,54.438600373841183,94.637181138034194,95.579274401073164,0,0,0,"","",0,0.94209326303897001,0.94209326303897001,0,0,0,0,0,0.94209326303897001,8.2096122508112435E-2,0,0,0.16,13.28,0,0,"",5.6129330942232087,0.1237582783137835,0.16,0.16,0,13.28,""]
[null,null,null,null,null,null,null,null,null,null,null,null,null,null,null,null,null,null,null,null,null,null,null,null,null,null,null,null,null,null,null,null,null,null,84,13.44,"Left Stream Bed",54.53524492507961,96.635708738482791,54.525739301333893,94.635784892354451,95.569410274480987,0,0,0,"","",0,0.9336253821265359,0.9336253821265359,0,0,0,0,0,0.9336253821265359,8.1358212349909184E-2,0,0,0.16,13.44,0,0,"",5.6143293399029517,0.1236288249045879,0.16,0.16,0,13.44,""]
[null,null,null,null,null,null,null,null,null,null,null,null,null,null,null,null,null,null,null,null,null,null,null,null,null,null,null,null,null,null,null,null,null,null,85,13.6,"Left Stream Bed",54.622383852572327,96.634312492803048,54.612878228826602,94.634388646674708,95.55954614788881,0,0,0,"","",0,0.92515750121410179,0.92515750121410179,0,0,0,0,0,0.92515750121410179,8.0620302191705948E-2,0,0,0.16,13.6,0,0,"",5.6157255855826946,0.12349950690601183,0.16,0.16,0,13.6,""]
[null,null,null,null,null,null,null,null,null,null,null,null,null,null,null,null,null,null,null,null,null,null,null,null,null,null,null,null,null,null,null,null,null,null,86,13.76,"Left Stream Bed",54.709522780065036,96.632916247123305,54.700017156319319,94.632992400994965,95.549682021296633,0,0,0,"","",0,0.91668962030166767,0.91668962030166767,0,0,0,0,0,0.91668962030166767,7.9882392033502697E-2,0,0,0.16,13.76,0,0,"",5.6171218312624376,0.12337032417641342,0.16,0.16,0,13.76,""]
[null,null,null,null,null,null,null,null,null,null,null,null,null,null,null,null,null,null,null,null,null,null,null,null,null,null,null,null,null,null,null,null,null,null,87,13.92,"Left Stream Bed",54.796661707557746,96.631520001443562,54.787156083812029,94.631596155315222,95.539817894704456,0,0,0,"","",0,0.90822173938923356,0.90822173938923356,0,0,0,0,0,0.90822173938923356,7.9144481875299447E-2,0,0,0.16,13.92,0,0,"",5.6185180769421805,0.12324127657429888,0.16,0.16,0,13.92,""]
[null,null,null,null,null,null,null,null,null,null,null,null,null,null,null,null,null,null,null,null,null,null,null,null,null,null,null,null,null,null,null,null,null,null,88,14.08,"Left Stream Bed",54.883800635050456,96.630123755763819,54.874295011304739,94.630199909635479,95.529953768112279,0,0,0,"","",0,0.89975385847679945,0.89975385847679945,0,0,0,0,0,0.89975385847679945,7.8406571717096224E-2,0,0,0.16,14.08,0,0,"",5.6199143226219235,0.1231123639583224,0.16,0.16,0,14.08,""]
[null,null,null,null,null,null,null,null,null,null,null,null,null,null,null,null,null,null,null,null,null,null,null,null,null,null,null,null,null,null,null,null,null,null,89,14.24,"Left Stream Bed",54.970939562543165,96.628727510084076,54.961433938797448,94.628803663955736,95.520089641520116,0,0,0,"","",0,0.89128597756437955,0.89128597756437955,0,0,0,0,0,0.89128597756437955,7.7668661558894209E-2,0,0,0.16,14.24,0,0,"",5.6213105683016664,0.12298358618728612,0.16,0.16,0,14.24,""]
[null,null,null,null,null,null,null,null,null,null,null,null,null,null,null,null,null,null,null,null,null,null,null,null,null,null,null,null,null,null,null,null,null,null,90,14.4,"Left Stream Bed",55.058078490035875,96.627331264404333,55.048572866290158,94.627407418275993,95.510225514927939,0,0,0,"","",0,0.88281809665194544,0.88281809665194544,0,0,0,0,0,0.88281809665194544,7.6930751400690958E-2,0,0,0.16,14.4,0,0,"",5.6227068139814094,0.12285494312013959,0.16,0.16,0,14.4,""]
[null,null,null,null,null,null,null,null,null,null,null,null,null,null,null,null,null,null,null,null,null,null,null,null,null,null,null,null,null,null,null,null,null,null,91,14.56,"Left Stream Bed",55.145217417528585,96.62593501872459,55.135711793782868,94.62601117259625,95.500361388335762,0,0,0,"","",0,0.87435021573951133,0.87435021573951133,0,0,0,0,0,0.87435021573951133,7.6192841242487708E-2,0,0,0.16,14.56,0,0,"",5.6241030596611523,0.12272643461598018,0.16,0.16,0,14.56,""]
[null,null,null,null,null,null,null,null,null,null,null,null,null,null,null,null,null,null,null,null,null,null,null,null,null,null,null,null,null,null,null,null,null,null,92,14.72,"Left Stream Bed",55.232356345021302,96.624538773044847,55.222850721275577,94.624614926916507,95.490497261743585,0,0,0,"","",0,0.86588233482707722,0.86588233482707722,0,0,0,0,0,0.86588233482707722,7.5454931084284471E-2,0,0,0.16,14.72,0,0,"",5.6254993053408953,0.12259806053405256,0.16,0.16,0,14.72,""]
[null,null,null,null,null,null,null,null,null,null,null,null,null,null,null,null,null,null,null,null,null,null,null,null,null,null,null,null,null,null,null,null,null,null,93,14.88,"Left Stream Bed",55.319495272514004,96.623142527365104,55.309989648768294,94.623218681236764,95.480633135151407,0,0,0,"","",0,0.8574144539146431,0.8574144539146431,0,0,0,0,0,0.8574144539146431,7.4717020926081221E-2,0,0,0.16,14.88,0,0,"",5.6268955510206382,0.12246982073374865,0.16,0.16,0,14.88,""]
[null,null,null,null,null,null,null,null,null,null,null,null,null,null,null,null,null,null,null,null,null,null,null,null,null,null,null,null,null,null,null,null,null,null,94,15.04,"Left Stream Bed",55.406634200006721,96.621746281685361,55.397128576260997,94.621822435557021,95.47076900855923,0,0,0,"","",0,0.84894657300220899,0.84894657300220899,0,0,0,0,0,0.84894657300220899,7.397911076787797E-2,0,0,0.16,15.04,0,0,"",5.6282917967003812,0.12234171507460752,0.16,0.16,0,15.04,""]
[null,null,null,null,null,null,null,null,null,null,null,null,null,null,null,null,null,null,null,null,null,null,null,null,null,null,null,null,null,null,null,null,null,null,95,15.2,"Left Stream Bed",55.493773127499431,96.620350036005618,55.484267503753713,94.620426189877278,95.460904881967053,0,0,0,"","",0,0.84047869208977488,0.84047869208977488,0,0,0,0,0,0.84047869208977488,7.3241200609674734E-2,0,0,0.16,15.2,0,0,"",5.6296880423801241,0.12221374341631487,0.16,0.16,0,15.2,""]
[null,null,null,null,null,null,null,null,null,null,null,null,null,null,null,null,null,null,null,null,null,null,null,null,null,null,null,null,null,null,null,null,null,null,96,15.36,"Left Stream Bed",55.58091205499214,96.618953790325875,55.571406431246423,94.619029944197536,95.451040755374891,0,0,0,"","",0,0.83201081117735498,0.83201081117735498,0,0,0,0,0,0.83201081117735498,7.2503290451472732E-2,0,0,0.16,15.36,0,0,"",5.631084288059867,0.12208590561870346,0.16,0.16,0,15.36,""]
[null,null,null,null,null,null,null,null,null,null,null,null,null,null,null,null,null,null,null,null,null,null,null,null,null,null,null,null,null,null,null,null,null,null,97,15.52,"Left Stream Bed",{"$f":"$AL$45+ABS(AJ142*$M$19*$M$17)","v":55.66805098248485},96.617557544646132,{"$f":"$AN$45+ABS(AJ142*$M$19*$M$17)","v":55.658545358739133},94.617633698517793,95.441176628782713,0,0,0,"","",0,0.82354293026492087,0.82354293026492087,0,0,0,0,0,0.82354293026492087,7.1765380293269482E-2,0,0,0.16,15.52,0,0,"",5.63248053373961,0.12195820154175262,0.16,0.16,0,15.52,""]
[null,null,null,null,null,null,null,null,null,null,null,null,null,null,null,null,null,null,null,null,null,null,null,null,null,null,null,null,null,null,null,null,null,null,98,15.68,"Left Stream Bed",55.75518990997756,96.616161298966389,55.745684286231842,94.61623745283805,95.431312502190536,0,0,0,"","",0,0.81507504935248676,0.81507504935248676,0,0,0,0,0,0.81507504935248676,7.1027470135066245E-2,0,0,0.16,15.68,0,0,"",5.6338767794193529,0.12183063104558818,0.16,0.16,0,15.68,""]
[null,null,null,null,null,null,null,null,null,null,null,null,null,null,null,null,null,null,null,null,null,null,null,null,null,null,null,null,null,null,null,null,null,null,99,15.84,"Left Stream Bed",55.842328837470269,96.614765053286646,55.832823213724552,94.614841207158307,95.421448375598359,0,0,0,"","",0,0.80660716844005265,0.80660716844005265,0,0,0,0,0,0.80660716844005265,7.0289559976862995E-2,0,0,0.16,15.84,0,0,"",5.6352730250990959,0.12170319399048202,0.16,0.16,0,15.84,""]
[null,null,null,null,null,null,null,null,null,null,null,null,null,null,null,null,null,null,null,null,null,null,null,null,null,null,null,null,null,null,null,null,null,null,100,16,"Left Stream Bed",55.929467764962979,96.613368807606903,55.919962141217262,94.613444961478564,95.411584249006182,0,0,0,"","",0,0.79813928752761854,0.79813928752761854,0,0,0,0,0,0.79813928752761854,6.9551649818659744E-2,0,0,0.16,16,0,0,"",5.6366692707788388,0.12157589023685247,0.16,0.16,0,16,""]
[null,null,null,null,null,null,null,null,null,null,null,null,null,null,null,null,null,null,null,null,null,null,null,null,null,null,null,null,null,null,null,null,null,null,101,16.16,"Left Stream Bed",56.016606692455696,96.611972561927161,56.007101068709972,94.612048715798821,95.401720122414005,0,0,0,"","",0,0.78967140661518442,0.78967140661518442,0,0,0,0,0,0.78967140661518442,6.8813739660456494E-2,0,0,0.16,16.16,0,0,"",5.6380655164585818,0.12144871964526376,0.16,0.16,0,16.16,""]
[null,null,null,null,null,null,null,null,null,null,null,null,null,null,null,null,null,null,null,null,null,null,null,null,null,null,null,null,null,null,null,null,null,null,102,16.32,"Left Stream Bed",56.103745619948398,96.610576316247418,56.094239996202688,94.610652470119078,95.391855995821842,0,0,0,"","",0,0.78120352570276452,0.78120352570276452,0,0,0,0,0,0.78120352570276452,6.8075829502254492E-2,0,0,0.16,16.32,0,0,"",5.6394617621383247,0.12132168207642595,0.16,0.16,0,16.32,""]
[null,null,null,null,null,null,null,null,null,null,null,null,null,null,null,null,null,null,null,null,null,null,null,null,null,null,null,null,null,null,null,null,null,null,103,16.48,"Left Stream Bed",56.190884547441115,96.609180070567675,56.181378923695398,94.609256224439335,95.381991869229665,0,0,0,"","",0,0.77273564479033041,0.77273564479033041,0,0,0,0,0,0.77273564479033041,6.7337919344051242E-2,0,0,0.16,16.48,0,0,"",5.6408580078180677,0.12119477739119497,0.16,0.16,0,16.48,""]
[null,null,null,null,null,null,null,null,null,null,null,null,null,null,null,null,null,null,null,null,null,null,null,null,null,null,null,null,null,null,null,null,null,null,104,16.64,"Left Stream Bed",56.278023474933825,96.607783824887932,56.268517851188108,94.607859978759592,95.372127742637488,0,0,0,"","",0,0.7642677638778963,0.7642677638778963,0,0,0,0,0,0.7642677638778963,6.6600009185848005E-2,0,0,0.16,16.64,0,0,"",5.6422542534978106,0.12106800545057191,0.16,0.16,0,16.64,""]
[null,null,null,null,null,null,null,null,null,null,null,null,null,null,null,null,null,null,null,null,null,null,null,null,null,null,null,null,null,null,null,null,null,null,105,16.8,"Left Stream Bed",56.365162402426535,96.606387579208189,56.355656778680817,94.606463733079849,95.362263616045311,0,0,0,"","",0,0.75579988296546219,0.75579988296546219,0,0,0,0,0,0.75579988296546219,6.5862099027644755E-2,0,0,0.16,16.8,0,0,"",5.6436504991775536,0.12094136611570362,0.16,0.16,0,16.8,""]
[null,null,null,null,null,null,null,null,null,null,null,null,null,null,null,null,null,null,null,null,null,null,null,null,null,null,null,null,null,null,null,null,null,null,106,16.96,"Left Stream Bed",56.452301329919244,96.604991333528446,56.442795706173527,94.605067487400106,95.352399489453134,0,0,0,"","",0,0.74733200205302808,0.74733200205302808,0,0,0,0,0,0.74733200205302808,6.5124188869441518E-2,0,0,0.16,16.96,0,0,"",5.6450467448572965,0.12081485924788206,0.16,0.16,0,16.96,""]
[null,null,null,null,null,null,null,null,null,null,null,null,null,null,null,null,null,null,null,null,null,null,null,null,null,null,null,null,null,null,null,null,null,null,107,17.12,"Left Stream Bed",56.539440257411954,96.603595087848703,56.529934633666237,94.603671241720363,95.342535362860957,0,0,0,"","",0,0.73886412114059397,0.73886412114059397,0,0,0,0,0,0.73886412114059397,6.4386278711238268E-2,0,0,0.16,17.12,0,0,"",5.6464429905370395,0.12068848470854431,0.16,0.16,0,17.12,""]
[null,null,null,null,null,null,null,null,null,null,null,null,null,null,null,null,null,null,null,null,null,null,null,null,null,null,null,null,null,null,null,null,null,null,108,17.28,"Left Stream Bed",56.626579184904671,96.60219884216896,56.617073561158946,94.60227499604062,95.33267123626878,0,0,0,"","",0,0.73039624022815985,0.73039624022815985,0,0,0,0,0,0.73039624022815985,6.3648368553035017E-2,0,0,0.16,17.28,0,0,"",5.6478392362167824,0.12056224235927243,0.16,0.16,0,17.28,""]
[null,null,null,null,null,null,null,null,null,null,null,null,null,null,null,null,null,null,null,null,null,null,null,null,null,null,null,null,null,null,null,null,null,null,109,17.440000000000001,"Left Stream Bed",56.71371811239738,96.600802596489217,56.704212488651663,94.600878750360877,95.322807109676617,0,0,0,"","",0,0.72192835931573995,0.72192835931573995,0,0,0,0,0,0.72192835931573995,6.2910458394833016E-2,0,0,0.16,17.440000000000001,0,0,"",5.6492354818965254,0.12043613206179304,0.16,0.16,0,17.440000000000001,""]
[null,null,null,null,null,null,null,null,null,null,null,null,null,null,null,null,null,null,null,null,null,null,null,null,null,null,null,null,null,null,null,null,null,null,110,17.600000000000001,"Left Stream Bed",56.80085703989009,96.599406350809474,56.791351416144373,94.599482504681134,95.31294298308444,0,0,0,"","",0,0.71346047840330584,0.71346047840330584,0,0,0,0,0,0.71346047840330584,6.2172548236629765E-2,0,0,0.16,17.600000000000001,0,0,"",5.6506317275762683,0.12031015367797765,0.16,0.16,0,17.600000000000001,""]
[null,null,null,null,null,null,null,null,null,null,null,null,null,null,null,null,null,null,null,null,null,null,null,null,null,null,null,null,null,null,null,null,null,null,111,17.760000000000002,"Left Stream Bed",56.8879959673828,96.598010105129731,56.878490343637083,94.598086259001391,95.303078856492263,0,0,0,"","",0,0.70499259749087173,0.70499259749087173,0,0,0,0,0,0.70499259749087173,6.1434638078426529E-2,0,0,0.16,17.760000000000002,0,0,"",5.6520279732560113,0.12018430706984219,0.16,0.16,0,17.760000000000002,""]
[null,null,null,null,null,null,null,null,null,null,null,null,null,null,null,null,null,null,null,null,null,null,null,null,null,null,null,null,null,null,null,null,null,null,112,17.920000000000002,"Left Stream Bed",56.975134894875509,96.596613859449988,56.965629271129792,94.596690013321648,95.293214729900086,0,0,0,"","",0,0.69652471657843762,0.69652471657843762,0,0,0,0,0,0.69652471657843762,6.0696727920223285E-2,0,0,0.16,17.920000000000002,0,0,"",5.6534242189357542,0.12005859209954688,0.16,0.16,0,17.920000000000002,""]
[null,null,null,null,null,null,null,null,null,null,null,null,null,null,null,null,null,null,null,null,null,null,null,null,null,null,null,null,null,null,null,null,null,null,113,18.079999999999998,"Left Stream Bed",57.062273822368219,96.595217613770245,57.052768198622502,94.595293767641905,95.283350603307909,0,0,0,"","",0,0.68805683566600351,0.68805683566600351,0,0,0,0,0,0.68805683566600351,5.9958817762020035E-2,0,0,0.16,18.079999999999998,0,0,"",5.6548204646154971,0.11993300862939626,0.16,0.16,0,18.079999999999998,""]
[null,null,null,null,null,null,null,null,null,null,null,null,null,null,null,null,null,null,null,null,null,null,null,null,null,null,null,null,null,null,null,null,null,null,114,18.239999999999998,"Left Stream Bed",57.149412749860929,96.593821368090502,57.139907126115212,94.593897521962163,95.273486476715732,0,0,0,"","",0,0.6795889547535694,0.6795889547535694,0,0,0,0,0,0.6795889547535694,5.9220907603816791E-2,0,0,0.16,18.239999999999998,0,0,"",5.6562167102952401,0.11980755652183857,0.16,0.16,0,18.239999999999998,""]
[null,null,null,null,null,null,null,null,null,null,null,null,null,null,null,null,null,null,null,null,null,null,null,null,null,null,null,null,null,null,null,null,null,null,115,18.399999999999999,"Left Stream Bed",57.236551677353638,96.592425122410759,57.227046053607921,94.59250127628242,95.263622350123569,0,0,0,"","",0,0.6711210738411495,0.6711210738411495,0,0,0,0,0,0.6711210738411495,5.8482997445614783E-2,0,0,0.16,18.399999999999999,0,0,"",5.657612955974983,0.11968223563946627,0.16,0.16,0,18.399999999999999,""]
[null,null,null,null,null,null,null,null,null,null,null,null,null,null,null,null,null,null,null,null,null,null,null,null,null,null,null,null,null,null,null,null,null,null,116,18.559999999999999,"Left Stream Bed",57.323690604846348,96.591028876731016,57.314184981100631,94.591105030602677,95.253758223531392,0,0,0,"","",0,0.66265319292871538,0.66265319292871538,0,0,0,0,0,0.66265319292871538,5.774508728741154E-2,0,0,0.16,18.559999999999999,0,0,"",5.659009201654726,0.11955704584501542,0.16,0.16,0,18.559999999999999,""]
[null,null,null,null,null,null,null,null,null,null,null,null,null,null,null,null,null,null,null,null,null,null,null,null,null,null,null,null,null,null,null,null,null,null,117,18.72,"Left Stream Bed",57.410829532339065,96.589632631051273,57.401323908593341,94.589708784922934,95.243894096939215,0,0,0,"","",0,0.65418531201628127,0.65418531201628127,0,0,0,0,0,0.65418531201628127,5.7007177129208296E-2,0,0,0.16,18.72,0,0,"",5.6604054473344689,0.11943198700136576,0.16,0.16,0,18.72,""]
[null,null,null,null,null,null,null,null,null,null,null,null,null,null,null,null,null,null,null,null,null,null,null,null,null,null,null,null,null,null,null,null,null,null,118,18.88,"Left Stream Bed",57.497968459831768,96.58823638537153,57.488462836086057,94.588312539243191,95.234029970347038,0,0,0,"","",0,0.64571743110384716,0.64571743110384716,0,0,0,0,0,0.64571743110384716,5.6269266971005046E-2,0,0,0.16,18.88,0,0,"",5.6618016930142119,0.1193070589715402,0.16,0.16,0,18.88,""]
[null,null,null,null,null,null,null,null,null,null,null,null,null,null,null,null,null,null,null,null,null,null,null,null,null,null,null,null,null,null,null,null,null,null,119,19.04,"Left Stream Bed",57.585107387324484,96.586840139691787,57.575601763578767,94.586916293563448,95.224165843754861,0,0,0,"","",0,0.63724955019141305,0.63724955019141305,0,0,0,0,0,0.63724955019141305,5.5531356812801802E-2,0,0,0.16,19.04,0,0,"",5.6631979386939548,0.11918226161870517,0.16,0.16,0,19.04,""]
[null,null,null,null,null,null,null,null,null,null,null,null,null,null,null,null,null,null,null,null,null,null,null,null,null,null,null,null,null,null,null,null,null,null,120,19.2,"Left Stream Bed",57.672246314817194,96.585443894012045,57.662740691071477,94.585520047883705,95.214301717162684,0,0,0,"","",0,0.62878166927897894,0.62878166927897894,0,0,0,0,0,0.62878166927897894,5.4793446654598565E-2,0,0,0.16,19.2,0,0,"",5.6645941843736978,0.11905759480617017,0.16,0.16,0,19.2,""]
[null,null,null,null,null,null,null,null,null,null,null,null,null,null,null,null,null,null,null,null,null,null,null,null,null,null,null,null,null,null,null,null,null,null,121,19.36,"Left Stream Bed",57.759385242309904,96.584047648332302,57.749879618564187,94.584123802203962,95.204437590570521,0,0,0,"","",0,0.62031378836655904,0.62031378836655904,0,0,0,0,0,0.62031378836655904,5.405553649639655E-2,0,0,0.16,19.36,0,0,"",5.6659904300534407,0.1189330583973877,0.16,0.16,0,19.36,""]
[null,null,null,null,null,null,null,null,null,null,null,null,null,null,null,null,null,null,null,null,null,null,null,null,null,null,null,null,null,null,null,null,null,null,122,19.52,"Left Stream Bed",57.846524169802613,96.582651402652559,57.837018546056896,94.582727556524219,95.194573463978344,0,0,0,"","",0,0.61184590745412493,0.61184590745412493,0,0,0,0,0,0.61184590745412493,5.3317626338193307E-2,0,0,0.16,19.52,0,0,"",5.6673866757331837,0.11880865225595313,0.16,0.16,0,19.52,""]
[null,null,null,null,null,null,null,null,null,null,null,null,null,null,null,null,null,null,null,null,null,null,null,null,null,null,null,null,null,null,null,null,null,null,123,19.68,"Left Stream Bed",57.933663097295323,96.581255156972816,57.924157473549606,94.581331310844476,95.184709337386167,0,0,0,"","",0,0.60337802654169082,0.60337802654169082,0,0,0,0,0,0.60337802654169082,5.2579716179990063E-2,0,0,0.16,19.68,0,0,"",5.6687829214129266,0.11868437624560428,0.16,0.16,0,19.68,""]
[null,null,null,null,null,null,null,null,null,null,null,null,null,null,null,null,null,null,null,null,null,null,null,null,null,null,null,null,null,null,null,null,null,null,124,19.84,"Left Stream Bed",58.020802024788033,96.579858911293073,58.011296401042316,94.579935065164733,95.17484521079399,0,0,0,"","",0,0.5949101456292567,0.5949101456292567,0,0,0,0,0,0.5949101456292567,5.184180602178682E-2,0,0,0.16,19.84,0,0,"",5.6701791670926696,0.11856023023022172,0.16,0.16,0,19.84,""]
[null,null,null,null,null,null,null,null,null,null,null,null,null,null,null,null,null,null,null,null,null,null,null,null,null,null,null,null,null,null,null,null,null,null,125,20,"Left Stream Bed",58.107940952280742,96.57846266561333,58.098435328535032,94.57853881948499,95.164981084201813,0,0,0,"","",0,0.58644226471682259,0.58644226471682259,0,0,0,0,0,0.58644226471682259,5.1103895863583576E-2,0,0,0.16,20,0,0,"",5.6715754127724125,0.11843621407382839,0.16,0.16,0,20,""]
[null,null,null,null,null,null,null,null,null,null,null,null,null,null,null,null,null,null,null,null,null,null,null,null,null,null,null,null,null,null,null,null,null,null,126,20.16,"Left Stream Bed",58.195079879773459,96.577066419933587,58.185574256027735,94.577142573805247,95.155116957609636,0,0,0,"","",0,0.57797438380438848,0.57797438380438848,0,0,0,0,0,0.57797438380438848,5.0365985705380326E-2,0,0,0.16,20.16,0,0,"",5.6729716584521555,0.11831232764058942,0.16,0.16,0,20.16,""]
[null,null,null,null,null,null,null,null,null,null,null,null,null,null,null,null,null,null,null,null,null,null,null,null,null,null,null,null,null,null,null,null,null,null,127,20.32,"Left Stream Bed",58.282218807266169,96.575670174253844,58.272713183520452,94.575746328125504,95.145252831017459,0,0,0,"","",0,0.56950650289195437,0.56950650289195437,0,0,0,0,0,0.56950650289195437,4.9628075547177082E-2,0,0,0.16,20.32,0,0,"",5.6743679041318984,0.11818857079481211,0.16,0.16,0,20.32,""]
[null,null,null,null,null,null,null,null,null,null,null,null,null,null,null,null,null,null,null,null,null,null,null,null,null,null,null,null,null,null,null,null,null,null,128,{"$f":"($AI173/$AI$245)*$AJ$245","v":20.48},{"$f":"IF(OR($C$19=\"\",$F$25=\"\",$G$25=\"\"),\"None\",IF(AL173<$B$14,\"Left Floodplain\",IF(AL173<$B$15,\"Left Bank\",IF(AL173<$B$16,\"Left Stream Bed\",IF(AL173<$B$17,\"Right Stream Bed\",IF(AL173<$B$18,\"Right Bank\",\"Right Floodplain\"))))))","v":"Left Stream Bed"},58.369357734758879,96.574273928574101,58.359852111013161,94.574350082445761,{"$f":"IF($AL173<$B$14,(($AL173-$B$13)*$AB$31)+$C$13,IF($AL173<$B$15,(($AL173-$B$14)*$AB$32)+$C$14,IF($AL173<$B$16,(($AL173-$B$15)*$AB$33)+$C$15,IF($AL173<$B$17,(($AL173-$B$16)*$AB$34)+$C$16,IF($AL173<$B$18,(($AL173-$B$17)*$AB$35)+$C$17,IF($AL173<$B$19,(($AL173-$B$18)*$AB$36)+$C$18))))))","v":95.135388704425296},{"$f":"IF(OR($AP173<$AE$12,$AP173<=$AM173),0,IF(OR($AP173>=$AE$12,$AM173>=$AE$12),$AP173-$AM173-$AR173,$AP173-$AE$12))","v":0},{"$f":"IF($AP173<=$AM173,0,IF($AM173>=$AE$12,0,IF($AP173<=$AE$12,$AP173-$AM173,$AE$12-$AM173)))","v":0},{"$f":"IF(AP173<=AM173,0,AP173-AM173)","v":0},"","",0,{"$f":"IF($AP173<=$AO173,0,IF($AO173>=$AE$12,0,IF($AP173<=$AE$12,$AP173-$AO173,$AE$12-$AO173)))","v":0.56103862197953447},{"$f":"IF(AP173<=AO173,0,AP173-AO173)","v":0.56103862197953447},{"$f":"IF($AS173=0,0,IF(OR($AJ173=0,$AJ173=$E$22),$AJ$46/2,$AJ$46))","v":0},{"$f":"IF(OR($AK173=\"Left Stream Bed\",$AK173=\"Right Stream Bed\"),$F$22*$AQ173*$AY173,0)","v":0},{"$f":"IF(OR($AK173=\"Left Stream Bed\",$AK173=\"Right Stream Bed\"),$F$22*$AR173*$AY173,0)","v":0},{"$f":"IF(OR($AK173=\"Left Floodplain\",$AK173=\"Left Bank\",$AK173=\"Right Bank\",$AK173=\"Right Floodplain\"),$F$22*$AQ173*$AY173,0)","v":0},{"$f":"IF(OR($AK173=\"Left Floodplain\",$AK173=\"Left Bank\",$AK173=\"Right Bank\",$AK173=\"Right Floodplain\"),$F$22*$AR173*$AY173,0)","v":0},{"$f":"AX173-AS173","v":0.56103862197953447},4.8890165388975074E-2,{"$f":"AV173-AQ173","v":0},{"$f":"IF(OR($AJ173=0,$AJ173=$E$22),($BF173*$AJ$46/2)*ABS($M$17),$BF173*$AJ$46*ABS($M$17))","v":0},{"$f":"IF(OR($AM173<$AP173,$AO173>$AE$8),\"\",IF(OR($AJ173=0,$AJ173=$E$22),$AJ$46/2,$AJ$46))","v":0.16},20.48,0,{"$f":"IF($BJ173=\"\",\"\",IF(OR($BJ173>($F$22/2),$BJ173=0),0,0.45-($BJ173*0.45/($F$22/2))))","v":0},{"$f":"IF($BK173=\"\",\"\",IF($BK173>0,$AJ173,\"\"))","v":""},5.6757641498116413,0.11806494340094546,{"$f":"IF($AO173=0,0,IF($AO173>$AP173,0,IF(OR($AJ173=0,$AJ173=$E$22),$AJ$46/2,$AJ$46)))","v":0.16},{"$f":"IF(AND($BO173>0,OR($AK173=\"Left Stream Bed\",$AK173=\"Right Stream Bed\")),$BO173,0)","v":0.16},{"$f":"IF(AND($BO173>0,OR($AK173=\"Left Floodplain\",$AK173=\"Left Bank\",$AK173=\"Right Bank\",$AK173=\"Right Floodplain\")),$BO173,0)","v":0},{"$f":"IF($BO173>0,$AJ173,\"\")","v":20.48},""]
[null,null,null,null,null,null,null,null,null,null,null,null,null,null,null,null,null,null,null,null,null,null,null,null,null,null,null,null,null,null,null,null,null,null,129,20.64,"Left Stream Bed",{"$f":"$AL$45+ABS(AJ174*$M$19*$M$17)","v":58.456496662251588},96.572877682894358,{"$f":"$AN$45+ABS(AJ174*$M$19*$M$17)","v":58.446991038505871},94.572953836766018,95.125524577833119,0,0,0,{"$f":"IF(OR($AS174=\"\",$AS174=0),\"\",IF(OR($AK174=\"Left Stream Bed\",$AK174=\"Right Stream Bed\"),$AS174,\"\"))","v":""},{"$f":"IF(OR($AS174=\"\",$AS174=0),\"\",IF(OR($AK174=\"Left Floodplain\",$AK174=\"Left Bank\",$AK174=\"Right Bank\",$AK174=\"Right Floodplain\"),$AS174,\"\"))","v":""},{"$f":"IF(OR($AP174<$AE$12,$AP174<=$AO174),0,IF($AO174>=$AE$12,$AP174-$AO174,$AP174-$AE$12))","v":0},0.55257074106710036,0.55257074106710036,0,0,0,0,0,0.55257074106710036,{"$f":"$BD174*$AJ$46*ABS($M$17)","v":4.815225523077183E-2},0,0,0.16,{"$f":"IF($BH174=\"\",\"\",IF($BH174>0,$AJ174,\"\"))","v":20.64},{"$f":"IF($BH174=\"\",\"\",IF(OR(($AO174-$AP174)<0,$AO$45>=$AE$8),0,($AO174-$AP174)))","v":0},0,"",{"$f":"IF($BH174=\"\",\"\",IF(OR(($AM174-$AP174)<0,$AM174>=$AE$8),\"\",($AE$8-($AM174-(($F$22/2)/$M$19)))))","v":5.6771603954913843},0.11794144532358049,0.16,0.16,0,20.64,{"$f":"IF($AY174>0,$AJ174,\"\")","v":""}]
[null,null,null,null,null,null,null,null,null,null,null,null,null,null,null,null,null,null,null,null,null,null,null,null,null,null,null,null,null,null,null,null,null,null,130,20.8,"Left Stream Bed",58.543635589744298,{"$f":"AM174+((AL175-AL174)*$AA$40)","v":96.571481437214615},58.534129965998581,{"$f":"AO174+((AN175-AN174)*$AA$40)","v":94.571557591086275},95.115660451240942,0,0,0,"","",0,0.54410286015466625,0.54410286015466625,0,0,0,0,0,0.54410286015466625,4.7414345072568587E-2,0,0,0.16,20.8,0,0,"",5.6785566411711272,{"$f":"IF($BM175=\"\",\"\",(((PI()^2)/32)*($B$66^-6)*EXP(-($BM175/$F$22)/(2*($B$66^2)))))","v":0.11781807642744978},0.16,0.16,0,20.8,""]
[null,null,null,null,null,null,null,null,null,null,null,null,null,null,null,null,null,null,null,null,null,null,null,null,null,null,null,null,null,null,null,null,null,null,131,20.96,"Left Stream Bed",58.630774517237015,96.570085191534872,58.62126889349129,94.570161345406532,95.105796324648765,0,0,0,"","",0,0.53563497924223213,0.53563497924223213,0,0,0,0,0,0.53563497924223213,4.6676434914365336E-2,0,0,0.16,20.96,0,0,"",5.6799528868508702,0.11769483657742753,0.16,0.16,0,20.96,""]
[null,null,null,null,null,null,null,null,null,null,null,null,null,null,null,null,null,null,null,null,null,null,null,null,null,null,null,null,null,null,null,null,null,null,132,21.12,"Left Stream Bed",58.717913444729717,96.568688945855129,58.708407820984,94.568765099726789,95.095932198056587,0,0,0,"","",0,0.52716709832979802,0.52716709832979802,0,0,0,0,0,0.52716709832979802,4.5938524756162093E-2,0,0,0.16,21.12,0,0,"",5.6813491325306131,0.11757172563852895,0.16,0.16,0,21.12,""]
[null,null,null,null,null,null,null,null,null,null,null,null,null,null,null,null,null,null,null,null,null,null,null,null,null,null,null,null,null,null,null,null,null,null,133,21.28,"Left Stream Bed",58.805052372222434,96.567292700175386,58.79554674847671,94.567368854047047,95.08606807146441,0,0,0,"","",0,0.51869921741736391,0.51869921741736391,0,0,0,0,0,0.51869921741736391,4.5200614597958856E-2,0,0,0.16,21.28,0,0,"",5.6827453782103561,0.11744874347591078,0.16,0.16,0,21.28,""]
[null,null,null,null,null,null,null,null,null,null,null,null,null,null,null,null,null,null,null,null,null,null,null,null,null,null,null,null,null,null,null,null,null,null,134,21.44,"Left Stream Bed",58.892191299715137,96.565896454495643,58.882685675969427,94.565972608367304,95.076203944872248,0,0,0,"","",0,0.51023133650494401,0.51023133650494401,0,0,0,0,0,0.51023133650494401,4.4462704439756841E-2,0,0,0.16,21.44,0,0,"",5.684141623890099,0.11732588995487067,0.16,0.16,0,21.44,""]
[null,null,null,null,null,null,null,null,null,null,null,null,null,null,null,null,null,null,null,null,null,null,null,null,null,null,null,null,null,null,null,null,null,null,135,21.6,"Left Stream Bed",58.979330227207853,96.5645002088159,58.969824603462136,94.564576362687561,95.066339818280071,0,0,0,"","",0,0.5017634555925099,0.5017634555925099,0,0,0,0,0,0.5017634555925099,4.3724794281553604E-2,0,0,0.16,21.6,0,0,"",5.685537869569842,0.1172031649408472,0.16,0.16,0,21.6,""]
[null,null,null,null,null,null,null,null,null,null,null,null,null,null,null,null,null,null,null,null,null,null,null,null,null,null,null,null,null,null,null,null,null,null,136,21.76,"Left Stream Bed",59.066469154700563,96.563103963136157,59.056963530954846,94.563180117007818,95.056475691687893,0,0,0,"","",0,0.49329557468007579,0.49329557468007579,0,0,0,0,0,0.49329557468007579,4.2986884123350354E-2,0,0,0.16,21.76,0,0,"",5.6869341152495849,0.11708056829941979,0.16,0.16,0,21.76,""]
[null,null,null,null,null,null,null,null,null,null,null,null,null,null,null,null,null,null,null,null,null,null,null,null,null,null,null,null,null,null,null,null,null,null,137,21.92,"Left Stream Bed",59.153608082193273,96.561707717456414,59.144102458447556,94.561783871328075,95.046611565095716,0,0,0,"","",0,0.48482769376764168,0.48482769376764168,0,0,0,0,0,0.48482769376764168,4.224897396514711E-2,0,0,0.16,21.92,0,0,"",5.6883303609293279,0.11695809989630818,0.16,0.16,0,21.92,""]
[null,null,null,null,null,null,null,null,null,null,null,null,null,null,null,null,null,null,null,null,null,null,null,null,null,null,null,null,null,null,null,null,null,null,138,22.08,"Left Stream Bed",59.240747009685983,96.560311471776672,59.231241385940265,94.560387625648332,95.036747438503539,0,0,0,"","",0,0.47635981285520757,0.47635981285520757,0,0,0,0,0,0.47635981285520757,4.1511063806943867E-2,0,0,0.16,22.08,0,0,"",5.6897266066090708,0.11683575959737284,0.16,0.16,0,22.08,""]
[null,null,null,null,null,null,null,null,null,null,null,null,null,null,null,null,null,null,null,null,null,null,null,null,null,null,null,null,null,null,null,null,null,null,139,22.24,"Left Stream Bed",59.327885937178692,96.558915226096929,59.318380313432975,94.558991379968589,95.026883311911362,0,0,0,"","",0,0.46789193194277345,0.46789193194277345,0,0,0,0,0,0.46789193194277345,4.0773153648740616E-2,0,0,0.16,22.24,0,0,"",5.6911228522888138,0.11671354726861451,0.16,0.16,0,22.24,""]
[null,null,null,null,null,null,null,null,null,null,null,null,null,null,null,null,null,null,null,null,null,null,null,null,null,null,null,null,null,null,null,null,null,null,140,22.4,"Left Stream Bed",59.415024864671402,96.557518980417186,59.405519240925685,94.557595134288846,95.017019185319199,0,0,0,"","",0,0.45942405103035355,0.45942405103035355,0,0,0,0,0,0.45942405103035355,4.0035243490538615E-2,0,0,0.16,22.4,0,0,"",5.6925190979685567,0.11659146277617401,0.16,0.16,0,22.4,""]
[null,null,null,null,null,null,null,null,null,null,null,null,null,null,null,null,null,null,null,null,null,null,null,null,null,null,null,null,null,null,null,null,null,null,141,22.56,"Left Stream Bed",59.502163792164112,96.556122734737443,59.492658168418401,94.556198888609103,95.007155058727022,0,0,0,"","",0,0.45095617011791944,0.45095617011791944,0,0,0,0,0,0.45095617011791944,3.9297333332335364E-2,0,0,0.16,22.56,0,0,"",5.6939153436482997,0.11646950598633235,0.16,0.16,0,22.56,""]
[null,null,null,null,null,null,null,null,null,null,null,null,null,null,null,null,null,null,null,null,null,null,null,null,null,null,null,null,null,null,null,null,null,null,142,22.72,"Left Stream Bed",59.589302719656828,96.5547264890577,59.579797095911104,94.55480264292936,94.997290932134845,0,0,0,"","",0,0.44248828920548533,0.44248828920548533,0,0,0,0,0,0.44248828920548533,3.8559423174132121E-2,0,0,0.16,22.72,0,0,"",5.6953115893280426,0.1163476767655101,0.16,0.16,0,22.72,""]
[null,null,null,null,null,null,null,null,null,null,null,null,null,null,null,null,null,null,null,null,null,null,null,null,null,null,null,null,null,null,null,null,null,null,143,22.88,"Left Stream Bed",59.676441647149531,96.553330243377957,59.666936023403821,94.553406397249617,94.987426805542668,0,0,0,"","",0,0.43402040829305122,0.43402040829305122,0,0,0,0,0,0.43402040829305122,3.7821513015928877E-2,0,0,0.16,22.88,0,0,"",5.6967078350077855,0.11622597498026783,0.16,0.16,0,22.88,""]
[null,null,null,null,null,null,null,null,null,null,null,null,null,null,null,null,null,null,null,null,null,null,null,null,null,null,null,null,null,null,null,null,null,null,144,23.04,"Left Stream Bed",59.763580574642248,96.551933997698214,59.754074950896531,94.552010151569874,94.977562678950491,0,0,0,"","",0,0.42555252738061711,0.42555252738061711,0,0,0,0,0,0.42555252738061711,3.7083602857725627E-2,0,0,0.16,23.04,0,0,"",5.6981040806875285,0.11610440049730562,0.16,0.16,0,23.04,""]
[null,null,null,null,null,null,null,null,null,null,null,null,null,null,null,null,null,null,null,null,null,null,null,null,null,null,null,null,null,null,null,null,null,null,145,23.2,"Left Stream Bed",59.850719502134957,96.550537752018471,59.84121387838924,94.550613905890131,94.967698552358314,0,0,0,"","",0,0.417084646468183,0.417084646468183,0,0,0,0,0,0.417084646468183,3.634569269952239E-2,0,0,0.16,23.2,0,0,"",5.6995003263672714,0.11598295318346297,0.16,0.16,0,23.2,""]
[null,null,null,null,null,null,null,null,null,null,null,null,null,null,null,null,null,null,null,null,null,null,null,null,null,null,null,null,null,null,null,null,null,null,146,23.36,"Left Stream Bed",59.937858429627667,96.549141506338728,59.92835280588195,94.549217660210388,94.957834425766137,0,0,0,"","",0,0.40861676555574888,0.40861676555574888,0,0,0,0,0,0.40861676555574888,3.5607782541319147E-2,0,0,0.16,23.36,0,0,"",5.7008965720470144,0.11586163290571874,0.16,0.16,0,23.36,""]
[null,null,null,null,null,null,null,null,null,null,null,null,null,null,null,null,null,null,null,null,null,null,null,null,null,null,null,null,null,null,null,null,null,null,147,23.52,"Left Stream Bed",60.024997357120377,96.547745260658985,60.01549173337466,94.547821414530645,94.947970299173974,0,0,0,"","",0,0.40014888464332898,0.40014888464332898,0,0,0,0,0,0.40014888464332898,3.4869872383117131E-2,0,0,0.16,23.52,0,0,"",5.7022928177267573,0.1157404395311907,0.16,0.16,0,23.52,""]
[null,null,null,null,null,null,null,null,null,null,null,null,null,null,null,null,null,null,null,null,null,null,null,null,null,null,null,null,null,null,null,null,null,null,148,23.68,"Left Stream Bed",60.112136284613086,96.546349014979242,60.102630660867369,94.546425168850902,94.938106172581797,0,0,0,"","",0,0.39168100373089487,0.39168100373089487,0,0,0,0,0,0.39168100373089487,3.4131962224913895E-2,0,0,0.16,23.68,0,0,"",5.7036890634065003,0.11561937292713585,0.16,0.16,0,23.68,""]
[null,null,null,null,null,null,null,null,null,null,null,null,null,null,null,null,null,null,null,null,null,null,null,null,null,null,null,null,null,null,null,null,null,null,149,23.84,"Left Stream Bed",60.199275212105803,96.544952769299499,60.189769588360079,94.545028923171159,94.92824204598962,0,0,0,"","",0,0.38321312281846076,0.38321312281846076,0,0,0,0,0,0.38321312281846076,3.3394052066710644E-2,0,0,0.16,23.84,0,0,"",5.7050853090862432,0.11549843296095,0.16,0.16,0,23.84,""]
[null,null,null,null,null,null,null,null,null,null,null,null,null,null,null,null,null,null,null,null,null,null,null,null,null,null,null,null,null,null,null,null,null,null,150,24,"Left Stream Bed",60.286414139598513,96.543556523619756,60.276908515852796,94.543632677491416,94.918377919397443,0,0,0,"","",0,0.37474524190602665,0.37474524190602665,0,0,0,0,0,0.37474524190602665,3.2656141908507401E-2,0,0,0.16,24,0,0,"",5.7064815547659862,0.11537761950016773,0.16,0.16,0,24,""]
[null,null,null,null,null,null,null,null,null,null,null,null,null,null,null,null,null,null,null,null,null,null,null,null,null,null,null,null,null,null,null,null,null,null,151,24.16,"Left Stream Bed",60.373553067091223,96.542160277940013,60.364047443345505,94.542236431811673,94.908513792805266,0,0,0,"","",0,0.36627736099359254,0.36627736099359254,0,0,0,0,0,0.36627736099359254,3.191823175030415E-2,0,0,0.16,24.16,0,0,"",5.7078778004457291,0.11525693241246183,0.16,0.16,0,24.16,""]
[null,null,null,null,null,null,null,null,null,null,null,null,null,null,null,null,null,null,null,null,null,null,null,null,null,null,null,null,null,null,null,null,null,null,152,24.32,"Left Stream Bed",60.460691994583932,96.54076403226027,60.451186370838215,94.540840186131931,94.898649666213089,0,0,0,"","",0,0.35780948008115843,0.35780948008115843,0,0,0,0,0,0.35780948008115843,3.1180321592100907E-2,0,0,0.16,24.32,0,0,"",5.7092740461254721,0.11513637156564396,0.16,0.16,0,24.32,""]
[null,null,null,null,null,null,null,null,null,null,null,null,null,null,null,null,null,null,null,null,null,null,null,null,null,null,null,null,null,null,null,null,null,null,153,24.48,"Left Stream Bed",60.547830922076642,96.539367786580527,60.538325298330925,94.539443940452188,94.888785539620926,0,0,0,"","",0,0.34934159916873853,0.34934159916873853,0,0,0,0,0,0.34934159916873853,3.0442411433898902E-2,0,0,0.16,24.48,0,0,"",5.710670291805215,0.1150159368276638,0.16,0.16,0,24.48,""]
[null,null,null,null,null,null,null,null,null,null,null,null,null,null,null,null,null,null,null,null,null,null,null,null,null,null,null,null,null,null,null,null,null,null,154,24.64,"Left Stream Bed",60.634969849569352,96.537971540900784,60.625464225823634,94.538047694772445,94.878921413028749,0,0,0,"","",0,0.34087371825630441,0.34087371825630441,0,0,0,0,0,0.34087371825630441,2.9704501275695658E-2,0,0,0.16,24.64,0,0,"",5.712066537484958,0.11489562806660919,0.16,0.16,0,24.64,""]
[null,null,null,null,null,null,null,null,null,null,null,null,null,null,null,null,null,null,null,null,null,null,null,null,null,null,null,null,null,null,null,null,null,null,155,24.8,"Left Stream Bed",60.722108777062061,96.536575295221041,60.712603153316344,94.536651449092702,94.869057286436572,0,0,0,"","",0,0.3324058373438703,0.3324058373438703,0,0,0,0,0,0.3324058373438703,2.8966591117492412E-2,0,0,0.16,24.8,0,0,"",5.7134627831647009,0.11477544515070615,0.16,0.16,0,24.8,""]
[null,null,null,null,null,null,null,null,null,null,null,null,null,null,null,null,null,null,null,null,null,null,null,null,null,null,null,null,null,null,null,null,null,null,156,24.96,"Left Stream Bed",60.809247704554771,96.535179049541298,60.799742080809054,94.535255203412959,94.859193159844395,0,0,0,"","",0,0.32393795643143619,0.32393795643143619,0,0,0,0,0,0.32393795643143619,2.8228680959289168E-2,0,0,0.16,24.96,0,0,"",5.7148590288444439,0.11465538794831807,0.16,0.16,0,24.96,""]
[null,null,null,null,null,null,null,null,null,null,null,null,null,null,null,null,null,null,null,null,null,null,null,null,null,null,null,null,null,null,null,null,null,null,157,25.12,"Left Stream Bed",60.896386632047481,96.533782803861556,60.886881008301771,94.533858957733216,94.849329033252218,0,0,0,"","",0,0.31547007551900208,0.31547007551900208,0,0,0,0,0,0.31547007551900208,2.7490770801085924E-2,0,0,0.16,25.12,0,0,"",5.7162552745241868,0.11453545632794651,0.16,0.16,0,25.12,""]
[null,null,null,null,null,null,null,null,null,null,null,null,null,null,null,null,null,null,null,null,null,null,null,null,null,null,null,null,null,null,null,null,null,null,158,25.28,"Left Stream Bed",60.983525559540197,96.532386558181813,60.97401993579448,94.532462712053473,94.839464906660041,0,0,0,"","",0,0.30700219460656797,0.30700219460656797,0,0,0,0,0,0.30700219460656797,2.6752860642882677E-2,0,0,0.16,25.28,0,0,"",5.7176515202039297,0.11441565015823035,0.16,0.16,0,25.28,""]
[null,null,null,null,null,null,null,null,null,null,null,null,null,null,null,null,null,null,null,null,null,null,null,null,null,null,null,null,null,null,null,null,null,null,159,25.44,"Left Stream Bed",61.070664487032907,96.53099031250207,61.06115886328719,94.53106646637373,94.829600780067864,0,0,0,"","",0,0.29853431369413386,0.29853431369413386,0,0,0,0,0,0.29853431369413386,2.601495048467943E-2,0,0,0.16,25.44,0,0,"",5.7190477658836727,0.11429596930794596,0.16,0.16,0,25.44,""]
[null,null,null,null,null,null,null,null,null,null,null,null,null,null,null,null,null,null,null,null,null,null,null,null,null,null,null,null,null,null,null,null,null,null,160,25.6,"Left Stream Bed",61.157803414525617,96.529594066822327,61.1482977907799,94.529670220693987,94.819736653475701,0,0,0,"","",0,0.29006643278171396,0.29006643278171396,0,0,0,0,0,0.29006643278171396,2.5277040326477426E-2,0,0,0.16,25.6,0,0,"",5.7204440115634156,0.11417641364600699,0.16,0.16,0,25.6,""]
[null,null,null,null,null,null,null,null,null,null,null,null,null,null,null,null,null,null,null,null,null,null,null,null,null,null,null,null,null,null,null,null,null,null,161,25.76,"Left Stream Bed",{"$f":"$AL$45+ABS(AJ206*$M$19*$M$17)","v":61.244942342018327},96.528197821142584,{"$f":"$AN$45+ABS(AJ206*$M$19*$M$17)","v":61.235436718272609},94.528273975014244,94.809872526883524,0,0,0,"","",0,0.28159855186927985,0.28159855186927985,0,0,0,0,0,0.28159855186927985,2.4539130168274179E-2,0,0,0.16,25.76,0,0,"",5.7218402572431586,0.114056983041464,0.16,0.16,0,25.76,""]
[null,null,null,null,null,null,null,null,null,null,null,null,null,null,null,null,null,null,null,null,null,null,null,null,null,null,null,null,null,null,null,null,null,null,162,25.92,"Left Stream Bed",61.332081269511036,96.526801575462841,61.322575645765319,94.526877729334501,94.800008400291347,0,0,0,"","",0,0.27313067095684573,0.27313067095684573,0,0,0,0,0,0.27313067095684573,2.3801220010070939E-2,0,0,0.16,25.92,0,0,"",5.7232365029229015,0.11393767736350474,0.16,0.16,0,25.92,""]
[null,null,null,null,null,null,null,null,null,null,null,null,null,null,null,null,null,null,null,null,null,null,null,null,null,null,null,null,null,null,null,null,null,null,163,26.08,"Left Stream Bed",61.419220197003746,96.525405329783098,61.409714573258029,94.525481483654758,94.79014427369917,0,0,0,"","",0,0.26466279004441162,0.26466279004441162,0,0,0,0,0,0.26466279004441162,2.3063309851867692E-2,0,0,0.16,26.08,0,0,"",5.7246327486026445,0.11381849648145376,0.16,0.16,0,26.08,""]
[null,null,null,null,null,null,null,null,null,null,null,null,null,null,null,null,null,null,null,null,null,null,null,null,null,null,null,null,null,null,null,null,null,null,164,26.24,"Left Stream Bed",61.506359124496456,96.524009084103355,61.496853500750738,94.524085237975015,94.780280147106993,0,0,0,"","",0,0.25619490913197751,0.25619490913197751,0,0,0,0,0,0.25619490913197751,2.2325399693664445E-2,0,0,0.16,26.24,0,0,"",5.7260289942823874,0.11369944026477237,0.16,0.16,0,26.24,""]
[null,null,null,null,null,null,null,null,null,null,null,null,null,null,null,null,null,null,null,null,null,null,null,null,null,null,null,null,null,null,null,null,null,null,165,26.4,"Left Stream Bed",61.593498051989165,96.522612838423612,61.583992428243448,94.522688992295272,94.770416020514816,0,0,0,"","",0,0.2477270282195434,0.2477270282195434,0,0,0,0,0,0.2477270282195434,2.1587489535461198E-2,0,0,0.16,26.4,0,0,"",5.7274252399621304,0.1135805085830581,0.16,0.16,0,26.4,""]
[null,null,null,null,null,null,null,null,null,null,null,null,null,null,null,null,null,null,null,null,null,null,null,null,null,null,null,null,null,null,null,null,null,null,166,26.56,"Left Stream Bed",61.680636979481875,96.521216592743869,61.671131355736165,94.521292746615529,94.760551893922653,0,0,0,"","",0,0.2392591473071235,0.2392591473071235,0,0,0,0,0,0.2392591473071235,2.0849579377259193E-2,0,0,0.16,26.56,0,0,"",5.7288214856418733,0.11346170130604524,0.16,0.16,0,26.56,""]
[null,null,null,null,null,null,null,null,null,null,null,null,null,null,null,null,null,null,null,null,null,null,null,null,null,null,null,null,null,null,null,null,null,null,167,26.72,"Left Stream Bed",61.767775906974592,96.519820347064126,61.758270283228867,94.519896500935786,94.750687767330476,0,0,0,"","",0,0.23079126639468939,0.23079126639468939,0,0,0,0,0,0.23079126639468939,2.0111669219055949E-2,0,0,0.16,26.72,0,0,"",5.7302177313216163,0.11334301830360419,0.16,0.16,0,26.72,""]
[null,null,null,null,null,null,null,null,null,null,null,null,null,null,null,null,null,null,null,null,null,null,null,null,null,null,null,null,null,null,null,null,null,null,168,26.88,"Left Stream Bed",61.854914834467301,96.518424101384383,61.845409210721584,94.518500255256043,94.740823640738299,0,0,0,"","",0,0.22232338548225528,0.22232338548225528,0,0,0,0,0,0.22232338548225528,1.9373759060852702E-2,0,0,0.16,26.88,0,0,"",5.7316139770013592,0.11322445944574151,0.16,0.16,0,26.88,""]
[null,null,null,null,null,null,null,null,null,null,null,null,null,null,null,null,null,null,null,null,null,null,null,null,null,null,null,null,null,null,null,null,null,null,169,27.04,"Left Stream Bed",61.942053761960011,96.51702785570464,61.932548138214294,94.5171040095763,94.730959514146122,0,0,0,"","",0,0.21385550456982116,0.21385550456982116,0,0,0,0,0,0.21385550456982116,1.8635848902649459E-2,0,0,0.16,27.04,0,0,"",5.7330102226811022,0.1131060246025998,0.16,0.16,0,27.04,""]
[null,null,null,null,null,null,null,null,null,null,null,null,null,null,null,null,null,null,null,null,null,null,null,null,null,null,null,null,null,null,null,null,null,null,170,27.2,"Left Stream Bed",62.029192689452721,96.515631610024897,62.019687065707004,94.515707763896557,94.721095387553945,0,0,0,"","",0,0.20538762365738705,0.20538762365738705,0,0,0,0,0,0.20538762365738705,1.7897938744446212E-2,0,0,0.16,27.2,0,0,"",5.7344064683608451,0.11298771364445721,0.16,0.16,0,27.2,""]
[null,null,null,null,null,null,null,null,null,null,null,null,null,null,null,null,null,null,null,null,null,null,null,null,null,null,null,null,null,null,null,null,null,null,171,27.36,"Left Stream Bed",62.11633161694543,96.514235364345154,62.106825993199713,94.514311518216815,94.711231260961767,0,0,0,"","",0,0.19691974274495294,0.19691974274495294,0,0,0,0,0,0.19691974274495294,1.7160028586242968E-2,0,0,0.16,27.36,0,0,"",5.7358027140405881,0.11286952644172789,0.16,0.16,0,27.36,""]
[null,null,null,null,null,null,null,null,null,null,null,null,null,null,null,null,null,null,null,null,null,null,null,null,null,null,null,null,null,null,null,null,null,null,172,27.52,"Left Stream Bed",62.20347054443814,96.512839118665411,62.193964920692423,94.512915272537072,94.701367134369605,0,0,0,"","",0,0.18845186183253304,0.18845186183253304,0,0,0,0,0,0.18845186183253304,1.642211842804096E-2,0,0,0.16,27.52,0,0,"",5.737198959720331,0.11275146286496139,0.16,0.16,0,27.52,""]
[null,null,null,null,null,null,null,null,null,null,null,null,null,null,null,null,null,null,null,null,null,null,null,null,null,null,null,null,null,null,null,null,null,null,173,27.68,"Left Stream Bed",62.29060947193085,96.511442872985668,62.28110384818514,94.511519026857329,94.691503007777428,0,0,0,"","",0,0.17998398092009893,0.17998398092009893,0,0,0,0,0,0.17998398092009893,1.5684208269837716E-2,0,0,0.16,27.68,0,0,"",5.738595205400074,0.11263352278484275,0.16,0.16,0,27.68,""]
[null,null,null,null,null,null,null,null,null,null,null,null,null,null,null,null,null,null,null,null,null,null,null,null,null,null,null,null,null,null,null,null,null,null,174,27.84,"Left Stream Bed",62.377748399423567,96.510046627305925,62.368242775677842,94.510122781177586,94.681638881185251,0,0,0,"","",0,0.17151610000766482,0.17151610000766482,0,0,0,0,0,0.17151610000766482,1.4946298111634473E-2,0,0,0.16,27.84,0,0,"",5.7399914510798169,0.11251570607219229,0.16,0.16,0,27.84,""]
[null,null,null,null,null,null,null,null,null,null,null,null,null,null,null,null,null,null,null,null,null,null,null,null,null,null,null,null,null,null,null,null,null,null,175,28,"Left Stream Bed",62.464887326916269,96.508650381626182,62.455381703170559,94.508726535497843,94.671774754593073,0,0,0,"","",0,0.16304821909523071,0.16304821909523071,0,0,0,0,0,0.16304821909523071,1.4208387953431226E-2,0,0,0.16,28,0,0,"",5.7413876967595598,0.11239801259796524,0.16,0.16,0,28,""]
[null,null,null,null,null,null,null,null,null,null,null,null,null,null,null,null,null,null,null,null,null,null,null,null,null,null,null,null,null,null,null,null,null,null,176,28.16,"Left Stream Bed",62.552026254408986,96.50725413594644,62.542520630663269,94.5073302898181,94.661910628000896,0,0,0,"","",0,0.15458033818279659,0.15458033818279659,0,0,0,0,0,0.15458033818279659,1.3470477795227982E-2,0,0,0.16,28.16,0,0,"",5.7427839424393028,0.11228044223325202,0.16,0.16,0,28.16,""]
[null,null,null,null,null,null,null,null,null,null,null,null,null,null,null,null,null,null,null,null,null,null,null,null,null,null,null,null,null,null,null,null,null,null,177,28.32,"Left Stream Bed",62.639165181901696,96.505857890266697,62.629659558155979,94.505934044138357,94.652046501408719,0,0,0,"","",0,0.14611245727036248,0.14611245727036248,0,0,0,0,0,0.14611245727036248,1.2732567637024735E-2,0,0,0.16,28.32,0,0,"",5.7441801881190457,0.11216299484927787,0.16,0.16,0,28.32,""]
[null,null,null,null,null,null,null,null,null,null,null,null,null,null,null,null,null,null,null,null,null,null,null,null,null,null,null,null,null,null,null,null,null,null,178,28.48,"Left Stream Bed",62.726304109394405,96.504461644586954,62.716798485648688,94.504537798458614,94.642182374816542,0,0,0,"","",0,0.13764457635792837,0.13764457635792837,0,0,0,0,0,0.13764457635792837,1.1994657478821492E-2,0,0,0.16,28.48,0,0,"",5.7455764337987887,0.11204567031740272,0.16,0.16,0,28.48,""]
[null,null,null,null,null,null,null,null,null,null,null,null,null,null,null,null,null,null,null,null,null,null,null,null,null,null,null,null,null,null,null,null,null,null,179,28.64,"Left Stream Bed",62.813443036887115,96.503065398907211,62.803937413141398,94.503141552778871,94.632318248224379,0,0,0,"","",0,0.12917669544550847,0.12917669544550847,0,0,0,0,0,0.12917669544550847,1.1256747320619485E-2,0,0,0.16,28.64,0,0,"",5.7469726794785316,0.11192846850912111,0.16,0.16,0,28.64,""]
[null,null,null,null,null,null,null,null,null,null,null,null,null,null,null,null,null,null,null,null,null,null,null,null,null,null,null,null,null,null,null,null,null,null,180,28.8,"Left Stream Bed",62.900581964379825,96.501669153227468,62.891076340634108,94.501745307099128,94.622454121632202,0,0,0,"","",0,0.12070881453307436,0.12070881453307436,0,0,0,0,0,0.12070881453307436,1.051883716241624E-2,0,0,0.16,28.8,0,0,"",5.7483689251582746,0.11181138929606173,0.16,0.16,0,28.8,""]
[null,null,null,null,null,null,null,null,null,null,null,null,null,null,null,null,null,null,null,null,null,null,null,null,null,null,null,null,null,null,null,null,null,null,181,28.96,"Left Stream Bed",62.987720891872542,96.500272907547725,62.978215268126817,94.500349061419385,94.612589995040025,0,0,0,"","",0,0.11224093362064025,0.11224093362064025,0,0,0,0,0,0.11224093362064025,9.7809270042129946E-3,0,0,0.16,28.96,0,0,"",5.7497651708380175,0.11169443254998784,0.16,0.16,0,28.96,""]
[null,null,null,null,null,null,null,null,null,null,null,null,null,null,null,null,null,null,null,null,null,null,null,null,null,null,null,null,null,null,null,null,null,null,182,29.12,"Left Stream Bed",63.074859819365251,96.498876661867982,63.065354195619534,94.498952815739642,94.602725868447848,0,0,0,"","",0,0.10377305270820614,0.10377305270820614,0,0,0,0,0,0.10377305270820614,9.0430168460097493E-3,0,0,0.16,29.12,0,0,"",5.7511614165177605,0.11157759814279679,0.16,0.16,0,29.12,""]
[null,null,null,null,null,null,null,null,null,null,null,null,null,null,null,null,null,null,null,null,null,null,null,null,null,null,null,null,null,null,null,null,null,null,183,29.28,"Left Stream Bed",63.161998746857961,96.497480416188239,63.152493123112244,94.497556570059899,94.592861741855671,0,0,0,"","",0,9.5305171795772026E-2,9.5305171795772026E-2,0,0,0,0,0,9.5305171795772026E-2,8.3051066878065041E-3,0,0,0.16,29.28,0,0,"",5.7525576621975034,0.11146088594651994,0.16,0.16,0,29.28,""]
[null,null,null,null,null,null,null,null,null,null,null,null,null,null,null,null,null,null,null,null,null,null,null,null,null,null,null,null,null,null,null,null,null,null,184,29.44,"Left Stream Bed",63.249137674350671,96.496084170508496,63.239632050604953,94.496160324380156,94.582997615263494,0,0,0,"","",0,8.6837290883337914E-2,8.6837290883337914E-2,0,0,0,0,0,8.6837290883337914E-2,7.5671965296032597E-3,0,0,0.16,29.44,0,0,"",5.7539539078772464,0.11134429583332228,0.16,0.16,0,29.44,""]
[null,null,null,null,null,null,null,null,null,null,null,null,null,null,null,null,null,null,null,null,null,null,null,null,null,null,null,null,null,null,null,null,null,null,185,29.6,"Left Stream Bed",63.33627660184338,96.494687924828753,63.326770978097663,94.494764078700413,94.573133488671331,0,0,0,"","",0,7.8369409970918014E-2,7.8369409970918014E-2,0,0,0,0,0,7.8369409970918014E-2,6.829286371401253E-3,0,0,0.16,29.6,0,0,"",5.7553501535569893,0.11122782767550278,0.16,0.16,0,29.6,""]
[null,null,null,null,null,null,null,null,null,null,null,null,null,null,null,null,null,null,null,null,null,null,null,null,null,null,null,null,null,null,null,null,null,null,186,29.76,"Left Stream Bed",63.42341552933609,96.49329167914901,63.413909905590373,94.49336783302067,94.563269362079154,0,0,0,"","",0,6.9901529058483902E-2,6.9901529058483902E-2,0,0,0,0,0,6.9901529058483902E-2,6.0913762131980078E-3,0,0,0.16,29.76,0,0,"",5.7567463992367323,0.11111148134549388,0.16,0.16,0,29.76,""]
[null,null,null,null,null,null,null,null,null,null,null,null,null,null,null,null,null,null,null,null,null,null,null,null,null,null,null,null,null,null,null,null,null,null,187,29.92,"Left Stream Bed",63.5105544568288,96.491895433469267,63.501048833083082,94.491971587340927,94.553405235486977,0,0,0,"","",0,6.1433648146049791E-2,6.1433648146049791E-2,0,0,0,0,0,6.1433648146049791E-2,5.3534660549947625E-3,0,0,0.16,29.92,0,0,"",5.7581426449164752,0.1109952567158615,0.16,0.16,0,29.92,""]
[null,null,null,null,null,null,null,null,null,null,null,null,null,null,null,null,null,null,null,null,null,null,null,null,null,null,null,null,null,null,null,null,null,null,188,30.08,"Left Stream Bed",63.597693384321509,96.490499187789524,63.588187760575792,94.490575341661184,94.5435411088948,0,0,0,"","",0,5.2965767233615679E-2,5.2965767233615679E-2,0,0,0,0,0,5.2965767233615679E-2,4.6155558967915173E-3,0,0,0.16,30.08,0,0,"",5.7595388905962182,0.11087915365930491,0.16,0.16,0,30.08,""]
[null,null,null,null,null,null,null,null,null,null,null,null,null,null,null,null,null,null,null,null,null,null,null,null,null,null,null,null,null,null,null,null,null,null,189,30.24,"Left Stream Bed",63.684832311814219,96.489102942109781,63.675326688068509,94.489179095981441,94.533676982302623,0,0,0,"","",0,4.4497886321181568E-2,4.4497886321181568E-2,0,0,0,0,0,4.4497886321181568E-2,3.8776457385882724E-3,0,0,0.16,30.24,0,0,"",5.7609351362759611,0.11076317204865629,0.16,0.16,0,30.24,""]
[null,null,null,null,null,null,null,null,null,null,null,null,null,null,null,null,null,null,null,null,null,null,null,null,null,null,null,null,null,null,null,null,null,null,190,30.4,"Left Stream Bed",63.771971239306936,96.487706696430038,63.762465615561212,94.487782850301699,94.523812855710446,0,0,0,"","",0,3.6030005408747456E-2,3.6030005408747456E-2,0,0,0,0,0,3.6030005408747456E-2,3.1397355803850272E-3,0,0,0.16,30.4,0,0,"",5.762331381955704,0.1106473117568811,0.16,0.16,0,30.4,""]
[null,null,null,null,null,null,null,null,null,null,null,null,null,null,null,null,null,null,null,null,null,null,null,null,null,null,null,null,null,null,null,null,null,null,191,30.56,"Left Stream Bed",63.859110166799638,96.486310450750295,63.849604543053928,94.486386604621956,94.513948729118283,0,0,0,"","",0,2.7562124496327556E-2,2.7562124496327556E-2,0,0,0,0,0,2.7562124496327556E-2,2.4018254221830205E-3,0,0,0.16,30.56,0,0,"",5.763727627635447,0.1105315726570776,0.16,0.16,0,30.56,""]
[null,null,null,null,null,null,null,null,null,null,null,null,null,null,null,null,null,null,null,null,null,null,null,null,null,null,null,null,null,null,null,null,null,null,192,{"$f":"($AI237/$AI$245)*$AJ$245","v":30.72},{"$f":"IF(OR($C$19=\"\",$F$25=\"\",$G$25=\"\"),\"None\",IF(AL237<$B$14,\"Left Floodplain\",IF(AL237<$B$15,\"Left Bank\",IF(AL237<$B$16,\"Left Stream Bed\",IF(AL237<$B$17,\"Right Stream Bed\",IF(AL237<$B$18,\"Right Bank\",\"Right Floodplain\"))))))","v":"Left Stream Bed"},63.946249094292355,96.484914205070552,63.936743470546631,94.484990358942213,{"$f":"IF($AL237<$B$14,(($AL237-$B$13)*$AB$31)+$C$13,IF($AL237<$B$15,(($AL237-$B$14)*$AB$32)+$C$14,IF($AL237<$B$16,(($AL237-$B$15)*$AB$33)+$C$15,IF($AL237<$B$17,(($AL237-$B$16)*$AB$34)+$C$16,IF($AL237<$B$18,(($AL237-$B$17)*$AB$35)+$C$17,IF($AL237<$B$19,(($AL237-$B$18)*$AB$36)+$C$18))))))","v":94.504084602526106},{"$f":"IF(OR($AP237<$AE$12,$AP237<=$AM237),0,IF(OR($AP237>=$AE$12,$AM237>=$AE$12),$AP237-$AM237-$AR237,$AP237-$AE$12))","v":0},{"$f":"IF($AP237<=$AM237,0,IF($AM237>=$AE$12,0,IF($AP237<=$AE$12,$AP237-$AM237,$AE$12-$AM237)))","v":0},{"$f":"IF(AP237<=AM237,0,AP237-AM237)","v":0},"","",0,{"$f":"IF($AP237<=$AO237,0,IF($AO237>=$AE$12,0,IF($AP237<=$AE$12,$AP237-$AO237,$AE$12-$AO237)))","v":1.9094243583893444E-2},{"$f":"IF(AP237<=AO237,0,AP237-AO237)","v":1.9094243583893444E-2},{"$f":"IF($AS237=0,0,IF(OR($AJ237=0,$AJ237=$E$22),$AJ$46/2,$AJ$46))","v":0},{"$f":"IF(OR($AK237=\"Left Stream Bed\",$AK237=\"Right Stream Bed\"),$F$22*$AQ237*$AY237,0)","v":0},{"$f":"IF(OR($AK237=\"Left Stream Bed\",$AK237=\"Right Stream Bed\"),$F$22*$AR237*$AY237,0)","v":0},{"$f":"IF(OR($AK237=\"Left Floodplain\",$AK237=\"Left Bank\",$AK237=\"Right Bank\",$AK237=\"Right Floodplain\"),$F$22*$AQ237*$AY237,0)","v":0},{"$f":"IF(OR($AK237=\"Left Floodplain\",$AK237=\"Left Bank\",$AK237=\"Right Bank\",$AK237=\"Right Floodplain\"),$F$22*$AR237*$AY237,0)","v":0},{"$f":"AX237-AS237","v":1.9094243583893444E-2},1.6639152639797757E-3,{"$f":"AV237-AQ237","v":0},{"$f":"IF(OR($AJ237=0,$AJ237=$E$22),($BF237*$AJ$46/2)*ABS($M$17),$BF237*$AJ$46*ABS($M$17))","v":0},{"$f":"IF(OR($AM237<$AP237,$AO237>$AE$8),\"\",IF(OR($AJ237=0,$AJ237=$E$22),$AJ$46/2,$AJ$46))","v":0.16},30.72,0,{"$f":"IF($BJ237=\"\",\"\",IF(OR($BJ237>($F$22/2),$BJ237=0),0,0.45-($BJ237*0.45/($F$22/2))))","v":0},{"$f":"IF($BK237=\"\",\"\",IF($BK237>0,$AJ237,\"\"))","v":""},5.7651238733151899,0.11041595462247675,{"$f":"IF($AO237=0,0,IF($AO237>$AP237,0,IF(OR($AJ237=0,$AJ237=$E$22),$AJ$46/2,$AJ$46)))","v":0.16},{"$f":"IF(AND($BO237>0,OR($AK237=\"Left Stream Bed\",$AK237=\"Right Stream Bed\")),$BO237,0)","v":0.16},{"$f":"IF(AND($BO237>0,OR($AK237=\"Left Floodplain\",$AK237=\"Left Bank\",$AK237=\"Right Bank\",$AK237=\"Right Floodplain\")),$BO237,0)","v":0},{"$f":"IF($BO237>0,$AJ237,\"\")","v":30.72},""]
[null,null,null,null,null,null,null,null,null,null,null,null,null,null,null,null,null,null,null,null,null,null,null,null,null,null,null,null,null,null,null,null,null,null,193,30.88,"Left Stream Bed",{"$f":"$AL$45+ABS(AJ238*$M$19*$M$17)","v":64.033388021785072},96.483517959390809,{"$f":"$AN$45+ABS(AJ238*$M$19*$M$17)","v":64.023882398039348},94.48359411326247,94.494220475933929,0,0,0,{"$f":"IF(OR($AS238=\"\",$AS238=0),\"\",IF(OR($AK238=\"Left Stream Bed\",$AK238=\"Right Stream Bed\"),$AS238,\"\"))","v":""},{"$f":"IF(OR($AS238=\"\",$AS238=0),\"\",IF(OR($AK238=\"Left Floodplain\",$AK238=\"Left Bank\",$AK238=\"Right Bank\",$AK238=\"Right Floodplain\"),$AS238,\"\"))","v":""},{"$f":"IF(OR($AP238<$AE$12,$AP238<=$AO238),0,IF($AO238>=$AE$12,$AP238-$AO238,$AP238-$AE$12))","v":0},1.0626362671459333E-2,1.0626362671459333E-2,0,0,0,0,0,1.0626362671459333E-2,{"$f":"$BD238*$AJ$46*ABS($M$17)","v":9.2600510577653058E-4},0,0,0.16,{"$f":"IF($BH238=\"\",\"\",IF($BH238>0,$AJ238,\"\"))","v":30.88},{"$f":"IF($BH238=\"\",\"\",IF(OR(($AO238-$AP238)<0,$AO$45>=$AE$8),0,($AO238-$AP238)))","v":0},0,"",{"$f":"IF($BH238=\"\",\"\",IF(OR(($AM238-$AP238)<0,$AM238>=$AE$8),\"\",($AE$8-($AM238-(($F$22/2)/$M$19)))))","v":5.7665201189949329},0.1103004575264423,0.16,0.16,0,30.88,{"$f":"IF($AY238>0,$AJ238,\"\")","v":""}]
[null,null,null,null,null,null,null,null,null,null,null,null,null,null,null,null,null,null,null,null,null,null,null,null,null,null,null,null,null,null,null,null,null,null,194,{"$f":"($AI239/$AI$245)*$AJ$245","v":31.04},"Left Stream Bed",64.120526949277775,{"$f":"AM238+((AL239-AL238)*$AA$40)","v":96.482121713711066},64.11102132553205,{"$f":"AO238+((AN239-AN238)*$AA$40)","v":94.482197867582727},94.484356349341752,0,0,0,"","",0,2.1584817590252214E-3,2.1584817590252214E-3,0,0,0,0,0,2.1584817590252214E-3,1.8809494757328558E-4,0,0,0.16,31.04,0,0,"",5.7679163646746758,{"$f":"IF($BM239=\"\",\"\",(((PI()^2)/32)*($B$66^-6)*EXP(-($BM239/$F$22)/(2*($B$66^2)))))","v":0.11018508124247006},0.16,0.16,0,31.04,""]
[null,null,null,null,null,null,null,null,null,null,null,null,null,null,null,null,null,null,null,null,null,null,null,null,null,null,null,null,null,null,null,null,null,null,195,31.2,"Left Stream Bed",64.207665876770477,96.480725468031324,64.198160253024767,94.480801621902984,94.474492222749575,0,0,0,"","",0,0,0,0,0,0,0,0,0,0,0,0,0.16,31.2,6.30939915340889E-3,0.44716077038096602,31.2,5.7693126103544188,0.11006982564418855,0,0,0,"",""]
[null,null,null,null,null,null,null,null,null,null,null,null,null,null,null,null,null,null,null,null,null,null,null,null,null,null,null,null,null,null,null,null,null,null,196,31.36,"Left Stream Bed",64.294804804263194,96.479329222351581,64.285299180517484,94.479405376223241,94.464628096157398,0,0,0,"","",0,0,0,0,0,0,0,0,0,0,0,0,0.16,31.36,1.4777280065843001E-2,0.44335022397037066,31.36,5.7707088560341617,0.10995469060535833,0,0,0,"",""]
[null,null,null,null,null,null,null,null,null,null,null,null,null,null,null,null,null,null,null,null,null,null,null,null,null,null,null,null,null,null,null,null,null,null,197,31.52,"Left Stream Bed",64.381943731755911,96.477932976671838,64.372438108010186,94.478009130543498,94.454763969565221,0,0,0,"","",0,0,0,0,0,0,0,0,0,0,0,0,0.16,31.52,2.3245160978277113E-2,0.4395396775597753,31.52,5.7721051017139047,0.10983967599987213,0,0,0,"",""]
[null,null,null,null,null,null,null,null,null,null,null,null,null,null,null,null,null,null,null,null,null,null,null,null,null,null,null,null,null,null,null,null,null,null,198,31.68,"Left Stream Bed",64.469082659248613,96.476536730992095,64.459577035502903,94.476612884863755,94.444899842973058,0,0,0,"","",0,0,0,0,0,0,0,0,0,0,0,0,0.16,31.68,3.1713041890697014E-2,0.43572913114918638,31.68,5.7735013473936476,0.10972478170175427,0,0,0,"",""]
[null,null,null,null,null,null,null,null,null,null,null,null,null,null,null,null,null,null,null,null,null,null,null,null,null,null,null,null,null,null,null,null,null,null,199,{"$f":"($AI244/$AI$245)*$AJ$245","v":31.84},"Left Stream Bed",64.55622158674133,96.475140485312352,64.546715962995606,94.475216639184012,94.435035716380881,0,0,0,"","",0,0,0,0,0,0,0,0,0,0,0,0,0.16,31.84,4.0180922803131125E-2,0.43191858473859102,31.84,5.7748975930733906,0.10961000758516115,0,0,0,"",""]
[null,null,null,null,null,null,null,null,null,null,null,null,null,null,null,null,null,null,null,null,null,null,null,null,null,null,null,null,null,null,null,null,null,null,200,{"$f":"$E$22","v":32},"Left Stream Bed",64.643360514234033,96.473744239632609,64.633854890488323,94.473820393504269,94.425171589788704,0,0,0,"","",0,0,0,0,0,0,0,0,0,0,0,0,0.08,32,4.8648803715565236E-2,0.42810803832799565,32,5.7762938387531335,0.10949535352438074,0,0,0,"",""]

{"sheet":"Prelim-Top#2","index":7,"n_rows":245,"n_cols":72,"rows_kept":245,"cut":false,"hidden":false,"merged":[[107,27,107,28],[109,31,109,32],[90,29,90,30],[90,31,90,32],[91,0,91,9],[91,14,91,25],[97,20,97,22],[102,27,102,28],[102,31,102,32],[85,20,85,21],[86,20,86,21],[87,20,87,21],[90,1,90,2],[90,20,90,24],[90,27,90,28],[83,19,83,23],[83,25,84,25],[83,27,84,27],[83,28,83,31],[84,0,84,9],[84,20,84,21],[75,15,75,16],[77,3,77,4],[79,0,79,9],[80,0,80,4],[80,7,80,9],[83,18,84,18],[64,26,65,26],[66,10,69,10],[67,0,67,2],[67,3,67,5],[73,0,73,9],[74,0,74,2],[74,3,74,6],[74,7,74,9],[74,18,74,20],[74,22,74,30],[63,0,63,5],[64,7,64,9],[64,21,64,22],[64,23,65,23],[64,24,65,24],[64,25,65,25],[52,7,52,9],[54,18,54,22],[55,19,56,19],[55,20,55,23],[56,0,56,4],[62,0,62,9],[47,1,47,2],[48,0,48,9],[49,0,49,5],[49,7,49,8],[50,13,50,14],[51,13,51,14],[38,45,38,48],[41,34,41,38],[42,34,42,40],[42,41,42,49],[44,21,44,22],[44,23,45,23],[44,24,45,24],[44,25,45,25],[44,26,45,26],[44,29,44,31],[29,19,30,19],[29,20,29,23],[33,32,33,33],[33,43,33,44],[37,26,38,26],[37,27,38,27],[38,34,38,37],[26,1,26,2],[27,1,27,2],[27,32,27,33],[27,43,27,44],[28,1,28,2],[28,18,28,22],[22,10,23,10],[22,32,22,33],[22,43,22,44],[23,0,24,0],[23,3,23,4],[24,3,24,4],[16,18,16,20],[17,22,17,27],[17,32,17,33],[17,43,17,44],[20,0,20,2],[21,0,21,2],[10,28,10,30],[11,11,11,12],[11,13,11,16],[12,11,12,12],[12,13,12,16],[13,11,13,12],[13,13,13,16],[13,28,13,30],[7,22,7,24],[8,11,8,12],[8,13,8,16],[9,11,9,12],[9,13,9,16],[10,0,10,2],[10,11,10,12],[10,13,10,16],[6,11,6,12],[6,13,6,16],[7,0,8,0],[7,11,7,12],[7,13,7,16],[7,18,7,20],[0,8,1,9],[2,0,2,9],[4,1,4,2],[4,3,4,4],[4,11,4,12],[4,32,5,35],[4,43,5,46],[4,54,4,59],[4,60,4,63],[5,1,5,2],[5,3,5,4],[5,11,5,12],[5,13,5,16],[5,28,5,30],[5,54,5,55]]}
[{"$f":"'1-Cover'!A1","v":"Sample Multi-Log Structure"},null,null,null,null,null,null,null,"Spreadsheet developed by Michael Rafferty, P.E."]
[]
["Single Log Stability Analysis Model Inputs",null,null,null,null,null,null,null,null,null,"ERROR CHECKS"]
[]
["Site ID","Structure Type",null,"Structure Position",null,"Meander","Station","dw (ft)","Rc/WBF","udes (ft/s)",null,"Type Lookup Table",null,null,null,null,null,null,null,null,null,null,null,null,null,null,null,null,null,null,null,null,"Tilted Cylindrical (Stem) \"Below Water Surface\" Volume Calculation (Below High Flow)",null,null,null,null,null,null,null,null,null,null,"Tilted Cylindrical (Stem) Wet Volume Calculation (Below Channel Thalweg)",null,null,null,null,null,null,null,null,null,null,"Tilted Frustum (RW) Volume Calculation (Slice Method)",null,null,null,null,null,"A = R2 arccos [(R - h)/R] - [(R - h)*SQRT(2Rh - h2)]"]
["Sample1","Flow Deflection",null,"Left bank",null,"Outside",{"$f":"IF($A6=\"\",\"\",VLOOKUP($A6,SiteInfo,2,0))","v":1000},{"$f":"IF($A6=\"\",\"\",VLOOKUP($A6,SiteInfo,4,0))","v":8.4499999999999993},{"$f":"IF($A6=\"\",\"\",VLOOKUP($A6,SiteInfo,9,0))","v":5.3191489361702127},{"$f":"IF(OR($A$6=\"\",$F$6=\"\"),\"\",IF($F$6=\"Outside\",VLOOKUP($A$6,SiteInfo,10,0),VLOOKUP($A$6,SiteInfo,5,0)))","v":4.6327110774981861},{"$f":"IF($F$6=\"\",\"\",IF(AND($I$6<26,$F$6=\"Straight\"),\"CHECK - Structure is located on a meander (Rc/WBF < 26)\",\"\"))","v":""},"Structure Types",null,"Description",null,null,null,null,null,null,null,null,null,null,null,null,null,null,"Water Surface",null,null,null,null,null,null,null,null,null,null,null,null,null,null,null,null,null,null,null,null,null,null,null,null,null,"Slice thickness (ft) =",null,{"$f":"IF($G$22=\"\",\"\",$G$22/$BC$39)","v":0.1},"WSE (ft) =",{"$f":"IF($AE$8=\"\",\"\",$AE$8)","v":101.25},"RRW (ft) =",{"$f":"IF($H$22=\"\",\"\",$H$22/2)","v":3},"yRW,crown (ft) =",{"$f":"IF($U$10=\"\",\"\",$U$10)","v":98.473668085761574},"yRW,bot (ft) =",{"$f":"IF($U$15=\"\",\"\",$U$15)","v":92.47389654737654}]
[null,null,null,null,null,null,null,null,null,null,{"$f":"IF(OR($F$6=\"\",$I$6=\"\"),\"\",IF(AND($I$6>26,$F$6<>\"Straight\"),\"CHECK - Structure is not on a meander (Rc/WBF > 26)\",\"\"))","v":""},"Rootwad",null,"Logs buried in bank with rootwads protruding into channel",null,null,null,null,null,null,null,null,null,null,null,null,null,null,null,"x (ft)","y (ft)",null,null,"R = DTS/2",{"$f":"$F$22/2","v":1},"ft",null,null,null,null,null,null,null,null,"R = DTS/2",{"$f":"$F$22/2","v":1},"ft",null,null,null,null,null,null,null,null,null,null,"Thalweg Elevation (ft) =",{"$f":"$C$16","v":92.8},"RTS (ft) =",{"$f":"IF($F$22=\"\",\"\",$F$22/2)","v":1},"yRC,crown (ft) =",{"$f":"IF($U$11=\"\",\"\",$U$11)","v":96.499923846128354},"yRC,bot (ft) =",{"$f":"IF($U$14=\"\",\"\",$U$14)","v":94.5}]
["Multi-Log Structures","Layer","Log ID",null,null,null,null,null,null,null,null,"Log Vane",null,"Logs protruding from bank and angled either up- or downstream",null,null,null,null,"Large Wood Coordinates",null,null,null,null,null,null,null,null,null,"WSE",{"$f":"IF(OR($A$6=\"\",$C$16=\"\"),0,IF(($H$6+$C$16)>=$C$13,$B$13,IF(AND(($H$6+$C$16)<$C$13,($H$6+$C$16)>=$C$14),((($C$13-($H$6+$C$16))/($C$13-$C$14))*($B$14-$B$13))+$B$13,IF(AND(($H$6+$C$16)<$C$14,($H$6+$C$16)>=$C$15),((($C$14-($H$6+$C$16))/($C$14-$C$15))*($B$15-$B$14))+$B$14,IF(AND(($H$6+$C$16)<$C$15,($H$6+$C$16)>=$C$16),((($C$15-($H$6+$C$16))/($C$15-$C$16))*($B$16-$B$15))+$B$15,\"\")))))","v":0},{"$f":"IF(OR($A$6=\"\",$C$16=\"\"),$C$13,$H$6+$C$16)","v":101.25},null,null,"b (rad)",{"$f":"ABS($C$25)*PI()/180","v":8.7266462599716477E-3},"rad",null,null,null,null,null,null,null,null,"b (rad)",{"$f":"ABS($C$25)*PI()/180","v":8.7266462599716477E-3},"rad"]
[null,"Stacked","Top#2",null,null,null,null,null,null,null,null,"Log Weir",null,"Weirs spanning small streams comprised of one or more large logs",null,null,null,null,null,"x (ft)","y (ft)",null,"Large wood check","x (ft)",null,"y (ft)",null,null,"WSE",{"$f":"IF(OR($A$6=\"\",$C$16=\"\"),0,IF(($H$6+$C$16)>=$C$19,$B$19,IF(AND(($H$6+$C$16)<$C$19,($H$6+$C$16)>=$C$18),(((($H$6+$C$16)-$C$18)/($C$19-$C$18))*($B$19-$B$18))+$B$18,IF(AND(($H$6+$C$16)<$C$18,($H$6+$C$16)>=$C$17),(((($H$6+$C$16)-$C$17)/($C$18-$C$17))*($B$18-$B$17))+$B$17,IF(AND(($H$6+$C$16)<$C$17,($H$6+$C$16)>=$C$16),(((($H$6+$C$16)-$C$16)/($C$17-$C$16))*($B$17-$B$16))+$B$16,\"\")))))","v":150},{"$f":"IF(OR($A$6=\"\",$C$16=\"\"),$C$13,$H$6+$C$16)","v":101.25},null,null,"dwet,max",{"$f":"IF($AB$23>$AB$24,$AB$23,IF($AB$23<$AB$24,$AB$24,\"\"))","v":6.75},"ft",null,null,null,null,null,null,null,null,"dwet,max",{"$f":"IF($Z$23>$Z$24,$Z$23,IF($Z$23<$Z$24,$Z$24,\"\"))","v":""},"ft",null,null,null,null,null,null,null,"Slice #","xRW,avg (ft)","RRW,slice (ft)","Aslice,avg (ft)","Vslice (ft3)","ycrown,avg (ft)","ybot,avg (ft)","hRW,cr,↑WSE (ft)","ARW,↑WSE (ft2)","VRW,↑WSE (ft3)","hRW,bot,↓thw (ft)","ARW,↓thw (ft2)","VRW,↓thw (ft3)"]
[null,null,null,null,null,null,null,null,null,null,{"$f":"IF(OR($C$14=\"\",$C$15=\"\"),\"\",IF($C$15>=$C$14,\"ERROR - LB top elevation must be > LB toe elevation\",\"\"))","v":""},"Tree Revetment",null,"Row of logs secured along the bank and placed parallel to flow",null,null,null,"Pt 1","Rootwad: Crown",{"$f":"IF($F$25=\"\",0,IF($D$25=\"Rootwad: Crown\",$F$25,IF($D$22=\"No\",$T$15+(($F$22*-$M$20)*$M$17),$T$15+(($H$22*-$M$20)*$M$17))))","v":58.377766696364866},{"$f":"IF($G$25=\"\",$C$13,IF($D$25=\"Rootwad: Crown\",$G$25,IF($D$22=\"No\",$U$15+($F$22*$M$19),$U$15+($H$22*$M$19))))","v":98.473668085761574},null,"Rootwad: Crown",{"$f":"IF($D$22=\"No\",$T$15+(($F$22*-$M$20)*$M$17),$T$15+(($H$22*-$M$20)*$M$17))","v":58.377766696364866},{"$f":"IF(X10=T10,\"OK\",\"ERROR\")","v":"OK"},{"$f":"IF($D$22=\"No\",$U$15+($F$22*$M$19),$U$15+($H$22*$M$19))","v":98.473668085761574},{"$f":"IF(Z10=U10,\"OK\",\"ERROR\")","v":"OK"},null,null,null,null,null,null,"dwet,avgH",{"$f":"IF(AND($AB$23>0,$AB$24>0),(($AB$23/COS($AI$8))+($AB$24/COS($AI$8)))/2,\"\")","v":6.6237174461377144},"ft",null,null,null,null,null,null,null,null,"dwet,avgH",{"$f":"IF(AND($Z$23>0,$Z$24>0),(($Z$23/COS($AT$8))+($Z$24/COS($AT$8)))/2,\"\")","v":""},"ft",null,null,null,null,null,null,null,1,{"$f":"($BE$6/2)+(($BC10-1)*$BE$6)","v":0.05},{"$f":"(($G$22-$BD10)/$G$22)*($BI$6-$BI$7)+$BI$7","v":2.9666666666666668},{"$f":"PI()*($BE10^2)","v":27.649506010094171},{"$f":"$BF10*$BE$6","v":2.7649506010094171},{"$f":"(($G$22-$BD10)/$G$22)*($BK$6-$BK$7)+$BK$7","v":98.440772348434351},{"$f":"(($G$22-$BD10)/$G$22)*($BM$6-$BM$7)+$BM$7","v":92.507664938253598},{"$f":"IF($BH10<=$BG$6,0,IF((($BH10-$BG$6)*$M$19)>=($BE10*2),$BE10*2,($BH10-$BG$6)*$M$19))","v":0},{"$f":"(($BE10^2)*ACOS(($BE10-$BJ10)/$BE10))-(($BE10-$BJ10)*SQRT(2*$BE10*$BJ10-($BJ10^2)))","v":0},{"$f":"$BK10*$BE$6","v":0},{"$f":"IF($BI10>=$BG$7,0,IF((($BG$7-$BI10)*$M$19)>=($BE10*2),$BE10*2,($BG$7-$BI10)*$M$19))","v":0.29232393052301298},{"$f":"(($BE10^2)*ACOS(($BE10-$BM10)/$BE10))-(($BE10-$BM10)*SQRT(2*$BE10*$BM10-($BM10^2)))","v":0.50566075111979059},{"$f":"$BN10*$BE$6","v":5.056607511197906E-2}]
["Channel Geometry Coordinates",null,null,null,null,null,null,null,null,null,{"$f":"IF(OR($C$15=\"\",$C$16=\"\",$C$17=\"\"),\"\",IF(OR($C$15<$C$16,$C$17<$C$16),\"ERROR - Toe elevation must be >= thalweg elevation\",\"\"))","v":""},"Flow Deflection",null,"Partially spanning multiple log structure along the bank",null,null,null,"Pt 2","Root collar: Crown",{"$f":"IF($F$25=\"\",0,IF($D$25=\"Root collar: Crown\",$F$25,IF($D$22=\"No\",$T$10,$T$10+(($G$22*$M$19)*$M$17)-(((($H$22-$F$22)/2)*-$M$20)*$M$17))))","v":57.007923528423802},{"$f":"IF($G$25=\"\",$C$13,IF($D$25=\"Root collar: Crown\",$G$25,IF($D$22=\"No\",$U$10,$U$10-($G$22*-$M$20)-((($H$22-$F$22)/2)*$M$19))))","v":96.499923846128354},null,"Root collar: Crown",{"$f":"IF($D$22=\"No\",$X$10,$T$10+(($G$22*$M$19)*$M$17)-(((($H$22-$F$22)/2)*-$M$20)*$M$17))","v":57.007923528423802},"OK",{"$f":"IF($D$22=\"No\",$Z$10,$U$10-($G$22*-$M$20)-((($H$22-$F$22)/2)*$M$19))","v":96.499923846128354},"OK",null,"Water Surface Label",null,null,null,null,"hmax,lower",{"$f":"IF($AI$9/COS($AI$8)>$F$22,$F$22,$AI$9/COS($AI$8))","v":2},"ft",null,null,null,null,null,null,null,null,"hmax,lower",{"$f":"IF($AT$9/COS($AT$8)>$F$22,$F$22,$AT$9/COS($AT$8))","v":{"$error":"#VALUE!"}},"ft",null,null,null,null,null,null,null,2,{"$f":"($BE$6/2)+(($BC11-1)*$BE$6)","v":0.15000000000000002},2.9000000000000004,{"$f":"PI()*($BE11^2)","v":26.420794216690165},{"$f":"$BF11*$BE$6","v":2.6420794216690169},98.374980873779919,92.575201720007712,{"$f":"IF($BH11<=$BG$6,0,IF((($BH11-$BG$6)*$M$19)>=($BE11*2),$BE11*2,($BH11-$BG$6)*$M$19))","v":0},{"$f":"(($BE11^2)*ACOS(($BE11-$BJ11)/$BE11))-(($BE11-$BJ11)*SQRT(2*$BE11*$BJ11-($BJ11^2)))","v":0},{"$f":"$BK11*$BE$6","v":0},{"$f":"IF($BI11>=$BG$7,0,IF((($BG$7-$BI11)*$M$19)>=($BE11*2),$BE11*2,($BG$7-$BI11)*$M$19))","v":0.22478972036260353},{"$f":"(($BE11^2)*ACOS(($BE11-$BM11)/$BE11))-(($BE11-$BM11)*SQRT(2*$BE11*$BM11-($BM11^2)))","v":0.33822238628601076},{"$f":"$BN11*$BE$6","v":3.3822238628601078E-2}]
["Proposed","x (ft)","y (ft)",null,null,null,null,null,null,null,{"$f":"IF(OR($C$18=\"\",$C$17=\"\"),\"\",IF($C$17>=$C$18,\"ERROR - RB top elevation must be > RB toe elevation\",\"\"))","v":""},"Mid-Channel",null,"Logs placed at the head of an island or bar",null,null,null,"Pt 3","Stem tip: Crown",{"$f":"IF($F$25=\"\",0,IF($D$25=\"Stem tip: Crown\",$F$25,$T$11+((($E$22-$G$22)*$M$19)*$M$17)))","v":43.842700346423584},{"$f":"IF($G$25=\"\",$C$13,IF($D$25=\"Stem tip: Crown\",$G$25,$U$11-(($E$22-$G$22)*-$M$20)))","v":96.752993375581198},null,"Stem tip: Crown",{"$f":"$T$11+((($E$22-$G$22)*$M$19)*$M$17)","v":43.842700346423584},"OK",{"$f":"$U$11-(($E$22-$G$22)*-$M$20)","v":96.752993375581198},"OK",null,"WSE",{"$f":"IF($AD$8=\"\",\"\",AVERAGE(AD8:AD9))","v":75},{"$f":"IF($AE$8=\"\",\"\",AVERAGE(AE8:AE9))","v":101.25},null,null,"hmax,up,dry",{"$f":"IF(AND($AB$23>$F$22,$AB$24>$F$22),0,IF(AND($AB$23>=$F$22,(($F$22-$AB$24)/(COS($AI$8)))>$F$22),$F$22,IF($AB$23>=$F$22,($F$22-$AB$24)/(COS($AI$8)),IF(AND($AB$24>=$F$22,(($F$22-$AB$23)/(COS($AI$8))>$F$22)),$F$22,IF($AB$24>=$F$22,($F$22-$AB$23)/(COS($AI$8)),\"\")))))","v":0},"ft",null,null,null,null,null,null,null,null,"hmax,up,dry",{"$f":"IF(AND($Z$23>$F$22,$Z$24>$F$22),0,IF(AND($Z$23>=$F$22,(($F$22-$Z$24)/(COS($AT$8)))>$F$22),$F$22,IF($Z$23>=$F$22,($F$22-$Z$24)/(COS($AT$8)),IF(AND($Z$24>=$F$22,(($F$22-$Z$23)/(COS($AT$8))>$F$22)),$F$22,IF($Z$24>=$F$22,($F$22-$Z$23)/(COS($AT$8)),\"\")))))","v":""},"ft",null,null,null,null,null,null,null,3,0.25,2.833333333333333,25.22000769131806,2.522000769131806,98.309189399125472,92.642738501761826,0,0,0,0.15725551020219408,0.19627380824632512,1.9627380824632515E-2]
["Fldpln LB",{"$f":"'Prelim-Top#1'!B13","v":0},{"$f":"'Prelim-Top#1'!C13","v":99.18},null,null,null,null,null,null,null,{"$f":"IF(OR($B$14<$B$13,$B$15<$B$14,$B$16<$B$15,$B$17<$B$16,$B$18<$B$17,$B$19<$B$18),\"ERROR - Each 'x' distance must be >= previous point\",\"\")","v":""},"Full-Span",null,"Multiple logs constricting a large portion of the cross-sectional area",null,null,null,"Pt 4","Stem tip: Bottom",{"$f":"IF($F$25=\"\",0,IF($D$25=\"Stem tip: Bottom\",$F$25,$T$12-(($F$22*-$M$20)*$M$17)))","v":43.834776817999781},{"$f":"IF($G$25=\"\",$C$13,IF($D$25=\"Stem tip: Bottom\",$G$25,$U$12-($F$22*$M$19)))","v":94.753069529452858},null,"Stem tip: Bottom",{"$f":"$T$12-(($F$22*-$M$20)*$M$17)","v":43.834776817999781},"OK",{"$f":"$U$12-($F$22*$M$19)","v":94.753069529452858},"OK",null,null,null,null,null,null,"LTS,bot,wet",{"$f":"IF(($AI$9/SIN($AI$8))>($E$22-$G$22),($E$22-$G$22-$AI$14),($AI$9/SIN($AI$8))-$AI$14)","v":-515.32554073226038},"ft",null,null,null,null,null,null,null,null,"LTS,bot,wet",{"$f":"IF(($AT$9/SIN($AT$8))>($E$22-$G$22),($E$22-$G$22-$AT$14),($AT$9/SIN($AT$8))-$AT$14)","v":{"$error":"#VALUE!"}},"ft",null,null,null,null,null,null,null,4,0.35000000000000003,2.7666666666666666,24.047146433977868,2.4047146433977868,98.243397924471026,92.710275283515941,0,0,0,8.9721300041784635E-2,8.3878675399100766E-2,8.387867539910077E-3]
["Top LB",{"$f":"'Prelim-Top#1'!B14","v":33},{"$f":"'Prelim-Top#1'!C14","v":98.59},null,null,null,null,null,null,null,null,"Floodplain",null,"Logs placed outside of the bankfull channel",null,null,null,"Pt 5","Root collar: Bottom",{"$f":"IF($F$25=\"\",0,IF($D$25=\"Root collar: Bottom\",$F$25,$T$13-((($E$22-$G$22)*$M$19)*$M$17)))","v":57},{"$f":"IF($G$25=\"\",$C$13,IF($D$25=\"Root collar: Bottom\",$G$25,$U$13+(($E$22-$G$22)*-$M$20)))","v":94.5},null,"Root collar: Bottom",{"$f":"$T$13-((($E$22-$G$22)*$M$19)*$M$17)","v":57},"OK",{"$f":"$U$13+(($E$22-$G$22)*-$M$20)","v":94.500000000000014},"OK",null,"Bank Labels",null,null,null,null,"LTS,top,wet",{"$f":"IF($AI$11>=$F$22,(($AI$9-($AI$11/(COS($AI$8))))/SIN($AI$8))+($AI$11*TAN($AI$8)),0)","v":544.32554073226038},"ft",null,null,null,null,null,null,null,null,"LTS,top,wet",{"$f":"IF($AT$11>=$F$22,(($AT$9-($AT$11/(COS($AT$8))))/SIN($AT$8))+($AT$11*TAN($AT$8)),0)","v":{"$error":"#VALUE!"}},"ft",null,null,null,null,null,null,null,5,0.45,2.7,22.902210444669596,2.2902210444669597,98.177606449816594,92.777812065270055,0,0,0,2.2187089881375188E-2,1.022704314628442E-2,1.0227043146284422E-3]
["Toe LB",{"$f":"'Prelim-Top#1'!B15","v":54},{"$f":"'Prelim-Top#1'!C15","v":95.63},null,null,null,null,null,null,null,{"$f":"IF(AND($B$6=\"Rootwad\",$D$22=\"No\"),\"ERROR - Rootwad structure type should have a rootwad\",\"\")","v":""},null,null,null,null,null,null,"Pt 6","Rootwad: Bottom",{"$f":"IF($F$25=\"\",0,IF($D$25=\"Rootwad: Bottom\",$F$25,IF($D$22=\"No\",$T$14,$T$14-(($G$22*$M$19)*$M$17)-(((($H$22-$F$22)/2)*-$M$20)*$M$17))))","v":58.353996111093458},{"$f":"IF($G$25=\"\",$C$13,IF($D$25=\"Rootwad: Bottom\",$G$25,IF($D$22=\"No\",$U$14,$U$14+($G$22*-$M$20)-((($H$22-$F$22)/2)*$M$19))))","v":92.47389654737654},null,"Rootwad: Bottom",{"$f":"IF($D$22=\"No\",$T$14,$T$14-(($G$22*$M$19)*$M$17)-(((($H$22-$F$22)/2)*-$M$20)*$M$17))","v":58.353996111093458},"OK",{"$f":"IF($D$22=\"No\",$U$14,$U$14+($G$22*-$M$20)-((($H$22-$F$22)/2)*$M$19))","v":92.47389654737654},"OK",null,"LB",{"$f":"IF(OR($B$13=\"\",$B$14=\"\"),\"\",AVERAGE($B$13:$B$14))","v":16.5},{"$f":"IF(OR($C$13=\"\",$C$14=\"\"),\"\",AVERAGE($C$13:$C$14))","v":98.885000000000005},null,null,"K1",{"$f":"IF(AND(($AI$11-$AI$7)=1,$AH$17=\"Case 1\"),PI(),ACOS(1-($AI$11/$AI$7)))","v":3.1415926535897931},"rad",null,null,null,null,null,null,null,null,"K1",{"$f":"ACOS(1-($AT$11/$AT$7))","v":{"$error":"#VALUE!"}},"rad",null,null,null,null,null,null,null,6,0.55000000000000004,2.6333333333333337,21.785199723393227,2.1785199723393229,98.111814975162147,92.845348847024169,0,0,0,0,0,0]
["Thalweg",{"$f":"'Prelim-Top#1'!B16","v":79},{"$f":"'Prelim-Top#1'!C16","v":92.8},null,null,null,null,null,null,null,{"$f":"IF(OR($N$52=\"\",$F$25=\"\",$G$25=\"\"),\"\",IF(AND($B$6=\"Rootwad\",$N$52<>\"Exposed in stream\"),\"CHECK - Rootwad structure typically has exposed rootwad\",\"\"))","v":""},null,null,null,null,null,null,null,null,null,null,null,null,null,null,null,null,null,"RB",{"$f":"IF(OR($B$18=\"\",$B$19=\"\"),\"\",AVERAGE($B$18:$B$19))","v":138.5},{"$f":"IF(OR($C$18=\"\",$C$19=\"\"),\"\",AVERAGE($C$18:$C$19))","v":98.8},null,null,"K2",{"$f":"IF($AI$12=\"\",\"\",ACOS(1-($AI$12/$AI$7)))","v":0},"rad",null,null,null,null,null,null,null,null,"K2",{"$f":"IF($AT$12=\"\",\"\",ACOS(1-($AT$12/$AT$7)))","v":""},"rad",null,null,null,null,null,null,null,7,0.65000000000000013,2.5666666666666664,20.696114270148755,2.0696114270148755,98.046023500507715,92.912885628778284,0,0,0,0,0,0]
["Toe RB",{"$f":"'Prelim-Top#1'!B17","v":108},{"$f":"'Prelim-Top#1'!C17","v":94.94},null,null,null,null,null,null,null,null,"cos (q+90) =",{"$f":"IF($B$25=\"\",0,COS(($B$25+90)*PI()/180))","v":-0.45399049973954669},null,null,null,null,null,"Rootwad Coordinates",null,null,null,null,null,null,null,null,null,null,null,null,null,"check:",{"$f":"IF(AND($AA$21=\"Wet\",$AA$22=\"Wet\",$AA$23=\"Wet\",$AA$24=\"Wet\"),\"Log is completely submerged\",IF(AND($AA$21=\"Dry\",$AA$22=\"Dry\",OR(AND($AA$23=\"Dry\",$AA$24=\"Wet\"),AND($AA$24=\"Dry\",$AA$23=\"Wet\"))),\"Case 1\",IF(OR(AND($AA$21=\"Wet\",$AA$24=\"Wet\",$AA$22=\"Dry\",$AA$23=\"Dry\"),AND($AA$22=\"Wet\",$AA$23=\"Wet\",$AA$21=\"Dry\",$AA$24=\"Dry\")),\"Case 2\",IF(AND($AA$22=\"Dry\",$AA$23=\"Wet\",$AA$21=\"Dry\",$AA$24=\"Wet\"),\"Case 3\",IF(OR(AND($AA$21=\"Dry\",$AA$22=\"Wet\",$AA$23=\"Wet\",$AA$24=\"Wet\"),AND($AA$21=\"Wet\",$AA$22=\"Dry\",$AA$23=\"Wet\",$AA$24=\"Wet\")),\"Case 4\",\"Stem is Dry\")))))","v":"Log is completely submerged"},null,null,"VTS =",{"$f":"PI()*(($F$22/2)^2)*($E$22-$G$22)","v":91.106186954104004},"ft3",null,null,null,null,"check:",{"$f":"IF(AND($Y$21=\"Wet\",$Y$22=\"Wet\",$Y$23=\"Wet\",$Y$24=\"Wet\"),\"Log is completely submerged\",IF(AND($Y$21=\"Dry\",$Y$22=\"Dry\",OR(AND($Y$23=\"Dry\",$Y$24=\"Wet\"),AND($Y$24=\"Dry\",$Y$23=\"Wet\"))),\"Case 1\",IF(OR(AND($Y$21=\"Wet\",$Y$24=\"Wet\",$Y$22=\"Dry\",$Y$23=\"Dry\"),AND($Y$22=\"Wet\",$Y$23=\"Wet\",$Y$21=\"Dry\",$Y$24=\"Dry\")),\"Case 2\",IF(AND($Y$22=\"Dry\",$Y$23=\"Wet\",$Y$21=\"Dry\",$Y$24=\"Wet\"),\"Case 3\",IF(OR(AND($Y$21=\"Dry\",$Y$22=\"Wet\",$Y$23=\"Wet\",$Y$24=\"Wet\"),AND($Y$21=\"Wet\",$Y$22=\"Dry\",$Y$23=\"Wet\",$Y$24=\"Wet\")),\"Case 4\",\"Stem is Dry\")))))","v":"Stem is Dry"},null,null,"VTS =",{"$f":"PI()*(($F$22/2)^2)*($E$22-$G$22)","v":91.106186954104004},"ft3",null,null,null,null,8,0.75000000000000011,2.5,19.634954084936208,1.9634954084936209,97.980232025853269,92.980422410532412,0,0,0,0,0,0]
["Top RB",{"$f":"'Prelim-Top#1'!B18","v":127},{"$f":"'Prelim-Top#1'!C18","v":98.72},null,null,null,null,null,null,null,null,"sin (q+90) =",{"$f":"IF($B$25=\"\",0,SIN(($B$25+90)*PI()/180))","v":0.8910065241883679},null,null,null,null,null,null,"x (ft)","y (ft)",null,"Large Wood \"Below Thalweg\" and \"Below Water Surface\" Depths",null,null,null,null,null,null,null,null,null,"Case 1",null,null,null,null,null,null,null,null,null,null,"Case 1",null,null,null,null,null,null,null,null,null,null,9,0.85000000000000009,2.4333333333333336,18.601719167755569,1.860171916775557,97.914440551198823,93.047959192286527,0,0,0,0,0,0]
["Fldpln RB",{"$f":"'Prelim-Top#1'!B19","v":150},{"$f":"'Prelim-Top#1'!C19","v":98.88},null,null,null,null,null,null,null,{"$f":"IF($C$25=\"\",\"\", IF($C$25=0,\"ERROR - Angle of tilt can not be exactly 0 deg, change to 0.01\", IF(OR($C$25>=90,$C$25<=-90),\"ERROR - Angle of tilt must be between (-)89.9 and (+)89.9 deg\",\"\")))","v":""},"cos b =",{"$f":"IF($C$25=\"\",0,COS($C$25*PI()/180))","v":0.99996192306417131},null,null,null,null,null,"RW bottom1",{"$f":"IF($T$15=\"\",\"\",$T$15)","v":58.353996111093458},{"$f":"IF($U$15=\"\",$C$13,$U$15)","v":92.47389654737654},null,null,"Point","↓twCondition","dT,wet","↓WSECondition","dT↓dw",null,null,null,null,null,null,"V =","LTS,bot,wet/hmax,lower*R3*(sin K1 – K1*cos K1 – 1/3*(sin K1)3)",null,null,null,null,null,null,null,null,null,"V =","LTS,bot,wet/hmax,lower*R3*(sin K1 – K1*cos K1 – 1/3*(sin K1)3)",null,null,null,null,null,null,null,10,0.95000000000000007,2.3666666666666663,17.596409518606823,1.7596409518606824,97.84864907654439,93.115495974040641,0,0,0,0,0,0]
[null,null,null,null,null,null,null,null,null,null,{"$f":"IF(OR($B$25=\"\",$A$6=\"\"),\"\",IF(OR($B$25>360,$B$25<-180),\"ERROR - Orientation angle must be (-)180 to (+)360 deg\",\"\"))","v":""},"sin b =",{"$f":"IF($C$25=\"\",0,SIN($C$25*PI()/180))","v":8.7265354983739347E-3},null,null,null,null,null,"RW sid1",{"$f":"IF($T$19=\"\",\"\",IF($D$22=\"No\",$T$19+((SIN(45*PI()/180))*$M$18),(($T$19+$T$21)/2)+((SIN(45*PI()/180))*$M$18)))","v":60.32648529902891},{"$f":"IF($U$15=\"\",$C$13,($U$21+$U$19)/2)","v":93.973839431972806},null,"Rootwad: Crown","Pt 1",{"$f":"IF($U10<$C$16,\"Wet\",\"Dry\")","v":"Dry"},{"$f":"IF($C$16<U10,0,$C$16-U10)","v":0},{"$f":"IF($U10<$AE$8,\"Wet\",\"Dry\")","v":"Wet"},{"$f":"IF(U10>$AE$8,0,$AE$8-U10)","v":2.7763319142384262},null,null,null,null,null,null,"where:","K1 = arccos(1-hmax,lower/R)",null,null,null,null,null,null,null,null,null,"where:","K1 = arccos(1-hmax,lower/R)",null,null,null,null,null,null,null,11,1.05,2.2999999999999998,16.619025137490002,1.6619025137490002,97.782857601889944,93.183032755794756,0,0,0,0,0,0]
["Wood Species",null,null,"Rootwad","LT (ft)","DTS (ft)","LRW (ft)","DRW (ft)","gTd (lb/ft3)","gTgr (lb/ft3)",{"$f":"IF(AND($D$22=\"No\",OR($D$25=\"Rootwad: Crown\",$D$25=\"Rootwad: Bottom\")),\"ERROR - No rootwad, define a different starting point\",\"\")","v":""},"typ RW b =",{"$f":"IF($E$22=\"\",0,ROUND((-ATAN(((($H$22-$F$22)/2))/$E$22)*180/PI()),1))","v":-3.6},null,null,null,null,null,"RW sid2",{"$f":"IF($T$19=\"\",\"\",IF($D$22=\"No\",(($T$19+$T$23)/2)+($F$22/2*$M$18),(($T$19+$T$23)/2)+($H$22/2*$M$18)))","v":61.038900976294265},{"$f":"IF($U$15=\"\",$C$13,($U$19+$U$23)/2)","v":95.473782316569057},null,"Root collar: Crown","Pt 2","Dry",0,"Wet",4.7500761538716461,null,null,null,null,null,null,"VTS,wet,C1",{"$f":"($AI$13/$AI$11)*($AI$7^3)*(SIN($AI$15)-($AI$15*COS($AI$15))-((1/3)*(SIN($AI$15))^3))","v":-809.4714664858285},"ft3",null,null,null,null,null,null,null,null,"VTS,wet,C1",{"$f":"($AT$13/$AT$11)*($AT$7^3)*(SIN($AT$15)-($AT$15*COS($AT$15))-((1/3)*(SIN($AT$15))^3))","v":{"$error":"#VALUE!"}},"ft3",null,null,null,null,null,null,12,1.1500000000000001,2.2333333333333334,15.669566024405089,1.566956602440509,97.717066127235512,93.25056953754887,0,0,0,0,0,0]
["Douglas-fir, Interior west",null,null,"Yes",32,2,{"$f":"IF(OR($D$22=\"No\",$D$22=\"\"),0,IF($F$22=\"\",0,$F$22*LFRW))","v":3},{"$f":"IF(OR($D$22=\"No\",$D$22=\"\"),0,IF($F$22=\"\",0,$F$22*DFRW))","v":6},{"$f":"IF($A$22=\"\",\"\",VLOOKUP($A$22,'5-Wood'!$B$8:$E$17,3,0))","v":34.944000000000003},{"$f":"IF($A$22=\"\",\"\",VLOOKUP($A$22,'5-Wood'!$B$8:$E$17,4,0))","v":39},null,null,null,null,null,null,null,null,"RW sid3",{"$f":"IF($T$19=\"\",\"\",IF($D$22=\"No\",$T$23+((SIN(45*PI()/180))*$M$18),(($T$23+$T$21)/2)+((SIN(45*PI()/180))*$M$18)))","v":60.338370591664614},{"$f":"IF($U$15=\"\",$C$13,($U$21+$U$23)/2)","v":96.973725201165308},null,"Stem tip: Crown","Pt 3","Dry",0,"Wet",4.4970066244188018,null,null,null,null,null,null,null,null,null,null,null,null,null,null,null,null,null,null,null,null,null,null,null,null,null,null,13,1.2500000000000002,2.1666666666666665,14.748032179352082,1.4748032179352082,97.651274652581066,93.318106319302984,0,0,0,0,0,0]
[null,null,null,null,null,null,null,null,null,null,{"$f":"IF(OR($B$25=\"\",$A$6=\"\"),\"\",IF(OR($B$25=360,$B$25=270,$B$25=180,$B$25=90,$B$25=0,$B$25=-90,$B$25=-180),\"ERROR - Orientation angle can not EXACTLY equal 0, 90, 180, 270, or 360 deg. Change input value to 0.01, 89.99 (or similar)\",\"\"))","v":""},null,null,null,null,null,null,null,"RW crown",{"$f":"IF($T$19=\"\",\"\",$T$10)","v":58.377766696364866},{"$f":"IF($U$15=\"\",$C$13,$U$10)","v":98.473668085761574},null,"Stem tip: Bottom","Pt 4","Dry",0,"Wet",6.4969304705471416,null,null,null,null,"Case 2",null,null,null,null,null,null,null,null,null,null,"Case 2",null,null,null,null,null,null,null,null,null,null,14,1.35,2.0999999999999996,13.854423602330982,1.3854423602330983,97.585483177926619,93.385643101057099,0,0,0,0,0,0]
["Structure Geometry","q (deg)","b (deg)","Define Fixed Point",null,"xT (ft)","yT (ft)","yT,min (ft)","yT,max (ft)","ATp (ft2)",null,null,null,null,null,null,null,null,"RW sid4",{"$f":"IF($T$19=\"\",\"\",IF($D$22=\"No\",$T$23-((SIN(45*PI()/180))*$M$18),(($T$23+$T$25)/2)-((SIN(45*PI()/180))*$M$18)))","v":56.405277508429414},{"$f":"IF($U$15=\"\",$C$13,($U$25+$U$23)/2)","v":96.973725201165308},null,"Root collar: Bottom","Pt 5","Dry",0,"Wet",6.75,null,null,null,null,null,null,"V =","(p*R2*LTS,top,wet) + (LTS,bot,wet/hmax,lower*R3*(sin K1 – K1*cos K1 – 1/3*(sin K1)3)",null,null,null,null,null,null,null,null,null,"V =","(p*R2*LTS,top,wet) + (LTS,bot,wet/hmax,lower*R3*(sin K1 – K1*cos K1 – 1/3*(sin K1)3)",null,null,null,null,null,null,null,15,1.4500000000000002,2.0333333333333332,12.988740293341799,1.2988740293341801,97.519691703272187,93.453179882811213,0,0,0,0,0,0]
[null,27,0.5,"Root collar: Bottom",null,57,94.5,{"$f":"IF(OR($E$22=\"\",$F$22=\"\",$F$25=\"\",$G$25=\"\"),\"\",MIN($U$10:$U$15))","v":92.47389654737654},{"$f":"IF(OR($E$22=\"\",$F$22=\"\",$F$25=\"\",$G$25=\"\"),\"\",MAX($U$10:$U$15))","v":98.473668085761574},{"$f":"IF(OR($E$22=\"\",$F$22=\"\",$F$25=\"\",$G$25=\"\"),\"\",IF($T$81<0,$AB$80,IF($T$81>$T$77,$T$77+$AB$80,IF(OR(AND($C$25=0,$D$22=\"No\",$B$25=0),AND($C$25=0,$D$22=\"No\",$B$25=360),AND($C$25=0,$D$22=\"No\",$B$25=180)),PI()*(($F$22/2)^2),$T$81+$AB$80))))","v":33.05110587446103},{"$f":"IF(OR($B$13=\"\",$B$19=\"\",$U$38=0,$U$39=0),\"\",IF(OR(MAX($U$38:$U$39)>$B$19,MIN($U$38:$U$39)<$B$13),\"ERROR - Log extends beyond limits of floodplain\",\"\"))","v":""},null,null,null,null,null,null,null,"RW sid5",{"$f":"IF($T$19=\"\",\"\",IF($D$22=\"No\",(($T$27+$T$23)/2)-($F$22/2*$M$18),(($T$27+$T$23)/2)-($H$22/2*$M$18)))","v":55.692861831164059},{"$f":"IF($U$15=\"\",$C$13,($U$27+$U$23)/2)","v":95.473782316569057},null,"Rootwad: Bottom","Pt 6","Wet",0.32610345262345675,"Wet",8.7761034526234596,null,null,null,null,null,null,"where:","K1 = arccos(1-hmax,lower/R)",null,null,null,null,null,null,null,null,null,"where:","K1 = arccos(1-hmax,lower/R)",null,null,null,null,null,null,null,16,1.55,1.9666666666666668,12.150982252384525,1.2150982252384526,97.453900228617741,93.520716664565327,0,0,0,0,0,0]
[null,null,null,null,null,null,null,null,null,null,null,null,null,null,null,null,null,null,"RW sid6",{"$f":"IF($T$19=\"\",\"\",IF($D$22=\"No\",$T$27-((SIN(45*PI()/180))*$M$18),(($T$27+$T$25)/2)-((SIN(45*PI()/180))*$M$18)))","v":56.39339221579371},{"$f":"IF($U$15=\"\",$C$13,($U$25+$U$27)/2)","v":93.973839431972806},null,null,null,null,null,null,null,null,null,null,null,null,null,"VTS,wet,C2",{"$f":"(PI()*(($AI$7)^2)*($AI$14))+($AI$13/$AI$11)*($AI$7^3)*(SIN($AI$15)-($AI$15*COS($AI$15))-((1/3)*(SIN($AI$15))^3))","v":900.57765343993231},"ft3",null,null,null,null,null,null,null,null,"VTS,wet,C2",{"$f":"(PI()*(($AT$7)^2)*($AT$14))+($AT$13/$AT$11)*($AT$7^3)*(SIN($AT$15)-($AT$15*COS($AT$15))-((1/3)*(SIN($AT$15))^3))","v":{"$error":"#VALUE!"}},"ft3",null,null,null,null,null,null,17,1.6500000000000001,1.9,11.341149479459153,1.1341149479459154,97.388108753963309,93.588253446319442,0,0,0,0,0,0]
["Soils","Material",null,"gs (lb/ft3)","g's (lb/ft3)","f (deg)","Soil Class","LT,em (ft)","db,max (ft)","db,avg (ft)",null,null,null,null,null,null,null,null,"RW bottom2",{"$f":"IF($T$19=\"\",\"\",$T$15)","v":58.353996111093458},{"$f":"IF($U$15=\"\",$C$13,$U$15)","v":92.47389654737654},null,null,null,null,null,null,null,null,null,null,null,null,null,null,null,null,null,null,null,null,null,null,null,null,null,null,null,null,null,null,null,null,null,18,1.7500000000000002,1.833333333333333,10.559241974565689,1.055924197456569,97.322317279308862,93.655790228073556,0,0,0,0,0,0]
["Stream Bed",{"$f":"IF($A$6=\"\",\"\",VLOOKUP($A$6,Soil,4,0))","v":"Small Cobble"},null,{"$f":"IF($A$6=\"\",\"\",VLOOKUP($A$6,Soil,6,0))","v":136.37545738828794},{"$f":"IF($A$6=\"\",\"\",VLOOKUP($A$6,Soil,7,0))","v":84.913020637990599},{"$f":"IF($A$6=\"\",\"\",VLOOKUP($A$6,Soil,8,0))","v":41},{"$f":"IF($A$6=\"\",\"\",VLOOKUP($A$6,Soil,5,0))","v":4},{"$f":"IF(OR($E$22=\"\",$F$22=\"\",$F$25=\"\",$G$25=\"\"),\"\",IF(AND($F$25<=$B$17,$F$25>=$B$15,OR($B$25=0,$B$25=180,$B$25=360)),SUM($X$49:$X$50),$AB$49+$AB$50))","v":0},{"$f":"IF(OR($E$22=\"\",$F$22=\"\",$F$25=\"\",$G$25=\"\"),\"\",$AT$42)","v":0},{"$f":"IF(OR($E$22=\"\",$F$22=\"\",$F$25=\"\",$G$25=\"\"),\"\",$AT$41)","v":0},null,null,null,null,null,null,null,null,null,null,null,null,null,null,null,null,null,null,null,null,null,null,"Case 3",null,null,null,null,null,null,null,null,null,null,"Case 3",null,null,null,null,null,null,null,null,null,null,19,1.85,1.7666666666666666,9.8052597377041426,0.98052597377041428,97.256525804654416,93.723327009827671,0,0,0,0,0,0]
["Bank",{"$f":"IF($A$6=\"\",\"\",VLOOKUP($A$6,Soil,9,0))","v":"Gravel/cobble"},null,{"$f":"IF($A$6=\"\",\"\",VLOOKUP($A$6,Soil,11,0))","v":137},{"$f":"IF($A$6=\"\",\"\",VLOOKUP($A$6,Soil,12,0))","v":85.301886792452819},{"$f":"IF($A$6=\"\",\"\",VLOOKUP($A$6,Soil,13,0))","v":41},{"$f":"IF($A$6=\"\",\"\",VLOOKUP($A$6,Soil,10,0))","v":4},{"$f":"IF(OR($E$22=\"\",$F$22=\"\",$F$25=\"\",$G$25=\"\"),\"\",IF(AND(OR($F$25>$B$17,$F$25<$B$15),OR($B$25=0,$B$25=180,$B$25=360)),$X$47+$X$48+$X$51+$X$52,$AB$47+$AB$48+$AB$51+$AB$52))","v":5.5861497013720083},{"$f":"IF(OR($E$22=\"\",$F$22=\"\",$F$25=\"\",$G$25=\"\"),\"\",$AU$42)","v":0.30870219463719195},{"$f":"IF(OR($E$22=\"\",$F$22=\"\",$F$25=\"\",$G$25=\"\"),\"\",$AU$41)","v":0.15838936481692575},{"$f":"IF(OR($E$22=\"\",$F$22=\"\",$F$25=\"\",$G$25=\"\"),\"\",IF(($H$28+$H$29)>$E$22,\"ERROR - Embedded length of log exceeds total length of log\",\"\"))","v":""},null,null,null,null,null,null,null,"Coordinates of Large Wood Crown at Key Points",null,null,null,null,null,null,null,null,null,null,null,null,null,null,null,"V =","LTS*(R2*arccos((R-dwet,avgH)/R)-(R-dwet,avgH)*((2*R*dwet,avgH)-dwet,avgH2)0.5)",null,null,null,null,null,null,null,null,null,"V =","LTS*(R2*arccos((R-dwet,avgH)/R)-(R-dwet,avgH)*((2*R*dwet,avgH)-dwet,avgH2)0.5)",null,null,null,null,null,null,null,20,1.9500000000000002,1.6999999999999997,9.0792027688745005,0.90792027688745014,97.190734329999984,93.790863791581785,0,0,0,0,0,0]
[null,null,null,null,null,null,null,null,null,null,null,null,null,null,null,null,null,null,null,"Wood Present?","Large Wood Parameters",null,null,null,"Soil",null,"Slope","Bank (ft/ft)",null,null,null,null,null,null,"VTS,wet,C3",{"$f":"IF($AI$10=\"\",\"\",($E$22-$G$22)*((($AI$7^2)*ACOS(($AI$7-$AI$10)/$AI$7))-(($AI$7-$AI$10)*((2*$AI$7*$AI$10)-($AI$10^2))^0.5)))","v":{"$error":"#NUM!"}},"ft3",null,null,null,null,null,null,null,null,"VTS,wet,C3",{"$f":"IF($AT$10=\"\",\"\",($E$22-$G$22)*((($AT$7^2)*ACOS(($AT$7-$AT$10)/$AT$7))-(($AT$7-$AT$10)*((2*$AT$7*$AT$10)-($AT$10^2))^0.5)))","v":""},"ft3",null,null,null,null,null,null,21,2.0499999999999998,1.6333333333333333,8.3810710680767713,0.83810710680767719,97.124942855345537,93.858400573335899,0,{"$f":"(($BE30^2)*ACOS(($BE30-$BJ30)/$BE30))-(($BE30-$BJ30)*SQRT(2*$BE30*$BJ30-($BJ30^2)))","v":0},{"$f":"$BK30*$BE$6","v":0},0,0,0]
[null,null,null,null,null,null,null,null,null,null,null,null,null,null,null,null,null,null,null,null,"xTS (ft)","Dist (ft)","Adjusted Dist (ft)","yTS (ft)","ysoil (ft)",null,"Fldpln LB",{"$f":"IF(OR($B$13=\"\",$B$14=\"\",$C$13=\"\",$C$14=\"\"),\"\",($C$14-$C$13)/($B$14-$B$13))","v":-1.7878787878787984E-2},null,null,null,null,null,null,null,null,null,null,null,null,null,null,null,null,null,null,null,null,null,null,null,null,null,null,22,2.15,1.5666666666666669,7.7108646353109487,0.77108646353109489,97.059151380691105,93.925937355090014,0,0,0,0,0,0]
[null,null,null,null,null,null,null,null,null,null,null,null,null,null,null,null,null,null,"At Left Bank Top",{"$f":"IF(OR($F$25=\"\",$G$25=\"\"),\"No\",IF(MIN($U$38:$U$39)>$B$14,\"No\",IF(MAX($U$38:$U$39)<$B$14,\"No\",\"Yes\")))","v":"No"},{"$f":"$B$14","v":33},{"$f":"IF(OR($B$25=0,$B$25=180,$B$25=360),0,IF($T$11>$T$12,$G$22+((($T$11-$B$14)/ABS($M$17))/$M$19),(($T$12-$B$14)/ABS($M$17))/$M$19))","v":55.884009082063336},{"$f":"IF(V32<0,0,IF(V32>$E$22,$E$22,V32))","v":32},{"$f":"IF($T$11>$T$12,$U$11+(($V$32-$G$22)*$M$20),$U$12-($V$32*$M$20))","v":96.961418028679304},{"$f":"$C$14","v":98.59},null,"LB",{"$f":"IF(OR($B$14=\"\",$B$15=\"\",$C$14=\"\",$C$15=\"\"),\"\",($C$15-$C$14)/($B$15-$B$14))","v":-0.14095238095238133},null,null,null,null,null,null,null,null,null,null,null,null,null,null,null,null,null,null,null,null,null,null,null,null,null,null,23,2.25,1.5,7.0685834705770345,0.70685834705770345,96.993359906036659,93.993474136844128,0,0,0,0,0,0]
[null,null,null,null,null,null,null,null,null,null,null,null,null,null,null,null,null,null,"At Left Bank Toe",{"$f":"IF(OR($F$25=\"\",$G$25=\"\"),\"No\",IF(MIN($U$38:$U$39)>$B$15,\"No\",IF(MAX($U$38:$U$39)<$B$15,\"No\",\"Yes\")))","v":"Yes"},{"$f":"$B$15","v":54},{"$f":"IF(OR($B$25=0,$B$25=180,$B$25=360),0,IF($T$11>$T$12,$G$22+((($T$11-$B$15)/ABS($M$17))/$M$19),(($T$12-$B$15)/ABS($M$17))/$M$19))","v":9.6257731538917426},9.6257731538917426,{"$f":"IF($T$11>$T$12,$U$11+(($V$33-$G$22)*$M$20),$U$12-($V$33*$M$20))","v":96.557743890759966},{"$f":"$C$15","v":95.63},null,"Stream L",{"$f":"IF(OR($B$15=\"\",$B$16=\"\",$C$15=\"\",$C$16=\"\"),\"\",($C$16-$C$15)/($B$16-$B$15))","v":-0.11319999999999993},null,null,null,null,null,null,null,null,null,null,null,null,null,null,null,null,null,null,null,null,null,null,null,null,null,null,24,2.35,1.4333333333333333,6.4542275738750305,0.6454227573875031,96.927568431382213,94.061010918598257,0,0,0,0,0,0]
[null,null,null,null,null,null,null,null,null,null,null,null,null,null,null,null,null,null,"At Left Thalweg",{"$f":"IF(OR($F$25=\"\",$G$25=\"\"),\"No\",IF(AND(MAX($U$38:$U$39)>$B$16,MIN($U$38:$U$39)<$B$16),\"Yes\",\"No\"))","v":"No"},{"$f":"$B$16","v":79},{"$f":"IF(OR($B$25=0,$B$25=180,$B$25=360),0,IF($T$11>$T$12,$G$22+((($T$11-$B$16)/ABS($M$17))/$M$19),(($T$12-$B$16)/ABS($M$17))/$M$19))","v":-45.443555332026818},0,{"$f":"IF($T$11>$T$12,$U$11+(($V$34-$G$22)*$M$20),$U$12-($V$34*$M$20))","v":96.077179440855986},{"$f":"$C$16","v":92.8},null,"Stream R",{"$f":"IF(OR($B$17=\"\",$B$16=\"\",$C$17=\"\",$C$16=\"\"),\"\",($C$16-$C$17)/($B$16-$B$17))","v":7.3793103448275887E-2},null,null,null,null,"Case 4",null,null,null,null,null,null,null,null,null,null,"Case 4",null,null,null,null,null,null,null,null,null,null,25,2.4500000000000002,1.3666666666666665,5.8677969452049341,0.58677969452049339,96.86177695672778,94.128547700352371,0,0,0,0,0,0]
[null,null,null,null,null,null,null,null,null,null,null,null,null,null,null,null,null,null,"At Right Thalweg",{"$f":"IF(OR($F$25=\"\",$G$25=\"\"),\"No\",IF(AND(MAX($U$38:$U$39)>$B$16,MIN($U$38:$U$39)<$B$16),\"Yes\",\"No\"))","v":"No"},{"$f":"$B$16","v":79},{"$f":"IF(OR($B$25=0,$B$25=180,$B$25=360),0,IF($T$11<$T$12,$G$22+((($B$16-$T$11)/ABS($M$17))/$M$19),(($B$16-$T$12)/ABS($M$17))/$M$19))","v":77.443555332026818},32,{"$f":"IF($T$11<$T$12,$U$11+(($V$35-$G$22)*$M$20),$U$12-($V$35*$M$20))","v":96.077179440855986},{"$f":"$C$16","v":92.8},null,"RB",{"$f":"IF(OR($B$18=\"\",$B$17=\"\",$C$18=\"\",$C$17=\"\"),\"\",($C$18-$C$17)/($B$18-$B$17))","v":0.19894736842105268},null,null,null,null,null,null,"V =","VTS - (LTS,wet/hmax,up,dry*R3*(sin K2 – K2*cos K2 – 1/3*(sin K2)3)",null,null,null,null,null,null,null,null,null,"V =","VTS - (LTS,wet/hmax,up,dry*R3*(sin K2 – K2*cos K2 – 1/3*(sin K2)3)",null,null,null,null,null,null,null,26,2.5499999999999998,1.3,5.3092915845667505,0.5309291584566751,96.795985482073334,94.196084482106485,0,0,0,0,0,0]
[null,null,null,null,null,null,null,null,null,null,null,null,null,null,null,null,null,null,"At Right Bank Toe",{"$f":"IF(OR($F$25=\"\",$G$25=\"\"),\"No\",IF(MAX($U$38:$U$39)<$B$17,\"No\",IF(MIN($U$38:$U$39)>$B$17,\"No\",\"Yes\")))","v":"No"},{"$f":"$B$17","v":108},{"$f":"IF(OR($B$25=0,$B$25=180,$B$25=360),0,IF($T$11<$T$12,$G$22+((($B$17-$T$11)/ABS($M$17))/$M$19),(($B$17-$T$12)/ABS($M$17))/$M$19))","v":141.32397637569238},32,{"$f":"IF($T$11<$T$12,$U$11+(($V$36-$G$22)*$M$20),$U$12-($V$36*$M$20))","v":95.519724678967364},{"$f":"$C$17","v":94.94},null,"Fldpln RB",{"$f":"IF(OR($B$19=\"\",$B$18=\"\",$C$19=\"\",$C$18=\"\"),\"\",($C$19-$C$18)/($B$19-$B$18))","v":6.9565217391302867E-3},null,null,null,null,null,null,null,"K2 = arccos(1-hmax,up,dry/R)",null,null,null,null,null,null,null,null,null,null,"K2 = arccos(1-hmax,up,dry/R)",null,null,null,null,null,null,null,27,2.65,1.2333333333333334,4.7787114919604745,0.47787114919604745,96.730194007418902,94.2636212638606,0,0,0,0,0,0]
[null,null,null,null,null,null,null,null,null,null,null,null,null,null,null,null,null,null,"At Right Bank Top",{"$f":"IF(OR($F$25=\"\",$G$25=\"\"),\"No\",IF(MAX($U$38:$U$39)<$B$18,\"No\",IF(MIN($U$38:$U$39)>$B$18,\"No\",\"Yes\")))","v":"No"},{"$f":"$B$18","v":127},{"$f":"IF(OR($B$25=0,$B$25=180,$B$25=360),0,IF($T$11<$T$12,$G$22+((($B$18-$T$11)/ABS($M$17))/$M$19),(($B$18-$T$12)/ABS($M$17))/$M$19))","v":183.17666602499048},32,{"$f":"IF($T$11<$T$12,$U$11+(($V$37-$G$22)*$M$20),$U$12-($V$37*$M$20))","v":95.154495697040332},{"$f":"$C$18","v":98.72},null,null,null,null,null,null,null,null,null,"VTS,wet,C4",{"$f":"IF($AI$16=\"\",\"\",$AW$17-(($AI$13/$AI$12)*($AI$7^3)*(SIN($AI$16)-($AI$16*COS($AI$16))-((1/3)*(SIN($AI$16))^3))))","v":{"$error":"#DIV/0!"}},"ft3",null,null,null,null,null,null,null,null,"VTS,wet,C4",{"$f":"IF($AT$16=\"\",\"\",$AW$17-(($AT$13/$AT$12)*($AT$7^3)*(SIN($AT$16)-($AT$16*COS($AT$16))-((1/3)*(SIN($AT$16))^3))))","v":""},"ft3",null,null,null,null,null,null,28,2.75,1.1666666666666667,4.2760566673861078,0.42760566673861078,96.664402532764456,94.331158045614714,0,0,0,0,0,0]
[null,null,null,null,null,null,null,null,null,null,null,null,null,null,null,null,null,null,"Low Pt on Crown",{"$f":"IF(OR($F$25=\"\",$G$25=\"\"),\"No\",\"Yes\")","v":"Yes"},{"$f":"IF($T$38=\"No\",0,IF($U$12<=$U$11,$T$12,$T$11-($G$22*$M$19*$M$17)))","v":58.369843167941063},0,0,{"$f":"IF($T$38=\"No\",0,IF($U$12<=$U$11,$U$12,$U$11-($G$22*$M$20)))","v":96.473744239633234},{"$f":"IF($T$38=\"\",\"\",IF($U$38<$B$14,(($U$38-$B$13)*$AB$31)+$C$13,IF($U$38<$B$15,(($U$38-$B$14)*$AB$32)+$C$14,IF($U$38<$B$16,(($U$38-$B$15)*$AB$33)+$C$15,IF($U$38<$B$17,(($U$38-$B$16)*$AB$34)+$C$16,IF($U$38<$B$18,(($U$38-$B$17)*$AB$35)+$C$17,IF($U$38<$B$19,(($U$38-$B$18)*$AB$36)+$C$18)))))))","v":95.135333753389062},null,"Slope Log (ft/ft)","Slope Log Face (ft/ft)",null,null,null,null,null,null,null,null,null,null,null,null,null,null,null,null,null,null,null,null,null,null,null,null,null,null,29,2.85,1.0999999999999999,3.801327110843649,0.38013271108436492,96.598611058110009,94.398694827368828,0,0,0,0,0,0,null,null,"Max","Min","cP (ft)"]
[null,null,null,null,null,null,null,null,null,null,null,null,null,null,null,null,null,null,"High Pt on Crown","Yes",{"$f":"IF($T$39=\"No\",0,IF($U$12>$U$11,$T$12,$T$11-($G$22*$M$19*$M$17)))","v":43.842700346423584},{"$f":"IF($T$39=\"No\",0,$E$22)","v":32},32,{"$f":"IF($T$39=\"No\",0,IF($U$12>=$U$11,$U$12,$U$11-($G$22*$M$20)))","v":96.752993375581198},{"$f":"IF($T$39=\"\",\"\",IF($U$39<$B$14,(($U$39-$B$13)*$AB$31)+$C$13,IF($U$39<$B$15,(($U$39-$B$14)*$AB$32)+$C$14,IF($U$39<$B$16,(($U$39-$B$15)*$AB$33)+$C$15,IF($U$39<$B$17,(($U$39-$B$16)*$AB$34)+$C$16,IF($U$39<$B$18,(($U$39-$B$17)*$AB$35)+$C$17,IF($U$39<$B$19,(($U$39-$B$18)*$AB$36)+$C$18)))))))","v":97.06169557021839},null,null,null,null,null,null,null,null,null,"Free internet tilted cylinder calculator:",null,null,null,"http://planetcalc.com/1442/",null,null,null,null,null,null,"Free internet tilted cylinder calculator:",null,null,null,"http://planetcalc.com/1442/",null,null,null,null,30,2.95,1.0333333333333332,3.3545228223331005,0.33545228223331008,96.532819583455577,94.466231609122943,0,0,0,0,0,0,null,null,{"$f":"MAX($BS$45:$BS$245)","v":5.44},{"$f":"MIN($BS$45:$BS$245)","v":0},{"$f":"IF($BS$43=0,0,IF(AND($BS$39=0,$BR$39=$E$22),($BR$39+$BS$39)/2,IF($BS$39=0,$BR$39-((1/3)*($BR$39-$BS$39)),IF($BR$39=$E$22,$BR$39-((2/3)*($BR$39-$BS$39)),($BR$39+$BS$39)/2))))","v":3.6266666666666669}]
[null,null,null,null,null,null,null,null,null,null,null,null,null,null,null,null,null,null,"Low Pt on Bottom","Yes",{"$f":"IF($T$40=\"No\",0,IF($U$13<=$U$14,$T$13,$T$14-($G$22*$M$19*$M$17)))","v":58.361919639517261},0,0,{"$f":"IF($T$40=\"No\",0,IF($U$13<=$U$14,$U$13,$U$14-($G$22*$M$20)))","v":94.47382039350488},{"$f":"IF($T$40=\"\",\"\",IF($U$40<$B$14,(($U$40-$B$13)*$AB$31)+$C$13,IF($U$40<$B$15,(($U$40-$B$14)*$AB$32)+$C$14,IF($U$40<$B$16,(($U$40-$B$15)*$AB$33)+$C$15,IF($U$40<$B$17,(($U$40-$B$16)*$AB$34)+$C$16,IF($U$40<$B$18,(($U$40-$B$17)*$AB$35)+$C$17,IF($U$40<$B$19,(($U$40-$B$18)*$AB$36)+$C$18)))))))","v":95.136230696806635},null,{"$f":"IF(OR($B$25=0,$B$25=180,$B$25=360),($U$11-$U$12)/0.001,IF($X$38=$X$39,1E-25,($U$11-$U$12)/($T$11-$T$12)))","v":-1.9222577996159337E-2},{"$f":"IF(OR($B$25=0,$B$25=180,$B$25=360),9999,IF($X$38=$X$39,1E-25,($U$12-$U$13)/($T$12-$T$13)))","v":252.40318948317764},null,null,null,null,null,null,null,null,null,null,null,null,null,null,null,null,null,null,null,null,null,null,null,null,null,null,"Total",null,null,null,{"$f":"SUM(BG10:BG39)","v":40.837213838163322},null,null,null,null,{"$f":"SUM($BL$10:$BL$39)","v":0},null,null,{"$f":"SUM($BO$10:$BO$39)","v":0.11342626641975119}]
[null,null,null,null,null,null,null,null,null,null,null,null,null,null,null,null,null,null,"High Pt on Bottom","Yes",{"$f":"IF($T$41=\"No\",0,IF($U$13>$U$14,$T$13,$T$14-($G$22*$M$19*$M$17)))","v":43.834776817999781},{"$f":"IF($T$41=\"No\",0,$E$22)","v":32},32,{"$f":"IF($T$41=\"No\",0,IF($U$13>=$U$14,$U$13,$U$14-($G$22*$M$20)))","v":94.753069529452858},{"$f":"IF($T$41=\"\",\"\",IF($U$41<$B$14,(($U$41-$B$13)*$AB$31)+$C$13,IF($U$41<$B$15,(($U$41-$B$14)*$AB$32)+$C$14,IF($U$41<$B$16,(($U$41-$B$15)*$AB$33)+$C$15,IF($U$41<$B$17,(($U$41-$B$16)*$AB$34)+$C$16,IF($U$41<$B$18,(($U$41-$B$17)*$AB$35)+$C$17,IF($U$41<$B$19,(($U$41-$B$18)*$AB$36)+$C$18)))))))","v":97.062812410415262},null,null,null,null,null,null,null,null,null,null,null,null,null,null,null,null,null,null,null,"Average",{"$f":"IF(AT42=0,0,AVERAGE(AT45:AT245))","v":0},{"$f":"IF(AU42=0,0,AVERAGE(AU45:AU245))","v":0.15838936481692575}]
[null,null,null,null,null,null,null,null,null,null,null,null,null,null,null,null,null,null,"Low Pt on Centerline","Yes",{"$f":"IF($T$42=\"No\",0,AVERAGE($U$38,$U$40))","v":58.365881403729162},0,0,{"$f":"IF($T$42=\"No\",0,AVERAGE($X$38,$X$40))","v":95.473782316569057},{"$f":"IF($T$42=\"\",\"\",IF($U$42<$B$14,(($U$42-$B$13)*$AB$31)+$C$13,IF($U$42<$B$15,(($U$42-$B$14)*$AB$32)+$C$14,IF($U$42<$B$16,(($U$42-$B$15)*$AB$33)+$C$15,IF($U$42<$B$17,(($U$42-$B$16)*$AB$34)+$C$16,IF($U$42<$B$18,(($U$42-$B$17)*$AB$35)+$C$17,IF($U$42<$B$19,(($U$42-$B$18)*$AB$36)+$C$18)))))))","v":95.135782225097856},null,null,null,null,null,null,null,null,null,"Log Partial Area Calculations",null,null,null,null,null,null,null,null,null,"Max",{"$f":"MAX(AT45:AT245)","v":0},{"$f":"MAX(AU45:AU245)","v":0.30870219463719195},null,null,null,"Total","Total","Total","Total","Total",null,"Total",null,"Total","Total","Average",null,"Average","Average","Average","Average","Total","Total","Total","Average","Average"]
[null,null,null,null,null,null,null,null,null,null,null,null,null,null,null,null,null,null,"High Pt on Centerline","Yes",{"$f":"IF($T$42=\"No\",0,AVERAGE($U$39,$U$41))","v":43.838738582211683},{"$f":"IF($T$43=\"No\",0,$E$22)","v":32},32,{"$f":"IF($T$42=\"No\",0,AVERAGE($X$39,$X$41))","v":95.753031452517035},{"$f":"IF($T$43=\"\",\"\",IF($U$43<$B$14,(($U$43-$B$13)*$AB$31)+$C$13,IF($U$43<$B$15,(($U$43-$B$14)*$AB$32)+$C$14,IF($U$43<$B$16,(($U$43-$B$15)*$AB$33)+$C$15,IF($U$43<$B$17,(($U$43-$B$16)*$AB$34)+$C$16,IF($U$43<$B$18,(($U$43-$B$17)*$AB$35)+$C$17,IF($U$43<$B$19,(($U$43-$B$18)*$AB$36)+$C$18)))))))","v":97.062253990316833},null,null,null,null,null,null,null,null,null,"Log Parameters",null,null,null,null,null,null,"Soil Parameters",null,null,null,null,null,null,null,null,{"$f":"SUM(AY45:AY245)","v":5.5200000000000022},{"$f":"SUM($AZ$45:$AZ$245)","v":0},{"$f":"SUM($BA$45:$BA$245)","v":0},{"$f":"SUM($BB$45:$BB$245)","v":0},{"$f":"SUM($BC$45:$BC$245)","v":1.7245685348076183},null,{"$f":"SUM($BE$45:$BE$245)","v":20.663914179373577},null,{"$f":"SUM($BG$45:$BG$245)","v":0},{"$f":"SUM($BH$45:$BH$245)","v":26.480000000000018},{"$f":"IF(SUM($BI$45:$BI$245)=0,0,AVERAGE($BI$45:$BI$245))","v":18.799999999999997},null,{"$f":"IF(SUM($BK$45:$BK$245)=0,0,AVERAGE($BK$45:$BK$245))","v":0},{"$f":"IF(SUM($BL$45:$BL$245)=0,0,AVERAGE($BL$45:$BL$245))","v":0},{"$f":"IF(SUM($BM$45:$BM$245)=0,0,AVERAGE($BM$45:$BM$245))","v":5.6611035701743457},{"$f":"IF(SUM($BN$45:$BN$245)=0,0,AVERAGE($BN$45:$BN$245))","v":0.11951967531889683},{"$f":"SUM(BO45:BO245)","v":32.000000000000021},{"$f":"SUM($BP$45:$BP$245)","v":9.680000000000005},{"$f":"SUM($BQ$45:$BQ$245)","v":22.320000000000014},{"$f":"IF(SUM($BR$45:$BR$245)=0,0,AVERAGE($BR$45:$BR$245))","v":16},{"$f":"IF(SUM($BS$45:$BS$245)=0,0,AVERAGE($BS$45:$BS$245))","v":2.7199999999999998}]
[null,null,null,null,null,null,null,null,null,null,null,null,null,null,null,null,null,null,null,null,null,null,null,null,null,null,null,null,null,null,null,null,null,null,"Point","Distance","Zone","xcrown (ft)","ycrown (ft)","xbottom (ft)","ybottom (ft)","ysoil (ft)","db,dry,crown (ft)","db,sat,crown (ft)","db,crown (ft)","db,crown,bed (ft)","db,crown,bank (ft)","db,dry,bottom (ft)","db,sat,bottom (ft)","db,bottom (ft)","LT,em (ft)","Vbed,dry (ft3)","Vbed,sat (ft3)","Vbank,dry (ft3)","Vbank,sat (ft3)","hb,TS (ft)","ATSp,em (ft2)","dTSp,dry,em (ft)","ATSp,dry,em (ft2)","LT,ex (ft)","cD (ft)","hT↑bed,ex,wet (ft)","CL (ft)","cL (ft)","zT,CL↓WSE","CW","LTf,tot (ft)","LTf,bed (ft)","LTf,banks (ft)","cF (ft)","csoil (ft)"]
[null,null,null,null,null,null,null,null,null,null,null,null,null,null,null,null,null,null,null,null,null,"Log Crown and Soil Intercept",null,"Dist to Intercept","Intercept in Zone?","LW Buried?","Exposed Segment",null,null,"Large Wood Centerline",null,null,null,null,0,{"$f":"($AI45/$AI$245)*$AJ$245","v":0},{"$f":"IF(OR($C$19=\"\",$F$25=\"\",$G$25=\"\"),\"None\",IF(AL45<$B$14,\"Left Floodplain\",IF(AL45<$B$15,\"Left Bank\",IF(AL45<$B$16,\"Left Stream Bed\",IF(AL45<$B$17,\"Right Stream Bed\",IF(AL45<$B$18,\"Right Bank\",\"Right Floodplain\"))))))","v":"Left Bank"},{"$f":"MIN($U$38:$U$39)","v":43.842700346423584},{"$f":"IF($U$38<=$U$39,$X$38,$X$39)","v":96.752993375581198},{"$f":"MIN($U$40:$U$41)","v":43.834776817999781},{"$f":"IF($U$40<=$U$41,$X$40,$X$41)","v":94.753069529452858},{"$f":"IF($AL45<$B$14,(($AL45-$B$13)*$AB$31)+$C$13,IF($AL45<$B$15,(($AL45-$B$14)*$AB$32)+$C$14,IF($AL45<$B$16,(($AL45-$B$15)*$AB$33)+$C$15,IF($AL45<$B$17,(($AL45-$B$16)*$AB$34)+$C$16,IF($AL45<$B$18,(($AL45-$B$17)*$AB$35)+$C$17,IF($AL45<$B$19,(($AL45-$B$18)*$AB$36)+$C$18))))))","v":97.06169557021839},{"$f":"IF(OR($AP45<$AE$12,$AP45<=$AM45),0,IF(OR($AP45>=$AE$12,$AM45>=$AE$12),$AP45-$AM45-$AR45,$AP45-$AE$12))","v":0},{"$f":"IF($AP45<=$AM45,0,IF($AM45>=$AE$12,0,IF($AP45<=$AE$12,$AP45-$AM45,$AE$12-$AM45)))","v":0.30870219463719195},{"$f":"IF(AP45<=AM45,0,AP45-AM45)","v":0.30870219463719195},{"$f":"IF(OR($AS45=\"\",$AS45=0),\"\",IF(OR($AK45=\"Left Stream Bed\",$AK45=\"Right Stream Bed\"),$AS45,\"\"))","v":""},{"$f":"IF(OR($AS45=\"\",$AS45=0),\"\",IF(OR($AK45=\"Left Floodplain\",$AK45=\"Left Bank\",$AK45=\"Right Bank\",$AK45=\"Right Floodplain\"),$AS45,\"\"))","v":0.30870219463719195},{"$f":"IF(OR($AP45<$AE$12,$AP45<=$AO45),0,IF($AO45>=$AE$12,$AP45-$AO45,$AP45-$AE$12))","v":0},{"$f":"IF($AP45<=$AO45,0,IF($AO45>=$AE$12,0,IF($AP45<=$AE$12,$AP45-$AO45,$AE$12-$AO45)))","v":2.3086260407655317},{"$f":"IF(AP45<=AO45,0,AP45-AO45)","v":2.3086260407655317},{"$f":"IF($AS45=0,0,IF(OR($AJ45=0,$AJ45=$E$22),$AJ$46/2,$AJ$46))","v":0.08},{"$f":"IF(OR($AK45=\"Left Stream Bed\",$AK45=\"Right Stream Bed\"),$F$22*$AQ45*$AY45,0)","v":0},{"$f":"IF(OR($AK45=\"Left Stream Bed\",$AK45=\"Right Stream Bed\"),$F$22*$AR45*$AY45,0)","v":0},{"$f":"IF(OR($AK45=\"Left Floodplain\",$AK45=\"Left Bank\",$AK45=\"Right Bank\",$AK45=\"Right Floodplain\"),$F$22*$AQ45*$AY45,0)","v":0},{"$f":"IF(OR($AK45=\"Left Floodplain\",$AK45=\"Left Bank\",$AK45=\"Right Bank\",$AK45=\"Right Floodplain\"),$F$22*$AR45*$AY45,0)","v":4.9392351141950716E-2},{"$f":"AX45-AS45","v":1.9999238461283397},{"$f":"$BD45*$AJ$46*ABS($M$17)","v":0.14527142821517461},{"$f":"AV45-AQ45","v":0},{"$f":"IF(OR($AJ45=0,$AJ45=$E$22),($BF45*$AJ$46/2)*ABS($M$17),$BF45*$AJ$46*ABS($M$17))","v":0},{"$f":"IF(OR($AM45<$AP45,$AO45>$AE$8),\"\",IF(OR($AJ45=0,$AJ45=$E$22),$AJ$46/2,$AJ$46))","v":""},{"$f":"IF($BH45=\"\",\"\",IF($BH45>0,$AJ45,\"\"))","v":""},{"$f":"IF($BH45=\"\",\"\",IF(OR(($AO45-$AP45)<0,$AO$45>=$AE$8),0,($AO45-$AP45)))","v":""},{"$f":"IF($BJ45=\"\",\"\",IF(OR($BJ45>($F$22/2),$BJ45=0),0,0.45-($BJ45*0.45/($F$22/2))))","v":""},{"$f":"IF($BK45=\"\",\"\",IF($BK45>0,$AJ45,\"\"))","v":""},{"$f":"IF($BH45=\"\",\"\",IF(OR(($AM45-$AP45)<0,$AM45>=$AE$8),\"\",($AE$8-($AM45-(($F$22/2)/$M$19)))))","v":""},{"$f":"IF($BM45=\"\",\"\",(((PI()^2)/32)*($B$66^-6)*EXP(-($BM45/$F$22)/(2*($B$66^2)))))","v":""},{"$f":"IF($AO45=0,0,IF($AO45>$AP45,0,IF(OR($AJ45=0,$AJ45=$E$22),$AJ$46/2,$AJ$46)))","v":0.08},{"$f":"IF(AND($BO45>0,OR($AK45=\"Left Stream Bed\",$AK45=\"Right Stream Bed\")),$BO45,0)","v":0},{"$f":"IF(AND($BO45>0,OR($AK45=\"Left Floodplain\",$AK45=\"Left Bank\",$AK45=\"Right Bank\",$AK45=\"Right Floodplain\")),$BO45,0)","v":0.08},{"$f":"IF($BO45>0,$AJ45,\"\")","v":0},{"$f":"IF($AY45>0,$AJ45,\"\")","v":0}]
[null,null,null,null,null,null,null,null,null,null,null,null,null,null,null,null,null,null,null,"Zone L (ft)","Log L (ft)","xcrown (ft)","ycrown (ft)",null,null,null,null,"Lem,crown (ft)",null,null,"x (ft)","y (ft)",null,null,1,{"$f":"($AI46/$AI$245)*$AJ$245","v":0.16},"Left Bank",{"$f":"$AL$45+ABS(AJ46*$M$19*$M$17)","v":43.915336060531175},{"$f":"AM45+((AL46-AL45)*$AA$40)","v":96.751597129901455},{"$f":"$AN$45+ABS(AJ46*$M$19*$M$17)","v":43.907412532107372},{"$f":"AO45+((AN46-AN45)*$AA$40)","v":94.751673283773115},{"$f":"IF($AL46<$B$14,(($AL46-$B$13)*$AB$31)+$C$13,IF($AL46<$B$15,(($AL46-$B$14)*$AB$32)+$C$14,IF($AL46<$B$16,(($AL46-$B$15)*$AB$33)+$C$15,IF($AL46<$B$17,(($AL46-$B$16)*$AB$34)+$C$16,IF($AL46<$B$18,(($AL46-$B$17)*$AB$35)+$C$17,IF($AL46<$B$19,(($AL46-$B$18)*$AB$36)+$C$18))))))","v":97.051457393372743},0,0.29986026347128814,{"$f":"IF(AP46<=AM46,0,AP46-AM46)","v":0.29986026347128814},{"$f":"IF(OR($AS46=\"\",$AS46=0),\"\",IF(OR($AK46=\"Left Stream Bed\",$AK46=\"Right Stream Bed\"),$AS46,\"\"))","v":""},{"$f":"IF(OR($AS46=\"\",$AS46=0),\"\",IF(OR($AK46=\"Left Floodplain\",$AK46=\"Left Bank\",$AK46=\"Right Bank\",$AK46=\"Right Floodplain\"),$AS46,\"\"))","v":0.29986026347128814},{"$f":"IF(OR($AP46<$AE$12,$AP46<=$AO46),0,IF($AO46>=$AE$12,$AP46-$AO46,$AP46-$AE$12))","v":0},2.2997841095996279,2.2997841095996279,0.16,0,0,0,9.5955284310812211E-2,1.9999238461283397,{"$f":"$BD46*$AJ$46*ABS($M$17)","v":0.14527142821517461},{"$f":"AV46-AQ46","v":0},0,"",{"$f":"IF($BH46=\"\",\"\",IF($BH46>0,$AJ46,\"\"))","v":""},{"$f":"IF($BH46=\"\",\"\",IF(OR(($AO46-$AP46)<0,$AO$45>=$AE$8),0,($AO46-$AP46)))","v":""},"","",{"$f":"IF($BH46=\"\",\"\",IF(OR(($AM46-$AP46)<0,$AM46>=$AE$8),\"\",($AE$8-($AM46-(($F$22/2)/$M$19)))))","v":""},{"$f":"IF($BM46=\"\",\"\",(((PI()^2)/32)*($B$66^-6)*EXP(-($BM46/$F$22)/(2*($B$66^2)))))","v":""},0.16,0,0.16,0.16,{"$f":"IF($AY46>0,$AJ46,\"\")","v":0.16}]
[null,null,null,null,null,null,null,null,null,null,null,null,null,null,null,null,null,null,"LB Floodplain",{"$f":"($B$14-$B$13)/ABS($M$17)/ABS($M$19)","v":72.69151360141251},{"$f":"IF(MAX($U$38:$U$39)<=$B$14,$E$22,IF($T$32=\"No\",0,$E$22-$W$32))","v":0},{"$f":"IF($U$47=0,0,IF(OR($B$25=0,$B$25=180,$B$25=360),$U$38,$U$32+(($X$32-$C$14)/($AB$31-$AA$40))))","v":0},{"$f":"IF($U$47=0,0,IF(OR($B$25=0,$B$25=180,$B$25=360),(($U$38-$B$13)*$AB$31)+$C$13,$X$32+(($V$47-$U$32)*$AA$40)))","v":0},{"$f":"IF($U$47=0,0,IF(OR($B$25=0,$B$25=180,$B$25=360),$E$22-ABS(($X$39-$W$47)/$M$20),IF(AND($U$38<=$U$39,$X$38>=$Y$38),ABS(($X$38-$W$47)/($AA$40*$M$17*$M$19)),IF(AND($U$38<=$U$39,$X$38<$Y$38),ABS($E$22-(ABS(($X$38-$W$47)/($AA$40*$M$17*$M$19)))),IF(AND($U$38>$U$39,$X$39>=$Y$39),ABS(($X$39-$W$47)/($AA$40*$M$17*$M$19)),IF(AND($U$38>=$U$39,$X$39<$Y$39),ABS($E$22-(ABS(($X$38-$W$47)/($AA$40*$M$17*$M$19))))))))))","v":0},{"$f":"IF(AND($U$47=0,$W$47=0),\"No\",IF(AND($V$47<=$B$14,$V$47>=$B$13,$V$47>=MIN($U$38:$U$39),$V$47<=MAX($U$38:$U$39),$W$47<$C$13,$X$47<=$E$22),\"Yes\",\"No\"))","v":"No"},{"$f":"IF($U$47=0,\"No\",IF($Y$47=\"Yes\",\"Partial\",IF(AND($U$47<$E$22,$X$39<$Y$39,$Y$47=\"No\",$Y$48=\"No\",$Y$49=\"No\",$Y$50=\"No\",$Y$51=\"No\",$Y$52=\"No\"),\"Yes\",IF(AND($Y$47=\"No\",$X$32>$Y$32),\"No\",\"Yes\"))))","v":"No"},{"$f":"IF($Z$47=\"Yes\",\"None\",IF(AND($Z$47=\"No\",$U$47=0),\"None\",IF($Z$47=\"No\",\"All\",IF(AND($X$39>=$Y$39,$U$39<=$U$38),\"Left\",\"Right\"))))","v":"None"},{"$f":"IF($U$47=0,0,IF($Z$47=\"No\",0,IF($Z$47=\"Yes\",$U$47,IF(OR($AA$47=\"Left\",$U$47=$E$22),$U$47-(ABS(($U$39-$V$47)/($M$17*$M$19))),$U$47-(ABS(($V$47-$B$14)/($M$17*$M$19)))))))","v":0},null,"Rootwad",{"$f":"AVERAGE(T10,T15)","v":58.365881403729162},{"$f":"AVERAGE(U10,U15)","v":95.473782316569057},null,null,2,0.32,"Left Bank",{"$f":"$AL$45+ABS(AJ47*$M$19*$M$17)","v":43.987971774638758},{"$f":"AM46+((AL47-AL46)*$AA$40)","v":96.750200884221712},43.980048246214956,{"$f":"AO46+((AN47-AN46)*$AA$40)","v":94.750277038093373},{"$f":"IF($AL47<$B$14,(($AL47-$B$13)*$AB$31)+$C$13,IF($AL47<$B$15,(($AL47-$B$14)*$AB$32)+$C$14,IF($AL47<$B$16,(($AL47-$B$15)*$AB$33)+$C$15,IF($AL47<$B$17,(($AL47-$B$16)*$AB$34)+$C$16,IF($AL47<$B$18,(($AL47-$B$17)*$AB$35)+$C$17,IF($AL47<$B$19,(($AL47-$B$18)*$AB$36)+$C$18))))))","v":97.041219216527111},0,0.29101833230539853,0.29101833230539853,"",0.29101833230539853,0,2.2909421784337383,2.2909421784337383,0.16,0,0,0,9.3125866337727528E-2,1.9999238461283397,0.14527142821517461,0,0,"","","","","","",{"$f":"IF($BM47=\"\",\"\",(((PI()^2)/32)*($B$66^-6)*EXP(-($BM47/$F$22)/(2*($B$66^2)))))","v":""},0.16,0,0.16,0.32,0.32]
[{"$f":"IF($A$6=\"\",\"\",$A$6)","v":"Sample1"},{"$f":"IF($A$6=\"\",\"\",$B$6)","v":"Flow Deflection"},null,{"$f":"IF(OR($B$9=\"N/A\",$B$9=\"\"),\"\",$B$9)","v":"Stacked"},{"$f":"IF($D$48=\"\",\"\",\"Log ID\")","v":"Log ID"},{"$f":"IF($D$48=\"\",\"\",$C$9)","v":"Top#2"},null,null,null,"Page 2",null,null,null,null,null,null,null,null,"Left Bank",{"$f":"($B$15-$B$14)/ABS($M$17)/ABS($M$19)","v":46.258235928171601},{"$f":"IF(AND(MIN($U$38:$U$39)>=$B$14,MAX($U$38:$U$39)<=$B$15),$E$22,IF(AND($T$33=\"No\",$T$32=\"No\"),0,$E$22-$W$33-$U$47))","v":22.374226846108257},{"$f":"IF($U$48=0,0,IF(OR($B$25=0,$B$25=180,$B$25=360),$U$38,$U$33+(($C$15-$X$33)/($AA$40-$AB$32))))","v":46.378662675617598},{"$f":"IF($U$48=0,0,IF(OR($B$25=0,$B$25=180,$B$25=360),(($U$38-$B$14)*$AB$32)+$C$14,$X$33+(($V$48-$U$33)*$AA$40)))","v":96.704245641912948},{"$f":"IF($U$48=0,0,IF(OR($B$25=0,$B$25=180,$B$25=360),$E$22-ABS(($X$39-$W$48)/$M$20),IF(AND($U$38<=$U$39,$X$38>=$Y$38),ABS(($X$38-$W$48)/($AA$40*$M$17*$M$19)),IF(AND($U$38<=$U$39,$X$38<$Y$38),ABS($E$22-(ABS(($X$38-$W$48)/($AA$40*$M$17*$M$19)))),IF(AND($U$38>$U$39,$X$39>=$Y$39),ABS(($X$39-$W$48)/($AA$40*$M$17*$M$19)),IF(AND($U$38>=$U$39,$X$39<$Y$39),ABS($E$22-(ABS(($X$38-$W$48)/($AA$40*$M$17*$M$19))))))))))","v":5.5861497013718164},{"$f":"IF(AND($U$48=0,$W$48=0),\"No\",IF(AND($V$48<=$B$15,$V$48>=$B$14,$V$48>=MIN($U$38:$U$39),$V$48<=MAX($U$38:$U$39),$W$48<$C$14,$X$48<=$E$22),\"Yes\",\"No\"))","v":"Yes"},{"$f":"IF($U$48=0,\"No\",IF($Y$48=\"Yes\",\"Partial\",IF(AND($U$48<$E$22,$X$39<$Y$39,$Y$47=\"No\",$Y$48=\"No\",$Y$49=\"No\",$Y$50=\"No\",$Y$51=\"No\",$Y$52=\"No\"),\"Yes\",IF(AND($Y$48=\"No\",$X$33>$Y$33),\"No\",\"Yes\"))))","v":"Partial"},{"$f":"IF($Z$48=\"Yes\",\"None\",IF(AND($Z$48=\"No\",$U$48=0),\"None\",IF($Z$48=\"No\",\"All\",IF(AND($X$39>=$Y$39,$U$39<=$U$38,$AA$47<>\"Left\"),\"Left\",\"Right\"))))","v":"Right"},{"$f":"IF($U$48=0,0,IF($Z$48=\"No\",0,IF($Z$48=\"Yes\",$U$48,IF(OR($U$48=$E$22,AND($AA$48=\"Left\",MIN($U$38:$U$39)>=$B$14,MAX($U$38:$U$39)>=$B$15)),$U$48-(ABS(($U$39-$V$48)/($M$17*$M$19))),IF($AA$48=\"Left\",$U$48-(ABS(($B$14-$V$48)/($M$17*$M$19))),IF(MAX($U$38:$U$39)>=$B$15,$U$48-(ABS(($V$48-$B$15)/($M$17*$M$19))),ABS(($V$48-$B$14)/($M$17*$M$19))))))))","v":5.5861497013720083},null,"Root collar",{"$f":"AVERAGE(T11,T14)","v":57.003961764211901},{"$f":"AVERAGE(U11,U14)","v":95.499961923064177},null,null,3,0.48,"Left Bank",{"$f":"$AL$45+ABS(AJ48*$M$19*$M$17)","v":44.060607488746349},96.748804638541969,44.052683960322547,94.74888079241363,97.030981039681464,0,0.28217640113949471,0.28217640113949471,"",0.28217640113949471,0,2.2821002472678344,2.2821002472678344,0.16,0,0,0,9.0296448364638307E-2,1.9999238461283397,0.14527142821517461,0,0,"","","","","","","",0.16,0,0.16,0.48,0.48]
["Vertical Force Analysis",null,null,null,null,null,null,null,null,null,null,null,null,null,null,null,null,null,"Left Stream Bed",{"$f":"($B$16-$B$15)/ABS($M$17)/ABS($M$19)","v":55.069328485918568},{"$f":"IF(AND(MIN($U$38:$U$39)>=$B$15,MAX($U$38:$U$39)<=$B$16),$E$22,IF(AND($T$34=\"No\",$T$33=\"No\"),0,IF(AND($T$33=\"Yes\",$T$34=\"No\"),$E$22-$U$48-$U$47,IF(AND($T$33=\"Yes\",$T$34=\"Yes\",$T$36=\"No\"),$E$22-$U$50-$U$48-$U$47,IF(AND($T$33=\"Yes\",$T$34=\"Yes\",$T$36=\"Yes\"),$E$22-$U$52-$U$51-$U$50-$U$48-$U$47,$E$22-$U$52-$U$51-$U$50)))))","v":9.6257731538917426},{"$f":"IF($U$49=0,0,IF(OR($B$25=0,$B$25=180,$B$25=360),$U$38,$U$34+(($C$16-$X$34)/($AA$40-$AB$33))))","v":44.12801297398795},{"$f":"IF($U$49=0,0,IF(OR($B$25=0,$B$25=180,$B$25=360),(($U$38-$B$15)*$AB$33)+$C$15,$X$34+(($V$49-$U$34)*$AA$40)))","v":96.747508931344555},{"$f":"IF(OR($U$49=0,AND($C$25=0,$B$25=0),AND($C$25=0,$B$25=360),AND($C$25=0,$B$25=180)),0,IF(OR($B$25=0,$B$25=180,$B$25=360),$E$22-ABS(($X$39-$W$49)/$M$20),IF(AND($U$38<=$U$39,$X$38>=$Y$38),ABS(($X$38-$W$49)/($AA$40*$M$17*$M$19)),IF(AND($U$38<=$U$39,$X$38<$Y$38),ABS($E$22-(ABS(($X$38-$W$49)/($AA$40*$M$17*$M$19)))),IF(AND($U$38>$U$39,$X$39>=$Y$39),ABS(($X$39-$W$49)/($AA$40*$M$17*$M$19)),IF(AND($U$38>=$U$39,$X$39<$Y$39),ABS($E$22-(ABS(($X$38-$W$49)/($AA$40*$M$17*$M$19))))))))))","v":0.62847899234087734},{"$f":"IF(AND($U$49=0,$W$49=0),\"No\",IF(AND($V$49<=$B$16,$V$49>=$B$15,$V$49>=MIN($U$38:$U$39),$V$49<=MAX($U$38:$U$39),$W$49<$C$15,$X$49<=$E$22),\"Yes\",\"No\"))","v":"No"},{"$f":"IF($U$49=0,\"No\",IF($Y$49=\"Yes\",\"Partial\",IF(AND($U$49<$E$22,$X$39<$Y$39,$Y$47=\"No\",$Y$48=\"No\",$Y$49=\"No\",$Y$50=\"No\",$Y$51=\"No\",$Y$52=\"No\"),\"Yes\",IF(AND($Y$49=\"No\",$X$34>$Y$34),\"No\",\"Yes\"))))","v":"No"},{"$f":"IF($Z$49=\"Yes\",\"None\",IF(AND($Z$49=\"No\",$U$49=0),\"None\",IF($Z$49=\"No\",\"All\",IF(AND($X$39>=$Y$39,$U$39<=$U$38,$AA$48<>\"Left\"),\"Left\",\"Right\"))))","v":"All"},{"$f":"IF($U$49=0,0,IF($Z$49=\"No\",0,IF($Z$49=\"Yes\",$U$49,IF(OR($U$49=$E$22,AND($AA$49=\"Left\",MIN($U$38:$U$39)>=$B$15,MAX($U$38:$U$39)>=$B$16)),$U$49-(ABS(($U$39-$V$49)/($M$17*$M$19))),IF($AA$49=\"Left\",$U$49-(ABS(($B$15-$V$49)/($M$17*$M$19))),IF(MAX($U$38:$U$39)>=$B$16,$U$49-(ABS(($V$49-$B$16)/($M$17*$M$19))),ABS(($V$49-$B$15)/($M$17*$M$19))))))))","v":0},null,"Stem tip",{"$f":"AVERAGE(T12,T13)","v":43.838738582211683},{"$f":"AVERAGE(U12,U13)","v":95.753031452517035},null,null,4,0.64,"Left Bank",44.133243202853933,96.747408392862226,44.125319674430131,94.747484546733887,97.020742862835831,0,0.27333446997360511,0.27333446997360511,"",0.27333446997360511,0,2.2732583161019448,2.2732583161019448,0.16,0,0,0,8.7467030391553638E-2,1.9999238461283397,0.14527142821517461,0,0,"","","","","","","",0.16,0,0.16,0.64,0.64]
["Net Buoyancy Force",null,null,null,null,null,null,"Lift Force",null,null,null,null,null,null,null,null,null,null,"Right Stream Bed",{"$f":"($B$17-$B$16)/ABS($M$17)/ABS($M$19)","v":63.880421043665535},{"$f":"IF(AND(MIN($U$38:$U$39)>=$B$16,MAX($U$38:$U$39)<=$B$17),$E$22,IF(AND($T$35=\"No\",$T$36=\"No\"),0,IF(AND($T$36=\"Yes\",$T$35=\"No\"),$E$22-$U$51-$U$52,IF(AND($T$36=\"Yes\",$T$35=\"Yes\"),$E$22-$W$35-$U$51-$U$52,$E$22-$W$35))))","v":0},{"$f":"IF($U$50=0,0,IF(OR($B$25=0,$B$25=180,$B$25=360),$U$38,$U$35+(($X$35-$C$16)/($AB$34-$AA$40))))","v":0},{"$f":"IF($U$50=0,0,IF(OR($B$25=0,$B$25=180,$B$25=360),(($U$38-$B$16)*$AB$34)+$C$16,$X$35+(($V$50-$U$35)*$AA$40)))","v":0},{"$f":"IF(OR($U$50=0,AND($C$25=0,$B$25=0),AND($C$25=0,$B$25=360),AND($C$25=0,$B$25=180)),0,IF(OR($B$25=0,$B$25=180,$B$25=360),$E$22-ABS(($X$39-$W$50)/$M$20),IF(AND($U$38<=$U$39,$X$38>=$Y$38),ABS(($X$38-$W$50)/($AA$40*$M$17*$M$19)),IF(AND($U$38<=$U$39,$X$38<$Y$38),ABS($E$22-(ABS(($X$38-$W$50)/($AA$40*$M$17*$M$19)))),IF(AND($U$38>$U$39,$X$39>=$Y$39),ABS(($X$39-$W$50)/($AA$40*$M$17*$M$19)),IF(AND($U$38>=$U$39,$X$39<$Y$39),ABS($E$22-(ABS(($X$38-$W$50)/($AA$40*$M$17*$M$19))))))))))","v":0},{"$f":"IF(AND($U$50=0,$W$50=0),\"No\",IF(AND($V$50<=$B$17,$V$50>=$B$16,$V$50>=MIN($U$38:$U$39),$V$50<=MAX($U$38:$U$39),$W$50<$C$17,$X$50<=$E$22),\"Yes\",\"No\"))","v":"No"},{"$f":"IF($U$50=0,\"No\",IF($Y$50=\"Yes\",\"Partial\",IF(AND($U$50<$E$22,$X$39<$Y$39,$Y$47=\"No\",$Y$48=\"No\",$Y$49=\"No\",$Y$50=\"No\",$Y$51=\"No\",$Y$52=\"No\"),\"Yes\",IF(AND($Y$50=\"No\",$X$35>$Y$35),\"No\",\"Yes\"))))","v":"No"},{"$f":"IF($Z$50=\"Yes\",\"None\",IF(AND($Z$50=\"No\",$U$50=0),\"None\",IF($Z$50=\"No\",\"All\",IF(AND($X$39>=$Y$39,$U$39>=$U$38,$AA$51<>\"Right\"),\"Right\",\"Left\"))))","v":"None"},{"$f":"IF($U$50=0,0,IF($Z$50=\"No\",0,IF($Z$50=\"Yes\",$U$50,IF(OR($U$50=$E$22,AND($AA$50=\"Right\",MIN($U$38:$U$39)<=$B$16,MAX($U$38:$U$39)<=$B$17)),$U$50-(ABS(($U$39-$V$50)/($M$17*$M$19))),IF($AA$50=\"Right\",$U$50-(ABS(($B$17-$V$50)/($M$17*$M$19))),IF(MIN($U$38:$U$39)<=$B$16,$U$50-(ABS(($V$50-$B$16)/($M$17*$M$19))),ABS(($V$50-$B$17)/($M$17*$M$19))))))))","v":0},null,null,null,null,null,null,5,0.8,"Left Bank",44.205878916961524,96.746012147182483,44.197955388537721,94.746088301054144,97.010504685990185,0,0.26449253880770129,0.26449253880770129,"",0.26449253880770129,0,2.264416384936041,2.264416384936041,0.16,0,0,0,8.4637612418464417E-2,1.9999238461283397,0.14527142821517461,0,0,"","","","","","","",0.16,0,0.16,0.8,0.8]
["Wood","VTS (ft3)","VRW (ft3)","VT (ft3)","WT (lbf)","FB (lbf)",null,"CLT",{"$f":"$BK$43","v":0},null,null,null,null,{"$f":"IF(OR($D$22=\"\",$D$22=\"No\"),\"\",\"Rootwad Position\")","v":"Rootwad Position"},null,null,null,null,"Right Bank",{"$f":"($B$18-$B$17)/ABS($M$17)/ABS($M$19)","v":41.852689649298107},{"$f":"IF(AND(MIN($U$38:$U$39)>=$B$17,MAX($U$38:$U$39)<=$B$18),$E$22,IF(AND($T$36=\"No\",$T$37=\"No\"),0,$E$22-$W$36-$U$52))","v":0},{"$f":"IF($U$51=0,0,IF(OR($B$25=0,$B$25=180,$B$25=360),$U$38,$U$36+(($X$36-$C$17)/($AB$35-$AA$40))))","v":0},{"$f":"IF($U$51=0,0,IF(OR($B$25=0,$B$25=180,$B$25=360),(($U$38-$B$17)*$AB$35)+$C$17,$X$36+(($V$51-$U$36)*$AA$40)))","v":0},{"$f":"IF($U$51=0,0,IF(OR($B$25=0,$B$25=180,$B$25=360),$E$22-ABS(($X$39-$W$51)/$M$20),IF(AND($U$38<=$U$39,$X$38>=$Y$38),ABS(($X$38-$W$51)/($AA$40*$M$17*$M$19)),IF(AND($U$38<=$U$39,$X$38<$Y$38),ABS($E$22-(ABS(($X$38-$W$51)/($AA$40*$M$17*$M$19)))),IF(AND($U$38>$U$39,$X$39>=$Y$39),ABS(($X$39-$W$51)/($AA$40*$M$17*$M$19)),IF(AND($U$38>=$U$39,$X$39<$Y$39),ABS($E$22-(ABS(($X$38-$W$51)/($AA$40*$M$17*$M$19))))))))))","v":0},{"$f":"IF(AND($U$51=0,$W$51=0),\"No\",IF(AND($V$51<=$B$18,$V$51>=$B$17,$V$51>=MIN($U$38:$U$39),$V$51<=MAX($U$38:$U$39),$W$51<$C$18,$X$51<=$E$22),\"Yes\",\"No\"))","v":"No"},{"$f":"IF($U$51=0,\"No\",IF($Y$51=\"Yes\",\"Partial\",IF(AND($U$51<$E$22,$X$39<$Y$39,$Y$47=\"No\",$Y$48=\"No\",$Y$49=\"No\",$Y$50=\"No\",$Y$51=\"No\",$Y$52=\"No\"),\"Yes\",IF(AND($Y$51=\"No\",$X$36>$Y$36),\"No\",\"Yes\"))))","v":"No"},{"$f":"IF($Z$51=\"Yes\",\"None\",IF(AND($Z$51=\"No\",$U$51=0),\"None\",IF($Z$51=\"No\",\"All\",IF(AND($X$39>=$Y$39,$U$39>=$U$38,$AA$52<>\"Right\"),\"Right\",\"Left\"))))","v":"None"},{"$f":"IF($U$51=0,0,IF($Z$51=\"No\",0,IF($Z$51=\"Yes\",$U$51,IF(OR($U$51=$E$22,AND($AA$51=\"Right\",MIN($U$38:$U$39)<=$B$17,MAX($U$38:$U$39)<=$B$18)),$U$51-(ABS(($U$39-$V$51)/($M$17*$M$19))),IF($AA$51=\"Right\",$U$51-(ABS(($B$18-$V$51)/($M$17*$M$19))),IF(MIN($U$38:$U$39)<=$B$17,$U$51-(ABS(($V$51-$B$17)/($M$17*$M$19))),ABS(($V$51-$B$18)/($M$17*$M$19))))))))","v":0},null,null,null,null,null,null,6,0.96,"Left Bank",44.278514631069108,96.74461590150274,44.270591102645305,94.744692055374401,97.000266509144538,0,0.25565060764179748,0.25565060764179748,"",0.25565060764179748,0,2.2555744537701372,2.2555744537701372,0.16,0,0,0,8.1808194445375196E-2,1.9999238461283397,0.14527142821517461,0,0,"","","","","","","",0.16,0,0.16,0.96,0.96]
["↑WSE",{"$f":"IF(OR($E$22=\"\",$F$22=\"\"),0,IF($AH$17=\"Case 1\",$AL$17-$AJ$21,IF($AH$17=\"Case 2\",$AL$17-$AJ$26,IF($AH$17=\"Case 3\",$AL$17-$AJ$30,IF($AH$17=\"Case 4\",$AL$17-$AJ$37,IF($AH$17=\"Log is completely submerged\",0,IF($AH$17=\"Stem is dry\",PI()*(($F$22/2)^2)*($E$22-$G$22),\"\")))))))","v":0},{"$f":"IF(OR($E$22=\"\",$F$22=\"\",$D$22=\"No\",$D$22=\"\"),0,$BL$40*(1-RWporosity))","v":0},{"$f":"B52+C52","v":0},{"$f":"IF($I$22=\"\",0,($B$52*$I$22)+($C$52*$I$22))","v":0},0,null,"FL (lbf)",{"$f":"IF($J$6=\"\",0,$I$51*$J$25*SWWater*(($J$6^2)/(2*g)))","v":0},null,null,null,null,{"$f":"IF($D$22=\"\",\"\",IF($D$22=\"No\",\"No Rootwad\",IF($U$15>=$AE$8,\"Above high water\",IF($U$10<=$C$16,\"Buried in bed\",IF(OR($AE$48<=$B$14,$AE$48>=$B$18),\"On bank/buried in bank\",\"Exposed in stream\")))))","v":"Exposed in stream"},null,null,null,null,"RB Floodplain",{"$f":"($B$19-$B$18)/ABS($M$17)/ABS($M$19)","v":50.663782207045081},{"$f":"IF(MIN($U$38:$U$39)>=$B$18,$E$22,IF($T$37=\"No\",0,$E$22-$W$37))","v":0},{"$f":"IF($U$52=0,0,IF(OR($B$25=0,$B$25=180,$B$25=360),$U$38,$U$37+(($X$37-$C$18)/($AB$36-$AA$40))))","v":0},{"$f":"IF($U$52=0,0,IF(OR($B$25=0,$B$25=180,$B$25=360),(($U$38-$B$18)*$AB$36)+$C$18,$X$37+(($V$52-$U$37)*$AA$40)))","v":0},{"$f":"IF($U$52=0,0,IF(OR($B$25=0,$B$25=180,$B$25=360),$E$22-ABS(($X$39-$W$52)/$M$20),IF(AND($U$38<=$U$39,$X$38>=$Y$38),ABS(($X$38-$W$52)/($AA$40*$M$17*$M$19)),IF(AND($U$38<=$U$39,$X$38<$Y$38),ABS($E$22-(ABS(($X$38-$W$52)/($AA$40*$M$17*$M$19)))),IF(AND($U$38>$U$39,$X$39>=$Y$39),ABS(($X$39-$W$52)/($AA$40*$M$17*$M$19)),IF(AND($U$38>=$U$39,$X$39<$Y$39),ABS($E$22-(ABS(($X$38-$W$52)/($AA$40*$M$17*$M$19))))))))))","v":0},{"$f":"IF(AND($U$52=0,$W$52=0),\"No\",IF(AND($V$52<=$B$19,$V$52>=$B$18,$V$52>=MIN($U$38:$U$39),$V$52<=MAX($U$38:$U$39),$W$52<$C$19,$X$52<=$E$22),\"Yes\",\"No\"))","v":"No"},{"$f":"IF($U$52=0,\"No\",IF($Y$52=\"Yes\",\"Partial\",IF(AND($U$52<$E$22,$X$39<$Y$39,$Y$47=\"No\",$Y$48=\"No\",$Y$49=\"No\",$Y$50=\"No\",$Y$51=\"No\",$Y$52=\"No\"),\"Yes\",IF(AND($Y$52=\"No\",$X$37>$Y$37),\"No\",\"Yes\"))))","v":"No"},{"$f":"IF($Z$52=\"Yes\",\"None\",IF(AND($Z$52=\"No\",$U$52=0),\"None\",IF($Z$52=\"No\",\"All\",IF(AND($X$39>=$Y$39,$U$39>=$U$38),\"Right\",\"Left\"))))","v":"None"},{"$f":"IF($U$52=0,0,IF($Z$52=\"No\",0,IF($Z$52=\"Yes\",$U$52,IF(OR($AA$52=\"Right\",$U$52=$E$22),$U$52-(ABS(($U$39-$V$52)/($M$17*$M$19))),$U$52-(ABS(($V$52-$B$18)/($M$17*$M$19)))))))","v":0},null,null,null,null,null,null,7,1.1200000000000001,"Left Bank",44.351150345176698,96.743219655822998,44.343226816752896,94.743295809694658,96.990028332298905,0,0.24680867647590787,0.24680867647590787,"",0.24680867647590787,0,2.2467325226042476,2.2467325226042476,0.16,0,0,0,7.8978776472290527E-2,1.9999238461283397,0.14527142821517461,0,0,"","","","","","","",0.16,0,0.16,1.1200000000000001,1.1200000000000001]
["↓WS↑Thw",{"$f":"IF(OR($E$22=\"\",$F$22=\"\"),0,IF(AND(MIN($U$10:$U$15)>=$C$16,MAX($U$10:$U$15)<=$AE$8),PI()*(($F$22/2)^2)*($E$22-$G$22),(PI()*(($F$22/2)^2)*($E$22-$G$22))-$B$52-$B$54))","v":91.106186954104004},{"$f":"IF(OR($F$22=\"\",$D$22=\"No\"),0,((1/3)*PI()*(($H$22/2)^2+($F$22/2)^2+(($H$22/2)*($F$22/2)))*$G$22*(1-RWporosity))-$C$52-$C$54)","v":32.581822584198051},{"$f":"B53+C53","v":123.68800953830205},{"$f":"IF($I$22=\"\",0,($B$53*$I$22)+($C$53*$I$22))","v":4322.1538053064269},{"$f":"($D$53*SWWater)","v":7718.1317951900483},null,"Vertical Force Balance",null,null,null,"Formatting",null,null,null,null,null,null,null,"L check",{"$f":"SUM(U47:U52)","v":32},{"$f":"IF($U$53=$E$22,\"OK\",\"ERROR\")","v":"OK"},null,null,null,null,"Total",{"$f":"SUM(AB47:AB52)","v":5.5861497013720083},null,null,null,null,null,null,8,1.28,"Left Bank",44.423786059284282,96.741823410143255,44.41586253086048,94.741899564014915,96.979790155453259,0,0.23796674531000406,0.23796674531000406,"",0.23796674531000406,0,2.2378905914383438,2.2378905914383438,0.16,0,0,0,7.6149358499201306E-2,1.9999238461283397,0.14527142821517461,0,0,"","","","","","","",0.16,0,0.16,1.28,1.28]
["↓Thalweg",{"$f":"IF(OR($E$22=\"\",$F$22=\"\"),0,IF($AS$17=\"Case 1\",$AU$21,IF($AS$17=\"Case 2\",$AU$26,IF($AS$17=\"Case 3\",$AU$30,IF($AS$17=\"Case 4\",$AU$37,IF($AS$17=\"Log is completely submerged\",PI()*(($F$22/2)^2)*($E$22-$G$22),IF($AS$17=\"Stem is dry\",0,\"\")))))))","v":0},{"$f":"IF(OR($E$22=\"\",$F$22=\"\",$D$22=\"No\",$D$22=\"\"),0,$BO$40*(1-RWporosity))","v":9.0741013135800963E-2},{"$f":"B54+C54","v":9.0741013135800963E-2},{"$f":"IF($J$22=\"\",0,($B$54*$J$22)+($C$54*$J$22))","v":3.5388995122962377},{"$f":"($D$54*SWWater)","v":5.6622392196739799},null,"FB (lbf)",{"$f":"$F$55","v":7723.7940344097224},{"$f":"IF($L54=0,\"\",IF($L54>0,CHAR(233),CHAR(234)))","v":"é"},null,{"$f":"$F$55","v":7723.7940344097224},null,"check:",{"$f":"IF(OR($D$22=\"\",$B$25=\"\",$N$52=\"\"),\"\",IF($D$22=\"No\",\"use CD stem\",IF(AND($D$22=\"Yes\",$N$52=\"Exposed in stream\"),\"use CD RW\",\"use CD stem\")))","v":"use CD RW"},null,null,null,null,null,null,null,null,null,null,null,null,null,null,null,null,null,null,null,9,1.44,"Left Bank",44.496421773391873,96.740427164463512,44.488498244968071,94.740503318335172,96.969551978607626,0,0.22912481414411445,0.22912481414411445,"",0.22912481414411445,0,2.2290486602724542,2.2290486602724542,0.16,0,0,0,7.3319940526116623E-2,1.9999238461283397,0.14527142821517461,0,0,"","","","","","","",0.16,0,0.16,1.44,1.44]
["Total",{"$f":"$B$52+$B$53+$B$54","v":91.106186954104004},{"$f":"$C$52+$C$53+$C$54","v":32.672563597333848},{"$f":"$D$52+$D$53+$D$54","v":123.77875055143785},{"$f":"$E$52+$E$53+$E$54","v":4325.6927048187235},{"$f":"$F$53+$F$54+$F$52","v":7723.7940344097224},null,"FL (lbf)",{"$f":"$I$52","v":0},"",null,{"$f":"$I$52","v":0},null,"CDi for Stem Only (i.e., RW is not in contact with streamflow)",null,null,null,null,"Coordinates of Large Wood Bottom at Key Points",null,null,null,null,null,null,null,null,null,null,null,null,null,null,null,10,1.6,"Left Bank",44.569057487499457,96.739030918783769,44.561133959075654,94.739107072655429,96.959313801761979,0,0.22028288297821064,0.22028288297821064,"",0.22028288297821064,0,2.2202067291065504,2.2202067291065504,0.16,0,0,0,7.0490522553027402E-2,1.9999238461283397,0.14527142821517461,0,0,"","","","","","","",0.16,0,0.16,1.6,1.6]
[null,null,null,null,null,null,null,"WT (lbf)",{"$f":"$E$55","v":4325.6927048187235},"ê",null,{"$f":"-$E$55","v":-4325.6927048187235},null,"Adjusted q (deg)","CDi Stem only1",null,null,null,null,"Wood Present?","Large Wood Parameters",null,null,null,"Soil",null,null,null,null,null,null,null,null,null,11,1.76,"Left Bank",44.641693201607048,96.737634673104026,44.633769673183245,94.737710826975686,96.949075624916333,0,0.21144095181230682,0.21144095181230682,"",0.21144095181230682,0,2.2113647979406466,2.2113647979406466,0.16,0,0,0,6.7661104579938181E-2,1.9999238461283397,0.14527142821517461,0,0,"","","","","","","",0.16,0,0.16,1.76,1.76]
["Soil Ballast Force",null,null,null,null,null,null,"Fsoil (lbf)",{"$f":"$E$61","v":147.1089499219857},"ê",null,{"$f":"-$E$61","v":-147.1089499219857},null,{"$f":"IF(OR($O$54=\"\",$O$54=\"use CD RW\"),\"\",IF($B$25<-180,\"Error\",IF($B$25<-90,$B$25+180,IF($B$25<0,-$B$25,IF($B$25<=90,$B$25,IF($B$25<=180,180-$B$25,IF($B$25<=270,$B$25-180,IF($B$25<=360,360-$B$25,\"Error\"))))))))","v":""},{"$f":"IF($O$54=\"use CD stem\",(1.1173-((5.28*10^-2)*$N$57)+((1.4385*10^-3)*$N$57^2)-((9.7668*10^-6)*$N$57^3)),\"\")","v":""},null,null,null,null,null,"xTS (ft)","Dist (ft)","Adjusted Dist (ft)","yTS (ft)","ysoil (ft)",null,null,null,null,null,null,null,null,null,12,1.92,"Left Bank",44.714328915714631,96.736238427424283,44.706405387290829,94.736314581295943,96.9388374480707,0,0.20259902064641722,0.20259902064641722,"",0.20259902064641722,0,2.2025228667747569,2.2025228667747569,0.16,0,0,0,6.4831686606853511E-2,1.9999238461283397,0.14527142821517461,0,0,"","","","","","","",0.16,0,0.16,1.92,1.92]
["Soil","Vdry (ft3)","Vsat (ft3)","Vsoil (ft3)","Fsoil (lbf)",null,null,"FW,V (lbf)",{"$f":"ABS($L$99)","v":0},{"$f":"IF($L58=0,\"\",IF($L58>0,CHAR(233),CHAR(234)))","v":""},null,{"$f":"$L$99","v":0},"Flex","1Applies Gippel et al (1996) Formula:",null,null,null,null,"At Left Bank Top",{"$f":"IF(OR($F$25=\"\",$G$25=\"\"),\"No\",IF(MIN($U$40:$U$41)>$B$14,\"No\",IF(MAX($U$40:$U$41)<$B$14,\"No\",\"Yes\")))","v":"No"},{"$f":"$B$14","v":33},{"$f":"IF(OR($B$25=0,$B$25=180,$B$25=360),0,IF($T$14>$T$13,$G$22+((($T$14-$B$14)/ABS($M$17))/$M$19),(($T$13-$B$14)/ABS($M$17))/$M$19))","v":55.866555346481825},{"$f":"IF(V58<0,0,IF(V58>$E$22,$E$22,V58))","v":32},{"$f":"IF($T$14>$T$13,$U$14+(($V$58-$G$22)*$M$20),$U$13-($V$58*$M$20))","v":94.96134187190782},{"$f":"$C$14","v":98.59},null,null,null,null,null,null,null,null,null,13,2.08,"Left Bank",44.786964629822222,96.73484218174454,44.77904110139842,94.7349183356162,96.928599271225053,0,0.1937570894805134,0.1937570894805134,"",0.1937570894805134,0,2.1936809356088531,2.1936809356088531,0.16,0,0,0,6.200226863376429E-2,1.9999238461283397,0.14527142821517461,0,0,"","","","","","","",0.16,0,0.16,2.08,2.08]
["Bed",{"$f":"IF(AND($H$28=\"\",$H$29=\"\"),0,$AZ$43)","v":0},{"$f":"IF(AND($H$28=\"\",$H$29=\"\"),0,$BA$43)","v":0},{"$f":"B59+C59","v":0},{"$f":"IF(OR($D$28=\"\",$E$28=\"\"),0,($B$59*$D$28)+($C$59*$E$28))","v":0},null,null,"FA,V (lbf)",{"$f":"ABS($L$59)+ABS($M$59)","v":0},{"$f":"IF(($L59+M59)=0,\"\",IF(($L59+M59)>0,CHAR(233),CHAR(234)))","v":""},null,{"$f":"$L$86","v":0},{"$f":"$L$92","v":0},"CDi = 1.1173 - (5.2800*10-2) q + (1.4385*10-3) q2 - (9.7668*10-6) q3",null,null,null,null,"At Left Bank Toe",{"$f":"IF(OR($F$25=\"\",$G$25=\"\"),\"No\",IF(MIN($U$40:$U$41)>$B$15,\"No\",IF(MAX($U$40:$U$41)<$B$15,\"No\",\"Yes\")))","v":"Yes"},{"$f":"$B$15","v":54},{"$f":"IF(OR($B$25=0,$B$25=180,$B$25=360),0,IF($T$14>$T$13,$G$22+((($T$14-$B$15)/ABS($M$17))/$M$19),(($T$13-$B$15)/ABS($M$17))/$M$19))","v":9.6083194183102272},9.6083194183102272,{"$f":"IF($T$14>$T$13,$U$14+(($V$59-$G$22)*$M$20),$U$13-($V$59*$M$20))","v":94.557667733988481},{"$f":"$C$15","v":95.63},null,null,null,null,null,null,null,null,null,14,2.2400000000000002,"Left Bank",44.859600343929806,96.733445936064797,44.851676815506003,94.733522089936457,96.918361094379421,0,0.1849151583146238,0.1849151583146238,"",0.1849151583146238,0,2.1848390044429635,2.1848390044429635,0.16,0,0,0,5.9172850660679614E-2,1.9999238461283397,0.14527142821517461,0,0,"","","","","","","",0.16,0,0.16,2.2400000000000002,2.2400000000000002]
["Bank",{"$f":"IF(AND($H$28=\"\",$H$29=\"\"),0,$BB$43)","v":0},{"$f":"IF(AND($H$28=\"\",$H$29=\"\"),0,$BC$43)","v":1.7245685348076183},{"$f":"B60+C60","v":1.7245685348076183},{"$f":"IF(OR($D$29=\"\",$E$29=\"\"),0,($B$60*$D$29)+($C$60*$E$29))","v":147.1089499219857},null,null,"S FV (lbf)",{"$f":"ABS($L$60)","v":3250.9923796690132},"é","Additional resisting force (lbf) needed:",{"$f":"$L$54+$L$55+$L$56+$L$57+$L$58+$L$59+$M$59","v":3250.9923796690132},null,null,null,null,null,null,"At Left Thalweg",{"$f":"IF(OR($F$25=\"\",$G$25=\"\"),\"No\",IF(AND(MAX($U$40:$U$41)>$B$16,MIN($U$40:$U$41)<$B$16),\"Yes\",\"No\"))","v":"No"},{"$f":"$B$16","v":79},{"$f":"IF(OR($B$25=0,$B$25=180,$B$25=360),0,IF($T$14>$T$13,$G$22+((($T$14-$B$16)/ABS($M$17))/$M$19),(($T$13-$B$16)/ABS($M$17))/$M$19))","v":-45.461009067608337},0,{"$f":"IF($T$14>$T$13,$U$14+(($V$60-$G$22)*$M$20),$U$13-($V$60*$M$20))","v":94.077103284084501},{"$f":"$C$16","v":92.8},null,null,null,null,null,null,null,null,null,15,2.4,"Left Bank",44.932236058037397,96.732049690385054,44.924312529613594,94.732125844256714,96.908122917533774,0,0.17607322714871998,0.17607322714871998,"",0.17607322714871998,0,2.1759970732770597,2.1759970732770597,0.16,0,0,0,5.6343432687590393E-2,1.9999238461283397,0.14527142821517461,0,0,"","","","","","","",0.16,0,0.16,2.4,2.4]
["Total",{"$f":"$B$59+$B$60","v":0},{"$f":"$C$59+$C$60","v":1.7245685348076183},{"$f":"$D$59+$D$60","v":1.7245685348076183},{"$f":"$E$59+$E$60","v":147.1089499219857},null,null,"FSV",{"$f":"IF(OR($E$22=\"\",$F$22=\"\",$F$25=\"\",$G$25=\"\"),0,IF($L$58>=0,($I$56+$I$57+$I$59)/($I$54+$I$55+$I$58),($I$56+$I$57+$I$58+$I$59)/($I$54+$I$55)))","v":0.57909385398086111},{"$f":"$I$61-$L$61","v":-0.92090614601913889},{"$f":"IF(AND($F$25=\"\",$G$25=\"\"),\"\",IF($I$61>=$L$61,\"Structure is Vertically Stable\",IF(AND($I$61<$L$61,$L$58>=0),$L$61*($L$54+$L$55+$L$58)-(-$L$56-$L$57-$L$59-$M$59),IF(AND($I$61<$L$61,$L$58<0),$L$61*($L$54+$L$55)-(-$L$56-$L$57-$L$59-$M$59-$L$58),\"\"))))","v":7112.8893968738739},{"$f":"'2-Constants'!$C$5","v":1.5},null,"CD Stem with Exposed RW Lookup Table",null,null,null,null,"At Right Thalweg",{"$f":"IF(OR($F$25=\"\",$G$25=\"\"),\"No\",IF(AND(MAX($U$40:$U$41)>$B$16,MIN($U$40:$U$41)<$B$16),\"Yes\",\"No\"))","v":"No"},{"$f":"$B$16","v":79},{"$f":"IF(OR($B$25=0,$B$25=180,$B$25=360),0,IF($T$14<$T$13,$G$22+((($B$16-$T$14)/ABS($M$17))/$M$19),(($B$16-$T$13)/ABS($M$17))/$M$19))","v":77.461009067608344},32,{"$f":"IF($T$14<$T$13,$U$14+(($V$61-$G$22)*$M$20),$U$13-($V$61*$M$20))","v":94.077103284084515},{"$f":"$C$16","v":92.8},null,null,null,null,null,null,null,null,null,16,2.56,"Left Bank",45.00487177214498,96.730653444705311,44.996948243721178,94.730729598576971,96.897884740688141,0,0.16723129598283037,0.16723129598283037,"",0.16723129598283037,0,2.1671551421111701,2.1671551421111701,0.16,0,0,0,5.3514014714505724E-2,1.9999238461283397,0.14527142821517461,0,0,"","","","","","","",0.16,0,0.16,2.56,2.56]
[null,null,null,null,null,null,null,null,null,null,{"$f":"IF($K$61<>\"Structure is Vertically Stable\",\"\",IF($K$61=\"Structure is Vertically Stable\",IF($L$58>=0,($I$56+$I$57+$I$59)-(($I$58+$I$54+$I$55)*$L$61),($I$56+$I$57+$I$58+$I$59)-(($I$54+$I$55)*$L$61))))","v":""},null,null,"Adjusted q (deg)","CDi Stem + RW",null,null,null,"At Right Bank Toe",{"$f":"IF(OR($F$25=\"\",$G$25=\"\"),\"No\",IF(MAX($U$40:$U$41)<$B$17,\"No\",IF(MIN($U$40:$U$41)>$B$17,\"No\",\"Yes\")))","v":"No"},{"$f":"$B$17","v":108},{"$f":"IF(OR($B$25=0,$B$25=180,$B$25=360),0,IF($T$14<$T$13,$G$22+((($B$17-$T$14)/ABS($M$17))/$M$19),(($B$17-$T$13)/ABS($M$17))/$M$19))","v":141.34143011127387},32,{"$f":"IF($T$14<$T$13,$U$14+(($V$62-$G$22)*$M$20),$U$13-($V$62*$M$20))","v":93.519648522195894},{"$f":"$C$17","v":94.94},null,null,null,null,null,null,null,null,null,17,2.72,"Left Bank",45.077507486252571,96.729257199025568,45.069583957828769,94.729333352897228,96.887646563842495,0,0.15838936481692656,0.15838936481692656,"",0.15838936481692656,0,2.1583132109452663,2.1583132109452663,0.16,0,0,0,5.0684596741416503E-2,1.9999238461283397,0.14527142821517461,0,0,"","","","","","","",0.16,0,0.16,2.72,2.72]
["Horizontal Force Analysis",null,null,null,null,null,null,null,null,null,null,null,null,{"$f":"IF(OR($O$54=\"\",$O$54=\"use CD stem\"),\"\",IF(OR($B$25<-180,$B$25>360),\"Error\",IF($B$25>180,360-$B$25,IF($B$25<0,-$B$25,$B$25))))","v":27},{"$f":"IF(OR($O$54=\"\",$O$54=\"use CD stem\"),\"\",IF($B$25<22.5,(($B$25/22.5)*($O$67-$O$66)+$O$66),IF($B$25<45,((($B$25-$N$67)/22.5)*($O$68-$O$67)+$O$67),IF($B$25<67.5,((($B$25-$N$68)/22.5)*($O$69-$O$68)+$O$68),IF($B$25<90,((($B$25-$N$69)/22.5)*($O$70-$O$69)+$O$69),IF($B$25<112.5,((($B$25-$N$70)/22.5)*($O$71-$O$70)+$O$70),IF($B$25<135,((($B$25-$N$71)/22.5)*($O$72-$O$71)+$O$71),IF($B$25<157.5,((($B$25-$N$72)/22.5)*($O$73-$O$72)+$O$72),IF($B$25<=180,((($B$25-$N$74)/22.5)*($O$74-$O$73)+$O$74),$O$74)))))))))","v":1.224},null,null,null,"At Right Bank Top",{"$f":"IF(OR($F$25=\"\",$G$25=\"\"),\"No\",IF(MAX($U$40:$U$41)<$B$18,\"No\",IF(MIN($U$40:$U$41)>$B$18,\"No\",\"Yes\")))","v":"No"},{"$f":"$B$18","v":127},{"$f":"IF(OR($B$25=0,$B$25=180,$B$25=360),0,IF($T$14<$T$13,$G$22+((($B$18-$T$14)/ABS($M$17))/$M$19),(($B$18-$T$13)/ABS($M$17))/$M$19))","v":183.19411976057197},32,{"$f":"IF($T$14<$T$13,$U$14+(($V$63-$G$22)*$M$20),$U$13-($V$63*$M$20))","v":93.154419540268862},{"$f":"$C$18","v":98.72},null,null,null,null,null,null,null,null,null,18,2.88,"Left Bank",45.150143200360155,96.727860953345825,45.142219671936353,94.727937107217485,96.877408386996848,0,0.14954743365102274,0.14954743365102274,"",0.14954743365102274,0,2.1494712797793625,2.1494712797793625,0.16,0,0,0,4.7855178768327282E-2,1.9999238461283397,0.14527142821517461,0,0,"","","","","","","",0.16,0,0.16,2.88,2.88]
["Drag Force",null,null,null,null,null,null,null,null,null,null,null,null,null,null,null,null,null,null,null,null,null,null,null,null,null,null,null,null,null,null,null,null,null,19,3.04,"Left Bank",45.222778914467746,96.726464707666082,45.214855386043943,94.726540861537742,96.867170210151215,0,0.14070550248513314,0.14070550248513314,"",0.14070550248513314,0,2.1406293486134729,2.1406293486134729,0.16,0,0,0,4.5025760795242606E-2,1.9999238461283397,0.14527142821517461,0,0,"","","","","","","",0.16,0,0.16,3.04,3.04]
["ATp / AW","FrL","CDi","Cw","CD*","FD (lbf)",null,"Horizontal Force Balance",null,null,null,"Formatting",null,"q (deg)","CDi Stem + RW",null,null,null,null,null,null,"Log Bottom and Soil Intercept",null,"Dist to Intercept","Intercept in Zone?","LW Buried?","Exposed Segment",null,null,null,null,null,null,null,20,3.2,"Left Bank",45.29541462857533,96.725068461986339,45.287491100151527,94.725144615857999,96.856932033305569,0,0.13186357131922932,0.13186357131922932,"",0.13186357131922932,0,2.1317874174475691,2.1317874174475691,0.16,0,0,0,4.2196342822153385E-2,1.9999238461283397,0.14527142821517461,0,0,"","","","","","","",0.16,0,0.16,3.2,3.2]
[{"$f":"IF(OR($A$6=\"\",$F$6=\"\"),0,$J$25/(VLOOKUP($A$6,SiteInfo,7,0)))","v":2.0030973257249108E-2},{"$f":"IF($A$6=\"\",0,$J$6/(($F$22*g)^0.5))","v":0.57752087841792843},{"$f":"IF($O$54=\"\",0,IF($O$54=\"use CD stem\",$O$57,$O$63))","v":1.224},{"$f":"IF(OR($BM$43=\"\",$B$25=\"\"),0,IF($BN$43>0.43,0.43,$BN$43))","v":0.11951967531889683},{"$f":"IF(OR($F$22=\"\",$B$25=\"\"),0,0.997*($C$66+$D$66)*((1-$A$66)^-2.06))","v":1.3965026024068663},{"$f":"IF(OR($E$66=\"\",$J$25=\"\"),0,$E$66*$J$25*SWWater*($J$6^2)/(2*g))","v":960.61134877218842},null,"FD (lbf)",{"$f":"IF(AND($F$66=0,$I$71>0),0.4999,$F$66)","v":960.61134877218842},{"$f":"IF($L$66=0,\"\",IF($L66>0,CHAR(232),CHAR(231)))","v":"è"},{"$f":"IF(AND($F$66=0,$I$71>0),\"NOTE - Tool has assumed the drag force = 0.49 lbf for FS calcs\",\"\")","v":""},{"$f":"$F$66","v":960.61134877218842},null,0,1.2,null,null,null,null,"Zone L (ft)","Log L (ft)","xbottom (ft)","ybottom (ft)",null,null,null,null,"Lem,bot (ft)",null,null,null,null,null,null,21,3.36,"Left Bank",45.36805034268292,96.723672216306596,45.360126814259118,94.723748370178257,96.846693856459936,0,0.12302164015333972,0.12302164015333972,"",0.12302164015333972,0,2.1229454862816795,2.1229454862816795,0.16,0,0,0,3.9366924849068709E-2,1.9999238461283397,0.14527142821517461,0,0,"","","","","","","",0.16,0,0.16,3.36,3.36]
[null,null,null,null,null,null,null,"FP (lbf)",{"$f":"$C$72","v":354.16121558384077},{"$f":"IF($L$67=0,\"\",IF($L67>=0,CHAR(232),CHAR(231)))","v":"ç"},{"$f":"IF(OR($M$59=0,$M$70=0),\"\",\"NOTE -- Mechanical soil anchors and deadman boulders provide equal resistance to vertical and horizontal forces.  The model first applies these anchor forces to resist the vertical forces, and then applies the balance to resist the horizontal forces.\")","v":""},{"$f":"-$C$72","v":-354.16121558384077},null,22.5,1.25,null,null,null,"LB Floodplain",{"$f":"($B$14-$B$13)/ABS($M$17)/ABS($M$19)","v":72.69151360141251},{"$f":"IF(MAX($U$40:$U$41)<=$B$14,$E$22,IF($T$58=\"No\",0,$E$22-$W$58))","v":0},{"$f":"IF($U$67=0,0,IF(OR($B$25=0,$B$25=180,$B$25=360),$U$40,$U$58+(($X$58-$C$14)/($AB$31-$AA$40))))","v":0},{"$f":"IF($U$67=0,0,IF(OR($B$25=0,$B$25=180,$B$25=360),(($U$40-$B$13)*$AB$31)+$C$13,$X$58+(($V$67-$U$58)*$AA$40)))","v":0},{"$f":"IF($U$67=0,0,IF(OR($B$25=0,$B$25=180,$B$25=360),$E$22-ABS(($X$41-$W$67)/$M$20),IF(AND($U$40<=$U$41,$X$40>=$Y$40),ABS(($X$40-$W$67)/($AA$40*$M$17*$M$19)),IF(AND($U$40<=$U$41,$X$40<$Y$40),ABS($E$22-(ABS(($X$40-$W$67)/($AA$40*$M$17*$M$19)))),IF(AND($U$40>$U$41,$X$41>=$Y$41),ABS(($X$41-$W$67)/($AA$40*$M$17*$M$19)),IF(AND($U$40>=$U$41,$X$41<$Y$41),ABS($E$22-(ABS(($X$40-$W$67)/($AA$40*$M$17*$M$19))))))))))","v":0},{"$f":"IF(AND($U$67=0,$W$67=0),\"No\",IF(AND($V$67<=$B$14,$V$67>=$B$13,$V$67>=MIN($U$40:$U$41),$V$67<=MAX($U$40:$U$41),$W$67<$C$13,$X$67<=$E$22),\"Yes\",\"No\"))","v":"No"},{"$f":"IF($U$67=0,\"No\",IF($Y$67=\"Yes\",\"Partial\",IF(AND($U$67<$E$22,$X$41<$Y$41,$Y$67=\"No\",$Y$68=\"No\",$Y$69=\"No\",$Y$70=\"No\",$Y$71=\"No\",$Y$72=\"No\"),\"Yes\",IF(AND($Y$67=\"No\",$X$58>$Y$58),\"No\",\"Yes\"))))","v":"No"},{"$f":"IF($Z$67=\"Yes\",\"None\",IF(AND($Z$67=\"No\",$U$67=0),\"None\",IF($Z$67=\"No\",\"All\",IF(AND($X$41>=$Y$41,$U$41<=$U$40),\"Left\",\"Right\"))))","v":"None"},{"$f":"IF($U$67=0,0,IF($Z$67=\"No\",0,IF($Z$67=\"Yes\",$U$67,IF(OR($AA$67=\"Left\",$U$67=$E$22),$U$67-(ABS(($U$41-$V$67)/($M$17*$M$19))),$U$67-(ABS(($V$67-$B$14)/($M$17*$M$19)))))))","v":0},null,null,null,null,null,null,22,3.52,"Left Bank",45.440686056790504,96.722275970626853,45.432762528366702,94.722352124498514,96.836455679614289,0,0.1141797089874359,0.1141797089874359,"",0.1141797089874359,0,2.1141035551157756,2.1141035551157756,0.16,0,0,0,3.6537506875979488E-2,1.9999238461283397,0.14527142821517461,0,0,"","","","","","","",0.16,0,0.16,3.52,3.52]
["Passive Soil Pressure",null,null,"Friction Force",null,null,null,"FF (lbf)",{"$f":"$F$72","v":0},{"$f":"IF($L$68=0,\"\",IF($L68>=0,CHAR(232),CHAR(231)))","v":""},null,{"$f":"-$F$72","v":0},null,45,1.1200000000000001,null,null,null,"Left Bank",{"$f":"($B$15-$B$14)/ABS($M$17)/ABS($M$19)","v":46.258235928171601},{"$f":"IF(AND(MIN($U$40:$U$41)>=$B$14,MAX($U$40:$U$41)<=$B$15),$E$22,IF(AND($T$59=\"No\",$T$58=\"No\"),0,$E$22-$W$59-$U$67))","v":22.391680581689773},{"$f":"IF($U$68=0,0,IF(OR($B$25=0,$B$25=180,$B$25=360),$U$40,$U$59+(($C$15-$X$59)/($AA$40-$AB$32))))","v":62.809118555766986},{"$f":"IF($U$68=0,0,IF(OR($B$25=0,$B$25=180,$B$25=360),(($U$40-$B$14)*$AB$32)+$C$14,$X$59+(($V$68-$U$59)*$AA$40)))","v":94.388333765472836},{"$f":"IF($U$68=0,0,IF(OR($B$25=0,$B$25=180,$B$25=360),$E$22-ABS(($X$41-$W$68)/$M$20),IF(AND($U$40<=$U$41,$X$40>=$Y$40),ABS(($X$40-$W$68)/($AA$40*$M$17*$M$19)),IF(AND($U$40<=$U$41,$X$40<$Y$40),ABS($E$22-(ABS(($X$40-$W$68)/($AA$40*$M$17*$M$19)))),IF(AND($U$40>$U$41,$X$41>=$Y$41),ABS(($X$41-$W$68)/($AA$40*$M$17*$M$19)),IF(AND($U$40>=$U$41,$X$41<$Y$41),ABS($E$22-(ABS(($X$40-$W$68)/($AA$40*$M$17*$M$19))))))))))","v":22.203829681553138},{"$f":"IF(AND($U$68=0,$W$68=0),\"No\",IF(AND($V$68<=$B$15,$V$68>=$B$14,$V$68>=MIN($U$40:$U$41),$V$68<=MAX($U$40:$U$41),$W$68<$C$14,$X$68<=$E$22),\"Yes\",\"No\"))","v":"No"},{"$f":"IF($U$68=0,\"No\",IF($Y$68=\"Yes\",\"Partial\",IF(AND($U$68<$E$22,$X$41<$Y$41,$Y$67=\"No\",$Y$68=\"No\",$Y$69=\"No\",$Y$70=\"No\",$Y$71=\"No\",$Y$72=\"No\"),\"Yes\",IF(AND($Y$68=\"No\",$X$59>$Y$59),\"No\",\"Yes\"))))","v":"Yes"},{"$f":"IF($Z$68=\"Yes\",\"None\",IF(AND($Z$68=\"No\",$U$68=0),\"None\",IF($Z$68=\"No\",\"All\",IF(AND($X$41>=$Y$41,$U$41<=$U$40,$AA$67<>\"Left\"),\"Left\",\"Right\"))))","v":"None"},{"$f":"IF($U$68=0,0,IF($Z$68=\"No\",0,IF($Z$68=\"Yes\",$U$68,IF(OR($U$68=$E$22,AND($AA$68=\"Left\",MIN($U$40:$U$41)>=$B$14,MAX($U$40:$U$41)>=$B$15)),$U$68-(ABS(($U$41-$V$68)/($M$17*$M$19))),IF($AA$68=\"Left\",$U$68-(ABS(($B$14-$V$68)/($M$17*$M$19))),IF(MAX($U$40:$U$41)>=$B$15,$U$68-(ABS(($V$68-$B$15)/($M$17*$M$19))),ABS(($V$68-$B$14)/($M$17*$M$19))))))))","v":22.391680581689773},null,null,null,null,null,null,23,3.68,"Left Bank",45.513321770898095,96.72087972494711,45.505398242474293,94.720955878818771,96.826217502768642,0,0.10533777782153209,0.10533777782153209,"",0.10533777782153209,0,2.1052616239498718,2.1052616239498718,0.16,0,0,0,3.3708088902890267E-2,1.9999238461283397,0.14527142821517461,0,0,"","","","","","","",0.16,0,0.16,3.68,3.68]
["Soil","KP","FP (lbf)","LTf (ft)","m","FF (lbf)",null,"FW,H (lbf)",{"$f":"ABS($M$99)","v":0},{"$f":"IF($L$69=0,\"\",IF($L69>=0,CHAR(232),CHAR(231)))","v":""},null,{"$f":"$M$99","v":0},"Flex",67.5,1.22,null,null,null,"Left Stream Bed",{"$f":"($B$16-$B$15)/ABS($M$17)/ABS($M$19)","v":55.069328485918568},{"$f":"IF(AND(MIN($U$40:$U$41)>=$B$15,MAX($U$40:$U$41)<=$B$16),$E$22,IF(AND($T$60=\"No\",$T$59=\"No\"),0,IF(AND($T$59=\"Yes\",$T$60=\"No\"),$E$22-$U$68-$U$67,IF(AND($T$59=\"Yes\",$T$60=\"Yes\",$T$62=\"No\"),$E$22-$U$70-$U$68-$U$67,IF(AND($T$59=\"Yes\",$T$60=\"Yes\",$T$62=\"Yes\"),$E$22-$U$72-$U$71-$U$70-$U$68-$U$67,$E$22-$U$72-$U$71-$U$70)))))","v":9.6083194183102272},{"$f":"IF($U$69=0,0,IF(OR($B$25=0,$B$25=180,$B$25=360),$U$40,$U$60+(($C$16-$X$60)/($AA$40-$AB$33))))","v":65.4105307758675},{"$f":"IF($U$69=0,0,IF(OR($B$25=0,$B$25=180,$B$25=360),(($U$40-$B$15)*$AB$33)+$C$15,$X$60+(($V$69-$U$60)*$AA$40)))","v":94.338327916171792},{"$f":"IF($U$69=0,0,IF(OR($B$25=0,$B$25=180,$B$25=360),$E$22-ABS(($X$41-$W$69)/$M$20),IF(AND($U$40<=$U$41,$X$40>=$Y$40),ABS(($X$40-$W$69)/($AA$40*$M$17*$M$19)),IF(AND($U$40<=$U$41,$X$40<$Y$40),ABS($E$22-(ABS(($X$40-$W$69)/($AA$40*$M$17*$M$19)))),IF(AND($U$40>$U$41,$X$41>=$Y$41),ABS(($X$41-$W$69)/($AA$40*$M$17*$M$19)),IF(AND($U$40>=$U$41,$X$41<$Y$41),ABS($E$22-(ABS(($X$40-$W$69)/($AA$40*$M$17*$M$19))))))))))","v":16.473508718513212},{"$f":"IF(AND($U$69=0,$W$69=0),\"No\",IF(AND($V$69<=$B$16,$V$69>=$B$15,$V$69>=MIN($U$40:$U$41),$V$69<=MAX($U$40:$U$41),$W$69<$C$15,$X$69<=$E$22),\"Yes\",\"No\"))","v":"No"},{"$f":"IF($U$69=0,\"No\",IF($Y$69=\"Yes\",\"Partial\",IF(AND($U$69<$E$22,$X$41<$Y$41,$Y$67=\"No\",$Y$68=\"No\",$Y$69=\"No\",$Y$70=\"No\",$Y$71=\"No\",$Y$72=\"No\"),\"Yes\",IF(AND($Y$69=\"No\",$X$60>$Y$60),\"No\",\"Yes\"))))","v":"Yes"},{"$f":"IF($Z$69=\"Yes\",\"None\",IF(AND($Z$69=\"No\",$U$69=0),\"None\",IF($Z$69=\"No\",\"All\",IF(AND($X$41>=$Y$41,$U$41<=$U$40,$AA$68<>\"Left\"),\"Left\",\"Right\"))))","v":"None"},{"$f":"IF($U$69=0,0,IF($Z$69=\"No\",0,IF($Z$69=\"Yes\",$U$69,IF(OR($U$69=$E$22,AND($AA$69=\"Left\",MIN($U$40:$U$41)>=$B$15,MAX($U$40:$U$41)>=$B$16)),$U$69-(ABS(($U$41-$V$69)/($M$17*$M$19))),IF($AA$69=\"Left\",$U$69-(ABS(($B$15-$V$69)/($M$17*$M$19))),IF(MAX($U$40:$U$41)>=$B$16,$U$69-(ABS(($V$69-$B$16)/($M$17*$M$19))),ABS(($V$69-$B$15)/($M$17*$M$19))))))))","v":9.6083194183102272},null,null,null,null,null,null,24,3.84,"Left Bank",45.585957485005679,96.719483479267367,45.578033956581876,94.719559633139028,96.81597932592301,0,9.6495846655642481E-2,9.6495846655642481E-2,"",9.6495846655642481E-2,0,2.0964196927839822,2.0964196927839822,0.16,0,0,0,3.0878670929805594E-2,1.9999238461283397,0.14527142821517461,0,0,"","","","","","","",0.16,0,0.16,3.84,3.84]
["Bed",{"$f":"IF(OR($A$6=\"\",$F$6=\"\",$F$25=\"\"),0,TAN((45+($F$28/2))*PI()/180)^2)","v":4.8149513101909616},{"$f":"IF($E$61=0,0,0.5*$B$70*$E$59)","v":0},{"$f":"IF($F$28=\"\",0,IF($U$15<$AF$47,$BP$43+2,$BP$43))","v":11.680000000000005},{"$f":"IF($F$28=\"\",0,TAN($F$28*PI()/180))","v":0.86928673781622645},{"$f":"IF(OR($L$60>=0,$D$70=0),0,$I$60*$E$70*($D$70/$D$72))","v":0},null,"FA,H (lbf)",{"$f":"ABS($L$70)+ABS($M$70)","v":0},{"$f":"IF(($L$70+M70)=0,\"\",IF(($L$70+M70)>=0,CHAR(232),CHAR(231)))","v":""},null,{"$f":"$M$86","v":0},{"$f":"$M$92","v":0},90,0.97,null,null,null,"Right Stream Bed",{"$f":"($B$17-$B$16)/ABS($M$17)/ABS($M$19)","v":63.880421043665535},{"$f":"IF(AND(MIN($U$40:$U$41)>=$B$16,MAX($U$40:$U$41)<=$B$17),$E$22,IF(AND($T$61=\"No\",$T$62=\"No\"),0,IF(AND($T$62=\"Yes\",$T$61=\"No\"),$E$22-$U$71-$U$72,IF(AND($T$62=\"Yes\",$T$61=\"Yes\"),$E$22-$W$61-$U$71-$U$72,$E$22-$W$61))))","v":0},{"$f":"IF($U$70=0,0,IF(OR($B$25=0,$B$25=180,$B$25=360),$U$40,$U$61+(($X$61-$C$16)/($AB$34-$AA$40))))","v":0},{"$f":"IF($U$70=0,0,IF(OR($B$25=0,$B$25=180,$B$25=360),(($U$40-$B$16)*$AB$34)+$C$16,$X$61+(($V$70-$U$61)*$AA$40)))","v":0},{"$f":"IF($U$70=0,0,IF(OR($B$25=0,$B$25=180,$B$25=360),$E$22-ABS(($X$41-$W$70)/$M$20),IF(AND($U$40<=$U$41,$X$40>=$Y$40),ABS(($X$40-$W$70)/($AA$40*$M$17*$M$19)),IF(AND($U$40<=$U$41,$X$40<$Y$40),ABS($E$22-(ABS(($X$40-$W$70)/($AA$40*$M$17*$M$19)))),IF(AND($U$40>$U$41,$X$41>=$Y$41),ABS(($X$41-$W$70)/($AA$40*$M$17*$M$19)),IF(AND($U$40>=$U$41,$X$41<$Y$41),ABS($E$22-(ABS(($X$40-$W$70)/($AA$40*$M$17*$M$19))))))))))","v":0},{"$f":"IF(AND($U$70=0,$W$70=0),\"No\",IF(AND($V$70<=$B$17,$V$70>=$B$16,$V$70>=MIN($U$40:$U$41),$V$70<=MAX($U$40:$U$41),$W$70<$C$17,$X$70<=$E$22),\"Yes\",\"No\"))","v":"No"},{"$f":"IF($U$70=0,\"No\",IF($Y$70=\"Yes\",\"Partial\",IF(AND($U$70<$E$22,$X$41<$Y$41,$Y$67=\"No\",$Y$68=\"No\",$Y$69=\"No\",$Y$70=\"No\",$Y$71=\"No\",$Y$72=\"No\"),\"Yes\",IF(AND($Y$70=\"No\",$X$61>$Y$61),\"No\",\"Yes\"))))","v":"No"},{"$f":"IF($Z$70=\"Yes\",\"None\",IF(AND($Z$70=\"No\",$U$70=0),\"None\",IF($Z$70=\"No\",\"All\",IF(AND($X$41>=$Y$41,$U$41>=$U$40,$AA$71<>\"Right\"),\"Right\",\"Left\"))))","v":"None"},{"$f":"IF($U$70=0,0,IF($Z$70=\"No\",0,IF($Z$70=\"Yes\",$U$70,IF(OR($U$70=$E$22,AND($AA$70=\"Right\",MIN($U$40:$U$41)<=$B$16,MAX($U$40:$U$41)<=$B$17)),$U$70-(ABS(($U$41-$V$70)/($M$17*$M$19))),IF($AA$70=\"Right\",$U$70-(ABS(($B$17-$V$70)/($M$17*$M$19))),IF(MIN($U$40:$U$41)<=$B$16,$U$70-(ABS(($V$70-$B$16)/($M$17*$M$19))),ABS(($V$70-$B$17)/($M$17*$M$19))))))))","v":0},null,null,null,null,null,null,25,4,"Left Bank",45.65859319911327,96.718087233587624,45.650669670689467,94.718163387459285,96.805741149077363,0,8.7653915489738665E-2,8.7653915489738665E-2,"",8.7653915489738665E-2,0,2.0875777616180784,2.0875777616180784,0.16,0,0,0,2.8049252956716373E-2,1.9999238461283397,0.14527142821517461,0,0,"","","","","","","",0.16,0,0.16,4,4]
["Bank",{"$f":"IF(OR($A$6=\"\",$F$6=\"\",$F$25=\"\"),0,TAN((45+($F$29/2))*PI()/180)^2)","v":4.8149513101909616},{"$f":"IF($E$61=0,0,0.5*$B$71*$E$60)","v":354.16121558384077},{"$f":"IF($F$28=\"\",0,$BQ$43)","v":22.320000000000014},{"$f":"IF($F$28=\"\",0,TAN($F$29*PI()/180))","v":0.86928673781622645},{"$f":"IF(OR($L$60>=0,$D$71=0),0,$I$60*$E$71*($D$71/$D$72))","v":0},null,"S FH (lbf)",{"$f":"ABS($L$71)","v":606.45013318834765},{"$f":"IF($L$71=0,\"\",IF($L71>=0,CHAR(232),CHAR(231)))","v":"è"},"Additional resisting force (lbf) needed:",{"$f":"$L$66+$L$67+$L$68+$L$69+$L$70+$M$70","v":606.45013318834765},null,112.5,1,null,null,null,"Right Bank",{"$f":"($B$18-$B$17)/ABS($M$17)/ABS($M$19)","v":41.852689649298107},{"$f":"IF(AND(MIN($U$40:$U$41)>=$B$17,MAX($U$40:$U$41)<=$B$18),$E$22,IF(AND($T$62=\"No\",$T$63=\"No\"),0,$E$22-$W$62-$U$72))","v":0},{"$f":"IF($U$71=0,0,IF(OR($B$25=0,$B$25=180,$B$25=360),$U$40,$U$62+(($X$62-$C$17)/($AB$35-$AA$40))))","v":0},{"$f":"IF($U$71=0,0,IF(OR($B$25=0,$B$25=180,$B$25=360),(($U$40-$B$17)*$AB$35)+$C$17,$X$62+(($V$71-$U$62)*$AA$40)))","v":0},{"$f":"IF($U$71=0,0,IF(OR($B$25=0,$B$25=180,$B$25=360),$E$22-ABS(($X$41-$W$71)/$M$20),IF(AND($U$40<=$U$41,$X$40>=$Y$40),ABS(($X$40-$W$71)/($AA$40*$M$17*$M$19)),IF(AND($U$40<=$U$41,$X$40<$Y$40),ABS($E$22-(ABS(($X$40-$W$71)/($AA$40*$M$17*$M$19)))),IF(AND($U$40>$U$41,$X$41>=$Y$41),ABS(($X$41-$W$71)/($AA$40*$M$17*$M$19)),IF(AND($U$40>=$U$41,$X$41<$Y$41),ABS($E$22-(ABS(($X$40-$W$71)/($AA$40*$M$17*$M$19))))))))))","v":0},{"$f":"IF(AND($U$71=0,$W$71=0),\"No\",IF(AND($V$71<=$B$18,$V$71>=$B$17,$V$71>=MIN($U$40:$U$41),$V$71<=MAX($U$40:$U$41),$W$71<$C$18,$X$71<=$E$22),\"Yes\",\"No\"))","v":"No"},{"$f":"IF($U$71=0,\"No\",IF($Y$71=\"Yes\",\"Partial\",IF(AND($U$71<$E$22,$X$41<$Y$41,$Y$67=\"No\",$Y$68=\"No\",$Y$69=\"No\",$Y$70=\"No\",$Y$71=\"No\",$Y$72=\"No\"),\"Yes\",IF(AND($Y$71=\"No\",$X$62>$Y$62),\"No\",\"Yes\"))))","v":"No"},{"$f":"IF($Z$71=\"Yes\",\"None\",IF(AND($Z$71=\"No\",$U$71=0),\"None\",IF($Z$71=\"No\",\"All\",IF(AND($X$41>=$Y$41,$U$41>=$U$40,$AA$72<>\"Right\"),\"Right\",\"Left\"))))","v":"None"},{"$f":"IF($U$71=0,0,IF($Z$71=\"No\",0,IF($Z$71=\"Yes\",$U$71,IF(OR($U$71=$E$22,AND($AA$71=\"Right\",MIN($U$40:$U$41)<=$B$17,MAX($U$40:$U$41)<=$B$18)),$U$71-(ABS(($U$41-$V$71)/($M$17*$M$19))),IF($AA$71=\"Right\",$U$71-(ABS(($B$18-$V$71)/($M$17*$M$19))),IF(MIN($U$40:$U$41)<=$B$17,$U$71-(ABS(($V$71-$B$17)/($M$17*$M$19))),ABS(($V$71-$B$18)/($M$17*$M$19))))))))","v":0},null,null,null,null,null,null,26,4.16,"Left Bank",45.731228913220853,96.716690987907882,45.723305384797051,94.716767141779542,96.795502972231731,0,7.881198432384906E-2,7.881198432384906E-2,"",7.881198432384906E-2,0,2.0787358304521888,2.0787358304521888,0.16,0,0,0,2.52198349836317E-2,1.9999238461283397,0.14527142821517461,0,0,"","","","","","","",0.16,0,0.16,4.16,4.16]
["Total","-",{"$f":"$C$70+$C$71","v":354.16121558384077},{"$f":"$D$70+$D$71","v":34.000000000000021},"-",{"$f":"$F$70+$F$71","v":0},null,"FSH",{"$f":"IF(OR($E$22=\"\",$F$22=\"\",$F$25=\"\",$G$25=\"\"),0,IF($I$66=0,0,IF($L$69>=0,($I$67+$I$68+$I$70)/($I$66+$I$69),($I$67+$I$68+$I$69+$I$70)/$I$66)))","v":0.36868314749405595},{"$f":"$I$72-$L$72","v":-1.131316852505944},{"$f":"IF(AND($F$25=\"\",$G$25=\"\"),\"\",IF(OR($J$25=0,$I$72>=$L$72),\"Structure is Horizontally Stable\",IF(AND($I$72<$L$72,$L$69>=0),$L$72*($L$66+$L$69)-(-$L$67-$L$68-$L$70-$M$70),IF(AND($I$72<$L$72,$L$69<0),$L$72*($L$66)-(-$L$67-$L$68-$L$70-$M$70-$L$69),\"\"))))","v":1086.7558075744419},{"$f":"'2-Constants'!$C$6","v":1.5},null,135,0.81,null,null,null,"RB Floodplain",{"$f":"($B$19-$B$18)/ABS($M$17)/ABS($M$19)","v":50.663782207045081},{"$f":"IF(MIN($U$40:$U$41)>=$B$18,$E$22,IF($T$63=\"No\",0,$E$22-$W$63))","v":0},{"$f":"IF($U$72=0,0,IF(OR($B$25=0,$B$25=180,$B$25=360),$U$40,$U$63+(($X$63-$C$18)/($AB$36-$AA$40))))","v":0},{"$f":"IF($U$72=0,0,IF(OR($B$25=0,$B$25=180,$B$25=360),(($U$40-$B$18)*$AB$36)+$C$18,$X$63+(($V$72-$U$63)*$AA$40)))","v":0},{"$f":"IF($U$72=0,0,IF(OR($B$25=0,$B$25=180,$B$25=360),$E$22-ABS(($X$41-$W$72)/$M$20),IF(AND($U$40<=$U$41,$X$40>=$Y$40),ABS(($X$40-$W$72)/($AA$40*$M$17*$M$19)),IF(AND($U$40<=$U$41,$X$40<$Y$40),ABS($E$22-(ABS(($X$40-$W$72)/($AA$40*$M$17*$M$19)))),IF(AND($U$40>$U$41,$X$41>=$Y$41),ABS(($X$41-$W$72)/($AA$40*$M$17*$M$19)),IF(AND($U$40>=$U$41,$X$41<$Y$41),ABS($E$22-(ABS(($X$40-$W$72)/($AA$40*$M$17*$M$19))))))))))","v":0},{"$f":"IF(AND($U$72=0,$W$72=0),\"No\",IF(AND($V$72<=$B$19,$V$72>=$B$18,$V$72>=MIN($U$40:$U$41),$V$72<=MAX($U$40:$U$41),$W$72<$C$19,$X$72<=$E$22),\"Yes\",\"No\"))","v":"No"},{"$f":"IF($U$72=0,\"No\",IF($Y$72=\"Yes\",\"Partial\",IF(AND($U$72<$E$22,$X$41<$Y$41,$Y$67=\"No\",$Y$68=\"No\",$Y$69=\"No\",$Y$70=\"No\",$Y$71=\"No\",$Y$72=\"No\"),\"Yes\",IF(AND($Y$72=\"No\",$X$63>$Y$63),\"No\",\"Yes\"))))","v":"No"},{"$f":"IF($Z$72=\"Yes\",\"None\",IF(AND($Z$72=\"No\",$U$72=0),\"None\",IF($Z$72=\"No\",\"All\",IF(AND($X$41>=$Y$41,$U$41>=$U$40),\"Right\",\"Left\"))))","v":"None"},{"$f":"IF($U$72=0,0,IF($Z$72=\"No\",0,IF($Z$72=\"Yes\",$U$72,IF(OR($AA$72=\"Right\",$U$72=$E$22),$U$72-(ABS(($U$41-$V$72)/($M$17*$M$19))),$U$72-(ABS(($V$72-$B$18)/($M$17*$M$19)))))))","v":0},null,null,null,null,null,null,27,4.32,"Left Bank",45.803864627328444,96.715294742228139,45.795941098904642,94.715370896099799,96.785264795386084,0,6.9970053157945244E-2,6.9970053157945244E-2,"",6.9970053157945244E-2,0,2.069893899286285,2.069893899286285,0.16,0,0,0,2.2390417010542479E-2,1.9999238461283397,0.14527142821517461,0,0,"","","","","","","",0.16,0,0.16,4.32,4.32]
[null,null,null,null,null,null,null,null,null,null,{"$f":"IF($K$72<>\"Structure is Horizontally Stable\",\"\",IF($K$72=\"Structure is Horizontally Stable\",IF($L$69>=0,($I$67+$I$68+$I$70)-(($I$69+$I$66)*$L$72),($I$67+$I$68+$I$69+$I$70)-(($I$66)*$L$72))))","v":""},null,null,157.5,0.75,null,null,null,null,"L check",{"$f":"SUM(U67:U72)","v":32},{"$f":"IF($U$53=$E$22,\"OK\",\"ERROR\")","v":"OK"},null,null,null,null,"Total",{"$f":"SUM(AB67:AB72)","v":32},null,null,null,null,null,null,28,4.4800000000000004,"Left Bank",45.876500341436028,96.713898496548396,45.868576813012226,94.713974650420056,96.775026618540437,0,6.1128121992041429E-2,6.1128121992041429E-2,"",6.1128121992041429E-2,0,2.0610519681203812,2.0610519681203812,0.16,0,0,0,1.9560999037453258E-2,1.9999238461283397,0.14527142821517461,0,0,"","","","","","","",0.16,0,0.16,4.4800000000000004,4.4800000000000004]
["Moment Force Balance",null,null,null,null,null,null,null,null,null,null,{"$f":"IF($D$22=\"Yes\",\"Rootwad\",\"Root Collar\")","v":"Rootwad"},null,180,1.1000000000000001,null,null,null,null,null,null,null,null,null,null,null,null,null,null,null,null,null,null,null,29,4.6399999999999997,"Left Bank",45.949136055543619,96.712502250868653,45.941212527119816,94.712578404740313,96.764788441694805,0,5.2286190826151824E-2,5.2286190826151824E-2,"",5.2286190826151824E-2,0,2.0522100369544916,2.0522100369544916,0.16,0,0,0,1.6731581064368586E-2,1.9999238461283397,0.14527142821517461,0,0,"","","","","","","",0.16,0,0.16,4.6399999999999997,4.6399999999999997]
["Driving Moment Centroids",null,null,"Resisting Moment Centroids",null,null,null,"Moment Force Balance",null,null,null,null,null,"Source:  Gippel (1992) plot of drag coefficients",null,null,null,null,"Projected Area of Log Calculation",null,null,null,"Projected Area of Rootwad Calculation",null,null,null,null,null,null,null,null,null,null,null,30,4.8,"Left Bank",46.02177176965121,96.71110600518891,46.013848241227407,94.71118215906057,96.754550264849158,0,4.3444259660248008E-2,4.3444259660248008E-2,"",4.3444259660248008E-2,0,2.0433681057885877,2.0433681057885877,0.16,0,0,0,1.3902163091279363E-2,1.9999238461283397,0.14527142821517461,0,0,"","","","","","","",0.16,0,0.16,4.8,4.8]
["cT,B (ft)","cL (ft)","cD (ft)","cT,W (ft)","csoil (ft)","cF&N (ft)","cP (ft)","Md (lbf)",{"$f":"IF(OR($C$19=\"\",$E$22=\"\",$D$22=\"\",$F$22=\"\",$F$25=\"\",$G$25=\"\"),0,IF($F$78=\"Stem Tip\",$L$77,$L$78))","v":163617.49638083667},null,null,"Md","Mr",null,null,"Centroid of Log",null,null,"DTS =",{"$f":"IF(OR($E$22=\"\",$F$22=\"\",$F$25=\"\",$G$25=\"\"),\"\",$F$22)","v":2},"ft",null,null,"a = DRW/2",{"$f":"$H$22/2","v":3},"ft","A =","a*b*((p/2)+arcsin(d/a)) + (b*d*(sqrt(a2-d2))/a)",null,null,null,null,null,null,31,4.96,"Left Bank",46.094407483758793,96.709709759509167,46.086483955334991,94.709785913380827,96.744312088003525,0,3.4602328494358403E-2,3.4602328494358403E-2,"",3.4602328494358403E-2,0,2.0345261746226981,2.0345261746226981,0.16,0,0,0,1.1072745118194689E-2,1.9999238461283397,0.14527142821517461,0,0,"","","","","","","",0.16,0,0.16,4.96,4.96]
[{"$f":"$Q$79","v":18.846208568686219},{"$f":"IF($I$52=0,0,IF($T$12>=$T$11,$E$22-$BL$43,$BL$43))","v":0},{"$f":"IF($F$66=0,0,IF($T$12>=$T$11,$E$22-$BI$43,$BI$43))","v":18.799999999999997},{"$f":"$Q$79","v":18.846208568686219},{"$f":"IF($E$61=0,0,IF($T$12>=$T$11,$E$22-$BS$43,$BS$43))","v":2.7199999999999998},{"$f":"IF($F$72=0,0,IF($T$12>=$T$11,$E$22-$BR$43,$BR$43))","v":0},{"$f":"IF($C$72=0,0,IF($T$12>=$T$11,$E$22-$BT$39,$BT$39))","v":3.6266666666666669},"Mr (lbf)",{"$f":"IF(OR($C$19=\"\",$E$22=\"\",$D$22=\"\",$F$22=\"\",$F$25=\"\",$G$25=\"\"),0,IF($F$78=\"Stem Tip\",$M$77,$M$78))","v":83204.299652612826},null,"Additional resisting moment force (lbf) needed:",{"$f":"(($I$54*$A$77)+($I$55*$B$77)+($I$66*$C$77)+(IF($L$95>0,$L$95*$D$95,0))+(IF($L$96>0,$L$96*$D$96,0))+(IF($L$97>0,$L$97*$D$97,0))+(IF($L$98>0,$L$98*$D$98,0))+(IF($M$95>0,$M$95*$D$95,0))+(IF($M$96>0,$M$96*$D$96,0))+(IF($M$97>0,$M$97*$D$97,0))+(IF($M$98>0,$M$98*$D$98,0)))*$M$19","v":163617.49638083667},{"$f":"(($I$56*$D$77)+(IF($L$60<0,$I$60*$F$77))+($I$57*$E$77)+($I$67*$G$77)+($I$68*$F$77)+(($D$83+$E$83)*$C$83)+($J$83*$H$83)+($J$84*$H$84)+(($I$87+$J$87)*$C$87)+(($I$88+$J$88)*$C$88)+(($I$89+$J$89)*$C$89)+(IF($L$95<=0,$G$95*$D$95,0))+(IF($L$96<=0,$G$96*$D$96,0))+(IF($L$97<=0,$G$97*$D$97,0))+(IF($L$98<=0,$G$98*$D$98,0))+(IF($M$95<=0,$I$95*$D$95,0))+(IF($M$96<=0,$I$96*$D$96,0))+(IF($M$97<=0,$I$97*$D$97,0))+(IF($M$98<=0,$I$98*$D$98,0)))*$M$19","v":83204.299652612826},"Stem Tip",null,"cRW",{"$f":"IF(OR($D$22=\"\",$D$22=\"No\",$F$22=\"\"),0,$E$22-((1/4)*$G$22*(($H$22^2)+(2*$H$22*$F$22)+(3*($F$22^2)))/(($H$22^2)+($H$22*$F$22)+($F$22^2))))","v":30.96153846153846},null,"ATSp,total =",{"$f":"IF($T$76=\"\",\"\",ABS(($U$42-$U$43)*$F$22/$M$19))","v":29.055391983330985},"ft2",null,null,"b= (DRW/2)*ABS(cos(q))",{"$f":"($H$22/2)*ABS(COS($B$25*PI()/180))","v":2.6730195725651038},"ft","ARW,total =",{"$f":"IF(OR($D$22=\"\",$D$22=\"No\"),0,PI()*$Y$76*$Y$77)","v":25.192615956216777},"ft2",null,null,null,null,null,32,5.12,"Left Bank",46.167043197866377,96.708313513829424,46.159119669442575,94.708389667701084,96.734073911157878,0,2.5760397328454587E-2,2.5760397328454587E-2,"",2.5760397328454587E-2,0,2.0256842434567943,2.0256842434567943,0.16,0,0,0,8.2433271451054675E-3,1.9999238461283397,0.14527142821517461,0,0,"","","","","","","",0.16,0,0.16,5.12,5.12]
["*Distances are from the stem tip",null,null,"Point of Rotation:",null,{"$f":"IF(OR($F$25=\"\",$G$25=\"\",$D$22=\"\"),\"\",IF(AND($T$11<$T$12,$AY$45>0),$L$74,IF(AND($T$11>$T$12,$AY$245>0),$L$74,IF(AND($AY$45>0,$AY$245>0),$L$74,IF(AND($AY$45=0,$AY$245=0),$L$74,\"Stem Tip\")))))","v":"Stem Tip"},null,"FSM",{"$f":"IF(OR($E$22=\"\",$F$22=\"\",$F$25=\"\",$G$25=\"\"),0,IF(OR($A$6=\"\",$F$25=\"\",$G$25=\"\"),\"\",$I$77/$I$76))","v":0.50852935348030381},{"$f":"$I$78-$L$80","v":-0.99147064651969619},{"$f":"IF(AND($F$25=\"\",$G$25=\"\"),\"\",IF($I$78>=$L$80,\"Structure is Stable with respect to Moment Forces\",($I$76*$L$80)-$I$77))","v":162221.94491864217},{"$f":"(($I$54*($E$22-$A$77))+($I$55*($E$22-$B$77))+($I$66*($E$22-$C$77))+(IF($L$95>0,$L$95*($E$22-$D$95),0))+(IF($L$96>0,$L$96*($E$22-$D$96),0))+(IF($L$97>0,$L$97*($E$22-$D$97),0))+(IF($L$98>0,$L$98*($E$22-$D$98),0))+(IF($M$95>0,$M$95*($E$22-$D$95),0))+(IF($M$96>0,$M$96*($E$22-$D$96),0))+(IF($M$97>0,$M$97*($E$22-$D$97),0))+(IF($M$98>0,$M$98*($E$22-$D$98),0)))*$M$19","v":114272.89426349696},{"$f":"(($I$56*($E$22-$D$77))+(IF($L$60<0,$I$60*($E$22-$F$77)))+($I$57*($E$22-$E$77))+($I$67*($E$22-$G$77))+($I$68*($E$22-$F$77))+(($D$83+$E$83)*($E$22-$C$83))+($J$83*($E$22-$H$83))+($J$84*($E$22-$H$84))+(($I$87+$J$87)*($E$22-$C$87))+(($I$88+$J$88)*($E$22-$C$88))+(($I$89+$J$89)*($E$22-$C$89))+(IF($L$95<=0,$G$95*($E$22-$D$95),0))+(IF($L$96<=0,$G$96*($E$22-$D$96),0))+(IF($L$97<=0,$G$97*($E$22-$D$97),0))+(IF($L$98<=0,$G$98*($E$22-$D$98),0))+(IF($M$95<=0,$I$95*($E$22-$D$95),0))+(IF($M$96<=0,$I$96*($E$22-$D$96),0))+(IF($M$97<=0,$I$97*($E$22-$D$97),0))+(IF($M$98<=0,$I$98*($E$22-$D$98),0)))*$M$19","v":71252.630727198048},"Root Collar or RW",null,"cTS",{"$f":"(($E$22-$G$22)/2)","v":14.5},null,"ATSp,dry =",{"$f":"IF($T$86=\"\",\"\",IF($T$86=\"Submerged\",0,IF($T$88=\"Dry\",$T$77,IF(AND($AC$86=\"Dry\",$T$86=\"Partial\"),ABS(($U$43-$W$87)*$F$22/$M$19),IF(AND($AC$86=\"Partial\",$AC$87=\"Partial\"),(ABS($U$39-$U$38))*(($AF$86+$AF$87)/2),IF($AC$86=\"Partial\",(ABS($U$39-$W$86))*$AF$86/2,(($U$41-$W$88)*$F$22)+(ABS($W$88-$U$40))*($AF$87+$F$22)/2))))))","v":0},"ft2",null,null,"d1 = (DRW/2) - (yRW,crown-WSE)",{"$f":"IF(OR($D$22=\"\",$F$22=\"\"),\"\",IF($AE$8>=$U$10,$Y$76,$Y$76-($U$10-$AE$8)))","v":3},"ft","ARW,↑WSE =",{"$f":"IF($D$22=\"No\",0,IF($U$15>$AE$8,$AB$77,IF($U$10<$AE$8,0,IF($D$22=\"\",0,$AB$77-(($Y$76*$Y$77*((PI()/2)+ASIN($Y$78/$Y$76)))+($Y$77*$Y$78*(SQRT(($Y$76^2)-($Y$78^2))/$Y$76)))))))","v":0},"ft2",null,null,null,null,null,33,5.28,"Left Bank",46.239678911973968,96.706917268149681,46.231755383550166,94.706993422021341,96.723835734312246,0,1.6918466162564982E-2,1.6918466162564982E-2,"",1.6918466162564982E-2,0,2.0168423122909047,2.0168423122909047,0.16,0,0,0,5.413909172020794E-3,1.9999238461283397,0.14527142821517461,0,0,"","","","","","","",0.16,0,0.16,5.28,5.28]
[null,null,null,null,null,null,null,null,null,null,null,"Formatting",null,null,null,"cT",{"$f":"IF(OR($D$22=\"\",$D$22=\"No\",$F$22=\"\"),$Q$78,((((($B$53+$B$52)*$I$22)+($B$54*$J$22))*$Q$78)+(((($C$53+$C$52)*$I$22)+($C$54*$J$22))*$Q$77))/$E$55)","v":18.846208568686219},null,"ATSp,em =",{"$f":"$BE$43","v":20.663914179373577},"ft2",null,null,"d2 = (DRW/2) - (ythalweg-yRW,bot)",{"$f":"IF(OR($D$22=\"\",$F$22=\"\"),\"\",IF($U$15>=$C$16,$Y$76,$Y$76-($C$16-$U$15)))","v":2.6738965473765433},"ft","ARW,↓bed =",{"$f":"IF($D$22=\"No\",0,IF($U$10<$C$16,$AB$77,IF($U$15>$C$16,0,IF($D$22=\"\",0,$AB$77-(($Y$76*$Y$77*((PI()/2)+ASIN($Y$79/$Y$76)))+($Y$77*$Y$79*(SQRT(($Y$76^2)-($Y$79^2))/$Y$76)))))))","v":0.53298788571315114},"ft2",null,null,null,null,null,34,5.44,"Left Bank",46.312314626081559,96.705521022469938,46.304391097657756,94.705597176341598,96.713597557466599,0,8.0765349966611666E-3,8.0765349966611666E-3,"",8.0765349966611666E-3,0,2.0080003811250009,2.0080003811250009,0.16,0,0,0,2.5844911989315734E-3,1.9999238461283397,0.14527142821517461,0,0,"","","","","","","",0.16,0,0.16,5.44,5.44]
["Anchor Forces",null,null,null,null,null,null,null,null,null,null,{"$f":"'2-Constants'!$C$7","v":1.5},null,null,null,null,null,null,"(-) ATSp,dry,em =",{"$f":"-$BG$43","v":0},"ft3",null,null,null,null,null,"ARWp =",{"$f":"IF($D$22=\"\",0,$AB$77-$AB$78-$AB$79)","v":24.659628070503626},"ft2",null,null,null,null,null,35,5.6,"Left Bank",46.384950340189143,96.704124776790195,46.37702681176534,94.704200930661855,96.703359380620952,0,0,0,"","",0,1.9991584499590971,1.9991584499590971,0,0,0,0,0,1.9991584499590971,0.1452158310008749,0,0,0.16,5.6,0,0,"",5.5459133015955473,0.13013409845822715,0.16,0,0.16,5.6,""]
["Additional Soil Ballast",null,null,null,null,null,null,"Mechanical Anchors",null,null,{"$f":"IF(OR($H$83<>\"\",$H$84<>\"\",$C$87<>\"\",$C$88<>\"\",$C$89<>\"\"),\"CHECK--Verify anchors are correctly located on X-Sect (above)\",\"\")","v":""},"Formatting",null,null,null,"Buried anchors","Number",null,"ATSp,wet =",{"$f":"IF($D$22=\"\",\"\",IF($T$88=\"Dry\",0,$T$77-$T$78-$T$79-$T$80))","v":8.3914778039574074},"ft2",null,null,null,null,null,null,null,null,null,null,null,null,null,36,5.76,"Left Bank",46.457586054296733,96.702728531110452,46.449662525872931,94.702804684982112,96.69312120377532,0,0,0,"","",0,1.9903165187932075,1.9903165187932075,0,0,0,0,0,1.9903165187932075,0.14457356656108852,0,0,0.16,5.76,0,0,"",5.5473095472752902,0.12999797582524003,0.16,0,0.16,5.76,""]
["VAdry (ft3)","VAwet (ft3)","cAsoil (ft)","FA,Vsoil (lbf)","FA,HP (lbf)",null,"Type","cAm (ft)","Soils","FAm (lbf)","Quick Design Reference:",{"$f":"IF($D$83=\"\",0,-$D$83)","v":0},{"$f":"IF($E$83=\"\",0,-$E$83)","v":0},null,"Total (lbf)",{"$f":"$J$83+$J$84+(IF($A$87=\"Deadman\",$F$87-$G$87,0))+(IF($A$88=\"Deadman\",$F$88-$G$88,0))+(IF($A$89=\"Deadman\",$F$89-$G$89,0))","v":0},{"$f":"(IF($J$83>0,1,0))+(IF($J$84>0,1,0))+(IF(AND($I$87>0,$A$87=\"Deadman\"),1,0))+(IF(AND($I$88>0,$A$88=\"Deadman\"),1,0))+(IF(AND($I$89>0,$A$89=\"Deadman\"),1,0))","v":0},null,null,null,null,null,null,null,null,null,null,null,null,null,null,null,null,null,37,5.92,"Left Bank",46.530221768404317,96.701332285430709,46.522298239980515,94.701408439302369,96.682883026929673,0,0,0,"","",0,1.9814745876273037,1.9814745876273037,0,0,0,0,0,1.9814745876273037,0.14393130212130109,0,0,0.16,5.92,0,0,"",5.5487057929550332,0.12986199557900197,0.16,0,0.16,5.92,""]
[null,null,null,{"$f":"IF(AND($A$83=\"\",$B$83=\"\"),0,($A$83*$D$29)+($B$83*$E$29))","v":0},{"$f":"IF($D$83=0,0,0.5*$B$71*$D$83)","v":0},null,null,null,{"$f":"$W$100","v":""},{"$f":"IF(OR($G83=\"\",$H83=\"\"),0,IF(AND($W100=\"Bed\",$G$28=4),HLOOKUP($G$83,AnchorRatings,3,0),IF(AND($W100=\"Bed\",$G$28=5),HLOOKUP($G$83,AnchorRatings,4,0),IF(AND($W100=\"Bed\",$G$28=6),HLOOKUP($G$83,AnchorRatings,5,0),IF(AND($W100=\"Bed\",$G$28=7),HLOOKUP($G$83,AnchorRatings,6,0),IF(AND($W100=\"Bank\",$G$29=4),HLOOKUP($G$83,AnchorRatings,3,0),IF(AND($W100=\"Bank\",$G$29=5),HLOOKUP($G$83,AnchorRatings,4,0),IF(AND($W100=\"Bank\",$G$29=6),HLOOKUP($G$83,AnchorRatings,5,0),IF(AND($W100=\"Bank\",$G$29=7),HLOOKUP($G$83,AnchorRatings,6,0))))))))))","v":0},{"$f":"$I$61","v":0.57909385398086111},0,{"$f":"(IF($A87=\"Behind\",-$J87,0))","v":0},null,"Required Vertical Resistance (lbf)",{"$f":"($L$54+$L$55+(IF($L$58>0,$L$58,0)))*$L$61","v":11585.691051614584},null,null,null,null,null,null,null,null,null,null,null,null,null,null,null,null,null,null,38,6.08,"Left Bank",46.602857482511908,96.699936039750966,46.594933954088106,94.700012193622626,96.672644850084041,0,0,0,"","",0,1.9726326564614141,1.9726326564614141,0,0,0,0,0,1.9726326564614141,0.14328903768151471,0,0,0.16,6.08,0,0,"",5.5501020386347761,0.12972615757057365,0.16,0,0.16,6.08,""]
[null,null,null,null,null,null,null,null,{"$f":"$W$101","v":""},{"$f":"IF(OR($G84=\"\",$H84=\"\"),0,IF(AND($W101=\"Bed\",$G$28=4),HLOOKUP($G$84,AnchorRatings,3,0),IF(AND($W101=\"Bed\",$G$28=5),HLOOKUP($G$84,AnchorRatings,4,0),IF(AND($W101=\"Bed\",$G$28=6),HLOOKUP($G$84,AnchorRatings,5,0),IF(AND($W101=\"Bed\",$G$28=7),HLOOKUP($G$84,AnchorRatings,6,0),IF(AND($W101=\"Bank\",$G$29=4),HLOOKUP($G$84,AnchorRatings,3,0),IF(AND($W101=\"Bank\",$G$29=5),HLOOKUP($G$84,AnchorRatings,4,0),IF(AND($W101=\"Bank\",$G$29=6),HLOOKUP($G$84,AnchorRatings,5,0),IF(AND($W101=\"Bank\",$G$29=7),HLOOKUP($G$84,AnchorRatings,6,0))))))))))","v":0},{"$f":"'2-Constants'!$C$5","v":1.5},0,{"$f":"(IF($A88=\"Behind\",-$J88,0))","v":0},null,"Actual Vertical Resistance (lbf)",{"$f":"ABS($L$56+$L$57+(IF($L$58<0,$L$58,0))+$L$59)","v":4472.8016547407096},null,null,"Log Position","Water and Log Intercept",null,null,null,null,"Soil","LW Buried at Intercept?",null,"Log Position","Water and Log Intercept at Face",null,null,null,null,null,39,6.24,"Left Bank",46.675493196619492,96.698539794071223,46.667569668195689,94.698615947942884,96.662406673238394,0,0,0,"","",0,1.9637907252955102,1.9637907252955102,0,0,0,0,0,1.9637907252955102,0.14264677324172731,0,0,0.16,6.24,0,0,"",5.5514982843145191,0.12959046165117186,0.16,0,0.16,6.24,""]
["Boulder Ballast",null,null,null,null,null,null,null,null,null,null,0,{"$f":"(IF($A89=\"Behind\",-$J89,0))","v":0},null,"Extra Needed Vertical Resistance (lbf)",{"$f":"$P$83-$P$84","v":7112.8893968738739},null,null,null,"Condition","Intercept Zone",null,"xTS (ft)","yTS (ft)","ysoil (ft)",null,null,null,"Condition","xTS (ft)","yTS (ft)","hTS,dry (ft)",null,null,40,6.4,"Left Bank",46.748128910727083,96.69714354839148,46.74020538230328,94.697219702263141,96.652168496392747,0,0,0,"","",0,1.9549487941296064,1.9549487941296064,0,0,0,0,0,1.9549487941296064,0.14200450880193988,0,0,0.16,6.4,0,0,"",5.552894529994262,0.12945490767216888,0.16,0,0.16,6.4,""]
["Position","Dr (ft)","cAr (ft)","Vr,dry (ft3)","Vr,wet (ft3)","Wr (lbf)","FL,r (lbf)","FD,r (lbf)","FA,Vr (lbf)","FA,Hr (lbf)",{"$f":"$I$72","v":0.36868314749405595},{"$f":"$L$82+$L$83+$L$84+$L$85","v":0},{"$f":"$M$82+$M$83+$M$84+$M$85","v":0},null,"Required Horizontal Resistance (lbf)",{"$f":"($L$66+(IF($L$69>0,$L$69,0)))*$L$72","v":1440.9170231582825},null,null,"Crown",{"$f":"IF(OR($E$22=\"\",$F$22=\"\",$F$25=\"\",$G$25=\"\"),\"\",IF($X$39<=$AE$12,\"Submerged\",IF($X$38>$AE$12,\"Dry\",\"Partial\")))","v":"Submerged"},{"$f":"IF($X$86=\"\",\"None\",IF($W$86<$B$14,\"Left Floodplain\",IF($W$86<$B$15,\"Left Bank\",IF($W$86<$B$16,\"Left Stream Bed\",IF($W$86<$B$17,\"Right Stream Bed\",IF($W$86<$B$18,\"Right Bank\",\"Right Floodplain\"))))))","v":"None"},{"$f":"IF($U$47=0,0,IF(OR($B$25=0,$B$25=180,$B$25=360),$E$22-ABS(($X$39-$W$47)/$M$20),IF(AND($U$38<=$U$39,$X$38>=$Y$38),ABS(($X$38-$W$47)/($AA$40*$M$17*$M$19)),IF(AND($U$38<=$U$39,$X$38<$Y$38),ABS($E$22-(ABS(($X$38-$W$47)/($AA$40*$M$17*$M$19)))),IF(AND($U$38>$U$39,$X$39>=$Y$39),ABS(($X$39-$W$47)/($AA$40*$M$17*$M$19)),IF(AND($U$38>=$U$39,$X$39<$Y$39),ABS($E$22-(ABS(($X$38-$W$47)/($AA$40*$M$17*$M$19))))))))))","v":0},{"$f":"IF($X$86=\"\",\"\",$U$39-(($X$39-$AE$8)/$AA$40))","v":""},{"$f":"IF($T$86=\"Partial\",$AE$12,\"\")","v":""},{"$f":"IF($X$86=\"\",\"\",IF($W$86<$B$14,(($W$86-$B$13)*$AB$31)+$C$13,IF($W$86<$B$15,(($W$86-$B$14)*$AB$32)+$C$14,IF($W$86<$B$16,(($W$86-$B$15)*$AB$33)+$C$15,IF($W$86<$B$17,(($W$86-$B$16)*$AB$34)+$C$16,IF($W$86<$B$18,(($W$86-$B$17)*$AB$35)+$C$17,IF($W$86<$B$19,(($W$86-$B$18)*$AB$36)+$C$18)))))))","v":""},{"$f":"IF($X$86=\"\",\"\",IF($X$86<=$Y$86,\"Yes\",\"No\"))","v":""},null,"Upper Face",{"$f":"IF($T$86=\"\",\"\",IF($X$41>$AE$8,\"Dry\",IF($T$86=\"Submerged\",\"Submerged\",\"Partial\")))","v":"Submerged"},{"$f":"IF($AE$86=\"\",\"\",$U$39-(($X$39-$AE$8)/$AB$40))","v":""},{"$f":"IF($AC$86=\"Partial\",$AE$12,\"\")","v":""},{"$f":"IF($AC$86=\"Submerged\",0,IF($AC$86=\"Dry\",$F$22,($X$39-$AE$8)/$M$19))","v":0},null,null,41,6.56,"Left Bank",46.820764624834666,96.695747302711737,46.812841096410864,94.695823456583398,96.641930319547114,0,0,0,"","",0,1.9461068629637168,1.9461068629637168,0,0,0,0,0,1.9461068629637168,0.1413622443621535,0,0,0.16,6.56,0,0,"",5.554290775674005,0.12931949548509247,0.16,0,0.16,6.56,""]
[null,null,null,{"$f":"IF(OR($B87=\"\",$C87=\"\"),\"\",(PI()*($B87^3)/6)-$E87)","v":""},{"$f":"IF($B87=\"\",\"\",$U94)","v":""},{"$f":"IF(OR($B87=\"\",$C87=\"\"),\"\",($D87*DUWRock)+($E87*(DUWRock-SWWater)))","v":""},{"$f":"IF(OR($B87=\"\",$C87=\"\"),\"\",$Q99)","v":""},{"$f":"IF(OR($B87=\"\",$C87=\"\"),\"\",$P99)","v":""},{"$f":"IF(OR($B87=\"\",$C87=\"\"),0,IF($A87=\"Behind\",0,IF(AND($A87=\"Deadman\",$P$85<=0),0,IF(AND($A87=\"Deadman\",$P$82>=$P$85),($F87-$G87)*($P$85/$P$82),$F87-$G87))))","v":0},{"$f":"IF(OR($B87=\"\",$C87=\"\"),0,IF($A87=\"Above\",0,IF($A87=\"Deadman\",($F87-$G87)-$I87,IF(AND($A87=\"Behind\",OR($W94=\"Left Stream Bed\",$W94=\"Right Stream Bed\")),(($F87-$G87)*$E$70)-$H87,(($F87-$G87)*$E$71)-$H87))))","v":0},{"$f":"'2-Constants'!$C$6","v":1.5},{"$f":"IF($J83=0,0,IF($P$85<=0,0,IF($P$82>=$P$85,-J$83*($P$85/$P$82),-$J83)))","v":0},{"$f":"-($J83+$L87)","v":0},null,"Actual Horizontal Resistance (lbf)",{"$f":"ABS($L$67+$L$68+(IF($L$69<0,$L$69,0))+$L$70)","v":354.16121558384077},null,null,"Centerline",{"$f":"IF(OR($E$22=\"\",$F$22=\"\",$F$25=\"\",$G$25=\"\"),\"\",IF($X$43<=$AE$12,\"Submerged\",IF($X$42>=$AE$12,\"Dry\",\"Partial\")))","v":"Submerged"},{"$f":"IF($X$87=\"\",\"None\",IF($W$87<$B$14,\"Left Floodplain\",IF($W$87<$B$15,\"Left Bank\",IF($W$87<$B$16,\"Left Stream Bed\",IF($W$87<$B$17,\"Right Stream Bed\",IF($W$87<$B$18,\"Right Bank\",\"Right Floodplain\"))))))","v":"None"},{"$f":"IF($U$47=0,0,IF(OR($B$25=0,$B$25=180,$B$25=360),$E$22-ABS(($X$39-$W$47)/$M$20),IF(AND($U$38<=$U$39,$X$38>=$Y$38),ABS(($X$38-$W$47)/($AA$40*$M$17*$M$19)),IF(AND($U$38<=$U$39,$X$38<$Y$38),ABS($E$22-(ABS(($X$38-$W$47)/($AA$40*$M$17*$M$19)))),IF(AND($U$38>$U$39,$X$39>=$Y$39),ABS(($X$39-$W$47)/($AA$40*$M$17*$M$19)),IF(AND($U$38>=$U$39,$X$39<$Y$39),ABS($E$22-(ABS(($X$38-$W$47)/($AA$40*$M$17*$M$19))))))))))","v":0},{"$f":"IF($X$87=\"\",\"\",$U$43-(($X$43-$AE$8)/$AA$40))","v":""},{"$f":"IF($T$87=\"Partial\",$AE$12,\"\")","v":""},{"$f":"IF($X$87=\"\",\"\",IF($W$87<$B$14,(($W$87-$B$13)*$AB$31)+$C$13,IF($W$87<$B$15,(($W$87-$B$14)*$AB$32)+$C$14,IF($W$87<$B$16,(($W$87-$B$15)*$AB$33)+$C$15,IF($W$87<$B$17,(($W$87-$B$16)*$AB$34)+$C$16,IF($W$87<$B$18,(($W$87-$B$17)*$AB$35)+$C$17,IF($W$87<$B$19,(($W$87-$B$18)*$AB$36)+$C$18)))))))","v":""},{"$f":"IF($X$87=\"\",\"\",IF($X$87<=$Y$87,\"Yes\",\"No\"))","v":""},null,"Lower Face",{"$f":"IF($T$88=\"\",\"\",IF($X$40>=$AE$8,\"Dry\",IF($X$38<=$AE$8,\"Submerged\",\"Partial\")))","v":"Submerged"},{"$f":"IF($AE$87=\"\",\"\",$U$38-(($X$38-$AE$8)/$AB$40))","v":""},{"$f":"IF($AC$87=\"Partial\",$AE$12,\"\")","v":""},{"$f":"IF($AC$87=\"Submerged\",0,IF($AC$87=\"Dry\",$F$22,($X$38-$AE$8)/$M$19))","v":0},null,null,42,6.72,"Left Bank",46.893400338942257,96.694351057031994,46.885476810518455,94.694427210903655,96.631692142701468,0,0,0,"","",0,1.937264931797813,1.937264931797813,0,0,0,0,0,1.937264931797813,0.1407199799223661,0,0,0.16,6.72,0,0,"",5.5556870213537479,0.12918422494162582,0.16,0,0.16,6.72,""]
[null,null,null,{"$f":"IF(OR($B88=\"\",$C88=\"\"),\"\",(PI()*($B88^3)/6)-$E88)","v":""},{"$f":"IF($B88=\"\",\"\",$U95)","v":""},{"$f":"IF(OR($B88=\"\",$C88=\"\"),\"\",($D88*DUWRock)+($E88*(DUWRock-SWWater)))","v":""},{"$f":"IF(OR($B88=\"\",$C88=\"\"),\"\",$Q100)","v":""},{"$f":"IF(OR($B88=\"\",$C88=\"\"),\"\",$P100)","v":""},{"$f":"IF(OR($B88=\"\",$C88=\"\"),0,IF($A88=\"Behind\",0,IF(AND($A88=\"Deadman\",$P$85<=0),0,IF(AND($A88=\"Deadman\",$P$82>=$P$85),($F88-$G88)*($P$85/$P$82),$F88-$G88))))","v":0},{"$f":"IF(OR($B88=\"\",$C88=\"\"),0,IF($A88=\"Above\",0,IF($A88=\"Deadman\",($F88-$G88)-$I88,IF(AND($A88=\"Behind\",OR($W95=\"Left Stream Bed\",$W95=\"Right Stream Bed\")),(($F88-$G88)*$E$70)-$H88,(($F88-$G88)*$E$71)-$H88))))","v":0},null,{"$f":"IF($J84=0,0,IF($P$85<=0,0,IF($P$82>=$P$85,-J$84*($P$85/$P$82),-$J84)))","v":0},{"$f":"-($J84+$L88)","v":0},null,"Extra needed Horizontal Resistance (lbf)",{"$f":"$P$86-$P$87","v":1086.7558075744419},null,null,"Bottom",{"$f":"IF(OR($E$22=\"\",$F$22=\"\",$F$25=\"\",$G$25=\"\"),\"\",IF($X$41<=$AE$12,\"Submerged\",IF($X$40>=$AE$12,\"Dry\",\"Partial\")))","v":"Submerged"},{"$f":"IF($X$88=\"\",\"None\",IF($W$88<$B$14,\"Left Floodplain\",IF($W$88<$B$15,\"Left Bank\",IF($W$88<$B$16,\"Left Stream Bed\",IF($W$88<$B$17,\"Right Stream Bed\",IF($W$88<$B$18,\"Right Bank\",\"Right Floodplain\"))))))","v":"None"},{"$f":"IF($U$47=0,0,IF(OR($B$25=0,$B$25=180,$B$25=360),$E$22-ABS(($X$39-$W$47)/$M$20),IF(AND($U$38<=$U$39,$X$38>=$Y$38),ABS(($X$38-$W$47)/($AA$40*$M$17*$M$19)),IF(AND($U$38<=$U$39,$X$38<$Y$38),ABS($E$22-(ABS(($X$38-$W$47)/($AA$40*$M$17*$M$19)))),IF(AND($U$38>$U$39,$X$39>=$Y$39),ABS(($X$39-$W$47)/($AA$40*$M$17*$M$19)),IF(AND($U$38>=$U$39,$X$39<$Y$39),ABS($E$22-(ABS(($X$38-$W$47)/($AA$40*$M$17*$M$19))))))))))","v":0},{"$f":"IF($X$88=\"\",\"\",$U$41-(($X$41-$AE$8)/$AA$40))","v":""},{"$f":"IF($T$88=\"Partial\",$AE$12,\"\")","v":""},{"$f":"IF($X$88=\"\",\"\",IF($W$88<$B$14,(($W$88-$B$13)*$AB$31)+$C$13,IF($W$88<$B$15,(($W$88-$B$14)*$AB$32)+$C$14,IF($W$88<$B$16,(($W$88-$B$15)*$AB$33)+$C$15,IF($W$88<$B$17,(($W$88-$B$16)*$AB$34)+$C$16,IF($W$88<$B$18,(($W$88-$B$17)*$AB$35)+$C$17,IF($W$88<$B$19,(($W$88-$B$18)*$AB$36)+$C$18)))))))","v":""},{"$f":"IF($X$88=\"\",\"\",IF($X$88<=$Y$88,\"Yes\",\"No\"))","v":""},null,null,null,null,null,null,null,null,43,6.88,"Left Bank",46.966036053049841,96.692954811352251,46.958112524626038,94.693030965223912,96.621453965855835,0,0,0,"","",0,1.9284230006319234,1.9284230006319234,0,0,0,0,0,1.9284230006319234,0.14007771548257969,0,0,0.16,6.88,0,0,"",5.5570832670334909,0.12904909589360694,0.16,0,0.16,6.88,""]
[null,null,null,{"$f":"IF(OR($B89=\"\",$C89=\"\"),\"\",(PI()*($B89^3)/6)-$E89)","v":""},{"$f":"IF($B89=\"\",\"\",$U96)","v":""},{"$f":"IF(OR($B89=\"\",$C89=\"\"),\"\",($D89*DUWRock)+($E89*(DUWRock-SWWater)))","v":""},{"$f":"IF(OR($B89=\"\",$C89=\"\"),\"\",$Q101)","v":""},"",{"$f":"IF(OR($B89=\"\",$C89=\"\"),0,IF($A89=\"Behind\",0,IF(AND($A89=\"Deadman\",$P$85<=0),0,IF(AND($A89=\"Deadman\",$P$82>=$P$85),($F89-$G89)*($P$85/$P$82),$F89-$G89))))","v":0},{"$f":"IF(OR($B89=\"\",$C89=\"\"),0,IF($A89=\"Above\",0,IF($A89=\"Deadman\",($F89-$G89)-$I89,IF(AND($A89=\"Behind\",OR($W96=\"Left Stream Bed\",$W96=\"Right Stream Bed\")),(($F89-$G89)*$E$70)-$H89,(($F89-$G89)*$E$71)-$H89))))","v":0},{"$f":"I78","v":0.50852935348030381},{"$f":"-$I87","v":0},{"$f":"IF($A87=\"Deadman\",-$J87,0)","v":0},null,null,null,null,null,null,null,null,null,null,null,null,null,null,null,null,null,null,null,null,null,44,7.04,"Left Bank",47.038671767157432,96.691558565672509,47.030748238733629,94.691634719544169,96.611215789010188,0,0,0,"","",0,1.9195810694660196,1.9195810694660196,0,0,0,0,0,1.9195810694660196,0.13943545104279226,0,0,0.16,7.04,0,0,"",5.5584795127132338,0.12891410819302906,0.16,0,0.16,7.04,""]
[null,null,null,null,null,null,null,null,null,null,{"$f":"'2-Constants'!$C$7","v":1.5},{"$f":"-$I88","v":0},{"$f":"IF($A88=\"Deadman\",-$J88,0)","v":0},null,null,null,null,null,null,null,null,null,null,null,null,null,null,null,null,null,null,null,null,null,45,7.2,"Left Bank",47.111307481265015,96.690162319992766,47.103383952841213,94.690238473864426,96.600977612164542,0,0,0,"","",0,1.9107391383001158,1.9107391383001158,0,0,0,0,0,1.9107391383001158,0.13879318660300485,0,0,0.16,7.2,0,0,"",5.5598757583929768,0.12877926169204026,0.16,0,0.16,7.2,""]
[{"$f":"IF($A$6=\"\",\"\",$A$6)","v":"Sample1"},{"$f":"IF($A$6=\"\",\"\",$B$6)","v":"Flow Deflection"},null,{"$f":"IF(OR($B$9=\"N/A\",$B$9=\"\"),\"\",$B$9)","v":"Stacked"},{"$f":"IF($D$48=\"\",\"\",\"Log ID\")","v":"Log ID"},{"$f":"IF($D$48=\"\",\"\",$C$9)","v":"Top#2"},null,null,null,"Page 3",null,{"$f":"-$I89","v":0},{"$f":"IF($A89=\"Deadman\",-$J89,0)","v":0},null,null,null,null,null,null,null,"A = [(R - ddry)*SQRT(2Rddry - ddry2)] - R2 arccos [(R - ddry)/R]",null,null,null,null,null,null,"Boulder #1",null,"Boulder #2",null,"Boulder #3",null,null,46,7.36,"Left Bank",47.183943195372606,96.688766074313023,47.176019666948804,94.688842228184683,96.590739435318909,0,0,0,"","",0,1.9018972071342262,1.9018972071342262,0,0,0,0,0,1.9018972071342262,0.13815092216321848,0,0,0.16,7.36,0,0,"",5.5612720040727197,0.12864455624294316,0.16,0,0.16,7.36,""]
["Interaction Forces with Adjacent Logs",null,null,null,null,null,null,null,null,null,null,{"$f":"$L$87+$L$88+$L$89+$L$90+$L$91","v":0},{"$f":"$M$87+$M$88+$M$89+$M$90+$M$91","v":0},"←Flex anchors","Ballast Boulder Calculations",null,null,null,null,null,null,null,null,null,null,null,null,"xTS (ft)","yTS (ft)","xTS (ft)","yTS (ft)","xTS (ft)","yTS (ft)",null,47,7.52,"Left Bank",47.25657890948019,96.68736982863328,47.248655381056388,94.68744598250494,96.580501258473262,0,0,0,"","",0,1.8930552759683223,1.8930552759683223,0,0,0,0,0,1.8930552759683223,0.13750865772343104,0,0,0.16,7.52,0,0,"",5.5626682497524627,0.12850999169819505,0.16,0,0.16,7.52,""]
[null,null,null,null,null,null,"Applied Forces from other Logs",null,null,null,{"$f":"IF(OR($B$95<>\"\",$B$96<>\"\",$B$97<>\"\",$B$98<>\"\"),\"NOTE -- The page is not formatted to print the Interaction Forces\",\"\")","v":""},null,null,null,null,"xr,bot (ft)","yr,bot (ft)","yTS,bot (ft)","ysoil (ft)","dr,dry (ft)","Vr,wet (ft3)","Ar↑WSE (ft2)","Zone","dr↓Thw (ft)","Ar↓Thw (ft2)","APr (ft2)","Point 1",{"$f":"IF($P$94=\"\",0,$P$94)","v":0},{"$f":"IF($Q$94=\"\",$C$13,$Q$94)","v":99.18},{"$f":"IF($P$95=\"\",0,$P$95)","v":0},{"$f":"IF($Q$95=\"\",$C$13,$Q$95)","v":99.18},{"$f":"IF($P$96=\"\",0,$P$96)","v":0},{"$f":"IF($Q$96=\"\",$C$13,$Q$96)","v":99.18},null,48,7.68,"Left Bank",47.329214623587781,96.685973582953537,47.321291095163978,94.686049736825197,96.57026308162763,0,0,0,"","",0,1.8842133448024327,1.8842133448024327,0,0,0,0,0,1.8842133448024327,0.13686639328364467,0,0,0.16,7.68,0,0,"",5.5640644954322056,0.12837556791040716,0.16,0,0.16,7.68,""]
["Log ID","Position","Link","cWI (ft)","FW,V (lbf)","FW,H (lbf)","FW,V (lbf)",null,"FW,H (lbf)",null,null,"Formatting",null,null,"Boulder 1",{"$f":"IF(OR($F$25=\"\",$C87=\"\"),\"\",$AE$49-(($C87*$M$19)*$M$17))","v":""},{"$f":"IF(OR($G$25=\"\",$C87=\"\"),\"\",IF($A87=\"Behind\",MIN($R94,$S94),IF($A87=\"Deadman\",(MIN($R94,$S94))-($F$22+1),$R94+$F$22)))","v":""},{"$f":"IF($P94=\"\",\"\",($AF$49+(($P94-$AE$49)*$AA$40))-($F$22/2))","v":""},{"$f":"IF($P94=\"\",\"\",IF($P94<$B$14,(($P94-$B$13)*$AB$31)+$C$13,IF($P94<$B$15,(($P94-$B$14)*$AB$32)+$C$14,IF($P94<$B$16,(($P94-$B$15)*$AB$33)+$C$15,IF($P94<$B$17,(($P94-$B$16)*$AB$34)+$C$16,IF($P94<$B$18,(($P94-$B$17)*$AB$35)+$C$17,IF($P94<$B$19,(($P94-$B$18)*$AB$36)+$C$18)))))))","v":""},{"$f":"IF($Q94=\"\",\"\",IF(($Q94+$B87-$AE$8)>=$B87,$B87,IF(($Q94+$B87)>$AE$8,($Q94+$B87)-$AE$8,0)))","v":""},{"$f":"IF($T94=\"\",\"\",IF($T94>=$B87,0,(PI()/3)*(($B87-$T94)^2)*((1.5*$B87)-($B87-$T94))))","v":""},{"$f":"IF($C87=\"\",\"\",IF($A87=\"Deadman\",0,IF($Q94>=$AE$8,PI()*(($B87/2)^2),((($B87/2)^2)*ACOS((($B87/2)-$T94)/($B87/2)))-((($B87/2)-$T94)*SQRT(2*($B87/2)*$T94-($T94^2))))))","v":""},{"$f":"IF($P94=\"\",\"\",IF(OR($C$19=\"\",$F$25=\"\",$G$25=\"\"),\"None\",IF($P94<$B$14,\"Left Floodplain\",IF($P94<$B$15,\"Left Bank\",IF($P94<$B$16,\"Left Stream Bed\",IF($P94<$B$17,\"Right Stream Bed\",IF($P94<$B$18,\"Right Bank\",\"Right Floodplain\")))))))","v":""},{"$f":"IF($Q94=\"\",\"\",IF(($Q94+$B87)<=$S94,$B87,IF($Q94>=$S94,0,$S94-$Q94)))","v":""},{"$f":"IF($C87=\"\",\"\",IF($A87=\"Deadman\",PI()*(($B87/2)^2),IF($Q94>$S94,0,((($B87/2)^2)*ACOS((($B87/2)-$X94)/($B87/2)))-((($B87/2)-$X94)*SQRT(2*($B87/2)*$X94-($X94^2))))))","v":""},{"$f":"IF($C87=\"\",\"\",IF(((PI()*(($B87/2)^2))-$V94-$Y94)<0,0,(PI()*(($B87/2)^2))-$V94-$Y94))","v":""},"Point 2",{"$f":"IF($AB$93=\"\",0,$AB$93-($B$87/4))","v":0},{"$f":"IF($AC$93=\"\",$C$13,$AC$93+($B$87/25))","v":99.18},{"$f":"IF($AD$93=\"\",0,$AD$93-($B$88/4))","v":0},{"$f":"IF($AE$93=\"\",$C$13,$AE$93+($B$88/25))","v":99.18},{"$f":"IF($AF$93=\"\",0,$AF$93-($B$89/4))","v":0},{"$f":"IF($AG$93=\"\",$C$13,$AG$93+($B$89/25))","v":99.18},null,49,7.84,"Left Bank",47.401850337695365,96.684577337273794,47.393926809271562,94.684653491145454,96.560024904781983,0,0,0,"","",0,1.8753714136365289,1.8753714136365289,0,0,0,0,0,1.8753714136365289,0.13622412884385726,0,0,0.16,7.84,0,0,"",5.5654607411119486,0.12824128473234531,0.16,0,0.16,7.84,""]
[null,null,null,null,null,null,{"$f":"IF(OR($E$95=\"\",$E$95=0),0,IF($C$95=\"Pinned\",ABS($E$95),IF(AND($C$95=\"Gravity\",$B$95=\"Below\",$E$95>=0),ABS($E$95),IF(AND($C$95=\"Gravity\",$B$95=\"Above\",$E$95<=0),ABS($E$95),0))))","v":0},{"$f":"IF($L$95=0,\"\",IF($L$95>0,CHAR(233),CHAR(234)))","v":""},{"$f":"IF(OR($F$95=\"\",$F$95=0),0,IF($C$95=\"Pinned\",ABS($F$95),IF(AND($C$95=\"Gravity\",$B$95=\"Behind\",$F$95<0),ABS($F$95),IF(AND($C$95=\"Gravity\",$B$95=\"In front\",$F$95>0),ABS($F$95),0))))","v":0},{"$f":"IF($M$95=0,\"\",IF($M$95>=0,CHAR(232),CHAR(231)))","v":""},null,{"$f":"IF($G$95=0,0,$E$95)","v":0},{"$f":"IF($I$95=0,0,$F$95)","v":0},null,"Boulder 2",{"$f":"IF(OR($F$25=\"\",$C88=\"\"),\"\",$AE$49-(($C88*$M$19)*$M$17))","v":""},{"$f":"IF(OR($G$25=\"\",$C88=\"\"),\"\",IF($A88=\"Behind\",MIN($R95,$S95),IF($A88=\"Deadman\",(MIN($R95,$S95))-($F$22+1),$R95+$F$22)))","v":""},{"$f":"IF($P95=\"\",\"\",($AF$49+(($P95-$AE$49)*$AA$40))-($F$22/2))","v":""},{"$f":"IF($P95=\"\",\"\",IF($P95<$B$14,(($P95-$B$13)*$AB$31)+$C$13,IF($P95<$B$15,(($P95-$B$14)*$AB$32)+$C$14,IF($P95<$B$16,(($P95-$B$15)*$AB$33)+$C$15,IF($P95<$B$17,(($P95-$B$16)*$AB$34)+$C$16,IF($P95<$B$18,(($P95-$B$17)*$AB$35)+$C$17,IF($P95<$B$19,(($P95-$B$18)*$AB$36)+$C$18)))))))","v":""},{"$f":"IF($Q95=\"\",\"\",IF(($Q95+$B88-$AE$8)>=$B88,$B88,IF(($Q95+$B88)>$AE$8,($Q95+$B88)-$AE$8,0)))","v":""},{"$f":"IF($T95=\"\",\"\",IF($T95>=$B88,0,(PI()/3)*(($B88-$T95)^2)*((1.5*$B88)-($B88-$T95))))","v":""},{"$f":"IF($C88=\"\",\"\",IF($A88=\"Deadman\",0,IF($Q95>=$AE$8,PI()*(($B88/2)^2),((($B88/2)^2)*ACOS((($B88/2)-$T95)/($B88/2)))-((($B88/2)-$T95)*SQRT(2*($B88/2)*$T95-($T95^2))))))","v":""},{"$f":"IF($P95=\"\",\"\",IF(OR($C$19=\"\",$F$25=\"\",$G$25=\"\"),\"None\",IF($P95<$B$14,\"Left Floodplain\",IF($P95<$B$15,\"Left Bank\",IF($P95<$B$16,\"Left Stream Bed\",IF($P95<$B$17,\"Right Stream Bed\",IF($P95<$B$18,\"Right Bank\",\"Right Floodplain\")))))))","v":""},{"$f":"IF($Q95=\"\",\"\",IF(($Q95+$B88)<=$S95,$B88,IF($Q95>=$S95,0,$S95-$Q95)))","v":""},{"$f":"IF($C88=\"\",\"\",IF($A88=\"Deadman\",PI()*(($B88/2)^2),IF($Q95>$S95,0,((($B88/2)^2)*ACOS((($B88/2)-$X95)/($B88/2)))-((($B88/2)-$X95)*SQRT(2*($B88/2)*$X95-($X95^2))))))","v":""},{"$f":"IF($C88=\"\",\"\",IF(((PI()*(($B88/2)^2))-$V95-$Y95)<0,0,(PI()*(($B88/2)^2))-$V95-$Y95))","v":""},"Point 3",{"$f":"IF($AB$93=\"\",0,$AB$93-($B$87/2))","v":0},{"$f":"IF($AC$93=\"\",$C$13,$AC$93+($B$87/2))","v":99.18},{"$f":"IF($AD$93=\"\",0,$AD$93-($B$88/2))","v":0},{"$f":"IF($AE$93=\"\",$C$13,$AE$93+($B$88/2))","v":99.18},{"$f":"IF($AF$93=\"\",0,$AF$93-($B$89/2))","v":0},{"$f":"IF($AG$93=\"\",$C$13,$AG$93+($B$89/2))","v":99.18},null,50,8,"Left Bank",47.474486051802955,96.683181091594051,47.466562523379153,94.683257245465711,96.54978672793635,0,0,0,"","",0,1.8665294824706393,1.8665294824706393,0,0,0,0,0,1.8665294824706393,0.13558186440407088,0,0,0.16,8,0,0,"",5.5668569867916915,0.12810714201692913,0.16,0,0.16,8,""]
[null,null,null,null,null,null,{"$f":"IF(OR($E$96=\"\",$E$96=0),0,IF($C$96=\"Pinned\",ABS($E$96),IF(AND($C$96=\"Gravity\",$B$96=\"Below\",$E$96>=0),ABS($E$96),IF(AND($C$96=\"Gravity\",$B$96=\"Above\",$E$96<=0),ABS($E$96),0))))","v":0},{"$f":"IF($L$96=0,\"\",IF($L$96>0,CHAR(233),CHAR(234)))","v":""},{"$f":"IF(OR($F$96=\"\",$F$96=0),0,IF($C$96=\"Pinned\",ABS($F$96),IF(AND($C$96=\"Gravity\",$B$96=\"Behind\",$F$96<0),ABS($F$96),IF(AND($C$96=\"Gravity\",$B$96=\"In front\",$F$96>0),ABS($F$96),0))))","v":0},{"$f":"IF($M$96=0,\"\",IF($M$96>=0,CHAR(232),CHAR(231)))","v":""},null,{"$f":"IF($G$96=0,0,$E$96)","v":0},{"$f":"IF($I$96=0,0,$F$96)","v":0},null,"Boulder 3",{"$f":"IF(OR($F$25=\"\",$C89=\"\"),\"\",$AE$49-(($C89*$M$19)*$M$17))","v":""},{"$f":"IF(OR($G$25=\"\",$C89=\"\"),\"\",IF($A89=\"Behind\",MIN($R96,$S96),IF($A89=\"Deadman\",(MIN($R96,$S96))-($F$22+1),$R96+$F$22)))","v":""},{"$f":"IF($P96=\"\",\"\",($AF$49+(($P96-$AE$49)*$AA$40))-($F$22/2))","v":""},{"$f":"IF($P96=\"\",\"\",IF($P96<$B$14,(($P96-$B$13)*$AB$31)+$C$13,IF($P96<$B$15,(($P96-$B$14)*$AB$32)+$C$14,IF($P96<$B$16,(($P96-$B$15)*$AB$33)+$C$15,IF($P96<$B$17,(($P96-$B$16)*$AB$34)+$C$16,IF($P96<$B$18,(($P96-$B$17)*$AB$35)+$C$17,IF($P96<$B$19,(($P96-$B$18)*$AB$36)+$C$18)))))))","v":""},{"$f":"IF($Q96=\"\",\"\",IF(($Q96+$B89-$AE$8)>=$B89,$B89,IF(($Q96+$B89)>$AE$8,($Q96+$B89)-$AE$8,0)))","v":""},{"$f":"IF($T96=\"\",\"\",IF($T96>=$B89,0,(PI()/3)*(($B89-$T96)^2)*((1.5*$B89)-($B89-$T96))))","v":""},{"$f":"IF($C89=\"\",\"\",IF($A89=\"Deadman\",0,IF($Q96>=$AE$8,PI()*(($B89/2)^2),((($B89/2)^2)*ACOS((($B89/2)-$T96)/($B89/2)))-((($B89/2)-$T96)*SQRT(2*($B89/2)*$T96-($T96^2))))))","v":""},{"$f":"IF($P96=\"\",\"\",IF(OR($C$19=\"\",$F$25=\"\",$G$25=\"\"),\"None\",IF($P96<$B$14,\"Left Floodplain\",IF($P96<$B$15,\"Left Bank\",IF($P96<$B$16,\"Left Stream Bed\",IF($P96<$B$17,\"Right Stream Bed\",IF($P96<$B$18,\"Right Bank\",\"Right Floodplain\")))))))","v":""},{"$f":"IF($Q96=\"\",\"\",IF(($Q96+$B89)<=$S96,$B89,IF($Q96>=$S96,0,$S96-$Q96)))","v":""},{"$f":"IF($C89=\"\",\"\",IF($A89=\"Deadman\",PI()*(($B89/2)^2),IF($Q96>$S96,0,((($B89/2)^2)*ACOS((($B89/2)-$X96)/($B89/2)))-((($B89/2)-$X96)*SQRT(2*($B89/2)*$X96-($X96^2))))))","v":""},{"$f":"IF($C89=\"\",\"\",IF(((PI()*(($B89/2)^2))-$V96-$Y96)<0,0,(PI()*(($B89/2)^2))-$V96-$Y96))","v":""},"Point 4",{"$f":"IF($AB$93=\"\",0,$AB$94)","v":0},{"$f":"IF($AC$97=\"\",$C$13,$AC$97-($B$87/25))","v":99.18},{"$f":"IF($AD$93=\"\",0,$AD$94)","v":0},{"$f":"IF($AE$97=\"\",$C$13,$AE$97-($B$88/25))","v":99.18},{"$f":"IF($AF$93=\"\",0,$AF$94)","v":0},{"$f":"IF($AG$97=\"\",$C$13,$AG$97-($B$89/25))","v":99.18},null,51,8.16,"Left Bank",47.547121765910539,96.681784845914308,47.539198237486737,94.681860999785968,96.539548551090704,0,0,0,"","",0,1.8576875513047355,1.8576875513047355,0,0,0,0,0,1.8576875513047355,0.13493959996428345,0,0,0.16,8.16,0,0,"",5.5682532324714344,0.12797313961723228,0.16,0,0.16,8.16,""]
[null,null,null,null,null,null,{"$f":"IF(OR($E$97=\"\",$E$97=0),0,IF($C$97=\"Pinned\",ABS($E$97),IF(AND($C$97=\"Gravity\",$B$97=\"Below\",$E$97>=0),ABS($E$97),IF(AND($C$97=\"Gravity\",$B$97=\"Above\",$E$97<=0),ABS($E$97),0))))","v":0},{"$f":"IF($L$97=0,\"\",IF($L$97>0,CHAR(233),CHAR(234)))","v":""},{"$f":"IF(OR($F$97=\"\",$F$97=0),0,IF($C$97=\"Pinned\",ABS($F$97),IF(AND($C$97=\"Gravity\",$B$97=\"Behind\",$F$97<0),ABS($F$97),IF(AND($C$97=\"Gravity\",$B$97=\"In front\",$F$97>0),ABS($F$97),0))))","v":0},{"$f":"IF($M$97=0,\"\",IF($M$97>=0,CHAR(232),CHAR(231)))","v":""},null,{"$f":"IF($G$97=0,0,$E$97)","v":0},{"$f":"IF($I$97=0,0,$F$97)","v":0},null,null,null,null,null,null,null,null,null,null,null,null,null,"Point 5",{"$f":"IF($AB$93=\"\",0,$AB$93)","v":0},{"$f":"IF($AC$93=\"\",$C$13,$AC$93+$B$87)","v":99.18},{"$f":"IF($AD$93=\"\",0,$AD$93)","v":0},{"$f":"IF($AE$93=\"\",$C$13,$AE$93+$B$88)","v":99.18},{"$f":"IF($AF$93=\"\",0,$AF$93)","v":0},{"$f":"IF($AG$93=\"\",$C$13,$AG$93+$B$89)","v":99.18},null,52,8.32,"Left Bank",47.61975748001813,96.680388600234565,47.611833951594328,94.680464754106225,96.529310374245057,0,0,0,"","",0,1.8488456201388317,1.8488456201388317,0,0,0,0,0,1.8488456201388317,0.13429733552449605,0,0,0.16,8.32,0,0,"",5.5696494781511774,0.12783927738648174,0.16,0,0.16,8.32,""]
[null,null,null,null,null,null,{"$f":"IF(OR($E$98=\"\",$E$98=0),0,IF($C$98=\"Pinned\",ABS($E$98),IF(AND($C$98=\"Gravity\",$B$98=\"Below\",$E$98>=0),ABS($E$98),IF(AND($C$98=\"Gravity\",$B$98=\"Above\",$E$98<=0),ABS($E$98),0))))","v":0},{"$f":"IF($L$98=0,\"\",IF($L$98>0,CHAR(233),CHAR(234)))","v":""},{"$f":"IF(OR($F$98=\"\",$F$98=0),0,IF($C$98=\"Pinned\",ABS($F$98),IF(AND($C$98=\"Gravity\",$B$98=\"Behind\",$F$98<0),ABS($F$98),IF(AND($C$98=\"Gravity\",$B$98=\"In front\",$F$98>0),ABS($F$98),0))))","v":0},{"$f":"IF($M$98=0,\"\",IF($M$98>=0,CHAR(232),CHAR(231)))","v":""},null,{"$f":"IF($G$98=0,0,$E$98)","v":0},{"$f":"IF($I$98=0,0,$F$98)","v":0},null,null,"FD,r (lbf)","FL,r (lbf)",null,null,null,"Soil Anchor Zone Calculation",null,null,null,null,null,"Point 6",{"$f":"IF($AB$93=\"\",0,$AB$93+($B$87/4))","v":0},{"$f":"IF($AC$93=\"\",$C$13,$AC$96)","v":99.18},{"$f":"IF($AD$93=\"\",\"\",$AD$93+($B$88/4))","v":0},{"$f":"IF($AE$93=\"\",$C$13,$AE$96)","v":99.18},{"$f":"IF($AF$93=\"\",0,$AF$93+($B$89/4))","v":0},{"$f":"IF($AG$93=\"\",$C$13,$AG$96)","v":99.18},null,53,8.48,"Left Bank",47.692393194125714,96.678992354554822,47.684469665701911,94.679068508426482,96.519072197399424,0,0,0,"","",0,1.8400036889729421,1.8400036889729421,0,0,0,0,0,1.8400036889729421,0.13365507108470967,0,0,0.16,8.48,0,0,"",5.5710457238309203,0.12770555517805834,0.16,0,0.16,8.48,""]
[null,null,null,null,null,null,null,null,null,null,null,{"$f":"$L$95+$L$96+$L$97+$L$98","v":0},{"$f":"$M$95+$M$96+$M$97+$M$98","v":0},null,"Boulder 1",{"$f":"IF(OR($F$25=\"\",$C87=\"\"),\"\",IF($A87=\"Behind\",0.5*CDrock*$Z94*SWWater*($J$6^2)/(2*g),CDrock*$Z94*SWWater*($J$6^2)/(2*g)))","v":""},{"$f":"IF(OR($F$25=\"\",$C87=\"\"),\"\",IF($A87=\"Behind\",0.5*CLrock*$Z94*SWWater*(($J$6^2)/(2*g)),CLrock*$Z94*SWWater*(($J$6^2)/(2*g))))","v":""},null,null,null,null,"xr,bot (ft)","Zone",null,null,null,"Point 7",{"$f":"IF($AB$93=\"\",0,$AB$93+($B$87/2))","v":0},{"$f":"IF($AC$93=\"\",$C$13,$AC$95)","v":99.18},{"$f":"IF($AD$93=\"\",0,$AD$93+($B$88/2))","v":0},{"$f":"IF($AE$93=\"\",$C$13,$AE$95)","v":99.18},{"$f":"IF($AF$93=\"\",\"\",$AF$93+($B$89/2))","v":0},{"$f":"IF($AG$93=\"\",$C$13,$AG$95)","v":99.18},null,54,8.64,"Left Bank",47.765028908233305,96.677596108875079,47.757105379809502,94.677672262746739,96.508834020553778,0,0,0,"","",0,1.8311617578070383,1.8311617578070383,0,0,0,0,0,1.8311617578070383,0.13301280664492224,0,0,0.16,8.64,0,0,"",5.5724419695106633,0.12757197284549618,0.16,0,0.16,8.64,""]
[null,null,null,null,null,null,null,null,null,null,null,null,null,null,"Boulder 2",{"$f":"IF(OR($F$25=\"\",$C88=\"\"),\"\",IF($A88=\"Behind\",0.5*CDrock*$Z95*SWWater*($J$6^2)/(2*g),CDrock*$Z95*SWWater*($J$6^2)/(2*g)))","v":""},{"$f":"IF(OR($F$25=\"\",$C88=\"\"),\"\",IF($A88=\"Behind\",0.5*CLrock*$Z95*SWWater*(($J$6^2)/(2*g)),CLrock*$Z95*SWWater*(($J$6^2)/(2*g))))","v":""},null,null,null,"Anchor 1",{"$f":"IF(OR($F$25=\"\",$H83=\"\"),\"\",$AE$49-(($H83*$M$19)*$M$17))","v":""},{"$f":"IF($V100=\"\",\"\",IF(OR($C$19=\"\",$F$25=\"\",$G$25=\"\"),\"None\",IF($V100<$B$14,\"Bank\",IF($V100<$B$15,\"Bank\",IF($V100<$B$16,\"Bed\",IF($V100<$B$17,\"Bed\",IF($V100<$B$18,\"Bank\",\"Bank\")))))))","v":""},null,null,null,"Point 8",{"$f":"IF($AB$93=\"\",0,$AB$98)","v":0},{"$f":"IF($AC$93=\"\",$C$13,$AC$94)","v":99.18},{"$f":"IF($AD$93=\"\",0,$AD$98)","v":0},{"$f":"IF($AE$93=\"\",$C$13,$AE$94)","v":99.18},{"$f":"IF($AF$93=\"\",0,$AF$98)","v":0},{"$f":"IF($AG$93=\"\",$C$13,$AG$94)","v":99.18},null,55,8.8000000000000007,"Left Bank",47.837664622340895,96.676199863195336,47.829741093917093,94.676276017066996,96.498595843708145,0,0,0,"","",0,1.8223198266411487,1.8223198266411487,0,0,0,0,0,1.8223198266411487,0.13237054220513586,0,0,0.16,8.8000000000000007,0,0,"",5.5738382151904062,0.12743853024248258,0.16,0,0.16,8.8000000000000007,""]
[null,null,null,null,null,null,null,null,null,null,null,null,null,null,"Boulder 3",{"$f":"IF(OR($F$25=\"\",$C89=\"\"),\"\",IF($A89=\"Behind\",0.5*CDrock*$Z96*SWWater*($J$6^2)/(2*g),CDrock*$Z96*SWWater*($J$6^2)/(2*g)))","v":""},{"$f":"IF(OR($F$25=\"\",$C89=\"\"),\"\",IF($A89=\"Behind\",0.5*CLrock*$Z96*SWWater*(($J$6^2)/(2*g)),CLrock*$Z96*SWWater*(($J$6^2)/(2*g))))","v":""},null,null,null,"Anchor 2",{"$f":"IF(OR($F$25=\"\",$H84=\"\"),\"\",$AE$49-(($H84*$M$19)*$M$17))","v":""},{"$f":"IF($V101=\"\",\"\",IF(OR($C$19=\"\",$F$25=\"\",$G$25=\"\"),\"None\",IF($V101<$B$14,\"Bank\",IF($V101<$B$15,\"Bank\",IF($V101<$B$16,\"Bed\",IF($V101<$B$17,\"Bed\",IF($V101<$B$18,\"Bank\",\"Bank\")))))))","v":""},null,null,null,"Point 9",{"$f":"IF($AB$93=\"\",0,$AB$93)","v":0},{"$f":"IF($AC$93=\"\",$C$13,$AC$93)","v":99.18},{"$f":"IF($AD$93=\"\",0,$AD$93)","v":0},{"$f":"IF($AE$93=\"\",$C$13,$AE$93)","v":99.18},{"$f":"IF($AF$93=\"\",0,$AF$93)","v":0},{"$f":"IF($AG$93=\"\",$C$13,$AG$93)","v":99.18},null,56,8.9600000000000009,"Left Bank",47.910300336448479,96.674803617515593,47.902376808024677,94.674879771387253,96.488357666862498,0,0,0,"","",0,1.8134778954752448,1.8134778954752448,0,0,0,0,0,1.8134778954752448,0.13172827776534846,0,0,0.16,8.9600000000000009,0,0,"",5.5752344608701492,0.12730522722285798,0.16,0,0.16,8.9600000000000009,""]
[null,null,null,null,null,null,null,null,null,null,null,null,null,null,null,null,null,null,null,null,null,null,null,null,null,null,null,null,null,null,null,null,null,null,57,9.1199999999999992,"Left Bank",47.982936050556063,96.67340737183585,47.975012522132261,94.67348352570751,96.478119490016852,0,0,0,"","",0,1.804635964309341,1.804635964309341,0,0,0,0,0,1.804635964309341,0.13108601332556102,0,0,0.16,9.1199999999999992,0,0,"",5.5766307065498921,0.12717206364061542,0.16,0,0.16,9.1199999999999992,""]
[null,null,null,null,null,null,null,null,null,null,null,null,null,null,null,null,null,null,null,null,null,null,null,null,null,null,null,"Anchor #1",null,null,null,"Soil Ballast #1",null,null,58,9.2799999999999994,"Left Bank",48.055571764663654,96.672011126156107,48.047648236239851,94.672087280027768,96.467881313171219,0,0,0,"","",0,1.7957940331434514,1.7957940331434514,0,0,0,0,0,1.7957940331434514,0.13044374888577465,0,0,0.16,9.2799999999999994,0,0,"",5.5780269522296351,0.12703903934990099,0.16,0,0.16,9.2799999999999994,""]
[null,null,null,null,null,null,null,null,null,null,null,null,null,null,null,null,null,null,null,null,null,null,null,null,null,null,null,"xTS (ft)","yTS (ft)",null,null,"xTS (ft)","yTS (ft)",null,59,9.44,"Left Bank",48.128207478771238,96.670614880476364,48.120283950347435,94.670691034348025,96.457643136325572,0,0,0,"","",0,1.7869521019775476,1.7869521019775476,0,0,0,0,0,1.7869521019775476,0.12980148444598724,0,0,0.16,9.44,0,0,"",5.579423197909378,0.12690615420501317,0.16,0,0.16,9.44,""]
[null,null,null,null,null,null,null,null,null,null,null,null,null,null,null,null,null,null,null,null,null,null,null,null,null,null,"Point 1",{"$f":"IF(OR($F$25=\"\",$H83=\"\"),0,$AE$49-(($H83*$M$19)*$M$17))","v":0},{"$f":"IF(OR($AB105=\"\",$AB$105=0),$C$13,($AF$49+(($AB105-$AE$49)*$AA$40))-($F$22/2))","v":99.18},null,"Point 1",{"$f":"IF(OR($F$25=\"\",$C83=\"\"),0,($AE$49-(($C83*$M$19)*$M$17))+(ABS(2*$M$17*$M$19)))","v":0},{"$f":"IF(OR($AF105=\"\",$AF$105=0),$C$13,($AF$49+(($AF105-$AE$49)*$AA$40))+($F$22/2))","v":99.18},null,60,9.6,"Left Bank",48.200843192878828,96.669218634796621,48.192919664455026,94.669294788668282,96.44740495947994,0,0,0,"","",0,1.778110170811658,1.778110170811658,0,0,0,0,0,1.778110170811658,0.12915922000620086,0,0,0.16,9.6,0,0,"",5.580819443589121,0.12677340806040291,0.16,0,0.16,9.6,""]
[null,null,null,null,null,null,null,null,null,null,null,null,null,null,null,null,null,null,null,null,null,null,null,null,null,null,"Point 2",{"$f":"IF($AB105=\"\",0,$AB105)","v":0},{"$f":"IF(OR($AC105=\"\",$AB$105=0),$C$13,$AC105-4)","v":99.18},null,"Point 2",{"$f":"IF($AF105=\"\",0,$AF105)","v":0},{"$f":"IF(OR($AG105=\"\",$AF$105=0),$C$13,IF($AG$105>$AG$108,$AG105+2.25,$AG$108+2.25))","v":99.18},null,61,9.76,"Left Bank",48.273478906986412,96.667822389116878,48.26555537856261,94.667898542988539,96.437166782634293,0,0,0,"","",0,1.7692682396457542,1.7692682396457542,0,0,0,0,0,1.7692682396457542,0.12851695556641343,0,0,0.16,9.76,0,0,"",5.5822156892688639,0.12664080077067355,0.16,0,0.16,9.76,""]
[null,null,null,null,null,null,null,null,null,null,null,null,null,null,null,null,null,null,null,null,null,null,null,null,null,null,null,null,null,null,"Point 3",{"$f":"IF(OR($F$25=\"\",$C83=\"\"),0,($AE$49-(($C83*$M$19)*$M$17))-(ABS(2*$M$17*$M$19)))","v":0},{"$f":"IF(OR($AG106=\"\",$AF$105=0),$C$13,$AG106)","v":99.18},null,62,9.92,"Left Bank",48.346114621094003,96.666426143437135,48.338191092670201,94.666502297308796,96.426928605788646,0,0,0,"","",0,1.7604263084798504,1.7604263084798504,0,0,0,0,0,1.7604263084798504,0.12787469112662603,0,0,0.16,9.92,0,0,"",5.5836119349486069,0.12650833219058008,0.16,0,0.16,9.92,""]
[null,null,null,null,null,null,null,null,null,null,null,null,null,null,null,null,null,null,null,null,null,null,null,null,null,null,null,"Anchor #2",null,null,"Point 4",{"$f":"IF($AF105=\"\",0,$AF107)","v":0},{"$f":"IF(OR($AG105=\"\",$AF$105=0),$C$13,$AG105-((ABS($AF$105-$AF$108))*$AA$40))","v":99.18},null,63,10.08,"Left Bank",48.418750335201594,96.665029897757393,48.410826806777791,94.665106051629053,96.416690428943014,0,0,0,"","",0,1.7515843773139608,1.7515843773139608,0,0,0,0,0,1.7515843773139608,0.12723242668683965,0,0,0.16,10.08,0,0,"",5.5850081806283498,0.12637600217502981,0.16,0,0.16,10.08,""]
[null,null,null,null,null,null,null,null,null,null,null,null,null,null,null,null,null,null,null,null,null,null,null,null,null,null,null,"xTS (ft)","yTS (ft)",null,null,null,null,null,64,10.24,{"$f":"IF(OR($C$19=\"\",$F$25=\"\",$G$25=\"\"),\"None\",IF(AL109<$B$14,\"Left Floodplain\",IF(AL109<$B$15,\"Left Bank\",IF(AL109<$B$16,\"Left Stream Bed\",IF(AL109<$B$17,\"Right Stream Bed\",IF(AL109<$B$18,\"Right Bank\",\"Right Floodplain\"))))))","v":"Left Bank"},48.491386049309178,96.66363365207765,48.483462520885375,94.66370980594931,96.406452252097367,{"$f":"IF(OR($AP109<$AE$12,$AP109<=$AM109),0,IF(OR($AP109>=$AE$12,$AM109>=$AE$12),$AP109-$AM109-$AR109,$AP109-$AE$12))","v":0},{"$f":"IF($AP109<=$AM109,0,IF($AM109>=$AE$12,0,IF($AP109<=$AE$12,$AP109-$AM109,$AE$12-$AM109)))","v":0},0,"","",0,{"$f":"IF($AP109<=$AO109,0,IF($AO109>=$AE$12,0,IF($AP109<=$AE$12,$AP109-$AO109,$AE$12-$AO109)))","v":1.742742446148057},{"$f":"IF(AP109<=AO109,0,AP109-AO109)","v":1.742742446148057},{"$f":"IF($AS109=0,0,IF(OR($AJ109=0,$AJ109=$E$22),$AJ$46/2,$AJ$46))","v":0},{"$f":"IF(OR($AK109=\"Left Stream Bed\",$AK109=\"Right Stream Bed\"),$F$22*$AQ109*$AY109,0)","v":0},{"$f":"IF(OR($AK109=\"Left Stream Bed\",$AK109=\"Right Stream Bed\"),$F$22*$AR109*$AY109,0)","v":0},{"$f":"IF(OR($AK109=\"Left Floodplain\",$AK109=\"Left Bank\",$AK109=\"Right Bank\",$AK109=\"Right Floodplain\"),$F$22*$AQ109*$AY109,0)","v":0},{"$f":"IF(OR($AK109=\"Left Floodplain\",$AK109=\"Left Bank\",$AK109=\"Right Bank\",$AK109=\"Right Floodplain\"),$F$22*$AR109*$AY109,0)","v":0},{"$f":"AX109-AS109","v":1.742742446148057},0.12659016224705222,0,{"$f":"IF(OR($AJ109=0,$AJ109=$E$22),($BF109*$AJ$46/2)*ABS($M$17),$BF109*$AJ$46*ABS($M$17))","v":0},{"$f":"IF(OR($AM109<$AP109,$AO109>$AE$8),\"\",IF(OR($AJ109=0,$AJ109=$E$22),$AJ$46/2,$AJ$46))","v":0.16},10.24,0,{"$f":"IF($BJ109=\"\",\"\",IF(OR($BJ109>($F$22/2),$BJ109=0),0,0.45-($BJ109*0.45/($F$22/2))))","v":0},{"$f":"IF($BK109=\"\",\"\",IF($BK109>0,$AJ109,\"\"))","v":""},5.5864044263080928,0.12624381057908177,{"$f":"IF($AO109=0,0,IF($AO109>$AP109,0,IF(OR($AJ109=0,$AJ109=$E$22),$AJ$46/2,$AJ$46)))","v":0.16},{"$f":"IF(AND($BO109>0,OR($AK109=\"Left Stream Bed\",$AK109=\"Right Stream Bed\")),$BO109,0)","v":0},{"$f":"IF(AND($BO109>0,OR($AK109=\"Left Floodplain\",$AK109=\"Left Bank\",$AK109=\"Right Bank\",$AK109=\"Right Floodplain\")),$BO109,0)","v":0.16},{"$f":"IF($BO109>0,$AJ109,\"\")","v":10.24},""]
[null,null,null,null,null,null,null,null,null,null,null,null,null,null,null,null,null,null,null,null,null,null,null,null,null,null,"Point 1",{"$f":"IF(OR($F$25=\"\",$H84=\"\"),0,$AE$49-(($H84*$M$19)*$M$17))","v":0},{"$f":"IF(OR($AB$110=0,$AB110=\"\"),$C$13,($AF$49+(($AB110-$AE$49)*$AA$40))-($F$22/2))","v":99.18},null,null,"Log Interactions",null,null,65,{"$f":"($AI110/$AI$245)*$AJ$245","v":10.4},"Left Bank",48.564021763416768,96.662237406397907,{"$f":"$AN$45+ABS(AJ110*$M$19*$M$17)","v":48.556098234992966},94.662313560269567,96.396214075251734,0,0,{"$f":"IF(AP110<=AM110,0,AP110-AM110)","v":0},{"$f":"IF(OR($AS110=\"\",$AS110=0),\"\",IF(OR($AK110=\"Left Stream Bed\",$AK110=\"Right Stream Bed\"),$AS110,\"\"))","v":""},{"$f":"IF(OR($AS110=\"\",$AS110=0),\"\",IF(OR($AK110=\"Left Floodplain\",$AK110=\"Left Bank\",$AK110=\"Right Bank\",$AK110=\"Right Floodplain\"),$AS110,\"\"))","v":""},{"$f":"IF(OR($AP110<$AE$12,$AP110<=$AO110),0,IF($AO110>=$AE$12,$AP110-$AO110,$AP110-$AE$12))","v":0},1.7339005149821674,1.7339005149821674,0,0,0,0,0,1.7339005149821674,{"$f":"$BD110*$AJ$46*ABS($M$17)","v":0.12594789780726584},{"$f":"AV110-AQ110","v":0},0,0.16,{"$f":"IF($BH110=\"\",\"\",IF($BH110>0,$AJ110,\"\"))","v":10.4},{"$f":"IF($BH110=\"\",\"\",IF(OR(($AO110-$AP110)<0,$AO$45>=$AE$8),0,($AO110-$AP110)))","v":0},0,"",{"$f":"IF($BH110=\"\",\"\",IF(OR(($AM110-$AP110)<0,$AM110>=$AE$8),\"\",($AE$8-($AM110-(($F$22/2)/$M$19)))))","v":5.5878006719878357},0.1261117572579466,0.16,0,0.16,10.4,{"$f":"IF($AY110>0,$AJ110,\"\")","v":""}]
[null,null,null,null,null,null,null,null,null,null,null,null,null,null,null,null,null,null,null,null,null,null,null,null,null,null,"Point 2",{"$f":"IF($AB110=\"\",0,$AB110)","v":0},{"$f":"IF(OR($AB$110=0,$AC110=\"\"),$C$13,$AC110-4)","v":99.18},null,null,"xTS (ft)","yTS (ft)",null,66,10.56,"Left Bank",48.636657477524352,{"$f":"AM110+((AL111-AL110)*$AA$40)","v":96.660841160718164},48.62873394910055,{"$f":"AO110+((AN111-AN110)*$AA$40)","v":94.660917314589824},{"$f":"IF($AL111<$B$14,(($AL111-$B$13)*$AB$31)+$C$13,IF($AL111<$B$15,(($AL111-$B$14)*$AB$32)+$C$14,IF($AL111<$B$16,(($AL111-$B$15)*$AB$33)+$C$15,IF($AL111<$B$17,(($AL111-$B$16)*$AB$34)+$C$16,IF($AL111<$B$18,(($AL111-$B$17)*$AB$35)+$C$17,IF($AL111<$B$19,(($AL111-$B$18)*$AB$36)+$C$18))))))","v":96.385975898406087},0,0,0,"","",0,1.7250585838162635,1.7250585838162635,0,0,0,0,0,1.7250585838162635,0.12530563336747844,0,0,0.16,10.56,0,0,"",5.5891969176675786,{"$f":"IF($BM111=\"\",\"\",(((PI()^2)/32)*($B$66^-6)*EXP(-($BM111/$F$22)/(2*($B$66^2)))))","v":0.12597984206698609},0.16,0,0.16,10.56,""]
[null,null,null,null,null,null,null,null,null,null,null,null,null,null,null,null,null,null,null,null,null,null,null,null,null,null,null,null,null,null,"Point 1",{"$f":"IF(OR($F$25=\"\",$C90=\"\"),0,($AE$49-(($C90*$M$19)*$M$17))+(ABS(2*$M$17*$M$19)))","v":0},{"$f":"IF(OR($AF112=\"\",$AF$105=0),$C$13,($AF$49+(($AF112-$AE$49)*$AA$40))+($F$22/2))","v":99.18},null,67,10.72,"Left Bank",{"$f":"$AL$45+ABS(AJ112*$M$19*$M$17)","v":48.709293191631943},96.659444915038421,48.701369663208141,94.659521068910081,96.375737721560441,0,0,0,"","",0,1.7162166526503597,1.7162166526503597,0,0,0,0,0,1.7162166526503597,0.12466336892769102,0,0,0.16,10.72,0,0,"",5.5905931633473216,0.12584806486171374,0.16,0,0.16,10.72,""]
[null,null,null,null,null,null,null,null,null,null,null,null,null,null,null,null,null,null,null,null,null,null,null,null,null,null,null,null,null,null,"Point 2",{"$f":"IF($AF112=\"\",0,$AF112)","v":0},{"$f":"IF(OR($AG112=\"\",$AF$105=0),$C$13,IF($AG$105>$AG$108,$AG112+2.25,$AG$108+2.25))","v":99.18},null,68,10.88,"Left Bank",48.781928905739527,96.658048669358678,48.774005377315724,94.658124823230338,96.365499544714808,0,0,0,"","",0,1.7073747214844701,1.7073747214844701,0,0,0,0,0,1.7073747214844701,0.12402110448790463,0,0,0.16,10.88,0,0,"",5.5919894090270645,0.12571642549779397,0.16,0,0.16,10.88,""]
[null,null,null,null,null,null,null,null,null,null,null,null,null,null,null,null,null,null,null,null,null,null,null,null,null,null,null,null,null,null,"Point 3",{"$f":"IF(OR($F$25=\"\",$C90=\"\"),0,($AE$49-(($C90*$M$19)*$M$17))-(ABS(2*$M$17*$M$19)))","v":0},{"$f":"IF(OR($AG113=\"\",$AF$105=0),$C$13,$AG113)","v":99.18},null,69,11.04,"Left Bank",48.854564619847118,96.656652423678935,48.846641091423315,94.656728577550595,96.355261367869161,0,0,0,"","",0,1.6985327903185663,1.6985327903185663,0,0,0,0,0,1.6985327903185663,0.12337884004811722,0,0,0.16,11.04,0,0,"",5.5933856547068075,0.12558492383104222,0.16,0,0.16,11.04,""]
[null,null,null,null,null,null,null,null,null,null,null,null,null,null,null,null,null,null,null,null,null,null,null,null,null,null,null,null,null,null,"Point 4",{"$f":"IF($AF112=\"\",0,$AF114)","v":0},{"$f":"IF(OR($AG112=\"\",$AF$105=0),$C$13,$AG112-((ABS($AF$105-$AF$108))*$AA$40))","v":99.18},null,70,11.2,"Left Bank",48.927200333954701,96.655256177999192,48.919276805530899,94.655332331870852,96.345023191023529,0,0,0,"","",0,1.6896908591526767,1.6896908591526767,0,0,0,0,0,1.6896908591526767,0.12273657560833083,0,0,0.16,11.2,0,0,"",5.5947819003865504,0.12545355971742486,0.16,0,0.16,11.2,""]
[null,null,null,null,null,null,null,null,null,null,null,null,null,null,null,null,null,null,null,null,null,null,null,null,null,null,null,null,null,null,null,null,null,null,71,11.36,"Left Bank",48.999836048062292,96.653859932319449,48.99191251963849,94.653936086191109,96.334785014177882,0,0,0,"","",0,1.6808489279867729,1.6808489279867729,0,0,0,0,0,1.6808489279867729,0.12209431116854341,0,0,0.16,11.36,0,0,"",5.5961781460662934,0.12532233301305862,0.16,0,0.16,11.36,""]
[null,null,null,null,null,null,null,null,null,null,null,null,null,null,null,null,null,null,null,null,null,null,null,null,null,null,null,null,null,null,null,null,null,null,72,11.52,"Left Bank",49.072471762169876,96.652463686639706,49.064548233746073,94.652539840511366,96.32454683733225,0,0,0,"","",0,1.6720069968208833,1.6720069968208833,0,0,0,0,0,1.6720069968208833,0.12145204672875703,0,0,0.16,11.52,0,0,"",5.5975743917460363,0.12519124357421099,0.16,0,0.16,11.52,""]
[null,null,null,null,null,null,null,null,null,null,null,null,null,null,null,null,null,null,null,null,null,null,null,null,null,null,null,null,null,null,null,null,null,null,73,11.68,"Left Bank",49.145107476277467,96.651067440959963,49.137183947853664,94.651143594831623,96.314308660486603,0,0,0,"","",0,1.6631650656549795,1.6631650656549795,0,0,0,0,0,1.6631650656549795,0.12080978228896962,0,0,0.16,11.68,0,0,"",5.5989706374257793,0.12506029125729978,0.16,0,0.16,11.68,""]
[null,null,null,null,null,null,null,null,null,null,null,null,null,null,null,null,null,null,null,null,null,null,null,null,null,null,null,null,null,null,null,null,null,null,74,11.84,"Left Bank",49.21774319038505,96.64967119528022,49.209819661961248,94.64974734915188,96.304070483640956,0,0,0,"","",0,1.6543231344890756,1.6543231344890756,0,0,0,0,0,1.6543231344890756,0.12016751784918221,0,0,0.16,11.84,0,0,"",5.6003668831055222,0.12492947591889292,0.16,0,0.16,11.84,""]
[null,null,null,null,null,null,null,null,null,null,null,null,null,null,null,null,null,null,null,null,null,null,null,null,null,null,null,null,null,null,null,null,null,null,75,12,"Left Bank",49.290378904492641,96.648274949600477,49.282455376068839,94.648351103472137,96.293832306795323,0,0,0,"","",0,1.645481203323186,1.645481203323186,0,0,0,0,0,1.645481203323186,0.11952525340939582,0,0,0.16,12,0,0,"",5.6017631287852652,0.12479879741570854,0.16,0,0.16,12,""]
[null,null,null,null,null,null,null,null,null,null,null,null,null,null,null,null,null,null,null,null,null,null,null,null,null,null,null,null,null,null,null,null,null,null,76,12.16,"Left Bank",49.363014618600225,96.646878703920734,49.355091090176423,94.646954857792394,96.283594129949677,0,0,0,"","",0,1.6366392721572822,1.6366392721572822,0,0,0,0,0,1.6366392721572822,0.1188829889696084,0,0,0.16,12.16,0,0,"",5.6031593744650081,0.12466825560461427,0.16,0,0.16,12.16,""]
[null,null,null,null,null,null,null,null,null,null,null,null,null,null,null,null,null,null,null,null,null,null,null,null,null,null,null,null,null,null,null,null,null,null,77,12.32,"Left Bank",49.435650332707816,96.645482458240991,49.427726804284013,94.645558612112652,96.273355953104044,0,0,0,"","",0,1.6277973409913926,1.6277973409913926,0,0,0,0,0,1.6277973409913926,0.11824072452982202,0,0,0.16,12.32,0,0,"",5.6045556201447511,0.12453785034262782,0.16,0,0.16,12.32,""]
[null,null,null,null,null,null,null,null,null,null,null,null,null,null,null,null,null,null,null,null,null,null,null,null,null,null,null,null,null,null,null,null,null,null,78,12.48,"Left Bank",49.5082860468154,96.644086212561248,49.500362518391597,94.644162366432909,96.263117776258397,0,0,0,"","",0,1.6189554098254888,1.6189554098254888,0,0,0,0,0,1.6189554098254888,0.11759846009003461,0,0,0.16,12.48,0,0,"",5.605951865824494,0.12440758148691636,0.16,0,0.16,12.48,""]
[null,null,null,null,null,null,null,null,null,null,null,null,null,null,null,null,null,null,null,null,null,null,null,null,null,null,null,null,null,null,null,null,null,null,79,12.64,"Left Bank",49.58092176092299,96.642689966881505,49.572998232499188,94.642766120753166,96.252879599412751,0,0,0,"","",0,1.610113478659585,1.610113478659585,0,0,0,0,0,1.610113478659585,0.11695619565024719,0,0,0.16,12.64,0,0,"",5.607348111504237,0.1242774488947964,0.16,0,0.16,12.64,""]
[null,null,null,null,null,null,null,null,null,null,null,null,null,null,null,null,null,null,null,null,null,null,null,null,null,null,null,null,null,null,null,null,null,null,80,12.8,"Left Bank",49.653557475030574,96.641293721201762,49.645633946606772,94.641369875073423,96.242641422567118,0,0,0,"","",0,1.6012715474936954,1.6012715474936954,0,0,0,0,0,1.6012715474936954,0.11631393121046081,0,0,0.16,12.8,0,0,"",5.6087443571839799,0.12414745242373389,0.16,0,0.16,12.8,""]
[null,null,null,null,null,null,null,null,null,null,null,null,null,null,null,null,null,null,null,null,null,null,null,null,null,null,null,null,null,null,null,null,null,null,81,12.96,"Left Bank",49.726193189138165,96.639897475522019,49.718269660714363,94.63997362939368,96.232403245721471,0,0,0,"","",0,1.5924296163277916,1.5924296163277916,0,0,0,0,0,1.5924296163277916,0.11567166677067339,0,0,0.16,12.96,0,0,"",5.6101406028637228,0.12401759193134348,0.16,0,0.16,12.96,""]
[null,null,null,null,null,null,null,null,null,null,null,null,null,null,null,null,null,null,null,null,null,null,null,null,null,null,null,null,null,null,null,null,null,null,82,13.12,"Left Bank",49.798828903245749,96.638501229842277,49.790905374821946,94.638577383713937,96.222165068875839,0,0,0,"","",0,1.583587685161902,1.583587685161902,0,0,0,0,0,1.583587685161902,0.11502940233088702,0,0,0.16,13.12,0,0,"",5.6115368485434658,0.12388786727538915,0.16,0,0.16,13.12,""]
[null,null,null,null,null,null,null,null,null,null,null,null,null,null,null,null,null,null,null,null,null,null,null,null,null,null,null,null,null,null,null,null,null,null,83,13.28,"Left Bank",49.87146461735334,96.637104984162534,49.863541088929537,94.637181138034194,96.211926892030192,0,0,0,"","",0,1.5747457539959981,1.5747457539959981,0,0,0,0,0,1.5747457539959981,0.1143871378910996,0,0,0.16,13.28,0,0,"",5.6129330942232087,0.1237582783137835,0.16,0,0.16,13.28,""]
[null,null,null,null,null,null,null,null,null,null,null,null,null,null,null,null,null,null,null,null,null,null,null,null,null,null,null,null,null,null,null,null,null,null,84,13.44,"Left Bank",49.944100331460923,96.635708738482791,49.936176803037121,94.635784892354451,96.201688715184559,0,0,0,"","",0,1.5659038228301085,1.5659038228301085,0,0,0,0,0,1.5659038228301085,0.11374487345131322,0,0,0.16,13.44,0,0,"",5.6143293399029517,0.1236288249045879,0.16,0,0.16,13.44,""]
[null,null,null,null,null,null,null,null,null,null,null,null,null,null,null,null,null,null,null,null,null,null,null,null,null,null,null,null,null,null,null,null,null,null,85,13.6,"Left Bank",50.016736045568514,96.634312492803048,50.008812517144712,94.634388646674708,96.191450538338913,0,0,0,"","",0,1.5570618916642047,1.5570618916642047,0,0,0,0,0,1.5570618916642047,0.1131026090115258,0,0,0.16,13.6,0,0,"",5.6157255855826946,0.12349950690601183,0.16,0,0.16,13.6,""]
[null,null,null,null,null,null,null,null,null,null,null,null,null,null,null,null,null,null,null,null,null,null,null,null,null,null,null,null,null,null,null,null,null,null,86,13.76,"Left Bank",50.089371759676098,96.632916247123305,50.081448231252295,94.632992400994965,96.181212361493266,0,0,0,"","",0,1.5482199604983009,1.5482199604983009,0,0,0,0,0,1.5482199604983009,0.11246034457173838,0,0,0.16,13.76,0,0,"",5.6171218312624376,0.12337032417641342,0.16,0,0.16,13.76,""]
[null,null,null,null,null,null,null,null,null,null,null,null,null,null,null,null,null,null,null,null,null,null,null,null,null,null,null,null,null,null,null,null,null,null,87,13.92,"Left Bank",50.162007473783689,96.631520001443562,50.154083945359886,94.631596155315222,96.170974184647633,0,0,0,"","",0,1.5393780293324113,1.5393780293324113,0,0,0,0,0,1.5393780293324113,0.11181808013195199,0,0,0.16,13.92,0,0,"",5.6185180769421805,0.12324127657429888,0.16,0,0.16,13.92,""]
[null,null,null,null,null,null,null,null,null,null,null,null,null,null,null,null,null,null,null,null,null,null,null,null,null,null,null,null,null,null,null,null,null,null,88,14.08,"Left Bank",50.234643187891272,96.630123755763819,50.22671965946747,94.630199909635479,96.160736007801987,0,0,0,"","",0,1.5305360981665075,1.5305360981665075,0,0,0,0,0,1.5305360981665075,0.11117581569216457,0,0,0.16,14.08,0,0,"",5.6199143226219235,0.1231123639583224,0.16,0,0.16,14.08,""]
[null,null,null,null,null,null,null,null,null,null,null,null,null,null,null,null,null,null,null,null,null,null,null,null,null,null,null,null,null,null,null,null,null,null,89,14.24,"Left Bank",50.307278901998863,96.628727510084076,50.299355373575061,94.628803663955736,96.150497830956354,0,0,0,"","",0,1.5216941670006179,1.5216941670006179,0,0,0,0,0,1.5216941670006179,0.1105335512523782,0,0,0.16,14.24,0,0,"",5.6213105683016664,0.12298358618728612,0.16,0,0.16,14.24,""]
[null,null,null,null,null,null,null,null,null,null,null,null,null,null,null,null,null,null,null,null,null,null,null,null,null,null,null,null,null,null,null,null,null,null,90,14.4,"Left Bank",50.379914616106447,96.627331264404333,50.371991087682645,94.627407418275993,96.140259654110707,0,0,0,"","",0,1.5128522358347141,1.5128522358347141,0,0,0,0,0,1.5128522358347141,0.10989128681259078,0,0,0.16,14.4,0,0,"",5.6227068139814094,0.12285494312013959,0.16,0,0.16,14.4,""]
[null,null,null,null,null,null,null,null,null,null,null,null,null,null,null,null,null,null,null,null,null,null,null,null,null,null,null,null,null,null,null,null,null,null,91,14.56,"Left Bank",50.452550330214038,96.62593501872459,50.444626801790236,94.62601117259625,96.130021477265061,0,0,0,"","",0,1.5040103046688102,1.5040103046688102,0,0,0,0,0,1.5040103046688102,0.10924902237280336,0,0,0.16,14.56,0,0,"",5.6241030596611523,0.12272643461598018,0.16,0,0.16,14.56,""]
[null,null,null,null,null,null,null,null,null,null,null,null,null,null,null,null,null,null,null,null,null,null,null,null,null,null,null,null,null,null,null,null,null,null,92,14.72,"Left Bank",50.525186044321629,96.624538773044847,50.517262515897826,94.624614926916507,96.119783300419428,0,0,0,"","",0,1.4951683735029206,1.4951683735029206,0,0,0,0,0,1.4951683735029206,0.10860675793301698,0,0,0.16,14.72,0,0,"",5.6254993053408953,0.12259806053405256,0.16,0,0.16,14.72,""]
[null,null,null,null,null,null,null,null,null,null,null,null,null,null,null,null,null,null,null,null,null,null,null,null,null,null,null,null,null,null,null,null,null,null,93,14.88,"Left Bank",50.597821758429212,96.623142527365104,50.58989823000541,94.623218681236764,96.109545123573781,0,0,0,"","",0,1.4863264423370168,1.4863264423370168,0,0,0,0,0,1.4863264423370168,0.10796449349322956,0,0,0.16,14.88,0,0,"",5.6268955510206382,0.12246982073374865,0.16,0,0.16,14.88,""]
[null,null,null,null,null,null,null,null,null,null,null,null,null,null,null,null,null,null,null,null,null,null,null,null,null,null,null,null,null,null,null,null,null,null,94,15.04,"Left Bank",50.670457472536796,96.621746281685361,50.662533944112994,94.621822435557021,96.099306946728149,0,0,0,"","",0,1.4774845111711272,1.4774845111711272,0,0,0,0,0,1.4774845111711272,0.10732222905344319,0,0,0.16,15.04,0,0,"",5.6282917967003812,0.12234171507460752,0.16,0,0.16,15.04,""]
[null,null,null,null,null,null,null,null,null,null,null,null,null,null,null,null,null,null,null,null,null,null,null,null,null,null,null,null,null,null,null,null,null,null,95,15.2,"Left Bank",50.743093186644387,96.620350036005618,50.735169658220585,94.620426189877278,96.089068769882502,0,0,0,"","",0,1.4686425800052234,1.4686425800052234,0,0,0,0,0,1.4686425800052234,0.10667996461365577,0,0,0.16,15.2,0,0,"",5.6296880423801241,0.12221374341631487,0.16,0,0.16,15.2,""]
[null,null,null,null,null,null,null,null,null,null,null,null,null,null,null,null,null,null,null,null,null,null,null,null,null,null,null,null,null,null,null,null,null,null,96,15.36,"Left Bank",50.815728900751978,96.618953790325875,50.807805372328176,94.619029944197536,96.078830593036855,0,0,0,"","",0,1.4598006488393196,1.4598006488393196,0,0,0,0,0,1.4598006488393196,0.10603770017386835,0,0,0.16,15.36,0,0,"",5.631084288059867,0.12208590561870346,0.16,0,0.16,15.36,""]
[null,null,null,null,null,null,null,null,null,null,null,null,null,null,null,null,null,null,null,null,null,null,null,null,null,null,null,null,null,null,null,null,null,null,97,15.52,"Left Bank",50.888364614859562,96.617557544646132,50.880441086435759,94.617633698517793,96.068592416191223,0,0,0,"","",0,1.45095871767343,1.45095871767343,0,0,0,0,0,1.45095871767343,0.10539543573408197,0,0,0.16,15.52,0,0,"",5.63248053373961,0.12195820154175262,0.16,0,0.16,15.52,""]
[null,null,null,null,null,null,null,null,null,null,null,null,null,null,null,null,null,null,null,null,null,null,null,null,null,null,null,null,null,null,null,null,null,null,98,15.68,"Left Bank",50.961000328967145,96.616161298966389,50.953076800543343,94.61623745283805,96.058354239345576,0,0,0,"","",0,1.4421167865075262,1.4421167865075262,0,0,0,0,0,1.4421167865075262,0.10475317129429455,0,0,0.16,15.68,0,0,"",5.6338767794193529,0.12183063104558818,0.16,0,0.16,15.68,""]
[null,null,null,null,null,null,null,null,null,null,null,null,null,null,null,null,null,null,null,null,null,null,null,null,null,null,null,null,null,null,null,null,null,null,99,15.84,"Left Bank",51.033636043074736,96.614765053286646,51.025712514650934,94.614841207158307,96.048116062499943,0,0,0,"","",0,1.4332748553416366,1.4332748553416366,0,0,0,0,0,1.4332748553416366,0.10411090685450818,0,0,0.16,15.84,0,0,"",5.6352730250990959,0.12170319399048202,0.16,0,0.16,15.84,""]
[null,null,null,null,null,null,null,null,null,null,null,null,null,null,null,null,null,null,null,null,null,null,null,null,null,null,null,null,null,null,null,null,null,null,100,16,"Left Bank",51.106271757182327,96.613368807606903,51.098348228758525,94.613444961478564,96.037877885654297,0,0,0,"","",0,1.4244329241757328,1.4244329241757328,0,0,0,0,0,1.4244329241757328,0.10346864241472076,0,0,0.16,16,0,0,"",5.6366692707788388,0.12157589023685247,0.16,0,0.16,16,""]
[null,null,null,null,null,null,null,null,null,null,null,null,null,null,null,null,null,null,null,null,null,null,null,null,null,null,null,null,null,null,null,null,null,null,101,16.16,"Left Bank",51.178907471289911,96.611972561927161,51.170983942866108,94.612048715798821,96.027639708808664,0,0,0,"","",0,1.4155909930098431,1.4155909930098431,0,0,0,0,0,1.4155909930098431,0.10282637797493438,0,0,0.16,16.16,0,0,"",5.6380655164585818,0.12144871964526376,0.16,0,0.16,16.16,""]
[null,null,null,null,null,null,null,null,null,null,null,null,null,null,null,null,null,null,null,null,null,null,null,null,null,null,null,null,null,null,null,null,null,null,102,16.32,"Left Bank",51.251543185397502,96.610576316247418,51.243619656973699,94.610652470119078,96.017401531963017,0,0,0,"","",0,1.4067490618439393,1.4067490618439393,0,0,0,0,0,1.4067490618439393,0.10218411353514696,0,0,0.16,16.32,0,0,"",5.6394617621383247,0.12132168207642595,0.16,0,0.16,16.32,""]
[null,null,null,null,null,null,null,null,null,null,null,null,null,null,null,null,null,null,null,null,null,null,null,null,null,null,null,null,null,null,null,null,null,null,103,16.48,"Left Bank",51.324178899505085,96.609180070567675,51.316255371081283,94.609256224439335,96.00716335511737,0,0,0,"","",0,1.3979071306780355,1.3979071306780355,0,0,0,0,0,1.3979071306780355,0.10154184909535954,0,0,0.16,16.48,0,0,"",5.6408580078180677,0.12119477739119497,0.16,0,0.16,16.48,""]
[null,null,null,null,null,null,null,null,null,null,null,null,null,null,null,null,null,null,null,null,null,null,null,null,null,null,null,null,null,null,null,null,null,null,104,16.64,"Left Bank",51.396814613612676,96.607783824887932,51.388891085188874,94.607859978759592,95.996925178271738,0,0,0,"","",0,1.3890651995121459,1.3890651995121459,0,0,0,0,0,1.3890651995121459,0.10089958465557317,0,0,0.16,16.64,0,0,"",5.6422542534978106,0.12106800545057191,0.16,0,0.16,16.64,""]
[null,null,null,null,null,null,null,null,null,null,null,null,null,null,null,null,null,null,null,null,null,null,null,null,null,null,null,null,null,null,null,null,null,null,105,16.8,"Left Bank",51.46945032772026,96.606387579208189,51.461526799296458,94.606463733079849,95.986687001426091,0,0,0,"","",0,1.3802232683462421,1.3802232683462421,0,0,0,0,0,1.3802232683462421,0.10025732021578575,0,0,0.16,16.8,0,0,"",5.6436504991775536,0.12094136611570362,0.16,0,0.16,16.8,""]
[null,null,null,null,null,null,null,null,null,null,null,null,null,null,null,null,null,null,null,null,null,null,null,null,null,null,null,null,null,null,null,null,null,null,106,16.96,"Left Bank",51.542086041827851,96.604991333528446,51.534162513404048,94.605067487400106,95.976448824580459,0,0,0,"","",0,1.3713813371803525,1.3713813371803525,0,0,0,0,0,1.3713813371803525,9.961505577599937E-2,0,0,0.16,16.96,0,0,"",5.6450467448572965,0.12081485924788206,0.16,0,0.16,16.96,""]
[null,null,null,null,null,null,null,null,null,null,null,null,null,null,null,null,null,null,null,null,null,null,null,null,null,null,null,null,null,null,null,null,null,null,107,17.12,"Left Bank",51.614721755935435,96.603595087848703,51.606798227511632,94.603671241720363,95.966210647734812,0,0,0,"","",0,1.3625394060144487,1.3625394060144487,0,0,0,0,0,1.3625394060144487,9.8972791336211952E-2,0,0,0.16,17.12,0,0,"",5.6464429905370395,0.12068848470854431,0.16,0,0.16,17.12,""]
[null,null,null,null,null,null,null,null,null,null,null,null,null,null,null,null,null,null,null,null,null,null,null,null,null,null,null,null,null,null,null,null,null,null,108,17.28,"Left Bank",51.687357470043025,96.60219884216896,51.679433941619223,94.60227499604062,95.955972470889165,0,0,0,"","",0,1.3536974748485449,1.3536974748485449,0,0,0,0,0,1.3536974748485449,9.8330526896424533E-2,0,0,0.16,17.28,0,0,"",5.6478392362167824,0.12056224235927243,0.16,0,0.16,17.28,""]
[null,null,null,null,null,null,null,null,null,null,null,null,null,null,null,null,null,null,null,null,null,null,null,null,null,null,null,null,null,null,null,null,null,null,109,17.440000000000001,"Left Bank",51.759993184150609,96.600802596489217,51.752069655726807,94.600878750360877,95.945734294043532,0,0,0,"","",0,1.3448555436826553,1.3448555436826553,0,0,0,0,0,1.3448555436826553,9.7688262456638156E-2,0,0,0.16,17.440000000000001,0,0,"",5.6492354818965254,0.12043613206179304,0.16,0,0.16,17.440000000000001,""]
[null,null,null,null,null,null,null,null,null,null,null,null,null,null,null,null,null,null,null,null,null,null,null,null,null,null,null,null,null,null,null,null,null,null,110,17.600000000000001,"Left Bank",51.8326288982582,96.599406350809474,51.824705369834398,94.599482504681134,95.935496117197886,0,0,0,"","",0,1.3360136125167514,1.3360136125167514,0,0,0,0,0,1.3360136125167514,9.7045998016850737E-2,0,0,0.16,17.600000000000001,0,0,"",5.6506317275762683,0.12031015367797765,0.16,0,0.16,17.600000000000001,""]
[null,null,null,null,null,null,null,null,null,null,null,null,null,null,null,null,null,null,null,null,null,null,null,null,null,null,null,null,null,null,null,null,null,null,111,17.760000000000002,"Left Bank",51.905264612365784,96.598010105129731,51.897341083941981,94.598086259001391,95.925257940352253,0,0,0,"","",0,1.3271716813508618,1.3271716813508618,0,0,0,0,0,1.3271716813508618,9.640373357706436E-2,0,0,0.16,17.760000000000002,0,0,"",5.6520279732560113,0.12018430706984219,0.16,0,0.16,17.760000000000002,""]
[null,null,null,null,null,null,null,null,null,null,null,null,null,null,null,null,null,null,null,null,null,null,null,null,null,null,null,null,null,null,null,null,null,null,112,17.920000000000002,"Left Bank",51.977900326473375,96.596613859449988,51.969976798049572,94.596690013321648,95.915019763506606,0,0,0,"","",0,1.318329750184958,1.318329750184958,0,0,0,0,0,1.318329750184958,9.5761469137276942E-2,0,0,0.16,17.920000000000002,0,0,"",5.6534242189357542,0.12005859209954688,0.16,0,0.16,17.920000000000002,""]
[null,null,null,null,null,null,null,null,null,null,null,null,null,null,null,null,null,null,null,null,null,null,null,null,null,null,null,null,null,null,null,null,null,null,113,18.079999999999998,"Left Bank",52.050536040580958,96.595217613770245,52.042612512157156,94.595293767641905,95.90478158666096,0,0,0,"","",0,1.3094878190190542,1.3094878190190542,0,0,0,0,0,1.3094878190190542,9.5119204697489523E-2,0,0,0.16,18.079999999999998,0,0,"",5.6548204646154971,0.11993300862939626,0.16,0,0.16,18.079999999999998,""]
[null,null,null,null,null,null,null,null,null,null,null,null,null,null,null,null,null,null,null,null,null,null,null,null,null,null,null,null,null,null,null,null,null,null,114,18.239999999999998,"Left Bank",52.123171754688549,96.593821368090502,52.115248226264747,94.593897521962163,95.894543409815327,0,0,0,"","",0,1.3006458878531646,1.3006458878531646,0,0,0,0,0,1.3006458878531646,9.4476940257703146E-2,0,0,0.16,18.239999999999998,0,0,"",5.6562167102952401,0.11980755652183857,0.16,0,0.16,18.239999999999998,""]
[null,null,null,null,null,null,null,null,null,null,null,null,null,null,null,null,null,null,null,null,null,null,null,null,null,null,null,null,null,null,null,null,null,null,115,18.399999999999999,"Left Bank",52.195807468796133,96.592425122410759,52.18788394037233,94.59250127628242,95.88430523296968,0,0,0,"","",0,1.2918039566872608,1.2918039566872608,0,0,0,0,0,1.2918039566872608,9.3834675817915728E-2,0,0,0.16,18.399999999999999,0,0,"",5.657612955974983,0.11968223563946627,0.16,0,0.16,18.399999999999999,""]
[null,null,null,null,null,null,null,null,null,null,null,null,null,null,null,null,null,null,null,null,null,null,null,null,null,null,null,null,null,null,null,null,null,null,116,18.559999999999999,"Left Bank",52.268443182903724,96.591028876731016,52.260519654479921,94.591105030602677,95.874067056124048,0,0,0,"","",0,1.2829620255213712,1.2829620255213712,0,0,0,0,0,1.2829620255213712,9.3192411378129336E-2,0,0,0.16,18.559999999999999,0,0,"",5.659009201654726,0.11955704584501542,0.16,0,0.16,18.559999999999999,""]
[null,null,null,null,null,null,null,null,null,null,null,null,null,null,null,null,null,null,null,null,null,null,null,null,null,null,null,null,null,null,null,null,null,null,117,18.72,"Left Bank",52.341078897011307,96.589632631051273,52.333155368587505,94.589708784922934,95.863828879278401,0,0,0,"","",0,1.2741200943554674,1.2741200943554674,0,0,0,0,0,1.2741200943554674,9.2550146938341918E-2,0,0,0.16,18.72,0,0,"",5.6604054473344689,0.11943198700136576,0.16,0,0.16,18.72,""]
[null,null,null,null,null,null,null,null,null,null,null,null,null,null,null,null,null,null,null,null,null,null,null,null,null,null,null,null,null,null,null,null,null,null,118,18.88,"Left Bank",52.413714611118898,96.58823638537153,52.405791082695096,94.588312539243191,95.853590702432754,0,0,0,"","",0,1.2652781631895635,1.2652781631895635,0,0,0,0,0,1.2652781631895635,9.19078824985545E-2,0,0,0.16,18.88,0,0,"",5.6618016930142119,0.1193070589715402,0.16,0,0.16,18.88,""]
[null,null,null,null,null,null,null,null,null,null,null,null,null,null,null,null,null,null,null,null,null,null,null,null,null,null,null,null,null,null,null,null,null,null,119,19.04,"Left Bank",52.486350325226482,96.586840139691787,52.47842679680268,94.586916293563448,95.843352525587122,0,0,0,"","",0,1.2564362320236739,1.2564362320236739,0,0,0,0,0,1.2564362320236739,9.1265618058768122E-2,0,0,0.16,19.04,0,0,"",5.6631979386939548,0.11918226161870517,0.16,0,0.16,19.04,""]
[null,null,null,null,null,null,null,null,null,null,null,null,null,null,null,null,null,null,null,null,null,null,null,null,null,null,null,null,null,null,null,null,null,null,120,19.2,"Left Bank",52.558986039334073,96.585443894012045,52.55106251091027,94.585520047883705,95.833114348741475,0,0,0,"","",0,1.2475943008577701,1.2475943008577701,0,0,0,0,0,1.2475943008577701,9.0623353618980704E-2,0,0,0.16,19.2,0,0,"",5.6645941843736978,0.11905759480617017,0.16,0,0.16,19.2,""]
[null,null,null,null,null,null,null,null,null,null,null,null,null,null,null,null,null,null,null,null,null,null,null,null,null,null,null,null,null,null,null,null,null,null,121,19.36,"Left Bank",52.631621753441664,96.584047648332302,52.623698225017861,94.584123802203962,95.822876171895842,0,0,0,"","",0,1.2387523696918805,1.2387523696918805,0,0,0,0,0,1.2387523696918805,8.9981089179194326E-2,0,0,0.16,19.36,0,0,"",5.6659904300534407,0.1189330583973877,0.16,0,0.16,19.36,""]
[null,null,null,null,null,null,null,null,null,null,null,null,null,null,null,null,null,null,null,null,null,null,null,null,null,null,null,null,null,null,null,null,null,null,122,19.52,"Left Bank",52.704257467549247,96.582651402652559,52.696333939125445,94.582727556524219,95.812637995050196,0,0,0,"","",0,1.2299104385259767,1.2299104385259767,0,0,0,0,0,1.2299104385259767,8.9338824739406908E-2,0,0,0.16,19.52,0,0,"",5.6673866757331837,0.11880865225595313,0.16,0,0.16,19.52,""]
[null,null,null,null,null,null,null,null,null,null,null,null,null,null,null,null,null,null,null,null,null,null,null,null,null,null,null,null,null,null,null,null,null,null,123,19.68,"Left Bank",52.776893181656831,96.581255156972816,52.768969653233029,94.581331310844476,95.802399818204563,0,0,0,"","",0,1.2210685073600871,1.2210685073600871,0,0,0,0,0,1.2210685073600871,8.869656029962053E-2,0,0,0.16,19.68,0,0,"",5.6687829214129266,0.11868437624560428,0.16,0,0.16,19.68,""]
[null,null,null,null,null,null,null,null,null,null,null,null,null,null,null,null,null,null,null,null,null,null,null,null,null,null,null,null,null,null,null,null,null,null,124,19.84,"Left Bank",52.849528895764422,96.579858911293073,52.84160536734062,94.579935065164733,95.792161641358916,0,0,0,"","",0,1.2122265761941833,1.2122265761941833,0,0,0,0,0,1.2122265761941833,8.8054295859833112E-2,0,0,0.16,19.84,0,0,"",5.6701791670926696,0.11856023023022172,0.16,0,0.16,19.84,""]
[null,null,null,null,null,null,null,null,null,null,null,null,null,null,null,null,null,null,null,null,null,null,null,null,null,null,null,null,null,null,null,null,null,null,125,20,"Left Bank",52.922164609872013,96.57846266561333,52.91424108144821,94.57853881948499,95.78192346451327,0,0,0,"","",0,1.2033846450282795,1.2033846450282795,0,0,0,0,0,1.2033846450282795,8.7412031420045694E-2,0,0,0.16,20,0,0,"",5.6715754127724125,0.11843621407382839,0.16,0,0.16,20,""]
[null,null,null,null,null,null,null,null,null,null,null,null,null,null,null,null,null,null,null,null,null,null,null,null,null,null,null,null,null,null,null,null,null,null,126,20.16,"Left Bank",52.994800323979597,96.577066419933587,52.986876795555794,94.577142573805247,95.771685287667637,0,0,0,"","",0,1.1945427138623899,1.1945427138623899,0,0,0,0,0,1.1945427138623899,8.6769766980259316E-2,0,0,0.16,20.16,0,0,"",5.6729716584521555,0.11831232764058942,0.16,0,0.16,20.16,""]
[null,null,null,null,null,null,null,null,null,null,null,null,null,null,null,null,null,null,null,null,null,null,null,null,null,null,null,null,null,null,null,null,null,null,127,20.32,"Left Bank",53.06743603808718,96.575670174253844,53.059512509663378,94.575746328125504,95.76144711082199,0,0,0,"","",0,1.185700782696486,1.185700782696486,0,0,0,0,0,1.185700782696486,8.6127502540471898E-2,0,0,0.16,20.32,0,0,"",5.6743679041318984,0.11818857079481211,0.16,0,0.16,20.32,""]
[null,null,null,null,null,null,null,null,null,null,null,null,null,null,null,null,null,null,null,null,null,null,null,null,null,null,null,null,null,null,null,null,null,null,128,20.48,{"$f":"IF(OR($C$19=\"\",$F$25=\"\",$G$25=\"\"),\"None\",IF(AL173<$B$14,\"Left Floodplain\",IF(AL173<$B$15,\"Left Bank\",IF(AL173<$B$16,\"Left Stream Bed\",IF(AL173<$B$17,\"Right Stream Bed\",IF(AL173<$B$18,\"Right Bank\",\"Right Floodplain\"))))))","v":"Left Bank"},53.140071752194771,96.574273928574101,53.132148223770969,94.574350082445761,95.751208933976358,{"$f":"IF(OR($AP173<$AE$12,$AP173<=$AM173),0,IF(OR($AP173>=$AE$12,$AM173>=$AE$12),$AP173-$AM173-$AR173,$AP173-$AE$12))","v":0},{"$f":"IF($AP173<=$AM173,0,IF($AM173>=$AE$12,0,IF($AP173<=$AE$12,$AP173-$AM173,$AE$12-$AM173)))","v":0},0,"","",0,{"$f":"IF($AP173<=$AO173,0,IF($AO173>=$AE$12,0,IF($AP173<=$AE$12,$AP173-$AO173,$AE$12-$AO173)))","v":1.1768588515305964},{"$f":"IF(AP173<=AO173,0,AP173-AO173)","v":1.1768588515305964},{"$f":"IF($AS173=0,0,IF(OR($AJ173=0,$AJ173=$E$22),$AJ$46/2,$AJ$46))","v":0},{"$f":"IF(OR($AK173=\"Left Stream Bed\",$AK173=\"Right Stream Bed\"),$F$22*$AQ173*$AY173,0)","v":0},{"$f":"IF(OR($AK173=\"Left Stream Bed\",$AK173=\"Right Stream Bed\"),$F$22*$AR173*$AY173,0)","v":0},{"$f":"IF(OR($AK173=\"Left Floodplain\",$AK173=\"Left Bank\",$AK173=\"Right Bank\",$AK173=\"Right Floodplain\"),$F$22*$AQ173*$AY173,0)","v":0},{"$f":"IF(OR($AK173=\"Left Floodplain\",$AK173=\"Left Bank\",$AK173=\"Right Bank\",$AK173=\"Right Floodplain\"),$F$22*$AR173*$AY173,0)","v":0},{"$f":"AX173-AS173","v":1.1768588515305964},8.5485238100685521E-2,0,{"$f":"IF(OR($AJ173=0,$AJ173=$E$22),($BF173*$AJ$46/2)*ABS($M$17),$BF173*$AJ$46*ABS($M$17))","v":0},{"$f":"IF(OR($AM173<$AP173,$AO173>$AE$8),\"\",IF(OR($AJ173=0,$AJ173=$E$22),$AJ$46/2,$AJ$46))","v":0.16},20.48,0,{"$f":"IF($BJ173=\"\",\"\",IF(OR($BJ173>($F$22/2),$BJ173=0),0,0.45-($BJ173*0.45/($F$22/2))))","v":0},{"$f":"IF($BK173=\"\",\"\",IF($BK173>0,$AJ173,\"\"))","v":""},5.6757641498116413,0.11806494340094546,{"$f":"IF($AO173=0,0,IF($AO173>$AP173,0,IF(OR($AJ173=0,$AJ173=$E$22),$AJ$46/2,$AJ$46)))","v":0.16},{"$f":"IF(AND($BO173>0,OR($AK173=\"Left Stream Bed\",$AK173=\"Right Stream Bed\")),$BO173,0)","v":0},{"$f":"IF(AND($BO173>0,OR($AK173=\"Left Floodplain\",$AK173=\"Left Bank\",$AK173=\"Right Bank\",$AK173=\"Right Floodplain\")),$BO173,0)","v":0.16},{"$f":"IF($BO173>0,$AJ173,\"\")","v":20.48},""]
[null,null,null,null,null,null,null,null,null,null,null,null,null,null,null,null,null,null,null,null,null,null,null,null,null,null,null,null,null,null,null,null,null,null,129,{"$f":"($AI174/$AI$245)*$AJ$245","v":20.64},"Left Bank",53.212707466302362,96.572877682894358,{"$f":"$AN$45+ABS(AJ174*$M$19*$M$17)","v":53.20478393787856},94.572953836766018,95.740970757130711,0,0,{"$f":"IF(AP174<=AM174,0,AP174-AM174)","v":0},{"$f":"IF(OR($AS174=\"\",$AS174=0),\"\",IF(OR($AK174=\"Left Stream Bed\",$AK174=\"Right Stream Bed\"),$AS174,\"\"))","v":""},{"$f":"IF(OR($AS174=\"\",$AS174=0),\"\",IF(OR($AK174=\"Left Floodplain\",$AK174=\"Left Bank\",$AK174=\"Right Bank\",$AK174=\"Right Floodplain\"),$AS174,\"\"))","v":""},{"$f":"IF(OR($AP174<$AE$12,$AP174<=$AO174),0,IF($AO174>=$AE$12,$AP174-$AO174,$AP174-$AE$12))","v":0},1.1680169203646926,1.1680169203646926,0,0,0,0,0,1.1680169203646926,{"$f":"$BD174*$AJ$46*ABS($M$17)","v":8.4842973660898102E-2},{"$f":"AV174-AQ174","v":0},0,0.16,{"$f":"IF($BH174=\"\",\"\",IF($BH174>0,$AJ174,\"\"))","v":20.64},{"$f":"IF($BH174=\"\",\"\",IF(OR(($AO174-$AP174)<0,$AO$45>=$AE$8),0,($AO174-$AP174)))","v":0},0,"",{"$f":"IF($BH174=\"\",\"\",IF(OR(($AM174-$AP174)<0,$AM174>=$AE$8),\"\",($AE$8-($AM174-(($F$22/2)/$M$19)))))","v":5.6771603954913843},0.11794144532358049,0.16,0,0.16,20.64,{"$f":"IF($AY174>0,$AJ174,\"\")","v":""}]
[null,null,null,null,null,null,null,null,null,null,null,null,null,null,null,null,null,null,null,null,null,null,null,null,null,null,null,null,null,null,null,null,null,null,130,20.8,"Left Bank",53.285343180409946,{"$f":"AM174+((AL175-AL174)*$AA$40)","v":96.571481437214615},53.277419651986143,{"$f":"AO174+((AN175-AN174)*$AA$40)","v":94.571557591086275},{"$f":"IF($AL175<$B$14,(($AL175-$B$13)*$AB$31)+$C$13,IF($AL175<$B$15,(($AL175-$B$14)*$AB$32)+$C$14,IF($AL175<$B$16,(($AL175-$B$15)*$AB$33)+$C$15,IF($AL175<$B$17,(($AL175-$B$16)*$AB$34)+$C$16,IF($AL175<$B$18,(($AL175-$B$17)*$AB$35)+$C$17,IF($AL175<$B$19,(($AL175-$B$18)*$AB$36)+$C$18))))))","v":95.730732580285064},0,0,0,"","",0,1.1591749891987888,1.1591749891987888,0,0,0,0,0,1.1591749891987888,8.4200709221110684E-2,0,0,0.16,20.8,0,0,"",5.6785566411711272,{"$f":"IF($BM175=\"\",\"\",(((PI()^2)/32)*($B$66^-6)*EXP(-($BM175/$F$22)/(2*($B$66^2)))))","v":0.11781807642744978},0.16,0,0.16,20.8,""]
[null,null,null,null,null,null,null,null,null,null,null,null,null,null,null,null,null,null,null,null,null,null,null,null,null,null,null,null,null,null,null,null,null,null,131,20.96,"Left Bank",{"$f":"$AL$45+ABS(AJ176*$M$19*$M$17)","v":53.357978894517537},96.570085191534872,53.350055366093734,94.570161345406532,95.720494403439432,0,0,0,"","",0,1.1503330580328992,1.1503330580328992,0,0,0,0,0,1.1503330580328992,8.3558444781324306E-2,0,0,0.16,20.96,0,0,"",5.6799528868508702,0.11769483657742753,0.16,0,0.16,20.96,""]
[null,null,null,null,null,null,null,null,null,null,null,null,null,null,null,null,null,null,null,null,null,null,null,null,null,null,null,null,null,null,null,null,null,null,132,21.12,"Left Bank",53.43061460862512,96.568688945855129,53.422691080201318,94.568765099726789,95.710256226593785,0,0,0,"","",0,1.1414911268669954,1.1414911268669954,0,0,0,0,0,1.1414911268669954,8.2916180341536888E-2,0,0,0.16,21.12,0,0,"",5.6813491325306131,0.11757172563852895,0.16,0,0.16,21.12,""]
[null,null,null,null,null,null,null,null,null,null,null,null,null,null,null,null,null,null,null,null,null,null,null,null,null,null,null,null,null,null,null,null,null,null,133,21.28,"Left Bank",53.503250322732711,96.567292700175386,53.495326794308909,94.567368854047047,95.700018049748152,0,0,0,"","",0,1.1326491957011058,1.1326491957011058,0,0,0,0,0,1.1326491957011058,8.2273915901750511E-2,0,0,0.16,21.28,0,0,"",5.6827453782103561,0.11744874347591078,0.16,0,0.16,21.28,""]
[null,null,null,null,null,null,null,null,null,null,null,null,null,null,null,null,null,null,null,null,null,null,null,null,null,null,null,null,null,null,null,null,null,null,134,21.44,"Left Bank",53.575886036840295,96.565896454495643,53.567962508416493,94.565972608367304,95.689779872902506,0,0,0,"","",0,1.123807264535202,1.123807264535202,0,0,0,0,0,1.123807264535202,8.1631651461963092E-2,0,0,0.16,21.44,0,0,"",5.684141623890099,0.11732588995487067,0.16,0,0.16,21.44,""]
[null,null,null,null,null,null,null,null,null,null,null,null,null,null,null,null,null,null,null,null,null,null,null,null,null,null,null,null,null,null,null,null,null,null,135,21.6,"Left Bank",53.648521750947886,96.5645002088159,53.640598222524083,94.564576362687561,95.679541696056859,0,0,0,"","",0,1.1149653333692982,1.1149653333692982,0,0,0,0,0,1.1149653333692982,8.0989387022175674E-2,0,0,0.16,21.6,0,0,"",5.685537869569842,0.1172031649408472,0.16,0,0.16,21.6,""]
[null,null,null,null,null,null,null,null,null,null,null,null,null,null,null,null,null,null,null,null,null,null,null,null,null,null,null,null,null,null,null,null,null,null,136,21.76,"Left Bank",53.72115746505547,96.563103963136157,53.713233936631667,94.563180117007818,95.669303519211226,0,0,0,"","",0,1.1061234022034085,1.1061234022034085,0,0,0,0,0,1.1061234022034085,8.0347122582389296E-2,0,0,0.16,21.76,0,0,"",5.6869341152495849,0.11708056829941979,0.16,0,0.16,21.76,""]
[null,null,null,null,null,null,null,null,null,null,null,null,null,null,null,null,null,null,null,null,null,null,null,null,null,null,null,null,null,null,null,null,null,null,137,21.92,"Left Bank",53.79379317916306,96.561707717456414,53.785869650739258,94.561783871328075,95.659065342365579,0,0,0,"","",0,1.0972814710375047,1.0972814710375047,0,0,0,0,0,1.0972814710375047,7.9704858142601878E-2,0,0,0.16,21.92,0,0,"",5.6883303609293279,0.11695809989630818,0.16,0,0.16,21.92,""]
[null,null,null,null,null,null,null,null,null,null,null,null,null,null,null,null,null,null,null,null,null,null,null,null,null,null,null,null,null,null,null,null,null,null,138,22.08,"Left Bank",53.866428893270644,96.560311471776672,53.858505364846842,94.560387625648332,95.648827165519947,0,0,0,"","",0,1.0884395398716151,1.0884395398716151,0,0,0,0,0,1.0884395398716151,7.9062593702815501E-2,0,0,0.16,22.08,0,0,"",5.6897266066090708,0.11683575959737284,0.16,0,0.16,22.08,""]
[null,null,null,null,null,null,null,null,null,null,null,null,null,null,null,null,null,null,null,null,null,null,null,null,null,null,null,null,null,null,null,null,null,null,139,22.24,"Left Bank",53.939064607378235,96.558915226096929,53.931141078954433,94.558991379968589,95.6385889886743,0,0,0,"","",0,1.0795976087057113,1.0795976087057113,0,0,0,0,0,1.0795976087057113,7.8420329263028082E-2,0,0,0.16,22.24,0,0,"",5.6911228522888138,0.11671354726861451,0.16,0,0.16,22.24,""]
[null,null,null,null,null,null,null,null,null,null,null,null,null,null,null,null,null,null,null,null,null,null,null,null,null,null,null,null,null,null,null,null,null,null,140,22.4,"Left Stream Bed",54.011700321485819,96.557518980417186,54.003776793062016,94.557595134288846,95.628675523607797,0,0,0,"","",0,1.0710803893189507,1.0710803893189507,0,0,0,0,0,1.0710803893189507,7.7801651393302182E-2,0,0,0.16,22.4,0,0,"",5.6925190979685567,0.11659146277617401,0.16,0.16,0,22.4,""]
[null,null,null,null,null,null,null,null,null,null,null,null,null,null,null,null,null,null,null,null,null,null,null,null,null,null,null,null,null,null,null,null,null,null,141,22.56,"Left Stream Bed",54.08433603559341,96.556122734737443,54.076412507169607,94.556198888609103,95.620453160770822,0,0,0,"","",0,1.064254272161719,1.064254272161719,0,0,0,0,0,1.064254272161719,7.7305812618983408E-2,0,0,0.16,22.56,0,0,"",5.6939153436482997,0.11646950598633235,0.16,0.16,0,22.56,""]
[null,null,null,null,null,null,null,null,null,null,null,null,null,null,null,null,null,null,null,null,null,null,null,null,null,null,null,null,null,null,null,null,null,null,142,22.72,"Left Stream Bed",54.156971749700993,96.5547264890577,54.149048221277191,94.55480264292936,95.612230797933847,0,0,0,"","",0,1.0574281550044873,1.0574281550044873,0,0,0,0,0,1.0574281550044873,7.6809973844664647E-2,0,0,0.16,22.72,0,0,"",5.6953115893280426,0.1163476767655101,0.16,0.16,0,22.72,""]
[null,null,null,null,null,null,null,null,null,null,null,null,null,null,null,null,null,null,null,null,null,null,null,null,null,null,null,null,null,null,null,null,null,null,143,22.88,"Left Stream Bed",54.229607463808584,96.553330243377957,54.221683935384782,94.553406397249617,95.604008435096858,0,0,0,"","",0,1.0506020378472414,1.0506020378472414,0,0,0,0,0,1.0506020378472414,7.6314135070344846E-2,0,0,0.16,22.88,0,0,"",5.6967078350077855,0.11622597498026783,0.16,0.16,0,22.88,""]
[null,null,null,null,null,null,null,null,null,null,null,null,null,null,null,null,null,null,null,null,null,null,null,null,null,null,null,null,null,null,null,null,null,null,144,23.04,"Left Stream Bed",54.302243177916168,96.551933997698214,54.294319649492365,94.552010151569874,95.595786072259884,0,0,0,"","",0,1.0437759206900097,1.0437759206900097,0,0,0,0,0,1.0437759206900097,7.5818296296026072E-2,0,0,0.16,23.04,0,0,"",5.6981040806875285,0.11610440049730562,0.16,0.16,0,23.04,""]
[null,null,null,null,null,null,null,null,null,null,null,null,null,null,null,null,null,null,null,null,null,null,null,null,null,null,null,null,null,null,null,null,null,null,145,23.2,"Left Stream Bed",54.374878892023759,96.550537752018471,54.366955363599956,94.550613905890131,95.587563709422909,0,0,0,"","",0,1.036949803532778,1.036949803532778,0,0,0,0,0,1.036949803532778,7.5322457521707298E-2,0,0,0.16,23.2,0,0,"",5.6995003263672714,0.11598295318346297,0.16,0.16,0,23.2,""]
[null,null,null,null,null,null,null,null,null,null,null,null,null,null,null,null,null,null,null,null,null,null,null,null,null,null,null,null,null,null,null,null,null,null,146,23.36,"Left Stream Bed",54.447514606131342,96.549141506338728,54.43959107770754,94.549217660210388,95.579341346585935,0,0,0,"","",0,1.0301236863755463,1.0301236863755463,0,0,0,0,0,1.0301236863755463,7.4826618747388537E-2,0,0,0.16,23.36,0,0,"",5.7008965720470144,0.11586163290571874,0.16,0.16,0,23.36,""]
[null,null,null,null,null,null,null,null,null,null,null,null,null,null,null,null,null,null,null,null,null,null,null,null,null,null,null,null,null,null,null,null,null,null,147,23.52,"Left Stream Bed",54.520150320238933,96.547745260658985,54.512226791815131,94.547821414530645,95.571118983748946,0,0,0,"","",0,1.0232975692183004,1.0232975692183004,0,0,0,0,0,1.0232975692183004,7.4330779973068722E-2,0,0,0.16,23.52,0,0,"",5.7022928177267573,0.1157404395311907,0.16,0.16,0,23.52,""]
[null,null,null,null,null,null,null,null,null,null,null,null,null,null,null,null,null,null,null,null,null,null,null,null,null,null,null,null,null,null,null,null,null,null,148,23.68,"Left Stream Bed",54.592786034346517,96.546349014979242,54.584862505922715,94.546425168850902,95.562896620911971,0,0,0,"","",0,1.0164714520610687,1.0164714520610687,0,0,0,0,0,1.0164714520610687,7.3834941198749962E-2,0,0,0.16,23.68,0,0,"",5.7036890634065003,0.11561937292713585,0.16,0.16,0,23.68,""]
[null,null,null,null,null,null,null,null,null,null,null,null,null,null,null,null,null,null,null,null,null,null,null,null,null,null,null,null,null,null,null,null,null,null,149,23.84,"Left Stream Bed",54.665421748454108,96.544952769299499,54.657498220030305,94.545028923171159,95.554674258074996,0,0,0,"","",0,1.009645334903837,1.009645334903837,0,0,0,0,0,1.009645334903837,7.3339102424431202E-2,0,0,0.16,23.84,0,0,"",5.7050853090862432,0.11549843296095,0.16,0.16,0,23.84,""]
[null,null,null,null,null,null,null,null,null,null,null,null,null,null,null,null,null,null,null,null,null,null,null,null,null,null,null,null,null,null,null,null,null,null,150,24,"Left Stream Bed",54.738057462561699,96.543556523619756,54.730133934137896,94.543632677491416,95.546451895238008,0,0,0,"","",0,1.0028192177465911,1.0028192177465911,0,0,0,0,0,1.0028192177465911,7.2843263650111401E-2,0,0,0.16,24,0,0,"",5.7064815547659862,0.11537761950016773,0.16,0.16,0,24,""]
[null,null,null,null,null,null,null,null,null,null,null,null,null,null,null,null,null,null,null,null,null,null,null,null,null,null,null,null,null,null,null,null,null,null,151,24.16,"Left Stream Bed",54.810693176669282,96.542160277940013,54.80276964824548,94.542236431811673,95.538229532401033,0,0,0,"","",0,0.99599310058935941,0.99599310058935941,0,0,0,0,0,0.99599310058935941,7.2347424875792626E-2,0,0,0.16,24.16,0,0,"",5.7078778004457291,0.11525693241246183,0.16,0.16,0,24.16,""]
[null,null,null,null,null,null,null,null,null,null,null,null,null,null,null,null,null,null,null,null,null,null,null,null,null,null,null,null,null,null,null,null,null,null,152,24.32,"Left Stream Bed",54.883328890776866,96.54076403226027,54.875405362353064,94.540840186131931,95.530007169564058,0,0,0,"","",0,0.98916698343212772,0.98916698343212772,0,0,0,0,0,0.98916698343212772,7.1851586101473852E-2,0,0,0.16,24.32,0,0,"",5.7092740461254721,0.11513637156564396,0.16,0.16,0,24.32,""]
[null,null,null,null,null,null,null,null,null,null,null,null,null,null,null,null,null,null,null,null,null,null,null,null,null,null,null,null,null,null,null,null,null,null,153,24.48,"Left Stream Bed",54.955964604884457,96.539367786580527,54.948041076460655,94.539443940452188,95.521784806727069,0,0,0,"","",0,0.98234086627488182,0.98234086627488182,0,0,0,0,0,0.98234086627488182,7.1355747327154051E-2,0,0,0.16,24.48,0,0,"",5.710670291805215,0.1150159368276638,0.16,0.16,0,24.48,""]
[null,null,null,null,null,null,null,null,null,null,null,null,null,null,null,null,null,null,null,null,null,null,null,null,null,null,null,null,null,null,null,null,null,null,154,24.64,"Left Stream Bed",55.028600318992048,96.537971540900784,55.020676790568245,94.538047694772445,95.513562443890095,0,0,0,"","",0,0.97551474911765013,0.97551474911765013,0,0,0,0,0,0.97551474911765013,7.0859908552835277E-2,0,0,0.16,24.64,0,0,"",5.712066537484958,0.11489562806660919,0.16,0.16,0,24.64,""]
[null,null,null,null,null,null,null,null,null,null,null,null,null,null,null,null,null,null,null,null,null,null,null,null,null,null,null,null,null,null,null,null,null,null,155,24.8,"Left Stream Bed",55.101236033099632,96.536575295221041,55.093312504675829,94.536651449092702,95.50534008105312,0,0,0,"","",0,0.96868863196041843,0.96868863196041843,0,0,0,0,0,0.96868863196041843,7.0364069778516503E-2,0,0,0.16,24.8,0,0,"",5.7134627831647009,0.11477544515070615,0.16,0.16,0,24.8,""]
[null,null,null,null,null,null,null,null,null,null,null,null,null,null,null,null,null,null,null,null,null,null,null,null,null,null,null,null,null,null,null,null,null,null,156,24.96,"Left Stream Bed",55.173871747207215,96.535179049541298,55.165948218783413,94.535255203412959,95.497117718216145,0,0,0,"","",0,0.96186251480318674,0.96186251480318674,0,0,0,0,0,0.96186251480318674,6.9868231004197742E-2,0,0,0.16,24.96,0,0,"",5.7148590288444439,0.11465538794831807,0.16,0.16,0,24.96,""]
[null,null,null,null,null,null,null,null,null,null,null,null,null,null,null,null,null,null,null,null,null,null,null,null,null,null,null,null,null,null,null,null,null,null,157,25.12,"Left Stream Bed",55.246507461314806,96.533782803861556,55.238583932891004,94.533858957733216,95.488895355379157,0,0,0,"","",0,0.95503639764594084,0.95503639764594084,0,0,0,0,0,0.95503639764594084,6.9372392229877941E-2,0,0,0.16,25.12,0,0,"",5.7162552745241868,0.11453545632794651,0.16,0.16,0,25.12,""]
[null,null,null,null,null,null,null,null,null,null,null,null,null,null,null,null,null,null,null,null,null,null,null,null,null,null,null,null,null,null,null,null,null,null,158,25.28,"Left Stream Bed",55.319143175422397,96.532386558181813,55.311219646998595,94.532462712053473,95.480672992542182,0,0,0,"","",0,0.94821028048870915,0.94821028048870915,0,0,0,0,0,0.94821028048870915,6.8876553455559167E-2,0,0,0.16,25.28,0,0,"",5.7176515202039297,0.11441565015823035,0.16,0.16,0,25.28,""]
[null,null,null,null,null,null,null,null,null,null,null,null,null,null,null,null,null,null,null,null,null,null,null,null,null,null,null,null,null,null,null,null,null,null,159,25.44,"Left Stream Bed",55.391778889529981,96.53099031250207,55.383855361106178,94.53106646637373,95.472450629705207,0,0,0,"","",0,0.94138416333147745,0.94138416333147745,0,0,0,0,0,0.94138416333147745,6.8380714681240407E-2,0,0,0.16,25.44,0,0,"",5.7190477658836727,0.11429596930794596,0.16,0.16,0,25.44,""]
[null,null,null,null,null,null,null,null,null,null,null,null,null,null,null,null,null,null,null,null,null,null,null,null,null,null,null,null,null,null,null,null,null,null,160,25.6,"Left Stream Bed",55.464414603637572,96.529594066822327,55.456491075213769,94.529670220693987,95.464228266868218,0,0,0,"","",0,0.93455804617423155,0.93455804617423155,0,0,0,0,0,0.93455804617423155,6.7884875906920591E-2,0,0,0.16,25.6,0,0,"",5.7204440115634156,0.11417641364600699,0.16,0.16,0,25.6,""]
[null,null,null,null,null,null,null,null,null,null,null,null,null,null,null,null,null,null,null,null,null,null,null,null,null,null,null,null,null,null,null,null,null,null,161,25.76,"Left Stream Bed",55.537050317745155,96.528197821142584,55.529126789321353,94.528273975014244,95.456005904031244,0,0,0,"","",0,0.92773192901699986,0.92773192901699986,0,0,0,0,0,0.92773192901699986,6.7389037132601831E-2,0,0,0.16,25.76,0,0,"",5.7218402572431586,0.114056983041464,0.16,0.16,0,25.76,""]
[null,null,null,null,null,null,null,null,null,null,null,null,null,null,null,null,null,null,null,null,null,null,null,null,null,null,null,null,null,null,null,null,null,null,162,25.92,"Left Stream Bed",55.609686031852746,96.526801575462841,55.601762503428944,94.526877729334501,95.447783541194269,0,0,0,"","",0,0.92090581185976816,0.92090581185976816,0,0,0,0,0,0.92090581185976816,6.6893198358283057E-2,0,0,0.16,25.92,0,0,"",5.7232365029229015,0.11393767736350474,0.16,0.16,0,25.92,""]
[null,null,null,null,null,null,null,null,null,null,null,null,null,null,null,null,null,null,null,null,null,null,null,null,null,null,null,null,null,null,null,null,null,null,163,26.08,"Left Stream Bed",55.68232174596033,96.525405329783098,55.674398217536528,94.525481483654758,95.43956117835728,0,0,0,"","",0,0.91407969470252226,0.91407969470252226,0,0,0,0,0,0.91407969470252226,6.639735958396327E-2,0,0,0.16,26.08,0,0,"",5.7246327486026445,0.11381849648145376,0.16,0.16,0,26.08,""]
[null,null,null,null,null,null,null,null,null,null,null,null,null,null,null,null,null,null,null,null,null,null,null,null,null,null,null,null,null,null,null,null,null,null,164,26.24,"Left Stream Bed",55.754957460067914,96.524009084103355,55.747033931644111,94.524085237975015,95.431338815520306,0,0,0,"","",0,0.90725357754529057,0.90725357754529057,0,0,0,0,0,0.90725357754529057,6.5901520809644495E-2,0,0,0.16,26.24,0,0,"",5.7260289942823874,0.11369944026477237,0.16,0.16,0,26.24,""]
[null,null,null,null,null,null,null,null,null,null,null,null,null,null,null,null,null,null,null,null,null,null,null,null,null,null,null,null,null,null,null,null,null,null,165,26.4,"Left Stream Bed",55.827593174175504,96.522612838423612,55.819669645751702,94.522688992295272,95.423116452683331,0,0,0,"","",0,0.90042746038805888,0.90042746038805888,0,0,0,0,0,0.90042746038805888,6.5405682035325721E-2,0,0,0.16,26.4,0,0,"",5.7274252399621304,0.1135805085830581,0.16,0.16,0,26.4,""]
[null,null,null,null,null,null,null,null,null,null,null,null,null,null,null,null,null,null,null,null,null,null,null,null,null,null,null,null,null,null,null,null,null,null,166,26.56,"Left Stream Bed",55.900228888283095,96.521216592743869,55.892305359859293,94.521292746615529,95.414894089846342,0,0,0,"","",0,0.89360134323081297,0.89360134323081297,0,0,0,0,0,0.89360134323081297,6.490984326100592E-2,0,0,0.16,26.56,0,0,"",5.7288214856418733,0.11346170130604524,0.16,0.16,0,26.56,""]
[null,null,null,null,null,null,null,null,null,null,null,null,null,null,null,null,null,null,null,null,null,null,null,null,null,null,null,null,null,null,null,null,null,null,167,26.72,"Left Stream Bed",55.972864602390679,96.519820347064126,55.964941073966877,94.519896500935786,95.406671727009368,0,0,0,"","",0,0.88677522607358128,0.88677522607358128,0,0,0,0,0,0.88677522607358128,6.4414004486687146E-2,0,0,0.16,26.72,0,0,"",5.7302177313216163,0.11334301830360419,0.16,0.16,0,26.72,""]
[null,null,null,null,null,null,null,null,null,null,null,null,null,null,null,null,null,null,null,null,null,null,null,null,null,null,null,null,null,null,null,null,null,null,168,26.88,"Left Stream Bed",56.045500316498263,96.518424101384383,56.03757678807446,94.518500255256043,95.398449364172393,0,0,0,"","",0,0.87994910891634959,0.87994910891634959,0,0,0,0,0,0.87994910891634959,6.3918165712368372E-2,0,0,0.16,26.88,0,0,"",5.7316139770013592,0.11322445944574151,0.16,0.16,0,26.88,""]
[null,null,null,null,null,null,null,null,null,null,null,null,null,null,null,null,null,null,null,null,null,null,null,null,null,null,null,null,null,null,null,null,null,null,169,27.04,"Left Stream Bed",56.118136030605854,96.51702785570464,56.110212502182051,94.5171040095763,95.390227001335418,0,0,0,"","",0,0.87312299175911789,0.87312299175911789,0,0,0,0,0,0.87312299175911789,6.3422326938049597E-2,0,0,0.16,27.04,0,0,"",5.7330102226811022,0.1131060246025998,0.16,0.16,0,27.04,""]
[null,null,null,null,null,null,null,null,null,null,null,null,null,null,null,null,null,null,null,null,null,null,null,null,null,null,null,null,null,null,null,null,null,null,170,27.2,"Left Stream Bed",56.190771744713444,96.515631610024897,56.182848216289642,94.515707763896557,95.382004638498429,0,0,0,"","",0,0.86629687460187199,0.86629687460187199,0,0,0,0,0,0.86629687460187199,6.292648816372981E-2,0,0,0.16,27.2,0,0,"",5.7344064683608451,0.11298771364445721,0.16,0.16,0,27.2,""]
[null,null,null,null,null,null,null,null,null,null,null,null,null,null,null,null,null,null,null,null,null,null,null,null,null,null,null,null,null,null,null,null,null,null,171,27.36,"Left Stream Bed",56.263407458821028,96.514235364345154,56.255483930397226,94.514311518216815,95.373782275661455,0,0,0,"","",0,0.8594707574446403,0.8594707574446403,0,0,0,0,0,0.8594707574446403,6.2430649389411043E-2,0,0,0.16,27.36,0,0,"",5.7358027140405881,0.11286952644172789,0.16,0.16,0,27.36,""]
[null,null,null,null,null,null,null,null,null,null,null,null,null,null,null,null,null,null,null,null,null,null,null,null,null,null,null,null,null,null,null,null,null,null,172,27.52,"Left Stream Bed",56.336043172928619,96.512839118665411,56.328119644504817,94.512915272537072,95.36555991282448,0,0,0,"","",0,0.85264464028740861,0.85264464028740861,0,0,0,0,0,0.85264464028740861,6.1934810615092269E-2,0,0,0.16,27.52,0,0,"",5.737198959720331,0.11275146286496139,0.16,0.16,0,27.52,""]
[null,null,null,null,null,null,null,null,null,null,null,null,null,null,null,null,null,null,null,null,null,null,null,null,null,null,null,null,null,null,null,null,null,null,173,27.68,"Left Stream Bed",56.408678887036203,96.511442872985668,56.4007553586124,94.511519026857329,95.357337549987491,0,0,0,"","",0,0.8458185231301627,0.8458185231301627,0,0,0,0,0,0.8458185231301627,6.1438971840772467E-2,0,0,0.16,27.68,0,0,"",5.738595205400074,0.11263352278484275,0.16,0.16,0,27.68,""]
[null,null,null,null,null,null,null,null,null,null,null,null,null,null,null,null,null,null,null,null,null,null,null,null,null,null,null,null,null,null,null,null,null,null,174,27.84,"Left Stream Bed",56.481314601143794,96.510046627305925,56.473391072719991,94.510122781177586,95.349115187150517,0,0,0,"","",0,0.83899240597293101,0.83899240597293101,0,0,0,0,0,0.83899240597293101,6.0943133066453693E-2,0,0,0.16,27.84,0,0,"",5.7399914510798169,0.11251570607219229,0.16,0.16,0,27.84,""]
[null,null,null,null,null,null,null,null,null,null,null,null,null,null,null,null,null,null,null,null,null,null,null,null,null,null,null,null,null,null,null,null,null,null,175,28,"Left Stream Bed",56.553950315251377,96.508650381626182,56.546026786827575,94.508726535497843,95.340892824313542,0,0,0,"","",0,0.83216628881569932,0.83216628881569932,0,0,0,0,0,0.83216628881569932,6.0447294292134926E-2,0,0,0.16,28,0,0,"",5.7413876967595598,0.11239801259796524,0.16,0.16,0,28,""]
[null,null,null,null,null,null,null,null,null,null,null,null,null,null,null,null,null,null,null,null,null,null,null,null,null,null,null,null,null,null,null,null,null,null,176,28.16,"Left Stream Bed",56.626586029358968,96.50725413594644,56.618662500935166,94.5073302898181,95.332670461476567,0,0,0,"","",0,0.82534017165846763,0.82534017165846763,0,0,0,0,0,0.82534017165846763,5.9951455517816152E-2,0,0,0.16,28.16,0,0,"",5.7427839424393028,0.11228044223325202,0.16,0.16,0,28.16,""]
[null,null,null,null,null,null,null,null,null,null,null,null,null,null,null,null,null,null,null,null,null,null,null,null,null,null,null,null,null,null,null,null,null,null,177,28.32,"Left Stream Bed",56.699221743466552,96.505857890266697,56.69129821504275,94.505934044138357,95.324448098639579,0,0,0,"","",0,0.81851405450122172,0.81851405450122172,0,0,0,0,0,0.81851405450122172,5.9455616743496358E-2,0,0,0.16,28.32,0,0,"",5.7441801881190457,0.11216299484927787,0.16,0.16,0,28.32,""]
[null,null,null,null,null,null,null,null,null,null,null,null,null,null,null,null,null,null,null,null,null,null,null,null,null,null,null,null,null,null,null,null,null,null,178,28.48,"Left Stream Bed",56.771857457574143,96.504461644586954,56.76393392915034,94.504537798458614,95.316225735802604,0,0,0,"","",0,0.81168793734399003,0.81168793734399003,0,0,0,0,0,0.81168793734399003,5.895977796917759E-2,0,0,0.16,28.48,0,0,"",5.7455764337987887,0.11204567031740272,0.16,0.16,0,28.48,""]
[null,null,null,null,null,null,null,null,null,null,null,null,null,null,null,null,null,null,null,null,null,null,null,null,null,null,null,null,null,null,null,null,null,null,179,28.64,"Left Stream Bed",56.844493171681734,96.503065398907211,56.836569643257931,94.503141552778871,95.308003372965629,0,0,0,"","",0,0.80486182018675834,0.80486182018675834,0,0,0,0,0,0.80486182018675834,5.8463939194858816E-2,0,0,0.16,28.64,0,0,"",5.7469726794785316,0.11192846850912111,0.16,0.16,0,28.64,""]
[null,null,null,null,null,null,null,null,null,null,null,null,null,null,null,null,null,null,null,null,null,null,null,null,null,null,null,null,null,null,null,null,null,null,180,28.8,"Left Stream Bed",56.917128885789317,96.501669153227468,56.909205357365515,94.501745307099128,95.29978101012864,0,0,0,"","",0,0.79803570302951243,0.79803570302951243,0,0,0,0,0,0.79803570302951243,5.7968100420539015E-2,0,0,0.16,28.8,0,0,"",5.7483689251582746,0.11181138929606173,0.16,0.16,0,28.8,""]
[null,null,null,null,null,null,null,null,null,null,null,null,null,null,null,null,null,null,null,null,null,null,null,null,null,null,null,null,null,null,null,null,null,null,181,28.96,"Left Stream Bed",56.989764599896901,96.500272907547725,56.981841071473099,94.500349061419385,95.291558647291666,0,0,0,"","",0,0.79120958587228074,0.79120958587228074,0,0,0,0,0,0.79120958587228074,5.7472261646220241E-2,0,0,0.16,28.96,0,0,"",5.7497651708380175,0.11169443254998784,0.16,0.16,0,28.96,""]
[null,null,null,null,null,null,null,null,null,null,null,null,null,null,null,null,null,null,null,null,null,null,null,null,null,null,null,null,null,null,null,null,null,null,182,29.12,"Left Stream Bed",57.062400314004492,96.498876661867982,57.05447678558069,94.498952815739642,95.283336284454691,0,0,0,"","",0,0.78438346871504905,0.78438346871504905,0,0,0,0,0,0.78438346871504905,5.6976422871901473E-2,0,0,0.16,29.12,0,0,"",5.7511614165177605,0.11157759814279679,0.16,0.16,0,29.12,""]
[null,null,null,null,null,null,null,null,null,null,null,null,null,null,null,null,null,null,null,null,null,null,null,null,null,null,null,null,null,null,null,null,null,null,183,29.28,"Left Stream Bed",57.135036028112083,96.497480416188239,57.12711249968828,94.497556570059899,95.275113921617702,0,0,0,"","",0,0.77755735155780314,0.77755735155780314,0,0,0,0,0,0.77755735155780314,5.6480584097581672E-2,0,0,0.16,29.28,0,0,"",5.7525576621975034,0.11146088594651994,0.16,0.16,0,29.28,""]
[null,null,null,null,null,null,null,null,null,null,null,null,null,null,null,null,null,null,null,null,null,null,null,null,null,null,null,null,null,null,null,null,null,null,184,29.44,"Left Stream Bed",57.207671742219667,96.496084170508496,57.199748213795864,94.496160324380156,95.266891558780728,0,0,0,"","",0,0.77073123440057145,0.77073123440057145,0,0,0,0,0,0.77073123440057145,5.5984745323262905E-2,0,0,0.16,29.44,0,0,"",5.7539539078772464,0.11134429583332228,0.16,0.16,0,29.44,""]
[null,null,null,null,null,null,null,null,null,null,null,null,null,null,null,null,null,null,null,null,null,null,null,null,null,null,null,null,null,null,null,null,null,null,185,29.6,"Left Stream Bed",57.28030745632725,96.494687924828753,57.272383927903448,94.494764078700413,95.258669195943753,0,0,0,"","",0,0.76390511724333976,0.76390511724333976,0,0,0,0,0,0.76390511724333976,5.5488906548944131E-2,0,0,0.16,29.6,0,0,"",5.7553501535569893,0.11122782767550278,0.16,0.16,0,29.6,""]
[null,null,null,null,null,null,null,null,null,null,null,null,null,null,null,null,null,null,null,null,null,null,null,null,null,null,null,null,null,null,null,null,null,null,186,29.76,"Left Stream Bed",57.352943170434841,96.49329167914901,57.345019642011039,94.49336783302067,95.250446833106778,0,0,0,"","",0,0.75707900008610807,0.75707900008610807,0,0,0,0,0,0.75707900008610807,5.4993067774625363E-2,0,0,0.16,29.76,0,0,"",5.7567463992367323,0.11111148134549388,0.16,0.16,0,29.76,""]
[null,null,null,null,null,null,null,null,null,null,null,null,null,null,null,null,null,null,null,null,null,null,null,null,null,null,null,null,null,null,null,null,null,null,187,29.92,"Left Stream Bed",57.425578884542432,96.491895433469267,57.41765535611863,94.491971587340927,95.24222447026979,0,0,0,"","",0,0.75025288292886216,0.75025288292886216,0,0,0,0,0,0.75025288292886216,5.4497229000305562E-2,0,0,0.16,29.92,0,0,"",5.7581426449164752,0.1109952567158615,0.16,0.16,0,29.92,""]
[null,null,null,null,null,null,null,null,null,null,null,null,null,null,null,null,null,null,null,null,null,null,null,null,null,null,null,null,null,null,null,null,null,null,188,30.08,"Left Stream Bed",57.498214598650016,96.490499187789524,57.490291070226213,94.490575341661184,95.234002107432815,0,0,0,"","",0,0.74342676577163047,0.74342676577163047,0,0,0,0,0,0.74342676577163047,5.4001390225986788E-2,0,0,0.16,30.08,0,0,"",5.7595388905962182,0.11087915365930491,0.16,0.16,0,30.08,""]
[null,null,null,null,null,null,null,null,null,null,null,null,null,null,null,null,null,null,null,null,null,null,null,null,null,null,null,null,null,null,null,null,null,null,189,30.24,"Left Stream Bed",57.570850312757599,96.489102942109781,57.562926784333797,94.489179095981441,95.22577974459584,0,0,0,"","",0,0.73660064861439878,0.73660064861439878,0,0,0,0,0,0.73660064861439878,5.3505551451668021E-2,0,0,0.16,30.24,0,0,"",5.7609351362759611,0.11076317204865629,0.16,0.16,0,30.24,""]
[null,null,null,null,null,null,null,null,null,null,null,null,null,null,null,null,null,null,null,null,null,null,null,null,null,null,null,null,null,null,null,null,null,null,190,30.4,"Left Stream Bed",57.64348602686519,96.487706696430038,57.635562498441388,94.487782850301699,95.217557381758851,0,0,0,"","",0,0.72977453145715288,0.72977453145715288,0,0,0,0,0,0.72977453145715288,5.300971267734822E-2,0,0,0.16,30.4,0,0,"",5.762331381955704,0.1106473117568811,0.16,0.16,0,30.4,""]
[null,null,null,null,null,null,null,null,null,null,null,null,null,null,null,null,null,null,null,null,null,null,null,null,null,null,null,null,null,null,null,null,null,null,191,30.56,"Left Stream Bed",57.716121740972781,96.486310450750295,57.708198212548979,94.486386604621956,95.209335018921877,0,0,0,"","",0,0.72294841429992118,0.72294841429992118,0,0,0,0,0,0.72294841429992118,5.2513873903029452E-2,0,0,0.16,30.56,0,0,"",5.763727627635447,0.1105315726570776,0.16,0.16,0,30.56,""]
[null,null,null,null,null,null,null,null,null,null,null,null,null,null,null,null,null,null,null,null,null,null,null,null,null,null,null,null,null,null,null,null,null,null,192,30.72,{"$f":"IF(OR($C$19=\"\",$F$25=\"\",$G$25=\"\"),\"None\",IF(AL237<$B$14,\"Left Floodplain\",IF(AL237<$B$15,\"Left Bank\",IF(AL237<$B$16,\"Left Stream Bed\",IF(AL237<$B$17,\"Right Stream Bed\",IF(AL237<$B$18,\"Right Bank\",\"Right Floodplain\"))))))","v":"Left Stream Bed"},57.788757455080365,96.484914205070552,57.780833926656562,94.484990358942213,95.201112656084902,{"$f":"IF(OR($AP237<$AE$12,$AP237<=$AM237),0,IF(OR($AP237>=$AE$12,$AM237>=$AE$12),$AP237-$AM237-$AR237,$AP237-$AE$12))","v":0},{"$f":"IF($AP237<=$AM237,0,IF($AM237>=$AE$12,0,IF($AP237<=$AE$12,$AP237-$AM237,$AE$12-$AM237)))","v":0},0,"","",0,{"$f":"IF($AP237<=$AO237,0,IF($AO237>=$AE$12,0,IF($AP237<=$AE$12,$AP237-$AO237,$AE$12-$AO237)))","v":0.71612229714268949},{"$f":"IF(AP237<=AO237,0,AP237-AO237)","v":0.71612229714268949},{"$f":"IF($AS237=0,0,IF(OR($AJ237=0,$AJ237=$E$22),$AJ$46/2,$AJ$46))","v":0},{"$f":"IF(OR($AK237=\"Left Stream Bed\",$AK237=\"Right Stream Bed\"),$F$22*$AQ237*$AY237,0)","v":0},{"$f":"IF(OR($AK237=\"Left Stream Bed\",$AK237=\"Right Stream Bed\"),$F$22*$AR237*$AY237,0)","v":0},{"$f":"IF(OR($AK237=\"Left Floodplain\",$AK237=\"Left Bank\",$AK237=\"Right Bank\",$AK237=\"Right Floodplain\"),$F$22*$AQ237*$AY237,0)","v":0},{"$f":"IF(OR($AK237=\"Left Floodplain\",$AK237=\"Left Bank\",$AK237=\"Right Bank\",$AK237=\"Right Floodplain\"),$F$22*$AR237*$AY237,0)","v":0},{"$f":"AX237-AS237","v":0.71612229714268949},5.2018035128710678E-2,0,{"$f":"IF(OR($AJ237=0,$AJ237=$E$22),($BF237*$AJ$46/2)*ABS($M$17),$BF237*$AJ$46*ABS($M$17))","v":0},{"$f":"IF(OR($AM237<$AP237,$AO237>$AE$8),\"\",IF(OR($AJ237=0,$AJ237=$E$22),$AJ$46/2,$AJ$46))","v":0.16},30.72,0,{"$f":"IF($BJ237=\"\",\"\",IF(OR($BJ237>($F$22/2),$BJ237=0),0,0.45-($BJ237*0.45/($F$22/2))))","v":0},{"$f":"IF($BK237=\"\",\"\",IF($BK237>0,$AJ237,\"\"))","v":""},5.7651238733151899,0.11041595462247675,{"$f":"IF($AO237=0,0,IF($AO237>$AP237,0,IF(OR($AJ237=0,$AJ237=$E$22),$AJ$46/2,$AJ$46)))","v":0.16},{"$f":"IF(AND($BO237>0,OR($AK237=\"Left Stream Bed\",$AK237=\"Right Stream Bed\")),$BO237,0)","v":0.16},{"$f":"IF(AND($BO237>0,OR($AK237=\"Left Floodplain\",$AK237=\"Left Bank\",$AK237=\"Right Bank\",$AK237=\"Right Floodplain\")),$BO237,0)","v":0},{"$f":"IF($BO237>0,$AJ237,\"\")","v":30.72},""]
[null,null,null,null,null,null,null,null,null,null,null,null,null,null,null,null,null,null,null,null,null,null,null,null,null,null,null,null,null,null,null,null,null,null,193,{"$f":"($AI238/$AI$245)*$AJ$245","v":30.88},"Left Stream Bed",57.861393169187949,96.483517959390809,{"$f":"$AN$45+ABS(AJ238*$M$19*$M$17)","v":57.853469640764146},94.48359411326247,95.192890293247913,0,0,{"$f":"IF(AP238<=AM238,0,AP238-AM238)","v":0},{"$f":"IF(OR($AS238=\"\",$AS238=0),\"\",IF(OR($AK238=\"Left Stream Bed\",$AK238=\"Right Stream Bed\"),$AS238,\"\"))","v":""},{"$f":"IF(OR($AS238=\"\",$AS238=0),\"\",IF(OR($AK238=\"Left Floodplain\",$AK238=\"Left Bank\",$AK238=\"Right Bank\",$AK238=\"Right Floodplain\"),$AS238,\"\"))","v":""},{"$f":"IF(OR($AP238<$AE$12,$AP238<=$AO238),0,IF($AO238>=$AE$12,$AP238-$AO238,$AP238-$AE$12))","v":0},0.70929617998544359,0.70929617998544359,0,0,0,0,0,0.70929617998544359,{"$f":"$BD238*$AJ$46*ABS($M$17)","v":5.1522196354390884E-2},{"$f":"AV238-AQ238","v":0},0,0.16,{"$f":"IF($BH238=\"\",\"\",IF($BH238>0,$AJ238,\"\"))","v":30.88},{"$f":"IF($BH238=\"\",\"\",IF(OR(($AO238-$AP238)<0,$AO$45>=$AE$8),0,($AO238-$AP238)))","v":0},0,"",{"$f":"IF($BH238=\"\",\"\",IF(OR(($AM238-$AP238)<0,$AM238>=$AE$8),\"\",($AE$8-($AM238-(($F$22/2)/$M$19)))))","v":5.7665201189949329},0.1103004575264423,0.16,0.16,0,30.88,{"$f":"IF($AY238>0,$AJ238,\"\")","v":""}]
[null,null,null,null,null,null,null,null,null,null,null,null,null,null,null,null,null,null,null,null,null,null,null,null,null,null,null,null,null,null,null,null,null,null,194,31.04,"Left Stream Bed",57.934028883295539,{"$f":"AM238+((AL239-AL238)*$AA$40)","v":96.482121713711066},57.926105354871737,{"$f":"AO238+((AN239-AN238)*$AA$40)","v":94.482197867582727},{"$f":"IF($AL239<$B$14,(($AL239-$B$13)*$AB$31)+$C$13,IF($AL239<$B$15,(($AL239-$B$14)*$AB$32)+$C$14,IF($AL239<$B$16,(($AL239-$B$15)*$AB$33)+$C$15,IF($AL239<$B$17,(($AL239-$B$16)*$AB$34)+$C$16,IF($AL239<$B$18,(($AL239-$B$17)*$AB$35)+$C$17,IF($AL239<$B$19,(($AL239-$B$18)*$AB$36)+$C$18))))))","v":95.184667930410939},0,0,0,"","",0,0.70247006282821189,0.70247006282821189,0,0,0,0,0,0.70247006282821189,5.102635758007211E-2,0,0,0.16,31.04,0,0,"",5.7679163646746758,{"$f":"IF($BM239=\"\",\"\",(((PI()^2)/32)*($B$66^-6)*EXP(-($BM239/$F$22)/(2*($B$66^2)))))","v":0.11018508124247006},0.16,0.16,0,31.04,""]
[null,null,null,null,null,null,null,null,null,null,null,null,null,null,null,null,null,null,null,null,null,null,null,null,null,null,null,null,null,null,null,null,null,null,195,31.2,"Left Stream Bed",{"$f":"$AL$45+ABS(AJ240*$M$19*$M$17)","v":58.00666459740313},96.480725468031324,57.998741068979328,94.480801621902984,95.176445567573964,0,0,0,"","",0,0.6956439456709802,0.6956439456709802,0,0,0,0,0,0.6956439456709802,5.0530518805753336E-2,0,0,0.16,31.2,0,0,"",5.7693126103544188,0.11006982564418855,0.16,0.16,0,31.2,""]
[null,null,null,null,null,null,null,null,null,null,null,null,null,null,null,null,null,null,null,null,null,null,null,null,null,null,null,null,null,null,null,null,null,null,196,31.36,"Left Stream Bed",58.079300311510714,96.479329222351581,58.071376783086912,94.479405376223241,95.168223204736989,0,0,0,"","",0,0.68881782851374851,0.68881782851374851,0,0,0,0,0,0.68881782851374851,5.0034680031434568E-2,0,0,0.16,31.36,0,0,"",5.7707088560341617,0.10995469060535833,0.16,0.16,0,31.36,""]
[null,null,null,null,null,null,null,null,null,null,null,null,null,null,null,null,null,null,null,null,null,null,null,null,null,null,null,null,null,null,null,null,null,null,197,31.52,"Left Stream Bed",58.151936025618298,96.477932976671838,58.144012497194495,94.478009130543498,95.160000841900001,0,0,0,"","",0,0.68199171135650261,0.68199171135650261,0,0,0,0,0,0.68199171135650261,4.9538841257114767E-2,0,0,0.16,31.52,0,0,"",5.7721051017139047,0.10983967599987213,0.16,0.16,0,31.52,""]
[null,null,null,null,null,null,null,null,null,null,null,null,null,null,null,null,null,null,null,null,null,null,null,null,null,null,null,null,null,null,null,null,null,null,198,31.68,"Left Stream Bed",58.224571739725889,96.476536730992095,58.216648211302086,94.476612884863755,95.151778479063026,0,0,0,"","",0,0.67516559419927091,0.67516559419927091,0,0,0,0,0,0.67516559419927091,4.9043002482796E-2,0,0,0.16,31.68,0,0,"",5.7735013473936476,0.10972478170175427,0.16,0.16,0,31.68,""]
[null,null,null,null,null,null,null,null,null,null,null,null,null,null,null,null,null,null,null,null,null,null,null,null,null,null,null,null,null,null,null,null,null,null,199,{"$f":"($AI244/$AI$245)*$AJ$245","v":31.84},"Left Stream Bed",58.297207453833479,96.475140485312352,58.289283925409677,94.475216639184012,95.143556116226051,0,0,0,"","",0,0.66833947704203922,0.66833947704203922,0,0,0,0,0,0.66833947704203922,4.8547163708477226E-2,0,0,0.16,31.84,0,0,"",5.7748975930733906,0.10961000758516115,0.16,0.16,0,31.84,""]
[null,null,null,null,null,null,null,null,null,null,null,null,null,null,null,null,null,null,null,null,null,null,null,null,null,null,null,null,null,null,null,null,null,null,200,{"$f":"$E$22","v":32},"Left Stream Bed",58.369843167941063,96.473744239632609,58.361919639517261,94.473820393504269,95.135333753389062,0,0,0,"","",0,0.66151335988479332,0.66151335988479332,0,0,0,0,0,0.66151335988479332,4.8051324934157431E-2,0,0,0.08,32,0,0,"",5.7762938387531335,0.10949535352438074,0.08,0.08,0,32,""]

{"sheet":"Prelim-Top#3","index":8,"n_rows":245,"n_cols":72,"rows_kept":245,"cut":false,"hidden":false,"merged":[[107,27,107,28],[109,31,109,32],[90,29,90,30],[90,31,90,32],[91,0,91,9],[91,14,91,25],[97,20,97,22],[102,27,102,28],[102,31,102,32],[85,20,85,21],[86,20,86,21],[87,20,87,21],[90,1,90,2],[90,20,90,24],[90,27,90,28],[83,19,83,23],[83,25,84,25],[83,27,84,27],[83,28,83,31],[84,0,84,9],[84,20,84,21],[75,15,75,16],[77,3,77,4],[79,0,79,9],[80,0,80,4],[80,7,80,9],[83,18,84,18],[64,26,65,26],[66,10,69,10],[67,0,67,2],[67,3,67,5],[73,0,73,9],[74,0,74,2],[74,3,74,6],[74,7,74,9],[74,18,74,20],[74,22,74,30],[63,0,63,5],[64,7,64,9],[64,21,64,22],[64,23,65,23],[64,24,65,24],[64,25,65,25],[52,7,52,9],[54,18,54,22],[55,19,56,19],[55,20,55,23],[56,0,56,4],[62,0,62,9],[47,1,47,2],[48,0,48,9],[49,0,49,5],[49,7,49,8],[50,13,50,14],[51,13,51,14],[38,45,38,48],[41,34,41,38],[42,34,42,40],[42,41,42,49],[44,21,44,22],[44,23,45,23],[44,24,45,24],[44,25,45,25],[44,26,45,26],[44,29,44,31],[29,19,30,19],[29,20,29,23],[33,32,33,33],[33,43,33,44],[37,26,38,26],[37,27,38,27],[38,34,38,37],[26,1,26,2],[27,1,27,2],[27,32,27,33],[27,43,27,44],[28,1,28,2],[28,18,28,22],[22,10,23,10],[22,32,22,33],[22,43,22,44],[23,0,24,0],[23,3,23,4],[24,3,24,4],[16,18,16,20],[17,22,17,27],[17,32,17,33],[17,43,17,44],[20,0,20,2],[21,0,21,2],[10,28,10,30],[11,11,11,12],[11,13,11,16],[12,11,12,12],[12,13,12,16],[13,11,13,12],[13,13,13,16],[13,28,13,30],[7,22,7,24],[8,11,8,12],[8,13,8,16],[9,11,9,12],[9,13,9,16],[10,0,10,2],[10,11,10,12],[10,13,10,16],[6,11,6,12],[6,13,6,16],[7,0,8,0],[7,11,7,12],[7,13,7,16],[7,18,7,20],[0,8,1,9],[2,0,2,9],[4,1,4,2],[4,3,4,4],[4,11,4,12],[4,32,5,35],[4,43,5,46],[4,54,4,59],[4,60,4,63],[5,1,5,2],[5,3,5,4],[5,11,5,12],[5,13,5,16],[5,28,5,30],[5,54,5,55]]}
[{"$f":"'1-Cover'!A1","v":"Sample Multi-Log Structure"},null,null,null,null,null,null,null,"Spreadsheet developed by Michael Rafferty, P.E."]
[]
["Single Log Stability Analysis Model Inputs",null,null,null,null,null,null,null,null,null,"ERROR CHECKS"]
[]
["Site ID","Structure Type",null,"Structure Position",null,"Meander","Station","dw (ft)","Rc/WBF","udes (ft/s)",null,"Type Lookup Table",null,null,null,null,null,null,null,null,null,null,null,null,null,null,null,null,null,null,null,null,"Tilted Cylindrical (Stem) \"Below Water Surface\" Volume Calculation (Below High Flow)",null,null,null,null,null,null,null,null,null,null,"Tilted Cylindrical (Stem) Wet Volume Calculation (Below Channel Thalweg)",null,null,null,null,null,null,null,null,null,null,"Tilted Frustum (RW) Volume Calculation (Slice Method)",null,null,null,null,null,"A = R2 arccos [(R - h)/R] - [(R - h)*SQRT(2Rh - h2)]"]
["Sample1","Flow Deflection",null,"Left bank",null,"Outside",{"$f":"IF($A6=\"\",\"\",VLOOKUP($A6,SiteInfo,2,0))","v":1000},{"$f":"IF($A6=\"\",\"\",VLOOKUP($A6,SiteInfo,4,0))","v":8.4499999999999993},{"$f":"IF($A6=\"\",\"\",VLOOKUP($A6,SiteInfo,9,0))","v":5.3191489361702127},{"$f":"IF(OR($A$6=\"\",$F$6=\"\"),\"\",IF($F$6=\"Outside\",VLOOKUP($A$6,SiteInfo,10,0),VLOOKUP($A$6,SiteInfo,5,0)))","v":4.6327110774981861},{"$f":"IF($F$6=\"\",\"\",IF(AND($I$6<26,$F$6=\"Straight\"),\"CHECK - Structure is located on a meander (Rc/WBF < 26)\",\"\"))","v":""},"Structure Types",null,"Description",null,null,null,null,null,null,null,null,null,null,null,null,null,null,"Water Surface",null,null,null,null,null,null,null,null,null,null,null,null,null,null,null,null,null,null,null,null,null,null,null,null,null,"Slice thickness (ft) =",null,{"$f":"IF($G$22=\"\",\"\",$G$22/$BC$39)","v":0.1},"WSE (ft) =",{"$f":"IF($AE$8=\"\",\"\",$AE$8)","v":101.25},"RRW (ft) =",{"$f":"IF($H$22=\"\",\"\",$H$22/2)","v":3},"yRW,crown (ft) =",{"$f":"IF($U$10=\"\",\"\",$U$10)","v":98.473668085761574},"yRW,bot (ft) =",{"$f":"IF($U$15=\"\",\"\",$U$15)","v":92.47389654737654}]
[null,null,null,null,null,null,null,null,null,null,{"$f":"IF(OR($F$6=\"\",$I$6=\"\"),\"\",IF(AND($I$6>26,$F$6<>\"Straight\"),\"CHECK - Structure is not on a meander (Rc/WBF > 26)\",\"\"))","v":""},"Rootwad",null,"Logs buried in bank with rootwads protruding into channel",null,null,null,null,null,null,null,null,null,null,null,null,null,null,null,"x (ft)","y (ft)",null,null,"R = DTS/2",{"$f":"$F$22/2","v":1},"ft",null,null,null,null,null,null,null,null,"R = DTS/2",{"$f":"$F$22/2","v":1},"ft",null,null,null,null,null,null,null,null,null,null,"Thalweg Elevation (ft) =",{"$f":"$C$16","v":92.8},"RTS (ft) =",{"$f":"IF($F$22=\"\",\"\",$F$22/2)","v":1},"yRC,crown (ft) =",{"$f":"IF($U$11=\"\",\"\",$U$11)","v":96.499923846128354},"yRC,bot (ft) =",{"$f":"IF($U$14=\"\",\"\",$U$14)","v":94.5}]
["Multi-Log Structures","Layer","Log ID",null,null,null,null,null,null,null,null,"Log Vane",null,"Logs protruding from bank and angled either up- or downstream",null,null,null,null,"Large Wood Coordinates",null,null,null,null,null,null,null,null,null,"WSE",{"$f":"IF(OR($A$6=\"\",$C$16=\"\"),0,IF(($H$6+$C$16)>=$C$13,$B$13,IF(AND(($H$6+$C$16)<$C$13,($H$6+$C$16)>=$C$14),((($C$13-($H$6+$C$16))/($C$13-$C$14))*($B$14-$B$13))+$B$13,IF(AND(($H$6+$C$16)<$C$14,($H$6+$C$16)>=$C$15),((($C$14-($H$6+$C$16))/($C$14-$C$15))*($B$15-$B$14))+$B$14,IF(AND(($H$6+$C$16)<$C$15,($H$6+$C$16)>=$C$16),((($C$15-($H$6+$C$16))/($C$15-$C$16))*($B$16-$B$15))+$B$15,\"\")))))","v":0},{"$f":"IF(OR($A$6=\"\",$C$16=\"\"),$C$13,$H$6+$C$16)","v":101.25},null,null,"b (rad)",{"$f":"ABS($C$25)*PI()/180","v":8.7266462599716477E-3},"rad",null,null,null,null,null,null,null,null,"b (rad)",{"$f":"ABS($C$25)*PI()/180","v":8.7266462599716477E-3},"rad"]
[null,"Stacked","Top#3",null,null,null,null,null,null,null,null,"Log Weir",null,"Weirs spanning small streams comprised of one or more large logs",null,null,null,null,null,"x (ft)","y (ft)",null,"Large wood check","x (ft)",null,"y (ft)",null,null,"WSE",{"$f":"IF(OR($A$6=\"\",$C$16=\"\"),0,IF(($H$6+$C$16)>=$C$19,$B$19,IF(AND(($H$6+$C$16)<$C$19,($H$6+$C$16)>=$C$18),(((($H$6+$C$16)-$C$18)/($C$19-$C$18))*($B$19-$B$18))+$B$18,IF(AND(($H$6+$C$16)<$C$18,($H$6+$C$16)>=$C$17),(((($H$6+$C$16)-$C$17)/($C$18-$C$17))*($B$18-$B$17))+$B$17,IF(AND(($H$6+$C$16)<$C$17,($H$6+$C$16)>=$C$16),(((($H$6+$C$16)-$C$16)/($C$17-$C$16))*($B$17-$B$16))+$B$16,\"\")))))","v":150},{"$f":"IF(OR($A$6=\"\",$C$16=\"\"),$C$13,$H$6+$C$16)","v":101.25},null,null,"dwet,max",{"$f":"IF($AB$23>$AB$24,$AB$23,IF($AB$23<$AB$24,$AB$24,\"\"))","v":6.75},"ft",null,null,null,null,null,null,null,null,"dwet,max",{"$f":"IF($Z$23>$Z$24,$Z$23,IF($Z$23<$Z$24,$Z$24,\"\"))","v":""},"ft",null,null,null,null,null,null,null,"Slice #","xRW,avg (ft)","RRW,slice (ft)","Aslice,avg (ft)","Vslice (ft3)","ycrown,avg (ft)","ybot,avg (ft)","hRW,cr,↑WSE (ft)","ARW,↑WSE (ft2)","VRW,↑WSE (ft3)","hRW,bot,↓thw (ft)","ARW,↓thw (ft2)","VRW,↓thw (ft3)"]
[null,null,null,null,null,null,null,null,null,null,{"$f":"IF(OR($C$14=\"\",$C$15=\"\"),\"\",IF($C$15>=$C$14,\"ERROR - LB top elevation must be > LB toe elevation\",\"\"))","v":""},"Tree Revetment",null,"Row of logs secured along the bank and placed parallel to flow",null,null,null,"Pt 1","Rootwad: Crown",{"$f":"IF($F$25=\"\",0,IF($D$25=\"Rootwad: Crown\",$F$25,IF($D$22=\"No\",$T$15+(($F$22*-$M$20)*$M$17),$T$15+(($H$22*-$M$20)*$M$17))))","v":54.652866137979757},{"$f":"IF($G$25=\"\",$C$13,IF($D$25=\"Rootwad: Crown\",$G$25,IF($D$22=\"No\",$U$15+($F$22*$M$19),$U$15+($H$22*$M$19))))","v":98.473668085761574},null,"Rootwad: Crown",{"$f":"IF($D$22=\"No\",$T$15+(($F$22*-$M$20)*$M$17),$T$15+(($H$22*-$M$20)*$M$17))","v":54.652866137979757},{"$f":"IF(X10=T10,\"OK\",\"ERROR\")","v":"OK"},{"$f":"IF($D$22=\"No\",$U$15+($F$22*$M$19),$U$15+($H$22*$M$19))","v":98.473668085761574},{"$f":"IF(Z10=U10,\"OK\",\"ERROR\")","v":"OK"},null,null,null,null,null,null,"dwet,avgH",{"$f":"IF(AND($AB$23>0,$AB$24>0),(($AB$23/COS($AI$8))+($AB$24/COS($AI$8)))/2,\"\")","v":6.6237174461377144},"ft",null,null,null,null,null,null,null,null,"dwet,avgH",{"$f":"IF(AND($Z$23>0,$Z$24>0),(($Z$23/COS($AT$8))+($Z$24/COS($AT$8)))/2,\"\")","v":""},"ft",null,null,null,null,null,null,null,1,{"$f":"($BE$6/2)+(($BC10-1)*$BE$6)","v":0.05},{"$f":"(($G$22-$BD10)/$G$22)*($BI$6-$BI$7)+$BI$7","v":2.9666666666666668},{"$f":"PI()*($BE10^2)","v":27.649506010094171},{"$f":"$BF10*$BE$6","v":2.7649506010094171},{"$f":"(($G$22-$BD10)/$G$22)*($BK$6-$BK$7)+$BK$7","v":98.440772348434351},{"$f":"(($G$22-$BD10)/$G$22)*($BM$6-$BM$7)+$BM$7","v":92.507664938253598},{"$f":"IF($BH10<=$BG$6,0,IF((($BH10-$BG$6)*$M$19)>=($BE10*2),$BE10*2,($BH10-$BG$6)*$M$19))","v":0},{"$f":"(($BE10^2)*ACOS(($BE10-$BJ10)/$BE10))-(($BE10-$BJ10)*SQRT(2*$BE10*$BJ10-($BJ10^2)))","v":0},{"$f":"$BK10*$BE$6","v":0},{"$f":"IF($BI10>=$BG$7,0,IF((($BG$7-$BI10)*$M$19)>=($BE10*2),$BE10*2,($BG$7-$BI10)*$M$19))","v":0.29232393052301298},{"$f":"(($BE10^2)*ACOS(($BE10-$BM10)/$BE10))-(($BE10-$BM10)*SQRT(2*$BE10*$BM10-($BM10^2)))","v":0.50566075111979059},{"$f":"$BN10*$BE$6","v":5.056607511197906E-2}]
["Channel Geometry Coordinates",null,null,null,null,null,null,null,null,null,{"$f":"IF(OR($C$15=\"\",$C$16=\"\",$C$17=\"\"),\"\",IF(OR($C$15<$C$16,$C$17<$C$16),\"ERROR - Toe elevation must be >= thalweg elevation\",\"\"))","v":""},"Flow Deflection",null,"Partially spanning multiple log structure along the bank",null,null,null,"Pt 2","Root collar: Crown",{"$f":"IF($F$25=\"\",0,IF($D$25=\"Root collar: Crown\",$F$25,IF($D$22=\"No\",$T$10,$T$10+(($G$22*$M$19)*$M$17)-(((($H$22-$F$22)/2)*-$M$20)*$M$17))))","v":53.009505623745717},{"$f":"IF($G$25=\"\",$C$13,IF($D$25=\"Root collar: Crown\",$G$25,IF($D$22=\"No\",$U$10,$U$10-($G$22*-$M$20)-((($H$22-$F$22)/2)*$M$19))))","v":96.499923846128354},null,"Root collar: Crown",{"$f":"IF($D$22=\"No\",$X$10,$T$10+(($G$22*$M$19)*$M$17)-(((($H$22-$F$22)/2)*-$M$20)*$M$17))","v":53.009505623745717},"OK",{"$f":"IF($D$22=\"No\",$Z$10,$U$10-($G$22*-$M$20)-((($H$22-$F$22)/2)*$M$19))","v":96.499923846128354},"OK",null,"Water Surface Label",null,null,null,null,"hmax,lower",{"$f":"IF($AI$9/COS($AI$8)>$F$22,$F$22,$AI$9/COS($AI$8))","v":2},"ft",null,null,null,null,null,null,null,null,"hmax,lower",{"$f":"IF($AT$9/COS($AT$8)>$F$22,$F$22,$AT$9/COS($AT$8))","v":{"$error":"#VALUE!"}},"ft",null,null,null,null,null,null,null,2,{"$f":"($BE$6/2)+(($BC11-1)*$BE$6)","v":0.15000000000000002},2.9000000000000004,{"$f":"PI()*($BE11^2)","v":26.420794216690165},{"$f":"$BF11*$BE$6","v":2.6420794216690169},98.374980873779919,92.575201720007712,{"$f":"IF($BH11<=$BG$6,0,IF((($BH11-$BG$6)*$M$19)>=($BE11*2),$BE11*2,($BH11-$BG$6)*$M$19))","v":0},{"$f":"(($BE11^2)*ACOS(($BE11-$BJ11)/$BE11))-(($BE11-$BJ11)*SQRT(2*$BE11*$BJ11-($BJ11^2)))","v":0},{"$f":"$BK11*$BE$6","v":0},{"$f":"IF($BI11>=$BG$7,0,IF((($BG$7-$BI11)*$M$19)>=($BE11*2),$BE11*2,($BG$7-$BI11)*$M$19))","v":0.22478972036260353},{"$f":"(($BE11^2)*ACOS(($BE11-$BM11)/$BE11))-(($BE11-$BM11)*SQRT(2*$BE11*$BM11-($BM11^2)))","v":0.33822238628601076},{"$f":"$BN11*$BE$6","v":3.3822238628601078E-2}]
["Proposed","x (ft)","y (ft)",null,null,null,null,null,null,null,{"$f":"IF(OR($C$18=\"\",$C$17=\"\"),\"\",IF($C$17>=$C$18,\"ERROR - RB top elevation must be > RB toe elevation\",\"\"))","v":""},"Mid-Channel",null,"Logs placed at the head of an island or bar",null,null,null,"Pt 3","Stem tip: Crown",{"$f":"IF($F$25=\"\",0,IF($D$25=\"Stem tip: Crown\",$F$25,$T$11+((($E$22-$G$22)*$M$19)*$M$17)))","v":37.215575015691925},{"$f":"IF($G$25=\"\",$C$13,IF($D$25=\"Stem tip: Crown\",$G$25,$U$11-(($E$22-$G$22)*-$M$20)))","v":96.752993375581198},null,"Stem tip: Crown",{"$f":"$T$11+((($E$22-$G$22)*$M$19)*$M$17)","v":37.215575015691925},"OK",{"$f":"$U$11-(($E$22-$G$22)*-$M$20)","v":96.752993375581198},"OK",null,"WSE",{"$f":"IF($AD$8=\"\",\"\",AVERAGE(AD8:AD9))","v":75},{"$f":"IF($AE$8=\"\",\"\",AVERAGE(AE8:AE9))","v":101.25},null,null,"hmax,up,dry",{"$f":"IF(AND($AB$23>$F$22,$AB$24>$F$22),0,IF(AND($AB$23>=$F$22,(($F$22-$AB$24)/(COS($AI$8)))>$F$22),$F$22,IF($AB$23>=$F$22,($F$22-$AB$24)/(COS($AI$8)),IF(AND($AB$24>=$F$22,(($F$22-$AB$23)/(COS($AI$8))>$F$22)),$F$22,IF($AB$24>=$F$22,($F$22-$AB$23)/(COS($AI$8)),\"\")))))","v":0},"ft",null,null,null,null,null,null,null,null,"hmax,up,dry",{"$f":"IF(AND($Z$23>$F$22,$Z$24>$F$22),0,IF(AND($Z$23>=$F$22,(($F$22-$Z$24)/(COS($AT$8)))>$F$22),$F$22,IF($Z$23>=$F$22,($F$22-$Z$24)/(COS($AT$8)),IF(AND($Z$24>=$F$22,(($F$22-$Z$23)/(COS($AT$8))>$F$22)),$F$22,IF($Z$24>=$F$22,($F$22-$Z$23)/(COS($AT$8)),\"\")))))","v":""},"ft",null,null,null,null,null,null,null,3,0.25,2.833333333333333,25.22000769131806,2.522000769131806,98.309189399125472,92.642738501761826,0,0,0,0.15725551020219408,0.19627380824632512,1.9627380824632515E-2]
["Fldpln LB",{"$f":"'Prelim-Top#1'!B13","v":0},{"$f":"'Prelim-Top#1'!C13","v":99.18},null,null,null,null,null,null,null,{"$f":"IF(OR($B$14<$B$13,$B$15<$B$14,$B$16<$B$15,$B$17<$B$16,$B$18<$B$17,$B$19<$B$18),\"ERROR - Each 'x' distance must be >= previous point\",\"\")","v":""},"Full-Span",null,"Multiple logs constricting a large portion of the cross-sectional area",null,null,null,"Pt 4","Stem tip: Bottom",{"$f":"IF($F$25=\"\",0,IF($D$25=\"Stem tip: Bottom\",$F$25,$T$12-(($F$22*-$M$20)*$M$17)))","v":37.206069391946208},{"$f":"IF($G$25=\"\",$C$13,IF($D$25=\"Stem tip: Bottom\",$G$25,$U$12-($F$22*$M$19)))","v":94.753069529452858},null,"Stem tip: Bottom",{"$f":"$T$12-(($F$22*-$M$20)*$M$17)","v":37.206069391946208},"OK",{"$f":"$U$12-($F$22*$M$19)","v":94.753069529452858},"OK",null,null,null,null,null,null,"LTS,bot,wet",{"$f":"IF(($AI$9/SIN($AI$8))>($E$22-$G$22),($E$22-$G$22-$AI$14),($AI$9/SIN($AI$8))-$AI$14)","v":-515.32554073226038},"ft",null,null,null,null,null,null,null,null,"LTS,bot,wet",{"$f":"IF(($AT$9/SIN($AT$8))>($E$22-$G$22),($E$22-$G$22-$AT$14),($AT$9/SIN($AT$8))-$AT$14)","v":{"$error":"#VALUE!"}},"ft",null,null,null,null,null,null,null,4,0.35000000000000003,2.7666666666666666,24.047146433977868,2.4047146433977868,98.243397924471026,92.710275283515941,0,0,0,8.9721300041784635E-2,8.3878675399100766E-2,8.387867539910077E-3]
["Top LB",{"$f":"'Prelim-Top#1'!B14","v":33},{"$f":"'Prelim-Top#1'!C14","v":98.59},null,null,null,null,null,null,null,null,"Floodplain",null,"Logs placed outside of the bankfull channel",null,null,null,"Pt 5","Root collar: Bottom",{"$f":"IF($F$25=\"\",0,IF($D$25=\"Root collar: Bottom\",$F$25,$T$13-((($E$22-$G$22)*$M$19)*$M$17)))","v":53},{"$f":"IF($G$25=\"\",$C$13,IF($D$25=\"Root collar: Bottom\",$G$25,$U$13+(($E$22-$G$22)*-$M$20)))","v":94.5},null,"Root collar: Bottom",{"$f":"$T$13-((($E$22-$G$22)*$M$19)*$M$17)","v":53},"OK",{"$f":"$U$13+(($E$22-$G$22)*-$M$20)","v":94.500000000000014},"OK",null,"Bank Labels",null,null,null,null,"LTS,top,wet",{"$f":"IF($AI$11>=$F$22,(($AI$9-($AI$11/(COS($AI$8))))/SIN($AI$8))+($AI$11*TAN($AI$8)),0)","v":544.32554073226038},"ft",null,null,null,null,null,null,null,null,"LTS,top,wet",{"$f":"IF($AT$11>=$F$22,(($AT$9-($AT$11/(COS($AT$8))))/SIN($AT$8))+($AT$11*TAN($AT$8)),0)","v":{"$error":"#VALUE!"}},"ft",null,null,null,null,null,null,null,5,0.45,2.7,22.902210444669596,2.2902210444669597,98.177606449816594,92.777812065270055,0,0,0,2.2187089881375188E-2,1.022704314628442E-2,1.0227043146284422E-3]
["Toe LB",{"$f":"'Prelim-Top#1'!B15","v":54},{"$f":"'Prelim-Top#1'!C15","v":95.63},null,null,null,null,null,null,null,{"$f":"IF(AND($B$6=\"Rootwad\",$D$22=\"No\"),\"ERROR - Rootwad structure type should have a rootwad\",\"\")","v":""},null,null,null,null,null,null,"Pt 6","Rootwad: Bottom",{"$f":"IF($F$25=\"\",0,IF($D$25=\"Rootwad: Bottom\",$F$25,IF($D$22=\"No\",$T$14,$T$14-(($G$22*$M$19)*$M$17)-(((($H$22-$F$22)/2)*-$M$20)*$M$17))))","v":54.624349266742605},{"$f":"IF($G$25=\"\",$C$13,IF($D$25=\"Rootwad: Bottom\",$G$25,IF($D$22=\"No\",$U$14,$U$14+($G$22*-$M$20)-((($H$22-$F$22)/2)*$M$19))))","v":92.47389654737654},null,"Rootwad: Bottom",{"$f":"IF($D$22=\"No\",$T$14,$T$14-(($G$22*$M$19)*$M$17)-(((($H$22-$F$22)/2)*-$M$20)*$M$17))","v":54.624349266742605},"OK",{"$f":"IF($D$22=\"No\",$U$14,$U$14+($G$22*-$M$20)-((($H$22-$F$22)/2)*$M$19))","v":92.47389654737654},"OK",null,"LB",{"$f":"IF(OR($B$13=\"\",$B$14=\"\"),\"\",AVERAGE($B$13:$B$14))","v":16.5},{"$f":"IF(OR($C$13=\"\",$C$14=\"\"),\"\",AVERAGE($C$13:$C$14))","v":98.885000000000005},null,null,"K1",{"$f":"IF(AND(($AI$11-$AI$7)=1,$AH$17=\"Case 1\"),PI(),ACOS(1-($AI$11/$AI$7)))","v":3.1415926535897931},"rad",null,null,null,null,null,null,null,null,"K1",{"$f":"ACOS(1-($AT$11/$AT$7))","v":{"$error":"#VALUE!"}},"rad",null,null,null,null,null,null,null,6,0.55000000000000004,2.6333333333333337,21.785199723393227,2.1785199723393229,98.111814975162147,92.845348847024169,0,0,0,0,0,0]
["Thalweg",{"$f":"'Prelim-Top#1'!B16","v":79},{"$f":"'Prelim-Top#1'!C16","v":92.8},null,null,null,null,null,null,null,{"$f":"IF(OR($N$52=\"\",$F$25=\"\",$G$25=\"\"),\"\",IF(AND($B$6=\"Rootwad\",$N$52<>\"Exposed in stream\"),\"CHECK - Rootwad structure typically has exposed rootwad\",\"\"))","v":""},null,null,null,null,null,null,null,null,null,null,null,null,null,null,null,null,null,"RB",{"$f":"IF(OR($B$18=\"\",$B$19=\"\"),\"\",AVERAGE($B$18:$B$19))","v":138.5},{"$f":"IF(OR($C$18=\"\",$C$19=\"\"),\"\",AVERAGE($C$18:$C$19))","v":98.8},null,null,"K2",{"$f":"IF($AI$12=\"\",\"\",ACOS(1-($AI$12/$AI$7)))","v":0},"rad",null,null,null,null,null,null,null,null,"K2",{"$f":"IF($AT$12=\"\",\"\",ACOS(1-($AT$12/$AT$7)))","v":""},"rad",null,null,null,null,null,null,null,7,0.65000000000000013,2.5666666666666664,20.696114270148755,2.0696114270148755,98.046023500507715,92.912885628778284,0,0,0,0,0,0]
["Toe RB",{"$f":"'Prelim-Top#1'!B17","v":108},{"$f":"'Prelim-Top#1'!C17","v":94.94},null,null,null,null,null,null,null,null,"cos (q+90) =",{"$f":"IF($B$25=\"\",0,COS(($B$25+90)*PI()/180))","v":-0.54463903501502708},null,null,null,null,null,"Rootwad Coordinates",null,null,null,null,null,null,null,null,null,null,null,null,null,"check:",{"$f":"IF(AND($AA$21=\"Wet\",$AA$22=\"Wet\",$AA$23=\"Wet\",$AA$24=\"Wet\"),\"Log is completely submerged\",IF(AND($AA$21=\"Dry\",$AA$22=\"Dry\",OR(AND($AA$23=\"Dry\",$AA$24=\"Wet\"),AND($AA$24=\"Dry\",$AA$23=\"Wet\"))),\"Case 1\",IF(OR(AND($AA$21=\"Wet\",$AA$24=\"Wet\",$AA$22=\"Dry\",$AA$23=\"Dry\"),AND($AA$22=\"Wet\",$AA$23=\"Wet\",$AA$21=\"Dry\",$AA$24=\"Dry\")),\"Case 2\",IF(AND($AA$22=\"Dry\",$AA$23=\"Wet\",$AA$21=\"Dry\",$AA$24=\"Wet\"),\"Case 3\",IF(OR(AND($AA$21=\"Dry\",$AA$22=\"Wet\",$AA$23=\"Wet\",$AA$24=\"Wet\"),AND($AA$21=\"Wet\",$AA$22=\"Dry\",$AA$23=\"Wet\",$AA$24=\"Wet\")),\"Case 4\",\"Stem is Dry\")))))","v":"Log is completely submerged"},null,null,"VTS =",{"$f":"PI()*(($F$22/2)^2)*($E$22-$G$22)","v":91.106186954104004},"ft3",null,null,null,null,"check:",{"$f":"IF(AND($Y$21=\"Wet\",$Y$22=\"Wet\",$Y$23=\"Wet\",$Y$24=\"Wet\"),\"Log is completely submerged\",IF(AND($Y$21=\"Dry\",$Y$22=\"Dry\",OR(AND($Y$23=\"Dry\",$Y$24=\"Wet\"),AND($Y$24=\"Dry\",$Y$23=\"Wet\"))),\"Case 1\",IF(OR(AND($Y$21=\"Wet\",$Y$24=\"Wet\",$Y$22=\"Dry\",$Y$23=\"Dry\"),AND($Y$22=\"Wet\",$Y$23=\"Wet\",$Y$21=\"Dry\",$Y$24=\"Dry\")),\"Case 2\",IF(AND($Y$22=\"Dry\",$Y$23=\"Wet\",$Y$21=\"Dry\",$Y$24=\"Wet\"),\"Case 3\",IF(OR(AND($Y$21=\"Dry\",$Y$22=\"Wet\",$Y$23=\"Wet\",$Y$24=\"Wet\"),AND($Y$21=\"Wet\",$Y$22=\"Dry\",$Y$23=\"Wet\",$Y$24=\"Wet\")),\"Case 4\",\"Stem is Dry\")))))","v":"Stem is Dry"},null,null,"VTS =",{"$f":"PI()*(($F$22/2)^2)*($E$22-$G$22)","v":91.106186954104004},"ft3",null,null,null,null,8,0.75000000000000011,2.5,19.634954084936208,1.9634954084936209,97.980232025853269,92.980422410532412,0,0,0,0,0,0]
["Top RB",{"$f":"'Prelim-Top#1'!B18","v":127},{"$f":"'Prelim-Top#1'!C18","v":98.72},null,null,null,null,null,null,null,null,"sin (q+90) =",{"$f":"IF($B$25=\"\",0,SIN(($B$25+90)*PI()/180))","v":0.83867056794542394},null,null,null,null,null,null,"x (ft)","y (ft)",null,"Large Wood \"Below Thalweg\" and \"Below Water Surface\" Depths",null,null,null,null,null,null,null,null,null,"Case 1",null,null,null,null,null,null,null,null,null,null,"Case 1",null,null,null,null,null,null,null,null,null,null,9,0.85000000000000009,2.4333333333333336,18.601719167755569,1.860171916775557,97.914440551198823,93.047959192286527,0,0,0,0,0,0]
["Fldpln RB",{"$f":"'Prelim-Top#1'!B19","v":150},{"$f":"'Prelim-Top#1'!C19","v":98.88},null,null,null,null,null,null,null,{"$f":"IF($C$25=\"\",\"\", IF($C$25=0,\"ERROR - Angle of tilt can not be exactly 0 deg, change to 0.01\", IF(OR($C$25>=90,$C$25<=-90),\"ERROR - Angle of tilt must be between (-)89.9 and (+)89.9 deg\",\"\")))","v":""},"cos b =",{"$f":"IF($C$25=\"\",0,COS($C$25*PI()/180))","v":0.99996192306417131},null,null,null,null,null,"RW bottom1",{"$f":"IF($T$15=\"\",\"\",$T$15)","v":54.624349266742605},{"$f":"IF($U$15=\"\",$C$13,$U$15)","v":92.47389654737654},null,null,"Point","↓twCondition","dT,wet","↓WSECondition","dT↓dw",null,null,null,null,null,null,"V =","LTS,bot,wet/hmax,lower*R3*(sin K1 – K1*cos K1 – 1/3*(sin K1)3)",null,null,null,null,null,null,null,null,null,"V =","LTS,bot,wet/hmax,lower*R3*(sin K1 – K1*cos K1 – 1/3*(sin K1)3)",null,null,null,null,null,null,null,10,0.95000000000000007,2.3666666666666663,17.596409518606823,1.7596409518606824,97.84864907654439,93.115495974040641,0,0,0,0,0,0]
[null,null,null,null,null,null,null,null,null,null,{"$f":"IF(OR($B$25=\"\",$A$6=\"\"),\"\",IF(OR($B$25>360,$B$25<-180),\"ERROR - Orientation angle must be (-)180 to (+)360 deg\",\"\"))","v":""},"sin b =",{"$f":"IF($C$25=\"\",0,SIN($C$25*PI()/180))","v":8.7265354983739347E-3},null,null,null,null,null,"RW sid1",{"$f":"IF($T$19=\"\",\"\",IF($D$22=\"No\",$T$19+((SIN(45*PI()/180))*$M$18),(($T$19+$T$21)/2)+((SIN(45*PI()/180))*$M$18)))","v":56.482513982245813},{"$f":"IF($U$15=\"\",$C$13,($U$21+$U$19)/2)","v":93.973839431972806},null,"Rootwad: Crown","Pt 1",{"$f":"IF($U10<$C$16,\"Wet\",\"Dry\")","v":"Dry"},{"$f":"IF($C$16<U10,0,$C$16-U10)","v":0},{"$f":"IF($U10<$AE$8,\"Wet\",\"Dry\")","v":"Wet"},{"$f":"IF(U10>$AE$8,0,$AE$8-U10)","v":2.7763319142384262},null,null,null,null,null,null,"where:","K1 = arccos(1-hmax,lower/R)",null,null,null,null,null,null,null,null,null,"where:","K1 = arccos(1-hmax,lower/R)",null,null,null,null,null,null,null,11,1.05,2.2999999999999998,16.619025137490002,1.6619025137490002,97.782857601889944,93.183032755794756,0,0,0,0,0,0]
["Wood Species",null,null,"Rootwad","LT (ft)","DTS (ft)","LRW (ft)","DRW (ft)","gTd (lb/ft3)","gTgr (lb/ft3)",{"$f":"IF(AND($D$22=\"No\",OR($D$25=\"Rootwad: Crown\",$D$25=\"Rootwad: Bottom\")),\"ERROR - No rootwad, define a different starting point\",\"\")","v":""},"typ RW b =",{"$f":"IF($E$22=\"\",0,ROUND((-ATAN(((($H$22-$F$22)/2))/$E$22)*180/PI()),1))","v":-3.6},null,null,null,null,null,"RW sid2",{"$f":"IF($T$19=\"\",\"\",IF($D$22=\"No\",(($T$19+$T$23)/2)+($F$22/2*$M$18),(($T$19+$T$23)/2)+($H$22/2*$M$18)))","v":57.154619406197455},{"$f":"IF($U$15=\"\",$C$13,($U$19+$U$23)/2)","v":95.473782316569057},null,"Root collar: Crown","Pt 2","Dry",0,"Wet",4.7500761538716461,null,null,null,null,null,null,"VTS,wet,C1",{"$f":"($AI$13/$AI$11)*($AI$7^3)*(SIN($AI$15)-($AI$15*COS($AI$15))-((1/3)*(SIN($AI$15))^3))","v":-809.4714664858285},"ft3",null,null,null,null,null,null,null,null,"VTS,wet,C1",{"$f":"($AT$13/$AT$11)*($AT$7^3)*(SIN($AT$15)-($AT$15*COS($AT$15))-((1/3)*(SIN($AT$15))^3))","v":{"$error":"#VALUE!"}},"ft3",null,null,null,null,null,null,12,1.1500000000000001,2.2333333333333334,15.669566024405089,1.566956602440509,97.717066127235512,93.25056953754887,0,0,0,0,0,0]
["Douglas-fir, Interior west",null,null,"Yes",32,2,{"$f":"IF(OR($D$22=\"No\",$D$22=\"\"),0,IF($F$22=\"\",0,$F$22*LFRW))","v":3},{"$f":"IF(OR($D$22=\"No\",$D$22=\"\"),0,IF($F$22=\"\",0,$F$22*DFRW))","v":6},{"$f":"IF($A$22=\"\",\"\",VLOOKUP($A$22,'5-Wood'!$B$8:$E$17,3,0))","v":34.944000000000003},{"$f":"IF($A$22=\"\",\"\",VLOOKUP($A$22,'5-Wood'!$B$8:$E$17,4,0))","v":39},null,null,null,null,null,null,null,null,"RW sid3",{"$f":"IF($T$19=\"\",\"\",IF($D$22=\"No\",$T$23+((SIN(45*PI()/180))*$M$18),(($T$23+$T$21)/2)+((SIN(45*PI()/180))*$M$18)))","v":56.496772417864385},{"$f":"IF($U$15=\"\",$C$13,($U$21+$U$23)/2)","v":96.973725201165308},null,"Stem tip: Crown","Pt 3","Dry",0,"Wet",4.4970066244188018,null,null,null,null,null,null,null,null,null,null,null,null,null,null,null,null,null,null,null,null,null,null,null,null,null,null,13,1.2500000000000002,2.1666666666666665,14.748032179352082,1.4748032179352082,97.651274652581066,93.318106319302984,0,0,0,0,0,0]
[null,null,null,null,null,null,null,null,null,null,{"$f":"IF(OR($B$25=\"\",$A$6=\"\"),\"\",IF(OR($B$25=360,$B$25=270,$B$25=180,$B$25=90,$B$25=0,$B$25=-90,$B$25=-180),\"ERROR - Orientation angle can not EXACTLY equal 0, 90, 180, 270, or 360 deg. Change input value to 0.01, 89.99 (or similar)\",\"\"))","v":""},null,null,null,null,null,null,null,"RW crown",{"$f":"IF($T$19=\"\",\"\",$T$10)","v":54.652866137979757},{"$f":"IF($U$15=\"\",$C$13,$U$10)","v":98.473668085761574},null,"Stem tip: Bottom","Pt 4","Dry",0,"Wet",6.4969304705471416,null,null,null,null,"Case 2",null,null,null,null,null,null,null,null,null,null,"Case 2",null,null,null,null,null,null,null,null,null,null,14,1.35,2.0999999999999996,13.854423602330982,1.3854423602330983,97.585483177926619,93.385643101057099,0,0,0,0,0,0]
["Structure Geometry","q (deg)","b (deg)","Define Fixed Point",null,"xT (ft)","yT (ft)","yT,min (ft)","yT,max (ft)","ATp (ft2)",null,null,null,null,null,null,null,null,"RW sid4",{"$f":"IF($T$19=\"\",\"\",IF($D$22=\"No\",$T$23-((SIN(45*PI()/180))*$M$18),(($T$23+$T$25)/2)-((SIN(45*PI()/180))*$M$18)))","v":52.794701422476557},{"$f":"IF($U$15=\"\",$C$13,($U$25+$U$23)/2)","v":96.973725201165308},null,"Root collar: Bottom","Pt 5","Dry",0,"Wet",6.75,null,null,null,null,null,null,"V =","(p*R2*LTS,top,wet) + (LTS,bot,wet/hmax,lower*R3*(sin K1 – K1*cos K1 – 1/3*(sin K1)3)",null,null,null,null,null,null,null,null,null,"V =","(p*R2*LTS,top,wet) + (LTS,bot,wet/hmax,lower*R3*(sin K1 – K1*cos K1 – 1/3*(sin K1)3)",null,null,null,null,null,null,null,15,1.4500000000000002,2.0333333333333332,12.988740293341799,1.2988740293341801,97.519691703272187,93.453179882811213,0,0,0,0,0,0]
[null,33,0.5,"Root collar: Bottom",null,53,94.5,{"$f":"IF(OR($E$22=\"\",$F$22=\"\",$F$25=\"\",$G$25=\"\"),\"\",MIN($U$10:$U$15))","v":92.47389654737654},{"$f":"IF(OR($E$22=\"\",$F$22=\"\",$F$25=\"\",$G$25=\"\"),\"\",MAX($U$10:$U$15))","v":98.473668085761574},{"$f":"IF(OR($E$22=\"\",$F$22=\"\",$F$25=\"\",$G$25=\"\"),\"\",IF($T$81<0,$AB$80,IF($T$81>$T$77,$T$77+$AB$80,IF(OR(AND($C$25=0,$D$22=\"No\",$B$25=0),AND($C$25=0,$D$22=\"No\",$B$25=360),AND($C$25=0,$D$22=\"No\",$B$25=180)),PI()*(($F$22/2)^2),$T$81+$AB$80))))","v":26.567184147398734},{"$f":"IF(OR($B$13=\"\",$B$19=\"\",$U$38=0,$U$39=0),\"\",IF(OR(MAX($U$38:$U$39)>$B$19,MIN($U$38:$U$39)<$B$13),\"ERROR - Log extends beyond limits of floodplain\",\"\"))","v":""},null,null,null,null,null,null,null,"RW sid5",{"$f":"IF($T$19=\"\",\"\",IF($D$22=\"No\",(($T$27+$T$23)/2)-($F$22/2*$M$18),(($T$27+$T$23)/2)-($H$22/2*$M$18)))","v":52.122595998524915},{"$f":"IF($U$15=\"\",$C$13,($U$27+$U$23)/2)","v":95.473782316569057},null,"Rootwad: Bottom","Pt 6","Wet",0.32610345262345675,"Wet",8.7761034526234596,null,null,null,null,null,null,"where:","K1 = arccos(1-hmax,lower/R)",null,null,null,null,null,null,null,null,null,"where:","K1 = arccos(1-hmax,lower/R)",null,null,null,null,null,null,null,16,1.55,1.9666666666666668,12.150982252384525,1.2150982252384526,97.453900228617741,93.520716664565327,0,0,0,0,0,0]
[null,null,null,null,null,null,null,null,null,null,null,null,null,null,null,null,null,null,"RW sid6",{"$f":"IF($T$19=\"\",\"\",IF($D$22=\"No\",$T$27-((SIN(45*PI()/180))*$M$18),(($T$27+$T$25)/2)-((SIN(45*PI()/180))*$M$18)))","v":52.780442986857985},{"$f":"IF($U$15=\"\",$C$13,($U$25+$U$27)/2)","v":93.973839431972806},null,null,null,null,null,null,null,null,null,null,null,null,null,"VTS,wet,C2",{"$f":"(PI()*(($AI$7)^2)*($AI$14))+($AI$13/$AI$11)*($AI$7^3)*(SIN($AI$15)-($AI$15*COS($AI$15))-((1/3)*(SIN($AI$15))^3))","v":900.57765343993231},"ft3",null,null,null,null,null,null,null,null,"VTS,wet,C2",{"$f":"(PI()*(($AT$7)^2)*($AT$14))+($AT$13/$AT$11)*($AT$7^3)*(SIN($AT$15)-($AT$15*COS($AT$15))-((1/3)*(SIN($AT$15))^3))","v":{"$error":"#VALUE!"}},"ft3",null,null,null,null,null,null,17,1.6500000000000001,1.9,11.341149479459153,1.1341149479459154,97.388108753963309,93.588253446319442,0,0,0,0,0,0]
["Soils","Material",null,"gs (lb/ft3)","g's (lb/ft3)","f (deg)","Soil Class","LT,em (ft)","db,max (ft)","db,avg (ft)",null,null,null,null,null,null,null,null,"RW bottom2",{"$f":"IF($T$19=\"\",\"\",$T$15)","v":54.624349266742605},{"$f":"IF($U$15=\"\",$C$13,$U$15)","v":92.47389654737654},null,null,null,null,null,null,null,null,null,null,null,null,null,null,null,null,null,null,null,null,null,null,null,null,null,null,null,null,null,null,null,null,null,18,1.7500000000000002,1.833333333333333,10.559241974565689,1.055924197456569,97.322317279308862,93.655790228073556,0,0,0,0,0,0]
["Stream Bed",{"$f":"IF($A$6=\"\",\"\",VLOOKUP($A$6,Soil,4,0))","v":"Small Cobble"},null,{"$f":"IF($A$6=\"\",\"\",VLOOKUP($A$6,Soil,6,0))","v":136.37545738828794},{"$f":"IF($A$6=\"\",\"\",VLOOKUP($A$6,Soil,7,0))","v":84.913020637990599},{"$f":"IF($A$6=\"\",\"\",VLOOKUP($A$6,Soil,8,0))","v":41},{"$f":"IF($A$6=\"\",\"\",VLOOKUP($A$6,Soil,5,0))","v":4},{"$f":"IF(OR($E$22=\"\",$F$22=\"\",$F$25=\"\",$G$25=\"\"),\"\",IF(AND($F$25<=$B$17,$F$25>=$B$15,OR($B$25=0,$B$25=180,$B$25=360)),SUM($X$49:$X$50),$AB$49+$AB$50))","v":0},{"$f":"IF(OR($E$22=\"\",$F$22=\"\",$F$25=\"\",$G$25=\"\"),\"\",$AT$42)","v":0},{"$f":"IF(OR($E$22=\"\",$F$22=\"\",$F$25=\"\",$G$25=\"\"),\"\",$AT$41)","v":0},null,null,null,null,null,null,null,null,null,null,null,null,null,null,null,null,null,null,null,null,null,null,"Case 3",null,null,null,null,null,null,null,null,null,null,"Case 3",null,null,null,null,null,null,null,null,null,null,19,1.85,1.7666666666666666,9.8052597377041426,0.98052597377041428,97.256525804654416,93.723327009827671,0,0,0,0,0,0]
["Bank",{"$f":"IF($A$6=\"\",\"\",VLOOKUP($A$6,Soil,9,0))","v":"Gravel/cobble"},null,{"$f":"IF($A$6=\"\",\"\",VLOOKUP($A$6,Soil,11,0))","v":137},{"$f":"IF($A$6=\"\",\"\",VLOOKUP($A$6,Soil,12,0))","v":85.301886792452819},{"$f":"IF($A$6=\"\",\"\",VLOOKUP($A$6,Soil,13,0))","v":41},{"$f":"IF($A$6=\"\",\"\",VLOOKUP($A$6,Soil,10,0))","v":4},{"$f":"IF(OR($E$22=\"\",$F$22=\"\",$F$25=\"\",$G$25=\"\"),\"\",IF(AND(OR($F$25>$B$17,$F$25<$B$15),OR($B$25=0,$B$25=180,$B$25=360)),$X$47+$X$48+$X$51+$X$52,$AB$47+$AB$48+$AB$51+$AB$52))","v":18.266238236062033},{"$f":"IF(OR($E$22=\"\",$F$22=\"\",$F$25=\"\",$G$25=\"\"),\"\",$AU$42)","v":1.2428112888736536},{"$f":"IF(OR($E$22=\"\",$F$22=\"\",$F$25=\"\",$G$25=\"\"),\"\",$AU$41)","v":0.62229825230613933},{"$f":"IF(OR($E$22=\"\",$F$22=\"\",$F$25=\"\",$G$25=\"\"),\"\",IF(($H$28+$H$29)>$E$22,\"ERROR - Embedded length of log exceeds total length of log\",\"\"))","v":""},null,null,null,null,null,null,null,"Coordinates of Large Wood Crown at Key Points",null,null,null,null,null,null,null,null,null,null,null,null,null,null,null,"V =","LTS*(R2*arccos((R-dwet,avgH)/R)-(R-dwet,avgH)*((2*R*dwet,avgH)-dwet,avgH2)0.5)",null,null,null,null,null,null,null,null,null,"V =","LTS*(R2*arccos((R-dwet,avgH)/R)-(R-dwet,avgH)*((2*R*dwet,avgH)-dwet,avgH2)0.5)",null,null,null,null,null,null,null,20,1.9500000000000002,1.6999999999999997,9.0792027688745005,0.90792027688745014,97.190734329999984,93.790863791581785,0,0,0,0,0,0]
[null,null,null,null,null,null,null,null,null,null,null,null,null,null,null,null,null,null,null,"Wood Present?","Large Wood Parameters",null,null,null,"Soil",null,"Slope","Bank (ft/ft)",null,null,null,null,null,null,"VTS,wet,C3",{"$f":"IF($AI$10=\"\",\"\",($E$22-$G$22)*((($AI$7^2)*ACOS(($AI$7-$AI$10)/$AI$7))-(($AI$7-$AI$10)*((2*$AI$7*$AI$10)-($AI$10^2))^0.5)))","v":{"$error":"#NUM!"}},"ft3",null,null,null,null,null,null,null,null,"VTS,wet,C3",{"$f":"IF($AT$10=\"\",\"\",($E$22-$G$22)*((($AT$7^2)*ACOS(($AT$7-$AT$10)/$AT$7))-(($AT$7-$AT$10)*((2*$AT$7*$AT$10)-($AT$10^2))^0.5)))","v":""},"ft3",null,null,null,null,null,null,21,2.0499999999999998,1.6333333333333333,8.3810710680767713,0.83810710680767719,97.124942855345537,93.858400573335899,0,{"$f":"(($BE30^2)*ACOS(($BE30-$BJ30)/$BE30))-(($BE30-$BJ30)*SQRT(2*$BE30*$BJ30-($BJ30^2)))","v":0},{"$f":"$BK30*$BE$6","v":0},0,0,0]
[null,null,null,null,null,null,null,null,null,null,null,null,null,null,null,null,null,null,null,null,"xTS (ft)","Dist (ft)","Adjusted Dist (ft)","yTS (ft)","ysoil (ft)",null,"Fldpln LB",{"$f":"IF(OR($B$13=\"\",$B$14=\"\",$C$13=\"\",$C$14=\"\"),\"\",($C$14-$C$13)/($B$14-$B$13))","v":-1.7878787878787984E-2},null,null,null,null,null,null,null,null,null,null,null,null,null,null,null,null,null,null,null,null,null,null,null,null,null,null,22,2.15,1.5666666666666669,7.7108646353109487,0.77108646353109489,97.059151380691105,93.925937355090014,0,0,0,0,0,0]
[null,null,null,null,null,null,null,null,null,null,null,null,null,null,null,null,null,null,"At Left Bank Top",{"$f":"IF(OR($F$25=\"\",$G$25=\"\"),\"No\",IF(MIN($U$38:$U$39)>$B$14,\"No\",IF(MAX($U$38:$U$39)<$B$14,\"No\",\"Yes\")))","v":"No"},{"$f":"$B$14","v":33},{"$f":"IF(OR($B$25=0,$B$25=180,$B$25=360),0,IF($T$11>$T$12,$G$22+((($T$11-$B$14)/ABS($M$17))/$M$19),(($T$12-$B$14)/ABS($M$17))/$M$19))","v":39.740421209190714},{"$f":"IF(V32<0,0,IF(V32>$E$22,$E$22,V32))","v":32},{"$f":"IF($T$11>$T$12,$U$11+(($V$32-$G$22)*$M$20),$U$12-($V$32*$M$20))","v":96.820540436035571},{"$f":"$C$14","v":98.59},null,"LB",{"$f":"IF(OR($B$14=\"\",$B$15=\"\",$C$14=\"\",$C$15=\"\"),\"\",($C$15-$C$14)/($B$15-$B$14))","v":-0.14095238095238133},null,null,null,null,null,null,null,null,null,null,null,null,null,null,null,null,null,null,null,null,null,null,null,null,null,null,23,2.25,1.5,7.0685834705770345,0.70685834705770345,96.993359906036659,93.993474136844128,0,0,0,0,0,0]
[null,null,null,null,null,null,null,null,null,null,null,null,null,null,null,null,null,null,"At Left Bank Toe",{"$f":"IF(OR($F$25=\"\",$G$25=\"\"),\"No\",IF(MIN($U$38:$U$39)>$B$15,\"No\",IF(MAX($U$38:$U$39)<$B$15,\"No\",\"Yes\")))","v":"Yes"},{"$f":"$B$15","v":54},{"$f":"IF(OR($B$25=0,$B$25=180,$B$25=360),0,IF($T$11>$T$12,$G$22+((($T$11-$B$15)/ABS($M$17))/$M$19),(($T$12-$B$15)/ABS($M$17))/$M$19))","v":1.1813053619010572},1.1813053619010572,{"$f":"IF($T$11>$T$12,$U$11+(($V$33-$G$22)*$M$20),$U$12-($V$33*$M$20))","v":96.484052942808276},{"$f":"$C$15","v":95.63},null,"Stream L",{"$f":"IF(OR($B$15=\"\",$B$16=\"\",$C$15=\"\",$C$16=\"\"),\"\",($C$16-$C$15)/($B$16-$B$15))","v":-0.11319999999999993},null,null,null,null,null,null,null,null,null,null,null,null,null,null,null,null,null,null,null,null,null,null,null,null,null,null,24,2.35,1.4333333333333333,6.4542275738750305,0.6454227573875031,96.927568431382213,94.061010918598257,0,0,0,0,0,0]
[null,null,null,null,null,null,null,null,null,null,null,null,null,null,null,null,null,null,"At Left Thalweg",{"$f":"IF(OR($F$25=\"\",$G$25=\"\"),\"No\",IF(AND(MAX($U$38:$U$39)>$B$16,MIN($U$38:$U$39)<$B$16),\"Yes\",\"No\"))","v":"No"},{"$f":"$B$16","v":79},{"$f":"IF(OR($B$25=0,$B$25=180,$B$25=360),0,IF($T$11>$T$12,$G$22+((($T$11-$B$16)/ABS($M$17))/$M$19),(($T$12-$B$16)/ABS($M$17))/$M$19))","v":-44.722403980110435},0,{"$f":"IF($T$11>$T$12,$U$11+(($V$34-$G$22)*$M$20),$U$12-($V$34*$M$20))","v":96.083472593728175},{"$f":"$C$16","v":92.8},null,"Stream R",{"$f":"IF(OR($B$17=\"\",$B$16=\"\",$C$17=\"\",$C$16=\"\"),\"\",($C$16-$C$17)/($B$16-$B$17))","v":7.3793103448275887E-2},null,null,null,null,"Case 4",null,null,null,null,null,null,null,null,null,null,"Case 4",null,null,null,null,null,null,null,null,null,null,25,2.4500000000000002,1.3666666666666665,5.8677969452049341,0.58677969452049339,96.86177695672778,94.128547700352371,0,0,0,0,0,0]
[null,null,null,null,null,null,null,null,null,null,null,null,null,null,null,null,null,null,"At Right Thalweg",{"$f":"IF(OR($F$25=\"\",$G$25=\"\"),\"No\",IF(AND(MAX($U$38:$U$39)>$B$16,MIN($U$38:$U$39)<$B$16),\"Yes\",\"No\"))","v":"No"},{"$f":"$B$16","v":79},{"$f":"IF(OR($B$25=0,$B$25=180,$B$25=360),0,IF($T$11<$T$12,$G$22+((($B$16-$T$11)/ABS($M$17))/$M$19),(($B$16-$T$12)/ABS($M$17))/$M$19))","v":76.722403980110442},32,{"$f":"IF($T$11<$T$12,$U$11+(($V$35-$G$22)*$M$20),$U$12-($V$35*$M$20))","v":96.083472593728175},{"$f":"$C$16","v":92.8},null,"RB",{"$f":"IF(OR($B$18=\"\",$B$17=\"\",$C$18=\"\",$C$17=\"\"),\"\",($C$18-$C$17)/($B$18-$B$17))","v":0.19894736842105268},null,null,null,null,null,null,"V =","VTS - (LTS,wet/hmax,up,dry*R3*(sin K2 – K2*cos K2 – 1/3*(sin K2)3)",null,null,null,null,null,null,null,null,null,"V =","VTS - (LTS,wet/hmax,up,dry*R3*(sin K2 – K2*cos K2 – 1/3*(sin K2)3)",null,null,null,null,null,null,null,26,2.5499999999999998,1.3,5.3092915845667505,0.5309291584566751,96.795985482073334,94.196084482106485,0,0,0,0,0,0]
[null,null,null,null,null,null,null,null,null,null,null,null,null,null,null,null,null,null,"At Right Bank Toe",{"$f":"IF(OR($F$25=\"\",$G$25=\"\"),\"No\",IF(MAX($U$38:$U$39)<$B$17,\"No\",IF(MIN($U$38:$U$39)>$B$17,\"No\",\"Yes\")))","v":"No"},{"$f":"$B$17","v":108},{"$f":"IF(OR($B$25=0,$B$25=180,$B$25=360),0,IF($T$11<$T$12,$G$22+((($B$17-$T$11)/ABS($M$17))/$M$19),(($B$17-$T$12)/ABS($M$17))/$M$19))","v":129.97070681684377},32,{"$f":"IF($T$11<$T$12,$U$11+(($V$36-$G$22)*$M$20),$U$12-($V$36*$M$20))","v":95.618799388795253},{"$f":"$C$17","v":94.94},null,"Fldpln RB",{"$f":"IF(OR($B$19=\"\",$B$18=\"\",$C$19=\"\",$C$18=\"\"),\"\",($C$19-$C$18)/($B$19-$B$18))","v":6.9565217391302867E-3},null,null,null,null,null,null,null,"K2 = arccos(1-hmax,up,dry/R)",null,null,null,null,null,null,null,null,null,null,"K2 = arccos(1-hmax,up,dry/R)",null,null,null,null,null,null,null,27,2.65,1.2333333333333334,4.7787114919604745,0.47787114919604745,96.730194007418902,94.2636212638606,0,0,0,0,0,0]
[null,null,null,null,null,null,null,null,null,null,null,null,null,null,null,null,null,null,"At Right Bank Top",{"$f":"IF(OR($F$25=\"\",$G$25=\"\"),\"No\",IF(MAX($U$38:$U$39)<$B$18,\"No\",IF(MIN($U$38:$U$39)>$B$18,\"No\",\"Yes\")))","v":"No"},{"$f":"$B$18","v":127},{"$f":"IF(OR($B$25=0,$B$25=180,$B$25=360),0,IF($T$11<$T$12,$G$22+((($B$18-$T$11)/ABS($M$17))/$M$19),(($B$18-$T$12)/ABS($M$17))/$M$19))","v":164.85752591677249},32,{"$f":"IF($T$11<$T$12,$U$11+(($V$37-$G$22)*$M$20),$U$12-($V$37*$M$20))","v":95.314358323494389},{"$f":"$C$18","v":98.72},null,null,null,null,null,null,null,null,null,"VTS,wet,C4",{"$f":"IF($AI$16=\"\",\"\",$AW$17-(($AI$13/$AI$12)*($AI$7^3)*(SIN($AI$16)-($AI$16*COS($AI$16))-((1/3)*(SIN($AI$16))^3))))","v":{"$error":"#DIV/0!"}},"ft3",null,null,null,null,null,null,null,null,"VTS,wet,C4",{"$f":"IF($AT$16=\"\",\"\",$AW$17-(($AT$13/$AT$12)*($AT$7^3)*(SIN($AT$16)-($AT$16*COS($AT$16))-((1/3)*(SIN($AT$16))^3))))","v":""},"ft3",null,null,null,null,null,null,28,2.75,1.1666666666666667,4.2760566673861078,0.42760566673861078,96.664402532764456,94.331158045614714,0,0,0,0,0,0]
[null,null,null,null,null,null,null,null,null,null,null,null,null,null,null,null,null,null,"Low Pt on Crown",{"$f":"IF(OR($F$25=\"\",$G$25=\"\"),\"No\",\"Yes\")","v":"Yes"},{"$f":"IF($T$38=\"No\",0,IF($U$12<=$U$11,$T$12,$T$11-($G$22*$M$19*$M$17)))","v":54.64336051423404},0,0,{"$f":"IF($T$38=\"No\",0,IF($U$12<=$U$11,$U$12,$U$11-($G$22*$M$20)))","v":96.473744239633234},{"$f":"IF($T$38=\"\",\"\",IF($U$38<$B$14,(($U$38-$B$13)*$AB$31)+$C$13,IF($U$38<$B$15,(($U$38-$B$14)*$AB$32)+$C$14,IF($U$38<$B$16,(($U$38-$B$15)*$AB$33)+$C$15,IF($U$38<$B$17,(($U$38-$B$16)*$AB$34)+$C$16,IF($U$38<$B$18,(($U$38-$B$17)*$AB$35)+$C$17,IF($U$38<$B$19,(($U$38-$B$18)*$AB$36)+$C$18)))))))","v":95.557171589788709},null,"Slope Log (ft/ft)","Slope Log Face (ft/ft)",null,null,null,null,null,null,null,null,null,null,null,null,null,null,null,null,null,null,null,null,null,null,null,null,null,null,29,2.85,1.0999999999999999,3.801327110843649,0.38013271108436492,96.598611058110009,94.398694827368828,0,0,0,0,0,0,null,null,"Max","Min","cP (ft)"]
[null,null,null,null,null,null,null,null,null,null,null,null,null,null,null,null,null,null,"High Pt on Crown","Yes",{"$f":"IF($T$39=\"No\",0,IF($U$12>$U$11,$T$12,$T$11-($G$22*$M$19*$M$17)))","v":37.215575015691925},{"$f":"IF($T$39=\"No\",0,$E$22)","v":32},32,{"$f":"IF($T$39=\"No\",0,IF($U$12>=$U$11,$U$12,$U$11-($G$22*$M$20)))","v":96.752993375581198},{"$f":"IF($T$39=\"\",\"\",IF($U$39<$B$14,(($U$39-$B$13)*$AB$31)+$C$13,IF($U$39<$B$15,(($U$39-$B$14)*$AB$32)+$C$14,IF($U$39<$B$16,(($U$39-$B$15)*$AB$33)+$C$15,IF($U$39<$B$17,(($U$39-$B$16)*$AB$34)+$C$16,IF($U$39<$B$18,(($U$39-$B$17)*$AB$35)+$C$17,IF($U$39<$B$19,(($U$39-$B$18)*$AB$36)+$C$18)))))))","v":97.995804664454852},null,null,null,null,null,null,null,null,null,"Free internet tilted cylinder calculator:",null,null,null,"http://planetcalc.com/1442/",null,null,null,null,null,null,"Free internet tilted cylinder calculator:",null,null,null,"http://planetcalc.com/1442/",null,null,null,null,30,2.95,1.0333333333333332,3.3545228223331005,0.33545228223331008,96.532819583455577,94.466231609122943,0,0,0,0,0,0,null,null,{"$f":"MAX($BS$45:$BS$245)","v":18.239999999999998},{"$f":"MIN($BS$45:$BS$245)","v":0},{"$f":"IF($BS$43=0,0,IF(AND($BS$39=0,$BR$39=$E$22),($BR$39+$BS$39)/2,IF($BS$39=0,$BR$39-((1/3)*($BR$39-$BS$39)),IF($BR$39=$E$22,$BR$39-((2/3)*($BR$39-$BS$39)),($BR$39+$BS$39)/2))))","v":12.16}]
[null,null,null,null,null,null,null,null,null,null,null,null,null,null,null,null,null,null,"Low Pt on Bottom","Yes",{"$f":"IF($T$40=\"No\",0,IF($U$13<=$U$14,$T$13,$T$14-($G$22*$M$19*$M$17)))","v":54.633854890488323},0,0,{"$f":"IF($T$40=\"No\",0,IF($U$13<=$U$14,$U$13,$U$14-($G$22*$M$20)))","v":94.47382039350488},{"$f":"IF($T$40=\"\",\"\",IF($U$40<$B$14,(($U$40-$B$13)*$AB$31)+$C$13,IF($U$40<$B$15,(($U$40-$B$14)*$AB$32)+$C$14,IF($U$40<$B$16,(($U$40-$B$15)*$AB$33)+$C$15,IF($U$40<$B$17,(($U$40-$B$16)*$AB$34)+$C$16,IF($U$40<$B$18,(($U$40-$B$17)*$AB$35)+$C$17,IF($U$40<$B$19,(($U$40-$B$18)*$AB$36)+$C$18)))))))","v":95.558247626396721},null,{"$f":"IF(OR($B$25=0,$B$25=180,$B$25=360),($U$11-$U$12)/0.001,IF($X$38=$X$39,1E-25,($U$11-$U$12)/($T$11-$T$12)))","v":-1.6023213963204105E-2},{"$f":"IF(OR($B$25=0,$B$25=180,$B$25=360),9999,IF($X$38=$X$39,1E-25,($U$12-$U$13)/($T$12-$T$13)))","v":210.39375212272836},null,null,null,null,null,null,null,null,null,null,null,null,null,null,null,null,null,null,null,null,null,null,null,null,null,null,"Total",null,null,null,{"$f":"SUM(BG10:BG39)","v":40.837213838163322},null,null,null,null,{"$f":"SUM($BL$10:$BL$39)","v":0},null,null,{"$f":"SUM($BO$10:$BO$39)","v":0.11342626641975119}]
[null,null,null,null,null,null,null,null,null,null,null,null,null,null,null,null,null,null,"High Pt on Bottom","Yes",{"$f":"IF($T$41=\"No\",0,IF($U$13>$U$14,$T$13,$T$14-($G$22*$M$19*$M$17)))","v":37.206069391946208},{"$f":"IF($T$41=\"No\",0,$E$22)","v":32},32,{"$f":"IF($T$41=\"No\",0,IF($U$13>=$U$14,$U$13,$U$14-($G$22*$M$20)))","v":94.753069529452858},{"$f":"IF($T$41=\"\",\"\",IF($U$41<$B$14,(($U$41-$B$13)*$AB$31)+$C$13,IF($U$41<$B$15,(($U$41-$B$14)*$AB$32)+$C$14,IF($U$41<$B$16,(($U$41-$B$15)*$AB$33)+$C$15,IF($U$41<$B$17,(($U$41-$B$16)*$AB$34)+$C$16,IF($U$41<$B$18,(($U$41-$B$17)*$AB$35)+$C$17,IF($U$41<$B$19,(($U$41-$B$18)*$AB$36)+$C$18)))))))","v":97.997144504754246},null,null,null,null,null,null,null,null,null,null,null,null,null,null,null,null,null,null,null,"Average",{"$f":"IF(AT42=0,0,AVERAGE(AT45:AT245))","v":0},{"$f":"IF(AU42=0,0,AVERAGE(AU45:AU245))","v":0.62229825230613933}]
[null,null,null,null,null,null,null,null,null,null,null,null,null,null,null,null,null,null,"Low Pt on Centerline","Yes",{"$f":"IF($T$42=\"No\",0,AVERAGE($U$38,$U$40))","v":54.638607702361185},0,0,{"$f":"IF($T$42=\"No\",0,AVERAGE($X$38,$X$40))","v":95.473782316569057},{"$f":"IF($T$42=\"\",\"\",IF($U$42<$B$14,(($U$42-$B$13)*$AB$31)+$C$13,IF($U$42<$B$15,(($U$42-$B$14)*$AB$32)+$C$14,IF($U$42<$B$16,(($U$42-$B$15)*$AB$33)+$C$15,IF($U$42<$B$17,(($U$42-$B$16)*$AB$34)+$C$16,IF($U$42<$B$18,(($U$42-$B$17)*$AB$35)+$C$17,IF($U$42<$B$19,(($U$42-$B$18)*$AB$36)+$C$18)))))))","v":95.557709608092708},null,null,null,null,null,null,null,null,null,"Log Partial Area Calculations",null,null,null,null,null,null,null,null,null,"Max",{"$f":"MAX(AT45:AT245)","v":0},{"$f":"MAX(AU45:AU245)","v":1.2428112888736536},null,null,null,"Total","Total","Total","Total","Total",null,"Total",null,"Total","Total","Average",null,"Average","Average","Average","Average","Total","Total","Total","Average","Average"]
[null,null,null,null,null,null,null,null,null,null,null,null,null,null,null,null,null,null,"High Pt on Centerline","Yes",{"$f":"IF($T$42=\"No\",0,AVERAGE($U$39,$U$41))","v":37.210822203819063},{"$f":"IF($T$43=\"No\",0,$E$22)","v":32},32,{"$f":"IF($T$42=\"No\",0,AVERAGE($X$39,$X$41))","v":95.753031452517035},{"$f":"IF($T$43=\"\",\"\",IF($U$43<$B$14,(($U$43-$B$13)*$AB$31)+$C$13,IF($U$43<$B$15,(($U$43-$B$14)*$AB$32)+$C$14,IF($U$43<$B$16,(($U$43-$B$15)*$AB$33)+$C$15,IF($U$43<$B$17,(($U$43-$B$16)*$AB$34)+$C$16,IF($U$43<$B$18,(($U$43-$B$17)*$AB$35)+$C$17,IF($U$43<$B$19,(($U$43-$B$18)*$AB$36)+$C$18)))))))","v":97.996474584604556},null,null,null,null,null,null,null,null,null,"Log Parameters",null,null,null,null,null,null,"Soil Parameters",null,null,null,null,null,null,null,null,{"$f":"SUM(AY45:AY245)","v":18.320000000000011},{"$f":"SUM($AZ$45:$AZ$245)","v":0},{"$f":"SUM($BA$45:$BA$245)","v":0},{"$f":"SUM($BB$45:$BB$245)","v":0},{"$f":"SUM($BC$45:$BC$245)","v":22.701725878646144},null,{"$f":"SUM($BE$45:$BE$245)","v":31.500884514622648},null,{"$f":"SUM($BG$45:$BG$245)","v":0},{"$f":"SUM($BH$45:$BH$245)","v":13.680000000000009},{"$f":"IF(SUM($BI$45:$BI$245)=0,0,AVERAGE($BI$45:$BI$245))","v":25.200000000000003},null,{"$f":"IF(SUM($BK$45:$BK$245)=0,0,AVERAGE($BK$45:$BK$245))","v":0},{"$f":"IF(SUM($BL$45:$BL$245)=0,0,AVERAGE($BL$45:$BL$245))","v":0},{"$f":"IF(SUM($BM$45:$BM$245)=0,0,AVERAGE($BM$45:$BM$245))","v":5.7169533973640627},{"$f":"IF(SUM($BN$45:$BN$245)=0,0,AVERAGE($BN$45:$BN$245))","v":0.11451417573877558},{"$f":"SUM(BO45:BO245)","v":32.000000000000021},{"$f":"SUM($BP$45:$BP$245)","v":1.2000000000000002},{"$f":"SUM($BQ$45:$BQ$245)","v":30.800000000000022},{"$f":"IF(SUM($BR$45:$BR$245)=0,0,AVERAGE($BR$45:$BR$245))","v":16},{"$f":"IF(SUM($BS$45:$BS$245)=0,0,AVERAGE($BS$45:$BS$245))","v":9.1199999999999992}]
[null,null,null,null,null,null,null,null,null,null,null,null,null,null,null,null,null,null,null,null,null,null,null,null,null,null,null,null,null,null,null,null,null,null,"Point","Distance","Zone","xcrown (ft)","ycrown (ft)","xbottom (ft)","ybottom (ft)","ysoil (ft)","db,dry,crown (ft)","db,sat,crown (ft)","db,crown (ft)","db,crown,bed (ft)","db,crown,bank (ft)","db,dry,bottom (ft)","db,sat,bottom (ft)","db,bottom (ft)","LT,em (ft)","Vbed,dry (ft3)","Vbed,sat (ft3)","Vbank,dry (ft3)","Vbank,sat (ft3)","hb,TS (ft)","ATSp,em (ft2)","dTSp,dry,em (ft)","ATSp,dry,em (ft2)","LT,ex (ft)","cD (ft)","hT↑bed,ex,wet (ft)","CL (ft)","cL (ft)","zT,CL↓WSE","CW","LTf,tot (ft)","LTf,bed (ft)","LTf,banks (ft)","cF (ft)","csoil (ft)"]
[null,null,null,null,null,null,null,null,null,null,null,null,null,null,null,null,null,null,null,null,null,"Log Crown and Soil Intercept",null,"Dist to Intercept","Intercept in Zone?","LW Buried?","Exposed Segment",null,null,"Large Wood Centerline",null,null,null,null,0,{"$f":"($AI45/$AI$245)*$AJ$245","v":0},{"$f":"IF(OR($C$19=\"\",$F$25=\"\",$G$25=\"\"),\"None\",IF(AL45<$B$14,\"Left Floodplain\",IF(AL45<$B$15,\"Left Bank\",IF(AL45<$B$16,\"Left Stream Bed\",IF(AL45<$B$17,\"Right Stream Bed\",IF(AL45<$B$18,\"Right Bank\",\"Right Floodplain\"))))))","v":"Left Bank"},{"$f":"MIN($U$38:$U$39)","v":37.215575015691925},{"$f":"IF($U$38<=$U$39,$X$38,$X$39)","v":96.752993375581198},{"$f":"MIN($U$40:$U$41)","v":37.206069391946208},{"$f":"IF($U$40<=$U$41,$X$40,$X$41)","v":94.753069529452858},{"$f":"IF($AL45<$B$14,(($AL45-$B$13)*$AB$31)+$C$13,IF($AL45<$B$15,(($AL45-$B$14)*$AB$32)+$C$14,IF($AL45<$B$16,(($AL45-$B$15)*$AB$33)+$C$15,IF($AL45<$B$17,(($AL45-$B$16)*$AB$34)+$C$16,IF($AL45<$B$18,(($AL45-$B$17)*$AB$35)+$C$17,IF($AL45<$B$19,(($AL45-$B$18)*$AB$36)+$C$18))))))","v":97.995804664454852},{"$f":"IF(OR($AP45<$AE$12,$AP45<=$AM45),0,IF(OR($AP45>=$AE$12,$AM45>=$AE$12),$AP45-$AM45-$AR45,$AP45-$AE$12))","v":0},{"$f":"IF($AP45<=$AM45,0,IF($AM45>=$AE$12,0,IF($AP45<=$AE$12,$AP45-$AM45,$AE$12-$AM45)))","v":1.2428112888736536},{"$f":"IF(AP45<=AM45,0,AP45-AM45)","v":1.2428112888736536},{"$f":"IF(OR($AS45=\"\",$AS45=0),\"\",IF(OR($AK45=\"Left Stream Bed\",$AK45=\"Right Stream Bed\"),$AS45,\"\"))","v":""},{"$f":"IF(OR($AS45=\"\",$AS45=0),\"\",IF(OR($AK45=\"Left Floodplain\",$AK45=\"Left Bank\",$AK45=\"Right Bank\",$AK45=\"Right Floodplain\"),$AS45,\"\"))","v":1.2428112888736536},{"$f":"IF(OR($AP45<$AE$12,$AP45<=$AO45),0,IF($AO45>=$AE$12,$AP45-$AO45,$AP45-$AE$12))","v":0},{"$f":"IF($AP45<=$AO45,0,IF($AO45>=$AE$12,0,IF($AP45<=$AE$12,$AP45-$AO45,$AE$12-$AO45)))","v":3.2427351350019933},{"$f":"IF(AP45<=AO45,0,AP45-AO45)","v":3.2427351350019933},{"$f":"IF($AS45=0,0,IF(OR($AJ45=0,$AJ45=$E$22),$AJ$46/2,$AJ$46))","v":0.08},{"$f":"IF(OR($AK45=\"Left Stream Bed\",$AK45=\"Right Stream Bed\"),$F$22*$AQ45*$AY45,0)","v":0},{"$f":"IF(OR($AK45=\"Left Stream Bed\",$AK45=\"Right Stream Bed\"),$F$22*$AR45*$AY45,0)","v":0},{"$f":"IF(OR($AK45=\"Left Floodplain\",$AK45=\"Left Bank\",$AK45=\"Right Bank\",$AK45=\"Right Floodplain\"),$F$22*$AQ45*$AY45,0)","v":0},{"$f":"IF(OR($AK45=\"Left Floodplain\",$AK45=\"Left Bank\",$AK45=\"Right Bank\",$AK45=\"Right Floodplain\"),$F$22*$AR45*$AY45,0)","v":0.19884980621978457},{"$f":"AX45-AS45","v":1.9999238461283397},{"$f":"$BD45*$AJ$46*ABS($M$17)","v":0.17427785498542089},{"$f":"AV45-AQ45","v":0},{"$f":"IF(OR($AJ45=0,$AJ45=$E$22),($BF45*$AJ$46/2)*ABS($M$17),$BF45*$AJ$46*ABS($M$17))","v":0},{"$f":"IF(OR($AM45<$AP45,$AO45>$AE$8),\"\",IF(OR($AJ45=0,$AJ45=$E$22),$AJ$46/2,$AJ$46))","v":""},{"$f":"IF($BH45=\"\",\"\",IF($BH45>0,$AJ45,\"\"))","v":""},{"$f":"IF($BH45=\"\",\"\",IF(OR(($AO45-$AP45)<0,$AO$45>=$AE$8),0,($AO45-$AP45)))","v":""},{"$f":"IF($BJ45=\"\",\"\",IF(OR($BJ45>($F$22/2),$BJ45=0),0,0.45-($BJ45*0.45/($F$22/2))))","v":""},{"$f":"IF($BK45=\"\",\"\",IF($BK45>0,$AJ45,\"\"))","v":""},{"$f":"IF($BH45=\"\",\"\",IF(OR(($AM45-$AP45)<0,$AM45>=$AE$8),\"\",($AE$8-($AM45-(($F$22/2)/$M$19)))))","v":""},{"$f":"IF($BM45=\"\",\"\",(((PI()^2)/32)*($B$66^-6)*EXP(-($BM45/$F$22)/(2*($B$66^2)))))","v":""},{"$f":"IF($AO45=0,0,IF($AO45>$AP45,0,IF(OR($AJ45=0,$AJ45=$E$22),$AJ$46/2,$AJ$46)))","v":0.08},{"$f":"IF(AND($BO45>0,OR($AK45=\"Left Stream Bed\",$AK45=\"Right Stream Bed\")),$BO45,0)","v":0},{"$f":"IF(AND($BO45>0,OR($AK45=\"Left Floodplain\",$AK45=\"Left Bank\",$AK45=\"Right Bank\",$AK45=\"Right Floodplain\")),$BO45,0)","v":0.08},{"$f":"IF($BO45>0,$AJ45,\"\")","v":0},{"$f":"IF($AY45>0,$AJ45,\"\")","v":0}]
[null,null,null,null,null,null,null,null,null,null,null,null,null,null,null,null,null,null,null,"Zone L (ft)","Log L (ft)","xcrown (ft)","ycrown (ft)",null,null,null,null,"Lem,crown (ft)",null,null,"x (ft)","y (ft)",null,null,1,{"$f":"($AI46/$AI$245)*$AJ$245","v":0.16},"Left Bank",{"$f":"$AL$45+ABS(AJ46*$M$19*$M$17)","v":37.302713943184635},{"$f":"AM45+((AL46-AL45)*$AA$40)","v":96.751597129901455},{"$f":"$AN$45+ABS(AJ46*$M$19*$M$17)","v":37.293208319438918},{"$f":"AO45+((AN46-AN45)*$AA$40)","v":94.751673283773115},{"$f":"IF($AL46<$B$14,(($AL46-$B$13)*$AB$31)+$C$13,IF($AL46<$B$15,(($AL46-$B$14)*$AB$32)+$C$14,IF($AL46<$B$16,(($AL46-$B$15)*$AB$33)+$C$15,IF($AL46<$B$17,(($AL46-$B$16)*$AB$34)+$C$16,IF($AL46<$B$18,(($AL46-$B$17)*$AB$35)+$C$17,IF($AL46<$B$19,(($AL46-$B$18)*$AB$36)+$C$18))))))","v":97.98352222515112},0,1.2319250952496645,{"$f":"IF(AP46<=AM46,0,AP46-AM46)","v":1.2319250952496645},{"$f":"IF(OR($AS46=\"\",$AS46=0),\"\",IF(OR($AK46=\"Left Stream Bed\",$AK46=\"Right Stream Bed\"),$AS46,\"\"))","v":""},{"$f":"IF(OR($AS46=\"\",$AS46=0),\"\",IF(OR($AK46=\"Left Floodplain\",$AK46=\"Left Bank\",$AK46=\"Right Bank\",$AK46=\"Right Floodplain\"),$AS46,\"\"))","v":1.2319250952496645},{"$f":"IF(OR($AP46<$AE$12,$AP46<=$AO46),0,IF($AO46>=$AE$12,$AP46-$AO46,$AP46-$AE$12))","v":0},3.2318489413780043,3.2318489413780043,0.16,0,0,0,0.39421603047989268,1.9999238461283397,{"$f":"$BD46*$AJ$46*ABS($M$17)","v":0.17427785498542089},{"$f":"AV46-AQ46","v":0},0,"",{"$f":"IF($BH46=\"\",\"\",IF($BH46>0,$AJ46,\"\"))","v":""},{"$f":"IF($BH46=\"\",\"\",IF(OR(($AO46-$AP46)<0,$AO$45>=$AE$8),0,($AO46-$AP46)))","v":""},"","",{"$f":"IF($BH46=\"\",\"\",IF(OR(($AM46-$AP46)<0,$AM46>=$AE$8),\"\",($AE$8-($AM46-(($F$22/2)/$M$19)))))","v":""},{"$f":"IF($BM46=\"\",\"\",(((PI()^2)/32)*($B$66^-6)*EXP(-($BM46/$F$22)/(2*($B$66^2)))))","v":""},0.16,0,0.16,0.16,{"$f":"IF($AY46>0,$AJ46,\"\")","v":0.16}]
[null,null,null,null,null,null,null,null,null,null,null,null,null,null,null,null,null,null,"LB Floodplain",{"$f":"($B$14-$B$13)/ABS($M$17)/ABS($M$19)","v":60.592896331455172},{"$f":"IF(MAX($U$38:$U$39)<=$B$14,$E$22,IF($T$32=\"No\",0,$E$22-$W$32))","v":0},{"$f":"IF($U$47=0,0,IF(OR($B$25=0,$B$25=180,$B$25=360),$U$38,$U$32+(($X$32-$C$14)/($AB$31-$AA$40))))","v":0},{"$f":"IF($U$47=0,0,IF(OR($B$25=0,$B$25=180,$B$25=360),(($U$38-$B$13)*$AB$31)+$C$13,$X$32+(($V$47-$U$32)*$AA$40)))","v":0},{"$f":"IF($U$47=0,0,IF(OR($B$25=0,$B$25=180,$B$25=360),$E$22-ABS(($X$39-$W$47)/$M$20),IF(AND($U$38<=$U$39,$X$38>=$Y$38),ABS(($X$38-$W$47)/($AA$40*$M$17*$M$19)),IF(AND($U$38<=$U$39,$X$38<$Y$38),ABS($E$22-(ABS(($X$38-$W$47)/($AA$40*$M$17*$M$19)))),IF(AND($U$38>$U$39,$X$39>=$Y$39),ABS(($X$39-$W$47)/($AA$40*$M$17*$M$19)),IF(AND($U$38>=$U$39,$X$39<$Y$39),ABS($E$22-(ABS(($X$38-$W$47)/($AA$40*$M$17*$M$19))))))))))","v":0},{"$f":"IF(AND($U$47=0,$W$47=0),\"No\",IF(AND($V$47<=$B$14,$V$47>=$B$13,$V$47>=MIN($U$38:$U$39),$V$47<=MAX($U$38:$U$39),$W$47<$C$13,$X$47<=$E$22),\"Yes\",\"No\"))","v":"No"},{"$f":"IF($U$47=0,\"No\",IF($Y$47=\"Yes\",\"Partial\",IF(AND($U$47<$E$22,$X$39<$Y$39,$Y$47=\"No\",$Y$48=\"No\",$Y$49=\"No\",$Y$50=\"No\",$Y$51=\"No\",$Y$52=\"No\"),\"Yes\",IF(AND($Y$47=\"No\",$X$32>$Y$32),\"No\",\"Yes\"))))","v":"No"},{"$f":"IF($Z$47=\"Yes\",\"None\",IF(AND($Z$47=\"No\",$U$47=0),\"None\",IF($Z$47=\"No\",\"All\",IF(AND($X$39>=$Y$39,$U$39<=$U$38),\"Left\",\"Right\"))))","v":"None"},{"$f":"IF($U$47=0,0,IF($Z$47=\"No\",0,IF($Z$47=\"Yes\",$U$47,IF(OR($AA$47=\"Left\",$U$47=$E$22),$U$47-(ABS(($U$39-$V$47)/($M$17*$M$19))),$U$47-(ABS(($V$47-$B$14)/($M$17*$M$19)))))))","v":0},null,"Rootwad",{"$f":"AVERAGE(T10,T15)","v":54.638607702361185},{"$f":"AVERAGE(U10,U15)","v":95.473782316569057},null,null,2,0.32,"Left Bank",{"$f":"$AL$45+ABS(AJ47*$M$19*$M$17)","v":37.389852870677345},{"$f":"AM46+((AL47-AL46)*$AA$40)","v":96.750200884221712},37.380347246931628,{"$f":"AO46+((AN47-AN46)*$AA$40)","v":94.750277038093373},{"$f":"IF($AL47<$B$14,(($AL47-$B$13)*$AB$31)+$C$13,IF($AL47<$B$15,(($AL47-$B$14)*$AB$32)+$C$14,IF($AL47<$B$16,(($AL47-$B$15)*$AB$33)+$C$15,IF($AL47<$B$17,(($AL47-$B$16)*$AB$34)+$C$16,IF($AL47<$B$18,(($AL47-$B$17)*$AB$35)+$C$17,IF($AL47<$B$19,(($AL47-$B$18)*$AB$36)+$C$18))))))","v":97.971239785847388},0,1.2210389016256755,1.2210389016256755,"",1.2210389016256755,0,3.2209627477540153,3.2209627477540153,0.16,0,0,0,0.39073244852021616,1.9999238461283397,0.17427785498542089,0,0,"","","","","","",{"$f":"IF($BM47=\"\",\"\",(((PI()^2)/32)*($B$66^-6)*EXP(-($BM47/$F$22)/(2*($B$66^2)))))","v":""},0.16,0,0.16,0.32,0.32]
[{"$f":"IF($A$6=\"\",\"\",$A$6)","v":"Sample1"},{"$f":"IF($A$6=\"\",\"\",$B$6)","v":"Flow Deflection"},null,{"$f":"IF(OR($B$9=\"N/A\",$B$9=\"\"),\"\",$B$9)","v":"Stacked"},{"$f":"IF($D$48=\"\",\"\",\"Log ID\")","v":"Log ID"},{"$f":"IF($D$48=\"\",\"\",$C$9)","v":"Top#3"},null,null,null,"Page 2",null,null,null,null,null,null,null,null,"Left Bank",{"$f":"($B$15-$B$14)/ABS($M$17)/ABS($M$19)","v":38.559115847289654},{"$f":"IF(AND(MIN($U$38:$U$39)>=$B$14,MAX($U$38:$U$39)<=$B$15),$E$22,IF(AND($T$33=\"No\",$T$32=\"No\"),0,$E$22-$W$33-$U$47))","v":30.818694638098943},{"$f":"IF($U$48=0,0,IF(OR($B$25=0,$B$25=180,$B$25=360),$U$38,$U$33+(($C$15-$X$33)/($AA$40-$AB$32))))","v":47.163702573296845},{"$f":"IF($U$48=0,0,IF(OR($B$25=0,$B$25=180,$B$25=360),(($U$38-$B$14)*$AB$32)+$C$14,$X$33+(($V$48-$U$33)*$AA$40)))","v":96.593592399192445},{"$f":"IF($U$48=0,0,IF(OR($B$25=0,$B$25=180,$B$25=360),$E$22-ABS(($X$39-$W$48)/$M$20),IF(AND($U$38<=$U$39,$X$38>=$Y$38),ABS(($X$38-$W$48)/($AA$40*$M$17*$M$19)),IF(AND($U$38<=$U$39,$X$38<$Y$38),ABS($E$22-(ABS(($X$38-$W$48)/($AA$40*$M$17*$M$19)))),IF(AND($U$38>$U$39,$X$39>=$Y$39),ABS(($X$39-$W$48)/($AA$40*$M$17*$M$19)),IF(AND($U$38>=$U$39,$X$39<$Y$39),ABS($E$22-(ABS(($X$38-$W$48)/($AA$40*$M$17*$M$19))))))))))","v":18.266238236062488},{"$f":"IF(AND($U$48=0,$W$48=0),\"No\",IF(AND($V$48<=$B$15,$V$48>=$B$14,$V$48>=MIN($U$38:$U$39),$V$48<=MAX($U$38:$U$39),$W$48<$C$14,$X$48<=$E$22),\"Yes\",\"No\"))","v":"Yes"},{"$f":"IF($U$48=0,\"No\",IF($Y$48=\"Yes\",\"Partial\",IF(AND($U$48<$E$22,$X$39<$Y$39,$Y$47=\"No\",$Y$48=\"No\",$Y$49=\"No\",$Y$50=\"No\",$Y$51=\"No\",$Y$52=\"No\"),\"Yes\",IF(AND($Y$48=\"No\",$X$33>$Y$33),\"No\",\"Yes\"))))","v":"Partial"},{"$f":"IF($Z$48=\"Yes\",\"None\",IF(AND($Z$48=\"No\",$U$48=0),\"None\",IF($Z$48=\"No\",\"All\",IF(AND($X$39>=$Y$39,$U$39<=$U$38,$AA$47<>\"Left\"),\"Left\",\"Right\"))))","v":"Right"},{"$f":"IF($U$48=0,0,IF($Z$48=\"No\",0,IF($Z$48=\"Yes\",$U$48,IF(OR($U$48=$E$22,AND($AA$48=\"Left\",MIN($U$38:$U$39)>=$B$14,MAX($U$38:$U$39)>=$B$15)),$U$48-(ABS(($U$39-$V$48)/($M$17*$M$19))),IF($AA$48=\"Left\",$U$48-(ABS(($B$14-$V$48)/($M$17*$M$19))),IF(MAX($U$38:$U$39)>=$B$15,$U$48-(ABS(($V$48-$B$15)/($M$17*$M$19))),ABS(($V$48-$B$14)/($M$17*$M$19))))))))","v":18.266238236062033},null,"Root collar",{"$f":"AVERAGE(T11,T14)","v":53.004752811872862},{"$f":"AVERAGE(U11,U14)","v":95.499961923064177},null,null,3,0.48,"Left Bank",{"$f":"$AL$45+ABS(AJ48*$M$19*$M$17)","v":37.476991798170054},96.748804638541969,37.467486174424337,94.74888079241363,97.958957346543656,0,1.2101527080016865,1.2101527080016865,"",1.2101527080016865,0,3.2100765541300262,3.2100765541300262,0.16,0,0,0,0.3872488665605397,1.9999238461283397,0.17427785498542089,0,0,"","","","","","","",0.16,0,0.16,0.48,0.48]
["Vertical Force Analysis",null,null,null,null,null,null,null,null,null,null,null,null,null,null,null,null,null,"Left Stream Bed",{"$f":"($B$16-$B$15)/ABS($M$17)/ABS($M$19)","v":45.903709342011489},{"$f":"IF(AND(MIN($U$38:$U$39)>=$B$15,MAX($U$38:$U$39)<=$B$16),$E$22,IF(AND($T$34=\"No\",$T$33=\"No\"),0,IF(AND($T$33=\"Yes\",$T$34=\"No\"),$E$22-$U$48-$U$47,IF(AND($T$33=\"Yes\",$T$34=\"Yes\",$T$36=\"No\"),$E$22-$U$50-$U$48-$U$47,IF(AND($T$33=\"Yes\",$T$34=\"Yes\",$T$36=\"Yes\"),$E$22-$U$52-$U$51-$U$50-$U$48-$U$47,$E$22-$U$52-$U$51-$U$50)))))","v":1.1813053619010567},{"$f":"IF($U$49=0,0,IF(OR($B$25=0,$B$25=180,$B$25=360),$U$38,$U$34+(($C$16-$X$34)/($AA$40-$AB$33))))","v":45.211348125004911},{"$f":"IF($U$49=0,0,IF(OR($B$25=0,$B$25=180,$B$25=360),(($U$38-$B$15)*$AB$33)+$C$15,$X$34+(($V$49-$U$34)*$AA$40)))","v":96.624875392249436},{"$f":"IF(OR($U$49=0,AND($C$25=0,$B$25=0),AND($C$25=0,$B$25=360),AND($C$25=0,$B$25=180)),0,IF(OR($B$25=0,$B$25=180,$B$25=360),$E$22-ABS(($X$39-$W$49)/$M$20),IF(AND($U$38<=$U$39,$X$38>=$Y$38),ABS(($X$38-$W$49)/($AA$40*$M$17*$M$19)),IF(AND($U$38<=$U$39,$X$38<$Y$38),ABS($E$22-(ABS(($X$38-$W$49)/($AA$40*$M$17*$M$19)))),IF(AND($U$38>$U$39,$X$39>=$Y$39),ABS(($X$39-$W$49)/($AA$40*$M$17*$M$19)),IF(AND($U$38>=$U$39,$X$39<$Y$39),ABS($E$22-(ABS(($X$38-$W$49)/($AA$40*$M$17*$M$19))))))))))","v":14.681425790983958},{"$f":"IF(AND($U$49=0,$W$49=0),\"No\",IF(AND($V$49<=$B$16,$V$49>=$B$15,$V$49>=MIN($U$38:$U$39),$V$49<=MAX($U$38:$U$39),$W$49<$C$15,$X$49<=$E$22),\"Yes\",\"No\"))","v":"No"},{"$f":"IF($U$49=0,\"No\",IF($Y$49=\"Yes\",\"Partial\",IF(AND($U$49<$E$22,$X$39<$Y$39,$Y$47=\"No\",$Y$48=\"No\",$Y$49=\"No\",$Y$50=\"No\",$Y$51=\"No\",$Y$52=\"No\"),\"Yes\",IF(AND($Y$49=\"No\",$X$34>$Y$34),\"No\",\"Yes\"))))","v":"No"},{"$f":"IF($Z$49=\"Yes\",\"None\",IF(AND($Z$49=\"No\",$U$49=0),\"None\",IF($Z$49=\"No\",\"All\",IF(AND($X$39>=$Y$39,$U$39<=$U$38,$AA$48<>\"Left\"),\"Left\",\"Right\"))))","v":"All"},{"$f":"IF($U$49=0,0,IF($Z$49=\"No\",0,IF($Z$49=\"Yes\",$U$49,IF(OR($U$49=$E$22,AND($AA$49=\"Left\",MIN($U$38:$U$39)>=$B$15,MAX($U$38:$U$39)>=$B$16)),$U$49-(ABS(($U$39-$V$49)/($M$17*$M$19))),IF($AA$49=\"Left\",$U$49-(ABS(($B$15-$V$49)/($M$17*$M$19))),IF(MAX($U$38:$U$39)>=$B$16,$U$49-(ABS(($V$49-$B$16)/($M$17*$M$19))),ABS(($V$49-$B$15)/($M$17*$M$19))))))))","v":0},null,"Stem tip",{"$f":"AVERAGE(T12,T13)","v":37.210822203819063},{"$f":"AVERAGE(U12,U13)","v":95.753031452517035},null,null,4,0.64,"Left Bank",37.564130725662764,96.747408392862226,37.554625101917054,94.747484546733887,97.946674907239924,0,1.1992665143776975,1.1992665143776975,"",1.1992665143776975,0,3.1991903605060372,3.1991903605060372,0.16,0,0,0,0.38376528460086323,1.9999238461283397,0.17427785498542089,0,0,"","","","","","","",0.16,0,0.16,0.64,0.64]
["Net Buoyancy Force",null,null,null,null,null,null,"Lift Force",null,null,null,null,null,null,null,null,null,null,"Right Stream Bed",{"$f":"($B$17-$B$16)/ABS($M$17)/ABS($M$19)","v":53.24830283673333},{"$f":"IF(AND(MIN($U$38:$U$39)>=$B$16,MAX($U$38:$U$39)<=$B$17),$E$22,IF(AND($T$35=\"No\",$T$36=\"No\"),0,IF(AND($T$36=\"Yes\",$T$35=\"No\"),$E$22-$U$51-$U$52,IF(AND($T$36=\"Yes\",$T$35=\"Yes\"),$E$22-$W$35-$U$51-$U$52,$E$22-$W$35))))","v":0},{"$f":"IF($U$50=0,0,IF(OR($B$25=0,$B$25=180,$B$25=360),$U$38,$U$35+(($X$35-$C$16)/($AB$34-$AA$40))))","v":0},{"$f":"IF($U$50=0,0,IF(OR($B$25=0,$B$25=180,$B$25=360),(($U$38-$B$16)*$AB$34)+$C$16,$X$35+(($V$50-$U$35)*$AA$40)))","v":0},{"$f":"IF(OR($U$50=0,AND($C$25=0,$B$25=0),AND($C$25=0,$B$25=360),AND($C$25=0,$B$25=180)),0,IF(OR($B$25=0,$B$25=180,$B$25=360),$E$22-ABS(($X$39-$W$50)/$M$20),IF(AND($U$38<=$U$39,$X$38>=$Y$38),ABS(($X$38-$W$50)/($AA$40*$M$17*$M$19)),IF(AND($U$38<=$U$39,$X$38<$Y$38),ABS($E$22-(ABS(($X$38-$W$50)/($AA$40*$M$17*$M$19)))),IF(AND($U$38>$U$39,$X$39>=$Y$39),ABS(($X$39-$W$50)/($AA$40*$M$17*$M$19)),IF(AND($U$38>=$U$39,$X$39<$Y$39),ABS($E$22-(ABS(($X$38-$W$50)/($AA$40*$M$17*$M$19))))))))))","v":0},{"$f":"IF(AND($U$50=0,$W$50=0),\"No\",IF(AND($V$50<=$B$17,$V$50>=$B$16,$V$50>=MIN($U$38:$U$39),$V$50<=MAX($U$38:$U$39),$W$50<$C$17,$X$50<=$E$22),\"Yes\",\"No\"))","v":"No"},{"$f":"IF($U$50=0,\"No\",IF($Y$50=\"Yes\",\"Partial\",IF(AND($U$50<$E$22,$X$39<$Y$39,$Y$47=\"No\",$Y$48=\"No\",$Y$49=\"No\",$Y$50=\"No\",$Y$51=\"No\",$Y$52=\"No\"),\"Yes\",IF(AND($Y$50=\"No\",$X$35>$Y$35),\"No\",\"Yes\"))))","v":"No"},{"$f":"IF($Z$50=\"Yes\",\"None\",IF(AND($Z$50=\"No\",$U$50=0),\"None\",IF($Z$50=\"No\",\"All\",IF(AND($X$39>=$Y$39,$U$39>=$U$38,$AA$51<>\"Right\"),\"Right\",\"Left\"))))","v":"None"},{"$f":"IF($U$50=0,0,IF($Z$50=\"No\",0,IF($Z$50=\"Yes\",$U$50,IF(OR($U$50=$E$22,AND($AA$50=\"Right\",MIN($U$38:$U$39)<=$B$16,MAX($U$38:$U$39)<=$B$17)),$U$50-(ABS(($U$39-$V$50)/($M$17*$M$19))),IF($AA$50=\"Right\",$U$50-(ABS(($B$17-$V$50)/($M$17*$M$19))),IF(MIN($U$38:$U$39)<=$B$16,$U$50-(ABS(($V$50-$B$16)/($M$17*$M$19))),ABS(($V$50-$B$17)/($M$17*$M$19))))))))","v":0},null,null,null,null,null,null,5,0.8,"Left Bank",37.651269653155481,96.746012147182483,37.641764029409764,94.746088301054144,97.934392467936178,0,1.1883803207536943,1.1883803207536943,"",1.1883803207536943,0,3.188304166882034,3.188304166882034,0.16,0,0,0,0.38028170264118216,1.9999238461283397,0.17427785498542089,0,0,"","","","","","","",0.16,0,0.16,0.8,0.8]
["Wood","VTS (ft3)","VRW (ft3)","VT (ft3)","WT (lbf)","FB (lbf)",null,"CLT",{"$f":"$BK$43","v":0},null,null,null,null,{"$f":"IF(OR($D$22=\"\",$D$22=\"No\"),\"\",\"Rootwad Position\")","v":"Rootwad Position"},null,null,null,null,"Right Bank",{"$f":"($B$18-$B$17)/ABS($M$17)/ABS($M$19)","v":34.886819099928736},{"$f":"IF(AND(MIN($U$38:$U$39)>=$B$17,MAX($U$38:$U$39)<=$B$18),$E$22,IF(AND($T$36=\"No\",$T$37=\"No\"),0,$E$22-$W$36-$U$52))","v":0},{"$f":"IF($U$51=0,0,IF(OR($B$25=0,$B$25=180,$B$25=360),$U$38,$U$36+(($X$36-$C$17)/($AB$35-$AA$40))))","v":0},{"$f":"IF($U$51=0,0,IF(OR($B$25=0,$B$25=180,$B$25=360),(($U$38-$B$17)*$AB$35)+$C$17,$X$36+(($V$51-$U$36)*$AA$40)))","v":0},{"$f":"IF($U$51=0,0,IF(OR($B$25=0,$B$25=180,$B$25=360),$E$22-ABS(($X$39-$W$51)/$M$20),IF(AND($U$38<=$U$39,$X$38>=$Y$38),ABS(($X$38-$W$51)/($AA$40*$M$17*$M$19)),IF(AND($U$38<=$U$39,$X$38<$Y$38),ABS($E$22-(ABS(($X$38-$W$51)/($AA$40*$M$17*$M$19)))),IF(AND($U$38>$U$39,$X$39>=$Y$39),ABS(($X$39-$W$51)/($AA$40*$M$17*$M$19)),IF(AND($U$38>=$U$39,$X$39<$Y$39),ABS($E$22-(ABS(($X$38-$W$51)/($AA$40*$M$17*$M$19))))))))))","v":0},{"$f":"IF(AND($U$51=0,$W$51=0),\"No\",IF(AND($V$51<=$B$18,$V$51>=$B$17,$V$51>=MIN($U$38:$U$39),$V$51<=MAX($U$38:$U$39),$W$51<$C$18,$X$51<=$E$22),\"Yes\",\"No\"))","v":"No"},{"$f":"IF($U$51=0,\"No\",IF($Y$51=\"Yes\",\"Partial\",IF(AND($U$51<$E$22,$X$39<$Y$39,$Y$47=\"No\",$Y$48=\"No\",$Y$49=\"No\",$Y$50=\"No\",$Y$51=\"No\",$Y$52=\"No\"),\"Yes\",IF(AND($Y$51=\"No\",$X$36>$Y$36),\"No\",\"Yes\"))))","v":"No"},{"$f":"IF($Z$51=\"Yes\",\"None\",IF(AND($Z$51=\"No\",$U$51=0),\"None\",IF($Z$51=\"No\",\"All\",IF(AND($X$39>=$Y$39,$U$39>=$U$38,$AA$52<>\"Right\"),\"Right\",\"Left\"))))","v":"None"},{"$f":"IF($U$51=0,0,IF($Z$51=\"No\",0,IF($Z$51=\"Yes\",$U$51,IF(OR($U$51=$E$22,AND($AA$51=\"Right\",MIN($U$38:$U$39)<=$B$17,MAX($U$38:$U$39)<=$B$18)),$U$51-(ABS(($U$39-$V$51)/($M$17*$M$19))),IF($AA$51=\"Right\",$U$51-(ABS(($B$18-$V$51)/($M$17*$M$19))),IF(MIN($U$38:$U$39)<=$B$17,$U$51-(ABS(($V$51-$B$17)/($M$17*$M$19))),ABS(($V$51-$B$18)/($M$17*$M$19))))))))","v":0},null,null,null,null,null,null,6,0.96,"Left Bank",37.738408580648191,96.74461590150274,37.728902956902473,94.744692055374401,97.922110028632446,0,1.1774941271297052,1.1774941271297052,"",1.1774941271297052,0,3.177417973258045,3.177417973258045,0.16,0,0,0,0.3767981206815057,1.9999238461283397,0.17427785498542089,0,0,"","","","","","","",0.16,0,0.16,0.96,0.96]
["↑WSE",{"$f":"IF(OR($E$22=\"\",$F$22=\"\"),0,IF($AH$17=\"Case 1\",$AL$17-$AJ$21,IF($AH$17=\"Case 2\",$AL$17-$AJ$26,IF($AH$17=\"Case 3\",$AL$17-$AJ$30,IF($AH$17=\"Case 4\",$AL$17-$AJ$37,IF($AH$17=\"Log is completely submerged\",0,IF($AH$17=\"Stem is dry\",PI()*(($F$22/2)^2)*($E$22-$G$22),\"\")))))))","v":0},{"$f":"IF(OR($E$22=\"\",$F$22=\"\",$D$22=\"No\",$D$22=\"\"),0,$BL$40*(1-RWporosity))","v":0},{"$f":"B52+C52","v":0},{"$f":"IF($I$22=\"\",0,($B$52*$I$22)+($C$52*$I$22))","v":0},0,null,"FL (lbf)",{"$f":"IF($J$6=\"\",0,$I$51*$J$25*SWWater*(($J$6^2)/(2*g)))","v":0},null,null,null,null,{"$f":"IF($D$22=\"\",\"\",IF($D$22=\"No\",\"No Rootwad\",IF($U$15>=$AE$8,\"Above high water\",IF($U$10<=$C$16,\"Buried in bed\",IF(OR($AE$48<=$B$14,$AE$48>=$B$18),\"On bank/buried in bank\",\"Exposed in stream\")))))","v":"Exposed in stream"},null,null,null,null,"RB Floodplain",{"$f":"($B$19-$B$18)/ABS($M$17)/ABS($M$19)","v":42.231412594650578},{"$f":"IF(MIN($U$38:$U$39)>=$B$18,$E$22,IF($T$37=\"No\",0,$E$22-$W$37))","v":0},{"$f":"IF($U$52=0,0,IF(OR($B$25=0,$B$25=180,$B$25=360),$U$38,$U$37+(($X$37-$C$18)/($AB$36-$AA$40))))","v":0},{"$f":"IF($U$52=0,0,IF(OR($B$25=0,$B$25=180,$B$25=360),(($U$38-$B$18)*$AB$36)+$C$18,$X$37+(($V$52-$U$37)*$AA$40)))","v":0},{"$f":"IF($U$52=0,0,IF(OR($B$25=0,$B$25=180,$B$25=360),$E$22-ABS(($X$39-$W$52)/$M$20),IF(AND($U$38<=$U$39,$X$38>=$Y$38),ABS(($X$38-$W$52)/($AA$40*$M$17*$M$19)),IF(AND($U$38<=$U$39,$X$38<$Y$38),ABS($E$22-(ABS(($X$38-$W$52)/($AA$40*$M$17*$M$19)))),IF(AND($U$38>$U$39,$X$39>=$Y$39),ABS(($X$39-$W$52)/($AA$40*$M$17*$M$19)),IF(AND($U$38>=$U$39,$X$39<$Y$39),ABS($E$22-(ABS(($X$38-$W$52)/($AA$40*$M$17*$M$19))))))))))","v":0},{"$f":"IF(AND($U$52=0,$W$52=0),\"No\",IF(AND($V$52<=$B$19,$V$52>=$B$18,$V$52>=MIN($U$38:$U$39),$V$52<=MAX($U$38:$U$39),$W$52<$C$19,$X$52<=$E$22),\"Yes\",\"No\"))","v":"No"},{"$f":"IF($U$52=0,\"No\",IF($Y$52=\"Yes\",\"Partial\",IF(AND($U$52<$E$22,$X$39<$Y$39,$Y$47=\"No\",$Y$48=\"No\",$Y$49=\"No\",$Y$50=\"No\",$Y$51=\"No\",$Y$52=\"No\"),\"Yes\",IF(AND($Y$52=\"No\",$X$37>$Y$37),\"No\",\"Yes\"))))","v":"No"},{"$f":"IF($Z$52=\"Yes\",\"None\",IF(AND($Z$52=\"No\",$U$52=0),\"None\",IF($Z$52=\"No\",\"All\",IF(AND($X$39>=$Y$39,$U$39>=$U$38),\"Right\",\"Left\"))))","v":"None"},{"$f":"IF($U$52=0,0,IF($Z$52=\"No\",0,IF($Z$52=\"Yes\",$U$52,IF(OR($AA$52=\"Right\",$U$52=$E$22),$U$52-(ABS(($U$39-$V$52)/($M$17*$M$19))),$U$52-(ABS(($V$52-$B$18)/($M$17*$M$19)))))))","v":0},null,null,null,null,null,null,7,1.1200000000000001,"Left Bank",37.8255475081409,96.743219655822998,37.816041884395183,94.743295809694658,97.909827589328714,0,1.1666079335057162,1.1666079335057162,"",1.1666079335057162,0,3.166531779634056,3.166531779634056,0.16,0,0,0,0.37331453872182918,1.9999238461283397,0.17427785498542089,0,0,"","","","","","","",0.16,0,0.16,1.1200000000000001,1.1200000000000001]
["↓WS↑Thw",{"$f":"IF(OR($E$22=\"\",$F$22=\"\"),0,IF(AND(MIN($U$10:$U$15)>=$C$16,MAX($U$10:$U$15)<=$AE$8),PI()*(($F$22/2)^2)*($E$22-$G$22),(PI()*(($F$22/2)^2)*($E$22-$G$22))-$B$52-$B$54))","v":91.106186954104004},{"$f":"IF(OR($F$22=\"\",$D$22=\"No\"),0,((1/3)*PI()*(($H$22/2)^2+($F$22/2)^2+(($H$22/2)*($F$22/2)))*$G$22*(1-RWporosity))-$C$52-$C$54)","v":32.581822584198051},{"$f":"B53+C53","v":123.68800953830205},{"$f":"IF($I$22=\"\",0,($B$53*$I$22)+($C$53*$I$22))","v":4322.1538053064269},{"$f":"($D$53*SWWater)","v":7718.1317951900483},null,"Vertical Force Balance",null,null,null,"Formatting",null,null,null,null,null,null,null,"L check",{"$f":"SUM(U47:U52)","v":32},{"$f":"IF($U$53=$E$22,\"OK\",\"ERROR\")","v":"OK"},null,null,null,null,"Total",{"$f":"SUM(AB47:AB52)","v":18.266238236062033},null,null,null,null,null,null,8,1.28,"Left Bank",37.91268643563361,96.741823410143255,37.903180811887893,94.741899564014915,97.897545150024982,0,1.1557217398817272,1.1557217398817272,"",1.1557217398817272,0,3.1556455860100669,3.1556455860100669,0.16,0,0,0,0.36983095676215272,1.9999238461283397,0.17427785498542089,0,0,"","","","","","","",0.16,0,0.16,1.28,1.28]
["↓Thalweg",{"$f":"IF(OR($E$22=\"\",$F$22=\"\"),0,IF($AS$17=\"Case 1\",$AU$21,IF($AS$17=\"Case 2\",$AU$26,IF($AS$17=\"Case 3\",$AU$30,IF($AS$17=\"Case 4\",$AU$37,IF($AS$17=\"Log is completely submerged\",PI()*(($F$22/2)^2)*($E$22-$G$22),IF($AS$17=\"Stem is dry\",0,\"\")))))))","v":0},{"$f":"IF(OR($E$22=\"\",$F$22=\"\",$D$22=\"No\",$D$22=\"\"),0,$BO$40*(1-RWporosity))","v":9.0741013135800963E-2},{"$f":"B54+C54","v":9.0741013135800963E-2},{"$f":"IF($J$22=\"\",0,($B$54*$J$22)+($C$54*$J$22))","v":3.5388995122962377},{"$f":"($D$54*SWWater)","v":5.6622392196739799},null,"FB (lbf)",{"$f":"$F$55","v":7723.7940344097224},{"$f":"IF($L54=0,\"\",IF($L54>0,CHAR(233),CHAR(234)))","v":"é"},null,{"$f":"$F$55","v":7723.7940344097224},null,"check:",{"$f":"IF(OR($D$22=\"\",$B$25=\"\",$N$52=\"\"),\"\",IF($D$22=\"No\",\"use CD stem\",IF(AND($D$22=\"Yes\",$N$52=\"Exposed in stream\"),\"use CD RW\",\"use CD stem\")))","v":"use CD RW"},null,null,null,null,null,null,null,null,null,null,null,null,null,null,null,null,null,null,null,9,1.44,"Left Bank",37.99982536312632,96.740427164463512,37.990319739380602,94.740503318335172,97.88526271072125,0,1.1448355462577382,1.1448355462577382,"",1.1448355462577382,0,3.1447593923860779,3.1447593923860779,0.16,0,0,0,0.36634737480247626,1.9999238461283397,0.17427785498542089,0,0,"","","","","","","",0.16,0,0.16,1.44,1.44]
["Total",{"$f":"$B$52+$B$53+$B$54","v":91.106186954104004},{"$f":"$C$52+$C$53+$C$54","v":32.672563597333848},{"$f":"$D$52+$D$53+$D$54","v":123.77875055143785},{"$f":"$E$52+$E$53+$E$54","v":4325.6927048187235},{"$f":"$F$53+$F$54+$F$52","v":7723.7940344097224},null,"FL (lbf)",{"$f":"$I$52","v":0},"",null,{"$f":"$I$52","v":0},null,"CDi for Stem Only (i.e., RW is not in contact with streamflow)",null,null,null,null,"Coordinates of Large Wood Bottom at Key Points",null,null,null,null,null,null,null,null,null,null,null,null,null,null,null,10,1.6,"Left Bank",38.086964290619029,96.739030918783769,38.077458666873312,94.739107072655429,97.872980271417504,0,1.133949352633735,1.133949352633735,"",1.133949352633735,0,3.1338731987620747,3.1338731987620747,0.16,0,0,0,0.36286379284279519,1.9999238461283397,0.17427785498542089,0,0,"","","","","","","",0.16,0,0.16,1.6,1.6]
[null,null,null,null,null,null,null,"WT (lbf)",{"$f":"$E$55","v":4325.6927048187235},"ê",null,{"$f":"-$E$55","v":-4325.6927048187235},null,"Adjusted q (deg)","CDi Stem only1",null,null,null,null,"Wood Present?","Large Wood Parameters",null,null,null,"Soil",null,null,null,null,null,null,null,null,null,11,1.76,"Left Bank",38.174103218111739,96.737634673104026,38.164597594366022,94.737710826975686,97.860697832113772,0,1.123063159009746,1.123063159009746,"",1.123063159009746,0,3.1229870051380857,3.1229870051380857,0.16,0,0,0,0.35938021088311872,1.9999238461283397,0.17427785498542089,0,0,"","","","","","","",0.16,0,0.16,1.76,1.76]
["Soil Ballast Force",null,null,null,null,null,null,"Fsoil (lbf)",{"$f":"$E$61","v":1936.5000508935698},"ê",null,{"$f":"-$E$61","v":-1936.5000508935698},null,{"$f":"IF(OR($O$54=\"\",$O$54=\"use CD RW\"),\"\",IF($B$25<-180,\"Error\",IF($B$25<-90,$B$25+180,IF($B$25<0,-$B$25,IF($B$25<=90,$B$25,IF($B$25<=180,180-$B$25,IF($B$25<=270,$B$25-180,IF($B$25<=360,360-$B$25,\"Error\"))))))))","v":""},{"$f":"IF($O$54=\"use CD stem\",(1.1173-((5.28*10^-2)*$N$57)+((1.4385*10^-3)*$N$57^2)-((9.7668*10^-6)*$N$57^3)),\"\")","v":""},null,null,null,null,null,"xTS (ft)","Dist (ft)","Adjusted Dist (ft)","yTS (ft)","ysoil (ft)",null,null,null,null,null,null,null,null,null,12,1.92,"Left Bank",38.261242145604449,96.736238427424283,38.251736521858732,94.736314581295943,97.84841539281004,0,1.1121769653857569,1.1121769653857569,"",1.1121769653857569,0,3.1121008115140967,3.1121008115140967,0.16,0,0,0,0.3558966289234422,1.9999238461283397,0.17427785498542089,0,0,"","","","","","","",0.16,0,0.16,1.92,1.92]
["Soil","Vdry (ft3)","Vsat (ft3)","Vsoil (ft3)","Fsoil (lbf)",null,null,"FW,V (lbf)",{"$f":"ABS($L$99)","v":0},{"$f":"IF($L58=0,\"\",IF($L58>0,CHAR(233),CHAR(234)))","v":""},null,{"$f":"$L$99","v":0},"Flex","1Applies Gippel et al (1996) Formula:",null,null,null,null,"At Left Bank Top",{"$f":"IF(OR($F$25=\"\",$G$25=\"\"),\"No\",IF(MIN($U$40:$U$41)>$B$14,\"No\",IF(MAX($U$40:$U$41)<$B$14,\"No\",\"Yes\")))","v":"No"},{"$f":"$B$14","v":33},{"$f":"IF(OR($B$25=0,$B$25=180,$B$25=360),0,IF($T$14>$T$13,$G$22+((($T$14-$B$14)/ABS($M$17))/$M$19),(($T$13-$B$14)/ABS($M$17))/$M$19))","v":39.722967473609195},{"$f":"IF(V58<0,0,IF(V58>$E$22,$E$22,V58))","v":32},{"$f":"IF($T$14>$T$13,$U$14+(($V$58-$G$22)*$M$20),$U$13-($V$58*$M$20))","v":94.820464279264087},{"$f":"$C$14","v":98.59},null,null,null,null,null,null,null,null,null,13,2.08,"Left Bank",38.348381073097165,96.73484218174454,38.338875449351448,94.7349183356162,97.836132953506308,0,1.1012907717617679,1.1012907717617679,"",1.1012907717617679,0,3.1012146178901077,3.1012146178901077,0.16,0,0,0,0.35241304696376574,1.9999238461283397,0.17427785498542089,0,0,"","","","","","","",0.16,0,0.16,2.08,2.08]
["Bed",{"$f":"IF(AND($H$28=\"\",$H$29=\"\"),0,$AZ$43)","v":0},{"$f":"IF(AND($H$28=\"\",$H$29=\"\"),0,$BA$43)","v":0},{"$f":"B59+C59","v":0},{"$f":"IF(OR($D$28=\"\",$E$28=\"\"),0,($B$59*$D$28)+($C$59*$E$28))","v":0},null,null,"FA,V (lbf)",{"$f":"ABS($L$59)+ABS($M$59)","v":0},{"$f":"IF(($L59+M59)=0,\"\",IF(($L59+M59)>0,CHAR(233),CHAR(234)))","v":""},null,{"$f":"$L$86","v":0},{"$f":"$L$92","v":0},"CDi = 1.1173 - (5.2800*10-2) q + (1.4385*10-3) q2 - (9.7668*10-6) q3",null,null,null,null,"At Left Bank Toe",{"$f":"IF(OR($F$25=\"\",$G$25=\"\"),\"No\",IF(MIN($U$40:$U$41)>$B$15,\"No\",IF(MAX($U$40:$U$41)<$B$15,\"No\",\"Yes\")))","v":"Yes"},{"$f":"$B$15","v":54},{"$f":"IF(OR($B$25=0,$B$25=180,$B$25=360),0,IF($T$14>$T$13,$G$22+((($T$14-$B$15)/ABS($M$17))/$M$19),(($T$13-$B$15)/ABS($M$17))/$M$19))","v":1.1638516263195402},1.1638516263195402,{"$f":"IF($T$14>$T$13,$U$14+(($V$59-$G$22)*$M$20),$U$13-($V$59*$M$20))","v":94.483976786036791},{"$f":"$C$15","v":95.63},null,null,null,null,null,null,null,null,null,14,2.2400000000000002,"Left Bank",38.435520000589875,96.733445936064797,38.426014376844158,94.733522089936457,97.823850514202576,0,1.0904045781377789,1.0904045781377789,"",1.0904045781377789,0,3.0903284242661186,3.0903284242661186,0.16,0,0,0,0.34892946500408928,1.9999238461283397,0.17427785498542089,0,0,"","","","","","","",0.16,0,0.16,2.2400000000000002,2.2400000000000002]
["Bank",{"$f":"IF(AND($H$28=\"\",$H$29=\"\"),0,$BB$43)","v":0},{"$f":"IF(AND($H$28=\"\",$H$29=\"\"),0,$BC$43)","v":22.701725878646144},{"$f":"B60+C60","v":22.701725878646144},{"$f":"IF(OR($D$29=\"\",$E$29=\"\"),0,($B$60*$D$29)+($C$60*$E$29))","v":1936.5000508935698},null,null,"S FV (lbf)",{"$f":"ABS($L$60)","v":1461.6012786974291},"é","Additional resisting force (lbf) needed:",{"$f":"$L$54+$L$55+$L$56+$L$57+$L$58+$L$59+$M$59","v":1461.6012786974291},null,null,null,null,null,null,"At Left Thalweg",{"$f":"IF(OR($F$25=\"\",$G$25=\"\"),\"No\",IF(AND(MAX($U$40:$U$41)>$B$16,MIN($U$40:$U$41)<$B$16),\"Yes\",\"No\"))","v":"No"},{"$f":"$B$16","v":79},{"$f":"IF(OR($B$25=0,$B$25=180,$B$25=360),0,IF($T$14>$T$13,$G$22+((($T$14-$B$16)/ABS($M$17))/$M$19),(($T$13-$B$16)/ABS($M$17))/$M$19))","v":-44.739857715691947},0,{"$f":"IF($T$14>$T$13,$U$14+(($V$60-$G$22)*$M$20),$U$13-($V$60*$M$20))","v":94.08339643695669},{"$f":"$C$16","v":92.8},null,null,null,null,null,null,null,null,null,15,2.4,"Left Bank",38.522658928082585,96.732049690385054,38.513153304336868,94.732125844256714,97.811568074898844,0,1.0795183845137899,1.0795183845137899,"",1.0795183845137899,0,3.0794422306421296,3.0794422306421296,0.16,0,0,0,0.34544588304441276,1.9999238461283397,0.17427785498542089,0,0,"","","","","","","",0.16,0,0.16,2.4,2.4]
["Total",{"$f":"$B$59+$B$60","v":0},{"$f":"$C$59+$C$60","v":22.701725878646144},{"$f":"$D$59+$D$60","v":22.701725878646144},{"$f":"$E$59+$E$60","v":1936.5000508935698},null,null,"FSV",{"$f":"IF(OR($E$22=\"\",$F$22=\"\",$F$25=\"\",$G$25=\"\"),0,IF($L$58>=0,($I$56+$I$57+$I$59)/($I$54+$I$55+$I$58),($I$56+$I$57+$I$58+$I$59)/($I$54+$I$55)))","v":0.81076640933381272},{"$f":"$I$61-$L$61","v":-0.68923359066618728},{"$f":"IF(AND($F$25=\"\",$G$25=\"\"),\"\",IF($I$61>=$L$61,\"Structure is Vertically Stable\",IF(AND($I$61<$L$61,$L$58>=0),$L$61*($L$54+$L$55+$L$58)-(-$L$56-$L$57-$L$59-$M$59),IF(AND($I$61<$L$61,$L$58<0),$L$61*($L$54+$L$55)-(-$L$56-$L$57-$L$59-$M$59-$L$58),\"\"))))","v":5323.49829590229},{"$f":"'2-Constants'!$C$5","v":1.5},null,"CD Stem with Exposed RW Lookup Table",null,null,null,null,"At Right Thalweg",{"$f":"IF(OR($F$25=\"\",$G$25=\"\"),\"No\",IF(AND(MAX($U$40:$U$41)>$B$16,MIN($U$40:$U$41)<$B$16),\"Yes\",\"No\"))","v":"No"},{"$f":"$B$16","v":79},{"$f":"IF(OR($B$25=0,$B$25=180,$B$25=360),0,IF($T$14<$T$13,$G$22+((($B$16-$T$14)/ABS($M$17))/$M$19),(($B$16-$T$13)/ABS($M$17))/$M$19))","v":76.739857715691954},32,{"$f":"IF($T$14<$T$13,$U$14+(($V$61-$G$22)*$M$20),$U$13-($V$61*$M$20))","v":94.083396436956704},{"$f":"$C$16","v":92.8},null,null,null,null,null,null,null,null,null,16,2.56,"Left Bank",38.609797855575295,96.730653444705311,38.600292231829577,94.730729598576971,97.799285635595098,0,1.0686321908897867,1.0686321908897867,"",1.0686321908897867,0,3.0685560370181264,3.0685560370181264,0.16,0,0,0,0.34196230108473175,1.9999238461283397,0.17427785498542089,0,0,"","","","","","","",0.16,0,0.16,2.56,2.56]
[null,null,null,null,null,null,null,null,null,null,{"$f":"IF($K$61<>\"Structure is Vertically Stable\",\"\",IF($K$61=\"Structure is Vertically Stable\",IF($L$58>=0,($I$56+$I$57+$I$59)-(($I$58+$I$54+$I$55)*$L$61),($I$56+$I$57+$I$58+$I$59)-(($I$54+$I$55)*$L$61))))","v":""},null,null,"Adjusted q (deg)","CDi Stem + RW",null,null,null,"At Right Bank Toe",{"$f":"IF(OR($F$25=\"\",$G$25=\"\"),\"No\",IF(MAX($U$40:$U$41)<$B$17,\"No\",IF(MIN($U$40:$U$41)>$B$17,\"No\",\"Yes\")))","v":"No"},{"$f":"$B$17","v":108},{"$f":"IF(OR($B$25=0,$B$25=180,$B$25=360),0,IF($T$14<$T$13,$G$22+((($B$17-$T$14)/ABS($M$17))/$M$19),(($B$17-$T$13)/ABS($M$17))/$M$19))","v":129.98816055242528},32,{"$f":"IF($T$14<$T$13,$U$14+(($V$62-$G$22)*$M$20),$U$13-($V$62*$M$20))","v":93.618723232023783},{"$f":"$C$17","v":94.94},null,null,null,null,null,null,null,null,null,17,2.72,"Left Bank",38.696936783068004,96.729257199025568,38.687431159322287,94.729333352897228,97.787003196291366,0,1.0577459972657977,1.0577459972657977,"",1.0577459972657977,0,3.0576698433941374,3.0576698433941374,0.16,0,0,0,0.33847871912505528,1.9999238461283397,0.17427785498542089,0,0,"","","","","","","",0.16,0,0.16,2.72,2.72]
["Horizontal Force Analysis",null,null,null,null,null,null,null,null,null,null,null,null,{"$f":"IF(OR($O$54=\"\",$O$54=\"use CD stem\"),\"\",IF(OR($B$25<-180,$B$25>360),\"Error\",IF($B$25>180,360-$B$25,IF($B$25<0,-$B$25,$B$25))))","v":33},{"$f":"IF(OR($O$54=\"\",$O$54=\"use CD stem\"),\"\",IF($B$25<22.5,(($B$25/22.5)*($O$67-$O$66)+$O$66),IF($B$25<45,((($B$25-$N$67)/22.5)*($O$68-$O$67)+$O$67),IF($B$25<67.5,((($B$25-$N$68)/22.5)*($O$69-$O$68)+$O$68),IF($B$25<90,((($B$25-$N$69)/22.5)*($O$70-$O$69)+$O$69),IF($B$25<112.5,((($B$25-$N$70)/22.5)*($O$71-$O$70)+$O$70),IF($B$25<135,((($B$25-$N$71)/22.5)*($O$72-$O$71)+$O$71),IF($B$25<157.5,((($B$25-$N$72)/22.5)*($O$73-$O$72)+$O$72),IF($B$25<=180,((($B$25-$N$74)/22.5)*($O$74-$O$73)+$O$74),$O$74)))))))))","v":1.1893333333333334},null,null,null,"At Right Bank Top",{"$f":"IF(OR($F$25=\"\",$G$25=\"\"),\"No\",IF(MAX($U$40:$U$41)<$B$18,\"No\",IF(MIN($U$40:$U$41)>$B$18,\"No\",\"Yes\")))","v":"No"},{"$f":"$B$18","v":127},{"$f":"IF(OR($B$25=0,$B$25=180,$B$25=360),0,IF($T$14<$T$13,$G$22+((($B$18-$T$14)/ABS($M$17))/$M$19),(($B$18-$T$13)/ABS($M$17))/$M$19))","v":164.874979652354},32,{"$f":"IF($T$14<$T$13,$U$14+(($V$63-$G$22)*$M$20),$U$13-($V$63*$M$20))","v":93.314282166722904},{"$f":"$C$18","v":98.72},null,null,null,null,null,null,null,null,null,18,2.88,"Left Bank",38.784075710560714,96.727860953345825,38.774570086814997,94.727937107217485,97.774720756987634,0,1.0468598036418086,1.0468598036418086,"",1.0468598036418086,0,3.0467836497701484,3.0467836497701484,0.16,0,0,0,0.33499513716537876,1.9999238461283397,0.17427785498542089,0,0,"","","","","","","",0.16,0,0.16,2.88,2.88]
["Drag Force",null,null,null,null,null,null,null,null,null,null,null,null,null,null,null,null,null,null,null,null,null,null,null,null,null,null,null,null,null,null,null,null,null,19,3.04,"Left Bank",38.871214638053424,96.726464707666082,38.861709014307706,94.726540861537742,97.762438317683902,0,1.0359736100178196,1.0359736100178196,"",1.0359736100178196,0,3.0358974561461594,3.0358974561461594,0.16,0,0,0,0.3315115552057023,1.9999238461283397,0.17427785498542089,0,0,"","","","","","","",0.16,0,0.16,3.04,3.04]
["ATp / AW","FrL","CDi","Cw","CD*","FD (lbf)",null,"Horizontal Force Balance",null,null,null,"Formatting",null,"q (deg)","CDi Stem + RW",null,null,null,null,null,null,"Log Bottom and Soil Intercept",null,"Dist to Intercept","Intercept in Zone?","LW Buried?","Exposed Segment",null,null,null,null,null,null,null,20,3.2,"Left Bank",38.958353565546133,96.725068461986339,38.948847941800423,94.725144615857999,97.75015587838017,0,1.0250874163938306,1.0250874163938306,"",1.0250874163938306,0,3.0250112625221703,3.0250112625221703,0.16,0,0,0,0.32802797324602578,1.9999238461283397,0.17427785498542089,0,0,"","","","","","","",0.16,0,0.16,3.2,3.2]
[{"$f":"IF(OR($A$6=\"\",$F$6=\"\"),0,$J$25/(VLOOKUP($A$6,SiteInfo,7,0)))","v":1.6101323725696202E-2},{"$f":"IF($A$6=\"\",0,$J$6/(($F$22*g)^0.5))","v":0.57752087841792843},{"$f":"IF($O$54=\"\",0,IF($O$54=\"use CD stem\",$O$57,$O$63))","v":1.1893333333333334},{"$f":"IF(OR($BM$43=\"\",$B$25=\"\"),0,IF($BN$43>0.43,0.43,$BN$43))","v":0.11451417573877558},{"$f":"IF(OR($F$22=\"\",$B$25=\"\"),0,0.997*($C$66+$D$66)*((1-$A$66)^-2.06))","v":1.3441390079082551},{"$f":"IF(OR($E$66=\"\",$J$25=\"\"),0,$E$66*$J$25*SWWater*($J$6^2)/(2*g))","v":743.20680801954438},null,"FD (lbf)",{"$f":"IF(AND($F$66=0,$I$71>0),0.4999,$F$66)","v":743.20680801954438},{"$f":"IF($L$66=0,\"\",IF($L66>0,CHAR(232),CHAR(231)))","v":"è"},{"$f":"IF(AND($F$66=0,$I$71>0),\"NOTE - Tool has assumed the drag force = 0.49 lbf for FS calcs\",\"\")","v":""},{"$f":"$F$66","v":743.20680801954438},null,0,1.2,null,null,null,null,"Zone L (ft)","Log L (ft)","xbottom (ft)","ybottom (ft)",null,null,null,null,"Lem,bot (ft)",null,null,null,null,null,null,21,3.36,"Left Bank",39.04549249303885,96.723672216306596,39.035986869293133,94.723748370178257,97.737873439076424,0,1.0142012227698274,1.0142012227698274,"",1.0142012227698274,0,3.0141250688981671,3.0141250688981671,0.16,0,0,0,0.32454439128634477,1.9999238461283397,0.17427785498542089,0,0,"","","","","","","",0.16,0,0.16,3.36,3.36]
[null,null,null,null,null,null,null,"FP (lbf)",{"$f":"$C$72","v":4662.0767286174287},{"$f":"IF($L$67=0,\"\",IF($L67>=0,CHAR(232),CHAR(231)))","v":"ç"},{"$f":"IF(OR($M$59=0,$M$70=0),\"\",\"NOTE -- Mechanical soil anchors and deadman boulders provide equal resistance to vertical and horizontal forces.  The model first applies these anchor forces to resist the vertical forces, and then applies the balance to resist the horizontal forces.\")","v":""},{"$f":"-$C$72","v":-4662.0767286174287},null,22.5,1.25,null,null,null,"LB Floodplain",{"$f":"($B$14-$B$13)/ABS($M$17)/ABS($M$19)","v":60.592896331455172},{"$f":"IF(MAX($U$40:$U$41)<=$B$14,$E$22,IF($T$58=\"No\",0,$E$22-$W$58))","v":0},{"$f":"IF($U$67=0,0,IF(OR($B$25=0,$B$25=180,$B$25=360),$U$40,$U$58+(($X$58-$C$14)/($AB$31-$AA$40))))","v":0},{"$f":"IF($U$67=0,0,IF(OR($B$25=0,$B$25=180,$B$25=360),(($U$40-$B$13)*$AB$31)+$C$13,$X$58+(($V$67-$U$58)*$AA$40)))","v":0},{"$f":"IF($U$67=0,0,IF(OR($B$25=0,$B$25=180,$B$25=360),$E$22-ABS(($X$41-$W$67)/$M$20),IF(AND($U$40<=$U$41,$X$40>=$Y$40),ABS(($X$40-$W$67)/($AA$40*$M$17*$M$19)),IF(AND($U$40<=$U$41,$X$40<$Y$40),ABS($E$22-(ABS(($X$40-$W$67)/($AA$40*$M$17*$M$19)))),IF(AND($U$40>$U$41,$X$41>=$Y$41),ABS(($X$41-$W$67)/($AA$40*$M$17*$M$19)),IF(AND($U$40>=$U$41,$X$41<$Y$41),ABS($E$22-(ABS(($X$40-$W$67)/($AA$40*$M$17*$M$19))))))))))","v":0},{"$f":"IF(AND($U$67=0,$W$67=0),\"No\",IF(AND($V$67<=$B$14,$V$67>=$B$13,$V$67>=MIN($U$40:$U$41),$V$67<=MAX($U$40:$U$41),$W$67<$C$13,$X$67<=$E$22),\"Yes\",\"No\"))","v":"No"},{"$f":"IF($U$67=0,\"No\",IF($Y$67=\"Yes\",\"Partial\",IF(AND($U$67<$E$22,$X$41<$Y$41,$Y$67=\"No\",$Y$68=\"No\",$Y$69=\"No\",$Y$70=\"No\",$Y$71=\"No\",$Y$72=\"No\"),\"Yes\",IF(AND($Y$67=\"No\",$X$58>$Y$58),\"No\",\"Yes\"))))","v":"No"},{"$f":"IF($Z$67=\"Yes\",\"None\",IF(AND($Z$67=\"No\",$U$67=0),\"None\",IF($Z$67=\"No\",\"All\",IF(AND($X$41>=$Y$41,$U$41<=$U$40),\"Left\",\"Right\"))))","v":"None"},{"$f":"IF($U$67=0,0,IF($Z$67=\"No\",0,IF($Z$67=\"Yes\",$U$67,IF(OR($AA$67=\"Left\",$U$67=$E$22),$U$67-(ABS(($U$41-$V$67)/($M$17*$M$19))),$U$67-(ABS(($V$67-$B$14)/($M$17*$M$19)))))))","v":0},null,null,null,null,null,null,22,3.52,"Left Bank",39.13263142053156,96.722275970626853,39.123125796785843,94.722352124498514,97.725590999772692,0,1.0033150291458384,1.0033150291458384,"",1.0033150291458384,0,3.0032388752741781,3.0032388752741781,0.16,0,0,0,0.32106080932666831,1.9999238461283397,0.17427785498542089,0,0,"","","","","","","",0.16,0,0.16,3.52,3.52]
["Passive Soil Pressure",null,null,"Friction Force",null,null,null,"FF (lbf)",{"$f":"$F$72","v":0},{"$f":"IF($L$68=0,\"\",IF($L68>=0,CHAR(232),CHAR(231)))","v":""},null,{"$f":"-$F$72","v":0},null,45,1.1200000000000001,null,null,null,"Left Bank",{"$f":"($B$15-$B$14)/ABS($M$17)/ABS($M$19)","v":38.559115847289654},{"$f":"IF(AND(MIN($U$40:$U$41)>=$B$14,MAX($U$40:$U$41)<=$B$15),$E$22,IF(AND($T$59=\"No\",$T$58=\"No\"),0,$E$22-$W$59-$U$67))","v":30.836148373680459},{"$f":"IF($U$68=0,0,IF(OR($B$25=0,$B$25=180,$B$25=360),$U$40,$U$59+(($C$15-$X$59)/($AA$40-$AB$32))))","v":63.173383938936254},{"$f":"IF($U$68=0,0,IF(OR($B$25=0,$B$25=180,$B$25=360),(($U$40-$B$14)*$AB$32)+$C$14,$X$59+(($V$68-$U$59)*$AA$40)))","v":94.336989692416594},{"$f":"IF($U$68=0,0,IF(OR($B$25=0,$B$25=180,$B$25=360),$E$22-ABS(($X$41-$W$68)/$M$20),IF(AND($U$40<=$U$41,$X$40>=$Y$40),ABS(($X$40-$W$68)/($AA$40*$M$17*$M$19)),IF(AND($U$40<=$U$41,$X$40<$Y$40),ABS($E$22-(ABS(($X$40-$W$68)/($AA$40*$M$17*$M$19)))),IF(AND($U$40>$U$41,$X$41>=$Y$41),ABS(($X$41-$W$68)/($AA$40*$M$17*$M$19)),IF(AND($U$40>=$U$41,$X$41<$Y$41),ABS($E$22-(ABS(($X$40-$W$68)/($AA$40*$M$17*$M$19))))))))))","v":16.320157625694378},{"$f":"IF(AND($U$68=0,$W$68=0),\"No\",IF(AND($V$68<=$B$15,$V$68>=$B$14,$V$68>=MIN($U$40:$U$41),$V$68<=MAX($U$40:$U$41),$W$68<$C$14,$X$68<=$E$22),\"Yes\",\"No\"))","v":"No"},{"$f":"IF($U$68=0,\"No\",IF($Y$68=\"Yes\",\"Partial\",IF(AND($U$68<$E$22,$X$41<$Y$41,$Y$67=\"No\",$Y$68=\"No\",$Y$69=\"No\",$Y$70=\"No\",$Y$71=\"No\",$Y$72=\"No\"),\"Yes\",IF(AND($Y$68=\"No\",$X$59>$Y$59),\"No\",\"Yes\"))))","v":"Yes"},{"$f":"IF($Z$68=\"Yes\",\"None\",IF(AND($Z$68=\"No\",$U$68=0),\"None\",IF($Z$68=\"No\",\"All\",IF(AND($X$41>=$Y$41,$U$41<=$U$40,$AA$67<>\"Left\"),\"Left\",\"Right\"))))","v":"None"},{"$f":"IF($U$68=0,0,IF($Z$68=\"No\",0,IF($Z$68=\"Yes\",$U$68,IF(OR($U$68=$E$22,AND($AA$68=\"Left\",MIN($U$40:$U$41)>=$B$14,MAX($U$40:$U$41)>=$B$15)),$U$68-(ABS(($U$41-$V$68)/($M$17*$M$19))),IF($AA$68=\"Left\",$U$68-(ABS(($B$14-$V$68)/($M$17*$M$19))),IF(MAX($U$40:$U$41)>=$B$15,$U$68-(ABS(($V$68-$B$15)/($M$17*$M$19))),ABS(($V$68-$B$14)/($M$17*$M$19))))))))","v":30.836148373680459},null,null,null,null,null,null,23,3.68,"Left Bank",39.219770348024269,96.72087972494711,39.210264724278552,94.720955878818771,97.71330856046896,0,0.99242883552184935,0.99242883552184935,"",0.99242883552184935,0,2.9923526816501891,2.9923526816501891,0.16,0,0,0,0.31757722736699179,1.9999238461283397,0.17427785498542089,0,0,"","","","","","","",0.16,0,0.16,3.68,3.68]
["Soil","KP","FP (lbf)","LTf (ft)","m","FF (lbf)",null,"FW,H (lbf)",{"$f":"ABS($M$99)","v":0},{"$f":"IF($L$69=0,\"\",IF($L69>=0,CHAR(232),CHAR(231)))","v":""},null,{"$f":"$M$99","v":0},"Flex",67.5,1.22,null,null,null,"Left Stream Bed",{"$f":"($B$16-$B$15)/ABS($M$17)/ABS($M$19)","v":45.903709342011489},{"$f":"IF(AND(MIN($U$40:$U$41)>=$B$15,MAX($U$40:$U$41)<=$B$16),$E$22,IF(AND($T$60=\"No\",$T$59=\"No\"),0,IF(AND($T$59=\"Yes\",$T$60=\"No\"),$E$22-$U$68-$U$67,IF(AND($T$59=\"Yes\",$T$60=\"Yes\",$T$62=\"No\"),$E$22-$U$70-$U$68-$U$67,IF(AND($T$59=\"Yes\",$T$60=\"Yes\",$T$62=\"Yes\"),$E$22-$U$72-$U$71-$U$70-$U$68-$U$67,$E$22-$U$72-$U$71-$U$70)))))","v":1.1638516263195413},{"$f":"IF($U$69=0,0,IF(OR($B$25=0,$B$25=180,$B$25=360),$U$40,$U$60+(($C$16-$X$60)/($AA$40-$AB$33))))","v":65.793178810516153},{"$f":"IF($U$69=0,0,IF(OR($B$25=0,$B$25=180,$B$25=360),(($U$40-$B$15)*$AB$33)+$C$15,$X$60+(($V$69-$U$60)*$AA$40)))","v":94.29501215864957},{"$f":"IF($U$69=0,0,IF(OR($B$25=0,$B$25=180,$B$25=360),$E$22-ABS(($X$41-$W$69)/$M$20),IF(AND($U$40<=$U$41,$X$40>=$Y$40),ABS(($X$40-$W$69)/($AA$40*$M$17*$M$19)),IF(AND($U$40<=$U$41,$X$40<$Y$40),ABS($E$22-(ABS(($X$40-$W$69)/($AA$40*$M$17*$M$19)))),IF(AND($U$40>$U$41,$X$41>=$Y$41),ABS(($X$41-$W$69)/($AA$40*$M$17*$M$19)),IF(AND($U$40>=$U$41,$X$41<$Y$41),ABS($E$22-(ABS(($X$40-$W$69)/($AA$40*$M$17*$M$19))))))))))","v":11.509825532867115},{"$f":"IF(AND($U$69=0,$W$69=0),\"No\",IF(AND($V$69<=$B$16,$V$69>=$B$15,$V$69>=MIN($U$40:$U$41),$V$69<=MAX($U$40:$U$41),$W$69<$C$15,$X$69<=$E$22),\"Yes\",\"No\"))","v":"No"},{"$f":"IF($U$69=0,\"No\",IF($Y$69=\"Yes\",\"Partial\",IF(AND($U$69<$E$22,$X$41<$Y$41,$Y$67=\"No\",$Y$68=\"No\",$Y$69=\"No\",$Y$70=\"No\",$Y$71=\"No\",$Y$72=\"No\"),\"Yes\",IF(AND($Y$69=\"No\",$X$60>$Y$60),\"No\",\"Yes\"))))","v":"Yes"},{"$f":"IF($Z$69=\"Yes\",\"None\",IF(AND($Z$69=\"No\",$U$69=0),\"None\",IF($Z$69=\"No\",\"All\",IF(AND($X$41>=$Y$41,$U$41<=$U$40,$AA$68<>\"Left\"),\"Left\",\"Right\"))))","v":"None"},{"$f":"IF($U$69=0,0,IF($Z$69=\"No\",0,IF($Z$69=\"Yes\",$U$69,IF(OR($U$69=$E$22,AND($AA$69=\"Left\",MIN($U$40:$U$41)>=$B$15,MAX($U$40:$U$41)>=$B$16)),$U$69-(ABS(($U$41-$V$69)/($M$17*$M$19))),IF($AA$69=\"Left\",$U$69-(ABS(($B$15-$V$69)/($M$17*$M$19))),IF(MAX($U$40:$U$41)>=$B$16,$U$69-(ABS(($V$69-$B$16)/($M$17*$M$19))),ABS(($V$69-$B$15)/($M$17*$M$19))))))))","v":1.1638516263195413},null,null,null,null,null,null,24,3.84,"Left Bank",39.306909275516979,96.719483479267367,39.297403651771262,94.719559633139028,97.701026121165228,0,0.98154264189786034,0.98154264189786034,"",0.98154264189786034,0,2.9814664880262001,2.9814664880262001,0.16,0,0,0,0.31409364540731533,1.9999238461283397,0.17427785498542089,0,0,"","","","","","","",0.16,0,0.16,3.84,3.84]
["Bed",{"$f":"IF(OR($A$6=\"\",$F$6=\"\",$F$25=\"\"),0,TAN((45+($F$28/2))*PI()/180)^2)","v":4.8149513101909616},{"$f":"IF($E$61=0,0,0.5*$B$70*$E$59)","v":0},{"$f":"IF($F$28=\"\",0,IF($U$15<$AF$47,$BP$43+2,$BP$43))","v":3.2},{"$f":"IF($F$28=\"\",0,TAN($F$28*PI()/180))","v":0.86928673781622645},{"$f":"IF(OR($L$60>=0,$D$70=0),0,$I$60*$E$70*($D$70/$D$72))","v":0},null,"FA,H (lbf)",{"$f":"ABS($L$70)+ABS($M$70)","v":0},{"$f":"IF(($L$70+M70)=0,\"\",IF(($L$70+M70)>=0,CHAR(232),CHAR(231)))","v":""},null,{"$f":"$M$86","v":0},{"$f":"$M$92","v":0},90,0.97,null,null,null,"Right Stream Bed",{"$f":"($B$17-$B$16)/ABS($M$17)/ABS($M$19)","v":53.24830283673333},{"$f":"IF(AND(MIN($U$40:$U$41)>=$B$16,MAX($U$40:$U$41)<=$B$17),$E$22,IF(AND($T$61=\"No\",$T$62=\"No\"),0,IF(AND($T$62=\"Yes\",$T$61=\"No\"),$E$22-$U$71-$U$72,IF(AND($T$62=\"Yes\",$T$61=\"Yes\"),$E$22-$W$61-$U$71-$U$72,$E$22-$W$61))))","v":0},{"$f":"IF($U$70=0,0,IF(OR($B$25=0,$B$25=180,$B$25=360),$U$40,$U$61+(($X$61-$C$16)/($AB$34-$AA$40))))","v":0},{"$f":"IF($U$70=0,0,IF(OR($B$25=0,$B$25=180,$B$25=360),(($U$40-$B$16)*$AB$34)+$C$16,$X$61+(($V$70-$U$61)*$AA$40)))","v":0},{"$f":"IF($U$70=0,0,IF(OR($B$25=0,$B$25=180,$B$25=360),$E$22-ABS(($X$41-$W$70)/$M$20),IF(AND($U$40<=$U$41,$X$40>=$Y$40),ABS(($X$40-$W$70)/($AA$40*$M$17*$M$19)),IF(AND($U$40<=$U$41,$X$40<$Y$40),ABS($E$22-(ABS(($X$40-$W$70)/($AA$40*$M$17*$M$19)))),IF(AND($U$40>$U$41,$X$41>=$Y$41),ABS(($X$41-$W$70)/($AA$40*$M$17*$M$19)),IF(AND($U$40>=$U$41,$X$41<$Y$41),ABS($E$22-(ABS(($X$40-$W$70)/($AA$40*$M$17*$M$19))))))))))","v":0},{"$f":"IF(AND($U$70=0,$W$70=0),\"No\",IF(AND($V$70<=$B$17,$V$70>=$B$16,$V$70>=MIN($U$40:$U$41),$V$70<=MAX($U$40:$U$41),$W$70<$C$17,$X$70<=$E$22),\"Yes\",\"No\"))","v":"No"},{"$f":"IF($U$70=0,\"No\",IF($Y$70=\"Yes\",\"Partial\",IF(AND($U$70<$E$22,$X$41<$Y$41,$Y$67=\"No\",$Y$68=\"No\",$Y$69=\"No\",$Y$70=\"No\",$Y$71=\"No\",$Y$72=\"No\"),\"Yes\",IF(AND($Y$70=\"No\",$X$61>$Y$61),\"No\",\"Yes\"))))","v":"No"},{"$f":"IF($Z$70=\"Yes\",\"None\",IF(AND($Z$70=\"No\",$U$70=0),\"None\",IF($Z$70=\"No\",\"All\",IF(AND($X$41>=$Y$41,$U$41>=$U$40,$AA$71<>\"Right\"),\"Right\",\"Left\"))))","v":"None"},{"$f":"IF($U$70=0,0,IF($Z$70=\"No\",0,IF($Z$70=\"Yes\",$U$70,IF(OR($U$70=$E$22,AND($AA$70=\"Right\",MIN($U$40:$U$41)<=$B$16,MAX($U$40:$U$41)<=$B$17)),$U$70-(ABS(($U$41-$V$70)/($M$17*$M$19))),IF($AA$70=\"Right\",$U$70-(ABS(($B$17-$V$70)/($M$17*$M$19))),IF(MIN($U$40:$U$41)<=$B$16,$U$70-(ABS(($V$70-$B$16)/($M$17*$M$19))),ABS(($V$70-$B$17)/($M$17*$M$19))))))))","v":0},null,null,null,null,null,null,25,4,"Left Bank",39.394048203009689,96.718087233587624,39.384542579263972,94.718163387459285,97.688743681861496,0,0.97065644827387132,0.97065644827387132,"",0.97065644827387132,0,2.9705802944022111,2.9705802944022111,0.16,0,0,0,0.31061006344763881,1.9999238461283397,0.17427785498542089,0,0,"","","","","","","",0.16,0,0.16,4,4]
["Bank",{"$f":"IF(OR($A$6=\"\",$F$6=\"\",$F$25=\"\"),0,TAN((45+($F$29/2))*PI()/180)^2)","v":4.8149513101909616},{"$f":"IF($E$61=0,0,0.5*$B$71*$E$60)","v":4662.0767286174287},{"$f":"IF($F$28=\"\",0,$BQ$43)","v":30.800000000000022},{"$f":"IF($F$28=\"\",0,TAN($F$29*PI()/180))","v":0.86928673781622645},{"$f":"IF(OR($L$60>=0,$D$71=0),0,$I$60*$E$71*($D$71/$D$72))","v":0},null,"S FH (lbf)",{"$f":"ABS($L$71)","v":3918.8699205978842},{"$f":"IF($L$71=0,\"\",IF($L71>=0,CHAR(232),CHAR(231)))","v":"ç"},"Additional resisting force (lbf) needed:",{"$f":"$L$66+$L$67+$L$68+$L$69+$L$70+$M$70","v":-3918.8699205978842},null,112.5,1,null,null,null,"Right Bank",{"$f":"($B$18-$B$17)/ABS($M$17)/ABS($M$19)","v":34.886819099928736},{"$f":"IF(AND(MIN($U$40:$U$41)>=$B$17,MAX($U$40:$U$41)<=$B$18),$E$22,IF(AND($T$62=\"No\",$T$63=\"No\"),0,$E$22-$W$62-$U$72))","v":0},{"$f":"IF($U$71=0,0,IF(OR($B$25=0,$B$25=180,$B$25=360),$U$40,$U$62+(($X$62-$C$17)/($AB$35-$AA$40))))","v":0},{"$f":"IF($U$71=0,0,IF(OR($B$25=0,$B$25=180,$B$25=360),(($U$40-$B$17)*$AB$35)+$C$17,$X$62+(($V$71-$U$62)*$AA$40)))","v":0},{"$f":"IF($U$71=0,0,IF(OR($B$25=0,$B$25=180,$B$25=360),$E$22-ABS(($X$41-$W$71)/$M$20),IF(AND($U$40<=$U$41,$X$40>=$Y$40),ABS(($X$40-$W$71)/($AA$40*$M$17*$M$19)),IF(AND($U$40<=$U$41,$X$40<$Y$40),ABS($E$22-(ABS(($X$40-$W$71)/($AA$40*$M$17*$M$19)))),IF(AND($U$40>$U$41,$X$41>=$Y$41),ABS(($X$41-$W$71)/($AA$40*$M$17*$M$19)),IF(AND($U$40>=$U$41,$X$41<$Y$41),ABS($E$22-(ABS(($X$40-$W$71)/($AA$40*$M$17*$M$19))))))))))","v":0},{"$f":"IF(AND($U$71=0,$W$71=0),\"No\",IF(AND($V$71<=$B$18,$V$71>=$B$17,$V$71>=MIN($U$40:$U$41),$V$71<=MAX($U$40:$U$41),$W$71<$C$18,$X$71<=$E$22),\"Yes\",\"No\"))","v":"No"},{"$f":"IF($U$71=0,\"No\",IF($Y$71=\"Yes\",\"Partial\",IF(AND($U$71<$E$22,$X$41<$Y$41,$Y$67=\"No\",$Y$68=\"No\",$Y$69=\"No\",$Y$70=\"No\",$Y$71=\"No\",$Y$72=\"No\"),\"Yes\",IF(AND($Y$71=\"No\",$X$62>$Y$62),\"No\",\"Yes\"))))","v":"No"},{"$f":"IF($Z$71=\"Yes\",\"None\",IF(AND($Z$71=\"No\",$U$71=0),\"None\",IF($Z$71=\"No\",\"All\",IF(AND($X$41>=$Y$41,$U$41>=$U$40,$AA$72<>\"Right\"),\"Right\",\"Left\"))))","v":"None"},{"$f":"IF($U$71=0,0,IF($Z$71=\"No\",0,IF($Z$71=\"Yes\",$U$71,IF(OR($U$71=$E$22,AND($AA$71=\"Right\",MIN($U$40:$U$41)<=$B$17,MAX($U$40:$U$41)<=$B$18)),$U$71-(ABS(($U$41-$V$71)/($M$17*$M$19))),IF($AA$71=\"Right\",$U$71-(ABS(($B$18-$V$71)/($M$17*$M$19))),IF(MIN($U$40:$U$41)<=$B$17,$U$71-(ABS(($V$71-$B$17)/($M$17*$M$19))),ABS(($V$71-$B$18)/($M$17*$M$19))))))))","v":0},null,null,null,null,null,null,26,4.16,"Left Bank",39.481187130502398,96.716690987907882,39.471681506756681,94.716767141779542,97.676461242557764,0,0.9597702546498823,0.9597702546498823,"",0.9597702546498823,0,2.959694100778222,2.959694100778222,0.16,0,0,0,0.30712648148796234,1.9999238461283397,0.17427785498542089,0,0,"","","","","","","",0.16,0,0.16,4.16,4.16]
["Total","-",{"$f":"$C$70+$C$71","v":4662.0767286174287},{"$f":"$D$70+$D$71","v":34.000000000000021},"-",{"$f":"$F$70+$F$71","v":0},null,"FSH",{"$f":"IF(OR($E$22=\"\",$F$22=\"\",$F$25=\"\",$G$25=\"\"),0,IF($I$66=0,0,IF($L$69>=0,($I$67+$I$68+$I$70)/($I$66+$I$69),($I$67+$I$68+$I$69+$I$70)/$I$66)))","v":6.2729198364593399},{"$f":"$I$72-$L$72","v":4.7729198364593399},{"$f":"IF(AND($F$25=\"\",$G$25=\"\"),\"\",IF(OR($J$25=0,$I$72>=$L$72),\"Structure is Horizontally Stable\",IF(AND($I$72<$L$72,$L$69>=0),$L$72*($L$66+$L$69)-(-$L$67-$L$68-$L$70-$M$70),IF(AND($I$72<$L$72,$L$69<0),$L$72*($L$66)-(-$L$67-$L$68-$L$70-$M$70-$L$69),\"\"))))","v":"Structure is Horizontally Stable"},{"$f":"'2-Constants'!$C$6","v":1.5},null,135,0.81,null,null,null,"RB Floodplain",{"$f":"($B$19-$B$18)/ABS($M$17)/ABS($M$19)","v":42.231412594650578},{"$f":"IF(MIN($U$40:$U$41)>=$B$18,$E$22,IF($T$63=\"No\",0,$E$22-$W$63))","v":0},{"$f":"IF($U$72=0,0,IF(OR($B$25=0,$B$25=180,$B$25=360),$U$40,$U$63+(($X$63-$C$18)/($AB$36-$AA$40))))","v":0},{"$f":"IF($U$72=0,0,IF(OR($B$25=0,$B$25=180,$B$25=360),(($U$40-$B$18)*$AB$36)+$C$18,$X$63+(($V$72-$U$63)*$AA$40)))","v":0},{"$f":"IF($U$72=0,0,IF(OR($B$25=0,$B$25=180,$B$25=360),$E$22-ABS(($X$41-$W$72)/$M$20),IF(AND($U$40<=$U$41,$X$40>=$Y$40),ABS(($X$40-$W$72)/($AA$40*$M$17*$M$19)),IF(AND($U$40<=$U$41,$X$40<$Y$40),ABS($E$22-(ABS(($X$40-$W$72)/($AA$40*$M$17*$M$19)))),IF(AND($U$40>$U$41,$X$41>=$Y$41),ABS(($X$41-$W$72)/($AA$40*$M$17*$M$19)),IF(AND($U$40>=$U$41,$X$41<$Y$41),ABS($E$22-(ABS(($X$40-$W$72)/($AA$40*$M$17*$M$19))))))))))","v":0},{"$f":"IF(AND($U$72=0,$W$72=0),\"No\",IF(AND($V$72<=$B$19,$V$72>=$B$18,$V$72>=MIN($U$40:$U$41),$V$72<=MAX($U$40:$U$41),$W$72<$C$19,$X$72<=$E$22),\"Yes\",\"No\"))","v":"No"},{"$f":"IF($U$72=0,\"No\",IF($Y$72=\"Yes\",\"Partial\",IF(AND($U$72<$E$22,$X$41<$Y$41,$Y$67=\"No\",$Y$68=\"No\",$Y$69=\"No\",$Y$70=\"No\",$Y$71=\"No\",$Y$72=\"No\"),\"Yes\",IF(AND($Y$72=\"No\",$X$63>$Y$63),\"No\",\"Yes\"))))","v":"No"},{"$f":"IF($Z$72=\"Yes\",\"None\",IF(AND($Z$72=\"No\",$U$72=0),\"None\",IF($Z$72=\"No\",\"All\",IF(AND($X$41>=$Y$41,$U$41>=$U$40),\"Right\",\"Left\"))))","v":"None"},{"$f":"IF($U$72=0,0,IF($Z$72=\"No\",0,IF($Z$72=\"Yes\",$U$72,IF(OR($AA$72=\"Right\",$U$72=$E$22),$U$72-(ABS(($U$41-$V$72)/($M$17*$M$19))),$U$72-(ABS(($V$72-$B$18)/($M$17*$M$19)))))))","v":0},null,null,null,null,null,null,27,4.32,"Left Bank",39.568326057995108,96.715294742228139,39.558820434249391,94.715370896099799,97.664178803254018,0,0.94888406102587908,0.94888406102587908,"",0.94888406102587908,0,2.9488079071542188,2.9488079071542188,0.16,0,0,0,0.30364289952828133,1.9999238461283397,0.17427785498542089,0,0,"","","","","","","",0.16,0,0.16,4.32,4.32]
[null,null,null,null,null,null,null,null,null,null,{"$f":"IF($K$72<>\"Structure is Horizontally Stable\",\"\",IF($K$72=\"Structure is Horizontally Stable\",IF($L$69>=0,($I$67+$I$68+$I$70)-(($I$69+$I$66)*$L$72),($I$67+$I$68+$I$69+$I$70)-(($I$66)*$L$72))))","v":3547.2665165881122},null,null,157.5,0.75,null,null,null,null,"L check",{"$f":"SUM(U67:U72)","v":32},{"$f":"IF($U$53=$E$22,\"OK\",\"ERROR\")","v":"OK"},null,null,null,null,"Total",{"$f":"SUM(AB67:AB72)","v":32},null,null,null,null,null,null,28,4.4800000000000004,"Left Bank",39.655464985487825,96.713898496548396,39.645959361742101,94.713974650420056,97.651896363950286,0,0.93799786740189006,0.93799786740189006,"",0.93799786740189006,0,2.9379217135302298,2.9379217135302298,0.16,0,0,0,0.30015931756860481,1.9999238461283397,0.17427785498542089,0,0,"","","","","","","",0.16,0,0.16,4.4800000000000004,4.4800000000000004]
["Moment Force Balance",null,null,null,null,null,null,null,null,null,null,{"$f":"IF($D$22=\"Yes\",\"Rootwad\",\"Root Collar\")","v":"Rootwad"},null,180,1.1000000000000001,null,null,null,null,null,null,null,null,null,null,null,null,null,null,null,null,null,null,null,29,4.6399999999999997,"Left Bank",39.742603912980535,96.712502250868653,39.733098289234817,94.712578404740313,97.639613924646554,0,0.92711167377790105,0.92711167377790105,"",0.92711167377790105,0,2.9270355199062408,2.9270355199062408,0.16,0,0,0,0.29667573560892835,1.9999238461283397,0.17427785498542089,0,0,"","","","","","","",0.16,0,0.16,4.6399999999999997,4.6399999999999997]
["Driving Moment Centroids",null,null,"Resisting Moment Centroids",null,null,null,"Moment Force Balance",null,null,null,null,null,"Source:  Gippel (1992) plot of drag coefficients",null,null,null,null,"Projected Area of Log Calculation",null,null,null,"Projected Area of Rootwad Calculation",null,null,null,null,null,null,null,null,null,null,null,30,4.8,"Left Bank",39.829742840473244,96.71110600518891,39.820237216727527,94.71118215906057,97.627331485342822,0,0.91622548015391203,0.91622548015391203,"",0.91622548015391203,0,2.9161493262822518,2.9161493262822518,0.16,0,0,0,0.29319215364925183,1.9999238461283397,0.17427785498542089,0,0,"","","","","","","",0.16,0,0.16,4.8,4.8]
["cT,B (ft)","cL (ft)","cD (ft)","cT,W (ft)","csoil (ft)","cF&N (ft)","cP (ft)","Md (lbf)",{"$f":"IF(OR($C$19=\"\",$E$22=\"\",$D$22=\"\",$F$22=\"\",$F$25=\"\",$G$25=\"\"),0,IF($F$78=\"Stem Tip\",$L$77,$L$78))","v":164286.7891004257},null,null,"Md","Mr",null,null,"Centroid of Log",null,null,"DTS =",{"$f":"IF(OR($E$22=\"\",$F$22=\"\",$F$25=\"\",$G$25=\"\"),\"\",$F$22)","v":2},"ft",null,null,"a = DRW/2",{"$f":"$H$22/2","v":3},"ft","A =","a*b*((p/2)+arcsin(d/a)) + (b*d*(sqrt(a2-d2))/a)",null,null,null,null,null,null,31,4.96,"Left Bank",39.916881767965954,96.709709759509167,39.907376144220237,94.709785913380827,97.61504904603909,0,0.90533928652992302,0.90533928652992302,"",0.90533928652992302,0,2.9052631326582627,2.9052631326582627,0.16,0,0,0,0.28970857168957537,1.9999238461283397,0.17427785498542089,0,0,"","","","","","","",0.16,0,0.16,4.96,4.96]
[{"$f":"$Q$79","v":18.846208568686219},{"$f":"IF($I$52=0,0,IF($T$12>=$T$11,$E$22-$BL$43,$BL$43))","v":0},{"$f":"IF($F$66=0,0,IF($T$12>=$T$11,$E$22-$BI$43,$BI$43))","v":25.200000000000003},{"$f":"$Q$79","v":18.846208568686219},{"$f":"IF($E$61=0,0,IF($T$12>=$T$11,$E$22-$BS$43,$BS$43))","v":9.1199999999999992},{"$f":"IF($F$72=0,0,IF($T$12>=$T$11,$E$22-$BR$43,$BR$43))","v":0},{"$f":"IF($C$72=0,0,IF($T$12>=$T$11,$E$22-$BT$39,$BT$39))","v":12.16},"Mr (lbf)",{"$f":"IF(OR($C$19=\"\",$E$22=\"\",$D$22=\"\",$F$22=\"\",$F$25=\"\",$G$25=\"\"),0,IF($F$78=\"Stem Tip\",$M$77,$M$78))","v":155868.70517451543},null,"Additional resisting moment force (lbf) needed:",{"$f":"(($I$54*$A$77)+($I$55*$B$77)+($I$66*$C$77)+(IF($L$95>0,$L$95*$D$95,0))+(IF($L$96>0,$L$96*$D$96,0))+(IF($L$97>0,$L$97*$D$97,0))+(IF($L$98>0,$L$98*$D$98,0))+(IF($M$95>0,$M$95*$D$95,0))+(IF($M$96>0,$M$96*$D$96,0))+(IF($M$97>0,$M$97*$D$97,0))+(IF($M$98>0,$M$98*$D$98,0)))*$M$19","v":164286.7891004257},{"$f":"(($I$56*$D$77)+(IF($L$60<0,$I$60*$F$77))+($I$57*$E$77)+($I$67*$G$77)+($I$68*$F$77)+(($D$83+$E$83)*$C$83)+($J$83*$H$83)+($J$84*$H$84)+(($I$87+$J$87)*$C$87)+(($I$88+$J$88)*$C$88)+(($I$89+$J$89)*$C$89)+(IF($L$95<=0,$G$95*$D$95,0))+(IF($L$96<=0,$G$96*$D$96,0))+(IF($L$97<=0,$G$97*$D$97,0))+(IF($L$98<=0,$G$98*$D$98,0))+(IF($M$95<=0,$I$95*$D$95,0))+(IF($M$96<=0,$I$96*$D$96,0))+(IF($M$97<=0,$I$97*$D$97,0))+(IF($M$98<=0,$I$98*$D$98,0)))*$M$19","v":155868.70517451543},"Stem Tip",null,"cRW",{"$f":"IF(OR($D$22=\"\",$D$22=\"No\",$F$22=\"\"),0,$E$22-((1/4)*$G$22*(($H$22^2)+(2*$H$22*$F$22)+(3*($F$22^2)))/(($H$22^2)+($H$22*$F$22)+($F$22^2))))","v":30.96153846153846},null,"ATSp,total =",{"$f":"IF($T$76=\"\",\"\",ABS(($U$42-$U$43)*$F$22/$M$19))","v":34.856898240961755},"ft2",null,null,"b= (DRW/2)*ABS(cos(q))",{"$f":"($H$22/2)*ABS(COS($B$25*PI()/180))","v":2.5160117038362722},"ft","ARW,total =",{"$f":"IF(OR($D$22=\"\",$D$22=\"No\"),0,PI()*$Y$76*$Y$77)","v":23.712851655353912},"ft2",null,null,null,null,null,32,5.12,"Left Bank",40.004020695458664,96.708313513829424,39.994515071712947,94.708389667701084,97.602766606735358,0,0.894453092905934,0.894453092905934,"",0.894453092905934,0,2.8943769390342737,2.8943769390342737,0.16,0,0,0,0.2862249897298989,1.9999238461283397,0.17427785498542089,0,0,"","","","","","","",0.16,0,0.16,5.12,5.12]
["*Distances are from the stem tip",null,null,"Point of Rotation:",null,{"$f":"IF(OR($F$25=\"\",$G$25=\"\",$D$22=\"\"),\"\",IF(AND($T$11<$T$12,$AY$45>0),$L$74,IF(AND($T$11>$T$12,$AY$245>0),$L$74,IF(AND($AY$45>0,$AY$245>0),$L$74,IF(AND($AY$45=0,$AY$245=0),$L$74,\"Stem Tip\")))))","v":"Stem Tip"},null,"FSM",{"$f":"IF(OR($E$22=\"\",$F$22=\"\",$F$25=\"\",$G$25=\"\"),0,IF(OR($A$6=\"\",$F$25=\"\",$G$25=\"\"),\"\",$I$77/$I$76))","v":0.94875982437781758},{"$f":"$I$78-$L$80","v":-0.55124017562218242},{"$f":"IF(AND($F$25=\"\",$G$25=\"\"),\"\",IF($I$78>=$L$80,\"Structure is Stable with respect to Moment Forces\",($I$76*$L$80)-$I$77))","v":90561.478476123128},{"$f":"(($I$54*($E$22-$A$77))+($I$55*($E$22-$B$77))+($I$66*($E$22-$C$77))+(IF($L$95>0,$L$95*($E$22-$D$95),0))+(IF($L$96>0,$L$96*($E$22-$D$96),0))+(IF($L$97>0,$L$97*($E$22-$D$97),0))+(IF($L$98>0,$L$98*($E$22-$D$98),0))+(IF($M$95>0,$M$95*($E$22-$D$95),0))+(IF($M$96>0,$M$96*($E$22-$D$96),0))+(IF($M$97>0,$M$97*($E$22-$D$97),0))+(IF($M$98>0,$M$98*($E$22-$D$98),0)))*$M$19","v":106646.92113898322},{"$f":"(($I$56*($E$22-$D$77))+(IF($L$60<0,$I$60*($E$22-$F$77)))+($I$57*($E$22-$E$77))+($I$67*($E$22-$G$77))+($I$68*($E$22-$F$77))+(($D$83+$E$83)*($E$22-$C$83))+($J$83*($E$22-$H$83))+($J$84*($E$22-$H$84))+(($I$87+$J$87)*($E$22-$C$87))+(($I$88+$J$88)*($E$22-$C$88))+(($I$89+$J$89)*($E$22-$C$89))+(IF($L$95<=0,$G$95*($E$22-$D$95),0))+(IF($L$96<=0,$G$96*($E$22-$D$96),0))+(IF($L$97<=0,$G$97*($E$22-$D$97),0))+(IF($L$98<=0,$G$98*($E$22-$D$98),0))+(IF($M$95<=0,$I$95*($E$22-$D$95),0))+(IF($M$96<=0,$I$96*($E$22-$D$96),0))+(IF($M$97<=0,$I$97*($E$22-$D$97),0))+(IF($M$98<=0,$I$98*($E$22-$D$98),0)))*$M$19","v":193694.60751737552},"Root Collar or RW",null,"cTS",{"$f":"(($E$22-$G$22)/2)","v":14.5},null,"ATSp,dry =",{"$f":"IF($T$86=\"\",\"\",IF($T$86=\"Submerged\",0,IF($T$88=\"Dry\",$T$77,IF(AND($AC$86=\"Dry\",$T$86=\"Partial\"),ABS(($U$43-$W$87)*$F$22/$M$19),IF(AND($AC$86=\"Partial\",$AC$87=\"Partial\"),(ABS($U$39-$U$38))*(($AF$86+$AF$87)/2),IF($AC$86=\"Partial\",(ABS($U$39-$W$86))*$AF$86/2,(($U$41-$W$88)*$F$22)+(ABS($W$88-$U$40))*($AF$87+$F$22)/2))))))","v":0},"ft2",null,null,"d1 = (DRW/2) - (yRW,crown-WSE)",{"$f":"IF(OR($D$22=\"\",$F$22=\"\"),\"\",IF($AE$8>=$U$10,$Y$76,$Y$76-($U$10-$AE$8)))","v":3},"ft","ARW,↑WSE =",{"$f":"IF($D$22=\"No\",0,IF($U$15>$AE$8,$AB$77,IF($U$10<$AE$8,0,IF($D$22=\"\",0,$AB$77-(($Y$76*$Y$77*((PI()/2)+ASIN($Y$78/$Y$76)))+($Y$77*$Y$78*(SQRT(($Y$76^2)-($Y$78^2))/$Y$76)))))))","v":0},"ft2",null,null,null,null,null,33,5.28,"Left Bank",40.091159622951373,96.706917268149681,40.081653999205656,94.706993422021341,97.590484167431612,0,0.88356689928193077,0.88356689928193077,"",0.88356689928193077,0,2.8834907454102705,2.8834907454102705,0.16,0,0,0,0.28274140777021783,1.9999238461283397,0.17427785498542089,0,0,"","","","","","","",0.16,0,0.16,5.28,5.28]
[null,null,null,null,null,null,null,null,null,null,null,"Formatting",null,null,null,"cT",{"$f":"IF(OR($D$22=\"\",$D$22=\"No\",$F$22=\"\"),$Q$78,((((($B$53+$B$52)*$I$22)+($B$54*$J$22))*$Q$78)+(((($C$53+$C$52)*$I$22)+($C$54*$J$22))*$Q$77))/$E$55)","v":18.846208568686219},null,"ATSp,em =",{"$f":"$BE$43","v":31.500884514622648},"ft2",null,null,"d2 = (DRW/2) - (ythalweg-yRW,bot)",{"$f":"IF(OR($D$22=\"\",$F$22=\"\"),\"\",IF($U$15>=$C$16,$Y$76,$Y$76-($C$16-$U$15)))","v":2.6738965473765433},"ft","ARW,↓bed =",{"$f":"IF($D$22=\"No\",0,IF($U$10<$C$16,$AB$77,IF($U$15>$C$16,0,IF($D$22=\"\",0,$AB$77-(($Y$76*$Y$77*((PI()/2)+ASIN($Y$79/$Y$76)))+($Y$77*$Y$79*(SQRT(($Y$76^2)-($Y$79^2))/$Y$76)))))))","v":0.50168123429428491},"ft2",null,null,null,null,null,34,5.44,"Left Bank",40.178298550444083,96.705521022469938,40.168792926698366,94.705597176341598,97.57820172812788,0,0.87268070565794176,0.87268070565794176,"",0.87268070565794176,0,2.8726045517862815,2.8726045517862815,0.16,0,0,0,0.27925782581054137,1.9999238461283397,0.17427785498542089,0,0,"","","","","","","",0.16,0,0.16,5.44,5.44]
["Anchor Forces",null,null,null,null,null,null,null,null,null,null,{"$f":"'2-Constants'!$C$7","v":1.5},null,null,null,null,null,null,"(-) ATSp,dry,em =",{"$f":"-$BG$43","v":0},"ft3",null,null,null,null,null,"ARWp =",{"$f":"IF($D$22=\"\",0,$AB$77-$AB$78-$AB$79)","v":23.211170421059627},"ft2",null,null,null,null,null,35,5.6,"Left Bank",40.265437477936793,96.704124776790195,40.255931854191076,94.704200930661855,97.565919288824148,0,0.86179451203395274,0.86179451203395274,"",0.86179451203395274,0,2.8617183581622925,2.8617183581622925,0.16,0,0,0,0.27577424385086491,1.9999238461283397,0.17427785498542089,0,0,"","","","","","","",0.16,0,0.16,5.6,5.6]
["Additional Soil Ballast",null,null,null,null,null,null,"Mechanical Anchors",null,null,{"$f":"IF(OR($H$83<>\"\",$H$84<>\"\",$C$87<>\"\",$C$88<>\"\",$C$89<>\"\"),\"CHECK--Verify anchors are correctly located on X-Sect (above)\",\"\")","v":""},"Formatting",null,null,null,"Buried anchors","Number",null,"ATSp,wet =",{"$f":"IF($D$22=\"\",\"\",IF($T$88=\"Dry\",0,$T$77-$T$78-$T$79-$T$80))","v":3.356013726339107},"ft2",null,null,null,null,null,null,null,null,null,null,null,null,null,36,5.76,"Left Bank",40.352576405429502,96.702728531110452,40.343070781683785,94.702804684982112,97.553636849520416,0,0.85090831840996373,0.85090831840996373,"",0.85090831840996373,0,2.8508321645383035,2.8508321645383035,0.16,0,0,0,0.27229066189118839,1.9999238461283397,0.17427785498542089,0,0,"","","","","","","",0.16,0,0.16,5.76,5.76]
["VAdry (ft3)","VAwet (ft3)","cAsoil (ft)","FA,Vsoil (lbf)","FA,HP (lbf)",null,"Type","cAm (ft)","Soils","FAm (lbf)","Quick Design Reference:",{"$f":"IF($D$83=\"\",0,-$D$83)","v":0},{"$f":"IF($E$83=\"\",0,-$E$83)","v":0},null,"Total (lbf)",{"$f":"$J$83+$J$84+(IF($A$87=\"Deadman\",$F$87-$G$87,0))+(IF($A$88=\"Deadman\",$F$88-$G$88,0))+(IF($A$89=\"Deadman\",$F$89-$G$89,0))","v":0},{"$f":"(IF($J$83>0,1,0))+(IF($J$84>0,1,0))+(IF(AND($I$87>0,$A$87=\"Deadman\"),1,0))+(IF(AND($I$88>0,$A$88=\"Deadman\"),1,0))+(IF(AND($I$89>0,$A$89=\"Deadman\"),1,0))","v":0},null,null,null,null,null,null,null,null,null,null,null,null,null,null,null,null,null,37,5.92,"Left Bank",40.439715332922219,96.701332285430709,40.430209709176502,94.701408439302369,97.541354410216684,0,0.84002212478597471,0.84002212478597471,"",0.84002212478597471,0,2.8399459709143144,2.8399459709143144,0.16,0,0,0,0.26880707993151193,1.9999238461283397,0.17427785498542089,0,0,"","","","","","","",0.16,0,0.16,5.92,5.92]
[null,null,null,{"$f":"IF(AND($A$83=\"\",$B$83=\"\"),0,($A$83*$D$29)+($B$83*$E$29))","v":0},{"$f":"IF($D$83=0,0,0.5*$B$71*$D$83)","v":0},null,null,null,{"$f":"$W$100","v":""},{"$f":"IF(OR($G83=\"\",$H83=\"\"),0,IF(AND($W100=\"Bed\",$G$28=4),HLOOKUP($G$83,AnchorRatings,3,0),IF(AND($W100=\"Bed\",$G$28=5),HLOOKUP($G$83,AnchorRatings,4,0),IF(AND($W100=\"Bed\",$G$28=6),HLOOKUP($G$83,AnchorRatings,5,0),IF(AND($W100=\"Bed\",$G$28=7),HLOOKUP($G$83,AnchorRatings,6,0),IF(AND($W100=\"Bank\",$G$29=4),HLOOKUP($G$83,AnchorRatings,3,0),IF(AND($W100=\"Bank\",$G$29=5),HLOOKUP($G$83,AnchorRatings,4,0),IF(AND($W100=\"Bank\",$G$29=6),HLOOKUP($G$83,AnchorRatings,5,0),IF(AND($W100=\"Bank\",$G$29=7),HLOOKUP($G$83,AnchorRatings,6,0))))))))))","v":0},{"$f":"$I$61","v":0.81076640933381272},0,{"$f":"(IF($A87=\"Behind\",-$J87,0))","v":0},null,"Required Vertical Resistance (lbf)",{"$f":"($L$54+$L$55+(IF($L$58>0,$L$58,0)))*$L$61","v":11585.691051614584},null,null,null,null,null,null,null,null,null,null,null,null,null,null,null,null,null,null,38,6.08,"Left Bank",40.526854260414929,96.699936039750966,40.517348636669212,94.700012193622626,97.529071970912938,0,0.82913593116197148,0.82913593116197148,"",0.82913593116197148,0,2.8290597772903112,2.8290597772903112,0.16,0,0,0,0.26532349797183086,1.9999238461283397,0.17427785498542089,0,0,"","","","","","","",0.16,0,0.16,6.08,6.08]
[null,null,null,null,null,null,null,null,{"$f":"$W$101","v":""},{"$f":"IF(OR($G84=\"\",$H84=\"\"),0,IF(AND($W101=\"Bed\",$G$28=4),HLOOKUP($G$84,AnchorRatings,3,0),IF(AND($W101=\"Bed\",$G$28=5),HLOOKUP($G$84,AnchorRatings,4,0),IF(AND($W101=\"Bed\",$G$28=6),HLOOKUP($G$84,AnchorRatings,5,0),IF(AND($W101=\"Bed\",$G$28=7),HLOOKUP($G$84,AnchorRatings,6,0),IF(AND($W101=\"Bank\",$G$29=4),HLOOKUP($G$84,AnchorRatings,3,0),IF(AND($W101=\"Bank\",$G$29=5),HLOOKUP($G$84,AnchorRatings,4,0),IF(AND($W101=\"Bank\",$G$29=6),HLOOKUP($G$84,AnchorRatings,5,0),IF(AND($W101=\"Bank\",$G$29=7),HLOOKUP($G$84,AnchorRatings,6,0))))))))))","v":0},{"$f":"'2-Constants'!$C$5","v":1.5},0,{"$f":"(IF($A88=\"Behind\",-$J88,0))","v":0},null,"Actual Vertical Resistance (lbf)",{"$f":"ABS($L$56+$L$57+(IF($L$58<0,$L$58,0))+$L$59)","v":6262.1927557122935},null,null,"Log Position","Water and Log Intercept",null,null,null,null,"Soil","LW Buried at Intercept?",null,"Log Position","Water and Log Intercept at Face",null,null,null,null,null,39,6.24,"Left Bank",40.613993187907639,96.698539794071223,40.604487564161921,94.698615947942884,97.516789531609206,0,0.81824973753798247,0.81824973753798247,"",0.81824973753798247,0,2.8181735836663222,2.8181735836663222,0.16,0,0,0,0.26183991601215439,1.9999238461283397,0.17427785498542089,0,0,"","","","","","","",0.16,0,0.16,6.24,6.24]
["Boulder Ballast",null,null,null,null,null,null,null,null,null,null,0,{"$f":"(IF($A89=\"Behind\",-$J89,0))","v":0},null,"Extra Needed Vertical Resistance (lbf)",{"$f":"$P$83-$P$84","v":5323.49829590229},null,null,null,"Condition","Intercept Zone",null,"xTS (ft)","yTS (ft)","ysoil (ft)",null,null,null,"Condition","xTS (ft)","yTS (ft)","hTS,dry (ft)",null,null,40,6.4,"Left Bank",40.701132115400348,96.69714354839148,40.691626491654631,94.697219702263141,97.504507092305474,0,0.80736354391399345,0.80736354391399345,"",0.80736354391399345,0,2.8072873900423332,2.8072873900423332,0.16,0,0,0,0.25835633405247793,1.9999238461283397,0.17427785498542089,0,0,"","","","","","","",0.16,0,0.16,6.4,6.4]
["Position","Dr (ft)","cAr (ft)","Vr,dry (ft3)","Vr,wet (ft3)","Wr (lbf)","FL,r (lbf)","FD,r (lbf)","FA,Vr (lbf)","FA,Hr (lbf)",{"$f":"$I$72","v":6.2729198364593399},{"$f":"$L$82+$L$83+$L$84+$L$85","v":0},{"$f":"$M$82+$M$83+$M$84+$M$85","v":0},null,"Required Horizontal Resistance (lbf)",{"$f":"($L$66+(IF($L$69>0,$L$69,0)))*$L$72","v":1114.8102120293165},null,null,"Crown",{"$f":"IF(OR($E$22=\"\",$F$22=\"\",$F$25=\"\",$G$25=\"\"),\"\",IF($X$39<=$AE$12,\"Submerged\",IF($X$38>$AE$12,\"Dry\",\"Partial\")))","v":"Submerged"},{"$f":"IF($X$86=\"\",\"None\",IF($W$86<$B$14,\"Left Floodplain\",IF($W$86<$B$15,\"Left Bank\",IF($W$86<$B$16,\"Left Stream Bed\",IF($W$86<$B$17,\"Right Stream Bed\",IF($W$86<$B$18,\"Right Bank\",\"Right Floodplain\"))))))","v":"None"},{"$f":"IF($U$47=0,0,IF(OR($B$25=0,$B$25=180,$B$25=360),$E$22-ABS(($X$39-$W$47)/$M$20),IF(AND($U$38<=$U$39,$X$38>=$Y$38),ABS(($X$38-$W$47)/($AA$40*$M$17*$M$19)),IF(AND($U$38<=$U$39,$X$38<$Y$38),ABS($E$22-(ABS(($X$38-$W$47)/($AA$40*$M$17*$M$19)))),IF(AND($U$38>$U$39,$X$39>=$Y$39),ABS(($X$39-$W$47)/($AA$40*$M$17*$M$19)),IF(AND($U$38>=$U$39,$X$39<$Y$39),ABS($E$22-(ABS(($X$38-$W$47)/($AA$40*$M$17*$M$19))))))))))","v":0},{"$f":"IF($X$86=\"\",\"\",$U$39-(($X$39-$AE$8)/$AA$40))","v":""},{"$f":"IF($T$86=\"Partial\",$AE$12,\"\")","v":""},{"$f":"IF($X$86=\"\",\"\",IF($W$86<$B$14,(($W$86-$B$13)*$AB$31)+$C$13,IF($W$86<$B$15,(($W$86-$B$14)*$AB$32)+$C$14,IF($W$86<$B$16,(($W$86-$B$15)*$AB$33)+$C$15,IF($W$86<$B$17,(($W$86-$B$16)*$AB$34)+$C$16,IF($W$86<$B$18,(($W$86-$B$17)*$AB$35)+$C$17,IF($W$86<$B$19,(($W$86-$B$18)*$AB$36)+$C$18)))))))","v":""},{"$f":"IF($X$86=\"\",\"\",IF($X$86<=$Y$86,\"Yes\",\"No\"))","v":""},null,"Upper Face",{"$f":"IF($T$86=\"\",\"\",IF($X$41>$AE$8,\"Dry\",IF($T$86=\"Submerged\",\"Submerged\",\"Partial\")))","v":"Submerged"},{"$f":"IF($AE$86=\"\",\"\",$U$39-(($X$39-$AE$8)/$AB$40))","v":""},{"$f":"IF($AC$86=\"Partial\",$AE$12,\"\")","v":""},{"$f":"IF($AC$86=\"Submerged\",0,IF($AC$86=\"Dry\",$F$22,($X$39-$AE$8)/$M$19))","v":0},null,null,41,6.56,"Left Bank",40.788271042893058,96.695747302711737,40.778765419147341,94.695823456583398,97.492224653001742,0,0.79647735029000444,0.79647735029000444,"",0.79647735029000444,0,2.7964011964183442,2.7964011964183442,0.16,0,0,0,0.25487275209280141,1.9999238461283397,0.17427785498542089,0,0,"","","","","","","",0.16,0,0.16,6.56,6.56]
[null,null,null,{"$f":"IF(OR($B87=\"\",$C87=\"\"),\"\",(PI()*($B87^3)/6)-$E87)","v":""},{"$f":"IF($B87=\"\",\"\",$U94)","v":""},{"$f":"IF(OR($B87=\"\",$C87=\"\"),\"\",($D87*DUWRock)+($E87*(DUWRock-SWWater)))","v":""},{"$f":"IF(OR($B87=\"\",$C87=\"\"),\"\",$Q99)","v":""},{"$f":"IF(OR($B87=\"\",$C87=\"\"),\"\",$P99)","v":""},{"$f":"IF(OR($B87=\"\",$C87=\"\"),0,IF($A87=\"Behind\",0,IF(AND($A87=\"Deadman\",$P$85<=0),0,IF(AND($A87=\"Deadman\",$P$82>=$P$85),($F87-$G87)*($P$85/$P$82),$F87-$G87))))","v":0},{"$f":"IF(OR($B87=\"\",$C87=\"\"),0,IF($A87=\"Above\",0,IF($A87=\"Deadman\",($F87-$G87)-$I87,IF(AND($A87=\"Behind\",OR($W94=\"Left Stream Bed\",$W94=\"Right Stream Bed\")),(($F87-$G87)*$E$70)-$H87,(($F87-$G87)*$E$71)-$H87))))","v":0},{"$f":"'2-Constants'!$C$6","v":1.5},{"$f":"IF($J83=0,0,IF($P$85<=0,0,IF($P$82>=$P$85,-J$83*($P$85/$P$82),-$J83)))","v":0},{"$f":"-($J83+$L87)","v":0},null,"Actual Horizontal Resistance (lbf)",{"$f":"ABS($L$67+$L$68+(IF($L$69<0,$L$69,0))+$L$70)","v":4662.0767286174287},null,null,"Centerline",{"$f":"IF(OR($E$22=\"\",$F$22=\"\",$F$25=\"\",$G$25=\"\"),\"\",IF($X$43<=$AE$12,\"Submerged\",IF($X$42>=$AE$12,\"Dry\",\"Partial\")))","v":"Submerged"},{"$f":"IF($X$87=\"\",\"None\",IF($W$87<$B$14,\"Left Floodplain\",IF($W$87<$B$15,\"Left Bank\",IF($W$87<$B$16,\"Left Stream Bed\",IF($W$87<$B$17,\"Right Stream Bed\",IF($W$87<$B$18,\"Right Bank\",\"Right Floodplain\"))))))","v":"None"},{"$f":"IF($U$47=0,0,IF(OR($B$25=0,$B$25=180,$B$25=360),$E$22-ABS(($X$39-$W$47)/$M$20),IF(AND($U$38<=$U$39,$X$38>=$Y$38),ABS(($X$38-$W$47)/($AA$40*$M$17*$M$19)),IF(AND($U$38<=$U$39,$X$38<$Y$38),ABS($E$22-(ABS(($X$38-$W$47)/($AA$40*$M$17*$M$19)))),IF(AND($U$38>$U$39,$X$39>=$Y$39),ABS(($X$39-$W$47)/($AA$40*$M$17*$M$19)),IF(AND($U$38>=$U$39,$X$39<$Y$39),ABS($E$22-(ABS(($X$38-$W$47)/($AA$40*$M$17*$M$19))))))))))","v":0},{"$f":"IF($X$87=\"\",\"\",$U$43-(($X$43-$AE$8)/$AA$40))","v":""},{"$f":"IF($T$87=\"Partial\",$AE$12,\"\")","v":""},{"$f":"IF($X$87=\"\",\"\",IF($W$87<$B$14,(($W$87-$B$13)*$AB$31)+$C$13,IF($W$87<$B$15,(($W$87-$B$14)*$AB$32)+$C$14,IF($W$87<$B$16,(($W$87-$B$15)*$AB$33)+$C$15,IF($W$87<$B$17,(($W$87-$B$16)*$AB$34)+$C$16,IF($W$87<$B$18,(($W$87-$B$17)*$AB$35)+$C$17,IF($W$87<$B$19,(($W$87-$B$18)*$AB$36)+$C$18)))))))","v":""},{"$f":"IF($X$87=\"\",\"\",IF($X$87<=$Y$87,\"Yes\",\"No\"))","v":""},null,"Lower Face",{"$f":"IF($T$88=\"\",\"\",IF($X$40>=$AE$8,\"Dry\",IF($X$38<=$AE$8,\"Submerged\",\"Partial\")))","v":"Submerged"},{"$f":"IF($AE$87=\"\",\"\",$U$38-(($X$38-$AE$8)/$AB$40))","v":""},{"$f":"IF($AC$87=\"Partial\",$AE$12,\"\")","v":""},{"$f":"IF($AC$87=\"Submerged\",0,IF($AC$87=\"Dry\",$F$22,($X$38-$AE$8)/$M$19))","v":0},null,null,42,6.72,"Left Bank",40.875409970385768,96.694351057031994,40.86590434664005,94.694427210903655,97.47994221369801,0,0.78559115666601542,0.78559115666601542,"",0.78559115666601542,0,2.7855150027943552,2.7855150027943552,0.16,0,0,0,0.25138917013312495,1.9999238461283397,0.17427785498542089,0,0,"","","","","","","",0.16,0,0.16,6.72,6.72]
[null,null,null,{"$f":"IF(OR($B88=\"\",$C88=\"\"),\"\",(PI()*($B88^3)/6)-$E88)","v":""},{"$f":"IF($B88=\"\",\"\",$U95)","v":""},{"$f":"IF(OR($B88=\"\",$C88=\"\"),\"\",($D88*DUWRock)+($E88*(DUWRock-SWWater)))","v":""},{"$f":"IF(OR($B88=\"\",$C88=\"\"),\"\",$Q100)","v":""},{"$f":"IF(OR($B88=\"\",$C88=\"\"),\"\",$P100)","v":""},{"$f":"IF(OR($B88=\"\",$C88=\"\"),0,IF($A88=\"Behind\",0,IF(AND($A88=\"Deadman\",$P$85<=0),0,IF(AND($A88=\"Deadman\",$P$82>=$P$85),($F88-$G88)*($P$85/$P$82),$F88-$G88))))","v":0},{"$f":"IF(OR($B88=\"\",$C88=\"\"),0,IF($A88=\"Above\",0,IF($A88=\"Deadman\",($F88-$G88)-$I88,IF(AND($A88=\"Behind\",OR($W95=\"Left Stream Bed\",$W95=\"Right Stream Bed\")),(($F88-$G88)*$E$70)-$H88,(($F88-$G88)*$E$71)-$H88))))","v":0},null,{"$f":"IF($J84=0,0,IF($P$85<=0,0,IF($P$82>=$P$85,-J$84*($P$85/$P$82),-$J84)))","v":0},{"$f":"-($J84+$L88)","v":0},null,"Extra needed Horizontal Resistance (lbf)",{"$f":"$P$86-$P$87","v":-3547.2665165881122},null,null,"Bottom",{"$f":"IF(OR($E$22=\"\",$F$22=\"\",$F$25=\"\",$G$25=\"\"),\"\",IF($X$41<=$AE$12,\"Submerged\",IF($X$40>=$AE$12,\"Dry\",\"Partial\")))","v":"Submerged"},{"$f":"IF($X$88=\"\",\"None\",IF($W$88<$B$14,\"Left Floodplain\",IF($W$88<$B$15,\"Left Bank\",IF($W$88<$B$16,\"Left Stream Bed\",IF($W$88<$B$17,\"Right Stream Bed\",IF($W$88<$B$18,\"Right Bank\",\"Right Floodplain\"))))))","v":"None"},{"$f":"IF($U$47=0,0,IF(OR($B$25=0,$B$25=180,$B$25=360),$E$22-ABS(($X$39-$W$47)/$M$20),IF(AND($U$38<=$U$39,$X$38>=$Y$38),ABS(($X$38-$W$47)/($AA$40*$M$17*$M$19)),IF(AND($U$38<=$U$39,$X$38<$Y$38),ABS($E$22-(ABS(($X$38-$W$47)/($AA$40*$M$17*$M$19)))),IF(AND($U$38>$U$39,$X$39>=$Y$39),ABS(($X$39-$W$47)/($AA$40*$M$17*$M$19)),IF(AND($U$38>=$U$39,$X$39<$Y$39),ABS($E$22-(ABS(($X$38-$W$47)/($AA$40*$M$17*$M$19))))))))))","v":0},{"$f":"IF($X$88=\"\",\"\",$U$41-(($X$41-$AE$8)/$AA$40))","v":""},{"$f":"IF($T$88=\"Partial\",$AE$12,\"\")","v":""},{"$f":"IF($X$88=\"\",\"\",IF($W$88<$B$14,(($W$88-$B$13)*$AB$31)+$C$13,IF($W$88<$B$15,(($W$88-$B$14)*$AB$32)+$C$14,IF($W$88<$B$16,(($W$88-$B$15)*$AB$33)+$C$15,IF($W$88<$B$17,(($W$88-$B$16)*$AB$34)+$C$16,IF($W$88<$B$18,(($W$88-$B$17)*$AB$35)+$C$17,IF($W$88<$B$19,(($W$88-$B$18)*$AB$36)+$C$18)))))))","v":""},{"$f":"IF($X$88=\"\",\"\",IF($X$88<=$Y$88,\"Yes\",\"No\"))","v":""},null,null,null,null,null,null,null,null,43,6.88,"Left Bank",40.962548897878477,96.692954811352251,40.95304327413276,94.693030965223912,97.467659774394278,0,0.77470496304202641,0.77470496304202641,"",0.77470496304202641,0,2.7746288091703661,2.7746288091703661,0.16,0,0,0,0.24790558817344846,1.9999238461283397,0.17427785498542089,0,0,"","","","","","","",0.16,0,0.16,6.88,6.88]
[null,null,null,{"$f":"IF(OR($B89=\"\",$C89=\"\"),\"\",(PI()*($B89^3)/6)-$E89)","v":""},{"$f":"IF($B89=\"\",\"\",$U96)","v":""},{"$f":"IF(OR($B89=\"\",$C89=\"\"),\"\",($D89*DUWRock)+($E89*(DUWRock-SWWater)))","v":""},{"$f":"IF(OR($B89=\"\",$C89=\"\"),\"\",$Q101)","v":""},"",{"$f":"IF(OR($B89=\"\",$C89=\"\"),0,IF($A89=\"Behind\",0,IF(AND($A89=\"Deadman\",$P$85<=0),0,IF(AND($A89=\"Deadman\",$P$82>=$P$85),($F89-$G89)*($P$85/$P$82),$F89-$G89))))","v":0},{"$f":"IF(OR($B89=\"\",$C89=\"\"),0,IF($A89=\"Above\",0,IF($A89=\"Deadman\",($F89-$G89)-$I89,IF(AND($A89=\"Behind\",OR($W96=\"Left Stream Bed\",$W96=\"Right Stream Bed\")),(($F89-$G89)*$E$70)-$H89,(($F89-$G89)*$E$71)-$H89))))","v":0},{"$f":"I78","v":0.94875982437781758},{"$f":"-$I87","v":0},{"$f":"IF($A87=\"Deadman\",-$J87,0)","v":0},null,null,null,null,null,null,null,null,null,null,null,null,null,null,null,null,null,null,null,null,null,44,7.04,"Left Bank",41.049687825371187,96.691558565672509,41.04018220162547,94.691634719544169,97.455377335090532,0,0.76381876941802318,0.76381876941802318,"",0.76381876941802318,0,2.7637426155463629,2.7637426155463629,0.16,0,0,0,0.24442200621376742,1.9999238461283397,0.17427785498542089,0,0,"","","","","","","",0.16,0,0.16,7.04,7.04]
[null,null,null,null,null,null,null,null,null,null,{"$f":"'2-Constants'!$C$7","v":1.5},{"$f":"-$I88","v":0},{"$f":"IF($A88=\"Deadman\",-$J88,0)","v":0},null,null,null,null,null,null,null,null,null,null,null,null,null,null,null,null,null,null,null,null,null,45,7.2,"Left Bank",41.136826752863904,96.690162319992766,41.127321129118187,94.690238473864426,97.4430948957868,0,0.75293257579403416,0.75293257579403416,"",0.75293257579403416,0,2.7528564219223739,2.7528564219223739,0.16,0,0,0,0.24093842425409093,1.9999238461283397,0.17427785498542089,0,0,"","","","","","","",0.16,0,0.16,7.2,7.2]
[{"$f":"IF($A$6=\"\",\"\",$A$6)","v":"Sample1"},{"$f":"IF($A$6=\"\",\"\",$B$6)","v":"Flow Deflection"},null,{"$f":"IF(OR($B$9=\"N/A\",$B$9=\"\"),\"\",$B$9)","v":"Stacked"},{"$f":"IF($D$48=\"\",\"\",\"Log ID\")","v":"Log ID"},{"$f":"IF($D$48=\"\",\"\",$C$9)","v":"Top#3"},null,null,null,"Page 3",null,{"$f":"-$I89","v":0},{"$f":"IF($A89=\"Deadman\",-$J89,0)","v":0},null,null,null,null,null,null,null,"A = [(R - ddry)*SQRT(2Rddry - ddry2)] - R2 arccos [(R - ddry)/R]",null,null,null,null,null,null,"Boulder #1",null,"Boulder #2",null,"Boulder #3",null,null,46,7.36,"Left Bank",41.223965680356613,96.688766074313023,41.214460056610896,94.688842228184683,97.430812456483068,0,0.74204638217004515,0.74204638217004515,"",0.74204638217004515,0,2.7419702282983849,2.7419702282983849,0.16,0,0,0,0.23745484229441446,1.9999238461283397,0.17427785498542089,0,0,"","","","","","","",0.16,0,0.16,7.36,7.36]
["Interaction Forces with Adjacent Logs",null,null,null,null,null,null,null,null,null,null,{"$f":"$L$87+$L$88+$L$89+$L$90+$L$91","v":0},{"$f":"$M$87+$M$88+$M$89+$M$90+$M$91","v":0},"←Flex anchors","Ballast Boulder Calculations",null,null,null,null,null,null,null,null,null,null,null,null,"xTS (ft)","yTS (ft)","xTS (ft)","yTS (ft)","xTS (ft)","yTS (ft)",null,47,7.52,"Left Bank",41.311104607849323,96.68736982863328,41.301598984103606,94.68744598250494,97.418530017179336,0,0.73116018854605613,0.73116018854605613,"",0.73116018854605613,0,2.7310840346743959,2.7310840346743959,0.16,0,0,0,0.23397126033473797,1.9999238461283397,0.17427785498542089,0,0,"","","","","","","",0.16,0,0.16,7.52,7.52]
[null,null,null,null,null,null,"Applied Forces from other Logs",null,null,null,{"$f":"IF(OR($B$95<>\"\",$B$96<>\"\",$B$97<>\"\",$B$98<>\"\"),\"NOTE -- The page is not formatted to print the Interaction Forces\",\"\")","v":""},null,null,null,null,"xr,bot (ft)","yr,bot (ft)","yTS,bot (ft)","ysoil (ft)","dr,dry (ft)","Vr,wet (ft3)","Ar↑WSE (ft2)","Zone","dr↓Thw (ft)","Ar↓Thw (ft2)","APr (ft2)","Point 1",{"$f":"IF($P$94=\"\",0,$P$94)","v":0},{"$f":"IF($Q$94=\"\",$C$13,$Q$94)","v":99.18},{"$f":"IF($P$95=\"\",0,$P$95)","v":0},{"$f":"IF($Q$95=\"\",$C$13,$Q$95)","v":99.18},{"$f":"IF($P$96=\"\",0,$P$96)","v":0},{"$f":"IF($Q$96=\"\",$C$13,$Q$96)","v":99.18},null,48,7.68,"Left Bank",41.398243535342033,96.685973582953537,41.388737911596316,94.686049736825197,97.406247577875604,0,0.72027399492206712,0.72027399492206712,"",0.72027399492206712,0,2.7201978410504069,2.7201978410504069,0.16,0,0,0,0.23048767837506148,1.9999238461283397,0.17427785498542089,0,0,"","","","","","","",0.16,0,0.16,7.68,7.68]
["Log ID","Position","Link","cWI (ft)","FW,V (lbf)","FW,H (lbf)","FW,V (lbf)",null,"FW,H (lbf)",null,null,"Formatting",null,null,"Boulder 1",{"$f":"IF(OR($F$25=\"\",$C87=\"\"),\"\",$AE$49-(($C87*$M$19)*$M$17))","v":""},{"$f":"IF(OR($G$25=\"\",$C87=\"\"),\"\",IF($A87=\"Behind\",MIN($R94,$S94),IF($A87=\"Deadman\",(MIN($R94,$S94))-($F$22+1),$R94+$F$22)))","v":""},{"$f":"IF($P94=\"\",\"\",($AF$49+(($P94-$AE$49)*$AA$40))-($F$22/2))","v":""},{"$f":"IF($P94=\"\",\"\",IF($P94<$B$14,(($P94-$B$13)*$AB$31)+$C$13,IF($P94<$B$15,(($P94-$B$14)*$AB$32)+$C$14,IF($P94<$B$16,(($P94-$B$15)*$AB$33)+$C$15,IF($P94<$B$17,(($P94-$B$16)*$AB$34)+$C$16,IF($P94<$B$18,(($P94-$B$17)*$AB$35)+$C$17,IF($P94<$B$19,(($P94-$B$18)*$AB$36)+$C$18)))))))","v":""},{"$f":"IF($Q94=\"\",\"\",IF(($Q94+$B87-$AE$8)>=$B87,$B87,IF(($Q94+$B87)>$AE$8,($Q94+$B87)-$AE$8,0)))","v":""},{"$f":"IF($T94=\"\",\"\",IF($T94>=$B87,0,(PI()/3)*(($B87-$T94)^2)*((1.5*$B87)-($B87-$T94))))","v":""},{"$f":"IF($C87=\"\",\"\",IF($A87=\"Deadman\",0,IF($Q94>=$AE$8,PI()*(($B87/2)^2),((($B87/2)^2)*ACOS((($B87/2)-$T94)/($B87/2)))-((($B87/2)-$T94)*SQRT(2*($B87/2)*$T94-($T94^2))))))","v":""},{"$f":"IF($P94=\"\",\"\",IF(OR($C$19=\"\",$F$25=\"\",$G$25=\"\"),\"None\",IF($P94<$B$14,\"Left Floodplain\",IF($P94<$B$15,\"Left Bank\",IF($P94<$B$16,\"Left Stream Bed\",IF($P94<$B$17,\"Right Stream Bed\",IF($P94<$B$18,\"Right Bank\",\"Right Floodplain\")))))))","v":""},{"$f":"IF($Q94=\"\",\"\",IF(($Q94+$B87)<=$S94,$B87,IF($Q94>=$S94,0,$S94-$Q94)))","v":""},{"$f":"IF($C87=\"\",\"\",IF($A87=\"Deadman\",PI()*(($B87/2)^2),IF($Q94>$S94,0,((($B87/2)^2)*ACOS((($B87/2)-$X94)/($B87/2)))-((($B87/2)-$X94)*SQRT(2*($B87/2)*$X94-($X94^2))))))","v":""},{"$f":"IF($C87=\"\",\"\",IF(((PI()*(($B87/2)^2))-$V94-$Y94)<0,0,(PI()*(($B87/2)^2))-$V94-$Y94))","v":""},"Point 2",{"$f":"IF($AB$93=\"\",0,$AB$93-($B$87/4))","v":0},{"$f":"IF($AC$93=\"\",$C$13,$AC$93+($B$87/25))","v":99.18},{"$f":"IF($AD$93=\"\",0,$AD$93-($B$88/4))","v":0},{"$f":"IF($AE$93=\"\",$C$13,$AE$93+($B$88/25))","v":99.18},{"$f":"IF($AF$93=\"\",0,$AF$93-($B$89/4))","v":0},{"$f":"IF($AG$93=\"\",$C$13,$AG$93+($B$89/25))","v":99.18},null,49,7.84,"Left Bank",41.485382462834743,96.684577337273794,41.475876839089025,94.684653491145454,97.393965138571872,0,0.7093878012980781,0.7093878012980781,"",0.7093878012980781,0,2.7093116474264178,2.7093116474264178,0.16,0,0,0,0.22700409641538499,1.9999238461283397,0.17427785498542089,0,0,"","","","","","","",0.16,0,0.16,7.84,7.84]
[null,null,null,null,null,null,{"$f":"IF(OR($E$95=\"\",$E$95=0),0,IF($C$95=\"Pinned\",ABS($E$95),IF(AND($C$95=\"Gravity\",$B$95=\"Below\",$E$95>=0),ABS($E$95),IF(AND($C$95=\"Gravity\",$B$95=\"Above\",$E$95<=0),ABS($E$95),0))))","v":0},{"$f":"IF($L$95=0,\"\",IF($L$95>0,CHAR(233),CHAR(234)))","v":""},{"$f":"IF(OR($F$95=\"\",$F$95=0),0,IF($C$95=\"Pinned\",ABS($F$95),IF(AND($C$95=\"Gravity\",$B$95=\"Behind\",$F$95<0),ABS($F$95),IF(AND($C$95=\"Gravity\",$B$95=\"In front\",$F$95>0),ABS($F$95),0))))","v":0},{"$f":"IF($M$95=0,\"\",IF($M$95>=0,CHAR(232),CHAR(231)))","v":""},null,{"$f":"IF($G$95=0,0,$E$95)","v":0},{"$f":"IF($I$95=0,0,$F$95)","v":0},null,"Boulder 2",{"$f":"IF(OR($F$25=\"\",$C88=\"\"),\"\",$AE$49-(($C88*$M$19)*$M$17))","v":""},{"$f":"IF(OR($G$25=\"\",$C88=\"\"),\"\",IF($A88=\"Behind\",MIN($R95,$S95),IF($A88=\"Deadman\",(MIN($R95,$S95))-($F$22+1),$R95+$F$22)))","v":""},{"$f":"IF($P95=\"\",\"\",($AF$49+(($P95-$AE$49)*$AA$40))-($F$22/2))","v":""},{"$f":"IF($P95=\"\",\"\",IF($P95<$B$14,(($P95-$B$13)*$AB$31)+$C$13,IF($P95<$B$15,(($P95-$B$14)*$AB$32)+$C$14,IF($P95<$B$16,(($P95-$B$15)*$AB$33)+$C$15,IF($P95<$B$17,(($P95-$B$16)*$AB$34)+$C$16,IF($P95<$B$18,(($P95-$B$17)*$AB$35)+$C$17,IF($P95<$B$19,(($P95-$B$18)*$AB$36)+$C$18)))))))","v":""},{"$f":"IF($Q95=\"\",\"\",IF(($Q95+$B88-$AE$8)>=$B88,$B88,IF(($Q95+$B88)>$AE$8,($Q95+$B88)-$AE$8,0)))","v":""},{"$f":"IF($T95=\"\",\"\",IF($T95>=$B88,0,(PI()/3)*(($B88-$T95)^2)*((1.5*$B88)-($B88-$T95))))","v":""},{"$f":"IF($C88=\"\",\"\",IF($A88=\"Deadman\",0,IF($Q95>=$AE$8,PI()*(($B88/2)^2),((($B88/2)^2)*ACOS((($B88/2)-$T95)/($B88/2)))-((($B88/2)-$T95)*SQRT(2*($B88/2)*$T95-($T95^2))))))","v":""},{"$f":"IF($P95=\"\",\"\",IF(OR($C$19=\"\",$F$25=\"\",$G$25=\"\"),\"None\",IF($P95<$B$14,\"Left Floodplain\",IF($P95<$B$15,\"Left Bank\",IF($P95<$B$16,\"Left Stream Bed\",IF($P95<$B$17,\"Right Stream Bed\",IF($P95<$B$18,\"Right Bank\",\"Right Floodplain\")))))))","v":""},{"$f":"IF($Q95=\"\",\"\",IF(($Q95+$B88)<=$S95,$B88,IF($Q95>=$S95,0,$S95-$Q95)))","v":""},{"$f":"IF($C88=\"\",\"\",IF($A88=\"Deadman\",PI()*(($B88/2)^2),IF($Q95>$S95,0,((($B88/2)^2)*ACOS((($B88/2)-$X95)/($B88/2)))-((($B88/2)-$X95)*SQRT(2*($B88/2)*$X95-($X95^2))))))","v":""},{"$f":"IF($C88=\"\",\"\",IF(((PI()*(($B88/2)^2))-$V95-$Y95)<0,0,(PI()*(($B88/2)^2))-$V95-$Y95))","v":""},"Point 3",{"$f":"IF($AB$93=\"\",0,$AB$93-($B$87/2))","v":0},{"$f":"IF($AC$93=\"\",$C$13,$AC$93+($B$87/2))","v":99.18},{"$f":"IF($AD$93=\"\",0,$AD$93-($B$88/2))","v":0},{"$f":"IF($AE$93=\"\",$C$13,$AE$93+($B$88/2))","v":99.18},{"$f":"IF($AF$93=\"\",0,$AF$93-($B$89/2))","v":0},{"$f":"IF($AG$93=\"\",$C$13,$AG$93+($B$89/2))","v":99.18},null,50,8,"Left Bank",41.572521390327452,96.683181091594051,41.563015766581735,94.683257245465711,97.381682699268126,0,0.69850160767407488,0.69850160767407488,"",0.69850160767407488,0,2.6984254538024146,2.6984254538024146,0.16,0,0,0,0.22352051445570398,1.9999238461283397,0.17427785498542089,0,0,"","","","","","","",0.16,0,0.16,8,8]
[null,null,null,null,null,null,{"$f":"IF(OR($E$96=\"\",$E$96=0),0,IF($C$96=\"Pinned\",ABS($E$96),IF(AND($C$96=\"Gravity\",$B$96=\"Below\",$E$96>=0),ABS($E$96),IF(AND($C$96=\"Gravity\",$B$96=\"Above\",$E$96<=0),ABS($E$96),0))))","v":0},{"$f":"IF($L$96=0,\"\",IF($L$96>0,CHAR(233),CHAR(234)))","v":""},{"$f":"IF(OR($F$96=\"\",$F$96=0),0,IF($C$96=\"Pinned\",ABS($F$96),IF(AND($C$96=\"Gravity\",$B$96=\"Behind\",$F$96<0),ABS($F$96),IF(AND($C$96=\"Gravity\",$B$96=\"In front\",$F$96>0),ABS($F$96),0))))","v":0},{"$f":"IF($M$96=0,\"\",IF($M$96>=0,CHAR(232),CHAR(231)))","v":""},null,{"$f":"IF($G$96=0,0,$E$96)","v":0},{"$f":"IF($I$96=0,0,$F$96)","v":0},null,"Boulder 3",{"$f":"IF(OR($F$25=\"\",$C89=\"\"),\"\",$AE$49-(($C89*$M$19)*$M$17))","v":""},{"$f":"IF(OR($G$25=\"\",$C89=\"\"),\"\",IF($A89=\"Behind\",MIN($R96,$S96),IF($A89=\"Deadman\",(MIN($R96,$S96))-($F$22+1),$R96+$F$22)))","v":""},{"$f":"IF($P96=\"\",\"\",($AF$49+(($P96-$AE$49)*$AA$40))-($F$22/2))","v":""},{"$f":"IF($P96=\"\",\"\",IF($P96<$B$14,(($P96-$B$13)*$AB$31)+$C$13,IF($P96<$B$15,(($P96-$B$14)*$AB$32)+$C$14,IF($P96<$B$16,(($P96-$B$15)*$AB$33)+$C$15,IF($P96<$B$17,(($P96-$B$16)*$AB$34)+$C$16,IF($P96<$B$18,(($P96-$B$17)*$AB$35)+$C$17,IF($P96<$B$19,(($P96-$B$18)*$AB$36)+$C$18)))))))","v":""},{"$f":"IF($Q96=\"\",\"\",IF(($Q96+$B89-$AE$8)>=$B89,$B89,IF(($Q96+$B89)>$AE$8,($Q96+$B89)-$AE$8,0)))","v":""},{"$f":"IF($T96=\"\",\"\",IF($T96>=$B89,0,(PI()/3)*(($B89-$T96)^2)*((1.5*$B89)-($B89-$T96))))","v":""},{"$f":"IF($C89=\"\",\"\",IF($A89=\"Deadman\",0,IF($Q96>=$AE$8,PI()*(($B89/2)^2),((($B89/2)^2)*ACOS((($B89/2)-$T96)/($B89/2)))-((($B89/2)-$T96)*SQRT(2*($B89/2)*$T96-($T96^2))))))","v":""},{"$f":"IF($P96=\"\",\"\",IF(OR($C$19=\"\",$F$25=\"\",$G$25=\"\"),\"None\",IF($P96<$B$14,\"Left Floodplain\",IF($P96<$B$15,\"Left Bank\",IF($P96<$B$16,\"Left Stream Bed\",IF($P96<$B$17,\"Right Stream Bed\",IF($P96<$B$18,\"Right Bank\",\"Right Floodplain\")))))))","v":""},{"$f":"IF($Q96=\"\",\"\",IF(($Q96+$B89)<=$S96,$B89,IF($Q96>=$S96,0,$S96-$Q96)))","v":""},{"$f":"IF($C89=\"\",\"\",IF($A89=\"Deadman\",PI()*(($B89/2)^2),IF($Q96>$S96,0,((($B89/2)^2)*ACOS((($B89/2)-$X96)/($B89/2)))-((($B89/2)-$X96)*SQRT(2*($B89/2)*$X96-($X96^2))))))","v":""},{"$f":"IF($C89=\"\",\"\",IF(((PI()*(($B89/2)^2))-$V96-$Y96)<0,0,(PI()*(($B89/2)^2))-$V96-$Y96))","v":""},"Point 4",{"$f":"IF($AB$93=\"\",0,$AB$94)","v":0},{"$f":"IF($AC$97=\"\",$C$13,$AC$97-($B$87/25))","v":99.18},{"$f":"IF($AD$93=\"\",0,$AD$94)","v":0},{"$f":"IF($AE$97=\"\",$C$13,$AE$97-($B$88/25))","v":99.18},{"$f":"IF($AF$93=\"\",0,$AF$94)","v":0},{"$f":"IF($AG$97=\"\",$C$13,$AG$97-($B$89/25))","v":99.18},null,51,8.16,"Left Bank",41.659660317820162,96.681784845914308,41.650154694074445,94.681860999785968,97.369400259964394,0,0.68761541405008586,0.68761541405008586,"",0.68761541405008586,0,2.6875392601784256,2.6875392601784256,0.16,0,0,0,0.22003693249602749,1.9999238461283397,0.17427785498542089,0,0,"","","","","","","",0.16,0,0.16,8.16,8.16]
[null,null,null,null,null,null,{"$f":"IF(OR($E$97=\"\",$E$97=0),0,IF($C$97=\"Pinned\",ABS($E$97),IF(AND($C$97=\"Gravity\",$B$97=\"Below\",$E$97>=0),ABS($E$97),IF(AND($C$97=\"Gravity\",$B$97=\"Above\",$E$97<=0),ABS($E$97),0))))","v":0},{"$f":"IF($L$97=0,\"\",IF($L$97>0,CHAR(233),CHAR(234)))","v":""},{"$f":"IF(OR($F$97=\"\",$F$97=0),0,IF($C$97=\"Pinned\",ABS($F$97),IF(AND($C$97=\"Gravity\",$B$97=\"Behind\",$F$97<0),ABS($F$97),IF(AND($C$97=\"Gravity\",$B$97=\"In front\",$F$97>0),ABS($F$97),0))))","v":0},{"$f":"IF($M$97=0,\"\",IF($M$97>=0,CHAR(232),CHAR(231)))","v":""},null,{"$f":"IF($G$97=0,0,$E$97)","v":0},{"$f":"IF($I$97=0,0,$F$97)","v":0},null,null,null,null,null,null,null,null,null,null,null,null,null,"Point 5",{"$f":"IF($AB$93=\"\",0,$AB$93)","v":0},{"$f":"IF($AC$93=\"\",$C$13,$AC$93+$B$87)","v":99.18},{"$f":"IF($AD$93=\"\",0,$AD$93)","v":0},{"$f":"IF($AE$93=\"\",$C$13,$AE$93+$B$88)","v":99.18},{"$f":"IF($AF$93=\"\",0,$AF$93)","v":0},{"$f":"IF($AG$93=\"\",$C$13,$AG$93+$B$89)","v":99.18},null,52,8.32,"Left Bank",41.746799245312872,96.680388600234565,41.737293621567161,94.680464754106225,97.357117820660662,0,0.67672922042609684,0.67672922042609684,"",0.67672922042609684,0,2.6766530665544366,2.6766530665544366,0.16,0,0,0,0.216553350536351,1.9999238461283397,0.17427785498542089,0,0,"","","","","","","",0.16,0,0.16,8.32,8.32]
[null,null,null,null,null,null,{"$f":"IF(OR($E$98=\"\",$E$98=0),0,IF($C$98=\"Pinned\",ABS($E$98),IF(AND($C$98=\"Gravity\",$B$98=\"Below\",$E$98>=0),ABS($E$98),IF(AND($C$98=\"Gravity\",$B$98=\"Above\",$E$98<=0),ABS($E$98),0))))","v":0},{"$f":"IF($L$98=0,\"\",IF($L$98>0,CHAR(233),CHAR(234)))","v":""},{"$f":"IF(OR($F$98=\"\",$F$98=0),0,IF($C$98=\"Pinned\",ABS($F$98),IF(AND($C$98=\"Gravity\",$B$98=\"Behind\",$F$98<0),ABS($F$98),IF(AND($C$98=\"Gravity\",$B$98=\"In front\",$F$98>0),ABS($F$98),0))))","v":0},{"$f":"IF($M$98=0,\"\",IF($M$98>=0,CHAR(232),CHAR(231)))","v":""},null,{"$f":"IF($G$98=0,0,$E$98)","v":0},{"$f":"IF($I$98=0,0,$F$98)","v":0},null,null,"FD,r (lbf)","FL,r (lbf)",null,null,null,"Soil Anchor Zone Calculation",null,null,null,null,null,"Point 6",{"$f":"IF($AB$93=\"\",0,$AB$93+($B$87/4))","v":0},{"$f":"IF($AC$93=\"\",$C$13,$AC$96)","v":99.18},{"$f":"IF($AD$93=\"\",\"\",$AD$93+($B$88/4))","v":0},{"$f":"IF($AE$93=\"\",$C$13,$AE$96)","v":99.18},{"$f":"IF($AF$93=\"\",0,$AF$93+($B$89/4))","v":0},{"$f":"IF($AG$93=\"\",$C$13,$AG$96)","v":99.18},null,53,8.48,"Left Bank",41.833938172805588,96.678992354554822,41.824432549059871,94.679068508426482,97.34483538135693,0,0.66584302680210783,0.66584302680210783,"",0.66584302680210783,0,2.6657668729304476,2.6657668729304476,0.16,0,0,0,0.21306976857667451,1.9999238461283397,0.17427785498542089,0,0,"","","","","","","",0.16,0,0.16,8.48,8.48]
[null,null,null,null,null,null,null,null,null,null,null,{"$f":"$L$95+$L$96+$L$97+$L$98","v":0},{"$f":"$M$95+$M$96+$M$97+$M$98","v":0},null,"Boulder 1",{"$f":"IF(OR($F$25=\"\",$C87=\"\"),\"\",IF($A87=\"Behind\",0.5*CDrock*$Z94*SWWater*($J$6^2)/(2*g),CDrock*$Z94*SWWater*($J$6^2)/(2*g)))","v":""},{"$f":"IF(OR($F$25=\"\",$C87=\"\"),\"\",IF($A87=\"Behind\",0.5*CLrock*$Z94*SWWater*(($J$6^2)/(2*g)),CLrock*$Z94*SWWater*(($J$6^2)/(2*g))))","v":""},null,null,null,null,"xr,bot (ft)","Zone",null,null,null,"Point 7",{"$f":"IF($AB$93=\"\",0,$AB$93+($B$87/2))","v":0},{"$f":"IF($AC$93=\"\",$C$13,$AC$95)","v":99.18},{"$f":"IF($AD$93=\"\",0,$AD$93+($B$88/2))","v":0},{"$f":"IF($AE$93=\"\",$C$13,$AE$95)","v":99.18},{"$f":"IF($AF$93=\"\",\"\",$AF$93+($B$89/2))","v":0},{"$f":"IF($AG$93=\"\",$C$13,$AG$95)","v":99.18},null,54,8.64,"Left Bank",41.921077100298298,96.677596108875079,41.911571476552581,94.677672262746739,97.332552942053198,0,0.65495683317811881,0.65495683317811881,"",0.65495683317811881,0,2.6548806793064585,2.6548806793064585,0.16,0,0,0,0.20958618661699802,1.9999238461283397,0.17427785498542089,0,0,"","","","","","","",0.16,0,0.16,8.64,8.64]
[null,null,null,null,null,null,null,null,null,null,null,null,null,null,"Boulder 2",{"$f":"IF(OR($F$25=\"\",$C88=\"\"),\"\",IF($A88=\"Behind\",0.5*CDrock*$Z95*SWWater*($J$6^2)/(2*g),CDrock*$Z95*SWWater*($J$6^2)/(2*g)))","v":""},{"$f":"IF(OR($F$25=\"\",$C88=\"\"),\"\",IF($A88=\"Behind\",0.5*CLrock*$Z95*SWWater*(($J$6^2)/(2*g)),CLrock*$Z95*SWWater*(($J$6^2)/(2*g))))","v":""},null,null,null,"Anchor 1",{"$f":"IF(OR($F$25=\"\",$H83=\"\"),\"\",$AE$49-(($H83*$M$19)*$M$17))","v":""},{"$f":"IF($V100=\"\",\"\",IF(OR($C$19=\"\",$F$25=\"\",$G$25=\"\"),\"None\",IF($V100<$B$14,\"Bank\",IF($V100<$B$15,\"Bank\",IF($V100<$B$16,\"Bed\",IF($V100<$B$17,\"Bed\",IF($V100<$B$18,\"Bank\",\"Bank\")))))))","v":""},null,null,null,"Point 8",{"$f":"IF($AB$93=\"\",0,$AB$98)","v":0},{"$f":"IF($AC$93=\"\",$C$13,$AC$94)","v":99.18},{"$f":"IF($AD$93=\"\",0,$AD$98)","v":0},{"$f":"IF($AE$93=\"\",$C$13,$AE$94)","v":99.18},{"$f":"IF($AF$93=\"\",0,$AF$98)","v":0},{"$f":"IF($AG$93=\"\",$C$13,$AG$94)","v":99.18},null,55,8.8000000000000007,"Left Bank",42.008216027791008,96.676199863195336,41.998710404045291,94.676276017066996,97.320270502749452,0,0.64407063955411559,0.64407063955411559,"",0.64407063955411559,0,2.6439944856824553,2.6439944856824553,0.16,0,0,0,0.206102604657317,1.9999238461283397,0.17427785498542089,0,0,"","","","","","","",0.16,0,0.16,8.8000000000000007,8.8000000000000007]
[null,null,null,null,null,null,null,null,null,null,null,null,null,null,"Boulder 3",{"$f":"IF(OR($F$25=\"\",$C89=\"\"),\"\",IF($A89=\"Behind\",0.5*CDrock*$Z96*SWWater*($J$6^2)/(2*g),CDrock*$Z96*SWWater*($J$6^2)/(2*g)))","v":""},{"$f":"IF(OR($F$25=\"\",$C89=\"\"),\"\",IF($A89=\"Behind\",0.5*CLrock*$Z96*SWWater*(($J$6^2)/(2*g)),CLrock*$Z96*SWWater*(($J$6^2)/(2*g))))","v":""},null,null,null,"Anchor 2",{"$f":"IF(OR($F$25=\"\",$H84=\"\"),\"\",$AE$49-(($H84*$M$19)*$M$17))","v":""},{"$f":"IF($V101=\"\",\"\",IF(OR($C$19=\"\",$F$25=\"\",$G$25=\"\"),\"None\",IF($V101<$B$14,\"Bank\",IF($V101<$B$15,\"Bank\",IF($V101<$B$16,\"Bed\",IF($V101<$B$17,\"Bed\",IF($V101<$B$18,\"Bank\",\"Bank\")))))))","v":""},null,null,null,"Point 9",{"$f":"IF($AB$93=\"\",0,$AB$93)","v":0},{"$f":"IF($AC$93=\"\",$C$13,$AC$93)","v":99.18},{"$f":"IF($AD$93=\"\",0,$AD$93)","v":0},{"$f":"IF($AE$93=\"\",$C$13,$AE$93)","v":99.18},{"$f":"IF($AF$93=\"\",0,$AF$93)","v":0},{"$f":"IF($AG$93=\"\",$C$13,$AG$93)","v":99.18},null,56,8.9600000000000009,"Left Bank",42.095354955283717,96.674803617515593,42.085849331538,94.674879771387253,97.30798806344572,0,0.63318444593012657,0.63318444593012657,"",0.63318444593012657,0,2.6331082920584663,2.6331082920584663,0.16,0,0,0,0.20261902269764051,1.9999238461283397,0.17427785498542089,0,0,"","","","","","","",0.16,0,0.16,8.9600000000000009,8.9600000000000009]
[null,null,null,null,null,null,null,null,null,null,null,null,null,null,null,null,null,null,null,null,null,null,null,null,null,null,null,null,null,null,null,null,null,null,57,9.1199999999999992,"Left Bank",42.182493882776427,96.67340737183585,42.17298825903071,94.67348352570751,97.295705624141988,0,0.62229825230613756,0.62229825230613756,"",0.62229825230613756,0,2.6222220984344773,2.6222220984344773,0.16,0,0,0,0.19913544073796402,1.9999238461283397,0.17427785498542089,0,0,"","","","","","","",0.16,0,0.16,9.1199999999999992,9.1199999999999992]
[null,null,null,null,null,null,null,null,null,null,null,null,null,null,null,null,null,null,null,null,null,null,null,null,null,null,null,"Anchor #1",null,null,null,"Soil Ballast #1",null,null,58,9.2799999999999994,"Left Bank",42.269632810269137,96.672011126156107,42.26012718652342,94.672087280027768,97.283423184838256,0,0.61141205868214854,0.61141205868214854,"",0.61141205868214854,0,2.6113359048104883,2.6113359048104883,0.16,0,0,0,0.19565185877828753,1.9999238461283397,0.17427785498542089,0,0,"","","","","","","",0.16,0,0.16,9.2799999999999994,9.2799999999999994]
[null,null,null,null,null,null,null,null,null,null,null,null,null,null,null,null,null,null,null,null,null,null,null,null,null,null,null,"xTS (ft)","yTS (ft)",null,null,"xTS (ft)","yTS (ft)",null,59,9.44,"Left Bank",42.356771737761846,96.670614880476364,42.347266114016129,94.670691034348025,97.271140745534524,0,0.60052586505815952,0.60052586505815952,"",0.60052586505815952,0,2.6004497111864993,2.6004497111864993,0.16,0,0,0,0.19216827681861104,1.9999238461283397,0.17427785498542089,0,0,"","","","","","","",0.16,0,0.16,9.44,9.44]
[null,null,null,null,null,null,null,null,null,null,null,null,null,null,null,null,null,null,null,null,null,null,null,null,null,null,"Point 1",{"$f":"IF(OR($F$25=\"\",$H83=\"\"),0,$AE$49-(($H83*$M$19)*$M$17))","v":0},{"$f":"IF(OR($AB105=\"\",$AB$105=0),$C$13,($AF$49+(($AB105-$AE$49)*$AA$40))-($F$22/2))","v":99.18},null,"Point 1",{"$f":"IF(OR($F$25=\"\",$C83=\"\"),0,($AE$49-(($C83*$M$19)*$M$17))+(ABS(2*$M$17*$M$19)))","v":0},{"$f":"IF(OR($AF105=\"\",$AF$105=0),$C$13,($AF$49+(($AF105-$AE$49)*$AA$40))+($F$22/2))","v":99.18},null,60,9.6,"Left Bank",42.443910665254563,96.669218634796621,42.434405041508839,94.669294788668282,97.258858306230792,0,0.58963967143417051,0.58963967143417051,"",0.58963967143417051,0,2.5895635175625102,2.5895635175625102,0.16,0,0,0,0.18868469485893458,1.9999238461283397,0.17427785498542089,0,0,"","","","","","","",0.16,0,0.16,9.6,9.6]
[null,null,null,null,null,null,null,null,null,null,null,null,null,null,null,null,null,null,null,null,null,null,null,null,null,null,"Point 2",{"$f":"IF($AB105=\"\",0,$AB105)","v":0},{"$f":"IF(OR($AC105=\"\",$AB$105=0),$C$13,$AC105-4)","v":99.18},null,"Point 2",{"$f":"IF($AF105=\"\",0,$AF105)","v":0},{"$f":"IF(OR($AG105=\"\",$AF$105=0),$C$13,IF($AG$105>$AG$108,$AG105+2.25,$AG$108+2.25))","v":99.18},null,61,9.76,"Left Bank",42.531049592747266,96.667822389116878,42.521543969001556,94.667898542988539,97.246575866927046,0,0.57875347781016728,0.57875347781016728,"",0.57875347781016728,0,2.578677323938507,2.578677323938507,0.16,0,0,0,0.18520111289925353,1.9999238461283397,0.17427785498542089,0,0,"","","","","","","",0.16,0,0.16,9.76,9.76]
[null,null,null,null,null,null,null,null,null,null,null,null,null,null,null,null,null,null,null,null,null,null,null,null,null,null,null,null,null,null,"Point 3",{"$f":"IF(OR($F$25=\"\",$C83=\"\"),0,($AE$49-(($C83*$M$19)*$M$17))-(ABS(2*$M$17*$M$19)))","v":0},{"$f":"IF(OR($AG106=\"\",$AF$105=0),$C$13,$AG106)","v":99.18},null,62,9.92,"Left Bank",42.618188520239983,96.666426143437135,42.608682896494265,94.666502297308796,97.234293427623314,0,0.56786728418617827,0.56786728418617827,"",0.56786728418617827,0,2.567791130314518,2.567791130314518,0.16,0,0,0,0.18171753093957704,1.9999238461283397,0.17427785498542089,0,0,"","","","","","","",0.16,0,0.16,9.92,9.92]
[null,null,null,null,null,null,null,null,null,null,null,null,null,null,null,null,null,null,null,null,null,null,null,null,null,null,null,"Anchor #2",null,null,"Point 4",{"$f":"IF($AF105=\"\",0,$AF107)","v":0},{"$f":"IF(OR($AG105=\"\",$AF$105=0),$C$13,$AG105-((ABS($AF$105-$AF$108))*$AA$40))","v":99.18},null,63,10.08,"Left Bank",42.705327447732692,96.665029897757393,42.695821823986975,94.665106051629053,97.222010988319582,0,0.55698109056218925,0.55698109056218925,"",0.55698109056218925,0,2.556904936690529,2.556904936690529,0.16,0,0,0,0.17823394897990055,1.9999238461283397,0.17427785498542089,0,0,"","","","","","","",0.16,0,0.16,10.08,10.08]
[null,null,null,null,null,null,null,null,null,null,null,null,null,null,null,null,null,null,null,null,null,null,null,null,null,null,null,"xTS (ft)","yTS (ft)",null,null,null,null,null,64,10.24,{"$f":"IF(OR($C$19=\"\",$F$25=\"\",$G$25=\"\"),\"None\",IF(AL109<$B$14,\"Left Floodplain\",IF(AL109<$B$15,\"Left Bank\",IF(AL109<$B$16,\"Left Stream Bed\",IF(AL109<$B$17,\"Right Stream Bed\",IF(AL109<$B$18,\"Right Bank\",\"Right Floodplain\"))))))","v":"Left Bank"},42.792466375225402,96.66363365207765,42.782960751479685,94.66370980594931,97.20972854901585,{"$f":"IF(OR($AP109<$AE$12,$AP109<=$AM109),0,IF(OR($AP109>=$AE$12,$AM109>=$AE$12),$AP109-$AM109-$AR109,$AP109-$AE$12))","v":0},{"$f":"IF($AP109<=$AM109,0,IF($AM109>=$AE$12,0,IF($AP109<=$AE$12,$AP109-$AM109,$AE$12-$AM109)))","v":0.54609489693820024},0.54609489693820024,"",0.54609489693820024,0,{"$f":"IF($AP109<=$AO109,0,IF($AO109>=$AE$12,0,IF($AP109<=$AE$12,$AP109-$AO109,$AE$12-$AO109)))","v":2.54601874306654},{"$f":"IF(AP109<=AO109,0,AP109-AO109)","v":2.54601874306654},{"$f":"IF($AS109=0,0,IF(OR($AJ109=0,$AJ109=$E$22),$AJ$46/2,$AJ$46))","v":0.16},{"$f":"IF(OR($AK109=\"Left Stream Bed\",$AK109=\"Right Stream Bed\"),$F$22*$AQ109*$AY109,0)","v":0},{"$f":"IF(OR($AK109=\"Left Stream Bed\",$AK109=\"Right Stream Bed\"),$F$22*$AR109*$AY109,0)","v":0},{"$f":"IF(OR($AK109=\"Left Floodplain\",$AK109=\"Left Bank\",$AK109=\"Right Bank\",$AK109=\"Right Floodplain\"),$F$22*$AQ109*$AY109,0)","v":0},{"$f":"IF(OR($AK109=\"Left Floodplain\",$AK109=\"Left Bank\",$AK109=\"Right Bank\",$AK109=\"Right Floodplain\"),$F$22*$AR109*$AY109,0)","v":0.17475036702022409},{"$f":"AX109-AS109","v":1.9999238461283397},0.17427785498542089,0,{"$f":"IF(OR($AJ109=0,$AJ109=$E$22),($BF109*$AJ$46/2)*ABS($M$17),$BF109*$AJ$46*ABS($M$17))","v":0},{"$f":"IF(OR($AM109<$AP109,$AO109>$AE$8),\"\",IF(OR($AJ109=0,$AJ109=$E$22),$AJ$46/2,$AJ$46))","v":""},"","",{"$f":"IF($BJ109=\"\",\"\",IF(OR($BJ109>($F$22/2),$BJ109=0),0,0.45-($BJ109*0.45/($F$22/2))))","v":""},{"$f":"IF($BK109=\"\",\"\",IF($BK109>0,$AJ109,\"\"))","v":""},"","",{"$f":"IF($AO109=0,0,IF($AO109>$AP109,0,IF(OR($AJ109=0,$AJ109=$E$22),$AJ$46/2,$AJ$46)))","v":0.16},{"$f":"IF(AND($BO109>0,OR($AK109=\"Left Stream Bed\",$AK109=\"Right Stream Bed\")),$BO109,0)","v":0},{"$f":"IF(AND($BO109>0,OR($AK109=\"Left Floodplain\",$AK109=\"Left Bank\",$AK109=\"Right Bank\",$AK109=\"Right Floodplain\")),$BO109,0)","v":0.16},{"$f":"IF($BO109>0,$AJ109,\"\")","v":10.24},10.24]
[null,null,null,null,null,null,null,null,null,null,null,null,null,null,null,null,null,null,null,null,null,null,null,null,null,null,"Point 1",{"$f":"IF(OR($F$25=\"\",$H84=\"\"),0,$AE$49-(($H84*$M$19)*$M$17))","v":0},{"$f":"IF(OR($AB$110=0,$AB110=\"\"),$C$13,($AF$49+(($AB110-$AE$49)*$AA$40))-($F$22/2))","v":99.18},null,null,"Log Interactions",null,null,65,{"$f":"($AI110/$AI$245)*$AJ$245","v":10.4},"Left Bank",42.879605302718112,96.662237406397907,{"$f":"$AN$45+ABS(AJ110*$M$19*$M$17)","v":42.870099678972394},94.662313560269567,97.197446109712118,0,0.53520870331421122,{"$f":"IF(AP110<=AM110,0,AP110-AM110)","v":0.53520870331421122},{"$f":"IF(OR($AS110=\"\",$AS110=0),\"\",IF(OR($AK110=\"Left Stream Bed\",$AK110=\"Right Stream Bed\"),$AS110,\"\"))","v":""},{"$f":"IF(OR($AS110=\"\",$AS110=0),\"\",IF(OR($AK110=\"Left Floodplain\",$AK110=\"Left Bank\",$AK110=\"Right Bank\",$AK110=\"Right Floodplain\"),$AS110,\"\"))","v":0.53520870331421122},{"$f":"IF(OR($AP110<$AE$12,$AP110<=$AO110),0,IF($AO110>=$AE$12,$AP110-$AO110,$AP110-$AE$12))","v":0},2.535132549442551,2.535132549442551,0.16,0,0,0,0.1712667850605476,1.9999238461283397,{"$f":"$BD110*$AJ$46*ABS($M$17)","v":0.17427785498542089},{"$f":"AV110-AQ110","v":0},0,"",{"$f":"IF($BH110=\"\",\"\",IF($BH110>0,$AJ110,\"\"))","v":""},{"$f":"IF($BH110=\"\",\"\",IF(OR(($AO110-$AP110)<0,$AO$45>=$AE$8),0,($AO110-$AP110)))","v":""},"","",{"$f":"IF($BH110=\"\",\"\",IF(OR(($AM110-$AP110)<0,$AM110>=$AE$8),\"\",($AE$8-($AM110-(($F$22/2)/$M$19)))))","v":""},"",0.16,0,0.16,10.4,{"$f":"IF($AY110>0,$AJ110,\"\")","v":10.4}]
[null,null,null,null,null,null,null,null,null,null,null,null,null,null,null,null,null,null,null,null,null,null,null,null,null,null,"Point 2",{"$f":"IF($AB110=\"\",0,$AB110)","v":0},{"$f":"IF(OR($AB$110=0,$AC110=\"\"),$C$13,$AC110-4)","v":99.18},null,null,"xTS (ft)","yTS (ft)",null,66,10.56,"Left Bank",42.966744230210821,{"$f":"AM110+((AL111-AL110)*$AA$40)","v":96.660841160718164},42.957238606465104,{"$f":"AO110+((AN111-AN110)*$AA$40)","v":94.660917314589824},{"$f":"IF($AL111<$B$14,(($AL111-$B$13)*$AB$31)+$C$13,IF($AL111<$B$15,(($AL111-$B$14)*$AB$32)+$C$14,IF($AL111<$B$16,(($AL111-$B$15)*$AB$33)+$C$15,IF($AL111<$B$17,(($AL111-$B$16)*$AB$34)+$C$16,IF($AL111<$B$18,(($AL111-$B$17)*$AB$35)+$C$17,IF($AL111<$B$19,(($AL111-$B$18)*$AB$36)+$C$18))))))","v":97.185163670408386},0,0.5243225096902222,0.5243225096902222,"",0.5243225096902222,0,2.5242463558185619,2.5242463558185619,0.16,0,0,0,0.16778320310087111,1.9999238461283397,0.17427785498542089,0,0,"","","","","","",{"$f":"IF($BM111=\"\",\"\",(((PI()^2)/32)*($B$66^-6)*EXP(-($BM111/$F$22)/(2*($B$66^2)))))","v":""},0.16,0,0.16,10.56,10.56]
[null,null,null,null,null,null,null,null,null,null,null,null,null,null,null,null,null,null,null,null,null,null,null,null,null,null,null,null,null,null,"Point 1",{"$f":"IF(OR($F$25=\"\",$C90=\"\"),0,($AE$49-(($C90*$M$19)*$M$17))+(ABS(2*$M$17*$M$19)))","v":0},{"$f":"IF(OR($AF112=\"\",$AF$105=0),$C$13,($AF$49+(($AF112-$AE$49)*$AA$40))+($F$22/2))","v":99.18},null,67,10.72,"Left Bank",{"$f":"$AL$45+ABS(AJ112*$M$19*$M$17)","v":43.053883157703531},96.659444915038421,43.044377533957814,94.659521068910081,97.17288123110464,0,0.51343631606621898,0.51343631606621898,"",0.51343631606621898,0,2.5133601621945587,2.5133601621945587,0.16,0,0,0,0.16429962114119007,1.9999238461283397,0.17427785498542089,0,0,"","","","","","","",0.16,0,0.16,10.72,10.72]
[null,null,null,null,null,null,null,null,null,null,null,null,null,null,null,null,null,null,null,null,null,null,null,null,null,null,null,null,null,null,"Point 2",{"$f":"IF($AF112=\"\",0,$AF112)","v":0},{"$f":"IF(OR($AG112=\"\",$AF$105=0),$C$13,IF($AG$105>$AG$108,$AG112+2.25,$AG$108+2.25))","v":99.18},null,68,10.88,"Left Bank",43.141022085196241,96.658048669358678,43.131516461450531,94.658124823230338,97.160598791800908,0,0.50255012244222996,0.50255012244222996,"",0.50255012244222996,0,2.5024739685705697,2.5024739685705697,0.16,0,0,0,0.1608160391815136,1.9999238461283397,0.17427785498542089,0,0,"","","","","","","",0.16,0,0.16,10.88,10.88]
[null,null,null,null,null,null,null,null,null,null,null,null,null,null,null,null,null,null,null,null,null,null,null,null,null,null,null,null,null,null,"Point 3",{"$f":"IF(OR($F$25=\"\",$C90=\"\"),0,($AE$49-(($C90*$M$19)*$M$17))-(ABS(2*$M$17*$M$19)))","v":0},{"$f":"IF(OR($AG113=\"\",$AF$105=0),$C$13,$AG113)","v":99.18},null,69,11.04,"Left Bank",43.228161012688957,96.656652423678935,43.218655388943233,94.656728577550595,97.148316352497176,0,0.49166392881824095,0.49166392881824095,"",0.49166392881824095,0,2.4915877749465807,2.4915877749465807,0.16,0,0,0,0.15733245722183711,1.9999238461283397,0.17427785498542089,0,0,"","","","","","","",0.16,0,0.16,11.04,11.04]
[null,null,null,null,null,null,null,null,null,null,null,null,null,null,null,null,null,null,null,null,null,null,null,null,null,null,null,null,null,null,"Point 4",{"$f":"IF($AF112=\"\",0,$AF114)","v":0},{"$f":"IF(OR($AG112=\"\",$AF$105=0),$C$13,$AG112-((ABS($AF$105-$AF$108))*$AA$40))","v":99.18},null,70,11.2,"Left Bank",43.315299940181667,96.655256177999192,43.30579431643595,94.655332331870852,97.136033913193444,0,0.48077773519425193,0.48077773519425193,"",0.48077773519425193,0,2.4807015813225917,2.4807015813225917,0.16,0,0,0,0.15384887526216062,1.9999238461283397,0.17427785498542089,0,0,"","","","","","","",0.16,0,0.16,11.2,11.2]
[null,null,null,null,null,null,null,null,null,null,null,null,null,null,null,null,null,null,null,null,null,null,null,null,null,null,null,null,null,null,null,null,null,null,71,11.36,"Left Bank",43.402438867674377,96.653859932319449,43.39293324392866,94.653936086191109,97.123751473889712,0,0.46989154157026292,0.46989154157026292,"",0.46989154157026292,0,2.4698153876986026,2.4698153876986026,0.16,0,0,0,0.15036529330248413,1.9999238461283397,0.17427785498542089,0,0,"","","","","","","",0.16,0,0.16,11.36,11.36]
[null,null,null,null,null,null,null,null,null,null,null,null,null,null,null,null,null,null,null,null,null,null,null,null,null,null,null,null,null,null,null,null,null,null,72,11.52,"Left Bank",43.489577795167087,96.652463686639706,43.480072171421369,94.652539840511366,97.111469034585966,0,0.45900534794625969,0.45900534794625969,"",0.45900534794625969,0,2.4589291940745994,2.4589291940745994,0.16,0,0,0,0.14688171134280312,1.9999238461283397,0.17427785498542089,0,0,"","","","","","","",0.16,0,0.16,11.52,11.52]
[null,null,null,null,null,null,null,null,null,null,null,null,null,null,null,null,null,null,null,null,null,null,null,null,null,null,null,null,null,null,null,null,null,null,73,11.68,"Left Bank",43.576716722659796,96.651067440959963,43.567211098914079,94.651143594831623,97.099186595282234,0,0.44811915432227067,0.44811915432227067,"",0.44811915432227067,0,2.4480430004506104,2.4480430004506104,0.16,0,0,0,0.14339812938312663,1.9999238461283397,0.17427785498542089,0,0,"","","","","","","",0.16,0,0.16,11.68,11.68]
[null,null,null,null,null,null,null,null,null,null,null,null,null,null,null,null,null,null,null,null,null,null,null,null,null,null,null,null,null,null,null,null,null,null,74,11.84,"Left Bank",43.663855650152506,96.64967119528022,43.654350026406789,94.64974734915188,97.086904155978502,0,0.43723296069828166,0.43723296069828166,"",0.43723296069828166,0,2.4371568068266214,2.4371568068266214,0.16,0,0,0,0.13991454742345014,1.9999238461283397,0.17427785498542089,0,0,"","","","","","","",0.16,0,0.16,11.84,11.84]
[null,null,null,null,null,null,null,null,null,null,null,null,null,null,null,null,null,null,null,null,null,null,null,null,null,null,null,null,null,null,null,null,null,null,75,12,"Left Bank",43.750994577645216,96.648274949600477,43.741488953899498,94.648351103472137,97.07462171667477,0,0.42634676707429264,0.42634676707429264,"",0.42634676707429264,0,2.4262706132026324,2.4262706132026324,0.16,0,0,0,0.13643096546377365,1.9999238461283397,0.17427785498542089,0,0,"","","","","","","",0.16,0,0.16,12,12]
[null,null,null,null,null,null,null,null,null,null,null,null,null,null,null,null,null,null,null,null,null,null,null,null,null,null,null,null,null,null,null,null,null,null,76,12.16,"Left Bank",43.838133505137932,96.646878703920734,43.828627881392208,94.646954857792394,97.062339277371038,0,0.41546057345030363,0.41546057345030363,"",0.41546057345030363,0,2.4153844195786434,2.4153844195786434,0.16,0,0,0,0.13294738350409716,1.9999238461283397,0.17427785498542089,0,0,"","","","","","","",0.16,0,0.16,12.16,12.16]
[null,null,null,null,null,null,null,null,null,null,null,null,null,null,null,null,null,null,null,null,null,null,null,null,null,null,null,null,null,null,null,null,null,null,77,12.32,"Left Bank",43.925272432630635,96.645482458240991,43.915766808884925,94.645558612112652,97.050056838067306,0,0.40457437982631461,0.40457437982631461,"",0.40457437982631461,0,2.4044982259546543,2.4044982259546543,0.16,0,0,0,0.12946380154442066,1.9999238461283397,0.17427785498542089,0,0,"","","","","","","",0.16,0,0.16,12.32,12.32]
[null,null,null,null,null,null,null,null,null,null,null,null,null,null,null,null,null,null,null,null,null,null,null,null,null,null,null,null,null,null,null,null,null,null,78,12.48,"Left Bank",44.012411360123352,96.644086212561248,44.002905736377635,94.644162366432909,97.03777439876356,0,0.39368818620231139,0.39368818620231139,"",0.39368818620231139,0,2.3936120323306511,2.3936120323306511,0.16,0,0,0,0.12598021958473965,1.9999238461283397,0.17427785498542089,0,0,"","","","","","","",0.16,0,0.16,12.48,12.48]
[null,null,null,null,null,null,null,null,null,null,null,null,null,null,null,null,null,null,null,null,null,null,null,null,null,null,null,null,null,null,null,null,null,null,79,12.64,"Left Bank",44.099550287616061,96.642689966881505,44.090044663870344,94.642766120753166,97.025491959459828,0,0.38280199257832237,0.38280199257832237,"",0.38280199257832237,0,2.3827258387066621,2.3827258387066621,0.16,0,0,0,0.12249663762506316,1.9999238461283397,0.17427785498542089,0,0,"","","","","","","",0.16,0,0.16,12.64,12.64]
[null,null,null,null,null,null,null,null,null,null,null,null,null,null,null,null,null,null,null,null,null,null,null,null,null,null,null,null,null,null,null,null,null,null,80,12.8,"Left Bank",44.186689215108771,96.641293721201762,44.177183591363054,94.641369875073423,97.013209520156096,0,0.37191579895433335,0.37191579895433335,"",0.37191579895433335,0,2.3718396450826731,2.3718396450826731,0.16,0,0,0,0.11901305566538667,1.9999238461283397,0.17427785498542089,0,0,"","","","","","","",0.16,0,0.16,12.8,12.8]
[null,null,null,null,null,null,null,null,null,null,null,null,null,null,null,null,null,null,null,null,null,null,null,null,null,null,null,null,null,null,null,null,null,null,81,12.96,"Left Bank",44.273828142601481,96.639897475522019,44.264322518855764,94.63997362939368,97.000927080852364,0,0.36102960533034434,0.36102960533034434,"",0.36102960533034434,0,2.3609534514586841,2.3609534514586841,0.16,0,0,0,0.11552947370571019,1.9999238461283397,0.17427785498542089,0,0,"","","","","","","",0.16,0,0.16,12.96,12.96]
[null,null,null,null,null,null,null,null,null,null,null,null,null,null,null,null,null,null,null,null,null,null,null,null,null,null,null,null,null,null,null,null,null,null,82,13.12,"Left Bank",44.36096707009419,96.638501229842277,44.351461446348473,94.638577383713937,96.988644641548632,0,0.35014341170635532,0.35014341170635532,"",0.35014341170635532,0,2.3500672578346951,2.3500672578346951,0.16,0,0,0,0.1120458917460337,1.9999238461283397,0.17427785498542089,0,0,"","","","","","","",0.16,0,0.16,13.12,13.12]
[null,null,null,null,null,null,null,null,null,null,null,null,null,null,null,null,null,null,null,null,null,null,null,null,null,null,null,null,null,null,null,null,null,null,83,13.28,"Left Bank",44.4481059975869,96.637104984162534,44.438600373841183,94.637181138034194,96.9763622022449,0,0.33925721808236631,0.33925721808236631,"",0.33925721808236631,0,2.339181064210706,2.339181064210706,0.16,0,0,0,0.10856230978635723,1.9999238461283397,0.17427785498542089,0,0,"","","","","","","",0.16,0,0.16,13.28,13.28]
[null,null,null,null,null,null,null,null,null,null,null,null,null,null,null,null,null,null,null,null,null,null,null,null,null,null,null,null,null,null,null,null,null,null,84,13.44,"Left Bank",44.53524492507961,96.635708738482791,44.525739301333893,94.635784892354451,96.964079762941154,0,0.32837102445836308,0.32837102445836308,"",0.32837102445836308,0,2.3282948705867028,2.3282948705867028,0.16,0,0,0,0.10507872782667618,1.9999238461283397,0.17427785498542089,0,0,"","","","","","","",0.16,0,0.16,13.44,13.44]
[null,null,null,null,null,null,null,null,null,null,null,null,null,null,null,null,null,null,null,null,null,null,null,null,null,null,null,null,null,null,null,null,null,null,85,13.6,"Left Bank",44.622383852572327,96.634312492803048,44.612878228826602,94.634388646674708,96.951797323637422,0,0.31748483083437407,0.31748483083437407,"",0.31748483083437407,0,2.3174086769627138,2.3174086769627138,0.16,0,0,0,0.10159514586699971,1.9999238461283397,0.17427785498542089,0,0,"","","","","","","",0.16,0,0.16,13.6,13.6]
[null,null,null,null,null,null,null,null,null,null,null,null,null,null,null,null,null,null,null,null,null,null,null,null,null,null,null,null,null,null,null,null,null,null,86,13.76,"Left Bank",44.709522780065036,96.632916247123305,44.700017156319319,94.632992400994965,96.93951488433369,0,0.30659863721038505,0.30659863721038505,"",0.30659863721038505,0,2.3065224833387248,2.3065224833387248,0.16,0,0,0,9.8111563907323215E-2,1.9999238461283397,0.17427785498542089,0,0,"","","","","","","",0.16,0,0.16,13.76,13.76]
[null,null,null,null,null,null,null,null,null,null,null,null,null,null,null,null,null,null,null,null,null,null,null,null,null,null,null,null,null,null,null,null,null,null,87,13.92,"Left Bank",44.796661707557746,96.631520001443562,44.787156083812029,94.631596155315222,96.927232445029958,0,0.29571244358639603,0.29571244358639603,"",0.29571244358639603,0,2.2956362897147358,2.2956362897147358,0.16,0,0,0,9.4627981947646739E-2,1.9999238461283397,0.17427785498542089,0,0,"","","","","","","",0.16,0,0.16,13.92,13.92]
[null,null,null,null,null,null,null,null,null,null,null,null,null,null,null,null,null,null,null,null,null,null,null,null,null,null,null,null,null,null,null,null,null,null,88,14.08,"Left Bank",44.883800635050456,96.630123755763819,44.874295011304739,94.630199909635479,96.914950005726226,0,0.28482624996240702,0.28482624996240702,"",0.28482624996240702,0,2.2847500960907468,2.2847500960907468,0.16,0,0,0,9.1144399987970248E-2,1.9999238461283397,0.17427785498542089,0,0,"","","","","","","",0.16,0,0.16,14.08,14.08]
[null,null,null,null,null,null,null,null,null,null,null,null,null,null,null,null,null,null,null,null,null,null,null,null,null,null,null,null,null,null,null,null,null,null,89,14.24,"Left Bank",44.970939562543165,96.628727510084076,44.961433938797448,94.628803663955736,96.90266756642248,0,0.27394005633840379,0.27394005633840379,"",0.27394005633840379,0,2.2738639024667435,2.2738639024667435,0.16,0,0,0,8.766081802828922E-2,1.9999238461283397,0.17427785498542089,0,0,"","","","","","","",0.16,0,0.16,14.24,14.24]
[null,null,null,null,null,null,null,null,null,null,null,null,null,null,null,null,null,null,null,null,null,null,null,null,null,null,null,null,null,null,null,null,null,null,90,14.4,"Left Bank",45.058078490035875,96.627331264404333,45.048572866290158,94.627407418275993,96.890385127118748,0,0.26305386271441478,0.26305386271441478,"",0.26305386271441478,0,2.2629777088427545,2.2629777088427545,0.16,0,0,0,8.4177236068612729E-2,1.9999238461283397,0.17427785498542089,0,0,"","","","","","","",0.16,0,0.16,14.4,14.4]
[null,null,null,null,null,null,null,null,null,null,null,null,null,null,null,null,null,null,null,null,null,null,null,null,null,null,null,null,null,null,null,null,null,null,91,14.56,"Left Bank",45.145217417528585,96.62593501872459,45.135711793782868,94.62601117259625,96.878102687815016,0,0.25216766909042576,0.25216766909042576,"",0.25216766909042576,0,2.2520915152187655,2.2520915152187655,0.16,0,0,0,8.0693654108936239E-2,1.9999238461283397,0.17427785498542089,0,0,"","","","","","","",0.16,0,0.16,14.56,14.56]
[null,null,null,null,null,null,null,null,null,null,null,null,null,null,null,null,null,null,null,null,null,null,null,null,null,null,null,null,null,null,null,null,null,null,92,14.72,"Left Bank",45.232356345021302,96.624538773044847,45.222850721275577,94.624614926916507,96.865820248511284,0,0.24128147546643675,0.24128147546643675,"",0.24128147546643675,0,2.2412053215947765,2.2412053215947765,0.16,0,0,0,7.7210072149259762E-2,1.9999238461283397,0.17427785498542089,0,0,"","","","","","","",0.16,0,0.16,14.72,14.72]
[null,null,null,null,null,null,null,null,null,null,null,null,null,null,null,null,null,null,null,null,null,null,null,null,null,null,null,null,null,null,null,null,null,null,93,14.88,"Left Bank",45.319495272514004,96.623142527365104,45.309989648768294,94.623218681236764,96.853537809207552,0,0.23039528184244773,0.23039528184244773,"",0.23039528184244773,0,2.2303191279707875,2.2303191279707875,0.16,0,0,0,7.3726490189583271E-2,1.9999238461283397,0.17427785498542089,0,0,"","","","","","","",0.16,0,0.16,14.88,14.88]
[null,null,null,null,null,null,null,null,null,null,null,null,null,null,null,null,null,null,null,null,null,null,null,null,null,null,null,null,null,null,null,null,null,null,94,15.04,"Left Bank",45.406634200006721,96.621746281685361,45.397128576260997,94.621822435557021,96.84125536990382,0,0.21950908821845871,0.21950908821845871,"",0.21950908821845871,0,2.2194329343467984,2.2194329343467984,0.16,0,0,0,7.0242908229906795E-2,1.9999238461283397,0.17427785498542089,0,0,"","","","","","","",0.16,0,0.16,15.04,15.04]
[null,null,null,null,null,null,null,null,null,null,null,null,null,null,null,null,null,null,null,null,null,null,null,null,null,null,null,null,null,null,null,null,null,null,95,15.2,"Left Bank",45.493773127499431,96.620350036005618,45.484267503753713,94.620426189877278,96.828972930600074,0,0.20862289459445549,0.20862289459445549,"",0.20862289459445549,0,2.2085467407227952,2.2085467407227952,0.16,0,0,0,6.6759326270225752E-2,1.9999238461283397,0.17427785498542089,0,0,"","","","","","","",0.16,0,0.16,15.2,15.2]
[null,null,null,null,null,null,null,null,null,null,null,null,null,null,null,null,null,null,null,null,null,null,null,null,null,null,null,null,null,null,null,null,null,null,96,15.36,"Left Bank",45.58091205499214,96.618953790325875,45.571406431246423,94.619029944197536,96.816690491296342,0,0.19773670097046647,0.19773670097046647,"",0.19773670097046647,0,2.1976605470988062,2.1976605470988062,0.16,0,0,0,6.3275744310549276E-2,1.9999238461283397,0.17427785498542089,0,0,"","","","","","","",0.16,0,0.16,15.36,15.36]
[null,null,null,null,null,null,null,null,null,null,null,null,null,null,null,null,null,null,null,null,null,null,null,null,null,null,null,null,null,null,null,null,null,null,97,15.52,"Left Bank",45.66805098248485,96.617557544646132,45.658545358739133,94.617633698517793,96.80440805199261,0,0.18685050734647746,0.18685050734647746,"",0.18685050734647746,0,2.1867743534748172,2.1867743534748172,0.16,0,0,0,5.9792162350872785E-2,1.9999238461283397,0.17427785498542089,0,0,"","","","","","","",0.16,0,0.16,15.52,15.52]
[null,null,null,null,null,null,null,null,null,null,null,null,null,null,null,null,null,null,null,null,null,null,null,null,null,null,null,null,null,null,null,null,null,null,98,15.68,"Left Bank",45.75518990997756,96.616161298966389,45.745684286231842,94.61623745283805,96.792125612688878,0,0.17596431372248844,0.17596431372248844,"",0.17596431372248844,0,2.1758881598508282,2.1758881598508282,0.16,0,0,0,5.6308580391196301E-2,1.9999238461283397,0.17427785498542089,0,0,"","","","","","","",0.16,0,0.16,15.68,15.68]
[null,null,null,null,null,null,null,null,null,null,null,null,null,null,null,null,null,null,null,null,null,null,null,null,null,null,null,null,null,null,null,null,null,null,99,15.84,"Left Bank",45.842328837470269,96.614765053286646,45.832823213724552,94.614841207158307,96.779843173385146,0,0.16507812009849943,0.16507812009849943,"",0.16507812009849943,0,2.1650019662268392,2.1650019662268392,0.16,0,0,0,5.2824998431519818E-2,1.9999238461283397,0.17427785498542089,0,0,"","","","","","","",0.16,0,0.16,15.84,15.84]
[null,null,null,null,null,null,null,null,null,null,null,null,null,null,null,null,null,null,null,null,null,null,null,null,null,null,null,null,null,null,null,null,null,null,100,16,"Left Bank",45.929467764962979,96.613368807606903,45.919962141217262,94.613444961478564,96.767560734081414,0,0.15419192647451041,0.15419192647451041,"",0.15419192647451041,0,2.1541157726028501,2.1541157726028501,0.16,0,0,0,4.9341416471843334E-2,1.9999238461283397,0.17427785498542089,0,0,"","","","","","","",0.16,0,0.16,16,16]
[null,null,null,null,null,null,null,null,null,null,null,null,null,null,null,null,null,null,null,null,null,null,null,null,null,null,null,null,null,null,null,null,null,null,101,16.16,"Left Bank",46.016606692455696,96.611972561927161,46.007101068709972,94.612048715798821,96.755278294777668,0,0.14330573285050718,0.14330573285050718,"",0.14330573285050718,0,2.1432295789788469,2.1432295789788469,0.16,0,0,0,4.5857834512162299E-2,1.9999238461283397,0.17427785498542089,0,0,"","","","","","","",0.16,0,0.16,16.16,16.16]
[null,null,null,null,null,null,null,null,null,null,null,null,null,null,null,null,null,null,null,null,null,null,null,null,null,null,null,null,null,null,null,null,null,null,102,16.32,"Left Bank",46.103745619948398,96.610576316247418,46.094239996202688,94.610652470119078,96.742995855473936,0,0.13241953922651817,0.13241953922651817,"",0.13241953922651817,0,2.1323433853548579,2.1323433853548579,0.16,0,0,0,4.2374252552485815E-2,1.9999238461283397,0.17427785498542089,0,0,"","","","","","","",0.16,0,0.16,16.32,16.32]
[null,null,null,null,null,null,null,null,null,null,null,null,null,null,null,null,null,null,null,null,null,null,null,null,null,null,null,null,null,null,null,null,null,null,103,16.48,"Left Bank",46.190884547441115,96.609180070567675,46.181378923695398,94.609256224439335,96.730713416170204,0,0.12153334560252915,0.12153334560252915,"",0.12153334560252915,0,2.1214571917308689,2.1214571917308689,0.16,0,0,0,3.8890670592809332E-2,1.9999238461283397,0.17427785498542089,0,0,"","","","","","","",0.16,0,0.16,16.48,16.48]
[null,null,null,null,null,null,null,null,null,null,null,null,null,null,null,null,null,null,null,null,null,null,null,null,null,null,null,null,null,null,null,null,null,null,104,16.64,"Left Bank",46.278023474933825,96.607783824887932,46.268517851188108,94.607859978759592,96.718430976866472,0,0.11064715197854014,0.11064715197854014,"",0.11064715197854014,0,2.1105709981068799,2.1105709981068799,0.16,0,0,0,3.5407088633132848E-2,1.9999238461283397,0.17427785498542089,0,0,"","","","","","","",0.16,0,0.16,16.64,16.64]
[null,null,null,null,null,null,null,null,null,null,null,null,null,null,null,null,null,null,null,null,null,null,null,null,null,null,null,null,null,null,null,null,null,null,105,16.8,"Left Bank",46.365162402426535,96.606387579208189,46.355656778680817,94.606463733079849,96.70614853756274,0,9.9760958354551121E-2,9.9760958354551121E-2,"",9.9760958354551121E-2,0,2.0996848044828909,2.0996848044828909,0.16,0,0,0,3.1923506673456357E-2,1.9999238461283397,0.17427785498542089,0,0,"","","","","","","",0.16,0,0.16,16.8,16.8]
[null,null,null,null,null,null,null,null,null,null,null,null,null,null,null,null,null,null,null,null,null,null,null,null,null,null,null,null,null,null,null,null,null,null,106,16.96,"Left Bank",46.452301329919244,96.604991333528446,46.442795706173527,94.605067487400106,96.693866098258994,0,8.8874764730547895E-2,8.8874764730547895E-2,"",8.8874764730547895E-2,0,2.0887986108588876,2.0887986108588876,0.16,0,0,0,2.8439924713775325E-2,1.9999238461283397,0.17427785498542089,0,0,"","","","","","","",0.16,0,0.16,16.96,16.96]
[null,null,null,null,null,null,null,null,null,null,null,null,null,null,null,null,null,null,null,null,null,null,null,null,null,null,null,null,null,null,null,null,null,null,107,17.12,"Left Bank",46.539440257411954,96.603595087848703,46.529934633666237,94.603671241720363,96.681583658955262,0,7.7988571106558879E-2,7.7988571106558879E-2,"",7.7988571106558879E-2,0,2.0779124172348986,2.0779124172348986,0.16,0,0,0,2.4956342754098842E-2,1.9999238461283397,0.17427785498542089,0,0,"","","","","","","",0.16,0,0.16,17.12,17.12]
[null,null,null,null,null,null,null,null,null,null,null,null,null,null,null,null,null,null,null,null,null,null,null,null,null,null,null,null,null,null,null,null,null,null,108,17.28,"Left Bank",46.626579184904671,96.60219884216896,46.617073561158946,94.60227499604062,96.66930121965153,0,6.7102377482569864E-2,6.7102377482569864E-2,"",6.7102377482569864E-2,0,2.0670262236109096,2.0670262236109096,0.16,0,0,0,2.1472760794422358E-2,1.9999238461283397,0.17427785498542089,0,0,"","","","","","","",0.16,0,0.16,17.28,17.28]
[null,null,null,null,null,null,null,null,null,null,null,null,null,null,null,null,null,null,null,null,null,null,null,null,null,null,null,null,null,null,null,null,null,null,109,17.440000000000001,"Left Bank",46.71371811239738,96.600802596489217,46.704212488651663,94.600878750360877,96.657018780347798,0,5.6216183858580848E-2,5.6216183858580848E-2,"",5.6216183858580848E-2,0,2.0561400299869206,2.0561400299869206,0.16,0,0,0,1.7989178834745871E-2,1.9999238461283397,0.17427785498542089,0,0,"","","","","","","",0.16,0,0.16,17.440000000000001,17.440000000000001]
[null,null,null,null,null,null,null,null,null,null,null,null,null,null,null,null,null,null,null,null,null,null,null,null,null,null,null,null,null,null,null,null,null,null,110,17.600000000000001,"Left Bank",46.80085703989009,96.599406350809474,46.791351416144373,94.599482504681134,96.644736341044066,0,4.5329990234591833E-2,4.5329990234591833E-2,"",4.5329990234591833E-2,0,2.0452538363629316,2.0452538363629316,0.16,0,0,0,1.4505596875069388E-2,1.9999238461283397,0.17427785498542089,0,0,"","","","","","","",0.16,0,0.16,17.600000000000001,17.600000000000001]
[null,null,null,null,null,null,null,null,null,null,null,null,null,null,null,null,null,null,null,null,null,null,null,null,null,null,null,null,null,null,null,null,null,null,111,17.760000000000002,"Left Bank",46.8879959673828,96.598010105129731,46.878490343637083,94.598086259001391,96.632453901740334,0,3.4443796610602817E-2,3.4443796610602817E-2,"",3.4443796610602817E-2,0,2.0343676427389425,2.0343676427389425,0.16,0,0,0,1.1022014915392902E-2,1.9999238461283397,0.17427785498542089,0,0,"","","","","","","",0.16,0,0.16,17.760000000000002,17.760000000000002]
[null,null,null,null,null,null,null,null,null,null,null,null,null,null,null,null,null,null,null,null,null,null,null,null,null,null,null,null,null,null,null,null,null,null,112,17.920000000000002,"Left Bank",46.975134894875509,96.596613859449988,46.965629271129792,94.596690013321648,96.620171462436588,0,2.3557602986599591E-2,2.3557602986599591E-2,"",2.3557602986599591E-2,0,2.0234814491149393,2.0234814491149393,0.16,0,0,0,7.5384329557118693E-3,1.9999238461283397,0.17427785498542089,0,0,"","","","","","","",0.16,0,0.16,17.920000000000002,17.920000000000002]
[null,null,null,null,null,null,null,null,null,null,null,null,null,null,null,null,null,null,null,null,null,null,null,null,null,null,null,null,null,null,null,null,null,null,113,18.079999999999998,"Left Bank",47.062273822368219,96.595217613770245,47.052768198622502,94.595293767641905,96.607889023132856,0,1.2671409362610575E-2,1.2671409362610575E-2,"",1.2671409362610575E-2,0,2.0125952554909503,2.0125952554909503,0.16,0,0,0,4.054850996035384E-3,1.9999238461283397,0.17427785498542089,0,0,"","","","","","","",0.16,0,0.16,18.079999999999998,18.079999999999998]
[null,null,null,null,null,null,null,null,null,null,null,null,null,null,null,null,null,null,null,null,null,null,null,null,null,null,null,null,null,null,null,null,null,null,114,18.239999999999998,"Left Bank",47.149412749860929,96.593821368090502,47.139907126115212,94.593897521962163,96.595606583829124,0,1.7852157386215595E-3,1.7852157386215595E-3,"",1.7852157386215595E-3,0,2.0017090618669613,2.0017090618669613,0.16,0,0,0,5.7126903635889908E-4,1.9999238461283397,0.17427785498542089,0,0,"","","","","","","",0.16,0,0.16,18.239999999999998,18.239999999999998]
[null,null,null,null,null,null,null,null,null,null,null,null,null,null,null,null,null,null,null,null,null,null,null,null,null,null,null,null,null,null,null,null,null,null,115,18.399999999999999,"Left Bank",47.236551677353638,96.592425122410759,47.227046053607921,94.59250127628242,96.583324144525392,0,0,0,"","",0,1.9908228682429723,1.9908228682429723,0,0,0,0,0,1.9908228682429723,0.17348477533531215,0,0,0.16,18.399999999999999,0,0,"",5.657612955974983,0.11968223563946627,0.16,0,0.16,18.399999999999999,""]
[null,null,null,null,null,null,null,null,null,null,null,null,null,null,null,null,null,null,null,null,null,null,null,null,null,null,null,null,null,null,null,null,null,null,116,18.559999999999999,"Left Bank",47.323690604846348,96.591028876731016,47.314184981100631,94.591105030602677,96.57104170522166,0,0,0,"","",0,1.9799366746189833,1.9799366746189833,0,0,0,0,0,1.9799366746189833,0.17253612797685516,0,0,0.16,18.559999999999999,0,0,"",5.659009201654726,0.11955704584501542,0.16,0,0.16,18.559999999999999,""]
[null,null,null,null,null,null,null,null,null,null,null,null,null,null,null,null,null,null,null,null,null,null,null,null,null,null,null,null,null,null,null,null,null,null,117,18.72,"Left Bank",47.410829532339065,96.589632631051273,47.401323908593341,94.589708784922934,96.558759265917914,0,0,0,"","",0,1.96905048099498,1.96905048099498,0,0,0,0,0,1.96905048099498,0.17158748061839693,0,0,0.16,18.72,0,0,"",5.6604054473344689,0.11943198700136576,0.16,0,0.16,18.72,""]
[null,null,null,null,null,null,null,null,null,null,null,null,null,null,null,null,null,null,null,null,null,null,null,null,null,null,null,null,null,null,null,null,null,null,118,18.88,"Left Bank",47.497968459831768,96.58823638537153,47.488462836086057,94.588312539243191,96.546476826614182,0,0,0,"","",0,1.958164287370991,1.958164287370991,0,0,0,0,0,1.958164287370991,0.17063883325993995,0,0,0.16,18.88,0,0,"",5.6618016930142119,0.1193070589715402,0.16,0,0.16,18.88,""]
[null,null,null,null,null,null,null,null,null,null,null,null,null,null,null,null,null,null,null,null,null,null,null,null,null,null,null,null,null,null,null,null,null,null,119,19.04,"Left Bank",47.585107387324484,96.586840139691787,47.575601763578767,94.586916293563448,96.53419438731045,0,0,0,"","",0,1.947278093747002,1.947278093747002,0,0,0,0,0,1.947278093747002,0.16969018590148299,0,0,0.16,19.04,0,0,"",5.6631979386939548,0.11918226161870517,0.16,0,0.16,19.04,""]
[null,null,null,null,null,null,null,null,null,null,null,null,null,null,null,null,null,null,null,null,null,null,null,null,null,null,null,null,null,null,null,null,null,null,120,19.2,"Left Bank",47.672246314817194,96.585443894012045,47.662740691071477,94.585520047883705,96.521911948006718,0,0,0,"","",0,1.936391900123013,1.936391900123013,0,0,0,0,0,1.936391900123013,0.16874153854302601,0,0,0.16,19.2,0,0,"",5.6645941843736978,0.11905759480617017,0.16,0,0.16,19.2,""]
[null,null,null,null,null,null,null,null,null,null,null,null,null,null,null,null,null,null,null,null,null,null,null,null,null,null,null,null,null,null,null,null,null,null,121,19.36,"Left Bank",47.759385242309904,96.584047648332302,47.749879618564187,94.584123802203962,96.509629508702986,0,0,0,"","",0,1.925505706499024,1.925505706499024,0,0,0,0,0,1.925505706499024,0.16779289118456903,0,0,0.16,19.36,0,0,"",5.6659904300534407,0.1189330583973877,0.16,0,0.16,19.36,""]
[null,null,null,null,null,null,null,null,null,null,null,null,null,null,null,null,null,null,null,null,null,null,null,null,null,null,null,null,null,null,null,null,null,null,122,19.52,"Left Bank",47.846524169802613,96.582651402652559,47.837018546056896,94.582727556524219,96.497347069399254,0,0,0,"","",0,1.914619512875035,1.914619512875035,0,0,0,0,0,1.914619512875035,0.16684424382611204,0,0,0.16,19.52,0,0,"",5.6673866757331837,0.11880865225595313,0.16,0,0.16,19.52,""]
[null,null,null,null,null,null,null,null,null,null,null,null,null,null,null,null,null,null,null,null,null,null,null,null,null,null,null,null,null,null,null,null,null,null,123,19.68,"Left Bank",47.933663097295323,96.581255156972816,47.924157473549606,94.581331310844476,96.485064630095508,0,0,0,"","",0,1.9037333192510317,1.9037333192510317,0,0,0,0,0,1.9037333192510317,0.16589559646765381,0,0,0.16,19.68,0,0,"",5.6687829214129266,0.11868437624560428,0.16,0,0.16,19.68,""]
[null,null,null,null,null,null,null,null,null,null,null,null,null,null,null,null,null,null,null,null,null,null,null,null,null,null,null,null,null,null,null,null,null,null,124,19.84,"Left Bank",48.020802024788033,96.579858911293073,48.011296401042316,94.579935065164733,96.472782190791776,0,0,0,"","",0,1.8928471256270427,1.8928471256270427,0,0,0,0,0,1.8928471256270427,0.16494694910919686,0,0,0.16,19.84,0,0,"",5.6701791670926696,0.11856023023022172,0.16,0,0.16,19.84,""]
[null,null,null,null,null,null,null,null,null,null,null,null,null,null,null,null,null,null,null,null,null,null,null,null,null,null,null,null,null,null,null,null,null,null,125,20,"Left Bank",48.107940952280742,96.57846266561333,48.098435328535032,94.57853881948499,96.460499751488044,0,0,0,"","",0,1.8819609320030537,1.8819609320030537,0,0,0,0,0,1.8819609320030537,0.16399830175073987,0,0,0.16,20,0,0,"",5.6715754127724125,0.11843621407382839,0.16,0,0.16,20,""]
[null,null,null,null,null,null,null,null,null,null,null,null,null,null,null,null,null,null,null,null,null,null,null,null,null,null,null,null,null,null,null,null,null,null,126,20.16,"Left Bank",48.195079879773459,96.577066419933587,48.185574256027735,94.577142573805247,96.448217312184312,0,0,0,"","",0,1.8710747383790647,1.8710747383790647,0,0,0,0,0,1.8710747383790647,0.16304965439228289,0,0,0.16,20.16,0,0,"",5.6729716584521555,0.11831232764058942,0.16,0,0.16,20.16,""]
[null,null,null,null,null,null,null,null,null,null,null,null,null,null,null,null,null,null,null,null,null,null,null,null,null,null,null,null,null,null,null,null,null,null,127,20.32,"Left Bank",48.282218807266169,96.575670174253844,48.272713183520452,94.575746328125504,96.43593487288058,0,0,0,"","",0,1.8601885447550757,1.8601885447550757,0,0,0,0,0,1.8601885447550757,0.16210100703382591,0,0,0.16,20.32,0,0,"",5.6743679041318984,0.11818857079481211,0.16,0,0.16,20.32,""]
[null,null,null,null,null,null,null,null,null,null,null,null,null,null,null,null,null,null,null,null,null,null,null,null,null,null,null,null,null,null,null,null,null,null,128,20.48,{"$f":"IF(OR($C$19=\"\",$F$25=\"\",$G$25=\"\"),\"None\",IF(AL173<$B$14,\"Left Floodplain\",IF(AL173<$B$15,\"Left Bank\",IF(AL173<$B$16,\"Left Stream Bed\",IF(AL173<$B$17,\"Right Stream Bed\",IF(AL173<$B$18,\"Right Bank\",\"Right Floodplain\"))))))","v":"Left Bank"},48.369357734758879,96.574273928574101,48.359852111013161,94.574350082445761,96.423652433576848,{"$f":"IF(OR($AP173<$AE$12,$AP173<=$AM173),0,IF(OR($AP173>=$AE$12,$AM173>=$AE$12),$AP173-$AM173-$AR173,$AP173-$AE$12))","v":0},{"$f":"IF($AP173<=$AM173,0,IF($AM173>=$AE$12,0,IF($AP173<=$AE$12,$AP173-$AM173,$AE$12-$AM173)))","v":0},0,"","",0,{"$f":"IF($AP173<=$AO173,0,IF($AO173>=$AE$12,0,IF($AP173<=$AE$12,$AP173-$AO173,$AE$12-$AO173)))","v":1.8493023511310867},{"$f":"IF(AP173<=AO173,0,AP173-AO173)","v":1.8493023511310867},{"$f":"IF($AS173=0,0,IF(OR($AJ173=0,$AJ173=$E$22),$AJ$46/2,$AJ$46))","v":0},{"$f":"IF(OR($AK173=\"Left Stream Bed\",$AK173=\"Right Stream Bed\"),$F$22*$AQ173*$AY173,0)","v":0},{"$f":"IF(OR($AK173=\"Left Stream Bed\",$AK173=\"Right Stream Bed\"),$F$22*$AR173*$AY173,0)","v":0},{"$f":"IF(OR($AK173=\"Left Floodplain\",$AK173=\"Left Bank\",$AK173=\"Right Bank\",$AK173=\"Right Floodplain\"),$F$22*$AQ173*$AY173,0)","v":0},{"$f":"IF(OR($AK173=\"Left Floodplain\",$AK173=\"Left Bank\",$AK173=\"Right Bank\",$AK173=\"Right Floodplain\"),$F$22*$AR173*$AY173,0)","v":0},{"$f":"AX173-AS173","v":1.8493023511310867},0.16115235967536892,0,{"$f":"IF(OR($AJ173=0,$AJ173=$E$22),($BF173*$AJ$46/2)*ABS($M$17),$BF173*$AJ$46*ABS($M$17))","v":0},{"$f":"IF(OR($AM173<$AP173,$AO173>$AE$8),\"\",IF(OR($AJ173=0,$AJ173=$E$22),$AJ$46/2,$AJ$46))","v":0.16},20.48,0,{"$f":"IF($BJ173=\"\",\"\",IF(OR($BJ173>($F$22/2),$BJ173=0),0,0.45-($BJ173*0.45/($F$22/2))))","v":0},{"$f":"IF($BK173=\"\",\"\",IF($BK173>0,$AJ173,\"\"))","v":""},5.6757641498116413,0.11806494340094546,{"$f":"IF($AO173=0,0,IF($AO173>$AP173,0,IF(OR($AJ173=0,$AJ173=$E$22),$AJ$46/2,$AJ$46)))","v":0.16},{"$f":"IF(AND($BO173>0,OR($AK173=\"Left Stream Bed\",$AK173=\"Right Stream Bed\")),$BO173,0)","v":0},{"$f":"IF(AND($BO173>0,OR($AK173=\"Left Floodplain\",$AK173=\"Left Bank\",$AK173=\"Right Bank\",$AK173=\"Right Floodplain\")),$BO173,0)","v":0.16},{"$f":"IF($BO173>0,$AJ173,\"\")","v":20.48},""]
[null,null,null,null,null,null,null,null,null,null,null,null,null,null,null,null,null,null,null,null,null,null,null,null,null,null,null,null,null,null,null,null,null,null,129,{"$f":"($AI174/$AI$245)*$AJ$245","v":20.64},"Left Bank",48.456496662251588,96.572877682894358,{"$f":"$AN$45+ABS(AJ174*$M$19*$M$17)","v":48.446991038505871},94.572953836766018,96.411369994273102,0,0,{"$f":"IF(AP174<=AM174,0,AP174-AM174)","v":0},{"$f":"IF(OR($AS174=\"\",$AS174=0),\"\",IF(OR($AK174=\"Left Stream Bed\",$AK174=\"Right Stream Bed\"),$AS174,\"\"))","v":""},{"$f":"IF(OR($AS174=\"\",$AS174=0),\"\",IF(OR($AK174=\"Left Floodplain\",$AK174=\"Left Bank\",$AK174=\"Right Bank\",$AK174=\"Right Floodplain\"),$AS174,\"\"))","v":""},{"$f":"IF(OR($AP174<$AE$12,$AP174<=$AO174),0,IF($AO174>=$AE$12,$AP174-$AO174,$AP174-$AE$12))","v":0},1.8384161575070834,1.8384161575070834,0,0,0,0,0,1.8384161575070834,{"$f":"$BD174*$AJ$46*ABS($M$17)","v":0.16020371231691072},{"$f":"AV174-AQ174","v":0},0,0.16,{"$f":"IF($BH174=\"\",\"\",IF($BH174>0,$AJ174,\"\"))","v":20.64},{"$f":"IF($BH174=\"\",\"\",IF(OR(($AO174-$AP174)<0,$AO$45>=$AE$8),0,($AO174-$AP174)))","v":0},0,"",{"$f":"IF($BH174=\"\",\"\",IF(OR(($AM174-$AP174)<0,$AM174>=$AE$8),\"\",($AE$8-($AM174-(($F$22/2)/$M$19)))))","v":5.6771603954913843},0.11794144532358049,0.16,0,0.16,20.64,{"$f":"IF($AY174>0,$AJ174,\"\")","v":""}]
[null,null,null,null,null,null,null,null,null,null,null,null,null,null,null,null,null,null,null,null,null,null,null,null,null,null,null,null,null,null,null,null,null,null,130,20.8,"Left Bank",48.543635589744298,{"$f":"AM174+((AL175-AL174)*$AA$40)","v":96.571481437214615},48.534129965998581,{"$f":"AO174+((AN175-AN174)*$AA$40)","v":94.571557591086275},{"$f":"IF($AL175<$B$14,(($AL175-$B$13)*$AB$31)+$C$13,IF($AL175<$B$15,(($AL175-$B$14)*$AB$32)+$C$14,IF($AL175<$B$16,(($AL175-$B$15)*$AB$33)+$C$15,IF($AL175<$B$17,(($AL175-$B$16)*$AB$34)+$C$16,IF($AL175<$B$18,(($AL175-$B$17)*$AB$35)+$C$17,IF($AL175<$B$19,(($AL175-$B$18)*$AB$36)+$C$18))))))","v":96.39908755496937},0,0,0,"","",0,1.8275299638830944,1.8275299638830944,0,0,0,0,0,1.8275299638830944,0.15925506495845373,0,0,0.16,20.8,0,0,"",5.6785566411711272,{"$f":"IF($BM175=\"\",\"\",(((PI()^2)/32)*($B$66^-6)*EXP(-($BM175/$F$22)/(2*($B$66^2)))))","v":0.11781807642744978},0.16,0,0.16,20.8,""]
[null,null,null,null,null,null,null,null,null,null,null,null,null,null,null,null,null,null,null,null,null,null,null,null,null,null,null,null,null,null,null,null,null,null,131,20.96,"Left Bank",{"$f":"$AL$45+ABS(AJ176*$M$19*$M$17)","v":48.630774517237015},96.570085191534872,48.62126889349129,94.570161345406532,96.386805115665638,0,0,0,"","",0,1.8166437702591054,1.8166437702591054,0,0,0,0,0,1.8166437702591054,0.15830641759999678,0,0,0.16,20.96,0,0,"",5.6799528868508702,0.11769483657742753,0.16,0,0.16,20.96,""]
[null,null,null,null,null,null,null,null,null,null,null,null,null,null,null,null,null,null,null,null,null,null,null,null,null,null,null,null,null,null,null,null,null,null,132,21.12,"Left Bank",48.717913444729717,96.568688945855129,48.708407820984,94.568765099726789,96.374522676361906,0,0,0,"","",0,1.8057575766351164,1.8057575766351164,0,0,0,0,0,1.8057575766351164,0.1573577702415398,0,0,0.16,21.12,0,0,"",5.6813491325306131,0.11757172563852895,0.16,0,0.16,21.12,""]
[null,null,null,null,null,null,null,null,null,null,null,null,null,null,null,null,null,null,null,null,null,null,null,null,null,null,null,null,null,null,null,null,null,null,133,21.28,"Left Bank",48.805052372222434,96.567292700175386,48.79554674847671,94.567368854047047,96.362240237058174,0,0,0,"","",0,1.7948713830111274,1.7948713830111274,0,0,0,0,0,1.7948713830111274,0.15640912288308279,0,0,0.16,21.28,0,0,"",5.6827453782103561,0.11744874347591078,0.16,0,0.16,21.28,""]
[null,null,null,null,null,null,null,null,null,null,null,null,null,null,null,null,null,null,null,null,null,null,null,null,null,null,null,null,null,null,null,null,null,null,134,21.44,"Left Bank",48.892191299715137,96.565896454495643,48.882685675969427,94.565972608367304,96.349957797754442,0,0,0,"","",0,1.7839851893871383,1.7839851893871383,0,0,0,0,0,1.7839851893871383,0.15546047552462583,0,0,0.16,21.44,0,0,"",5.684141623890099,0.11732588995487067,0.16,0,0.16,21.44,""]
[null,null,null,null,null,null,null,null,null,null,null,null,null,null,null,null,null,null,null,null,null,null,null,null,null,null,null,null,null,null,null,null,null,null,135,21.6,"Left Bank",48.979330227207853,96.5645002088159,48.969824603462136,94.564576362687561,96.337675358450696,0,0,0,"","",0,1.7730989957631351,1.7730989957631351,0,0,0,0,0,1.7730989957631351,0.1545118281661676,0,0,0.16,21.6,0,0,"",5.685537869569842,0.1172031649408472,0.16,0,0.16,21.6,""]
[null,null,null,null,null,null,null,null,null,null,null,null,null,null,null,null,null,null,null,null,null,null,null,null,null,null,null,null,null,null,null,null,null,null,136,21.76,"Left Bank",49.066469154700563,96.563103963136157,49.056963530954846,94.563180117007818,96.325392919146964,0,0,0,"","",0,1.7622128021391461,1.7622128021391461,0,0,0,0,0,1.7622128021391461,0.15356318080771064,0,0,0.16,21.76,0,0,"",5.6869341152495849,0.11708056829941979,0.16,0,0.16,21.76,""]
[null,null,null,null,null,null,null,null,null,null,null,null,null,null,null,null,null,null,null,null,null,null,null,null,null,null,null,null,null,null,null,null,null,null,137,21.92,"Left Bank",49.153608082193273,96.561707717456414,49.144102458447556,94.561783871328075,96.313110479843232,0,0,0,"","",0,1.7513266085151571,1.7513266085151571,0,0,0,0,0,1.7513266085151571,0.15261453344925366,0,0,0.16,21.92,0,0,"",5.6883303609293279,0.11695809989630818,0.16,0,0.16,21.92,""]
[null,null,null,null,null,null,null,null,null,null,null,null,null,null,null,null,null,null,null,null,null,null,null,null,null,null,null,null,null,null,null,null,null,null,138,22.08,"Left Bank",49.240747009685983,96.560311471776672,49.231241385940265,94.560387625648332,96.3008280405395,0,0,0,"","",0,1.7404404148911681,1.7404404148911681,0,0,0,0,0,1.7404404148911681,0.15166588609079665,0,0,0.16,22.08,0,0,"",5.6897266066090708,0.11683575959737284,0.16,0,0.16,22.08,""]
[null,null,null,null,null,null,null,null,null,null,null,null,null,null,null,null,null,null,null,null,null,null,null,null,null,null,null,null,null,null,null,null,null,null,139,22.24,"Left Bank",49.327885937178692,96.558915226096929,49.318380313432975,94.558991379968589,96.288545601235768,0,0,0,"","",0,1.7295542212671791,1.7295542212671791,0,0,0,0,0,1.7295542212671791,0.15071723873233969,0,0,0.16,22.24,0,0,"",5.6911228522888138,0.11671354726861451,0.16,0,0.16,22.24,""]
[null,null,null,null,null,null,null,null,null,null,null,null,null,null,null,null,null,null,null,null,null,null,null,null,null,null,null,null,null,null,null,null,null,null,140,22.4,"Left Bank",49.415024864671402,96.557518980417186,49.405519240925685,94.557595134288846,96.276263161932022,0,0,0,"","",0,1.7186680276431758,1.7186680276431758,0,0,0,0,0,1.7186680276431758,0.14976859137388146,0,0,0.16,22.4,0,0,"",5.6925190979685567,0.11659146277617401,0.16,0,0.16,22.4,""]
[null,null,null,null,null,null,null,null,null,null,null,null,null,null,null,null,null,null,null,null,null,null,null,null,null,null,null,null,null,null,null,null,null,null,141,22.56,"Left Bank",49.502163792164112,96.556122734737443,49.492658168418401,94.556198888609103,96.26398072262829,0,0,0,"","",0,1.7077818340191868,1.7077818340191868,0,0,0,0,0,1.7077818340191868,0.1488199440154245,0,0,0.16,22.56,0,0,"",5.6939153436482997,0.11646950598633235,0.16,0,0.16,22.56,""]
[null,null,null,null,null,null,null,null,null,null,null,null,null,null,null,null,null,null,null,null,null,null,null,null,null,null,null,null,null,null,null,null,null,null,142,22.72,"Left Bank",49.589302719656828,96.5547264890577,49.579797095911104,94.55480264292936,96.251698283324558,0,0,0,"","",0,1.6968956403951978,1.6968956403951978,0,0,0,0,0,1.6968956403951978,0.14787129665696752,0,0,0.16,22.72,0,0,"",5.6953115893280426,0.1163476767655101,0.16,0,0.16,22.72,""]
[null,null,null,null,null,null,null,null,null,null,null,null,null,null,null,null,null,null,null,null,null,null,null,null,null,null,null,null,null,null,null,null,null,null,143,22.88,"Left Bank",49.676441647149531,96.553330243377957,49.666936023403821,94.553406397249617,96.239415844020826,0,0,0,"","",0,1.6860094467712088,1.6860094467712088,0,0,0,0,0,1.6860094467712088,0.14692264929851051,0,0,0.16,22.88,0,0,"",5.6967078350077855,0.11622597498026783,0.16,0,0.16,22.88,""]
[null,null,null,null,null,null,null,null,null,null,null,null,null,null,null,null,null,null,null,null,null,null,null,null,null,null,null,null,null,null,null,null,null,null,144,23.04,"Left Bank",49.763580574642248,96.551933997698214,49.754074950896531,94.552010151569874,96.227133404717094,0,0,0,"","",0,1.6751232531472198,1.6751232531472198,0,0,0,0,0,1.6751232531472198,0.14597400194005355,0,0,0.16,23.04,0,0,"",5.6981040806875285,0.11610440049730562,0.16,0,0.16,23.04,""]
[null,null,null,null,null,null,null,null,null,null,null,null,null,null,null,null,null,null,null,null,null,null,null,null,null,null,null,null,null,null,null,null,null,null,145,23.2,"Left Bank",49.850719502134957,96.550537752018471,49.84121387838924,94.550613905890131,96.214850965413362,0,0,0,"","",0,1.6642370595232308,1.6642370595232308,0,0,0,0,0,1.6642370595232308,0.14502535458159657,0,0,0.16,23.2,0,0,"",5.6995003263672714,0.11598295318346297,0.16,0,0.16,23.2,""]
[null,null,null,null,null,null,null,null,null,null,null,null,null,null,null,null,null,null,null,null,null,null,null,null,null,null,null,null,null,null,null,null,null,null,146,23.36,"Left Bank",49.937858429627667,96.549141506338728,49.92835280588195,94.549217660210388,96.202568526109616,0,0,0,"","",0,1.6533508658992275,1.6533508658992275,0,0,0,0,0,1.6533508658992275,0.14407670722313837,0,0,0.16,23.36,0,0,"",5.7008965720470144,0.11586163290571874,0.16,0,0.16,23.36,""]
[null,null,null,null,null,null,null,null,null,null,null,null,null,null,null,null,null,null,null,null,null,null,null,null,null,null,null,null,null,null,null,null,null,null,147,23.52,"Left Bank",50.024997357120377,96.547745260658985,50.01549173337466,94.547821414530645,96.190286086805884,0,0,0,"","",0,1.6424646722752385,1.6424646722752385,0,0,0,0,0,1.6424646722752385,0.14312805986468138,0,0,0.16,23.52,0,0,"",5.7022928177267573,0.1157404395311907,0.16,0,0.16,23.52,""]
[null,null,null,null,null,null,null,null,null,null,null,null,null,null,null,null,null,null,null,null,null,null,null,null,null,null,null,null,null,null,null,null,null,null,148,23.68,"Left Bank",50.112136284613086,96.546349014979242,50.102630660867369,94.546425168850902,96.178003647502152,0,0,0,"","",0,1.6315784786512495,1.6315784786512495,0,0,0,0,0,1.6315784786512495,0.1421794125062244,0,0,0.16,23.68,0,0,"",5.7036890634065003,0.11561937292713585,0.16,0,0.16,23.68,""]
[null,null,null,null,null,null,null,null,null,null,null,null,null,null,null,null,null,null,null,null,null,null,null,null,null,null,null,null,null,null,null,null,null,null,149,23.84,"Left Bank",50.199275212105803,96.544952769299499,50.189769588360079,94.545028923171159,96.16572120819842,0,0,0,"","",0,1.6206922850272605,1.6206922850272605,0,0,0,0,0,1.6206922850272605,0.14123076514776742,0,0,0.16,23.84,0,0,"",5.7050853090862432,0.11549843296095,0.16,0,0.16,23.84,""]
[null,null,null,null,null,null,null,null,null,null,null,null,null,null,null,null,null,null,null,null,null,null,null,null,null,null,null,null,null,null,null,null,null,null,150,24,"Left Bank",50.286414139598513,96.543556523619756,50.276908515852796,94.543632677491416,96.153438768894688,0,0,0,"","",0,1.6098060914032715,1.6098060914032715,0,0,0,0,0,1.6098060914032715,0.14028211778931043,0,0,0.16,24,0,0,"",5.7064815547659862,0.11537761950016773,0.16,0,0.16,24,""]
[null,null,null,null,null,null,null,null,null,null,null,null,null,null,null,null,null,null,null,null,null,null,null,null,null,null,null,null,null,null,null,null,null,null,151,24.16,"Left Bank",50.373553067091223,96.542160277940013,50.364047443345505,94.542236431811673,96.141156329590942,0,0,0,"","",0,1.5989198977792682,1.5989198977792682,0,0,0,0,0,1.5989198977792682,0.13933347043085223,0,0,0.16,24.16,0,0,"",5.7078778004457291,0.11525693241246183,0.16,0,0.16,24.16,""]
[null,null,null,null,null,null,null,null,null,null,null,null,null,null,null,null,null,null,null,null,null,null,null,null,null,null,null,null,null,null,null,null,null,null,152,24.32,"Left Bank",50.460691994583932,96.54076403226027,50.451186370838215,94.540840186131931,96.12887389028721,0,0,0,"","",0,1.5880337041552792,1.5880337041552792,0,0,0,0,0,1.5880337041552792,0.13838482307239525,0,0,0.16,24.32,0,0,"",5.7092740461254721,0.11513637156564396,0.16,0,0.16,24.32,""]
[null,null,null,null,null,null,null,null,null,null,null,null,null,null,null,null,null,null,null,null,null,null,null,null,null,null,null,null,null,null,null,null,null,null,153,24.48,"Left Bank",50.547830922076642,96.539367786580527,50.538325298330925,94.539443940452188,96.116591450983478,0,0,0,"","",0,1.5771475105312902,1.5771475105312902,0,0,0,0,0,1.5771475105312902,0.13743617571393826,0,0,0.16,24.48,0,0,"",5.710670291805215,0.1150159368276638,0.16,0,0.16,24.48,""]
[null,null,null,null,null,null,null,null,null,null,null,null,null,null,null,null,null,null,null,null,null,null,null,null,null,null,null,null,null,null,null,null,null,null,154,24.64,"Left Bank",50.634969849569352,96.537971540900784,50.625464225823634,94.538047694772445,96.104309011679746,0,0,0,"","",0,1.5662613169073012,1.5662613169073012,0,0,0,0,0,1.5662613169073012,0.13648752835548128,0,0,0.16,24.64,0,0,"",5.712066537484958,0.11489562806660919,0.16,0,0.16,24.64,""]
[null,null,null,null,null,null,null,null,null,null,null,null,null,null,null,null,null,null,null,null,null,null,null,null,null,null,null,null,null,null,null,null,null,null,155,24.8,"Left Bank",50.722108777062061,96.536575295221041,50.712603153316344,94.536651449092702,96.092026572376014,0,0,0,"","",0,1.5553751232833122,1.5553751232833122,0,0,0,0,0,1.5553751232833122,0.1355388809970243,0,0,0.16,24.8,0,0,"",5.7134627831647009,0.11477544515070615,0.16,0,0.16,24.8,""]
[null,null,null,null,null,null,null,null,null,null,null,null,null,null,null,null,null,null,null,null,null,null,null,null,null,null,null,null,null,null,null,null,null,null,156,24.96,"Left Bank",50.809247704554771,96.535179049541298,50.799742080809054,94.535255203412959,96.079744133072282,0,0,0,"","",0,1.5444889296593232,1.5444889296593232,0,0,0,0,0,1.5444889296593232,0.13459023363856734,0,0,0.16,24.96,0,0,"",5.7148590288444439,0.11465538794831807,0.16,0,0.16,24.96,""]
[null,null,null,null,null,null,null,null,null,null,null,null,null,null,null,null,null,null,null,null,null,null,null,null,null,null,null,null,null,null,null,null,null,null,157,25.12,"Left Bank",50.896386632047481,96.533782803861556,50.886881008301771,94.533858957733216,96.067461693768536,0,0,0,"","",0,1.5336027360353199,1.5336027360353199,0,0,0,0,0,1.5336027360353199,0.13364158628010911,0,0,0.16,25.12,0,0,"",5.7162552745241868,0.11453545632794651,0.16,0,0.16,25.12,""]
[null,null,null,null,null,null,null,null,null,null,null,null,null,null,null,null,null,null,null,null,null,null,null,null,null,null,null,null,null,null,null,null,null,null,158,25.28,"Left Bank",50.983525559540197,96.532386558181813,50.97401993579448,94.532462712053473,96.055179254464804,0,0,0,"","",0,1.5227165424113309,1.5227165424113309,0,0,0,0,0,1.5227165424113309,0.13269293892165213,0,0,0.16,25.28,0,0,"",5.7176515202039297,0.11441565015823035,0.16,0,0.16,25.28,""]
[null,null,null,null,null,null,null,null,null,null,null,null,null,null,null,null,null,null,null,null,null,null,null,null,null,null,null,null,null,null,null,null,null,null,159,25.44,"Left Bank",51.070664487032907,96.53099031250207,51.06115886328719,94.53106646637373,96.042896815161072,0,0,0,"","",0,1.5118303487873419,1.5118303487873419,0,0,0,0,0,1.5118303487873419,0.13174429156319517,0,0,0.16,25.44,0,0,"",5.7190477658836727,0.11429596930794596,0.16,0,0.16,25.44,""]
[null,null,null,null,null,null,null,null,null,null,null,null,null,null,null,null,null,null,null,null,null,null,null,null,null,null,null,null,null,null,null,null,null,null,160,25.6,"Left Bank",51.157803414525617,96.529594066822327,51.1482977907799,94.529670220693987,96.03061437585734,0,0,0,"","",0,1.5009441551633529,1.5009441551633529,0,0,0,0,0,1.5009441551633529,0.13079564420473819,0,0,0.16,25.6,0,0,"",5.7204440115634156,0.11417641364600699,0.16,0,0.16,25.6,""]
[null,null,null,null,null,null,null,null,null,null,null,null,null,null,null,null,null,null,null,null,null,null,null,null,null,null,null,null,null,null,null,null,null,null,161,25.76,"Left Bank",51.244942342018327,96.528197821142584,51.235436718272609,94.528273975014244,96.018331936553608,0,0,0,"","",0,1.4900579615393639,1.4900579615393639,0,0,0,0,0,1.4900579615393639,0.1298469968462812,0,0,0.16,25.76,0,0,"",5.7218402572431586,0.114056983041464,0.16,0,0.16,25.76,""]
[null,null,null,null,null,null,null,null,null,null,null,null,null,null,null,null,null,null,null,null,null,null,null,null,null,null,null,null,null,null,null,null,null,null,162,25.92,"Left Bank",51.332081269511036,96.526801575462841,51.322575645765319,94.526877729334501,96.006049497249876,0,0,0,"","",0,1.4791717679153749,1.4791717679153749,0,0,0,0,0,1.4791717679153749,0.12889834948782422,0,0,0.16,25.92,0,0,"",5.7232365029229015,0.11393767736350474,0.16,0,0.16,25.92,""]
[null,null,null,null,null,null,null,null,null,null,null,null,null,null,null,null,null,null,null,null,null,null,null,null,null,null,null,null,null,null,null,null,null,null,163,26.08,"Left Bank",51.419220197003746,96.525405329783098,51.409714573258029,94.525481483654758,95.99376705794613,0,0,0,"","",0,1.4682855742913716,1.4682855742913716,0,0,0,0,0,1.4682855742913716,0.12794970212936602,0,0,0.16,26.08,0,0,"",5.7246327486026445,0.11381849648145376,0.16,0,0.16,26.08,""]
[null,null,null,null,null,null,null,null,null,null,null,null,null,null,null,null,null,null,null,null,null,null,null,null,null,null,null,null,null,null,null,null,null,null,164,26.24,"Left Bank",51.506359124496456,96.524009084103355,51.496853500750738,94.524085237975015,95.981484618642398,0,0,0,"","",0,1.4573993806673826,1.4573993806673826,0,0,0,0,0,1.4573993806673826,0.12700105477090903,0,0,0.16,26.24,0,0,"",5.7260289942823874,0.11369944026477237,0.16,0,0.16,26.24,""]
[null,null,null,null,null,null,null,null,null,null,null,null,null,null,null,null,null,null,null,null,null,null,null,null,null,null,null,null,null,null,null,null,null,null,165,26.4,"Left Bank",51.593498051989165,96.522612838423612,51.583992428243448,94.522688992295272,95.969202179338666,0,0,0,"","",0,1.4465131870433936,1.4465131870433936,0,0,0,0,0,1.4465131870433936,0.12605240741245205,0,0,0.16,26.4,0,0,"",5.7274252399621304,0.1135805085830581,0.16,0,0.16,26.4,""]
[null,null,null,null,null,null,null,null,null,null,null,null,null,null,null,null,null,null,null,null,null,null,null,null,null,null,null,null,null,null,null,null,null,null,166,26.56,"Left Bank",51.680636979481875,96.521216592743869,51.671131355736165,94.521292746615529,95.956919740034934,0,0,0,"","",0,1.4356269934194046,1.4356269934194046,0,0,0,0,0,1.4356269934194046,0.12510376005399507,0,0,0.16,26.56,0,0,"",5.7288214856418733,0.11346170130604524,0.16,0,0.16,26.56,""]
[null,null,null,null,null,null,null,null,null,null,null,null,null,null,null,null,null,null,null,null,null,null,null,null,null,null,null,null,null,null,null,null,null,null,167,26.72,"Left Bank",51.767775906974592,96.519820347064126,51.758270283228867,94.519896500935786,95.944637300731202,0,0,0,"","",0,1.4247407997954156,1.4247407997954156,0,0,0,0,0,1.4247407997954156,0.12415511269553808,0,0,0.16,26.72,0,0,"",5.7302177313216163,0.11334301830360419,0.16,0,0.16,26.72,""]
[null,null,null,null,null,null,null,null,null,null,null,null,null,null,null,null,null,null,null,null,null,null,null,null,null,null,null,null,null,null,null,null,null,null,168,26.88,"Left Bank",51.854914834467301,96.518424101384383,51.845409210721584,94.518500255256043,95.932354861427456,0,0,0,"","",0,1.4138546061714123,1.4138546061714123,0,0,0,0,0,1.4138546061714123,0.12320646533707987,0,0,0.16,26.88,0,0,"",5.7316139770013592,0.11322445944574151,0.16,0,0.16,26.88,""]
[null,null,null,null,null,null,null,null,null,null,null,null,null,null,null,null,null,null,null,null,null,null,null,null,null,null,null,null,null,null,null,null,null,null,169,27.04,"Left Bank",51.942053761960011,96.51702785570464,51.932548138214294,94.5171040095763,95.920072422123724,0,0,0,"","",0,1.4029684125474233,1.4029684125474233,0,0,0,0,0,1.4029684125474233,0.1222578179786229,0,0,0.16,27.04,0,0,"",5.7330102226811022,0.1131060246025998,0.16,0,0.16,27.04,""]
[null,null,null,null,null,null,null,null,null,null,null,null,null,null,null,null,null,null,null,null,null,null,null,null,null,null,null,null,null,null,null,null,null,null,170,27.2,"Left Bank",52.029192689452721,96.515631610024897,52.019687065707004,94.515707763896557,95.907789982819992,0,0,0,"","",0,1.3920822189234343,1.3920822189234343,0,0,0,0,0,1.3920822189234343,0.12130917062016591,0,0,0.16,27.2,0,0,"",5.7344064683608451,0.11298771364445721,0.16,0,0.16,27.2,""]
[null,null,null,null,null,null,null,null,null,null,null,null,null,null,null,null,null,null,null,null,null,null,null,null,null,null,null,null,null,null,null,null,null,null,171,27.36,"Left Bank",52.11633161694543,96.514235364345154,52.106825993199713,94.514311518216815,95.89550754351626,0,0,0,"","",0,1.3811960252994453,1.3811960252994453,0,0,0,0,0,1.3811960252994453,0.12036052326170893,0,0,0.16,27.36,0,0,"",5.7358027140405881,0.11286952644172789,0.16,0,0.16,27.36,""]
[null,null,null,null,null,null,null,null,null,null,null,null,null,null,null,null,null,null,null,null,null,null,null,null,null,null,null,null,null,null,null,null,null,null,172,27.52,"Left Bank",52.20347054443814,96.512839118665411,52.193964920692423,94.512915272537072,95.883225104212528,0,0,0,"","",0,1.3703098316754563,1.3703098316754563,0,0,0,0,0,1.3703098316754563,0.11941187590325196,0,0,0.16,27.52,0,0,"",5.737198959720331,0.11275146286496139,0.16,0,0.16,27.52,""]
[null,null,null,null,null,null,null,null,null,null,null,null,null,null,null,null,null,null,null,null,null,null,null,null,null,null,null,null,null,null,null,null,null,null,173,27.68,"Left Bank",52.29060947193085,96.511442872985668,52.28110384818514,94.511519026857329,95.870942664908796,0,0,0,"","",0,1.3594236380514673,1.3594236380514673,0,0,0,0,0,1.3594236380514673,0.11846322854479498,0,0,0.16,27.68,0,0,"",5.738595205400074,0.11263352278484275,0.16,0,0.16,27.68,""]
[null,null,null,null,null,null,null,null,null,null,null,null,null,null,null,null,null,null,null,null,null,null,null,null,null,null,null,null,null,null,null,null,null,null,174,27.84,"Left Bank",52.377748399423567,96.510046627305925,52.368242775677842,94.510122781177586,95.85866022560505,0,0,0,"","",0,1.348537444427464,1.348537444427464,0,0,0,0,0,1.348537444427464,0.11751458118633676,0,0,0.16,27.84,0,0,"",5.7399914510798169,0.11251570607219229,0.16,0,0.16,27.84,""]
[null,null,null,null,null,null,null,null,null,null,null,null,null,null,null,null,null,null,null,null,null,null,null,null,null,null,null,null,null,null,null,null,null,null,175,28,"Left Bank",52.464887326916269,96.508650381626182,52.455381703170559,94.508726535497843,95.846377786301318,0,0,0,"","",0,1.337651250803475,1.337651250803475,0,0,0,0,0,1.337651250803475,0.11656593382787978,0,0,0.16,28,0,0,"",5.7413876967595598,0.11239801259796524,0.16,0,0.16,28,""]
[null,null,null,null,null,null,null,null,null,null,null,null,null,null,null,null,null,null,null,null,null,null,null,null,null,null,null,null,null,null,null,null,null,null,176,28.16,"Left Bank",52.552026254408986,96.50725413594644,52.542520630663269,94.5073302898181,95.834095346997586,0,0,0,"","",0,1.326765057179486,1.326765057179486,0,0,0,0,0,1.326765057179486,0.11561728646942281,0,0,0.16,28.16,0,0,"",5.7427839424393028,0.11228044223325202,0.16,0,0.16,28.16,""]
[null,null,null,null,null,null,null,null,null,null,null,null,null,null,null,null,null,null,null,null,null,null,null,null,null,null,null,null,null,null,null,null,null,null,177,28.32,"Left Bank",52.639165181901696,96.505857890266697,52.629659558155979,94.505934044138357,95.821812907693854,0,0,0,"","",0,1.315878863555497,1.315878863555497,0,0,0,0,0,1.315878863555497,0.11466863911096582,0,0,0.16,28.32,0,0,"",5.7441801881190457,0.11216299484927787,0.16,0,0.16,28.32,""]
[null,null,null,null,null,null,null,null,null,null,null,null,null,null,null,null,null,null,null,null,null,null,null,null,null,null,null,null,null,null,null,null,null,null,178,28.48,"Left Bank",52.726304109394405,96.504461644586954,52.716798485648688,94.504537798458614,95.809530468390122,0,0,0,"","",0,1.304992669931508,1.304992669931508,0,0,0,0,0,1.304992669931508,0.11371999175250884,0,0,0.16,28.48,0,0,"",5.7455764337987887,0.11204567031740272,0.16,0,0.16,28.48,""]
[null,null,null,null,null,null,null,null,null,null,null,null,null,null,null,null,null,null,null,null,null,null,null,null,null,null,null,null,null,null,null,null,null,null,179,28.64,"Left Bank",52.813443036887115,96.503065398907211,52.803937413141398,94.503141552778871,95.79724802908639,0,0,0,"","",0,1.294106476307519,1.294106476307519,0,0,0,0,0,1.294106476307519,0.11277134439405187,0,0,0.16,28.64,0,0,"",5.7469726794785316,0.11192846850912111,0.16,0,0.16,28.64,""]
[null,null,null,null,null,null,null,null,null,null,null,null,null,null,null,null,null,null,null,null,null,null,null,null,null,null,null,null,null,null,null,null,null,null,180,28.8,"Left Bank",52.900581964379825,96.501669153227468,52.891076340634108,94.501745307099128,95.784965589782644,0,0,0,"","",0,1.2832202826835157,1.2832202826835157,0,0,0,0,0,1.2832202826835157,0.11182269703559364,0,0,0.16,28.8,0,0,"",5.7483689251582746,0.11181138929606173,0.16,0,0.16,28.8,""]
[null,null,null,null,null,null,null,null,null,null,null,null,null,null,null,null,null,null,null,null,null,null,null,null,null,null,null,null,null,null,null,null,null,null,181,28.96,"Left Bank",52.987720891872542,96.500272907547725,52.978215268126817,94.500349061419385,95.772683150478912,0,0,0,"","",0,1.2723340890595267,1.2723340890595267,0,0,0,0,0,1.2723340890595267,0.11087404967713667,0,0,0.16,28.96,0,0,"",5.7497651708380175,0.11169443254998784,0.16,0,0.16,28.96,""]
[null,null,null,null,null,null,null,null,null,null,null,null,null,null,null,null,null,null,null,null,null,null,null,null,null,null,null,null,null,null,null,null,null,null,182,29.12,"Left Bank",53.074859819365251,96.498876661867982,53.065354195619534,94.498952815739642,95.76040071117518,0,0,0,"","",0,1.2614478954355377,1.2614478954355377,0,0,0,0,0,1.2614478954355377,0.1099254023186797,0,0,0.16,29.12,0,0,"",5.7511614165177605,0.11157759814279679,0.16,0,0.16,29.12,""]
[null,null,null,null,null,null,null,null,null,null,null,null,null,null,null,null,null,null,null,null,null,null,null,null,null,null,null,null,null,null,null,null,null,null,183,29.28,"Left Bank",53.161998746857961,96.497480416188239,53.152493123112244,94.497556570059899,95.748118271871448,0,0,0,"","",0,1.2505617018115487,1.2505617018115487,0,0,0,0,0,1.2505617018115487,0.1089767549602227,0,0,0.16,29.28,0,0,"",5.7525576621975034,0.11146088594651994,0.16,0,0.16,29.28,""]
[null,null,null,null,null,null,null,null,null,null,null,null,null,null,null,null,null,null,null,null,null,null,null,null,null,null,null,null,null,null,null,null,null,null,184,29.44,"Left Bank",53.249137674350671,96.496084170508496,53.239632050604953,94.496160324380156,95.735835832567716,0,0,0,"","",0,1.2396755081875597,1.2396755081875597,0,0,0,0,0,1.2396755081875597,0.10802810760176573,0,0,0.16,29.44,0,0,"",5.7539539078772464,0.11134429583332228,0.16,0,0.16,29.44,""]
[null,null,null,null,null,null,null,null,null,null,null,null,null,null,null,null,null,null,null,null,null,null,null,null,null,null,null,null,null,null,null,null,null,null,185,29.6,"Left Bank",53.33627660184338,96.494687924828753,53.326770978097663,94.494764078700413,95.72355339326397,0,0,0,"","",0,1.2287893145635564,1.2287893145635564,0,0,0,0,0,1.2287893145635564,0.10707946024330751,0,0,0.16,29.6,0,0,"",5.7553501535569893,0.11122782767550278,0.16,0,0.16,29.6,""]
[null,null,null,null,null,null,null,null,null,null,null,null,null,null,null,null,null,null,null,null,null,null,null,null,null,null,null,null,null,null,null,null,null,null,186,29.76,"Left Bank",53.42341552933609,96.49329167914901,53.413909905590373,94.49336783302067,95.711270953960238,0,0,0,"","",0,1.2179031209395674,1.2179031209395674,0,0,0,0,0,1.2179031209395674,0.10613081288485053,0,0,0.16,29.76,0,0,"",5.7567463992367323,0.11111148134549388,0.16,0,0.16,29.76,""]
[null,null,null,null,null,null,null,null,null,null,null,null,null,null,null,null,null,null,null,null,null,null,null,null,null,null,null,null,null,null,null,null,null,null,187,29.92,"Left Bank",53.5105544568288,96.491895433469267,53.501048833083082,94.491971587340927,95.698988514656506,0,0,0,"","",0,1.2070169273155784,1.2070169273155784,0,0,0,0,0,1.2070169273155784,0.10518216552639356,0,0,0.16,29.92,0,0,"",5.7581426449164752,0.1109952567158615,0.16,0,0.16,29.92,""]
[null,null,null,null,null,null,null,null,null,null,null,null,null,null,null,null,null,null,null,null,null,null,null,null,null,null,null,null,null,null,null,null,null,null,188,30.08,"Left Bank",53.597693384321509,96.490499187789524,53.588187760575792,94.490575341661184,95.686706075352774,0,0,0,"","",0,1.1961307336915894,1.1961307336915894,0,0,0,0,0,1.1961307336915894,0.10423351816793658,0,0,0.16,30.08,0,0,"",5.7595388905962182,0.11087915365930491,0.16,0,0.16,30.08,""]
[null,null,null,null,null,null,null,null,null,null,null,null,null,null,null,null,null,null,null,null,null,null,null,null,null,null,null,null,null,null,null,null,null,null,189,30.24,"Left Bank",53.684832311814219,96.489102942109781,53.675326688068509,94.489179095981441,95.674423636049042,0,0,0,"","",0,1.1852445400676004,1.1852445400676004,0,0,0,0,0,1.1852445400676004,0.1032848708094796,0,0,0.16,30.24,0,0,"",5.7609351362759611,0.11076317204865629,0.16,0,0.16,30.24,""]
[null,null,null,null,null,null,null,null,null,null,null,null,null,null,null,null,null,null,null,null,null,null,null,null,null,null,null,null,null,null,null,null,null,null,190,30.4,"Left Bank",53.771971239306936,96.487706696430038,53.762465615561212,94.487782850301699,95.66214119674531,0,0,0,"","",0,1.1743583464436114,1.1743583464436114,0,0,0,0,0,1.1743583464436114,0.10233622345102263,0,0,0.16,30.4,0,0,"",5.762331381955704,0.1106473117568811,0.16,0,0.16,30.4,""]
[null,null,null,null,null,null,null,null,null,null,null,null,null,null,null,null,null,null,null,null,null,null,null,null,null,null,null,null,null,null,null,null,null,null,191,30.56,"Left Bank",53.859110166799638,96.486310450750295,53.849604543053928,94.486386604621956,95.649858757441564,0,0,0,"","",0,1.1634721528196081,1.1634721528196081,0,0,0,0,0,1.1634721528196081,0.10138757609256439,0,0,0.16,30.56,0,0,"",5.763727627635447,0.1105315726570776,0.16,0,0.16,30.56,""]
[null,null,null,null,null,null,null,null,null,null,null,null,null,null,null,null,null,null,null,null,null,null,null,null,null,null,null,null,null,null,null,null,null,null,192,30.72,{"$f":"IF(OR($C$19=\"\",$F$25=\"\",$G$25=\"\"),\"None\",IF(AL237<$B$14,\"Left Floodplain\",IF(AL237<$B$15,\"Left Bank\",IF(AL237<$B$16,\"Left Stream Bed\",IF(AL237<$B$17,\"Right Stream Bed\",IF(AL237<$B$18,\"Right Bank\",\"Right Floodplain\"))))))","v":"Left Bank"},53.946249094292355,96.484914205070552,53.936743470546631,94.484990358942213,95.637576318137832,{"$f":"IF(OR($AP237<$AE$12,$AP237<=$AM237),0,IF(OR($AP237>=$AE$12,$AM237>=$AE$12),$AP237-$AM237-$AR237,$AP237-$AE$12))","v":0},{"$f":"IF($AP237<=$AM237,0,IF($AM237>=$AE$12,0,IF($AP237<=$AE$12,$AP237-$AM237,$AE$12-$AM237)))","v":0},0,"","",0,{"$f":"IF($AP237<=$AO237,0,IF($AO237>=$AE$12,0,IF($AP237<=$AE$12,$AP237-$AO237,$AE$12-$AO237)))","v":1.1525859591956191},{"$f":"IF(AP237<=AO237,0,AP237-AO237)","v":1.1525859591956191},{"$f":"IF($AS237=0,0,IF(OR($AJ237=0,$AJ237=$E$22),$AJ$46/2,$AJ$46))","v":0},{"$f":"IF(OR($AK237=\"Left Stream Bed\",$AK237=\"Right Stream Bed\"),$F$22*$AQ237*$AY237,0)","v":0},{"$f":"IF(OR($AK237=\"Left Stream Bed\",$AK237=\"Right Stream Bed\"),$F$22*$AR237*$AY237,0)","v":0},{"$f":"IF(OR($AK237=\"Left Floodplain\",$AK237=\"Left Bank\",$AK237=\"Right Bank\",$AK237=\"Right Floodplain\"),$F$22*$AQ237*$AY237,0)","v":0},{"$f":"IF(OR($AK237=\"Left Floodplain\",$AK237=\"Left Bank\",$AK237=\"Right Bank\",$AK237=\"Right Floodplain\"),$F$22*$AR237*$AY237,0)","v":0},{"$f":"AX237-AS237","v":1.1525859591956191},0.10043892873410742,0,{"$f":"IF(OR($AJ237=0,$AJ237=$E$22),($BF237*$AJ$46/2)*ABS($M$17),$BF237*$AJ$46*ABS($M$17))","v":0},{"$f":"IF(OR($AM237<$AP237,$AO237>$AE$8),\"\",IF(OR($AJ237=0,$AJ237=$E$22),$AJ$46/2,$AJ$46))","v":0.16},30.72,0,{"$f":"IF($BJ237=\"\",\"\",IF(OR($BJ237>($F$22/2),$BJ237=0),0,0.45-($BJ237*0.45/($F$22/2))))","v":0},{"$f":"IF($BK237=\"\",\"\",IF($BK237>0,$AJ237,\"\"))","v":""},5.7651238733151899,0.11041595462247675,{"$f":"IF($AO237=0,0,IF($AO237>$AP237,0,IF(OR($AJ237=0,$AJ237=$E$22),$AJ$46/2,$AJ$46)))","v":0.16},{"$f":"IF(AND($BO237>0,OR($AK237=\"Left Stream Bed\",$AK237=\"Right Stream Bed\")),$BO237,0)","v":0},{"$f":"IF(AND($BO237>0,OR($AK237=\"Left Floodplain\",$AK237=\"Left Bank\",$AK237=\"Right Bank\",$AK237=\"Right Floodplain\")),$BO237,0)","v":0.16},{"$f":"IF($BO237>0,$AJ237,\"\")","v":30.72},""]
[null,null,null,null,null,null,null,null,null,null,null,null,null,null,null,null,null,null,null,null,null,null,null,null,null,null,null,null,null,null,null,null,null,null,193,{"$f":"($AI238/$AI$245)*$AJ$245","v":30.88},"Left Stream Bed",54.033388021785065,96.483517959390809,{"$f":"$AN$45+ABS(AJ238*$M$19*$M$17)","v":54.023882398039348},94.48359411326247,95.62622047593392,0,0,{"$f":"IF(AP238<=AM238,0,AP238-AM238)","v":0},{"$f":"IF(OR($AS238=\"\",$AS238=0),\"\",IF(OR($AK238=\"Left Stream Bed\",$AK238=\"Right Stream Bed\"),$AS238,\"\"))","v":""},{"$f":"IF(OR($AS238=\"\",$AS238=0),\"\",IF(OR($AK238=\"Left Floodplain\",$AK238=\"Left Bank\",$AK238=\"Right Bank\",$AK238=\"Right Floodplain\"),$AS238,\"\"))","v":""},{"$f":"IF(OR($AP238<$AE$12,$AP238<=$AO238),0,IF($AO238>=$AE$12,$AP238-$AO238,$AP238-$AE$12))","v":0},1.1426263626714501,1.1426263626714501,0,0,0,0,0,1.1426263626714501,{"$f":"$BD238*$AJ$46*ABS($M$17)","v":9.9571027127697442E-2},{"$f":"AV238-AQ238","v":0},0,0.16,{"$f":"IF($BH238=\"\",\"\",IF($BH238>0,$AJ238,\"\"))","v":30.88},{"$f":"IF($BH238=\"\",\"\",IF(OR(($AO238-$AP238)<0,$AO$45>=$AE$8),0,($AO238-$AP238)))","v":0},0,"",{"$f":"IF($BH238=\"\",\"\",IF(OR(($AM238-$AP238)<0,$AM238>=$AE$8),\"\",($AE$8-($AM238-(($F$22/2)/$M$19)))))","v":5.7665201189949329},0.1103004575264423,0.16,0.16,0,30.88,{"$f":"IF($AY238>0,$AJ238,\"\")","v":""}]
[null,null,null,null,null,null,null,null,null,null,null,null,null,null,null,null,null,null,null,null,null,null,null,null,null,null,null,null,null,null,null,null,null,null,194,31.04,"Left Stream Bed",54.120526949277775,{"$f":"AM238+((AL239-AL238)*$AA$40)","v":96.482121713711066},54.111021325532057,{"$f":"AO238+((AN239-AN238)*$AA$40)","v":94.482197867582727},{"$f":"IF($AL239<$B$14,(($AL239-$B$13)*$AB$31)+$C$13,IF($AL239<$B$15,(($AL239-$B$14)*$AB$32)+$C$14,IF($AL239<$B$16,(($AL239-$B$15)*$AB$33)+$C$15,IF($AL239<$B$17,(($AL239-$B$16)*$AB$34)+$C$16,IF($AL239<$B$18,(($AL239-$B$17)*$AB$35)+$C$17,IF($AL239<$B$19,(($AL239-$B$18)*$AB$36)+$C$18))))))","v":95.616356349341757},0,0,0,"","",0,1.1341584817590302,1.1341584817590302,0,0,0,0,0,1.1341584817590302,9.8833116969495427E-2,0,0,0.16,31.04,0,0,"",5.7679163646746758,{"$f":"IF($BM239=\"\",\"\",(((PI()^2)/32)*($B$66^-6)*EXP(-($BM239/$F$22)/(2*($B$66^2)))))","v":0.11018508124247006},0.16,0.16,0,31.04,""]
[null,null,null,null,null,null,null,null,null,null,null,null,null,null,null,null,null,null,null,null,null,null,null,null,null,null,null,null,null,null,null,null,null,null,195,31.2,"Left Stream Bed",{"$f":"$AL$45+ABS(AJ240*$M$19*$M$17)","v":54.207665876770484},96.480725468031324,54.198160253024767,94.480801621902984,95.60649222274958,0,0,0,"","",0,1.1256906008465961,1.1256906008465961,0,0,0,0,0,1.1256906008465961,9.8095206811292177E-2,0,0,0.16,31.2,0,0,"",5.7693126103544188,0.11006982564418855,0.16,0.16,0,31.2,""]
[null,null,null,null,null,null,null,null,null,null,null,null,null,null,null,null,null,null,null,null,null,null,null,null,null,null,null,null,null,null,null,null,null,null,196,31.36,"Left Stream Bed",54.294804804263194,96.479329222351581,54.285299180517477,94.479405376223241,95.596628096157403,0,0,0,"","",0,1.117222719934162,1.117222719934162,0,0,0,0,0,1.117222719934162,9.7357296653088926E-2,0,0,0.16,31.36,0,0,"",5.7707088560341617,0.10995469060535833,0.16,0.16,0,31.36,""]
[null,null,null,null,null,null,null,null,null,null,null,null,null,null,null,null,null,null,null,null,null,null,null,null,null,null,null,null,null,null,null,null,null,null,197,31.52,"Left Stream Bed",54.381943731755911,96.477932976671838,54.372438108010186,94.478009130543498,95.586763969565226,0,0,0,"","",0,1.1087548390217279,1.1087548390217279,0,0,0,0,0,1.1087548390217279,9.6619386494885703E-2,0,0,0.16,31.52,0,0,"",5.7721051017139047,0.10983967599987213,0.16,0.16,0,31.52,""]
[null,null,null,null,null,null,null,null,null,null,null,null,null,null,null,null,null,null,null,null,null,null,null,null,null,null,null,null,null,null,null,null,null,null,198,31.68,"Left Stream Bed",54.469082659248613,96.476536730992095,54.459577035502903,94.476612884863755,95.576899842973049,0,0,0,"","",0,1.1002869581092938,1.1002869581092938,0,0,0,0,0,1.1002869581092938,9.5881476336682453E-2,0,0,0.16,31.68,0,0,"",5.7735013473936476,0.10972478170175427,0.16,0.16,0,31.68,""]
[null,null,null,null,null,null,null,null,null,null,null,null,null,null,null,null,null,null,null,null,null,null,null,null,null,null,null,null,null,null,null,null,null,null,199,{"$f":"($AI244/$AI$245)*$AJ$245","v":31.84},"Left Stream Bed",54.55622158674133,96.475140485312352,54.546715962995606,94.475216639184012,95.567035716380872,0,0,0,"","",0,1.0918190771968597,1.0918190771968597,0,0,0,0,0,1.0918190771968597,9.5143566178479202E-2,0,0,0.16,31.84,0,0,"",5.7748975930733906,0.10961000758516115,0.16,0.16,0,31.84,""]
[null,null,null,null,null,null,null,null,null,null,null,null,null,null,null,null,null,null,null,null,null,null,null,null,null,null,null,null,null,null,null,null,null,null,200,{"$f":"$E$22","v":32},"Left Stream Bed",54.643360514234033,96.473744239632609,54.633854890488323,94.473820393504269,95.557171589788709,0,0,0,"","",0,1.0833511962844398,1.0833511962844398,0,0,0,0,0,1.0833511962844398,9.4405656020277201E-2,0,0,0.08,32,0,0,"",5.7762938387531335,0.10949535352438074,0.08,0.08,0,32,""]

{"sheet":"Foot#1","index":9,"n_rows":245,"n_cols":72,"rows_kept":245,"cut":false,"hidden":false,"merged":[[107,27,107,28],[109,31,109,32],[90,29,90,30],[90,31,90,32],[91,0,91,9],[91,14,91,25],[97,20,97,22],[102,27,102,28],[102,31,102,32],[85,20,85,21],[86,20,86,21],[87,20,87,21],[90,1,90,2],[90,20,90,24],[90,27,90,28],[83,19,83,23],[83,25,84,25],[83,27,84,27],[83,28,83,31],[84,0,84,9],[84,20,84,21],[75,15,75,16],[77,3,77,4],[79,0,79,9],[80,0,80,4],[80,7,80,9],[83,18,84,18],[64,26,65,26],[66,10,69,10],[67,0,67,2],[67,3,67,5],[73,0,73,9],[74,0,74,2],[74,3,74,6],[74,7,74,9],[74,18,74,20],[74,22,74,30],[63,0,63,5],[64,7,64,9],[64,21,64,22],[64,23,65,23],[64,24,65,24],[64,25,65,25],[52,7,52,9],[54,18,54,22],[55,19,56,19],[55,20,55,23],[56,0,56,4],[62,0,62,9],[47,1,47,2],[48,0,48,9],[49,0,49,5],[49,7,49,8],[50,13,50,14],[51,13,51,14],[38,45,38,48],[41,34,41,38],[42,34,42,40],[42,41,42,49],[44,21,44,22],[44,23,45,23],[44,24,45,24],[44,25,45,25],[44,26,45,26],[44,29,44,31],[29,19,30,19],[29,20,29,23],[33,32,33,33],[33,43,33,44],[37,26,38,26],[37,27,38,27],[38,34,38,37],[26,1,26,2],[27,1,27,2],[27,32,27,33],[27,43,27,44],[28,1,28,2],[28,18,28,22],[22,10,23,10],[22,32,22,33],[22,43,22,44],[23,0,24,0],[23,3,23,4],[24,3,24,4],[16,18,16,20],[17,22,17,27],[17,32,17,33],[17,43,17,44],[20,0,20,2],[21,0,21,2],[10,28,10,30],[11,11,11,12],[11,13,11,16],[12,11,12,12],[12,13,12,16],[13,11,13,12],[13,13,13,16],[13,28,13,30],[7,22,7,24],[8,11,8,12],[8,13,8,16],[9,11,9,12],[9,13,9,16],[10,0,10,2],[10,11,10,12],[10,13,10,16],[6,11,6,12],[6,13,6,16],[7,0,8,0],[7,11,7,12],[7,13,7,16],[7,18,7,20],[0,8,1,9],[2,0,2,9],[4,1,4,2],[4,3,4,4],[4,11,4,12],[4,32,5,35],[4,43,5,46],[4,54,4,59],[4,60,4,63],[5,1,5,2],[5,3,5,4],[5,11,5,12],[5,13,5,16],[5,28,5,30],[5,54,5,55]]}
[{"$f":"'1-Cover'!A1","v":"Sample Multi-Log Structure"},null,null,null,null,null,null,null,"Spreadsheet developed by Michael Rafferty, P.E."]
[]
["Single Log Stability Analysis Model Inputs",null,null,null,null,null,null,null,null,null,"ERROR CHECKS"]
[]
["Site ID","Structure Type",null,"Structure Position",null,"Meander","Station","dw (ft)","Rc/WBF","udes (ft/s)",null,"Type Lookup Table",null,null,null,null,null,null,null,null,null,null,null,null,null,null,null,null,null,null,null,null,"Tilted Cylindrical (Stem) \"Below Water Surface\" Volume Calculation (Below High Flow)",null,null,null,null,null,null,null,null,null,null,"Tilted Cylindrical (Stem) Wet Volume Calculation (Below Channel Thalweg)",null,null,null,null,null,null,null,null,null,null,"Tilted Frustum (RW) Volume Calculation (Slice Method)",null,null,null,null,null,"A = R2 arccos [(R - h)/R] - [(R - h)*SQRT(2Rh - h2)]"]
["Sample1","Flow Deflection",null,"Left bank",null,"Outside",{"$f":"IF($A6=\"\",\"\",VLOOKUP($A6,SiteInfo,2,0))","v":1000},{"$f":"IF($A6=\"\",\"\",VLOOKUP($A6,SiteInfo,4,0))","v":8.4499999999999993},{"$f":"IF($A6=\"\",\"\",VLOOKUP($A6,SiteInfo,9,0))","v":5.3191489361702127},{"$f":"IF(OR($A$6=\"\",$F$6=\"\"),\"\",IF($F$6=\"Outside\",VLOOKUP($A$6,SiteInfo,10,0),VLOOKUP($A$6,SiteInfo,5,0)))","v":4.6327110774981861},{"$f":"IF($F$6=\"\",\"\",IF(AND($I$6<26,$F$6=\"Straight\"),\"CHECK - Structure is located on a meander (Rc/WBF < 26)\",\"\"))","v":""},"Structure Types",null,"Description",null,null,null,null,null,null,null,null,null,null,null,null,null,null,"Water Surface",null,null,null,null,null,null,null,null,null,null,null,null,null,null,null,null,null,null,null,null,null,null,null,null,null,"Slice thickness (ft) =",null,{"$f":"IF($G$22=\"\",\"\",$G$22/$BC$39)","v":0},"WSE (ft) =",{"$f":"IF($AE$8=\"\",\"\",$AE$8)","v":101.25},"RRW (ft) =",{"$f":"IF($H$22=\"\",\"\",$H$22/2)","v":0},"yRW,crown (ft) =",{"$f":"IF($U$10=\"\",\"\",$U$10)","v":94.599999944149459},"yRW,bot (ft) =",{"$f":"IF($U$15=\"\",\"\",$U$15)","v":92.099999944149459}]
[null,null,null,null,null,null,null,null,null,null,{"$f":"IF(OR($F$6=\"\",$I$6=\"\"),\"\",IF(AND($I$6>26,$F$6<>\"Straight\"),\"CHECK - Structure is not on a meander (Rc/WBF > 26)\",\"\"))","v":""},"Rootwad",null,"Logs buried in bank with rootwads protruding into channel",null,null,null,null,null,null,null,null,null,null,null,null,null,null,null,"x (ft)","y (ft)",null,null,"R = DTS/2",{"$f":"$F$22/2","v":1.25},"ft",null,null,null,null,null,null,null,null,"R = DTS/2",{"$f":"$F$22/2","v":1.25},"ft",null,null,null,null,null,null,null,null,null,null,"Thalweg Elevation (ft) =",{"$f":"$C$16","v":92.8},"RTS (ft) =",{"$f":"IF($F$22=\"\",\"\",$F$22/2)","v":1.25},"yRC,crown (ft) =",{"$f":"IF($U$11=\"\",\"\",$U$11)","v":94.599999944149459},"yRC,bot (ft) =",{"$f":"IF($U$14=\"\",\"\",$U$14)","v":92.099999944149459}]
["Multi-Log Structures","Layer","Log ID",null,null,null,null,null,null,null,null,"Log Vane",null,"Logs protruding from bank and angled either up- or downstream",null,null,null,null,"Large Wood Coordinates",null,null,null,null,null,null,null,null,null,"WSE",{"$f":"IF(OR($A$6=\"\",$C$16=\"\"),0,IF(($H$6+$C$16)>=$C$13,$B$13,IF(AND(($H$6+$C$16)<$C$13,($H$6+$C$16)>=$C$14),((($C$13-($H$6+$C$16))/($C$13-$C$14))*($B$14-$B$13))+$B$13,IF(AND(($H$6+$C$16)<$C$14,($H$6+$C$16)>=$C$15),((($C$14-($H$6+$C$16))/($C$14-$C$15))*($B$15-$B$14))+$B$14,IF(AND(($H$6+$C$16)<$C$15,($H$6+$C$16)>=$C$16),((($C$15-($H$6+$C$16))/($C$15-$C$16))*($B$16-$B$15))+$B$15,\"\")))))","v":0},{"$f":"IF(OR($A$6=\"\",$C$16=\"\"),$C$13,$H$6+$C$16)","v":101.25},null,null,"b (rad)",{"$f":"ABS($C$25)*PI()/180","v":1.7453292519943295E-9},"rad",null,null,null,null,null,null,null,null,"b (rad)",{"$f":"ABS($C$25)*PI()/180","v":1.7453292519943295E-9},"rad"]
[null,"Footer","Foot#1",null,null,null,null,null,null,null,null,"Log Weir",null,"Weirs spanning small streams comprised of one or more large logs",null,null,null,null,null,"x (ft)","y (ft)",null,"Large wood check","x (ft)",null,"y (ft)",null,null,"WSE",{"$f":"IF(OR($A$6=\"\",$C$16=\"\"),0,IF(($H$6+$C$16)>=$C$19,$B$19,IF(AND(($H$6+$C$16)<$C$19,($H$6+$C$16)>=$C$18),(((($H$6+$C$16)-$C$18)/($C$19-$C$18))*($B$19-$B$18))+$B$18,IF(AND(($H$6+$C$16)<$C$18,($H$6+$C$16)>=$C$17),(((($H$6+$C$16)-$C$17)/($C$18-$C$17))*($B$18-$B$17))+$B$17,IF(AND(($H$6+$C$16)<$C$17,($H$6+$C$16)>=$C$16),(((($H$6+$C$16)-$C$16)/($C$17-$C$16))*($B$17-$B$16))+$B$16,\"\")))))","v":150},{"$f":"IF(OR($A$6=\"\",$C$16=\"\"),$C$13,$H$6+$C$16)","v":101.25},null,null,"dwet,max",{"$f":"IF($AB$23>$AB$24,$AB$23,IF($AB$23<$AB$24,$AB$24,\"\"))","v":9.1500000558505405},"ft",null,null,null,null,null,null,null,null,"dwet,max",{"$f":"IF($Z$23>$Z$24,$Z$23,IF($Z$23<$Z$24,$Z$24,\"\"))","v":0.70000005585053771},"ft",null,null,null,null,null,null,null,"Slice #","xRW,avg (ft)","RRW,slice (ft)","Aslice,avg (ft)","Vslice (ft3)","ycrown,avg (ft)","ybot,avg (ft)","hRW,cr,↑WSE (ft)","ARW,↑WSE (ft2)","VRW,↑WSE (ft3)","hRW,bot,↓thw (ft)","ARW,↓thw (ft2)","VRW,↓thw (ft3)"]
[null,null,null,null,null,null,null,null,null,null,{"$f":"IF(OR($C$14=\"\",$C$15=\"\"),\"\",IF($C$15>=$C$14,\"ERROR - LB top elevation must be > LB toe elevation\",\"\"))","v":""},"Tree Revetment",null,"Row of logs secured along the bank and placed parallel to flow",null,null,null,"Pt 1","Rootwad: Crown",{"$f":"IF($F$25=\"\",0,IF($D$25=\"Rootwad: Crown\",$F$25,IF($D$22=\"No\",$T$15+(($F$22*-$M$20)*$M$17),$T$15+(($H$22*-$M$20)*$M$17))))","v":43.220871924076135},{"$f":"IF($G$25=\"\",$C$13,IF($D$25=\"Rootwad: Crown\",$G$25,IF($D$22=\"No\",$U$15+($F$22*$M$19),$U$15+($H$22*$M$19))))","v":94.599999944149459},null,"Rootwad: Crown",{"$f":"IF($D$22=\"No\",$T$15+(($F$22*-$M$20)*$M$17),$T$15+(($H$22*-$M$20)*$M$17))","v":43.220871924076135},{"$f":"IF(X10=T10,\"OK\",\"ERROR\")","v":"OK"},{"$f":"IF($D$22=\"No\",$U$15+($F$22*$M$19),$U$15+($H$22*$M$19))","v":94.599999944149459},{"$f":"IF(Z10=U10,\"OK\",\"ERROR\")","v":"OK"},null,null,null,null,null,null,"dwet,avgH",{"$f":"IF(AND($AB$23>0,$AB$24>0),(($AB$23/COS($AI$8))+($AB$24/COS($AI$8)))/2,\"\")","v":9.1500000279252731},"ft",null,null,null,null,null,null,null,null,"dwet,avgH",{"$f":"IF(AND($Z$23>0,$Z$24>0),(($Z$23/COS($AT$8))+($Z$24/COS($AT$8)))/2,\"\")","v":0.70000002792527027},"ft",null,null,null,null,null,null,null,1,{"$f":"($BE$6/2)+(($BC10-1)*$BE$6)","v":0},{"$f":"(($G$22-$BD10)/$G$22)*($BI$6-$BI$7)+$BI$7","v":{"$error":"#DIV/0!"}},{"$f":"PI()*($BE10^2)","v":{"$error":"#DIV/0!"}},{"$f":"$BF10*$BE$6","v":{"$error":"#DIV/0!"}},{"$f":"(($G$22-$BD10)/$G$22)*($BK$6-$BK$7)+$BK$7","v":{"$error":"#DIV/0!"}},{"$f":"(($G$22-$BD10)/$G$22)*($BM$6-$BM$7)+$BM$7","v":{"$error":"#DIV/0!"}},{"$f":"IF($BH10<=$BG$6,0,IF((($BH10-$BG$6)*$M$19)>=($BE10*2),$BE10*2,($BH10-$BG$6)*$M$19))","v":{"$error":"#DIV/0!"}},{"$f":"(($BE10^2)*ACOS(($BE10-$BJ10)/$BE10))-(($BE10-$BJ10)*SQRT(2*$BE10*$BJ10-($BJ10^2)))","v":{"$error":"#DIV/0!"}},{"$f":"$BK10*$BE$6","v":{"$error":"#DIV/0!"}},{"$f":"IF($BI10>=$BG$7,0,IF((($BG$7-$BI10)*$M$19)>=($BE10*2),$BE10*2,($BG$7-$BI10)*$M$19))","v":{"$error":"#DIV/0!"}},{"$f":"(($BE10^2)*ACOS(($BE10-$BM10)/$BE10))-(($BE10-$BM10)*SQRT(2*$BE10*$BM10-($BM10^2)))","v":{"$error":"#DIV/0!"}},{"$f":"$BN10*$BE$6","v":{"$error":"#DIV/0!"}}]
["Channel Geometry Coordinates",null,null,null,null,null,null,null,null,null,{"$f":"IF(OR($C$15=\"\",$C$16=\"\",$C$17=\"\"),\"\",IF(OR($C$15<$C$16,$C$17<$C$16),\"ERROR - Toe elevation must be >= thalweg elevation\",\"\"))","v":""},"Flow Deflection",null,"Partially spanning multiple log structure along the bank",null,null,null,"Pt 2","Root collar: Crown",{"$f":"IF($F$25=\"\",0,IF($D$25=\"Root collar: Crown\",$F$25,IF($D$22=\"No\",$T$10,$T$10+(($G$22*$M$19)*$M$17)-(((($H$22-$F$22)/2)*-$M$20)*$M$17))))","v":43.220871924076135},{"$f":"IF($G$25=\"\",$C$13,IF($D$25=\"Root collar: Crown\",$G$25,IF($D$22=\"No\",$U$10,$U$10-($G$22*-$M$20)-((($H$22-$F$22)/2)*$M$19))))","v":94.599999944149459},null,"Root collar: Crown",{"$f":"IF($D$22=\"No\",$X$10,$T$10+(($G$22*$M$19)*$M$17)-(((($H$22-$F$22)/2)*-$M$20)*$M$17))","v":43.220871924076135},"OK",{"$f":"IF($D$22=\"No\",$Z$10,$U$10-($G$22*-$M$20)-((($H$22-$F$22)/2)*$M$19))","v":94.599999944149459},"OK",null,"Water Surface Label",null,null,null,null,"hmax,lower",{"$f":"IF($AI$9/COS($AI$8)>$F$22,$F$22,$AI$9/COS($AI$8))","v":2.5},"ft",null,null,null,null,null,null,null,null,"hmax,lower",{"$f":"IF($AT$9/COS($AT$8)>$F$22,$F$22,$AT$9/COS($AT$8))","v":0.70000005585053771},"ft",null,null,null,null,null,null,null,2,{"$f":"($BE$6/2)+(($BC11-1)*$BE$6)","v":0},{"$error":"#DIV/0!"},{"$f":"PI()*($BE11^2)","v":{"$error":"#DIV/0!"}},{"$f":"$BF11*$BE$6","v":{"$error":"#DIV/0!"}},{"$error":"#DIV/0!"},{"$error":"#DIV/0!"},{"$f":"IF($BH11<=$BG$6,0,IF((($BH11-$BG$6)*$M$19)>=($BE11*2),$BE11*2,($BH11-$BG$6)*$M$19))","v":{"$error":"#DIV/0!"}},{"$f":"(($BE11^2)*ACOS(($BE11-$BJ11)/$BE11))-(($BE11-$BJ11)*SQRT(2*$BE11*$BJ11-($BJ11^2)))","v":{"$error":"#DIV/0!"}},{"$f":"$BK11*$BE$6","v":{"$error":"#DIV/0!"}},{"$f":"IF($BI11>=$BG$7,0,IF((($BG$7-$BI11)*$M$19)>=($BE11*2),$BE11*2,($BG$7-$BI11)*$M$19))","v":{"$error":"#DIV/0!"}},{"$f":"(($BE11^2)*ACOS(($BE11-$BM11)/$BE11))-(($BE11-$BM11)*SQRT(2*$BE11*$BM11-($BM11^2)))","v":{"$error":"#DIV/0!"}},{"$f":"$BN11*$BE$6","v":{"$error":"#DIV/0!"}}]
["Proposed","x (ft)","y (ft)",null,null,null,null,null,null,null,{"$f":"IF(OR($C$18=\"\",$C$17=\"\"),\"\",IF($C$17>=$C$18,\"ERROR - RB top elevation must be > RB toe elevation\",\"\"))","v":""},"Mid-Channel",null,"Logs placed at the head of an island or bar",null,null,null,"Pt 3","Stem tip: Crown",{"$f":"IF($F$25=\"\",0,IF($D$25=\"Stem tip: Crown\",$F$25,$T$11+((($E$22-$G$22)*$M$19)*$M$17)))","v":62.029999997435304},{"$f":"IF($G$25=\"\",$C$13,IF($D$25=\"Stem tip: Crown\",$G$25,$U$11-(($E$22-$G$22)*-$M$20)))","v":94.6},null,"Stem tip: Crown",{"$f":"$T$11+((($E$22-$G$22)*$M$19)*$M$17)","v":62.029999997435304},"OK",{"$f":"$U$11-(($E$22-$G$22)*-$M$20)","v":94.6},"OK",null,"WSE",{"$f":"IF($AD$8=\"\",\"\",AVERAGE(AD8:AD9))","v":75},{"$f":"IF($AE$8=\"\",\"\",AVERAGE(AE8:AE9))","v":101.25},null,null,"hmax,up,dry",{"$f":"IF(AND($AB$23>$F$22,$AB$24>$F$22),0,IF(AND($AB$23>=$F$22,(($F$22-$AB$24)/(COS($AI$8)))>$F$22),$F$22,IF($AB$23>=$F$22,($F$22-$AB$24)/(COS($AI$8)),IF(AND($AB$24>=$F$22,(($F$22-$AB$23)/(COS($AI$8))>$F$22)),$F$22,IF($AB$24>=$F$22,($F$22-$AB$23)/(COS($AI$8)),\"\")))))","v":0},"ft",null,null,null,null,null,null,null,null,"hmax,up,dry",{"$f":"IF(AND($Z$23>$F$22,$Z$24>$F$22),0,IF(AND($Z$23>=$F$22,(($F$22-$Z$24)/(COS($AT$8)))>$F$22),$F$22,IF($Z$23>=$F$22,($F$22-$Z$24)/(COS($AT$8)),IF(AND($Z$24>=$F$22,(($F$22-$Z$23)/(COS($AT$8))>$F$22)),$F$22,IF($Z$24>=$F$22,($F$22-$Z$23)/(COS($AT$8)),\"\")))))","v":""},"ft",null,null,null,null,null,null,null,3,0,{"$error":"#DIV/0!"},{"$error":"#DIV/0!"},{"$error":"#DIV/0!"},{"$error":"#DIV/0!"},{"$error":"#DIV/0!"},{"$error":"#DIV/0!"},{"$error":"#DIV/0!"},{"$error":"#DIV/0!"},{"$error":"#DIV/0!"},{"$error":"#DIV/0!"},{"$error":"#DIV/0!"}]
["Fldpln LB",{"$f":"'Prelim-Top#1'!B13","v":0},{"$f":"'Prelim-Top#1'!C13","v":99.18},null,null,null,null,null,null,null,{"$f":"IF(OR($B$14<$B$13,$B$15<$B$14,$B$16<$B$15,$B$17<$B$16,$B$18<$B$17,$B$19<$B$18),\"ERROR - Each 'x' distance must be >= previous point\",\"\")","v":""},"Full-Span",null,"Multiple logs constricting a large portion of the cross-sectional area",null,null,null,"Pt 4","Stem tip: Bottom",{"$f":"IF($F$25=\"\",0,IF($D$25=\"Stem tip: Bottom\",$F$25,$T$12-(($F$22*-$M$20)*$M$17)))","v":62.03},{"$f":"IF($G$25=\"\",$C$13,IF($D$25=\"Stem tip: Bottom\",$G$25,$U$12-($F$22*$M$19)))","v":92.1},null,"Stem tip: Bottom",{"$f":"$T$12-(($F$22*-$M$20)*$M$17)","v":62.03},"OK",{"$f":"$U$12-($F$22*$M$19)","v":92.1},"OK",null,null,null,null,null,null,"LTS,bot,wet",{"$f":"IF(($AI$9/SIN($AI$8))>($E$22-$G$22),($E$22-$G$22-$AI$14),($AI$9/SIN($AI$8))-$AI$14)","v":-3810169337.619977},"ft",null,null,null,null,null,null,null,null,"LTS,bot,wet",{"$f":"IF(($AT$9/SIN($AT$8))>($E$22-$G$22),($E$22-$G$22-$AT$14),($AT$9/SIN($AT$8))-$AT$14)","v":32},"ft",null,null,null,null,null,null,null,4,0,{"$error":"#DIV/0!"},{"$error":"#DIV/0!"},{"$error":"#DIV/0!"},{"$error":"#DIV/0!"},{"$error":"#DIV/0!"},{"$error":"#DIV/0!"},{"$error":"#DIV/0!"},{"$error":"#DIV/0!"},{"$error":"#DIV/0!"},{"$error":"#DIV/0!"},{"$error":"#DIV/0!"}]
["Top LB",{"$f":"'Prelim-Top#1'!B14","v":33},{"$f":"'Prelim-Top#1'!C14","v":98.59},null,null,null,null,null,null,null,null,"Floodplain",null,"Logs placed outside of the bankfull channel",null,null,null,"Pt 5","Root collar: Bottom",{"$f":"IF($F$25=\"\",0,IF($D$25=\"Root collar: Bottom\",$F$25,$T$13-((($E$22-$G$22)*$M$19)*$M$17)))","v":43.220871926640832},{"$f":"IF($G$25=\"\",$C$13,IF($D$25=\"Root collar: Bottom\",$G$25,$U$13+(($E$22-$G$22)*-$M$20)))","v":92.099999944149459},null,"Root collar: Bottom",{"$f":"$T$13-((($E$22-$G$22)*$M$19)*$M$17)","v":43.220871926640832},"OK",{"$f":"$U$13+(($E$22-$G$22)*-$M$20)","v":92.099999944149459},"OK",null,"Bank Labels",null,null,null,null,"LTS,top,wet",{"$f":"IF($AI$11>=$F$22,(($AI$9-($AI$11/(COS($AI$8))))/SIN($AI$8))+($AI$11*TAN($AI$8)),0)","v":3810169369.619977},"ft",null,null,null,null,null,null,null,null,"LTS,top,wet",{"$f":"IF($AT$11>=$F$22,(($AT$9-($AT$11/(COS($AT$8))))/SIN($AT$8))+($AT$11*TAN($AT$8)),0)","v":0},"ft",null,null,null,null,null,null,null,5,0,{"$error":"#DIV/0!"},{"$error":"#DIV/0!"},{"$error":"#DIV/0!"},{"$error":"#DIV/0!"},{"$error":"#DIV/0!"},{"$error":"#DIV/0!"},{"$error":"#DIV/0!"},{"$error":"#DIV/0!"},{"$error":"#DIV/0!"},{"$error":"#DIV/0!"},{"$error":"#DIV/0!"}]
["Toe LB",{"$f":"'Prelim-Top#1'!B15","v":54},{"$f":"'Prelim-Top#1'!C15","v":95.63},null,null,null,null,null,null,null,{"$f":"IF(AND($B$6=\"Rootwad\",$D$22=\"No\"),\"ERROR - Rootwad structure type should have a rootwad\",\"\")","v":""},null,null,null,null,null,null,"Pt 6","Rootwad: Bottom",{"$f":"IF($F$25=\"\",0,IF($D$25=\"Rootwad: Bottom\",$F$25,IF($D$22=\"No\",$T$14,$T$14-(($G$22*$M$19)*$M$17)-(((($H$22-$F$22)/2)*-$M$20)*$M$17))))","v":43.220871926640832},{"$f":"IF($G$25=\"\",$C$13,IF($D$25=\"Rootwad: Bottom\",$G$25,IF($D$22=\"No\",$U$14,$U$14+($G$22*-$M$20)-((($H$22-$F$22)/2)*$M$19))))","v":92.099999944149459},null,"Rootwad: Bottom",{"$f":"IF($D$22=\"No\",$T$14,$T$14-(($G$22*$M$19)*$M$17)-(((($H$22-$F$22)/2)*-$M$20)*$M$17))","v":43.220871926640832},"OK",{"$f":"IF($D$22=\"No\",$U$14,$U$14+($G$22*-$M$20)-((($H$22-$F$22)/2)*$M$19))","v":92.099999944149459},"OK",null,"LB",{"$f":"IF(OR($B$13=\"\",$B$14=\"\"),\"\",AVERAGE($B$13:$B$14))","v":16.5},{"$f":"IF(OR($C$13=\"\",$C$14=\"\"),\"\",AVERAGE($C$13:$C$14))","v":98.885000000000005},null,null,"K1",{"$f":"IF(AND(($AI$11-$AI$7)=1,$AH$17=\"Case 1\"),PI(),ACOS(1-($AI$11/$AI$7)))","v":3.1415926535897931},"rad",null,null,null,null,null,null,null,null,"K1",{"$f":"ACOS(1-($AT$11/$AT$7))","v":1.1151977031546862},"rad",null,null,null,null,null,null,null,6,0,{"$error":"#DIV/0!"},{"$error":"#DIV/0!"},{"$error":"#DIV/0!"},{"$error":"#DIV/0!"},{"$error":"#DIV/0!"},{"$error":"#DIV/0!"},{"$error":"#DIV/0!"},{"$error":"#DIV/0!"},{"$error":"#DIV/0!"},{"$error":"#DIV/0!"},{"$error":"#DIV/0!"}]
["Thalweg",{"$f":"'Prelim-Top#1'!B16","v":79},{"$f":"'Prelim-Top#1'!C16","v":92.8},null,null,null,null,null,null,null,{"$f":"IF(OR($N$52=\"\",$F$25=\"\",$G$25=\"\"),\"\",IF(AND($B$6=\"Rootwad\",$N$52<>\"Exposed in stream\"),\"CHECK - Rootwad structure typically has exposed rootwad\",\"\"))","v":""},null,null,null,null,null,null,null,null,null,null,null,null,null,null,null,null,null,"RB",{"$f":"IF(OR($B$18=\"\",$B$19=\"\"),\"\",AVERAGE($B$18:$B$19))","v":138.5},{"$f":"IF(OR($C$18=\"\",$C$19=\"\"),\"\",AVERAGE($C$18:$C$19))","v":98.8},null,null,"K2",{"$f":"IF($AI$12=\"\",\"\",ACOS(1-($AI$12/$AI$7)))","v":0},"rad",null,null,null,null,null,null,null,null,"K2",{"$f":"IF($AT$12=\"\",\"\",ACOS(1-($AT$12/$AT$7)))","v":""},"rad",null,null,null,null,null,null,null,7,0,{"$error":"#DIV/0!"},{"$error":"#DIV/0!"},{"$error":"#DIV/0!"},{"$error":"#DIV/0!"},{"$error":"#DIV/0!"},{"$error":"#DIV/0!"},{"$error":"#DIV/0!"},{"$error":"#DIV/0!"},{"$error":"#DIV/0!"},{"$error":"#DIV/0!"},{"$error":"#DIV/0!"}]
["Toe RB",{"$f":"'Prelim-Top#1'!B17","v":108},{"$f":"'Prelim-Top#1'!C17","v":94.94},null,null,null,null,null,null,null,null,"cos (q+90) =",{"$f":"IF($B$25=\"\",0,COS(($B$25+90)*PI()/180))","v":0.58778525229247403},null,null,null,null,null,"Rootwad Coordinates",null,null,null,null,null,null,null,null,null,null,null,null,null,"check:",{"$f":"IF(AND($AA$21=\"Wet\",$AA$22=\"Wet\",$AA$23=\"Wet\",$AA$24=\"Wet\"),\"Log is completely submerged\",IF(AND($AA$21=\"Dry\",$AA$22=\"Dry\",OR(AND($AA$23=\"Dry\",$AA$24=\"Wet\"),AND($AA$24=\"Dry\",$AA$23=\"Wet\"))),\"Case 1\",IF(OR(AND($AA$21=\"Wet\",$AA$24=\"Wet\",$AA$22=\"Dry\",$AA$23=\"Dry\"),AND($AA$22=\"Wet\",$AA$23=\"Wet\",$AA$21=\"Dry\",$AA$24=\"Dry\")),\"Case 2\",IF(AND($AA$22=\"Dry\",$AA$23=\"Wet\",$AA$21=\"Dry\",$AA$24=\"Wet\"),\"Case 3\",IF(OR(AND($AA$21=\"Dry\",$AA$22=\"Wet\",$AA$23=\"Wet\",$AA$24=\"Wet\"),AND($AA$21=\"Wet\",$AA$22=\"Dry\",$AA$23=\"Wet\",$AA$24=\"Wet\")),\"Case 4\",\"Stem is Dry\")))))","v":"Log is completely submerged"},null,null,"VTS =",{"$f":"PI()*(($F$22/2)^2)*($E$22-$G$22)","v":157.07963267948966},"ft3",null,null,null,null,"check:",{"$f":"IF(AND($Y$21=\"Wet\",$Y$22=\"Wet\",$Y$23=\"Wet\",$Y$24=\"Wet\"),\"Log is completely submerged\",IF(AND($Y$21=\"Dry\",$Y$22=\"Dry\",OR(AND($Y$23=\"Dry\",$Y$24=\"Wet\"),AND($Y$24=\"Dry\",$Y$23=\"Wet\"))),\"Case 1\",IF(OR(AND($Y$21=\"Wet\",$Y$24=\"Wet\",$Y$22=\"Dry\",$Y$23=\"Dry\"),AND($Y$22=\"Wet\",$Y$23=\"Wet\",$Y$21=\"Dry\",$Y$24=\"Dry\")),\"Case 2\",IF(AND($Y$22=\"Dry\",$Y$23=\"Wet\",$Y$21=\"Dry\",$Y$24=\"Wet\"),\"Case 3\",IF(OR(AND($Y$21=\"Dry\",$Y$22=\"Wet\",$Y$23=\"Wet\",$Y$24=\"Wet\"),AND($Y$21=\"Wet\",$Y$22=\"Dry\",$Y$23=\"Wet\",$Y$24=\"Wet\")),\"Case 4\",\"Stem is Dry\")))))","v":"Case 3"},null,null,"VTS =",{"$f":"PI()*(($F$22/2)^2)*($E$22-$G$22)","v":157.07963267948966},"ft3",null,null,null,null,8,0,{"$error":"#DIV/0!"},{"$error":"#DIV/0!"},{"$error":"#DIV/0!"},{"$error":"#DIV/0!"},{"$error":"#DIV/0!"},{"$error":"#DIV/0!"},{"$error":"#DIV/0!"},{"$error":"#DIV/0!"},{"$error":"#DIV/0!"},{"$error":"#DIV/0!"},{"$error":"#DIV/0!"}]
["Top RB",{"$f":"'Prelim-Top#1'!B18","v":127},{"$f":"'Prelim-Top#1'!C18","v":98.72},null,null,null,null,null,null,null,null,"sin (q+90) =",{"$f":"IF($B$25=\"\",0,SIN(($B$25+90)*PI()/180))","v":0.80901699437494679},null,null,null,null,null,null,"x (ft)","y (ft)",null,"Large Wood \"Below Thalweg\" and \"Below Water Surface\" Depths",null,null,null,null,null,null,null,null,null,"Case 1",null,null,null,null,null,null,null,null,null,null,"Case 1",null,null,null,null,null,null,null,null,null,null,9,0,{"$error":"#DIV/0!"},{"$error":"#DIV/0!"},{"$error":"#DIV/0!"},{"$error":"#DIV/0!"},{"$error":"#DIV/0!"},{"$error":"#DIV/0!"},{"$error":"#DIV/0!"},{"$error":"#DIV/0!"},{"$error":"#DIV/0!"},{"$error":"#DIV/0!"},{"$error":"#DIV/0!"}]
["Fldpln RB",{"$f":"'Prelim-Top#1'!B19","v":150},{"$f":"'Prelim-Top#1'!C19","v":98.88},null,null,null,null,null,null,null,{"$f":"IF($C$25=\"\",\"\", IF($C$25=0,\"ERROR - Angle of tilt can not be exactly 0 deg, change to 0.01\", IF(OR($C$25>=90,$C$25<=-90),\"ERROR - Angle of tilt must be between (-)89.9 and (+)89.9 deg\",\"\")))","v":""},"cos b =",{"$f":"IF($C$25=\"\",0,COS($C$25*PI()/180))","v":1},null,null,null,null,null,"RW bottom1",{"$f":"IF($T$15=\"\",\"\",$T$15)","v":43.220871926640832},{"$f":"IF($U$15=\"\",$C$13,$U$15)","v":92.099999944149459},null,null,"Point","↓twCondition","dT,wet","↓WSECondition","dT↓dw",null,null,null,null,null,null,"V =","LTS,bot,wet/hmax,lower*R3*(sin K1 – K1*cos K1 – 1/3*(sin K1)3)",null,null,null,null,null,null,null,null,null,"V =","LTS,bot,wet/hmax,lower*R3*(sin K1 – K1*cos K1 – 1/3*(sin K1)3)",null,null,null,null,null,null,null,10,0,{"$error":"#DIV/0!"},{"$error":"#DIV/0!"},{"$error":"#DIV/0!"},{"$error":"#DIV/0!"},{"$error":"#DIV/0!"},{"$error":"#DIV/0!"},{"$error":"#DIV/0!"},{"$error":"#DIV/0!"},{"$error":"#DIV/0!"},{"$error":"#DIV/0!"},{"$error":"#DIV/0!"}]
[null,null,null,null,null,null,null,null,null,null,{"$f":"IF(OR($B$25=\"\",$A$6=\"\"),\"\",IF(OR($B$25>360,$B$25<-180),\"ERROR - Orientation angle must be (-)180 to (+)360 deg\",\"\"))","v":""},"sin b =",{"$f":"IF($C$25=\"\",0,SIN($C$25*PI()/180))","v":1.7453292519943295E-9},null,null,null,null,null,"RW sid1",{"$f":"IF($T$19=\"\",\"\",IF($D$22=\"No\",$T$19+((SIN(45*PI()/180))*$M$18),(($T$19+$T$21)/2)+((SIN(45*PI()/180))*$M$18)))","v":43.792933329458513},{"$f":"IF($U$15=\"\",$C$13,($U$21+$U$19)/2)","v":92.724999944149459},null,"Rootwad: Crown","Pt 1",{"$f":"IF($U10<$C$16,\"Wet\",\"Dry\")","v":"Dry"},{"$f":"IF($C$16<U10,0,$C$16-U10)","v":0},{"$f":"IF($U10<$AE$8,\"Wet\",\"Dry\")","v":"Wet"},{"$f":"IF(U10>$AE$8,0,$AE$8-U10)","v":6.6500000558505405},null,null,null,null,null,null,"where:","K1 = arccos(1-hmax,lower/R)",null,null,null,null,null,null,null,null,null,"where:","K1 = arccos(1-hmax,lower/R)",null,null,null,null,null,null,null,11,0,{"$error":"#DIV/0!"},{"$error":"#DIV/0!"},{"$error":"#DIV/0!"},{"$error":"#DIV/0!"},{"$error":"#DIV/0!"},{"$error":"#DIV/0!"},{"$error":"#DIV/0!"},{"$error":"#DIV/0!"},{"$error":"#DIV/0!"},{"$error":"#DIV/0!"},{"$error":"#DIV/0!"}]
["Wood Species",null,null,"Rootwad","LT (ft)","DTS (ft)","LRW (ft)","DRW (ft)","gTd (lb/ft3)","gTgr (lb/ft3)",{"$f":"IF(AND($D$22=\"No\",OR($D$25=\"Rootwad: Crown\",$D$25=\"Rootwad: Bottom\")),\"ERROR - No rootwad, define a different starting point\",\"\")","v":""},"typ RW b =",{"$f":"IF($E$22=\"\",0,ROUND((-ATAN(((($H$22-$F$22)/2))/$E$22)*180/PI()),1))","v":2.2000000000000002},null,null,null,null,null,"RW sid2",{"$f":"IF($T$19=\"\",\"\",IF($D$22=\"No\",(($T$19+$T$23)/2)+($F$22/2*$M$18),(($T$19+$T$23)/2)+($H$22/2*$M$18)))","v":44.232143168327163},{"$f":"IF($U$15=\"\",$C$13,($U$19+$U$23)/2)","v":93.349999944149459},null,"Root collar: Crown","Pt 2","Dry",0,"Wet",6.6500000558505405,null,null,null,null,null,null,"VTS,wet,C1",{"$f":"($AI$13/$AI$11)*($AI$7^3)*(SIN($AI$15)-($AI$15*COS($AI$15))-((1/3)*(SIN($AI$15))^3))","v":-9351562500.0000057},"ft3",null,null,null,null,null,null,null,null,"VTS,wet,C1",{"$f":"($AT$13/$AT$11)*($AT$7^3)*(SIN($AT$15)-($AT$15*COS($AT$15))-((1/3)*(SIN($AT$15))^3))","v":14.815091332957595},"ft3",null,null,null,null,null,null,12,0,{"$error":"#DIV/0!"},{"$error":"#DIV/0!"},{"$error":"#DIV/0!"},{"$error":"#DIV/0!"},{"$error":"#DIV/0!"},{"$error":"#DIV/0!"},{"$error":"#DIV/0!"},{"$error":"#DIV/0!"},{"$error":"#DIV/0!"},{"$error":"#DIV/0!"},{"$error":"#DIV/0!"}]
["Douglas-fir, Interior west",null,null,"No",32,2.5,{"$f":"IF(OR($D$22=\"No\",$D$22=\"\"),0,IF($F$22=\"\",0,$F$22*LFRW))","v":0},{"$f":"IF(OR($D$22=\"No\",$D$22=\"\"),0,IF($F$22=\"\",0,$F$22*DFRW))","v":0},{"$f":"IF($A$22=\"\",\"\",VLOOKUP($A$22,'5-Wood'!$B$8:$E$17,3,0))","v":34.944000000000003},{"$f":"IF($A$22=\"\",\"\",VLOOKUP($A$22,'5-Wood'!$B$8:$E$17,4,0))","v":39},null,null,null,null,null,null,null,null,"RW sid3",{"$f":"IF($T$19=\"\",\"\",IF($D$22=\"No\",$T$23+((SIN(45*PI()/180))*$M$18),(($T$23+$T$21)/2)+((SIN(45*PI()/180))*$M$18)))","v":43.792933326893817},{"$f":"IF($U$15=\"\",$C$13,($U$21+$U$23)/2)","v":93.974999944149459},null,"Stem tip: Crown","Pt 3","Dry",0,"Wet",6.6500000000000057,null,null,null,null,null,null,null,null,null,null,null,null,null,null,null,null,null,null,null,null,null,null,null,null,null,null,13,0,{"$error":"#DIV/0!"},{"$error":"#DIV/0!"},{"$error":"#DIV/0!"},{"$error":"#DIV/0!"},{"$error":"#DIV/0!"},{"$error":"#DIV/0!"},{"$error":"#DIV/0!"},{"$error":"#DIV/0!"},{"$error":"#DIV/0!"},{"$error":"#DIV/0!"},{"$error":"#DIV/0!"}]
[null,null,null,null,null,null,null,null,null,null,{"$f":"IF(OR($B$25=\"\",$A$6=\"\"),\"\",IF(OR($B$25=360,$B$25=270,$B$25=180,$B$25=90,$B$25=0,$B$25=-90,$B$25=-180),\"ERROR - Orientation angle can not EXACTLY equal 0, 90, 180, 270, or 360 deg. Change input value to 0.01, 89.99 (or similar)\",\"\"))","v":""},null,null,null,null,null,null,null,"RW crown",{"$f":"IF($T$19=\"\",\"\",$T$10)","v":43.220871924076135},{"$f":"IF($U$15=\"\",$C$13,$U$10)","v":94.599999944149459},null,"Stem tip: Bottom","Pt 4","Wet",0.70000000000000284,"Wet",9.1500000000000057,null,null,null,null,"Case 2",null,null,null,null,null,null,null,null,null,null,"Case 2",null,null,null,null,null,null,null,null,null,null,14,0,{"$error":"#DIV/0!"},{"$error":"#DIV/0!"},{"$error":"#DIV/0!"},{"$error":"#DIV/0!"},{"$error":"#DIV/0!"},{"$error":"#DIV/0!"},{"$error":"#DIV/0!"},{"$error":"#DIV/0!"},{"$error":"#DIV/0!"},{"$error":"#DIV/0!"},{"$error":"#DIV/0!"}]
["Structure Geometry","q (deg)","b (deg)","Define Fixed Point",null,"xT (ft)","yT (ft)","yT,min (ft)","yT,max (ft)","ATp (ft2)",null,null,null,null,null,null,null,null,"RW sid4",{"$f":"IF($T$19=\"\",\"\",IF($D$22=\"No\",$T$23-((SIN(45*PI()/180))*$M$18),(($T$23+$T$25)/2)-((SIN(45*PI()/180))*$M$18)))","v":42.648810521258454},{"$f":"IF($U$15=\"\",$C$13,($U$25+$U$23)/2)","v":93.974999944149459},null,"Root collar: Bottom","Pt 5","Wet",0.70000005585053771,"Wet",9.1500000558505405,null,null,null,null,null,null,"V =","(p*R2*LTS,top,wet) + (LTS,bot,wet/hmax,lower*R3*(sin K1 – K1*cos K1 – 1/3*(sin K1)3)",null,null,null,null,null,null,null,null,null,"V =","(p*R2*LTS,top,wet) + (LTS,bot,wet/hmax,lower*R3*(sin K1 – K1*cos K1 – 1/3*(sin K1)3)",null,null,null,null,null,null,null,15,0,{"$error":"#DIV/0!"},{"$error":"#DIV/0!"},{"$error":"#DIV/0!"},{"$error":"#DIV/0!"},{"$error":"#DIV/0!"},{"$error":"#DIV/0!"},{"$error":"#DIV/0!"},{"$error":"#DIV/0!"},{"$error":"#DIV/0!"},{"$error":"#DIV/0!"},{"$error":"#DIV/0!"}]
[null,324,9.9999999999999995E-8,"Stem tip: Bottom",null,62.03,92.1,{"$f":"IF(OR($E$22=\"\",$F$22=\"\",$F$25=\"\",$G$25=\"\"),\"\",MIN($U$10:$U$15))","v":92.099999944149459},{"$f":"IF(OR($E$22=\"\",$F$22=\"\",$F$25=\"\",$G$25=\"\"),\"\",MAX($U$10:$U$15))","v":94.6},{"$f":"IF(OR($E$22=\"\",$F$22=\"\",$F$25=\"\",$G$25=\"\"),\"\",IF($T$81<0,$AB$80,IF($T$81>$T$77,$T$77+$AB$80,IF(OR(AND($C$25=0,$D$22=\"No\",$B$25=0),AND($C$25=0,$D$22=\"No\",$B$25=360),AND($C$25=0,$D$22=\"No\",$B$25=180)),PI()*(($F$22/2)^2),$T$81+$AB$80))))","v":0},{"$f":"IF(OR($B$13=\"\",$B$19=\"\",$U$38=0,$U$39=0),\"\",IF(OR(MAX($U$38:$U$39)>$B$19,MIN($U$38:$U$39)<$B$13),\"ERROR - Log extends beyond limits of floodplain\",\"\"))","v":""},null,null,null,null,null,null,null,"RW sid5",{"$f":"IF($T$19=\"\",\"\",IF($D$22=\"No\",(($T$27+$T$23)/2)-($F$22/2*$M$18),(($T$27+$T$23)/2)-($H$22/2*$M$18)))","v":42.209600682389798},{"$f":"IF($U$15=\"\",$C$13,($U$27+$U$23)/2)","v":93.349999944149459},null,"Rootwad: Bottom","Pt 6","Wet",0.70000005585053771,"Wet",9.1500000558505405,null,null,null,null,null,null,"where:","K1 = arccos(1-hmax,lower/R)",null,null,null,null,null,null,null,null,null,"where:","K1 = arccos(1-hmax,lower/R)",null,null,null,null,null,null,null,16,0,{"$error":"#DIV/0!"},{"$error":"#DIV/0!"},{"$error":"#DIV/0!"},{"$error":"#DIV/0!"},{"$error":"#DIV/0!"},{"$error":"#DIV/0!"},{"$error":"#DIV/0!"},{"$error":"#DIV/0!"},{"$error":"#DIV/0!"},{"$error":"#DIV/0!"},{"$error":"#DIV/0!"}]
[null,null,null,null,null,null,null,null,null,null,null,null,null,null,null,null,null,null,"RW sid6",{"$f":"IF($T$19=\"\",\"\",IF($D$22=\"No\",$T$27-((SIN(45*PI()/180))*$M$18),(($T$27+$T$25)/2)-((SIN(45*PI()/180))*$M$18)))","v":42.648810523823151},{"$f":"IF($U$15=\"\",$C$13,($U$25+$U$27)/2)","v":92.724999944149459},null,null,null,null,null,null,null,null,null,null,null,null,null,"VTS,wet,C2",{"$f":"(PI()*(($AI$7)^2)*($AI$14))+($AI$13/$AI$11)*($AI$7^3)*(SIN($AI$15)-($AI$15*COS($AI$15))-((1/3)*(SIN($AI$15))^3))","v":9351562657.0796413},"ft3",null,null,null,null,null,null,null,null,"VTS,wet,C2",{"$f":"(PI()*(($AT$7)^2)*($AT$14))+($AT$13/$AT$11)*($AT$7^3)*(SIN($AT$15)-($AT$15*COS($AT$15))-((1/3)*(SIN($AT$15))^3))","v":14.815091332957595},"ft3",null,null,null,null,null,null,17,0,{"$error":"#DIV/0!"},{"$error":"#DIV/0!"},{"$error":"#DIV/0!"},{"$error":"#DIV/0!"},{"$error":"#DIV/0!"},{"$error":"#DIV/0!"},{"$error":"#DIV/0!"},{"$error":"#DIV/0!"},{"$error":"#DIV/0!"},{"$error":"#DIV/0!"},{"$error":"#DIV/0!"}]
["Soils","Material",null,"gs (lb/ft3)","g's (lb/ft3)","f (deg)","Soil Class","LT,em (ft)","db,max (ft)","db,avg (ft)",null,null,null,null,null,null,null,null,"RW bottom2",{"$f":"IF($T$19=\"\",\"\",$T$15)","v":43.220871926640832},{"$f":"IF($U$15=\"\",$C$13,$U$15)","v":92.099999944149459},null,null,null,null,null,null,null,null,null,null,null,null,null,null,null,null,null,null,null,null,null,null,null,null,null,null,null,null,null,null,null,null,null,18,0,{"$error":"#DIV/0!"},{"$error":"#DIV/0!"},{"$error":"#DIV/0!"},{"$error":"#DIV/0!"},{"$error":"#DIV/0!"},{"$error":"#DIV/0!"},{"$error":"#DIV/0!"},{"$error":"#DIV/0!"},{"$error":"#DIV/0!"},{"$error":"#DIV/0!"},{"$error":"#DIV/0!"}]
["Stream Bed",{"$f":"IF($A$6=\"\",\"\",VLOOKUP($A$6,Soil,4,0))","v":"Small Cobble"},null,{"$f":"IF($A$6=\"\",\"\",VLOOKUP($A$6,Soil,6,0))","v":136.37545738828794},{"$f":"IF($A$6=\"\",\"\",VLOOKUP($A$6,Soil,7,0))","v":84.913020637990599},{"$f":"IF($A$6=\"\",\"\",VLOOKUP($A$6,Soil,8,0))","v":41},{"$f":"IF($A$6=\"\",\"\",VLOOKUP($A$6,Soil,5,0))","v":4},{"$f":"IF(OR($E$22=\"\",$F$22=\"\",$F$25=\"\",$G$25=\"\"),\"\",IF(AND($F$25<=$B$17,$F$25>=$B$15,OR($B$25=0,$B$25=180,$B$25=360)),SUM($X$49:$X$50),$AB$49+$AB$50))","v":13.661451977770419},{"$f":"IF(OR($E$22=\"\",$F$22=\"\",$F$25=\"\",$G$25=\"\"),\"\",$AT$42)","v":1.0259111756355566},{"$f":"IF(OR($E$22=\"\",$F$22=\"\",$F$25=\"\",$G$25=\"\"),\"\",$AT$41)","v":0.5734575879624576},null,null,null,null,null,null,null,null,null,null,null,null,null,null,null,null,null,null,null,null,null,null,"Case 3",null,null,null,null,null,null,null,null,null,null,"Case 3",null,null,null,null,null,null,null,null,null,null,19,0,{"$error":"#DIV/0!"},{"$error":"#DIV/0!"},{"$error":"#DIV/0!"},{"$error":"#DIV/0!"},{"$error":"#DIV/0!"},{"$error":"#DIV/0!"},{"$error":"#DIV/0!"},{"$error":"#DIV/0!"},{"$error":"#DIV/0!"},{"$error":"#DIV/0!"},{"$error":"#DIV/0!"}]
["Bank",{"$f":"IF($A$6=\"\",\"\",VLOOKUP($A$6,Soil,9,0))","v":"Gravel/cobble"},null,{"$f":"IF($A$6=\"\",\"\",VLOOKUP($A$6,Soil,11,0))","v":137},{"$f":"IF($A$6=\"\",\"\",VLOOKUP($A$6,Soil,12,0))","v":85.301886792452819},{"$f":"IF($A$6=\"\",\"\",VLOOKUP($A$6,Soil,13,0))","v":41},{"$f":"IF($A$6=\"\",\"\",VLOOKUP($A$6,Soil,10,0))","v":4},{"$f":"IF(OR($E$22=\"\",$F$22=\"\",$F$25=\"\",$G$25=\"\"),\"\",IF(AND(OR($F$25>$B$17,$F$25<$B$15),OR($B$25=0,$B$25=180,$B$25=360)),$X$47+$X$48+$X$51+$X$52,$AB$47+$AB$48+$AB$51+$AB$52))","v":18.338548022229581},{"$f":"IF(OR($E$22=\"\",$F$22=\"\",$F$25=\"\",$G$25=\"\"),\"\",$AU$42)","v":2.5493438227426708},{"$f":"IF(OR($E$22=\"\",$F$22=\"\",$F$25=\"\",$G$25=\"\"),\"\",$AU$41)","v":1.7937542619351863},{"$f":"IF(OR($E$22=\"\",$F$22=\"\",$F$25=\"\",$G$25=\"\"),\"\",IF(($H$28+$H$29)>$E$22,\"ERROR - Embedded length of log exceeds total length of log\",\"\"))","v":""},null,null,null,null,null,null,null,"Coordinates of Large Wood Crown at Key Points",null,null,null,null,null,null,null,null,null,null,null,null,null,null,null,"V =","LTS*(R2*arccos((R-dwet,avgH)/R)-(R-dwet,avgH)*((2*R*dwet,avgH)-dwet,avgH2)0.5)",null,null,null,null,null,null,null,null,null,"V =","LTS*(R2*arccos((R-dwet,avgH)/R)-(R-dwet,avgH)*((2*R*dwet,avgH)-dwet,avgH2)0.5)",null,null,null,null,null,null,null,20,0,{"$error":"#DIV/0!"},{"$error":"#DIV/0!"},{"$error":"#DIV/0!"},{"$error":"#DIV/0!"},{"$error":"#DIV/0!"},{"$error":"#DIV/0!"},{"$error":"#DIV/0!"},{"$error":"#DIV/0!"},{"$error":"#DIV/0!"},{"$error":"#DIV/0!"},{"$error":"#DIV/0!"}]
[null,null,null,null,null,null,null,null,null,null,null,null,null,null,null,null,null,null,null,"Wood Present?","Large Wood Parameters",null,null,null,"Soil",null,"Slope","Bank (ft/ft)",null,null,null,null,null,null,"VTS,wet,C3",{"$f":"IF($AI$10=\"\",\"\",($E$22-$G$22)*((($AI$7^2)*ACOS(($AI$7-$AI$10)/$AI$7))-(($AI$7-$AI$10)*((2*$AI$7*$AI$10)-($AI$10^2))^0.5)))","v":{"$error":"#NUM!"}},"ft3",null,null,null,null,null,null,null,null,"VTS,wet,C3",{"$f":"IF($AT$10=\"\",\"\",($E$22-$G$22)*((($AT$7^2)*ACOS(($AT$7-$AT$10)/$AT$7))-(($AT$7-$AT$10)*((2*$AT$7*$AT$10)-($AT$10^2))^0.5)))","v":36.003933673933702},"ft3",null,null,null,null,null,null,21,0,{"$error":"#DIV/0!"},{"$error":"#DIV/0!"},{"$error":"#DIV/0!"},{"$error":"#DIV/0!"},{"$error":"#DIV/0!"},{"$error":"#DIV/0!"},{"$f":"(($BE30^2)*ACOS(($BE30-$BJ30)/$BE30))-(($BE30-$BJ30)*SQRT(2*$BE30*$BJ30-($BJ30^2)))","v":{"$error":"#DIV/0!"}},{"$f":"$BK30*$BE$6","v":{"$error":"#DIV/0!"}},{"$error":"#DIV/0!"},{"$error":"#DIV/0!"},{"$error":"#DIV/0!"}]
[null,null,null,null,null,null,null,null,null,null,null,null,null,null,null,null,null,null,null,null,"xTS (ft)","Dist (ft)","Adjusted Dist (ft)","yTS (ft)","ysoil (ft)",null,"Fldpln LB",{"$f":"IF(OR($B$13=\"\",$B$14=\"\",$C$13=\"\",$C$14=\"\"),\"\",($C$14-$C$13)/($B$14-$B$13))","v":-1.7878787878787984E-2},null,null,null,null,null,null,null,null,null,null,null,null,null,null,null,null,null,null,null,null,null,null,null,null,null,null,22,0,{"$error":"#DIV/0!"},{"$error":"#DIV/0!"},{"$error":"#DIV/0!"},{"$error":"#DIV/0!"},{"$error":"#DIV/0!"},{"$error":"#DIV/0!"},{"$error":"#DIV/0!"},{"$error":"#DIV/0!"},{"$error":"#DIV/0!"},{"$error":"#DIV/0!"},{"$error":"#DIV/0!"}]
[null,null,null,null,null,null,null,null,null,null,null,null,null,null,null,null,null,null,"At Left Bank Top",{"$f":"IF(OR($F$25=\"\",$G$25=\"\"),\"No\",IF(MIN($U$38:$U$39)>$B$14,\"No\",IF(MAX($U$38:$U$39)<$B$14,\"No\",\"Yes\")))","v":"No"},{"$f":"$B$14","v":33},{"$f":"IF(OR($B$25=0,$B$25=180,$B$25=360),0,IF($T$11>$T$12,$G$22+((($T$11-$B$14)/ABS($M$17))/$M$19),(($T$12-$B$14)/ABS($M$17))/$M$19))","v":49.38878592855604},{"$f":"IF(V32<0,0,IF(V32>$E$22,$E$22,V32))","v":32},{"$f":"IF($T$11>$T$12,$U$11+(($V$32-$G$22)*$M$20),$U$12-($V$32*$M$20))","v":94.599999913800303},{"$f":"$C$14","v":98.59},null,"LB",{"$f":"IF(OR($B$14=\"\",$B$15=\"\",$C$14=\"\",$C$15=\"\"),\"\",($C$15-$C$14)/($B$15-$B$14))","v":-0.14095238095238133},null,null,null,null,null,null,null,null,null,null,null,null,null,null,null,null,null,null,null,null,null,null,null,null,null,null,23,0,{"$error":"#DIV/0!"},{"$error":"#DIV/0!"},{"$error":"#DIV/0!"},{"$error":"#DIV/0!"},{"$error":"#DIV/0!"},{"$error":"#DIV/0!"},{"$error":"#DIV/0!"},{"$error":"#DIV/0!"},{"$error":"#DIV/0!"},{"$error":"#DIV/0!"},{"$error":"#DIV/0!"}]
[null,null,null,null,null,null,null,null,null,null,null,null,null,null,null,null,null,null,"At Left Bank Toe",{"$f":"IF(OR($F$25=\"\",$G$25=\"\"),\"No\",IF(MIN($U$38:$U$39)>$B$15,\"No\",IF(MAX($U$38:$U$39)<$B$15,\"No\",\"Yes\")))","v":"Yes"},{"$f":"$B$15","v":54},{"$f":"IF(OR($B$25=0,$B$25=180,$B$25=360),0,IF($T$11>$T$12,$G$22+((($T$11-$B$15)/ABS($M$17))/$M$19),(($T$12-$B$15)/ABS($M$17))/$M$19))","v":13.661451977770419},13.661451977770419,{"$f":"IF($T$11>$T$12,$U$11+(($V$33-$G$22)*$M$20),$U$12-($V$33*$M$20))","v":94.599999976156269},{"$f":"$C$15","v":95.63},null,"Stream L",{"$f":"IF(OR($B$15=\"\",$B$16=\"\",$C$15=\"\",$C$16=\"\"),\"\",($C$16-$C$15)/($B$16-$B$15))","v":-0.11319999999999993},null,null,null,null,null,null,null,null,null,null,null,null,null,null,null,null,null,null,null,null,null,null,null,null,null,null,24,0,{"$error":"#DIV/0!"},{"$error":"#DIV/0!"},{"$error":"#DIV/0!"},{"$error":"#DIV/0!"},{"$error":"#DIV/0!"},{"$error":"#DIV/0!"},{"$error":"#DIV/0!"},{"$error":"#DIV/0!"},{"$error":"#DIV/0!"},{"$error":"#DIV/0!"},{"$error":"#DIV/0!"}]
[null,null,null,null,null,null,null,null,null,null,null,null,null,null,null,null,null,null,"At Left Thalweg",{"$f":"IF(OR($F$25=\"\",$G$25=\"\"),\"No\",IF(AND(MAX($U$38:$U$39)>$B$16,MIN($U$38:$U$39)<$B$16),\"Yes\",\"No\"))","v":"No"},{"$f":"$B$16","v":79},{"$f":"IF(OR($B$25=0,$B$25=180,$B$25=360),0,IF($T$11>$T$12,$G$22+((($T$11-$B$16)/ABS($M$17))/$M$19),(($T$12-$B$16)/ABS($M$17))/$M$19))","v":-28.871088439831514},0,{"$f":"IF($T$11>$T$12,$U$11+(($V$34-$G$22)*$M$20),$U$12-($V$34*$M$20))","v":94.600000050389554},{"$f":"$C$16","v":92.8},null,"Stream R",{"$f":"IF(OR($B$17=\"\",$B$16=\"\",$C$17=\"\",$C$16=\"\"),\"\",($C$16-$C$17)/($B$16-$B$17))","v":7.3793103448275887E-2},null,null,null,null,"Case 4",null,null,null,null,null,null,null,null,null,null,"Case 4",null,null,null,null,null,null,null,null,null,null,25,0,{"$error":"#DIV/0!"},{"$error":"#DIV/0!"},{"$error":"#DIV/0!"},{"$error":"#DIV/0!"},{"$error":"#DIV/0!"},{"$error":"#DIV/0!"},{"$error":"#DIV/0!"},{"$error":"#DIV/0!"},{"$error":"#DIV/0!"},{"$error":"#DIV/0!"},{"$error":"#DIV/0!"}]
[null,null,null,null,null,null,null,null,null,null,null,null,null,null,null,null,null,null,"At Right Thalweg",{"$f":"IF(OR($F$25=\"\",$G$25=\"\"),\"No\",IF(AND(MAX($U$38:$U$39)>$B$16,MIN($U$38:$U$39)<$B$16),\"Yes\",\"No\"))","v":"No"},{"$f":"$B$16","v":79},{"$f":"IF(OR($B$25=0,$B$25=180,$B$25=360),0,IF($T$11<$T$12,$G$22+((($B$16-$T$11)/ABS($M$17))/$M$19),(($B$16-$T$12)/ABS($M$17))/$M$19))","v":60.87108843983151},32,{"$f":"IF($T$11<$T$12,$U$11+(($V$35-$G$22)*$M$20),$U$12-($V$35*$M$20))","v":94.600000050389554},{"$f":"$C$16","v":92.8},null,"RB",{"$f":"IF(OR($B$18=\"\",$B$17=\"\",$C$18=\"\",$C$17=\"\"),\"\",($C$18-$C$17)/($B$18-$B$17))","v":0.19894736842105268},null,null,null,null,null,null,"V =","VTS - (LTS,wet/hmax,up,dry*R3*(sin K2 – K2*cos K2 – 1/3*(sin K2)3)",null,null,null,null,null,null,null,null,null,"V =","VTS - (LTS,wet/hmax,up,dry*R3*(sin K2 – K2*cos K2 – 1/3*(sin K2)3)",null,null,null,null,null,null,null,26,0,{"$error":"#DIV/0!"},{"$error":"#DIV/0!"},{"$error":"#DIV/0!"},{"$error":"#DIV/0!"},{"$error":"#DIV/0!"},{"$error":"#DIV/0!"},{"$error":"#DIV/0!"},{"$error":"#DIV/0!"},{"$error":"#DIV/0!"},{"$error":"#DIV/0!"},{"$error":"#DIV/0!"}]
[null,null,null,null,null,null,null,null,null,null,null,null,null,null,null,null,null,null,"At Right Bank Toe",{"$f":"IF(OR($F$25=\"\",$G$25=\"\"),\"No\",IF(MAX($U$38:$U$39)<$B$17,\"No\",IF(MIN($U$38:$U$39)>$B$17,\"No\",\"Yes\")))","v":"No"},{"$f":"$B$17","v":108},{"$f":"IF(OR($B$25=0,$B$25=180,$B$25=360),0,IF($T$11<$T$12,$G$22+((($B$17-$T$11)/ABS($M$17))/$M$19),(($B$17-$T$12)/ABS($M$17))/$M$19))","v":110.20883532424975},32,{"$f":"IF($T$11<$T$12,$U$11+(($V$36-$G$22)*$M$20),$U$12-($V$36*$M$20))","v":94.600000136500157},{"$f":"$C$17","v":94.94},null,"Fldpln RB",{"$f":"IF(OR($B$19=\"\",$B$18=\"\",$C$19=\"\",$C$18=\"\"),\"\",($C$19-$C$18)/($B$19-$B$18))","v":6.9565217391302867E-3},null,null,null,null,null,null,null,"K2 = arccos(1-hmax,up,dry/R)",null,null,null,null,null,null,null,null,null,null,"K2 = arccos(1-hmax,up,dry/R)",null,null,null,null,null,null,null,27,0,{"$error":"#DIV/0!"},{"$error":"#DIV/0!"},{"$error":"#DIV/0!"},{"$error":"#DIV/0!"},{"$error":"#DIV/0!"},{"$error":"#DIV/0!"},{"$error":"#DIV/0!"},{"$error":"#DIV/0!"},{"$error":"#DIV/0!"},{"$error":"#DIV/0!"},{"$error":"#DIV/0!"}]
[null,null,null,null,null,null,null,null,null,null,null,null,null,null,null,null,null,null,"At Right Bank Top",{"$f":"IF(OR($F$25=\"\",$G$25=\"\"),\"No\",IF(MAX($U$38:$U$39)<$B$18,\"No\",IF(MIN($U$38:$U$39)>$B$18,\"No\",\"Yes\")))","v":"No"},{"$f":"$B$18","v":127},{"$f":"IF(OR($B$25=0,$B$25=180,$B$25=360),0,IF($T$11<$T$12,$G$22+((($B$18-$T$11)/ABS($M$17))/$M$19),(($B$18-$T$12)/ABS($M$17))/$M$19))","v":142.53356604162721},32,{"$f":"IF($T$11<$T$12,$U$11+(($V$37-$G$22)*$M$20),$U$12-($V$37*$M$20))","v":94.600000192917463},{"$f":"$C$18","v":98.72},null,null,null,null,null,null,null,null,null,"VTS,wet,C4",{"$f":"IF($AI$16=\"\",\"\",$AW$17-(($AI$13/$AI$12)*($AI$7^3)*(SIN($AI$16)-($AI$16*COS($AI$16))-((1/3)*(SIN($AI$16))^3))))","v":{"$error":"#DIV/0!"}},"ft3",null,null,null,null,null,null,null,null,"VTS,wet,C4",{"$f":"IF($AT$16=\"\",\"\",$AW$17-(($AT$13/$AT$12)*($AT$7^3)*(SIN($AT$16)-($AT$16*COS($AT$16))-((1/3)*(SIN($AT$16))^3))))","v":""},"ft3",null,null,null,null,null,null,28,0,{"$error":"#DIV/0!"},{"$error":"#DIV/0!"},{"$error":"#DIV/0!"},{"$error":"#DIV/0!"},{"$error":"#DIV/0!"},{"$error":"#DIV/0!"},{"$error":"#DIV/0!"},{"$error":"#DIV/0!"},{"$error":"#DIV/0!"},{"$error":"#DIV/0!"},{"$error":"#DIV/0!"}]
[null,null,null,null,null,null,null,null,null,null,null,null,null,null,null,null,null,null,"Low Pt on Crown",{"$f":"IF(OR($F$25=\"\",$G$25=\"\"),\"No\",\"Yes\")","v":"Yes"},{"$f":"IF($T$38=\"No\",0,IF($U$12<=$U$11,$T$12,$T$11-($G$22*$M$19*$M$17)))","v":43.220871924076135},0,0,{"$f":"IF($T$38=\"No\",0,IF($U$12<=$U$11,$U$12,$U$11-($G$22*$M$20)))","v":94.599999944149459},{"$f":"IF($T$38=\"\",\"\",IF($U$38<$B$14,(($U$38-$B$13)*$AB$31)+$C$13,IF($U$38<$B$15,(($U$38-$B$14)*$AB$32)+$C$14,IF($U$38<$B$16,(($U$38-$B$15)*$AB$33)+$C$15,IF($U$38<$B$17,(($U$38-$B$16)*$AB$34)+$C$16,IF($U$38<$B$18,(($U$38-$B$17)*$AB$35)+$C$17,IF($U$38<$B$19,(($U$38-$B$18)*$AB$36)+$C$18)))))))","v":97.14934376689213},null,"Slope Log (ft/ft)","Slope Log Face (ft/ft)",null,null,null,null,null,null,null,null,null,null,null,null,null,null,null,null,null,null,null,null,null,null,null,null,null,null,29,0,{"$error":"#DIV/0!"},{"$error":"#DIV/0!"},{"$error":"#DIV/0!"},{"$error":"#DIV/0!"},{"$error":"#DIV/0!"},{"$error":"#DIV/0!"},{"$error":"#DIV/0!"},{"$error":"#DIV/0!"},{"$error":"#DIV/0!"},{"$error":"#DIV/0!"},{"$error":"#DIV/0!"},null,null,"Max","Min","cP (ft)"]
[null,null,null,null,null,null,null,null,null,null,null,null,null,null,null,null,null,null,"High Pt on Crown","Yes",{"$f":"IF($T$39=\"No\",0,IF($U$12>$U$11,$T$12,$T$11-($G$22*$M$19*$M$17)))","v":62.029999997435304},{"$f":"IF($T$39=\"No\",0,$E$22)","v":32},32,{"$f":"IF($T$39=\"No\",0,IF($U$12>=$U$11,$U$12,$U$11-($G$22*$M$20)))","v":94.6},{"$f":"IF($T$39=\"\",\"\",IF($U$39<$B$14,(($U$39-$B$13)*$AB$31)+$C$13,IF($U$39<$B$15,(($U$39-$B$14)*$AB$32)+$C$14,IF($U$39<$B$16,(($U$39-$B$15)*$AB$33)+$C$15,IF($U$39<$B$17,(($U$39-$B$16)*$AB$34)+$C$16,IF($U$39<$B$18,(($U$39-$B$17)*$AB$35)+$C$17,IF($U$39<$B$19,(($U$39-$B$18)*$AB$36)+$C$18)))))))","v":94.721004000290321},null,null,null,null,null,null,null,null,null,"Free internet tilted cylinder calculator:",null,null,null,"http://planetcalc.com/1442/",null,null,null,null,null,null,"Free internet tilted cylinder calculator:",null,null,null,"http://planetcalc.com/1442/",null,null,null,null,30,0,{"$error":"#DIV/0!"},{"$error":"#DIV/0!"},{"$error":"#DIV/0!"},{"$error":"#DIV/0!"},{"$error":"#DIV/0!"},{"$error":"#DIV/0!"},{"$error":"#DIV/0!"},{"$error":"#DIV/0!"},{"$error":"#DIV/0!"},{"$error":"#DIV/0!"},{"$error":"#DIV/0!"},null,null,{"$f":"MAX($BS$45:$BS$245)","v":32},{"$f":"MIN($BS$45:$BS$245)","v":0},{"$f":"IF($BS$43=0,0,IF(AND($BS$39=0,$BR$39=$E$22),($BR$39+$BS$39)/2,IF($BS$39=0,$BR$39-((1/3)*($BR$39-$BS$39)),IF($BR$39=$E$22,$BR$39-((2/3)*($BR$39-$BS$39)),($BR$39+$BS$39)/2))))","v":16}]
[null,null,null,null,null,null,null,null,null,null,null,null,null,null,null,null,null,null,"Low Pt on Bottom","Yes",{"$f":"IF($T$40=\"No\",0,IF($U$13<=$U$14,$T$13,$T$14-($G$22*$M$19*$M$17)))","v":43.220871926640832},0,0,{"$f":"IF($T$40=\"No\",0,IF($U$13<=$U$14,$U$13,$U$14-($G$22*$M$20)))","v":92.099999944149459},{"$f":"IF($T$40=\"\",\"\",IF($U$40<$B$14,(($U$40-$B$13)*$AB$31)+$C$13,IF($U$40<$B$15,(($U$40-$B$14)*$AB$32)+$C$14,IF($U$40<$B$16,(($U$40-$B$15)*$AB$33)+$C$15,IF($U$40<$B$17,(($U$40-$B$16)*$AB$34)+$C$16,IF($U$40<$B$18,(($U$40-$B$17)*$AB$35)+$C$17,IF($U$40<$B$19,(($U$40-$B$18)*$AB$36)+$C$18)))))))","v":97.14934376653062},null,{"$f":"IF(OR($B$25=0,$B$25=180,$B$25=360),($U$11-$U$12)/0.001,IF($X$38=$X$39,1E-25,($U$11-$U$12)/($T$11-$T$12)))","v":2.9693314142866485E-9},{"$f":"IF(OR($B$25=0,$B$25=180,$B$25=360),9999,IF($X$38=$X$39,1E-25,($U$12-$U$13)/($T$12-$T$13)))","v":-974774056.41328835},null,null,null,null,null,null,null,null,null,null,null,null,null,null,null,null,null,null,null,null,null,null,null,null,null,null,"Total",null,null,null,{"$f":"SUM(BG10:BG39)","v":{"$error":"#DIV/0!"}},null,null,null,null,{"$f":"SUM($BL$10:$BL$39)","v":{"$error":"#DIV/0!"}},null,null,{"$f":"SUM($BO$10:$BO$39)","v":{"$error":"#DIV/0!"}}]
[null,null,null,null,null,null,null,null,null,null,null,null,null,null,null,null,null,null,"High Pt on Bottom","Yes",{"$f":"IF($T$41=\"No\",0,IF($U$13>$U$14,$T$13,$T$14-($G$22*$M$19*$M$17)))","v":62.03},{"$f":"IF($T$41=\"No\",0,$E$22)","v":32},32,{"$f":"IF($T$41=\"No\",0,IF($U$13>=$U$14,$U$13,$U$14-($G$22*$M$20)))","v":92.1},{"$f":"IF($T$41=\"\",\"\",IF($U$41<$B$14,(($U$41-$B$13)*$AB$31)+$C$13,IF($U$41<$B$15,(($U$41-$B$14)*$AB$32)+$C$14,IF($U$41<$B$16,(($U$41-$B$15)*$AB$33)+$C$15,IF($U$41<$B$17,(($U$41-$B$16)*$AB$34)+$C$16,IF($U$41<$B$18,(($U$41-$B$17)*$AB$35)+$C$17,IF($U$41<$B$19,(($U$41-$B$18)*$AB$36)+$C$18)))))))","v":94.721003999999994},null,null,null,null,null,null,null,null,null,null,null,null,null,null,null,null,null,null,null,"Average",{"$f":"IF(AT42=0,0,AVERAGE(AT45:AT245))","v":0.5734575879624576},{"$f":"IF(AU42=0,0,AVERAGE(AU45:AU245))","v":1.7937542619351863}]
[null,null,null,null,null,null,null,null,null,null,null,null,null,null,null,null,null,null,"Low Pt on Centerline","Yes",{"$f":"IF($T$42=\"No\",0,AVERAGE($U$38,$U$40))","v":43.22087192535848},0,0,{"$f":"IF($T$42=\"No\",0,AVERAGE($X$38,$X$40))","v":93.349999944149459},{"$f":"IF($T$42=\"\",\"\",IF($U$42<$B$14,(($U$42-$B$13)*$AB$31)+$C$13,IF($U$42<$B$15,(($U$42-$B$14)*$AB$32)+$C$14,IF($U$42<$B$16,(($U$42-$B$15)*$AB$33)+$C$15,IF($U$42<$B$17,(($U$42-$B$16)*$AB$34)+$C$16,IF($U$42<$B$18,(($U$42-$B$17)*$AB$35)+$C$17,IF($U$42<$B$19,(($U$42-$B$18)*$AB$36)+$C$18)))))))","v":97.149343766711382},null,null,null,null,null,null,null,null,null,"Log Partial Area Calculations",null,null,null,null,null,null,null,null,null,"Max",{"$f":"MAX(AT45:AT245)","v":1.0259111756355566},{"$f":"MAX(AU45:AU245)","v":2.5493438227426708},null,null,null,"Total","Total","Total","Total","Total",null,"Total",null,"Total","Total","Average",null,"Average","Average","Average","Average","Total","Total","Total","Average","Average"]
[null,null,null,null,null,null,null,null,null,null,null,null,null,null,null,null,null,null,"High Pt on Centerline","Yes",{"$f":"IF($T$42=\"No\",0,AVERAGE($U$39,$U$41))","v":62.029999998717656},{"$f":"IF($T$43=\"No\",0,$E$22)","v":32},32,{"$f":"IF($T$42=\"No\",0,AVERAGE($X$39,$X$41))","v":93.35},{"$f":"IF($T$43=\"\",\"\",IF($U$43<$B$14,(($U$43-$B$13)*$AB$31)+$C$13,IF($U$43<$B$15,(($U$43-$B$14)*$AB$32)+$C$14,IF($U$43<$B$16,(($U$43-$B$15)*$AB$33)+$C$15,IF($U$43<$B$17,(($U$43-$B$16)*$AB$34)+$C$16,IF($U$43<$B$18,(($U$43-$B$17)*$AB$35)+$C$17,IF($U$43<$B$19,(($U$43-$B$18)*$AB$36)+$C$18)))))))","v":94.721004000145157},null,null,null,null,null,null,null,null,null,"Log Parameters",null,null,null,null,null,null,"Soil Parameters",null,null,null,null,null,null,null,null,{"$f":"SUM(AY45:AY245)","v":32.000000000000021},{"$f":"SUM($AZ$45:$AZ$245)","v":0},{"$f":"SUM($BA$45:$BA$245)","v":19.702740225850668},{"$f":"SUM($BB$45:$BB$245)","v":0},{"$f":"SUM($BC$45:$BC$245)","v":82.002827284470044},null,{"$f":"SUM($BE$45:$BE$245)","v":47.257934284314693},null,{"$f":"SUM($BG$45:$BG$245)","v":0},{"$f":"SUM($BH$45:$BH$245)","v":0},{"$f":"IF(SUM($BI$45:$BI$245)=0,0,AVERAGE($BI$45:$BI$245))","v":0},null,{"$f":"IF(SUM($BK$45:$BK$245)=0,0,AVERAGE($BK$45:$BK$245))","v":0},{"$f":"IF(SUM($BL$45:$BL$245)=0,0,AVERAGE($BL$45:$BL$245))","v":0},{"$f":"IF(SUM($BM$45:$BM$245)=0,0,AVERAGE($BM$45:$BM$245))","v":0},{"$f":"IF(SUM($BN$45:$BN$245)=0,0,AVERAGE($BN$45:$BN$245))","v":0},{"$f":"SUM(BO45:BO245)","v":32.000000000000021},{"$f":"SUM($BP$45:$BP$245)","v":13.680000000000009},{"$f":"SUM($BQ$45:$BQ$245)","v":18.320000000000011},{"$f":"IF(SUM($BR$45:$BR$245)=0,0,AVERAGE($BR$45:$BR$245))","v":16},{"$f":"IF(SUM($BS$45:$BS$245)=0,0,AVERAGE($BS$45:$BS$245))","v":16}]
[null,null,null,null,null,null,null,null,null,null,null,null,null,null,null,null,null,null,null,null,null,null,null,null,null,null,null,null,null,null,null,null,null,null,"Point","Distance","Zone","xcrown (ft)","ycrown (ft)","xbottom (ft)","ybottom (ft)","ysoil (ft)","db,dry,crown (ft)","db,sat,crown (ft)","db,crown (ft)","db,crown,bed (ft)","db,crown,bank (ft)","db,dry,bottom (ft)","db,sat,bottom (ft)","db,bottom (ft)","LT,em (ft)","Vbed,dry (ft3)","Vbed,sat (ft3)","Vbank,dry (ft3)","Vbank,sat (ft3)","hb,TS (ft)","ATSp,em (ft2)","dTSp,dry,em (ft)","ATSp,dry,em (ft2)","LT,ex (ft)","cD (ft)","hT↑bed,ex,wet (ft)","CL (ft)","cL (ft)","zT,CL↓WSE","CW","LTf,tot (ft)","LTf,bed (ft)","LTf,banks (ft)","cF (ft)","csoil (ft)"]
[null,null,null,null,null,null,null,null,null,null,null,null,null,null,null,null,null,null,null,null,null,"Log Crown and Soil Intercept",null,"Dist to Intercept","Intercept in Zone?","LW Buried?","Exposed Segment",null,null,"Large Wood Centerline",null,null,null,null,0,{"$f":"($AI45/$AI$245)*$AJ$245","v":0},{"$f":"IF(OR($C$19=\"\",$F$25=\"\",$G$25=\"\"),\"None\",IF(AL45<$B$14,\"Left Floodplain\",IF(AL45<$B$15,\"Left Bank\",IF(AL45<$B$16,\"Left Stream Bed\",IF(AL45<$B$17,\"Right Stream Bed\",IF(AL45<$B$18,\"Right Bank\",\"Right Floodplain\"))))))","v":"Left Bank"},{"$f":"MIN($U$38:$U$39)","v":43.220871924076135},{"$f":"IF($U$38<=$U$39,$X$38,$X$39)","v":94.599999944149459},{"$f":"MIN($U$40:$U$41)","v":43.220871926640832},{"$f":"IF($U$40<=$U$41,$X$40,$X$41)","v":92.099999944149459},{"$f":"IF($AL45<$B$14,(($AL45-$B$13)*$AB$31)+$C$13,IF($AL45<$B$15,(($AL45-$B$14)*$AB$32)+$C$14,IF($AL45<$B$16,(($AL45-$B$15)*$AB$33)+$C$15,IF($AL45<$B$17,(($AL45-$B$16)*$AB$34)+$C$16,IF($AL45<$B$18,(($AL45-$B$17)*$AB$35)+$C$17,IF($AL45<$B$19,(($AL45-$B$18)*$AB$36)+$C$18))))))","v":97.14934376689213},{"$f":"IF(OR($AP45<$AE$12,$AP45<=$AM45),0,IF(OR($AP45>=$AE$12,$AM45>=$AE$12),$AP45-$AM45-$AR45,$AP45-$AE$12))","v":0},{"$f":"IF($AP45<=$AM45,0,IF($AM45>=$AE$12,0,IF($AP45<=$AE$12,$AP45-$AM45,$AE$12-$AM45)))","v":2.5493438227426708},{"$f":"IF(AP45<=AM45,0,AP45-AM45)","v":2.5493438227426708},{"$f":"IF(OR($AS45=\"\",$AS45=0),\"\",IF(OR($AK45=\"Left Stream Bed\",$AK45=\"Right Stream Bed\"),$AS45,\"\"))","v":""},{"$f":"IF(OR($AS45=\"\",$AS45=0),\"\",IF(OR($AK45=\"Left Floodplain\",$AK45=\"Left Bank\",$AK45=\"Right Bank\",$AK45=\"Right Floodplain\"),$AS45,\"\"))","v":2.5493438227426708},{"$f":"IF(OR($AP45<$AE$12,$AP45<=$AO45),0,IF($AO45>=$AE$12,$AP45-$AO45,$AP45-$AE$12))","v":0},{"$f":"IF($AP45<=$AO45,0,IF($AO45>=$AE$12,0,IF($AP45<=$AE$12,$AP45-$AO45,$AE$12-$AO45)))","v":5.0493438227426708},{"$f":"IF(AP45<=AO45,0,AP45-AO45)","v":5.0493438227426708},{"$f":"IF($AS45=0,0,IF(OR($AJ45=0,$AJ45=$E$22),$AJ$46/2,$AJ$46))","v":0.08},{"$f":"IF(OR($AK45=\"Left Stream Bed\",$AK45=\"Right Stream Bed\"),$F$22*$AQ45*$AY45,0)","v":0},{"$f":"IF(OR($AK45=\"Left Stream Bed\",$AK45=\"Right Stream Bed\"),$F$22*$AR45*$AY45,0)","v":0},{"$f":"IF(OR($AK45=\"Left Floodplain\",$AK45=\"Left Bank\",$AK45=\"Right Bank\",$AK45=\"Right Floodplain\"),$F$22*$AQ45*$AY45,0)","v":0},{"$f":"IF(OR($AK45=\"Left Floodplain\",$AK45=\"Left Bank\",$AK45=\"Right Bank\",$AK45=\"Right Floodplain\"),$F$22*$AR45*$AY45,0)","v":0.50986876454853414},{"$f":"AX45-AS45","v":2.5},{"$f":"$BD45*$AJ$46*ABS($M$17)","v":0.23511410091698962},{"$f":"AV45-AQ45","v":0},{"$f":"IF(OR($AJ45=0,$AJ45=$E$22),($BF45*$AJ$46/2)*ABS($M$17),$BF45*$AJ$46*ABS($M$17))","v":0},{"$f":"IF(OR($AM45<$AP45,$AO45>$AE$8),\"\",IF(OR($AJ45=0,$AJ45=$E$22),$AJ$46/2,$AJ$46))","v":""},{"$f":"IF($BH45=\"\",\"\",IF($BH45>0,$AJ45,\"\"))","v":""},{"$f":"IF($BH45=\"\",\"\",IF(OR(($AO45-$AP45)<0,$AO$45>=$AE$8),0,($AO45-$AP45)))","v":""},{"$f":"IF($BJ45=\"\",\"\",IF(OR($BJ45>($F$22/2),$BJ45=0),0,0.45-($BJ45*0.45/($F$22/2))))","v":""},{"$f":"IF($BK45=\"\",\"\",IF($BK45>0,$AJ45,\"\"))","v":""},{"$f":"IF($BH45=\"\",\"\",IF(OR(($AM45-$AP45)<0,$AM45>=$AE$8),\"\",($AE$8-($AM45-(($F$22/2)/$M$19)))))","v":""},{"$f":"IF($BM45=\"\",\"\",(((PI()^2)/32)*($B$66^-6)*EXP(-($BM45/$F$22)/(2*($B$66^2)))))","v":""},{"$f":"IF($AO45=0,0,IF($AO45>$AP45,0,IF(OR($AJ45=0,$AJ45=$E$22),$AJ$46/2,$AJ$46)))","v":0.08},{"$f":"IF(AND($BO45>0,OR($AK45=\"Left Stream Bed\",$AK45=\"Right Stream Bed\")),$BO45,0)","v":0},{"$f":"IF(AND($BO45>0,OR($AK45=\"Left Floodplain\",$AK45=\"Left Bank\",$AK45=\"Right Bank\",$AK45=\"Right Floodplain\")),$BO45,0)","v":0.08},{"$f":"IF($BO45>0,$AJ45,\"\")","v":0},{"$f":"IF($AY45>0,$AJ45,\"\")","v":0}]
[null,null,null,null,null,null,null,null,null,null,null,null,null,null,null,null,null,null,null,"Zone L (ft)","Log L (ft)","xcrown (ft)","ycrown (ft)",null,null,null,null,"Lem,crown (ft)",null,null,"x (ft)","y (ft)",null,null,1,{"$f":"($AI46/$AI$245)*$AJ$245","v":0.16},"Left Bank",{"$f":"$AL$45+ABS(AJ46*$M$19*$M$17)","v":43.314917564442929},{"$f":"AM45+((AL46-AL45)*$AA$40)","v":94.599999944428717},{"$f":"$AN$45+ABS(AJ46*$M$19*$M$17)","v":43.314917567007626},{"$f":"AO45+((AN46-AN45)*$AA$40)","v":92.099999944428717},{"$f":"IF($AL46<$B$14,(($AL46-$B$13)*$AB$31)+$C$13,IF($AL46<$B$15,(($AL46-$B$14)*$AB$32)+$C$14,IF($AL46<$B$16,(($AL46-$B$15)*$AB$33)+$C$15,IF($AL46<$B$17,(($AL46-$B$16)*$AB$34)+$C$16,IF($AL46<$B$18,(($AL46-$B$17)*$AB$35)+$C$17,IF($AL46<$B$19,(($AL46-$B$18)*$AB$36)+$C$18))))))","v":97.136087809964238},0,2.5360878655355208,{"$f":"IF(AP46<=AM46,0,AP46-AM46)","v":2.5360878655355208},{"$f":"IF(OR($AS46=\"\",$AS46=0),\"\",IF(OR($AK46=\"Left Stream Bed\",$AK46=\"Right Stream Bed\"),$AS46,\"\"))","v":""},{"$f":"IF(OR($AS46=\"\",$AS46=0),\"\",IF(OR($AK46=\"Left Floodplain\",$AK46=\"Left Bank\",$AK46=\"Right Bank\",$AK46=\"Right Floodplain\"),$AS46,\"\"))","v":2.5360878655355208},{"$f":"IF(OR($AP46<$AE$12,$AP46<=$AO46),0,IF($AO46>=$AE$12,$AP46-$AO46,$AP46-$AE$12))","v":0},5.0360878655355208,5.0360878655355208,0.16,0,0,0,1.0144351462142083,2.5,{"$f":"$BD46*$AJ$46*ABS($M$17)","v":0.23511410091698962},{"$f":"AV46-AQ46","v":0},0,"",{"$f":"IF($BH46=\"\",\"\",IF($BH46>0,$AJ46,\"\"))","v":""},{"$f":"IF($BH46=\"\",\"\",IF(OR(($AO46-$AP46)<0,$AO$45>=$AE$8),0,($AO46-$AP46)))","v":""},"","",{"$f":"IF($BH46=\"\",\"\",IF(OR(($AM46-$AP46)<0,$AM46>=$AE$8),\"\",($AE$8-($AM46-(($F$22/2)/$M$19)))))","v":""},{"$f":"IF($BM46=\"\",\"\",(((PI()^2)/32)*($B$66^-6)*EXP(-($BM46/$F$22)/(2*($B$66^2)))))","v":""},0.16,0,0.16,0.16,{"$f":"IF($AY46>0,$AJ46,\"\")","v":0.16}]
[null,null,null,null,null,null,null,null,null,null,null,null,null,null,null,null,null,null,"LB Floodplain",{"$f":"($B$14-$B$13)/ABS($M$17)/ABS($M$19)","v":56.142953351234553},{"$f":"IF(MAX($U$38:$U$39)<=$B$14,$E$22,IF($T$32=\"No\",0,$E$22-$W$32))","v":0},{"$f":"IF($U$47=0,0,IF(OR($B$25=0,$B$25=180,$B$25=360),$U$38,$U$32+(($X$32-$C$14)/($AB$31-$AA$40))))","v":0},{"$f":"IF($U$47=0,0,IF(OR($B$25=0,$B$25=180,$B$25=360),(($U$38-$B$13)*$AB$31)+$C$13,$X$32+(($V$47-$U$32)*$AA$40)))","v":0},{"$f":"IF($U$47=0,0,IF(OR($B$25=0,$B$25=180,$B$25=360),$E$22-ABS(($X$39-$W$47)/$M$20),IF(AND($U$38<=$U$39,$X$38>=$Y$38),ABS(($X$38-$W$47)/($AA$40*$M$17*$M$19)),IF(AND($U$38<=$U$39,$X$38<$Y$38),ABS($E$22-(ABS(($X$38-$W$47)/($AA$40*$M$17*$M$19)))),IF(AND($U$38>$U$39,$X$39>=$Y$39),ABS(($X$39-$W$47)/($AA$40*$M$17*$M$19)),IF(AND($U$38>=$U$39,$X$39<$Y$39),ABS($E$22-(ABS(($X$38-$W$47)/($AA$40*$M$17*$M$19))))))))))","v":0},{"$f":"IF(AND($U$47=0,$W$47=0),\"No\",IF(AND($V$47<=$B$14,$V$47>=$B$13,$V$47>=MIN($U$38:$U$39),$V$47<=MAX($U$38:$U$39),$W$47<$C$13,$X$47<=$E$22),\"Yes\",\"No\"))","v":"No"},{"$f":"IF($U$47=0,\"No\",IF($Y$47=\"Yes\",\"Partial\",IF(AND($U$47<$E$22,$X$39<$Y$39,$Y$47=\"No\",$Y$48=\"No\",$Y$49=\"No\",$Y$50=\"No\",$Y$51=\"No\",$Y$52=\"No\"),\"Yes\",IF(AND($Y$47=\"No\",$X$32>$Y$32),\"No\",\"Yes\"))))","v":"No"},{"$f":"IF($Z$47=\"Yes\",\"None\",IF(AND($Z$47=\"No\",$U$47=0),\"None\",IF($Z$47=\"No\",\"All\",IF(AND($X$39>=$Y$39,$U$39<=$U$38),\"Left\",\"Right\"))))","v":"None"},{"$f":"IF($U$47=0,0,IF($Z$47=\"No\",0,IF($Z$47=\"Yes\",$U$47,IF(OR($AA$47=\"Left\",$U$47=$E$22),$U$47-(ABS(($U$39-$V$47)/($M$17*$M$19))),$U$47-(ABS(($V$47-$B$14)/($M$17*$M$19)))))))","v":0},null,"Rootwad",{"$f":"AVERAGE(T10,T15)","v":43.22087192535848},{"$f":"AVERAGE(U10,U15)","v":93.349999944149459},null,null,2,0.32,"Left Bank",{"$f":"$AL$45+ABS(AJ47*$M$19*$M$17)","v":43.40896320480973},{"$f":"AM46+((AL47-AL46)*$AA$40)","v":94.599999944707974},43.408963207374427,{"$f":"AO46+((AN47-AN46)*$AA$40)","v":92.099999944707974},{"$f":"IF($AL47<$B$14,(($AL47-$B$13)*$AB$31)+$C$13,IF($AL47<$B$15,(($AL47-$B$14)*$AB$32)+$C$14,IF($AL47<$B$16,(($AL47-$B$15)*$AB$33)+$C$15,IF($AL47<$B$17,(($AL47-$B$16)*$AB$34)+$C$16,IF($AL47<$B$18,(($AL47-$B$17)*$AB$35)+$C$17,IF($AL47<$B$19,(($AL47-$B$18)*$AB$36)+$C$18))))))","v":97.122831853036345},0,2.5228319083283708,2.5228319083283708,"",2.5228319083283708,0,5.0228319083283708,5.0228319083283708,0.16,0,0,0,1.0091327633313483,2.5,0.23511410091698962,0,0,"","","","","","",{"$f":"IF($BM47=\"\",\"\",(((PI()^2)/32)*($B$66^-6)*EXP(-($BM47/$F$22)/(2*($B$66^2)))))","v":""},0.16,0,0.16,0.32,0.32]
[{"$f":"IF($A$6=\"\",\"\",$A$6)","v":"Sample1"},{"$f":"IF($A$6=\"\",\"\",$B$6)","v":"Flow Deflection"},null,{"$f":"IF(OR($B$9=\"N/A\",$B$9=\"\"),\"\",$B$9)","v":"Footer"},{"$f":"IF($D$48=\"\",\"\",\"Log ID\")","v":"Log ID"},{"$f":"IF($D$48=\"\",\"\",$C$9)","v":"Foot#1"},null,null,null,"Page 2",null,null,null,null,null,null,null,null,"Left Bank",{"$f":"($B$15-$B$14)/ABS($M$17)/ABS($M$19)","v":35.727333950785621},{"$f":"IF(AND(MIN($U$38:$U$39)>=$B$14,MAX($U$38:$U$39)<=$B$15),$E$22,IF(AND($T$33=\"No\",$T$32=\"No\"),0,$E$22-$W$33-$U$47))","v":18.338548022229581},{"$f":"IF($U$48=0,0,IF(OR($B$25=0,$B$25=180,$B$25=360),$U$38,$U$33+(($C$15-$X$33)/($AA$40-$AB$32))))","v":61.307432447654129},{"$f":"IF($U$48=0,0,IF(OR($B$25=0,$B$25=180,$B$25=360),(($U$38-$B$14)*$AB$32)+$C$14,$X$33+(($V$48-$U$33)*$AA$40)))","v":94.599999997854454},{"$f":"IF($U$48=0,0,IF(OR($B$25=0,$B$25=180,$B$25=360),$E$22-ABS(($X$39-$W$48)/$M$20),IF(AND($U$38<=$U$39,$X$38>=$Y$38),ABS(($X$38-$W$48)/($AA$40*$M$17*$M$19)),IF(AND($U$38<=$U$39,$X$38<$Y$38),ABS($E$22-(ABS(($X$38-$W$48)/($AA$40*$M$17*$M$19)))),IF(AND($U$38>$U$39,$X$39>=$Y$39),ABS(($X$39-$W$48)/($AA$40*$M$17*$M$19)),IF(AND($U$38>=$U$39,$X$39<$Y$39),ABS($E$22-(ABS(($X$38-$W$48)/($AA$40*$M$17*$M$19))))))))))","v":1.2293042574651452},{"$f":"IF(AND($U$48=0,$W$48=0),\"No\",IF(AND($V$48<=$B$15,$V$48>=$B$14,$V$48>=MIN($U$38:$U$39),$V$48<=MAX($U$38:$U$39),$W$48<$C$14,$X$48<=$E$22),\"Yes\",\"No\"))","v":"No"},{"$f":"IF($U$48=0,\"No\",IF($Y$48=\"Yes\",\"Partial\",IF(AND($U$48<$E$22,$X$39<$Y$39,$Y$47=\"No\",$Y$48=\"No\",$Y$49=\"No\",$Y$50=\"No\",$Y$51=\"No\",$Y$52=\"No\"),\"Yes\",IF(AND($Y$48=\"No\",$X$33>$Y$33),\"No\",\"Yes\"))))","v":"Yes"},{"$f":"IF($Z$48=\"Yes\",\"None\",IF(AND($Z$48=\"No\",$U$48=0),\"None\",IF($Z$48=\"No\",\"All\",IF(AND($X$39>=$Y$39,$U$39<=$U$38,$AA$47<>\"Left\"),\"Left\",\"Right\"))))","v":"None"},{"$f":"IF($U$48=0,0,IF($Z$48=\"No\",0,IF($Z$48=\"Yes\",$U$48,IF(OR($U$48=$E$22,AND($AA$48=\"Left\",MIN($U$38:$U$39)>=$B$14,MAX($U$38:$U$39)>=$B$15)),$U$48-(ABS(($U$39-$V$48)/($M$17*$M$19))),IF($AA$48=\"Left\",$U$48-(ABS(($B$14-$V$48)/($M$17*$M$19))),IF(MAX($U$38:$U$39)>=$B$15,$U$48-(ABS(($V$48-$B$15)/($M$17*$M$19))),ABS(($V$48-$B$14)/($M$17*$M$19))))))))","v":18.338548022229581},null,"Root collar",{"$f":"AVERAGE(T11,T14)","v":43.22087192535848},{"$f":"AVERAGE(U11,U14)","v":93.349999944149459},null,null,3,0.48,"Left Bank",{"$f":"$AL$45+ABS(AJ48*$M$19*$M$17)","v":43.503008845176524},94.599999944987232,43.503008847741221,92.099999944987232,97.109575896108453,0,2.5095759511212208,2.5095759511212208,"",2.5095759511212208,0,5.0095759511212208,5.0095759511212208,0.16,0,0,0,1.0038303804484883,2.5,0.23511410091698962,0,0,"","","","","","","",0.16,0,0.16,0.48,0.48]
["Vertical Force Analysis",null,null,null,null,null,null,null,null,null,null,null,null,null,null,null,null,null,"Left Stream Bed",{"$f":"($B$16-$B$15)/ABS($M$17)/ABS($M$19)","v":42.532540417601929},{"$f":"IF(AND(MIN($U$38:$U$39)>=$B$15,MAX($U$38:$U$39)<=$B$16),$E$22,IF(AND($T$34=\"No\",$T$33=\"No\"),0,IF(AND($T$33=\"Yes\",$T$34=\"No\"),$E$22-$U$48-$U$47,IF(AND($T$33=\"Yes\",$T$34=\"Yes\",$T$36=\"No\"),$E$22-$U$50-$U$48-$U$47,IF(AND($T$33=\"Yes\",$T$34=\"Yes\",$T$36=\"Yes\"),$E$22-$U$52-$U$51-$U$50-$U$48-$U$47,$E$22-$U$52-$U$51-$U$50)))))","v":13.661451977770419},{"$f":"IF($U$49=0,0,IF(OR($B$25=0,$B$25=180,$B$25=360),$U$38,$U$34+(($C$16-$X$34)/($AA$40-$AB$33))))","v":63.098939901289398},{"$f":"IF($U$49=0,0,IF(OR($B$25=0,$B$25=180,$B$25=360),(($U$38-$B$15)*$AB$33)+$C$15,$X$34+(($V$49-$U$34)*$AA$40)))","v":94.600000003174031},{"$f":"IF(OR($U$49=0,AND($C$25=0,$B$25=0),AND($C$25=0,$B$25=360),AND($C$25=0,$B$25=180)),0,IF(OR($B$25=0,$B$25=180,$B$25=360),$E$22-ABS(($X$39-$W$49)/$M$20),IF(AND($U$38<=$U$39,$X$38>=$Y$38),ABS(($X$38-$W$49)/($AA$40*$M$17*$M$19)),IF(AND($U$38<=$U$39,$X$38<$Y$38),ABS($E$22-(ABS(($X$38-$W$49)/($AA$40*$M$17*$M$19)))),IF(AND($U$38>$U$39,$X$39>=$Y$39),ABS(($X$39-$W$49)/($AA$40*$M$17*$M$19)),IF(AND($U$38>=$U$39,$X$39<$Y$39),ABS($E$22-(ABS(($X$38-$W$49)/($AA$40*$M$17*$M$19))))))))))","v":1.8185892992907142},{"$f":"IF(AND($U$49=0,$W$49=0),\"No\",IF(AND($V$49<=$B$16,$V$49>=$B$15,$V$49>=MIN($U$38:$U$39),$V$49<=MAX($U$38:$U$39),$W$49<$C$15,$X$49<=$E$22),\"Yes\",\"No\"))","v":"No"},{"$f":"IF($U$49=0,\"No\",IF($Y$49=\"Yes\",\"Partial\",IF(AND($U$49<$E$22,$X$39<$Y$39,$Y$47=\"No\",$Y$48=\"No\",$Y$49=\"No\",$Y$50=\"No\",$Y$51=\"No\",$Y$52=\"No\"),\"Yes\",IF(AND($Y$49=\"No\",$X$34>$Y$34),\"No\",\"Yes\"))))","v":"Yes"},{"$f":"IF($Z$49=\"Yes\",\"None\",IF(AND($Z$49=\"No\",$U$49=0),\"None\",IF($Z$49=\"No\",\"All\",IF(AND($X$39>=$Y$39,$U$39<=$U$38,$AA$48<>\"Left\"),\"Left\",\"Right\"))))","v":"None"},{"$f":"IF($U$49=0,0,IF($Z$49=\"No\",0,IF($Z$49=\"Yes\",$U$49,IF(OR($U$49=$E$22,AND($AA$49=\"Left\",MIN($U$38:$U$39)>=$B$15,MAX($U$38:$U$39)>=$B$16)),$U$49-(ABS(($U$39-$V$49)/($M$17*$M$19))),IF($AA$49=\"Left\",$U$49-(ABS(($B$15-$V$49)/($M$17*$M$19))),IF(MAX($U$38:$U$39)>=$B$16,$U$49-(ABS(($V$49-$B$16)/($M$17*$M$19))),ABS(($V$49-$B$15)/($M$17*$M$19))))))))","v":13.661451977770419},null,"Stem tip",{"$f":"AVERAGE(T12,T13)","v":62.029999998717656},{"$f":"AVERAGE(U12,U13)","v":93.35},null,null,4,0.64,"Left Bank",43.597054485543318,94.599999945266489,43.597054488108014,92.099999945266489,97.09631993918056,0,2.4963199939140708,2.4963199939140708,"",2.4963199939140708,0,4.9963199939140708,4.9963199939140708,0.16,0,0,0,0.99852799756562838,2.5,0.23511410091698962,0,0,"","","","","","","",0.16,0,0.16,0.64,0.64]
["Net Buoyancy Force",null,null,null,null,null,null,"Lift Force",null,null,null,null,null,null,null,null,null,null,"Right Stream Bed",{"$f":"($B$17-$B$16)/ABS($M$17)/ABS($M$19)","v":49.337746884418237},{"$f":"IF(AND(MIN($U$38:$U$39)>=$B$16,MAX($U$38:$U$39)<=$B$17),$E$22,IF(AND($T$35=\"No\",$T$36=\"No\"),0,IF(AND($T$36=\"Yes\",$T$35=\"No\"),$E$22-$U$51-$U$52,IF(AND($T$36=\"Yes\",$T$35=\"Yes\"),$E$22-$W$35-$U$51-$U$52,$E$22-$W$35))))","v":0},{"$f":"IF($U$50=0,0,IF(OR($B$25=0,$B$25=180,$B$25=360),$U$38,$U$35+(($X$35-$C$16)/($AB$34-$AA$40))))","v":0},{"$f":"IF($U$50=0,0,IF(OR($B$25=0,$B$25=180,$B$25=360),(($U$38-$B$16)*$AB$34)+$C$16,$X$35+(($V$50-$U$35)*$AA$40)))","v":0},{"$f":"IF(OR($U$50=0,AND($C$25=0,$B$25=0),AND($C$25=0,$B$25=360),AND($C$25=0,$B$25=180)),0,IF(OR($B$25=0,$B$25=180,$B$25=360),$E$22-ABS(($X$39-$W$50)/$M$20),IF(AND($U$38<=$U$39,$X$38>=$Y$38),ABS(($X$38-$W$50)/($AA$40*$M$17*$M$19)),IF(AND($U$38<=$U$39,$X$38<$Y$38),ABS($E$22-(ABS(($X$38-$W$50)/($AA$40*$M$17*$M$19)))),IF(AND($U$38>$U$39,$X$39>=$Y$39),ABS(($X$39-$W$50)/($AA$40*$M$17*$M$19)),IF(AND($U$38>=$U$39,$X$39<$Y$39),ABS($E$22-(ABS(($X$38-$W$50)/($AA$40*$M$17*$M$19))))))))))","v":0},{"$f":"IF(AND($U$50=0,$W$50=0),\"No\",IF(AND($V$50<=$B$17,$V$50>=$B$16,$V$50>=MIN($U$38:$U$39),$V$50<=MAX($U$38:$U$39),$W$50<$C$17,$X$50<=$E$22),\"Yes\",\"No\"))","v":"No"},{"$f":"IF($U$50=0,\"No\",IF($Y$50=\"Yes\",\"Partial\",IF(AND($U$50<$E$22,$X$39<$Y$39,$Y$47=\"No\",$Y$48=\"No\",$Y$49=\"No\",$Y$50=\"No\",$Y$51=\"No\",$Y$52=\"No\"),\"Yes\",IF(AND($Y$50=\"No\",$X$35>$Y$35),\"No\",\"Yes\"))))","v":"No"},{"$f":"IF($Z$50=\"Yes\",\"None\",IF(AND($Z$50=\"No\",$U$50=0),\"None\",IF($Z$50=\"No\",\"All\",IF(AND($X$39>=$Y$39,$U$39>=$U$38,$AA$51<>\"Right\"),\"Right\",\"Left\"))))","v":"None"},{"$f":"IF($U$50=0,0,IF($Z$50=\"No\",0,IF($Z$50=\"Yes\",$U$50,IF(OR($U$50=$E$22,AND($AA$50=\"Right\",MIN($U$38:$U$39)<=$B$16,MAX($U$38:$U$39)<=$B$17)),$U$50-(ABS(($U$39-$V$50)/($M$17*$M$19))),IF($AA$50=\"Right\",$U$50-(ABS(($B$17-$V$50)/($M$17*$M$19))),IF(MIN($U$38:$U$39)<=$B$16,$U$50-(ABS(($V$50-$B$16)/($M$17*$M$19))),ABS(($V$50-$B$17)/($M$17*$M$19))))))))","v":0},null,null,null,null,null,null,5,0.8,"Left Bank",43.691100125910111,94.599999945545747,43.691100128474808,92.099999945545747,97.083063982252668,0,2.4830640367069208,2.4830640367069208,"",2.4830640367069208,0,4.9830640367069208,4.9830640367069208,0.16,0,0,0,0.99322561468276838,2.5,0.23511410091698962,0,0,"","","","","","","",0.16,0,0.16,0.8,0.8]
["Wood","VTS (ft3)","VRW (ft3)","VT (ft3)","WT (lbf)","FB (lbf)",null,"CLT",{"$f":"$BK$43","v":0},null,null,null,null,{"$f":"IF(OR($D$22=\"\",$D$22=\"No\"),\"\",\"Rootwad Position\")","v":""},null,null,null,null,"Right Bank",{"$f":"($B$18-$B$17)/ABS($M$17)/ABS($M$19)","v":32.32473071737747},{"$f":"IF(AND(MIN($U$38:$U$39)>=$B$17,MAX($U$38:$U$39)<=$B$18),$E$22,IF(AND($T$36=\"No\",$T$37=\"No\"),0,$E$22-$W$36-$U$52))","v":0},{"$f":"IF($U$51=0,0,IF(OR($B$25=0,$B$25=180,$B$25=360),$U$38,$U$36+(($X$36-$C$17)/($AB$35-$AA$40))))","v":0},{"$f":"IF($U$51=0,0,IF(OR($B$25=0,$B$25=180,$B$25=360),(($U$38-$B$17)*$AB$35)+$C$17,$X$36+(($V$51-$U$36)*$AA$40)))","v":0},{"$f":"IF($U$51=0,0,IF(OR($B$25=0,$B$25=180,$B$25=360),$E$22-ABS(($X$39-$W$51)/$M$20),IF(AND($U$38<=$U$39,$X$38>=$Y$38),ABS(($X$38-$W$51)/($AA$40*$M$17*$M$19)),IF(AND($U$38<=$U$39,$X$38<$Y$38),ABS($E$22-(ABS(($X$38-$W$51)/($AA$40*$M$17*$M$19)))),IF(AND($U$38>$U$39,$X$39>=$Y$39),ABS(($X$39-$W$51)/($AA$40*$M$17*$M$19)),IF(AND($U$38>=$U$39,$X$39<$Y$39),ABS($E$22-(ABS(($X$38-$W$51)/($AA$40*$M$17*$M$19))))))))))","v":0},{"$f":"IF(AND($U$51=0,$W$51=0),\"No\",IF(AND($V$51<=$B$18,$V$51>=$B$17,$V$51>=MIN($U$38:$U$39),$V$51<=MAX($U$38:$U$39),$W$51<$C$18,$X$51<=$E$22),\"Yes\",\"No\"))","v":"No"},{"$f":"IF($U$51=0,\"No\",IF($Y$51=\"Yes\",\"Partial\",IF(AND($U$51<$E$22,$X$39<$Y$39,$Y$47=\"No\",$Y$48=\"No\",$Y$49=\"No\",$Y$50=\"No\",$Y$51=\"No\",$Y$52=\"No\"),\"Yes\",IF(AND($Y$51=\"No\",$X$36>$Y$36),\"No\",\"Yes\"))))","v":"No"},{"$f":"IF($Z$51=\"Yes\",\"None\",IF(AND($Z$51=\"No\",$U$51=0),\"None\",IF($Z$51=\"No\",\"All\",IF(AND($X$39>=$Y$39,$U$39>=$U$38,$AA$52<>\"Right\"),\"Right\",\"Left\"))))","v":"None"},{"$f":"IF($U$51=0,0,IF($Z$51=\"No\",0,IF($Z$51=\"Yes\",$U$51,IF(OR($U$51=$E$22,AND($AA$51=\"Right\",MIN($U$38:$U$39)<=$B$17,MAX($U$38:$U$39)<=$B$18)),$U$51-(ABS(($U$39-$V$51)/($M$17*$M$19))),IF($AA$51=\"Right\",$U$51-(ABS(($B$18-$V$51)/($M$17*$M$19))),IF(MIN($U$38:$U$39)<=$B$17,$U$51-(ABS(($V$51-$B$17)/($M$17*$M$19))),ABS(($V$51-$B$18)/($M$17*$M$19))))))))","v":0},null,null,null,null,null,null,6,0.96,"Left Bank",43.785145766276912,94.599999945825004,43.785145768841609,92.099999945825004,97.069808025324775,0,2.4698080794997708,2.4698080794997708,"",2.4698080794997708,0,4.9698080794997708,4.9698080794997708,0.16,0,0,0,0.98792323179990837,2.5,0.23511410091698962,0,0,"","","","","","","",0.16,0,0.16,0.96,0.96]
["↑WSE",{"$f":"IF(OR($E$22=\"\",$F$22=\"\"),0,IF($AH$17=\"Case 1\",$AL$17-$AJ$21,IF($AH$17=\"Case 2\",$AL$17-$AJ$26,IF($AH$17=\"Case 3\",$AL$17-$AJ$30,IF($AH$17=\"Case 4\",$AL$17-$AJ$37,IF($AH$17=\"Log is completely submerged\",0,IF($AH$17=\"Stem is dry\",PI()*(($F$22/2)^2)*($E$22-$G$22),\"\")))))))","v":0},{"$f":"IF(OR($E$22=\"\",$F$22=\"\",$D$22=\"No\",$D$22=\"\"),0,$BL$40*(1-RWporosity))","v":0},{"$f":"B52+C52","v":0},{"$f":"IF($I$22=\"\",0,($B$52*$I$22)+($C$52*$I$22))","v":0},0,null,"FL (lbf)",{"$f":"IF($J$6=\"\",0,$I$51*$J$25*SWWater*(($J$6^2)/(2*g)))","v":0},null,null,null,null,{"$f":"IF($D$22=\"\",\"\",IF($D$22=\"No\",\"No Rootwad\",IF($U$15>=$AE$8,\"Above high water\",IF($U$10<=$C$16,\"Buried in bed\",IF(OR($AE$48<=$B$14,$AE$48>=$B$18),\"On bank/buried in bank\",\"Exposed in stream\")))))","v":"No Rootwad"},null,null,null,null,"RB Floodplain",{"$f":"($B$19-$B$18)/ABS($M$17)/ABS($M$19)","v":39.129937184193778},{"$f":"IF(MIN($U$38:$U$39)>=$B$18,$E$22,IF($T$37=\"No\",0,$E$22-$W$37))","v":0},{"$f":"IF($U$52=0,0,IF(OR($B$25=0,$B$25=180,$B$25=360),$U$38,$U$37+(($X$37-$C$18)/($AB$36-$AA$40))))","v":0},{"$f":"IF($U$52=0,0,IF(OR($B$25=0,$B$25=180,$B$25=360),(($U$38-$B$18)*$AB$36)+$C$18,$X$37+(($V$52-$U$37)*$AA$40)))","v":0},{"$f":"IF($U$52=0,0,IF(OR($B$25=0,$B$25=180,$B$25=360),$E$22-ABS(($X$39-$W$52)/$M$20),IF(AND($U$38<=$U$39,$X$38>=$Y$38),ABS(($X$38-$W$52)/($AA$40*$M$17*$M$19)),IF(AND($U$38<=$U$39,$X$38<$Y$38),ABS($E$22-(ABS(($X$38-$W$52)/($AA$40*$M$17*$M$19)))),IF(AND($U$38>$U$39,$X$39>=$Y$39),ABS(($X$39-$W$52)/($AA$40*$M$17*$M$19)),IF(AND($U$38>=$U$39,$X$39<$Y$39),ABS($E$22-(ABS(($X$38-$W$52)/($AA$40*$M$17*$M$19))))))))))","v":0},{"$f":"IF(AND($U$52=0,$W$52=0),\"No\",IF(AND($V$52<=$B$19,$V$52>=$B$18,$V$52>=MIN($U$38:$U$39),$V$52<=MAX($U$38:$U$39),$W$52<$C$19,$X$52<=$E$22),\"Yes\",\"No\"))","v":"No"},{"$f":"IF($U$52=0,\"No\",IF($Y$52=\"Yes\",\"Partial\",IF(AND($U$52<$E$22,$X$39<$Y$39,$Y$47=\"No\",$Y$48=\"No\",$Y$49=\"No\",$Y$50=\"No\",$Y$51=\"No\",$Y$52=\"No\"),\"Yes\",IF(AND($Y$52=\"No\",$X$37>$Y$37),\"No\",\"Yes\"))))","v":"No"},{"$f":"IF($Z$52=\"Yes\",\"None\",IF(AND($Z$52=\"No\",$U$52=0),\"None\",IF($Z$52=\"No\",\"All\",IF(AND($X$39>=$Y$39,$U$39>=$U$38),\"Right\",\"Left\"))))","v":"None"},{"$f":"IF($U$52=0,0,IF($Z$52=\"No\",0,IF($Z$52=\"Yes\",$U$52,IF(OR($AA$52=\"Right\",$U$52=$E$22),$U$52-(ABS(($U$39-$V$52)/($M$17*$M$19))),$U$52-(ABS(($V$52-$B$18)/($M$17*$M$19)))))))","v":0},null,null,null,null,null,null,7,1.1200000000000001,"Left Bank",43.879191406643706,94.599999946104262,43.879191409208403,92.099999946104262,97.056552068396883,0,2.4565521222926208,2.4565521222926208,"",2.4565521222926208,0,4.9565521222926208,4.9565521222926208,0.16,0,0,0,0.98262084891704837,2.5,0.23511410091698962,0,0,"","","","","","","",0.16,0,0.16,1.1200000000000001,1.1200000000000001]
["↓WS↑Thw",{"$f":"IF(OR($E$22=\"\",$F$22=\"\"),0,IF(AND(MIN($U$10:$U$15)>=$C$16,MAX($U$10:$U$15)<=$AE$8),PI()*(($F$22/2)^2)*($E$22-$G$22),(PI()*(($F$22/2)^2)*($E$22-$G$22))-$B$52-$B$54))","v":121.07569900555596},{"$f":"IF(OR($F$22=\"\",$D$22=\"No\"),0,((1/3)*PI()*(($H$22/2)^2+($F$22/2)^2+(($H$22/2)*($F$22/2)))*$G$22*(1-RWporosity))-$C$52-$C$54)","v":0},{"$f":"B53+C53","v":121.07569900555596},{"$f":"IF($I$22=\"\",0,($B$53*$I$22)+($C$53*$I$22))","v":4230.8692260501475},{"$f":"($D$53*SWWater)","v":7555.1236179466914},null,"Vertical Force Balance",null,null,null,"Formatting",null,null,null,null,null,null,null,"L check",{"$f":"SUM(U47:U52)","v":32},{"$f":"IF($U$53=$E$22,\"OK\",\"ERROR\")","v":"OK"},null,null,null,null,"Total",{"$f":"SUM(AB47:AB52)","v":32},null,null,null,null,null,null,8,1.28,"Left Bank",43.9732370470105,94.59999994638352,43.973237049575197,92.09999994638352,97.04329611146899,0,2.4432961650854708,2.4432961650854708,"",2.4432961650854708,0,4.9432961650854708,4.9432961650854708,0.16,0,0,0,0.97731846603418837,2.5,0.23511410091698962,0,0,"","","","","","","",0.16,0,0.16,1.28,1.28]
["↓Thalweg",{"$f":"IF(OR($E$22=\"\",$F$22=\"\"),0,IF($AS$17=\"Case 1\",$AU$21,IF($AS$17=\"Case 2\",$AU$26,IF($AS$17=\"Case 3\",$AU$30,IF($AS$17=\"Case 4\",$AU$37,IF($AS$17=\"Log is completely submerged\",PI()*(($F$22/2)^2)*($E$22-$G$22),IF($AS$17=\"Stem is dry\",0,\"\")))))))","v":36.003933673933702},{"$f":"IF(OR($E$22=\"\",$F$22=\"\",$D$22=\"No\",$D$22=\"\"),0,$BO$40*(1-RWporosity))","v":0},{"$f":"B54+C54","v":36.003933673933702},{"$f":"IF($J$22=\"\",0,($B$54*$J$22)+($C$54*$J$22))","v":1404.1534132834145},{"$f":"($D$54*SWWater)","v":2246.6454612534631},null,"FB (lbf)",{"$f":"$F$55","v":9801.769079200154},{"$f":"IF($L54=0,\"\",IF($L54>0,CHAR(233),CHAR(234)))","v":"é"},null,{"$f":"$F$55","v":9801.769079200154},null,"check:",{"$f":"IF(OR($D$22=\"\",$B$25=\"\",$N$52=\"\"),\"\",IF($D$22=\"No\",\"use CD stem\",IF(AND($D$22=\"Yes\",$N$52=\"Exposed in stream\"),\"use CD RW\",\"use CD stem\")))","v":"use CD stem"},null,null,null,null,null,null,null,null,null,null,null,null,null,null,null,null,null,null,null,9,1.44,"Left Bank",44.0672826873773,94.599999946662777,44.067282689941997,92.099999946662777,97.030040154541098,0,2.4300402078783208,2.4300402078783208,"",2.4300402078783208,0,4.9300402078783208,4.9300402078783208,0.16,0,0,0,0.97201608315132837,2.5,0.23511410091698962,0,0,"","","","","","","",0.16,0,0.16,1.44,1.44]
["Total",{"$f":"$B$52+$B$53+$B$54","v":157.07963267948966},{"$f":"$C$52+$C$53+$C$54","v":0},{"$f":"$D$52+$D$53+$D$54","v":157.07963267948966},{"$f":"$E$52+$E$53+$E$54","v":5635.0226393335615},{"$f":"$F$53+$F$54+$F$52","v":9801.769079200154},null,"FL (lbf)",{"$f":"$I$52","v":0},"",null,{"$f":"$I$52","v":0},null,"CDi for Stem Only (i.e., RW is not in contact with streamflow)",null,null,null,null,"Coordinates of Large Wood Bottom at Key Points",null,null,null,null,null,null,null,null,null,null,null,null,null,null,null,10,1.6,"Left Bank",44.161328327744094,94.599999946942035,44.161328330308791,92.099999946942035,97.016784197613219,0,2.416784250671185,2.416784250671185,"",2.416784250671185,0,4.916784250671185,4.916784250671185,0.16,0,0,0,0.96671370026847403,2.5,0.23511410091698962,0,0,"","","","","","","",0.16,0,0.16,1.6,1.6]
[null,null,null,null,null,null,null,"WT (lbf)",{"$f":"$E$55","v":5635.0226393335615},"ê",null,{"$f":"-$E$55","v":-5635.0226393335615},null,"Adjusted q (deg)","CDi Stem only1",null,null,null,null,"Wood Present?","Large Wood Parameters",null,null,null,"Soil",null,null,null,null,null,null,null,null,null,11,1.76,"Left Bank",44.255373968110888,94.599999947221292,44.255373970675585,92.099999947221292,97.003528240685327,0,2.403528293464035,2.403528293464035,"",2.403528293464035,0,4.903528293464035,4.903528293464035,0.16,0,0,0,0.96141131738561403,2.5,0.23511410091698962,0,0,"","","","","","","",0.16,0,0.16,1.76,1.76]
["Soil Ballast Force",null,null,null,null,null,null,"Fsoil (lbf)",{"$f":"$E$61","v":8668.0150771035496},"ê",null,{"$f":"-$E$61","v":-8668.0150771035496},null,{"$f":"IF(OR($O$54=\"\",$O$54=\"use CD RW\"),\"\",IF($B$25<-180,\"Error\",IF($B$25<-90,$B$25+180,IF($B$25<0,-$B$25,IF($B$25<=90,$B$25,IF($B$25<=180,180-$B$25,IF($B$25<=270,$B$25-180,IF($B$25<=360,360-$B$25,\"Error\"))))))))","v":36},{"$f":"IF($O$54=\"use CD stem\",(1.1173-((5.28*10^-2)*$N$57)+((1.4385*10^-3)*$N$57^2)-((9.7668*10^-6)*$N$57^3)),\"\")","v":0.62511617919999973},null,null,null,null,null,"xTS (ft)","Dist (ft)","Adjusted Dist (ft)","yTS (ft)","ysoil (ft)",null,null,null,null,null,null,null,null,null,12,1.92,"Left Bank",44.349419608477689,94.59999994750055,44.349419611042386,92.09999994750055,96.990272283757434,0,2.390272336256885,2.390272336256885,"",2.390272336256885,0,4.890272336256885,4.890272336256885,0.16,0,0,0,0.95610893450275403,2.5,0.23511410091698962,0,0,"","","","","","","",0.16,0,0.16,1.92,1.92]
["Soil","Vdry (ft3)","Vsat (ft3)","Vsoil (ft3)","Fsoil (lbf)",null,null,"FW,V (lbf)",{"$f":"ABS($L$99)","v":9857.0483855487},{"$f":"IF($L58=0,\"\",IF($L58>0,CHAR(233),CHAR(234)))","v":"é"},null,{"$f":"$L$99","v":9857.0483855487},"Flex","1Applies Gippel et al (1996) Formula:",null,null,null,null,"At Left Bank Top",{"$f":"IF(OR($F$25=\"\",$G$25=\"\"),\"No\",IF(MIN($U$40:$U$41)>$B$14,\"No\",IF(MAX($U$40:$U$41)<$B$14,\"No\",\"Yes\")))","v":"No"},{"$f":"$B$14","v":33},{"$f":"IF(OR($B$25=0,$B$25=180,$B$25=360),0,IF($T$14>$T$13,$G$22+((($T$14-$B$14)/ABS($M$17))/$M$19),(($T$13-$B$14)/ABS($M$17))/$M$19))","v":49.388785932919362},{"$f":"IF(V58<0,0,IF(V58>$E$22,$E$22,V58))","v":32},{"$f":"IF($T$14>$T$13,$U$14+(($V$58-$G$22)*$M$20),$U$13-($V$58*$M$20))","v":92.099999913800303},{"$f":"$C$14","v":98.59},null,null,null,null,null,null,null,null,null,13,2.08,"Left Bank",44.443465248844483,94.599999947779807,44.443465251409179,92.099999947779807,96.977016326829542,0,2.377016379049735,2.377016379049735,"",2.377016379049735,0,4.877016379049735,4.877016379049735,0.16,0,0,0,0.95080655161989402,2.5,0.23511410091698962,0,0,"","","","","","","",0.16,0,0.16,2.08,2.08]
["Bed",{"$f":"IF(AND($H$28=\"\",$H$29=\"\"),0,$AZ$43)","v":0},{"$f":"IF(AND($H$28=\"\",$H$29=\"\"),0,$BA$43)","v":19.702740225850668},{"$f":"B59+C59","v":19.702740225850668},{"$f":"IF(OR($D$28=\"\",$E$28=\"\"),0,($B$59*$D$28)+($C$59*$E$28))","v":1673.0191874226252},null,null,"FA,V (lbf)",{"$f":"ABS($L$59)+ABS($M$59)","v":15470.314361476143},{"$f":"IF(($L59+M59)=0,\"\",IF(($L59+M59)>0,CHAR(233),CHAR(234)))","v":"ê"},null,{"$f":"$L$86","v":0},{"$f":"$L$92","v":-15470.314361476143},"CDi = 1.1173 - (5.2800*10-2) q + (1.4385*10-3) q2 - (9.7668*10-6) q3",null,null,null,null,"At Left Bank Toe",{"$f":"IF(OR($F$25=\"\",$G$25=\"\"),\"No\",IF(MIN($U$40:$U$41)>$B$15,\"No\",IF(MAX($U$40:$U$41)<$B$15,\"No\",\"Yes\")))","v":"Yes"},{"$f":"$B$15","v":54},{"$f":"IF(OR($B$25=0,$B$25=180,$B$25=360),0,IF($T$14>$T$13,$G$22+((($T$14-$B$15)/ABS($M$17))/$M$19),(($T$13-$B$15)/ABS($M$17))/$M$19))","v":13.661451982133743},13.661451982133743,{"$f":"IF($T$14>$T$13,$U$14+(($V$59-$G$22)*$M$20),$U$13-($V$59*$M$20))","v":92.099999976156269},{"$f":"$C$15","v":95.63},null,null,null,null,null,null,null,null,null,14,2.2400000000000002,"Left Bank",44.537510889211276,94.599999948059065,44.537510891775973,92.099999948059065,96.963760369901649,0,2.3637604218425849,2.3637604218425849,"",2.3637604218425849,0,4.8637604218425849,4.8637604218425849,0.16,0,0,0,0.94550416873703402,2.5,0.23511410091698962,0,0,"","","","","","","",0.16,0,0.16,2.2400000000000002,2.2400000000000002]
["Bank",{"$f":"IF(AND($H$28=\"\",$H$29=\"\"),0,$BB$43)","v":0},{"$f":"IF(AND($H$28=\"\",$H$29=\"\"),0,$BC$43)","v":82.002827284470044},{"$f":"B60+C60","v":82.002827284470044},{"$f":"IF(OR($D$29=\"\",$E$29=\"\"),0,($B$60*$D$29)+($C$60*$E$29))","v":6994.9958896809248},null,null,"S FV (lbf)",{"$f":"ABS($L$60)","v":10114.5346131644},"ê","Additional resisting force (lbf) needed:",{"$f":"$L$54+$L$55+$L$56+$L$57+$L$58+$L$59+$M$59","v":-10114.5346131644},null,null,null,null,null,null,"At Left Thalweg",{"$f":"IF(OR($F$25=\"\",$G$25=\"\"),\"No\",IF(AND(MAX($U$40:$U$41)>$B$16,MIN($U$40:$U$41)<$B$16),\"Yes\",\"No\"))","v":"No"},{"$f":"$B$16","v":79},{"$f":"IF(OR($B$25=0,$B$25=180,$B$25=360),0,IF($T$14>$T$13,$G$22+((($T$14-$B$16)/ABS($M$17))/$M$19),(($T$13-$B$16)/ABS($M$17))/$M$19))","v":-28.871088435468188},0,{"$f":"IF($T$14>$T$13,$U$14+(($V$60-$G$22)*$M$20),$U$13-($V$60*$M$20))","v":92.100000050389554},{"$f":"$C$16","v":92.8},null,null,null,null,null,null,null,null,null,15,2.4,"Left Bank",44.63155652957807,94.599999948338322,44.631556532142767,92.099999948338322,96.950504412973757,0,2.3505044646354349,2.3505044646354349,"",2.3505044646354349,0,4.8505044646354349,4.8505044646354349,0.16,0,0,0,0.94020178585417402,2.5,0.23511410091698962,0,0,"","","","","","","",0.16,0,0.16,2.4,2.4]
["Total",{"$f":"$B$59+$B$60","v":0},{"$f":"$C$59+$C$60","v":101.70556751032072},{"$f":"$D$59+$D$60","v":101.70556751032072},{"$f":"$E$59+$E$60","v":8668.0150771035496},null,null,"FSV",{"$f":"IF(OR($E$22=\"\",$F$22=\"\",$F$25=\"\",$G$25=\"\"),0,IF($L$58>=0,($I$56+$I$57+$I$59)/($I$54+$I$55+$I$58),($I$56+$I$57+$I$58+$I$59)/($I$54+$I$55)))","v":1.514503714747911},{"$f":"$I$61-$L$61","v":1.4503714747911012E-2},{"$f":"IF(AND($F$25=\"\",$G$25=\"\"),\"\",IF($I$61>=$L$61,\"Structure is Vertically Stable\",IF(AND($I$61<$L$61,$L$58>=0),$L$61*($L$54+$L$55+$L$58)-(-$L$56-$L$57-$L$59-$M$59),IF(AND($I$61<$L$61,$L$58<0),$L$61*($L$54+$L$55)-(-$L$56-$L$57-$L$59-$M$59-$L$58),\"\"))))","v":"Structure is Vertically Stable"},{"$f":"'2-Constants'!$C$5","v":1.5},null,"CD Stem with Exposed RW Lookup Table",null,null,null,null,"At Right Thalweg",{"$f":"IF(OR($F$25=\"\",$G$25=\"\"),\"No\",IF(AND(MAX($U$40:$U$41)>$B$16,MIN($U$40:$U$41)<$B$16),\"Yes\",\"No\"))","v":"No"},{"$f":"$B$16","v":79},{"$f":"IF(OR($B$25=0,$B$25=180,$B$25=360),0,IF($T$14<$T$13,$G$22+((($B$16-$T$14)/ABS($M$17))/$M$19),(($B$16-$T$13)/ABS($M$17))/$M$19))","v":60.871088435468188},32,{"$f":"IF($T$14<$T$13,$U$14+(($V$61-$G$22)*$M$20),$U$13-($V$61*$M$20))","v":92.100000050389554},{"$f":"$C$16","v":92.8},null,null,null,null,null,null,null,null,null,16,2.56,"Left Bank",44.725602169944871,94.59999994861758,44.725602172509568,92.09999994861758,96.937248456045864,0,2.3372485074282849,2.3372485074282849,"",2.3372485074282849,0,4.8372485074282849,4.8372485074282849,0.16,0,0,0,0.93489940297131402,2.5,0.23511410091698962,0,0,"","","","","","","",0.16,0,0.16,2.56,2.56]
[null,null,null,null,null,null,null,null,null,null,{"$f":"IF($K$61<>\"Structure is Vertically Stable\",\"\",IF($K$61=\"Structure is Vertically Stable\",IF($L$58>=0,($I$56+$I$57+$I$59)-(($I$58+$I$54+$I$55)*$L$61),($I$56+$I$57+$I$58+$I$59)-(($I$54+$I$55)*$L$61))))","v":285.12588078996851},null,null,"Adjusted q (deg)","CDi Stem + RW",null,null,null,"At Right Bank Toe",{"$f":"IF(OR($F$25=\"\",$G$25=\"\"),\"No\",IF(MAX($U$40:$U$41)<$B$17,\"No\",IF(MIN($U$40:$U$41)>$B$17,\"No\",\"Yes\")))","v":"No"},{"$f":"$B$17","v":108},{"$f":"IF(OR($B$25=0,$B$25=180,$B$25=360),0,IF($T$14<$T$13,$G$22+((($B$17-$T$14)/ABS($M$17))/$M$19),(($B$17-$T$13)/ABS($M$17))/$M$19))","v":110.20883531988645},32,{"$f":"IF($T$14<$T$13,$U$14+(($V$62-$G$22)*$M$20),$U$13-($V$62*$M$20))","v":92.100000136500157},{"$f":"$C$17","v":94.94},null,null,null,null,null,null,null,null,null,17,2.72,"Left Bank",44.819647810311665,94.599999948896837,44.819647812876362,92.099999948896837,96.923992499117972,0,2.3239925502211349,2.3239925502211349,"",2.3239925502211349,0,4.8239925502211349,4.8239925502211349,0.16,0,0,0,0.92959702008845402,2.5,0.23511410091698962,0,0,"","","","","","","",0.16,0,0.16,2.72,2.72]
["Horizontal Force Analysis",null,null,null,null,null,null,null,null,null,null,null,null,{"$f":"IF(OR($O$54=\"\",$O$54=\"use CD stem\"),\"\",IF(OR($B$25<-180,$B$25>360),\"Error\",IF($B$25>180,360-$B$25,IF($B$25<0,-$B$25,$B$25))))","v":""},{"$f":"IF(OR($O$54=\"\",$O$54=\"use CD stem\"),\"\",IF($B$25<22.5,(($B$25/22.5)*($O$67-$O$66)+$O$66),IF($B$25<45,((($B$25-$N$67)/22.5)*($O$68-$O$67)+$O$67),IF($B$25<67.5,((($B$25-$N$68)/22.5)*($O$69-$O$68)+$O$68),IF($B$25<90,((($B$25-$N$69)/22.5)*($O$70-$O$69)+$O$69),IF($B$25<112.5,((($B$25-$N$70)/22.5)*($O$71-$O$70)+$O$70),IF($B$25<135,((($B$25-$N$71)/22.5)*($O$72-$O$71)+$O$71),IF($B$25<157.5,((($B$25-$N$72)/22.5)*($O$73-$O$72)+$O$72),IF($B$25<=180,((($B$25-$N$74)/22.5)*($O$74-$O$73)+$O$74),$O$74)))))))))","v":""},null,null,null,"At Right Bank Top",{"$f":"IF(OR($F$25=\"\",$G$25=\"\"),\"No\",IF(MAX($U$40:$U$41)<$B$18,\"No\",IF(MIN($U$40:$U$41)>$B$18,\"No\",\"Yes\")))","v":"No"},{"$f":"$B$18","v":127},{"$f":"IF(OR($B$25=0,$B$25=180,$B$25=360),0,IF($T$14<$T$13,$G$22+((($B$18-$T$14)/ABS($M$17))/$M$19),(($B$18-$T$13)/ABS($M$17))/$M$19))","v":142.53356603726391},32,{"$f":"IF($T$14<$T$13,$U$14+(($V$63-$G$22)*$M$20),$U$13-($V$63*$M$20))","v":92.100000192917463},{"$f":"$C$18","v":98.72},null,null,null,null,null,null,null,null,null,18,2.88,"Left Bank",44.913693450678458,94.599999949176095,44.913693453243155,92.099999949176095,96.910736542190079,0,2.3107365930139849,2.3107365930139849,"",2.3107365930139849,0,4.8107365930139849,4.8107365930139849,0.16,0,0,0,0.92429463720559402,2.5,0.23511410091698962,0,0,"","","","","","","",0.16,0,0.16,2.88,2.88]
["Drag Force",null,null,null,null,null,null,null,null,null,null,null,null,null,null,null,null,null,null,null,null,null,null,null,null,null,null,null,null,null,null,null,null,null,19,3.04,"Left Bank",45.007739091045259,94.599999949455352,45.007739093609956,92.099999949455352,96.897480585262187,0,2.2974806358068349,2.2974806358068349,"",2.2974806358068349,0,4.7974806358068349,4.7974806358068349,0.16,0,0,0,0.91899225432273401,2.5,0.23511410091698962,0,0,"","","","","","","",0.16,0,0.16,3.04,3.04]
["ATp / AW","FrL","CDi","Cw","CD*","FD (lbf)",null,"Horizontal Force Balance",null,null,null,"Formatting",null,"q (deg)","CDi Stem + RW",null,null,null,null,null,null,"Log Bottom and Soil Intercept",null,"Dist to Intercept","Intercept in Zone?","LW Buried?","Exposed Segment",null,null,null,null,null,null,null,20,3.2,"Left Bank",45.101784731412053,94.59999994973461,45.10178473397675,92.09999994973461,96.884224628334294,0,2.2842246785996849,2.2842246785996849,"",2.2842246785996849,0,4.7842246785996849,4.7842246785996849,0.16,0,0,0,0.91368987143987401,2.5,0.23511410091698962,0,0,"","","","","","","",0.16,0,0.16,3.2,3.2]
[{"$f":"IF(OR($A$6=\"\",$F$6=\"\"),0,$J$25/(VLOOKUP($A$6,SiteInfo,7,0)))","v":0},{"$f":"IF($A$6=\"\",0,$J$6/(($F$22*g)^0.5))","v":0.51655037702715179},{"$f":"IF($O$54=\"\",0,IF($O$54=\"use CD stem\",$O$57,$O$63))","v":0.62511617919999973},{"$f":"IF(OR($BM$43=\"\",$B$25=\"\"),0,IF($BN$43>0.43,0.43,$BN$43))","v":0},{"$f":"IF(OR($F$22=\"\",$B$25=\"\"),0,0.997*($C$66+$D$66)*((1-$A$66)^-2.06))","v":0.62324083066239977},{"$f":"IF(OR($E$66=\"\",$J$25=\"\"),0,$E$66*$J$25*SWWater*($J$6^2)/(2*g))","v":0},null,"FD (lbf)",{"$f":"IF(AND($F$66=0,$I$71>0),0.4999,$F$66)","v":0.49990000000000001},{"$f":"IF($L$66=0,\"\",IF($L66>0,CHAR(232),CHAR(231)))","v":""},{"$f":"IF(AND($F$66=0,$I$71>0),\"NOTE - Tool has assumed the drag force = 0.49 lbf for FS calcs\",\"\")","v":"NOTE - Tool has assumed the drag force = 0.49 lbf for FS calcs"},{"$f":"$F$66","v":0},null,0,1.2,null,null,null,null,"Zone L (ft)","Log L (ft)","xbottom (ft)","ybottom (ft)",null,null,null,null,"Lem,bot (ft)",null,null,null,null,null,null,21,3.36,"Left Bank",45.195830371778847,94.599999950013867,45.195830374343544,92.099999950013867,96.870968671406416,0,2.2709687213925491,2.2709687213925491,"",2.2709687213925491,0,4.7709687213925491,4.7709687213925491,0.16,0,0,0,0.90838748855701967,2.5,0.23511410091698962,0,0,"","","","","","","",0.16,0,0.16,3.36,3.36]
[null,null,null,null,null,null,null,"FP (lbf)",{"$f":"$C$72","v":20868.035276127375},{"$f":"IF($L$67=0,\"\",IF($L67>=0,CHAR(232),CHAR(231)))","v":"ç"},{"$f":"IF(OR($M$59=0,$M$70=0),\"\",\"NOTE -- Mechanical soil anchors and deadman boulders provide equal resistance to vertical and horizontal forces.  The model first applies these anchor forces to resist the vertical forces, and then applies the balance to resist the horizontal forces.\")","v":""},{"$f":"-$C$72","v":-20868.035276127375},null,22.5,1.25,null,null,null,"LB Floodplain",{"$f":"($B$14-$B$13)/ABS($M$17)/ABS($M$19)","v":56.142953351234553},{"$f":"IF(MAX($U$40:$U$41)<=$B$14,$E$22,IF($T$58=\"No\",0,$E$22-$W$58))","v":0},{"$f":"IF($U$67=0,0,IF(OR($B$25=0,$B$25=180,$B$25=360),$U$40,$U$58+(($X$58-$C$14)/($AB$31-$AA$40))))","v":0},{"$f":"IF($U$67=0,0,IF(OR($B$25=0,$B$25=180,$B$25=360),(($U$40-$B$13)*$AB$31)+$C$13,$X$58+(($V$67-$U$58)*$AA$40)))","v":0},{"$f":"IF($U$67=0,0,IF(OR($B$25=0,$B$25=180,$B$25=360),$E$22-ABS(($X$41-$W$67)/$M$20),IF(AND($U$40<=$U$41,$X$40>=$Y$40),ABS(($X$40-$W$67)/($AA$40*$M$17*$M$19)),IF(AND($U$40<=$U$41,$X$40<$Y$40),ABS($E$22-(ABS(($X$40-$W$67)/($AA$40*$M$17*$M$19)))),IF(AND($U$40>$U$41,$X$41>=$Y$41),ABS(($X$41-$W$67)/($AA$40*$M$17*$M$19)),IF(AND($U$40>=$U$41,$X$41<$Y$41),ABS($E$22-(ABS(($X$40-$W$67)/($AA$40*$M$17*$M$19))))))))))","v":0},{"$f":"IF(AND($U$67=0,$W$67=0),\"No\",IF(AND($V$67<=$B$14,$V$67>=$B$13,$V$67>=MIN($U$40:$U$41),$V$67<=MAX($U$40:$U$41),$W$67<$C$13,$X$67<=$E$22),\"Yes\",\"No\"))","v":"No"},{"$f":"IF($U$67=0,\"No\",IF($Y$67=\"Yes\",\"Partial\",IF(AND($U$67<$E$22,$X$41<$Y$41,$Y$67=\"No\",$Y$68=\"No\",$Y$69=\"No\",$Y$70=\"No\",$Y$71=\"No\",$Y$72=\"No\"),\"Yes\",IF(AND($Y$67=\"No\",$X$58>$Y$58),\"No\",\"Yes\"))))","v":"No"},{"$f":"IF($Z$67=\"Yes\",\"None\",IF(AND($Z$67=\"No\",$U$67=0),\"None\",IF($Z$67=\"No\",\"All\",IF(AND($X$41>=$Y$41,$U$41<=$U$40),\"Left\",\"Right\"))))","v":"None"},{"$f":"IF($U$67=0,0,IF($Z$67=\"No\",0,IF($Z$67=\"Yes\",$U$67,IF(OR($AA$67=\"Left\",$U$67=$E$22),$U$67-(ABS(($U$41-$V$67)/($M$17*$M$19))),$U$67-(ABS(($V$67-$B$14)/($M$17*$M$19)))))))","v":0},null,null,null,null,null,null,22,3.52,"Left Bank",45.289876012145641,94.599999950293125,45.289876014710345,92.099999950293125,96.857712714478524,0,2.2577127641853991,2.2577127641853991,"",2.2577127641853991,0,4.7577127641853991,4.7577127641853991,0.16,0,0,0,0.90308510567415967,2.5,0.23511410091698962,0,0,"","","","","","","",0.16,0,0.16,3.52,3.52]
["Passive Soil Pressure",null,null,"Friction Force",null,null,null,"FF (lbf)",{"$f":"$F$72","v":8792.4307984069892},{"$f":"IF($L$68=0,\"\",IF($L68>=0,CHAR(232),CHAR(231)))","v":"ç"},null,{"$f":"-$F$72","v":-8792.4307984069892},null,45,1.1200000000000001,null,null,null,"Left Bank",{"$f":"($B$15-$B$14)/ABS($M$17)/ABS($M$19)","v":35.727333950785621},{"$f":"IF(AND(MIN($U$40:$U$41)>=$B$14,MAX($U$40:$U$41)<=$B$15),$E$22,IF(AND($T$59=\"No\",$T$58=\"No\"),0,$E$22-$W$59-$U$67))","v":18.338548017866259},{"$f":"IF($U$68=0,0,IF(OR($B$25=0,$B$25=180,$B$25=360),$U$40,$U$59+(($C$15-$X$59)/($AA$40-$AB$32))))","v":79.04391856050016},{"$f":"IF($U$68=0,0,IF(OR($B$25=0,$B$25=180,$B$25=360),(($U$40-$B$14)*$AB$32)+$C$14,$X$59+(($V$68-$U$59)*$AA$40)))","v":92.100000050519967},{"$f":"IF($U$68=0,0,IF(OR($B$25=0,$B$25=180,$B$25=360),$E$22-ABS(($X$41-$W$68)/$M$20),IF(AND($U$40<=$U$41,$X$40>=$Y$40),ABS(($X$40-$W$68)/($AA$40*$M$17*$M$19)),IF(AND($U$40<=$U$41,$X$40<$Y$40),ABS($E$22-(ABS(($X$40-$W$68)/($AA$40*$M$17*$M$19)))),IF(AND($U$40>$U$41,$X$41>=$Y$41),ABS(($X$41-$W$68)/($AA$40*$M$17*$M$19)),IF(AND($U$40>=$U$41,$X$41<$Y$41),ABS($E$22-(ABS(($X$40-$W$68)/($AA$40*$M$17*$M$19))))))))))","v":28.945812507060829},{"$f":"IF(AND($U$68=0,$W$68=0),\"No\",IF(AND($V$68<=$B$15,$V$68>=$B$14,$V$68>=MIN($U$40:$U$41),$V$68<=MAX($U$40:$U$41),$W$68<$C$14,$X$68<=$E$22),\"Yes\",\"No\"))","v":"No"},{"$f":"IF($U$68=0,\"No\",IF($Y$68=\"Yes\",\"Partial\",IF(AND($U$68<$E$22,$X$41<$Y$41,$Y$67=\"No\",$Y$68=\"No\",$Y$69=\"No\",$Y$70=\"No\",$Y$71=\"No\",$Y$72=\"No\"),\"Yes\",IF(AND($Y$68=\"No\",$X$59>$Y$59),\"No\",\"Yes\"))))","v":"Yes"},{"$f":"IF($Z$68=\"Yes\",\"None\",IF(AND($Z$68=\"No\",$U$68=0),\"None\",IF($Z$68=\"No\",\"All\",IF(AND($X$41>=$Y$41,$U$41<=$U$40,$AA$67<>\"Left\"),\"Left\",\"Right\"))))","v":"None"},{"$f":"IF($U$68=0,0,IF($Z$68=\"No\",0,IF($Z$68=\"Yes\",$U$68,IF(OR($U$68=$E$22,AND($AA$68=\"Left\",MIN($U$40:$U$41)>=$B$14,MAX($U$40:$U$41)>=$B$15)),$U$68-(ABS(($U$41-$V$68)/($M$17*$M$19))),IF($AA$68=\"Left\",$U$68-(ABS(($B$14-$V$68)/($M$17*$M$19))),IF(MAX($U$40:$U$41)>=$B$15,$U$68-(ABS(($V$68-$B$15)/($M$17*$M$19))),ABS(($V$68-$B$14)/($M$17*$M$19))))))))","v":18.338548017866259},null,null,null,null,null,null,23,3.68,"Left Bank",45.383921652512441,94.599999950572382,45.383921655077138,92.099999950572382,96.844456757550631,0,2.2444568069782491,2.2444568069782491,"",2.2444568069782491,0,4.7444568069782491,4.7444568069782491,0.16,0,0,0,0.89778272279129967,2.5,0.23511410091698962,0,0,"","","","","","","",0.16,0,0.16,3.68,3.68]
["Soil","KP","FP (lbf)","LTf (ft)","m","FF (lbf)",null,"FW,H (lbf)",{"$f":"ABS($M$99)","v":294.10882793616611},{"$f":"IF($L$69=0,\"\",IF($L69>=0,CHAR(232),CHAR(231)))","v":"ç"},null,{"$f":"$M$99","v":-294.10882793616611},"Flex",67.5,1.22,null,null,null,"Left Stream Bed",{"$f":"($B$16-$B$15)/ABS($M$17)/ABS($M$19)","v":42.532540417601929},{"$f":"IF(AND(MIN($U$40:$U$41)>=$B$15,MAX($U$40:$U$41)<=$B$16),$E$22,IF(AND($T$60=\"No\",$T$59=\"No\"),0,IF(AND($T$59=\"Yes\",$T$60=\"No\"),$E$22-$U$68-$U$67,IF(AND($T$59=\"Yes\",$T$60=\"Yes\",$T$62=\"No\"),$E$22-$U$70-$U$68-$U$67,IF(AND($T$59=\"Yes\",$T$60=\"Yes\",$T$62=\"Yes\"),$E$22-$U$72-$U$71-$U$70-$U$68-$U$67,$E$22-$U$72-$U$71-$U$70)))))","v":13.661451982133741},{"$f":"IF($U$69=0,0,IF(OR($B$25=0,$B$25=180,$B$25=360),$U$40,$U$60+(($C$16-$X$60)/($AA$40-$AB$33))))","v":85.183744975696612},{"$f":"IF($U$69=0,0,IF(OR($B$25=0,$B$25=180,$B$25=360),(($U$40-$B$15)*$AB$33)+$C$15,$X$60+(($V$69-$U$60)*$AA$40)))","v":92.100000068751143},{"$f":"IF($U$69=0,0,IF(OR($B$25=0,$B$25=180,$B$25=360),$E$22-ABS(($X$41-$W$69)/$M$20),IF(AND($U$40<=$U$41,$X$40>=$Y$40),ABS(($X$40-$W$69)/($AA$40*$M$17*$M$19)),IF(AND($U$40<=$U$41,$X$40<$Y$40),ABS($E$22-(ABS(($X$40-$W$69)/($AA$40*$M$17*$M$19)))),IF(AND($U$40>$U$41,$X$41>=$Y$41),ABS(($X$41-$W$69)/($AA$40*$M$17*$M$19)),IF(AND($U$40>=$U$41,$X$41<$Y$41),ABS($E$22-(ABS(($X$40-$W$69)/($AA$40*$M$17*$M$19))))))))))","v":39.391507460818104},{"$f":"IF(AND($U$69=0,$W$69=0),\"No\",IF(AND($V$69<=$B$16,$V$69>=$B$15,$V$69>=MIN($U$40:$U$41),$V$69<=MAX($U$40:$U$41),$W$69<$C$15,$X$69<=$E$22),\"Yes\",\"No\"))","v":"No"},{"$f":"IF($U$69=0,\"No\",IF($Y$69=\"Yes\",\"Partial\",IF(AND($U$69<$E$22,$X$41<$Y$41,$Y$67=\"No\",$Y$68=\"No\",$Y$69=\"No\",$Y$70=\"No\",$Y$71=\"No\",$Y$72=\"No\"),\"Yes\",IF(AND($Y$69=\"No\",$X$60>$Y$60),\"No\",\"Yes\"))))","v":"Yes"},{"$f":"IF($Z$69=\"Yes\",\"None\",IF(AND($Z$69=\"No\",$U$69=0),\"None\",IF($Z$69=\"No\",\"All\",IF(AND($X$41>=$Y$41,$U$41<=$U$40,$AA$68<>\"Left\"),\"Left\",\"Right\"))))","v":"None"},{"$f":"IF($U$69=0,0,IF($Z$69=\"No\",0,IF($Z$69=\"Yes\",$U$69,IF(OR($U$69=$E$22,AND($AA$69=\"Left\",MIN($U$40:$U$41)>=$B$15,MAX($U$40:$U$41)>=$B$16)),$U$69-(ABS(($U$41-$V$69)/($M$17*$M$19))),IF($AA$69=\"Left\",$U$69-(ABS(($B$15-$V$69)/($M$17*$M$19))),IF(MAX($U$40:$U$41)>=$B$16,$U$69-(ABS(($V$69-$B$16)/($M$17*$M$19))),ABS(($V$69-$B$15)/($M$17*$M$19))))))))","v":13.661451982133741},null,null,null,null,null,null,24,3.84,"Left Bank",45.477967292879235,94.59999995085164,45.477967295443932,92.09999995085164,96.831200800622739,0,2.2312008497710991,2.2312008497710991,"",2.2312008497710991,0,4.7312008497710991,4.7312008497710991,0.16,0,0,0,0.89248033990843967,2.5,0.23511410091698962,0,0,"","","","","","","",0.16,0,0.16,3.84,3.84]
["Bed",{"$f":"IF(OR($A$6=\"\",$F$6=\"\",$F$25=\"\"),0,TAN((45+($F$28/2))*PI()/180)^2)","v":4.8149513101909616},{"$f":"IF($E$61=0,0,0.5*$B$70*$E$59)","v":4027.7529642275936},{"$f":"IF($F$28=\"\",0,IF($U$15<$AF$47,$BP$43+2,$BP$43))","v":15.680000000000009},{"$f":"IF($F$28=\"\",0,TAN($F$28*PI()/180))","v":0.86928673781622645},{"$f":"IF(OR($L$60>=0,$D$70=0),0,$I$60*$E$70*($D$70/$D$72))","v":4054.8622035006347},null,"FA,H (lbf)",{"$f":"ABS($L$70)+ABS($M$70)","v":0},{"$f":"IF(($L$70+M70)=0,\"\",IF(($L$70+M70)>=0,CHAR(232),CHAR(231)))","v":""},null,{"$f":"$M$86","v":0},{"$f":"$M$92","v":0},90,0.97,null,null,null,"Right Stream Bed",{"$f":"($B$17-$B$16)/ABS($M$17)/ABS($M$19)","v":49.337746884418237},{"$f":"IF(AND(MIN($U$40:$U$41)>=$B$16,MAX($U$40:$U$41)<=$B$17),$E$22,IF(AND($T$61=\"No\",$T$62=\"No\"),0,IF(AND($T$62=\"Yes\",$T$61=\"No\"),$E$22-$U$71-$U$72,IF(AND($T$62=\"Yes\",$T$61=\"Yes\"),$E$22-$W$61-$U$71-$U$72,$E$22-$W$61))))","v":0},{"$f":"IF($U$70=0,0,IF(OR($B$25=0,$B$25=180,$B$25=360),$U$40,$U$61+(($X$61-$C$16)/($AB$34-$AA$40))))","v":0},{"$f":"IF($U$70=0,0,IF(OR($B$25=0,$B$25=180,$B$25=360),(($U$40-$B$16)*$AB$34)+$C$16,$X$61+(($V$70-$U$61)*$AA$40)))","v":0},{"$f":"IF($U$70=0,0,IF(OR($B$25=0,$B$25=180,$B$25=360),$E$22-ABS(($X$41-$W$70)/$M$20),IF(AND($U$40<=$U$41,$X$40>=$Y$40),ABS(($X$40-$W$70)/($AA$40*$M$17*$M$19)),IF(AND($U$40<=$U$41,$X$40<$Y$40),ABS($E$22-(ABS(($X$40-$W$70)/($AA$40*$M$17*$M$19)))),IF(AND($U$40>$U$41,$X$41>=$Y$41),ABS(($X$41-$W$70)/($AA$40*$M$17*$M$19)),IF(AND($U$40>=$U$41,$X$41<$Y$41),ABS($E$22-(ABS(($X$40-$W$70)/($AA$40*$M$17*$M$19))))))))))","v":0},{"$f":"IF(AND($U$70=0,$W$70=0),\"No\",IF(AND($V$70<=$B$17,$V$70>=$B$16,$V$70>=MIN($U$40:$U$41),$V$70<=MAX($U$40:$U$41),$W$70<$C$17,$X$70<=$E$22),\"Yes\",\"No\"))","v":"No"},{"$f":"IF($U$70=0,\"No\",IF($Y$70=\"Yes\",\"Partial\",IF(AND($U$70<$E$22,$X$41<$Y$41,$Y$67=\"No\",$Y$68=\"No\",$Y$69=\"No\",$Y$70=\"No\",$Y$71=\"No\",$Y$72=\"No\"),\"Yes\",IF(AND($Y$70=\"No\",$X$61>$Y$61),\"No\",\"Yes\"))))","v":"No"},{"$f":"IF($Z$70=\"Yes\",\"None\",IF(AND($Z$70=\"No\",$U$70=0),\"None\",IF($Z$70=\"No\",\"All\",IF(AND($X$41>=$Y$41,$U$41>=$U$40,$AA$71<>\"Right\"),\"Right\",\"Left\"))))","v":"None"},{"$f":"IF($U$70=0,0,IF($Z$70=\"No\",0,IF($Z$70=\"Yes\",$U$70,IF(OR($U$70=$E$22,AND($AA$70=\"Right\",MIN($U$40:$U$41)<=$B$16,MAX($U$40:$U$41)<=$B$17)),$U$70-(ABS(($U$41-$V$70)/($M$17*$M$19))),IF($AA$70=\"Right\",$U$70-(ABS(($B$17-$V$70)/($M$17*$M$19))),IF(MIN($U$40:$U$41)<=$B$16,$U$70-(ABS(($V$70-$B$16)/($M$17*$M$19))),ABS(($V$70-$B$17)/($M$17*$M$19))))))))","v":0},null,null,null,null,null,null,25,4,"Left Bank",45.572012933246029,94.599999951130897,45.572012935810726,92.099999951130897,96.817944843694846,0,2.2179448925639491,2.2179448925639491,"",2.2179448925639491,0,4.7179448925639491,4.7179448925639491,0.16,0,0,0,0.88717795702557967,2.5,0.23511410091698962,0,0,"","","","","","","",0.16,0,0.16,4,4]
["Bank",{"$f":"IF(OR($A$6=\"\",$F$6=\"\",$F$25=\"\"),0,TAN((45+($F$29/2))*PI()/180)^2)","v":4.8149513101909616},{"$f":"IF($E$61=0,0,0.5*$B$71*$E$60)","v":16840.28231189978},{"$f":"IF($F$28=\"\",0,$BQ$43)","v":18.320000000000011},{"$f":"IF($F$28=\"\",0,TAN($F$29*PI()/180))","v":0.86928673781622645},{"$f":"IF(OR($L$60>=0,$D$71=0),0,$I$60*$E$71*($D$71/$D$72))","v":4737.5685949063545},null,"S FH (lbf)",{"$f":"ABS($L$71)","v":29954.574902470529},{"$f":"IF($L$71=0,\"\",IF($L71>=0,CHAR(232),CHAR(231)))","v":"ç"},"Additional resisting force (lbf) needed:",{"$f":"$L$66+$L$67+$L$68+$L$69+$L$70+$M$70","v":-29954.574902470529},null,112.5,1,null,null,null,"Right Bank",{"$f":"($B$18-$B$17)/ABS($M$17)/ABS($M$19)","v":32.32473071737747},{"$f":"IF(AND(MIN($U$40:$U$41)>=$B$17,MAX($U$40:$U$41)<=$B$18),$E$22,IF(AND($T$62=\"No\",$T$63=\"No\"),0,$E$22-$W$62-$U$72))","v":0},{"$f":"IF($U$71=0,0,IF(OR($B$25=0,$B$25=180,$B$25=360),$U$40,$U$62+(($X$62-$C$17)/($AB$35-$AA$40))))","v":0},{"$f":"IF($U$71=0,0,IF(OR($B$25=0,$B$25=180,$B$25=360),(($U$40-$B$17)*$AB$35)+$C$17,$X$62+(($V$71-$U$62)*$AA$40)))","v":0},{"$f":"IF($U$71=0,0,IF(OR($B$25=0,$B$25=180,$B$25=360),$E$22-ABS(($X$41-$W$71)/$M$20),IF(AND($U$40<=$U$41,$X$40>=$Y$40),ABS(($X$40-$W$71)/($AA$40*$M$17*$M$19)),IF(AND($U$40<=$U$41,$X$40<$Y$40),ABS($E$22-(ABS(($X$40-$W$71)/($AA$40*$M$17*$M$19)))),IF(AND($U$40>$U$41,$X$41>=$Y$41),ABS(($X$41-$W$71)/($AA$40*$M$17*$M$19)),IF(AND($U$40>=$U$41,$X$41<$Y$41),ABS($E$22-(ABS(($X$40-$W$71)/($AA$40*$M$17*$M$19))))))))))","v":0},{"$f":"IF(AND($U$71=0,$W$71=0),\"No\",IF(AND($V$71<=$B$18,$V$71>=$B$17,$V$71>=MIN($U$40:$U$41),$V$71<=MAX($U$40:$U$41),$W$71<$C$18,$X$71<=$E$22),\"Yes\",\"No\"))","v":"No"},{"$f":"IF($U$71=0,\"No\",IF($Y$71=\"Yes\",\"Partial\",IF(AND($U$71<$E$22,$X$41<$Y$41,$Y$67=\"No\",$Y$68=\"No\",$Y$69=\"No\",$Y$70=\"No\",$Y$71=\"No\",$Y$72=\"No\"),\"Yes\",IF(AND($Y$71=\"No\",$X$62>$Y$62),\"No\",\"Yes\"))))","v":"No"},{"$f":"IF($Z$71=\"Yes\",\"None\",IF(AND($Z$71=\"No\",$U$71=0),\"None\",IF($Z$71=\"No\",\"All\",IF(AND($X$41>=$Y$41,$U$41>=$U$40,$AA$72<>\"Right\"),\"Right\",\"Left\"))))","v":"None"},{"$f":"IF($U$71=0,0,IF($Z$71=\"No\",0,IF($Z$71=\"Yes\",$U$71,IF(OR($U$71=$E$22,AND($AA$71=\"Right\",MIN($U$40:$U$41)<=$B$17,MAX($U$40:$U$41)<=$B$18)),$U$71-(ABS(($U$41-$V$71)/($M$17*$M$19))),IF($AA$71=\"Right\",$U$71-(ABS(($B$18-$V$71)/($M$17*$M$19))),IF(MIN($U$40:$U$41)<=$B$17,$U$71-(ABS(($V$71-$B$17)/($M$17*$M$19))),ABS(($V$71-$B$18)/($M$17*$M$19))))))))","v":0},null,null,null,null,null,null,26,4.16,"Left Bank",45.66605857361283,94.599999951410155,45.666058576177527,92.099999951410155,96.804688886766954,0,2.2046889353567991,2.2046889353567991,"",2.2046889353567991,0,4.7046889353567991,4.7046889353567991,0.16,0,0,0,0.88187557414271966,2.5,0.23511410091698962,0,0,"","","","","","","",0.16,0,0.16,4.16,4.16]
["Total","-",{"$f":"$C$70+$C$71","v":20868.035276127375},{"$f":"$D$70+$D$71","v":34.000000000000021},"-",{"$f":"$F$70+$F$71","v":8792.4307984069892},null,"FSH",{"$f":"IF(OR($E$22=\"\",$F$22=\"\",$F$25=\"\",$G$25=\"\"),0,IF($I$66=0,0,IF($L$69>=0,($I$67+$I$68+$I$70)/($I$66+$I$69),($I$67+$I$68+$I$69+$I$70)/$I$66)))","v":59921.13403174741},{"$f":"$I$72-$L$72","v":59919.63403174741},{"$f":"IF(AND($F$25=\"\",$G$25=\"\"),\"\",IF(OR($J$25=0,$I$72>=$L$72),\"Structure is Horizontally Stable\",IF(AND($I$72<$L$72,$L$69>=0),$L$72*($L$66+$L$69)-(-$L$67-$L$68-$L$70-$M$70),IF(AND($I$72<$L$72,$L$69<0),$L$72*($L$66)-(-$L$67-$L$68-$L$70-$M$70-$L$69),\"\"))))","v":"Structure is Horizontally Stable"},{"$f":"'2-Constants'!$C$6","v":1.5},null,135,0.81,null,null,null,"RB Floodplain",{"$f":"($B$19-$B$18)/ABS($M$17)/ABS($M$19)","v":39.129937184193778},{"$f":"IF(MIN($U$40:$U$41)>=$B$18,$E$22,IF($T$63=\"No\",0,$E$22-$W$63))","v":0},{"$f":"IF($U$72=0,0,IF(OR($B$25=0,$B$25=180,$B$25=360),$U$40,$U$63+(($X$63-$C$18)/($AB$36-$AA$40))))","v":0},{"$f":"IF($U$72=0,0,IF(OR($B$25=0,$B$25=180,$B$25=360),(($U$40-$B$18)*$AB$36)+$C$18,$X$63+(($V$72-$U$63)*$AA$40)))","v":0},{"$f":"IF($U$72=0,0,IF(OR($B$25=0,$B$25=180,$B$25=360),$E$22-ABS(($X$41-$W$72)/$M$20),IF(AND($U$40<=$U$41,$X$40>=$Y$40),ABS(($X$40-$W$72)/($AA$40*$M$17*$M$19)),IF(AND($U$40<=$U$41,$X$40<$Y$40),ABS($E$22-(ABS(($X$40-$W$72)/($AA$40*$M$17*$M$19)))),IF(AND($U$40>$U$41,$X$41>=$Y$41),ABS(($X$41-$W$72)/($AA$40*$M$17*$M$19)),IF(AND($U$40>=$U$41,$X$41<$Y$41),ABS($E$22-(ABS(($X$40-$W$72)/($AA$40*$M$17*$M$19))))))))))","v":0},{"$f":"IF(AND($U$72=0,$W$72=0),\"No\",IF(AND($V$72<=$B$19,$V$72>=$B$18,$V$72>=MIN($U$40:$U$41),$V$72<=MAX($U$40:$U$41),$W$72<$C$19,$X$72<=$E$22),\"Yes\",\"No\"))","v":"No"},{"$f":"IF($U$72=0,\"No\",IF($Y$72=\"Yes\",\"Partial\",IF(AND($U$72<$E$22,$X$41<$Y$41,$Y$67=\"No\",$Y$68=\"No\",$Y$69=\"No\",$Y$70=\"No\",$Y$71=\"No\",$Y$72=\"No\"),\"Yes\",IF(AND($Y$72=\"No\",$X$63>$Y$63),\"No\",\"Yes\"))))","v":"No"},{"$f":"IF($Z$72=\"Yes\",\"None\",IF(AND($Z$72=\"No\",$U$72=0),\"None\",IF($Z$72=\"No\",\"All\",IF(AND($X$41>=$Y$41,$U$41>=$U$40),\"Right\",\"Left\"))))","v":"None"},{"$f":"IF($U$72=0,0,IF($Z$72=\"No\",0,IF($Z$72=\"Yes\",$U$72,IF(OR($AA$72=\"Right\",$U$72=$E$22),$U$72-(ABS(($U$41-$V$72)/($M$17*$M$19))),$U$72-(ABS(($V$72-$B$18)/($M$17*$M$19)))))))","v":0},null,null,null,null,null,null,27,4.32,"Left Bank",45.760104213979623,94.599999951689412,45.76010421654432,92.099999951689412,96.791432929839061,0,2.1914329781496491,2.1914329781496491,"",2.1914329781496491,0,4.6914329781496491,4.6914329781496491,0.16,0,0,0,0.87657319125985966,2.5,0.23511410091698962,0,0,"","","","","","","",0.16,0,0.16,4.32,4.32]
[null,null,null,null,null,null,null,null,null,null,{"$f":"IF($K$72<>\"Structure is Horizontally Stable\",\"\",IF($K$72=\"Structure is Horizontally Stable\",IF($L$69>=0,($I$67+$I$68+$I$70)-(($I$69+$I$66)*$L$72),($I$67+$I$68+$I$69+$I$70)-(($I$66)*$L$72))))","v":29953.825052470529},null,null,157.5,0.75,null,null,null,null,"L check",{"$f":"SUM(U67:U72)","v":32},{"$f":"IF($U$53=$E$22,\"OK\",\"ERROR\")","v":"OK"},null,null,null,null,"Total",{"$f":"SUM(AB67:AB72)","v":32},null,null,null,null,null,null,28,4.4800000000000004,"Left Bank",45.854149854346417,94.59999995196867,45.854149856911114,92.09999995196867,96.778176972911169,0,2.1781770209424991,2.1781770209424991,"",2.1781770209424991,0,4.6781770209424991,4.6781770209424991,0.16,0,0,0,0.87127080837699966,2.5,0.23511410091698962,0,0,"","","","","","","",0.16,0,0.16,4.4800000000000004,4.4800000000000004]
["Moment Force Balance",null,null,null,null,null,null,null,null,null,null,{"$f":"IF($D$22=\"Yes\",\"Rootwad\",\"Root Collar\")","v":"Root Collar"},null,180,1.1000000000000001,null,null,null,null,null,null,null,null,null,null,null,null,null,null,null,null,null,null,null,29,4.6399999999999997,"Left Bank",45.948195494713218,94.599999952247927,45.948195497277908,92.099999952247927,96.764921015983276,0,2.1649210637353491,2.1649210637353491,"",2.1649210637353491,0,4.6649210637353491,4.6649210637353491,0.16,0,0,0,0.86596842549413966,2.5,0.23511410091698962,0,0,"","","","","","","",0.16,0,0.16,4.6399999999999997,4.6399999999999997]
["Driving Moment Centroids",null,null,"Resisting Moment Centroids",null,null,null,"Moment Force Balance",null,null,null,null,null,"Source:  Gippel (1992) plot of drag coefficients",null,null,null,null,"Projected Area of Log Calculation",null,null,null,"Projected Area of Rootwad Calculation",null,null,null,null,null,null,null,null,null,null,null,30,4.8,"Left Bank",46.042241135080012,94.599999952527185,46.042241137644709,92.099999952527185,96.751665059055384,0,2.1516651065281991,2.1516651065281991,"",2.1516651065281991,0,4.6516651065281991,4.6516651065281991,0.16,0,0,0,0.86066604261127966,2.5,0.23511410091698962,0,0,"","","","","","","",0.16,0,0.16,4.8,4.8]
["cT,B (ft)","cL (ft)","cD (ft)","cT,W (ft)","csoil (ft)","cF&N (ft)","cP (ft)","Md (lbf)",{"$f":"IF(OR($C$19=\"\",$E$22=\"\",$D$22=\"\",$F$22=\"\",$F$25=\"\",$G$25=\"\"),0,IF($F$78=\"Stem Tip\",$L$77,$L$78))","v":401025.46485990041},null,null,"Md","Mr",null,null,"Centroid of Log",null,null,"DTS =",{"$f":"IF(OR($E$22=\"\",$F$22=\"\",$F$25=\"\",$G$25=\"\"),\"\",$F$22)","v":2.5},"ft",null,null,"a = DRW/2",{"$f":"$H$22/2","v":0},"ft","A =","a*b*((p/2)+arcsin(d/a)) + (b*d*(sqrt(a2-d2))/a)",null,null,null,null,null,null,31,4.96,"Left Bank",46.136286775446806,94.599999952806442,46.136286778011502,92.099999952806442,96.738409102127491,0,2.1384091493210491,2.1384091493210491,"",2.1384091493210491,0,4.6384091493210491,4.6384091493210491,0.16,0,0,0,0.85536365972841966,2.5,0.23511410091698962,0,0,"","","","","","","",0.16,0,0.16,4.96,4.96]
[{"$f":"$Q$79","v":16},{"$f":"IF($I$52=0,0,IF($T$12>=$T$11,$E$22-$BL$43,$BL$43))","v":0},{"$f":"IF($F$66=0,0,IF($T$12>=$T$11,$E$22-$BI$43,$BI$43))","v":0},{"$f":"$Q$79","v":16},{"$f":"IF($E$61=0,0,IF($T$12>=$T$11,$E$22-$BS$43,$BS$43))","v":16},{"$f":"IF($F$72=0,0,IF($T$12>=$T$11,$E$22-$BR$43,$BR$43))","v":16},{"$f":"IF($C$72=0,0,IF($T$12>=$T$11,$E$22-$BT$39,$BT$39))","v":16},"Mr (lbf)",{"$f":"IF(OR($C$19=\"\",$E$22=\"\",$D$22=\"\",$F$22=\"\",$F$25=\"\",$G$25=\"\"),0,IF($F$78=\"Stem Tip\",$M$77,$M$78))","v":1144062.6950629775},null,"Additional resisting moment force (lbf) needed:",{"$f":"(($I$54*$A$77)+($I$55*$B$77)+($I$66*$C$77)+(IF($L$95>0,$L$95*$D$95,0))+(IF($L$96>0,$L$96*$D$96,0))+(IF($L$97>0,$L$97*$D$97,0))+(IF($L$98>0,$L$98*$D$98,0))+(IF($M$95>0,$M$95*$D$95,0))+(IF($M$96>0,$M$96*$D$96,0))+(IF($M$97>0,$M$97*$D$97,0))+(IF($M$98>0,$M$98*$D$98,0)))*$M$19","v":275417.47258351534},{"$f":"(($I$56*$D$77)+(IF($L$60<0,$I$60*$F$77))+($I$57*$E$77)+($I$67*$G$77)+($I$68*$F$77)+(($D$83+$E$83)*$C$83)+($J$83*$H$83)+($J$84*$H$84)+(($I$87+$J$87)*$C$87)+(($I$88+$J$88)*$C$88)+(($I$89+$J$89)*$C$89)+(IF($L$95<=0,$G$95*$D$95,0))+(IF($L$96<=0,$G$96*$D$96,0))+(IF($L$97<=0,$G$97*$D$97,0))+(IF($L$98<=0,$G$98*$D$98,0))+(IF($M$95<=0,$I$95*$D$95,0))+(IF($M$96<=0,$I$96*$D$96,0))+(IF($M$97<=0,$I$97*$D$97,0))+(IF($M$98<=0,$I$98*$D$98,0)))*$M$19","v":1138240.8577020166},"Stem Tip",null,"cRW",{"$f":"IF(OR($D$22=\"\",$D$22=\"No\",$F$22=\"\"),0,$E$22-((1/4)*$G$22*(($H$22^2)+(2*$H$22*$F$22)+(3*($F$22^2)))/(($H$22^2)+($H$22*$F$22)+($F$22^2))))","v":0},null,"ATSp,total =",{"$f":"IF($T$76=\"\",\"\",ABS(($U$42-$U$43)*$F$22/$M$19))","v":47.02282018339794},"ft2",null,null,"b= (DRW/2)*ABS(cos(q))",{"$f":"($H$22/2)*ABS(COS($B$25*PI()/180))","v":0},"ft","ARW,total =",{"$f":"IF(OR($D$22=\"\",$D$22=\"No\"),0,PI()*$Y$76*$Y$77)","v":0},"ft2",null,null,null,null,null,32,5.12,"Left Bank",46.230332415813599,94.5999999530857,46.230332418378296,92.0999999530857,96.725153145199599,0,2.1251531921138991,2.1251531921138991,"",2.1251531921138991,0,4.6251531921138991,4.6251531921138991,0.16,0,0,0,0.85006127684555965,2.5,0.23511410091698962,0,0,"","","","","","","",0.16,0,0.16,5.12,5.12]
["*Distances are from the stem tip",null,null,"Point of Rotation:",null,{"$f":"IF(OR($F$25=\"\",$G$25=\"\",$D$22=\"\"),\"\",IF(AND($T$11<$T$12,$AY$45>0),$L$74,IF(AND($T$11>$T$12,$AY$245>0),$L$74,IF(AND($AY$45>0,$AY$245>0),$L$74,IF(AND($AY$45=0,$AY$245=0),$L$74,\"Stem Tip\")))))","v":"Root Collar"},null,"FSM",{"$f":"IF(OR($E$22=\"\",$F$22=\"\",$F$25=\"\",$G$25=\"\"),0,IF(OR($A$6=\"\",$F$25=\"\",$G$25=\"\"),\"\",$I$77/$I$76))","v":2.8528430120083761},{"$f":"$I$78-$L$80","v":1.3528430120083761},{"$f":"IF(AND($F$25=\"\",$G$25=\"\"),\"\",IF($I$78>=$L$80,\"Structure is Stable with respect to Moment Forces\",($I$76*$L$80)-$I$77))","v":"Structure is Stable with respect to Moment Forces"},{"$f":"(($I$54*($E$22-$A$77))+($I$55*($E$22-$B$77))+($I$66*($E$22-$C$77))+(IF($L$95>0,$L$95*($E$22-$D$95),0))+(IF($L$96>0,$L$96*($E$22-$D$96),0))+(IF($L$97>0,$L$97*($E$22-$D$97),0))+(IF($L$98>0,$L$98*($E$22-$D$98),0))+(IF($M$95>0,$M$95*($E$22-$D$95),0))+(IF($M$96>0,$M$96*($E$22-$D$96),0))+(IF($M$97>0,$M$97*($E$22-$D$97),0))+(IF($M$98>0,$M$98*($E$22-$D$98),0)))*$M$19","v":401025.46485990041},{"$f":"(($I$56*($E$22-$D$77))+(IF($L$60<0,$I$60*($E$22-$F$77)))+($I$57*($E$22-$E$77))+($I$67*($E$22-$G$77))+($I$68*($E$22-$F$77))+(($D$83+$E$83)*($E$22-$C$83))+($J$83*($E$22-$H$83))+($J$84*($E$22-$H$84))+(($I$87+$J$87)*($E$22-$C$87))+(($I$88+$J$88)*($E$22-$C$88))+(($I$89+$J$89)*($E$22-$C$89))+(IF($L$95<=0,$G$95*($E$22-$D$95),0))+(IF($L$96<=0,$G$96*($E$22-$D$96),0))+(IF($L$97<=0,$G$97*($E$22-$D$97),0))+(IF($L$98<=0,$G$98*($E$22-$D$98),0))+(IF($M$95<=0,$I$95*($E$22-$D$95),0))+(IF($M$96<=0,$I$96*($E$22-$D$96),0))+(IF($M$97<=0,$I$97*($E$22-$D$97),0))+(IF($M$98<=0,$I$98*($E$22-$D$98),0)))*$M$19","v":1144062.6950629775},"Root Collar or RW",null,"cTS",{"$f":"(($E$22-$G$22)/2)","v":16},null,"ATSp,dry =",{"$f":"IF($T$86=\"\",\"\",IF($T$86=\"Submerged\",0,IF($T$88=\"Dry\",$T$77,IF(AND($AC$86=\"Dry\",$T$86=\"Partial\"),ABS(($U$43-$W$87)*$F$22/$M$19),IF(AND($AC$86=\"Partial\",$AC$87=\"Partial\"),(ABS($U$39-$U$38))*(($AF$86+$AF$87)/2),IF($AC$86=\"Partial\",(ABS($U$39-$W$86))*$AF$86/2,(($U$41-$W$88)*$F$22)+(ABS($W$88-$U$40))*($AF$87+$F$22)/2))))))","v":0},"ft2",null,null,"d1 = (DRW/2) - (yRW,crown-WSE)",{"$f":"IF(OR($D$22=\"\",$F$22=\"\"),\"\",IF($AE$8>=$U$10,$Y$76,$Y$76-($U$10-$AE$8)))","v":0},"ft","ARW,↑WSE =",{"$f":"IF($D$22=\"No\",0,IF($U$15>$AE$8,$AB$77,IF($U$10<$AE$8,0,IF($D$22=\"\",0,$AB$77-(($Y$76*$Y$77*((PI()/2)+ASIN($Y$78/$Y$76)))+($Y$77*$Y$78*(SQRT(($Y$76^2)-($Y$78^2))/$Y$76)))))))","v":0},"ft2",null,null,null,null,null,33,5.28,"Left Bank",46.3243780561804,94.599999953364957,46.324378058745097,92.099999953364957,96.711897188271706,0,2.1118972349067491,2.1118972349067491,"",2.1118972349067491,0,4.6118972349067491,4.6118972349067491,0.16,0,0,0,0.84475889396269965,2.5,0.23511410091698962,0,0,"","","","","","","",0.16,0,0.16,5.28,5.28]
[null,null,null,null,null,null,null,null,null,null,null,"Formatting",null,null,null,"cT",{"$f":"IF(OR($D$22=\"\",$D$22=\"No\",$F$22=\"\"),$Q$78,((((($B$53+$B$52)*$I$22)+($B$54*$J$22))*$Q$78)+(((($C$53+$C$52)*$I$22)+($C$54*$J$22))*$Q$77))/$E$55)","v":16},null,"ATSp,em =",{"$f":"$BE$43","v":47.257934284314693},"ft2",null,null,"d2 = (DRW/2) - (ythalweg-yRW,bot)",{"$f":"IF(OR($D$22=\"\",$F$22=\"\"),\"\",IF($U$15>=$C$16,$Y$76,$Y$76-($C$16-$U$15)))","v":-0.70000005585053771},"ft","ARW,↓bed =",{"$f":"IF($D$22=\"No\",0,IF($U$10<$C$16,$AB$77,IF($U$15>$C$16,0,IF($D$22=\"\",0,$AB$77-(($Y$76*$Y$77*((PI()/2)+ASIN($Y$79/$Y$76)))+($Y$77*$Y$79*(SQRT(($Y$76^2)-($Y$79^2))/$Y$76)))))))","v":0},"ft2",null,null,null,null,null,34,5.44,"Left Bank",46.418423696547194,94.599999953644215,46.418423699111891,92.099999953644215,96.698641231343828,0,2.0986412776996133,2.0986412776996133,"",2.0986412776996133,0,4.5986412776996133,4.5986412776996133,0.16,0,0,0,0.83945651107984531,2.5,0.23511410091698962,0,0,"","","","","","","",0.16,0,0.16,5.44,5.44]
["Anchor Forces",null,null,null,null,null,null,null,null,null,null,{"$f":"'2-Constants'!$C$7","v":1.5},null,null,null,null,null,null,"(-) ATSp,dry,em =",{"$f":"-$BG$43","v":0},"ft3",null,null,null,null,null,"ARWp =",{"$f":"IF($D$22=\"\",0,$AB$77-$AB$78-$AB$79)","v":0},"ft2",null,null,null,null,null,35,5.6,"Left Bank",46.512469336913988,94.599999953923472,46.512469339478685,92.099999953923472,96.685385274415935,0,2.0853853204924633,2.0853853204924633,"",2.0853853204924633,0,4.5853853204924633,4.5853853204924633,0.16,0,0,0,0.83415412819698531,2.5,0.23511410091698962,0,0,"","","","","","","",0.16,0,0.16,5.6,5.6]
["Additional Soil Ballast",null,null,null,null,null,null,"Mechanical Anchors",null,null,{"$f":"IF(OR($H$83<>\"\",$H$84<>\"\",$C$87<>\"\",$C$88<>\"\",$C$89<>\"\"),\"CHECK--Verify anchors are correctly located on X-Sect (above)\",\"\")","v":"CHECK--Verify anchors are correctly located on X-Sect (above)"},"Formatting",null,null,null,"Buried anchors","Number",null,"ATSp,wet =",{"$f":"IF($D$22=\"\",\"\",IF($T$88=\"Dry\",0,$T$77-$T$78-$T$79-$T$80))","v":-0.23511410091675344},"ft2",null,null,null,null,null,null,null,null,null,null,null,null,null,36,5.76,"Left Bank",46.606514977280789,94.59999995420273,46.606514979845485,92.09999995420273,96.672129317488043,0,2.0721293632853133,2.0721293632853133,"",2.0721293632853133,0,4.5721293632853133,4.5721293632853133,0.16,0,0,0,0.82885174531412531,2.5,0.23511410091698962,0,0,"","","","","","","",0.16,0,0.16,5.76,5.76]
["VAdry (ft3)","VAwet (ft3)","cAsoil (ft)","FA,Vsoil (lbf)","FA,HP (lbf)",null,"Type","cAm (ft)","Soils","FAm (lbf)","Quick Design Reference:",{"$f":"IF($D$83=\"\",0,-$D$83)","v":0},{"$f":"IF($E$83=\"\",0,-$E$83)","v":0},null,"Total (lbf)",{"$f":"$J$83+$J$84+(IF($A$87=\"Deadman\",$F$87-$G$87,0))+(IF($A$88=\"Deadman\",$F$88-$G$88,0))+(IF($A$89=\"Deadman\",$F$89-$G$89,0))","v":5757.4054154316855},{"$f":"(IF($J$83>0,1,0))+(IF($J$84>0,1,0))+(IF(AND($I$87>0,$A$87=\"Deadman\"),1,0))+(IF(AND($I$88>0,$A$88=\"Deadman\"),1,0))+(IF(AND($I$89>0,$A$89=\"Deadman\"),1,0))","v":1},null,null,null,null,null,null,null,null,null,null,null,null,null,null,null,null,null,37,5.92,"Left Bank",46.700560617647582,94.599999954481987,46.700560620212279,92.099999954481987,96.65887336056015,0,2.0588734060781633,2.0588734060781633,"",2.0588734060781633,0,4.5588734060781633,4.5588734060781633,0.16,0,0,0,0.82354936243126531,2.5,0.23511410091698962,0,0,"","","","","","","",0.16,0,0.16,5.92,5.92]
[null,null,null,{"$f":"IF(AND($A$83=\"\",$B$83=\"\"),0,($A$83*$D$29)+($B$83*$E$29))","v":0},{"$f":"IF($D$83=0,0,0.5*$B$71*$D$83)","v":0},null,null,null,{"$f":"$W$100","v":""},{"$f":"IF(OR($G83=\"\",$H83=\"\"),0,IF(AND($W100=\"Bed\",$G$28=4),HLOOKUP($G$83,AnchorRatings,3,0),IF(AND($W100=\"Bed\",$G$28=5),HLOOKUP($G$83,AnchorRatings,4,0),IF(AND($W100=\"Bed\",$G$28=6),HLOOKUP($G$83,AnchorRatings,5,0),IF(AND($W100=\"Bed\",$G$28=7),HLOOKUP($G$83,AnchorRatings,6,0),IF(AND($W100=\"Bank\",$G$29=4),HLOOKUP($G$83,AnchorRatings,3,0),IF(AND($W100=\"Bank\",$G$29=5),HLOOKUP($G$83,AnchorRatings,4,0),IF(AND($W100=\"Bank\",$G$29=6),HLOOKUP($G$83,AnchorRatings,5,0),IF(AND($W100=\"Bank\",$G$29=7),HLOOKUP($G$83,AnchorRatings,6,0))))))))))","v":0},{"$f":"$I$61","v":1.514503714747911},0,{"$f":"(IF($A87=\"Behind\",-$J87,0))","v":0},null,"Required Vertical Resistance (lbf)",{"$f":"($L$54+$L$55+(IF($L$58>0,$L$58,0)))*$L$61","v":29488.226197123284},null,null,null,null,null,null,null,null,null,null,null,null,null,null,null,null,null,null,38,6.08,"Left Bank",46.794606258014376,94.599999954761245,46.794606260579073,92.099999954761245,96.645617403632258,0,2.0456174488710133,2.0456174488710133,"",2.0456174488710133,0,4.5456174488710133,4.5456174488710133,0.16,0,0,0,0.81824697954840531,2.5,0.23511410091698962,0,0,"","","","","","","",0.16,0,0.16,6.08,6.08]
[null,null,null,null,null,null,null,null,{"$f":"$W$101","v":""},{"$f":"IF(OR($G84=\"\",$H84=\"\"),0,IF(AND($W101=\"Bed\",$G$28=4),HLOOKUP($G$84,AnchorRatings,3,0),IF(AND($W101=\"Bed\",$G$28=5),HLOOKUP($G$84,AnchorRatings,4,0),IF(AND($W101=\"Bed\",$G$28=6),HLOOKUP($G$84,AnchorRatings,5,0),IF(AND($W101=\"Bed\",$G$28=7),HLOOKUP($G$84,AnchorRatings,6,0),IF(AND($W101=\"Bank\",$G$29=4),HLOOKUP($G$84,AnchorRatings,3,0),IF(AND($W101=\"Bank\",$G$29=5),HLOOKUP($G$84,AnchorRatings,4,0),IF(AND($W101=\"Bank\",$G$29=6),HLOOKUP($G$84,AnchorRatings,5,0),IF(AND($W101=\"Bank\",$G$29=7),HLOOKUP($G$84,AnchorRatings,6,0))))))))))","v":0},{"$f":"'2-Constants'!$C$5","v":1.5},0,{"$f":"(IF($A88=\"Behind\",-$J88,0))","v":0},null,"Actual Vertical Resistance (lbf)",{"$f":"ABS($L$56+$L$57+(IF($L$58<0,$L$58,0))+$L$59)","v":14303.037716437111},null,null,"Log Position","Water and Log Intercept",null,null,null,null,"Soil","LW Buried at Intercept?",null,"Log Position","Water and Log Intercept at Face",null,null,null,null,null,39,6.24,"Left Bank",46.88865189838117,94.599999955040502,46.888651900945874,92.099999955040502,96.632361446704365,0,2.0323614916638633,2.0323614916638633,"",2.0323614916638633,0,4.5323614916638633,4.5323614916638633,0.16,0,0,0,0.8129445966655453,2.5,0.23511410091698962,0,0,"","","","","","","",0.16,0,0.16,6.24,6.24]
["Boulder Ballast",null,null,null,null,null,null,null,null,null,null,0,{"$f":"(IF($A89=\"Behind\",-$J89,0))","v":0},null,"Extra Needed Vertical Resistance (lbf)",{"$f":"$P$83-$P$84","v":15185.188480686173},null,null,null,"Condition","Intercept Zone",null,"xTS (ft)","yTS (ft)","ysoil (ft)",null,null,null,"Condition","xTS (ft)","yTS (ft)","hTS,dry (ft)",null,null,40,6.4,"Left Bank",46.982697538747971,94.59999995531976,46.982697541312668,92.09999995531976,96.619105489776473,0,2.0191055344567133,2.0191055344567133,"",2.0191055344567133,0,4.5191055344567133,4.5191055344567133,0.16,0,0,0,0.8076422137826853,2.5,0.23511410091698962,0,0,"","","","","","","",0.16,0,0.16,6.4,6.4]
["Position","Dr (ft)","cAr (ft)","Vr,dry (ft3)","Vr,wet (ft3)","Wr (lbf)","FL,r (lbf)","FD,r (lbf)","FA,Vr (lbf)","FA,Hr (lbf)",{"$f":"$I$72","v":59921.13403174741},{"$f":"$L$82+$L$83+$L$84+$L$85","v":0},{"$f":"$M$82+$M$83+$M$84+$M$85","v":0},null,"Required Horizontal Resistance (lbf)",{"$f":"($L$66+(IF($L$69>0,$L$69,0)))*$L$72","v":0},null,null,"Crown",{"$f":"IF(OR($E$22=\"\",$F$22=\"\",$F$25=\"\",$G$25=\"\"),\"\",IF($X$39<=$AE$12,\"Submerged\",IF($X$38>$AE$12,\"Dry\",\"Partial\")))","v":"Submerged"},{"$f":"IF($X$86=\"\",\"None\",IF($W$86<$B$14,\"Left Floodplain\",IF($W$86<$B$15,\"Left Bank\",IF($W$86<$B$16,\"Left Stream Bed\",IF($W$86<$B$17,\"Right Stream Bed\",IF($W$86<$B$18,\"Right Bank\",\"Right Floodplain\"))))))","v":"None"},{"$f":"IF($U$47=0,0,IF(OR($B$25=0,$B$25=180,$B$25=360),$E$22-ABS(($X$39-$W$47)/$M$20),IF(AND($U$38<=$U$39,$X$38>=$Y$38),ABS(($X$38-$W$47)/($AA$40*$M$17*$M$19)),IF(AND($U$38<=$U$39,$X$38<$Y$38),ABS($E$22-(ABS(($X$38-$W$47)/($AA$40*$M$17*$M$19)))),IF(AND($U$38>$U$39,$X$39>=$Y$39),ABS(($X$39-$W$47)/($AA$40*$M$17*$M$19)),IF(AND($U$38>=$U$39,$X$39<$Y$39),ABS($E$22-(ABS(($X$38-$W$47)/($AA$40*$M$17*$M$19))))))))))","v":0},{"$f":"IF($X$86=\"\",\"\",$U$39-(($X$39-$AE$8)/$AA$40))","v":""},{"$f":"IF($T$86=\"Partial\",$AE$12,\"\")","v":""},{"$f":"IF($X$86=\"\",\"\",IF($W$86<$B$14,(($W$86-$B$13)*$AB$31)+$C$13,IF($W$86<$B$15,(($W$86-$B$14)*$AB$32)+$C$14,IF($W$86<$B$16,(($W$86-$B$15)*$AB$33)+$C$15,IF($W$86<$B$17,(($W$86-$B$16)*$AB$34)+$C$16,IF($W$86<$B$18,(($W$86-$B$17)*$AB$35)+$C$17,IF($W$86<$B$19,(($W$86-$B$18)*$AB$36)+$C$18)))))))","v":""},{"$f":"IF($X$86=\"\",\"\",IF($X$86<=$Y$86,\"Yes\",\"No\"))","v":""},null,"Upper Face",{"$f":"IF($T$86=\"\",\"\",IF($X$41>$AE$8,\"Dry\",IF($T$86=\"Submerged\",\"Submerged\",\"Partial\")))","v":"Submerged"},{"$f":"IF($AE$86=\"\",\"\",$U$39-(($X$39-$AE$8)/$AB$40))","v":""},{"$f":"IF($AC$86=\"Partial\",$AE$12,\"\")","v":""},{"$f":"IF($AC$86=\"Submerged\",0,IF($AC$86=\"Dry\",$F$22,($X$39-$AE$8)/$M$19))","v":0},null,null,41,6.56,"Left Bank",47.076743179114764,94.599999955599017,47.076743181679461,92.099999955599017,96.60584953284858,0,2.0058495772495633,2.0058495772495633,"",2.0058495772495633,0,4.5058495772495633,4.5058495772495633,0.16,0,0,0,0.8023398308998253,2.5,0.23511410091698962,0,0,"","","","","","","",0.16,0,0.16,6.56,6.56]
["Deadman",4.75,8,{"$f":"IF(OR($B87=\"\",$C87=\"\"),\"\",(PI()*($B87^3)/6)-$E87)","v":7.1054273576010019E-15},{"$f":"IF($B87=\"\",\"\",$U94)","v":56.11506252857393},{"$f":"IF(OR($B87=\"\",$C87=\"\"),\"\",($D87*DUWRock)+($E87*(DUWRock-SWWater)))","v":5757.4054154316855},{"$f":"IF(OR($B87=\"\",$C87=\"\"),\"\",$Q99)","v":0},{"$f":"IF(OR($B87=\"\",$C87=\"\"),\"\",$P99)","v":0},{"$f":"IF(OR($B87=\"\",$C87=\"\"),0,IF($A87=\"Behind\",0,IF(AND($A87=\"Deadman\",$P$85<=0),0,IF(AND($A87=\"Deadman\",$P$82>=$P$85),($F87-$G87)*($P$85/$P$82),$F87-$G87))))","v":5757.4054154316855},{"$f":"IF(OR($B87=\"\",$C87=\"\"),0,IF($A87=\"Above\",0,IF($A87=\"Deadman\",($F87-$G87)-$I87,IF(AND($A87=\"Behind\",OR($W94=\"Left Stream Bed\",$W94=\"Right Stream Bed\")),(($F87-$G87)*$E$70)-$H87,(($F87-$G87)*$E$71)-$H87))))","v":0},{"$f":"'2-Constants'!$C$6","v":1.5},{"$f":"IF($J83=0,0,IF($P$85<=0,0,IF($P$82>=$P$85,-J$83*($P$85/$P$82),-$J83)))","v":0},{"$f":"-($J83+$L87)","v":0},null,"Actual Horizontal Resistance (lbf)",{"$f":"ABS($L$67+$L$68+(IF($L$69<0,$L$69,0))+$L$70)","v":29954.574902470529},null,null,"Centerline",{"$f":"IF(OR($E$22=\"\",$F$22=\"\",$F$25=\"\",$G$25=\"\"),\"\",IF($X$43<=$AE$12,\"Submerged\",IF($X$42>=$AE$12,\"Dry\",\"Partial\")))","v":"Submerged"},{"$f":"IF($X$87=\"\",\"None\",IF($W$87<$B$14,\"Left Floodplain\",IF($W$87<$B$15,\"Left Bank\",IF($W$87<$B$16,\"Left Stream Bed\",IF($W$87<$B$17,\"Right Stream Bed\",IF($W$87<$B$18,\"Right Bank\",\"Right Floodplain\"))))))","v":"None"},{"$f":"IF($U$47=0,0,IF(OR($B$25=0,$B$25=180,$B$25=360),$E$22-ABS(($X$39-$W$47)/$M$20),IF(AND($U$38<=$U$39,$X$38>=$Y$38),ABS(($X$38-$W$47)/($AA$40*$M$17*$M$19)),IF(AND($U$38<=$U$39,$X$38<$Y$38),ABS($E$22-(ABS(($X$38-$W$47)/($AA$40*$M$17*$M$19)))),IF(AND($U$38>$U$39,$X$39>=$Y$39),ABS(($X$39-$W$47)/($AA$40*$M$17*$M$19)),IF(AND($U$38>=$U$39,$X$39<$Y$39),ABS($E$22-(ABS(($X$38-$W$47)/($AA$40*$M$17*$M$19))))))))))","v":0},{"$f":"IF($X$87=\"\",\"\",$U$43-(($X$43-$AE$8)/$AA$40))","v":""},{"$f":"IF($T$87=\"Partial\",$AE$12,\"\")","v":""},{"$f":"IF($X$87=\"\",\"\",IF($W$87<$B$14,(($W$87-$B$13)*$AB$31)+$C$13,IF($W$87<$B$15,(($W$87-$B$14)*$AB$32)+$C$14,IF($W$87<$B$16,(($W$87-$B$15)*$AB$33)+$C$15,IF($W$87<$B$17,(($W$87-$B$16)*$AB$34)+$C$16,IF($W$87<$B$18,(($W$87-$B$17)*$AB$35)+$C$17,IF($W$87<$B$19,(($W$87-$B$18)*$AB$36)+$C$18)))))))","v":""},{"$f":"IF($X$87=\"\",\"\",IF($X$87<=$Y$87,\"Yes\",\"No\"))","v":""},null,"Lower Face",{"$f":"IF($T$88=\"\",\"\",IF($X$40>=$AE$8,\"Dry\",IF($X$38<=$AE$8,\"Submerged\",\"Partial\")))","v":"Submerged"},{"$f":"IF($AE$87=\"\",\"\",$U$38-(($X$38-$AE$8)/$AB$40))","v":""},{"$f":"IF($AC$87=\"Partial\",$AE$12,\"\")","v":""},{"$f":"IF($AC$87=\"Submerged\",0,IF($AC$87=\"Dry\",$F$22,($X$38-$AE$8)/$M$19))","v":0},null,null,42,6.72,"Left Bank",47.170788819481558,94.599999955878275,47.170788822046255,92.099999955878275,96.592593575920688,0,1.9925936200424132,1.9925936200424132,"",1.9925936200424132,0,4.4925936200424132,4.4925936200424132,0.16,0,0,0,0.7970374480169653,2.5,0.23511410091698962,0,0,"","","","","","","",0.16,0,0.16,6.72,6.72]
["Above",4.5,16,{"$f":"IF(OR($B88=\"\",$C88=\"\"),\"\",(PI()*($B88^3)/6)-$E88)","v":-7.1054273576010019E-15},{"$f":"IF($B88=\"\",\"\",$U95)","v":47.712938426394985},{"$f":"IF(OR($B88=\"\",$C88=\"\"),\"\",($D88*DUWRock)+($E88*(DUWRock-SWWater)))","v":4895.3474825481244},{"$f":"IF(OR($B88=\"\",$C88=\"\"),\"\",$Q100)","v":43.889139387065178},{"$f":"IF(OR($B88=\"\",$C88=\"\"),\"\",$P100)","v":219.44569693532586},{"$f":"IF(OR($B88=\"\",$C88=\"\"),0,IF($A88=\"Behind\",0,IF(AND($A88=\"Deadman\",$P$85<=0),0,IF(AND($A88=\"Deadman\",$P$82>=$P$85),($F88-$G88)*($P$85/$P$82),$F88-$G88))))","v":4851.458343161059},{"$f":"IF(OR($B88=\"\",$C88=\"\"),0,IF($A88=\"Above\",0,IF($A88=\"Deadman\",($F88-$G88)-$I88,IF(AND($A88=\"Behind\",OR($W95=\"Left Stream Bed\",$W95=\"Right Stream Bed\")),(($F88-$G88)*$E$70)-$H88,(($F88-$G88)*$E$71)-$H88))))","v":0},null,{"$f":"IF($J84=0,0,IF($P$85<=0,0,IF($P$82>=$P$85,-J$84*($P$85/$P$82),-$J84)))","v":0},{"$f":"-($J84+$L88)","v":0},null,"Extra needed Horizontal Resistance (lbf)",{"$f":"$P$86-$P$87","v":-29954.574902470529},null,null,"Bottom",{"$f":"IF(OR($E$22=\"\",$F$22=\"\",$F$25=\"\",$G$25=\"\"),\"\",IF($X$41<=$AE$12,\"Submerged\",IF($X$40>=$AE$12,\"Dry\",\"Partial\")))","v":"Submerged"},{"$f":"IF($X$88=\"\",\"None\",IF($W$88<$B$14,\"Left Floodplain\",IF($W$88<$B$15,\"Left Bank\",IF($W$88<$B$16,\"Left Stream Bed\",IF($W$88<$B$17,\"Right Stream Bed\",IF($W$88<$B$18,\"Right Bank\",\"Right Floodplain\"))))))","v":"None"},{"$f":"IF($U$47=0,0,IF(OR($B$25=0,$B$25=180,$B$25=360),$E$22-ABS(($X$39-$W$47)/$M$20),IF(AND($U$38<=$U$39,$X$38>=$Y$38),ABS(($X$38-$W$47)/($AA$40*$M$17*$M$19)),IF(AND($U$38<=$U$39,$X$38<$Y$38),ABS($E$22-(ABS(($X$38-$W$47)/($AA$40*$M$17*$M$19)))),IF(AND($U$38>$U$39,$X$39>=$Y$39),ABS(($X$39-$W$47)/($AA$40*$M$17*$M$19)),IF(AND($U$38>=$U$39,$X$39<$Y$39),ABS($E$22-(ABS(($X$38-$W$47)/($AA$40*$M$17*$M$19))))))))))","v":0},{"$f":"IF($X$88=\"\",\"\",$U$41-(($X$41-$AE$8)/$AA$40))","v":""},{"$f":"IF($T$88=\"Partial\",$AE$12,\"\")","v":""},{"$f":"IF($X$88=\"\",\"\",IF($W$88<$B$14,(($W$88-$B$13)*$AB$31)+$C$13,IF($W$88<$B$15,(($W$88-$B$14)*$AB$32)+$C$14,IF($W$88<$B$16,(($W$88-$B$15)*$AB$33)+$C$15,IF($W$88<$B$17,(($W$88-$B$16)*$AB$34)+$C$16,IF($W$88<$B$18,(($W$88-$B$17)*$AB$35)+$C$17,IF($W$88<$B$19,(($W$88-$B$18)*$AB$36)+$C$18)))))))","v":""},{"$f":"IF($X$88=\"\",\"\",IF($X$88<=$Y$88,\"Yes\",\"No\"))","v":""},null,null,null,null,null,null,null,null,43,6.88,"Left Bank",47.264834459848359,94.599999956157532,47.264834462413056,92.099999956157532,96.579337618992795,0,1.9793376628352632,1.9793376628352632,"",1.9793376628352632,0,4.4793376628352632,4.4793376628352632,0.16,0,0,0,0.7917350651341053,2.5,0.23511410091698962,0,0,"","","","","","","",0.16,0,0.16,6.88,6.88]
["Above",4.5,24,{"$f":"IF(OR($B89=\"\",$C89=\"\"),\"\",(PI()*($B89^3)/6)-$E89)","v":-7.1054273576010019E-15},{"$f":"IF($B89=\"\",\"\",$U96)","v":47.712938426394985},{"$f":"IF(OR($B89=\"\",$C89=\"\"),\"\",($D89*DUWRock)+($E89*(DUWRock-SWWater)))","v":4895.3474825481244},{"$f":"IF(OR($B89=\"\",$C89=\"\"),\"\",$Q101)","v":33.896879664725986},169.48439832362993,{"$f":"IF(OR($B89=\"\",$C89=\"\"),0,IF($A89=\"Behind\",0,IF(AND($A89=\"Deadman\",$P$85<=0),0,IF(AND($A89=\"Deadman\",$P$82>=$P$85),($F89-$G89)*($P$85/$P$82),$F89-$G89))))","v":4861.4506028833985},{"$f":"IF(OR($B89=\"\",$C89=\"\"),0,IF($A89=\"Above\",0,IF($A89=\"Deadman\",($F89-$G89)-$I89,IF(AND($A89=\"Behind\",OR($W96=\"Left Stream Bed\",$W96=\"Right Stream Bed\")),(($F89-$G89)*$E$70)-$H89,(($F89-$G89)*$E$71)-$H89))))","v":0},{"$f":"I78","v":2.8528430120083761},{"$f":"-$I87","v":-5757.4054154316855},{"$f":"IF($A87=\"Deadman\",-$J87,0)","v":0},null,null,null,null,null,null,null,null,null,null,null,null,null,null,null,null,null,null,null,null,null,44,7.04,"Left Bank",47.358880100215153,94.59999995643679,47.35888010277985,92.09999995643679,96.566081662064903,0,1.9660817056281132,1.9660817056281132,"",1.9660817056281132,0,4.4660817056281132,4.4660817056281132,0.16,0,0,0,0.7864326822512453,2.5,0.23511410091698962,0,0,"","","","","","","",0.16,0,0.16,7.04,7.04]
[null,null,null,null,null,null,null,null,null,null,{"$f":"'2-Constants'!$C$7","v":1.5},{"$f":"-$I88","v":-4851.458343161059},{"$f":"IF($A88=\"Deadman\",-$J88,0)","v":0},null,null,null,null,null,null,null,null,null,null,null,null,null,null,null,null,null,null,null,null,null,45,7.2,"Left Bank",47.452925740581946,94.599999956716047,47.452925743146643,92.099999956716047,96.552825705137025,0,1.9528257484209774,1.9528257484209774,"",1.9528257484209774,0,4.4528257484209774,4.4528257484209774,0.16,0,0,0,0.78113029936839096,2.5,0.23511410091698962,0,0,"","","","","","","",0.16,0,0.16,7.2,7.2]
[{"$f":"IF($A$6=\"\",\"\",$A$6)","v":"Sample1"},{"$f":"IF($A$6=\"\",\"\",$B$6)","v":"Flow Deflection"},null,{"$f":"IF(OR($B$9=\"N/A\",$B$9=\"\"),\"\",$B$9)","v":"Footer"},{"$f":"IF($D$48=\"\",\"\",\"Log ID\")","v":"Log ID"},{"$f":"IF($D$48=\"\",\"\",$C$9)","v":"Foot#1"},null,null,null,"Page 3",null,{"$f":"-$I89","v":-4861.4506028833985},{"$f":"IF($A89=\"Deadman\",-$J89,0)","v":0},null,null,null,null,null,null,null,"A = [(R - ddry)*SQRT(2Rddry - ddry2)] - R2 arccos [(R - ddry)/R]",null,null,null,null,null,null,"Boulder #1",null,"Boulder #2",null,"Boulder #3",null,null,46,7.36,"Left Bank",47.546971380948747,94.599999956995305,47.546971383513444,92.099999956995305,96.539569748209132,0,1.9395697912138274,1.9395697912138274,"",1.9395697912138274,0,4.4395697912138274,4.4395697912138274,0.16,0,0,0,0.77582791648553096,2.5,0.23511410091698962,0,0,"","","","","","","",0.16,0,0.16,7.36,7.36]
["Interaction Forces with Adjacent Logs",null,null,null,null,null,null,null,null,null,null,{"$f":"$L$87+$L$88+$L$89+$L$90+$L$91","v":-15470.314361476143},{"$f":"$M$87+$M$88+$M$89+$M$90+$M$91","v":0},"←Flex anchors","Ballast Boulder Calculations",null,null,null,null,null,null,null,null,null,null,null,null,"xTS (ft)","yTS (ft)","xTS (ft)","yTS (ft)","xTS (ft)","yTS (ft)",null,47,7.52,"Left Bank",47.641017021315541,94.599999957274562,47.641017023880238,92.099999957274562,96.52631379128124,0,1.9263138340066774,1.9263138340066774,"",1.9263138340066774,0,4.4263138340066774,4.4263138340066774,0.16,0,0,0,0.77052553360267095,2.5,0.23511410091698962,0,0,"","","","","","","",0.16,0,0.16,7.52,7.52]
[null,null,null,null,null,null,"Applied Forces from other Logs",null,null,null,{"$f":"IF(OR($B$95<>\"\",$B$96<>\"\",$B$97<>\"\",$B$98<>\"\"),\"NOTE -- The page is not formatted to print the Interaction Forces\",\"\")","v":"NOTE -- The page is not formatted to print the Interaction Forces"},null,null,null,null,"xr,bot (ft)","yr,bot (ft)","yTS,bot (ft)","ysoil (ft)","dr,dry (ft)","Vr,wet (ft3)","Ar↑WSE (ft2)","Zone","dr↓Thw (ft)","Ar↓Thw (ft2)","APr (ft2)","Point 1",{"$f":"IF($P$94=\"\",0,$P$94)","v":57.327717980377862},{"$f":"IF($Q$94=\"\",$C$13,$Q$94)","v":88.599999986037361},{"$f":"IF($P$95=\"\",0,$P$95)","v":52.625435962038068},{"$f":"IF($Q$95=\"\",$C$13,$Q$95)","v":94.599999972074727},{"$f":"IF($P$96=\"\",0,$P$96)","v":47.923153943698281},{"$f":"IF($Q$96=\"\",$C$13,$Q$96)","v":94.599999958112093},null,48,7.68,"Left Bank",47.735062661682335,94.59999995755382,47.735062664247032,92.09999995755382,96.513057834353347,0,1.9130578767995274,1.9130578767995274,"",1.9130578767995274,0,4.4130578767995274,4.4130578767995274,0.16,0,0,0,0.76522315071981095,2.5,0.23511410091698962,0,0,"","","","","","","",0.16,0,0.16,7.68,7.68]
["Log ID","Position","Link","cWI (ft)","FW,V (lbf)","FW,H (lbf)","FW,V (lbf)",null,"FW,H (lbf)",null,null,"Formatting",null,null,"Boulder 1",{"$f":"IF(OR($F$25=\"\",$C87=\"\"),\"\",$AE$49-(($C87*$M$19)*$M$17))","v":57.327717980377862},{"$f":"IF(OR($G$25=\"\",$C87=\"\"),\"\",IF($A87=\"Behind\",MIN($R94,$S94),IF($A87=\"Deadman\",(MIN($R94,$S94))-($F$22+1),$R94+$F$22)))","v":88.599999986037361},{"$f":"IF($P94=\"\",\"\",($AF$49+(($P94-$AE$49)*$AA$40))-($F$22/2))","v":92.099999986037361},{"$f":"IF($P94=\"\",\"\",IF($P94<$B$14,(($P94-$B$13)*$AB$31)+$C$13,IF($P94<$B$15,(($P94-$B$14)*$AB$32)+$C$14,IF($P94<$B$16,(($P94-$B$15)*$AB$33)+$C$15,IF($P94<$B$17,(($P94-$B$16)*$AB$34)+$C$16,IF($P94<$B$18,(($P94-$B$17)*$AB$35)+$C$17,IF($P94<$B$19,(($P94-$B$18)*$AB$36)+$C$18)))))))","v":95.253302324621217},{"$f":"IF($Q94=\"\",\"\",IF(($Q94+$B87-$AE$8)>=$B87,$B87,IF(($Q94+$B87)>$AE$8,($Q94+$B87)-$AE$8,0)))","v":0},{"$f":"IF($T94=\"\",\"\",IF($T94>=$B87,0,(PI()/3)*(($B87-$T94)^2)*((1.5*$B87)-($B87-$T94))))","v":56.11506252857393},{"$f":"IF($C87=\"\",\"\",IF($A87=\"Deadman\",0,IF($Q94>=$AE$8,PI()*(($B87/2)^2),((($B87/2)^2)*ACOS((($B87/2)-$T94)/($B87/2)))-((($B87/2)-$T94)*SQRT(2*($B87/2)*$T94-($T94^2))))))","v":0},{"$f":"IF($P94=\"\",\"\",IF(OR($C$19=\"\",$F$25=\"\",$G$25=\"\"),\"None\",IF($P94<$B$14,\"Left Floodplain\",IF($P94<$B$15,\"Left Bank\",IF($P94<$B$16,\"Left Stream Bed\",IF($P94<$B$17,\"Right Stream Bed\",IF($P94<$B$18,\"Right Bank\",\"Right Floodplain\")))))))","v":"Left Stream Bed"},{"$f":"IF($Q94=\"\",\"\",IF(($Q94+$B87)<=$S94,$B87,IF($Q94>=$S94,0,$S94-$Q94)))","v":4.75},{"$f":"IF($C87=\"\",\"\",IF($A87=\"Deadman\",PI()*(($B87/2)^2),IF($Q94>$S94,0,((($B87/2)^2)*ACOS((($B87/2)-$X94)/($B87/2)))-((($B87/2)-$X94)*SQRT(2*($B87/2)*$X94-($X94^2))))))","v":17.720546061654925},{"$f":"IF($C87=\"\",\"\",IF(((PI()*(($B87/2)^2))-$V94-$Y94)<0,0,(PI()*(($B87/2)^2))-$V94-$Y94))","v":0},"Point 2",{"$f":"IF($AB$93=\"\",0,$AB$93-($B$87/4))","v":56.140217980377862},{"$f":"IF($AC$93=\"\",$C$13,$AC$93+($B$87/25))","v":88.789999986037358},{"$f":"IF($AD$93=\"\",0,$AD$93-($B$88/4))","v":51.500435962038068},{"$f":"IF($AE$93=\"\",$C$13,$AE$93+($B$88/25))","v":94.779999972074734},{"$f":"IF($AF$93=\"\",0,$AF$93-($B$89/4))","v":46.798153943698281},{"$f":"IF($AG$93=\"\",$C$13,$AG$93+($B$89/25))","v":94.7799999581121},null,49,7.84,"Left Bank",47.829108302049136,94.599999957833077,47.829108304613825,92.099999957833077,96.499801877425455,0,1.8998019195923774,1.8998019195923774,"",1.8998019195923774,0,4.3998019195923774,4.3998019195923774,0.16,0,0,0,0.75992076783695095,2.5,0.23511410091698962,0,0,"","","","","","","",0.16,0,0.16,7.84,7.84]
["Top#1","Above","Pinned",5,{"$f":"'Prelim-Top#1'!K61/2","v":3638.8545391606181},{"$f":"'Prelim-Top#1'!K72/2","v":936.14652657066904},{"$f":"IF(OR($E$95=\"\",$E$95=0),0,IF($C$95=\"Pinned\",ABS($E$95),IF(AND($C$95=\"Gravity\",$B$95=\"Below\",$E$95>=0),ABS($E$95),IF(AND($C$95=\"Gravity\",$B$95=\"Above\",$E$95<=0),ABS($E$95),0))))","v":3638.8545391606181},{"$f":"IF($L$95=0,\"\",IF($L$95>0,CHAR(233),CHAR(234)))","v":"é"},{"$f":"IF(OR($F$95=\"\",$F$95=0),0,IF($C$95=\"Pinned\",ABS($F$95),IF(AND($C$95=\"Gravity\",$B$95=\"Behind\",$F$95<0),ABS($F$95),IF(AND($C$95=\"Gravity\",$B$95=\"In front\",$F$95>0),ABS($F$95),0))))","v":936.14652657066904},{"$f":"IF($M$95=0,\"\",IF($M$95>=0,CHAR(232),CHAR(231)))","v":"è"},null,{"$f":"IF($G$95=0,0,$E$95)","v":3638.8545391606181},{"$f":"IF($I$95=0,0,$F$95)","v":936.14652657066904},null,"Boulder 2",{"$f":"IF(OR($F$25=\"\",$C88=\"\"),\"\",$AE$49-(($C88*$M$19)*$M$17))","v":52.625435962038068},{"$f":"IF(OR($G$25=\"\",$C88=\"\"),\"\",IF($A88=\"Behind\",MIN($R95,$S95),IF($A88=\"Deadman\",(MIN($R95,$S95))-($F$22+1),$R95+$F$22)))","v":94.599999972074727},{"$f":"IF($P95=\"\",\"\",($AF$49+(($P95-$AE$49)*$AA$40))-($F$22/2))","v":92.099999972074727},{"$f":"IF($P95=\"\",\"\",IF($P95<$B$14,(($P95-$B$13)*$AB$31)+$C$13,IF($P95<$B$15,(($P95-$B$14)*$AB$32)+$C$14,IF($P95<$B$16,(($P95-$B$15)*$AB$33)+$C$15,IF($P95<$B$17,(($P95-$B$16)*$AB$34)+$C$16,IF($P95<$B$18,(($P95-$B$17)*$AB$35)+$C$17,IF($P95<$B$19,(($P95-$B$18)*$AB$36)+$C$18)))))))","v":95.823748073922246},{"$f":"IF($Q95=\"\",\"\",IF(($Q95+$B88-$AE$8)>=$B88,$B88,IF(($Q95+$B88)>$AE$8,($Q95+$B88)-$AE$8,0)))","v":0},{"$f":"IF($T95=\"\",\"\",IF($T95>=$B88,0,(PI()/3)*(($B88-$T95)^2)*((1.5*$B88)-($B88-$T95))))","v":47.712938426394985},{"$f":"IF($C88=\"\",\"\",IF($A88=\"Deadman\",0,IF($Q95>=$AE$8,PI()*(($B88/2)^2),((($B88/2)^2)*ACOS((($B88/2)-$T95)/($B88/2)))-((($B88/2)-$T95)*SQRT(2*($B88/2)*$T95-($T95^2))))))","v":0},{"$f":"IF($P95=\"\",\"\",IF(OR($C$19=\"\",$F$25=\"\",$G$25=\"\"),\"None\",IF($P95<$B$14,\"Left Floodplain\",IF($P95<$B$15,\"Left Bank\",IF($P95<$B$16,\"Left Stream Bed\",IF($P95<$B$17,\"Right Stream Bed\",IF($P95<$B$18,\"Right Bank\",\"Right Floodplain\")))))))","v":"Left Bank"},{"$f":"IF($Q95=\"\",\"\",IF(($Q95+$B88)<=$S95,$B88,IF($Q95>=$S95,0,$S95-$Q95)))","v":1.2237481018475194},{"$f":"IF($C88=\"\",\"\",IF($A88=\"Deadman\",PI()*(($B88/2)^2),IF($Q95>$S95,0,((($B88/2)^2)*ACOS((($B88/2)-$X95)/($B88/2)))-((($B88/2)-$X95)*SQRT(2*($B88/2)*$X95-($X95^2))))))","v":3.4995582667738705},{"$f":"IF($C88=\"\",\"\",IF(((PI()*(($B88/2)^2))-$V95-$Y95)<0,0,(PI()*(($B88/2)^2))-$V95-$Y95))","v":12.404754542024456},"Point 3",{"$f":"IF($AB$93=\"\",0,$AB$93-($B$87/2))","v":54.952717980377862},{"$f":"IF($AC$93=\"\",$C$13,$AC$93+($B$87/2))","v":90.974999986037361},{"$f":"IF($AD$93=\"\",0,$AD$93-($B$88/2))","v":50.375435962038068},{"$f":"IF($AE$93=\"\",$C$13,$AE$93+($B$88/2))","v":96.849999972074727},{"$f":"IF($AF$93=\"\",0,$AF$93-($B$89/2))","v":45.673153943698281},{"$f":"IF($AG$93=\"\",$C$13,$AG$93+($B$89/2))","v":96.849999958112093},null,50,8,"Left Bank",47.923153942415929,94.599999958112335,47.923153944980626,92.099999958112335,96.486545920497562,0,1.8865459623852274,1.8865459623852274,"",1.8865459623852274,0,4.3865459623852274,4.3865459623852274,0.16,0,0,0,0.75461838495409095,2.5,0.23511410091698962,0,0,"","","","","","","",0.16,0,0.16,8,8]
["Top#2","Above","Pinned",11.4,{"$f":"'Prelim-Top#2'!$K$61/2","v":3556.444698436937},{"$f":"'Prelim-Top#2'!$K$72/2","v":543.37790378722093},{"$f":"IF(OR($E$96=\"\",$E$96=0),0,IF($C$96=\"Pinned\",ABS($E$96),IF(AND($C$96=\"Gravity\",$B$96=\"Below\",$E$96>=0),ABS($E$96),IF(AND($C$96=\"Gravity\",$B$96=\"Above\",$E$96<=0),ABS($E$96),0))))","v":3556.444698436937},{"$f":"IF($L$96=0,\"\",IF($L$96>0,CHAR(233),CHAR(234)))","v":"é"},{"$f":"IF(OR($F$96=\"\",$F$96=0),0,IF($C$96=\"Pinned\",ABS($F$96),IF(AND($C$96=\"Gravity\",$B$96=\"Behind\",$F$96<0),ABS($F$96),IF(AND($C$96=\"Gravity\",$B$96=\"In front\",$F$96>0),ABS($F$96),0))))","v":543.37790378722093},{"$f":"IF($M$96=0,\"\",IF($M$96>=0,CHAR(232),CHAR(231)))","v":"è"},null,{"$f":"IF($G$96=0,0,$E$96)","v":3556.444698436937},{"$f":"IF($I$96=0,0,$F$96)","v":543.37790378722093},null,"Boulder 3",{"$f":"IF(OR($F$25=\"\",$C89=\"\"),\"\",$AE$49-(($C89*$M$19)*$M$17))","v":47.923153943698281},{"$f":"IF(OR($G$25=\"\",$C89=\"\"),\"\",IF($A89=\"Behind\",MIN($R96,$S96),IF($A89=\"Deadman\",(MIN($R96,$S96))-($F$22+1),$R96+$F$22)))","v":94.599999958112093},{"$f":"IF($P96=\"\",\"\",($AF$49+(($P96-$AE$49)*$AA$40))-($F$22/2))","v":92.099999958112093},{"$f":"IF($P96=\"\",\"\",IF($P96<$B$14,(($P96-$B$13)*$AB$31)+$C$13,IF($P96<$B$15,(($P96-$B$14)*$AB$32)+$C$14,IF($P96<$B$16,(($P96-$B$15)*$AB$33)+$C$15,IF($P96<$B$17,(($P96-$B$16)*$AB$34)+$C$16,IF($P96<$B$18,(($P96-$B$17)*$AB$35)+$C$17,IF($P96<$B$19,(($P96-$B$18)*$AB$36)+$C$18)))))))","v":96.486545920316814},{"$f":"IF($Q96=\"\",\"\",IF(($Q96+$B89-$AE$8)>=$B89,$B89,IF(($Q96+$B89)>$AE$8,($Q96+$B89)-$AE$8,0)))","v":0},{"$f":"IF($T96=\"\",\"\",IF($T96>=$B89,0,(PI()/3)*(($B89-$T96)^2)*((1.5*$B89)-($B89-$T96))))","v":47.712938426394985},{"$f":"IF($C89=\"\",\"\",IF($A89=\"Deadman\",0,IF($Q96>=$AE$8,PI()*(($B89/2)^2),((($B89/2)^2)*ACOS((($B89/2)-$T96)/($B89/2)))-((($B89/2)-$T96)*SQRT(2*($B89/2)*$T96-($T96^2))))))","v":0},{"$f":"IF($P96=\"\",\"\",IF(OR($C$19=\"\",$F$25=\"\",$G$25=\"\"),\"None\",IF($P96<$B$14,\"Left Floodplain\",IF($P96<$B$15,\"Left Bank\",IF($P96<$B$16,\"Left Stream Bed\",IF($P96<$B$17,\"Right Stream Bed\",IF($P96<$B$18,\"Right Bank\",\"Right Floodplain\")))))))","v":"Left Bank"},{"$f":"IF($Q96=\"\",\"\",IF(($Q96+$B89)<=$S96,$B89,IF($Q96>=$S96,0,$S96-$Q96)))","v":1.8865459622047211},{"$f":"IF($C89=\"\",\"\",IF($A89=\"Deadman\",PI()*(($B89/2)^2),IF($Q96>$S96,0,((($B89/2)^2)*ACOS((($B89/2)-$X96)/($B89/2)))-((($B89/2)-$X96)*SQRT(2*($B89/2)*$X96-($X96^2))))))","v":6.3237542046943478},{"$f":"IF($C89=\"\",\"\",IF(((PI()*(($B89/2)^2))-$V96-$Y96)<0,0,(PI()*(($B89/2)^2))-$V96-$Y96))","v":9.5805586041039792},"Point 4",{"$f":"IF($AB$93=\"\",0,$AB$94)","v":56.140217980377862},{"$f":"IF($AC$97=\"\",$C$13,$AC$97-($B$87/25))","v":93.159999986037363},{"$f":"IF($AD$93=\"\",0,$AD$94)","v":51.500435962038068},{"$f":"IF($AE$97=\"\",$C$13,$AE$97-($B$88/25))","v":98.91999997207472},{"$f":"IF($AF$93=\"\",0,$AF$94)","v":46.798153943698281},{"$f":"IF($AG$97=\"\",$C$13,$AG$97-($B$89/25))","v":98.919999958112086},null,51,8.16,"Left Bank",48.017199582782723,94.599999958391592,48.01719958534742,92.099999958391592,96.47328996356967,0,1.8732900051780774,1.8732900051780774,"",1.8732900051780774,0,4.3732900051780774,4.3732900051780774,0.16,0,0,0,0.74931600207123095,2.5,0.23511410091698962,0,0,"","","","","","","",0.16,0,0.16,8.16,8.16]
["Top#3","Above","Pinned",18.399999999999999,{"$f":"'Prelim-Top#3'!K61/2","v":2661.749147951145},{"$f":"-'Prelim-Top#3'!K73/2","v":-1773.6332582940561},{"$f":"IF(OR($E$97=\"\",$E$97=0),0,IF($C$97=\"Pinned\",ABS($E$97),IF(AND($C$97=\"Gravity\",$B$97=\"Below\",$E$97>=0),ABS($E$97),IF(AND($C$97=\"Gravity\",$B$97=\"Above\",$E$97<=0),ABS($E$97),0))))","v":2661.749147951145},{"$f":"IF($L$97=0,\"\",IF($L$97>0,CHAR(233),CHAR(234)))","v":"é"},{"$f":"IF(OR($F$97=\"\",$F$97=0),0,IF($C$97=\"Pinned\",ABS($F$97),IF(AND($C$97=\"Gravity\",$B$97=\"Behind\",$F$97<0),ABS($F$97),IF(AND($C$97=\"Gravity\",$B$97=\"In front\",$F$97>0),ABS($F$97),0))))","v":1773.6332582940561},{"$f":"IF($M$97=0,\"\",IF($M$97>=0,CHAR(232),CHAR(231)))","v":"ç"},null,{"$f":"IF($G$97=0,0,$E$97)","v":2661.749147951145},{"$f":"IF($I$97=0,0,$F$97)","v":-1773.6332582940561},null,null,null,null,null,null,null,null,null,null,null,null,null,"Point 5",{"$f":"IF($AB$93=\"\",0,$AB$93)","v":57.327717980377862},{"$f":"IF($AC$93=\"\",$C$13,$AC$93+$B$87)","v":93.349999986037361},{"$f":"IF($AD$93=\"\",0,$AD$93)","v":52.625435962038068},{"$f":"IF($AE$93=\"\",$C$13,$AE$93+$B$88)","v":99.099999972074727},{"$f":"IF($AF$93=\"\",0,$AF$93)","v":47.923153943698281},{"$f":"IF($AG$93=\"\",$C$13,$AG$93+$B$89)","v":99.099999958112093},null,52,8.32,"Left Bank",48.111245223149517,94.59999995867085,48.111245225714214,92.09999995867085,96.460034006641777,0,1.8600340479709274,1.8600340479709274,"",1.8600340479709274,0,4.3600340479709274,4.3600340479709274,0.16,0,0,0,0.74401361918837094,2.5,0.23511410091698962,0,0,"","","","","","","",0.16,0,0.16,8.32,8.32]
[null,null,null,null,null,null,{"$f":"IF(OR($E$98=\"\",$E$98=0),0,IF($C$98=\"Pinned\",ABS($E$98),IF(AND($C$98=\"Gravity\",$B$98=\"Below\",$E$98>=0),ABS($E$98),IF(AND($C$98=\"Gravity\",$B$98=\"Above\",$E$98<=0),ABS($E$98),0))))","v":0},{"$f":"IF($L$98=0,\"\",IF($L$98>0,CHAR(233),CHAR(234)))","v":""},{"$f":"IF(OR($F$98=\"\",$F$98=0),0,IF($C$98=\"Pinned\",ABS($F$98),IF(AND($C$98=\"Gravity\",$B$98=\"Behind\",$F$98<0),ABS($F$98),IF(AND($C$98=\"Gravity\",$B$98=\"In front\",$F$98>0),ABS($F$98),0))))","v":0},{"$f":"IF($M$98=0,\"\",IF($M$98>=0,CHAR(232),CHAR(231)))","v":""},null,{"$f":"IF($G$98=0,0,$E$98)","v":0},{"$f":"IF($I$98=0,0,$F$98)","v":0},null,null,"FD,r (lbf)","FL,r (lbf)",null,null,null,"Soil Anchor Zone Calculation",null,null,null,null,null,"Point 6",{"$f":"IF($AB$93=\"\",0,$AB$93+($B$87/4))","v":58.515217980377862},{"$f":"IF($AC$93=\"\",$C$13,$AC$96)","v":93.159999986037363},{"$f":"IF($AD$93=\"\",\"\",$AD$93+($B$88/4))","v":53.750435962038068},{"$f":"IF($AE$93=\"\",$C$13,$AE$96)","v":98.91999997207472},{"$f":"IF($AF$93=\"\",0,$AF$93+($B$89/4))","v":49.048153943698281},{"$f":"IF($AG$93=\"\",$C$13,$AG$96)","v":98.919999958112086},null,53,8.48,"Left Bank",48.205290863516318,94.599999958950107,48.205290866081015,92.099999958950107,96.446778049713885,0,1.8467780907637774,1.8467780907637774,"",1.8467780907637774,0,4.3467780907637774,4.3467780907637774,0.16,0,0,0,0.73871123630551094,2.5,0.23511410091698962,0,0,"","","","","","","",0.16,0,0.16,8.48,8.48]
[null,null,null,null,null,null,null,null,null,null,null,{"$f":"$L$95+$L$96+$L$97+$L$98","v":9857.0483855487},{"$f":"$M$95+$M$96+$M$97+$M$98","v":-294.10882793616611},null,"Boulder 1",{"$f":"IF(OR($F$25=\"\",$C87=\"\"),\"\",IF($A87=\"Behind\",0.5*CDrock*$Z94*SWWater*($J$6^2)/(2*g),CDrock*$Z94*SWWater*($J$6^2)/(2*g)))","v":0},{"$f":"IF(OR($F$25=\"\",$C87=\"\"),\"\",IF($A87=\"Behind\",0.5*CLrock*$Z94*SWWater*(($J$6^2)/(2*g)),CLrock*$Z94*SWWater*(($J$6^2)/(2*g))))","v":0},null,null,null,null,"xr,bot (ft)","Zone",null,null,null,"Point 7",{"$f":"IF($AB$93=\"\",0,$AB$93+($B$87/2))","v":59.702717980377862},{"$f":"IF($AC$93=\"\",$C$13,$AC$95)","v":90.974999986037361},{"$f":"IF($AD$93=\"\",0,$AD$93+($B$88/2))","v":54.875435962038068},{"$f":"IF($AE$93=\"\",$C$13,$AE$95)","v":96.849999972074727},{"$f":"IF($AF$93=\"\",\"\",$AF$93+($B$89/2))","v":50.173153943698281},{"$f":"IF($AG$93=\"\",$C$13,$AG$95)","v":96.849999958112093},null,54,8.64,"Left Bank",48.299336503883112,94.599999959229365,48.299336506447808,92.099999959229365,96.433522092785992,0,1.8335221335566274,1.8335221335566274,"",1.8335221335566274,0,4.3335221335566274,4.3335221335566274,0.16,0,0,0,0.73340885342265094,2.5,0.23511410091698962,0,0,"","","","","","","",0.16,0,0.16,8.64,8.64]
[null,null,null,null,null,null,null,null,null,null,null,null,null,null,"Boulder 2",{"$f":"IF(OR($F$25=\"\",$C88=\"\"),\"\",IF($A88=\"Behind\",0.5*CDrock*$Z95*SWWater*($J$6^2)/(2*g),CDrock*$Z95*SWWater*($J$6^2)/(2*g)))","v":219.44569693532586},{"$f":"IF(OR($F$25=\"\",$C88=\"\"),\"\",IF($A88=\"Behind\",0.5*CLrock*$Z95*SWWater*(($J$6^2)/(2*g)),CLrock*$Z95*SWWater*(($J$6^2)/(2*g))))","v":43.889139387065178},null,null,null,"Anchor 1",{"$f":"IF(OR($F$25=\"\",$H83=\"\"),\"\",$AE$49-(($H83*$M$19)*$M$17))","v":""},{"$f":"IF($V100=\"\",\"\",IF(OR($C$19=\"\",$F$25=\"\",$G$25=\"\"),\"None\",IF($V100<$B$14,\"Bank\",IF($V100<$B$15,\"Bank\",IF($V100<$B$16,\"Bed\",IF($V100<$B$17,\"Bed\",IF($V100<$B$18,\"Bank\",\"Bank\")))))))","v":""},null,null,null,"Point 8",{"$f":"IF($AB$93=\"\",0,$AB$98)","v":58.515217980377862},{"$f":"IF($AC$93=\"\",$C$13,$AC$94)","v":88.789999986037358},{"$f":"IF($AD$93=\"\",0,$AD$98)","v":53.750435962038068},{"$f":"IF($AE$93=\"\",$C$13,$AE$94)","v":94.779999972074734},{"$f":"IF($AF$93=\"\",0,$AF$98)","v":49.048153943698281},{"$f":"IF($AG$93=\"\",$C$13,$AG$94)","v":94.7799999581121},null,55,8.8000000000000007,"Left Bank",48.393382144249905,94.599999959508622,48.393382146814602,92.099999959508622,96.4202661358581,0,1.8202661763494774,1.8202661763494774,"",1.8202661763494774,0,4.3202661763494774,4.3202661763494774,0.16,0,0,0,0.72810647053979094,2.5,0.23511410091698962,0,0,"","","","","","","",0.16,0,0.16,8.8000000000000007,8.8000000000000007]
[null,null,null,null,null,null,null,null,null,null,null,null,null,null,"Boulder 3",{"$f":"IF(OR($F$25=\"\",$C89=\"\"),\"\",IF($A89=\"Behind\",0.5*CDrock*$Z96*SWWater*($J$6^2)/(2*g),CDrock*$Z96*SWWater*($J$6^2)/(2*g)))","v":169.48439832362993},{"$f":"IF(OR($F$25=\"\",$C89=\"\"),\"\",IF($A89=\"Behind\",0.5*CLrock*$Z96*SWWater*(($J$6^2)/(2*g)),CLrock*$Z96*SWWater*(($J$6^2)/(2*g))))","v":33.896879664725986},null,null,null,"Anchor 2",{"$f":"IF(OR($F$25=\"\",$H84=\"\"),\"\",$AE$49-(($H84*$M$19)*$M$17))","v":""},{"$f":"IF($V101=\"\",\"\",IF(OR($C$19=\"\",$F$25=\"\",$G$25=\"\"),\"None\",IF($V101<$B$14,\"Bank\",IF($V101<$B$15,\"Bank\",IF($V101<$B$16,\"Bed\",IF($V101<$B$17,\"Bed\",IF($V101<$B$18,\"Bank\",\"Bank\")))))))","v":""},null,null,null,"Point 9",{"$f":"IF($AB$93=\"\",0,$AB$93)","v":57.327717980377862},{"$f":"IF($AC$93=\"\",$C$13,$AC$93)","v":88.599999986037361},{"$f":"IF($AD$93=\"\",0,$AD$93)","v":52.625435962038068},{"$f":"IF($AE$93=\"\",$C$13,$AE$93)","v":94.599999972074727},{"$f":"IF($AF$93=\"\",0,$AF$93)","v":47.923153943698281},{"$f":"IF($AG$93=\"\",$C$13,$AG$93)","v":94.599999958112093},null,56,8.9600000000000009,"Left Bank",48.487427784616706,94.59999995978788,48.487427787181403,92.09999995978788,96.407010178930221,0,1.8070102191423416,1.8070102191423416,"",1.8070102191423416,0,4.3070102191423416,4.3070102191423416,0.16,0,0,0,0.72280408765693671,2.5,0.23511410091698962,0,0,"","","","","","","",0.16,0,0.16,8.9600000000000009,8.9600000000000009]
[null,null,null,null,null,null,null,null,null,null,null,null,null,null,null,null,null,null,null,null,null,null,null,null,null,null,null,null,null,null,null,null,null,null,57,9.1199999999999992,"Left Bank",48.5814734249835,94.599999960067137,48.581473427548197,92.099999960067137,96.393754222002329,0,1.7937542619351916,1.7937542619351916,"",1.7937542619351916,0,4.2937542619351916,4.2937542619351916,0.16,0,0,0,0.71750170477407671,2.5,0.23511410091698962,0,0,"","","","","","","",0.16,0,0.16,9.1199999999999992,9.1199999999999992]
[null,null,null,null,null,null,null,null,null,null,null,null,null,null,null,null,null,null,null,null,null,null,null,null,null,null,null,"Anchor #1",null,null,null,"Soil Ballast #1",null,null,58,9.2799999999999994,"Left Bank",48.675519065350294,94.599999960346395,48.675519067914991,92.099999960346395,96.380498265074436,0,1.7804983047280416,1.7804983047280416,"",1.7804983047280416,0,4.2804983047280416,4.2804983047280416,0.16,0,0,0,0.71219932189121671,2.5,0.23511410091698962,0,0,"","","","","","","",0.16,0,0.16,9.2799999999999994,9.2799999999999994]
[null,null,null,null,null,null,null,null,null,null,null,null,null,null,null,null,null,null,null,null,null,null,null,null,null,null,null,"xTS (ft)","yTS (ft)",null,null,"xTS (ft)","yTS (ft)",null,59,9.44,"Left Bank",48.769564705717087,94.599999960625652,48.769564708281784,92.099999960625652,96.367242308146544,0,1.7672423475208916,1.7672423475208916,"",1.7672423475208916,0,4.2672423475208916,4.2672423475208916,0.16,0,0,0,0.70689693900835671,2.5,0.23511410091698962,0,0,"","","","","","","",0.16,0,0.16,9.44,9.44]
[null,null,null,null,null,null,null,null,null,null,null,null,null,null,null,null,null,null,null,null,null,null,null,null,null,null,"Point 1",{"$f":"IF(OR($F$25=\"\",$H83=\"\"),0,$AE$49-(($H83*$M$19)*$M$17))","v":0},{"$f":"IF(OR($AB105=\"\",$AB$105=0),$C$13,($AF$49+(($AB105-$AE$49)*$AA$40))-($F$22/2))","v":99.18},null,"Point 1",{"$f":"IF(OR($F$25=\"\",$C83=\"\"),0,($AE$49-(($C83*$M$19)*$M$17))+(ABS(2*$M$17*$M$19)))","v":0},{"$f":"IF(OR($AF105=\"\",$AF$105=0),$C$13,($AF$49+(($AF105-$AE$49)*$AA$40))+($F$22/2))","v":99.18},null,60,9.6,"Left Bank",48.863610346083888,94.59999996090491,48.863610348648585,92.09999996090491,96.353986351218651,0,1.7539863903137416,1.7539863903137416,"",1.7539863903137416,0,4.2539863903137416,4.2539863903137416,0.16,0,0,0,0.7015945561254967,2.5,0.23511410091698962,0,0,"","","","","","","",0.16,0,0.16,9.6,9.6]
[null,null,null,null,null,null,null,null,null,null,null,null,null,null,null,null,null,null,null,null,null,null,null,null,null,null,"Point 2",{"$f":"IF($AB105=\"\",0,$AB105)","v":0},{"$f":"IF(OR($AC105=\"\",$AB$105=0),$C$13,$AC105-4)","v":99.18},null,"Point 2",{"$f":"IF($AF105=\"\",0,$AF105)","v":0},{"$f":"IF(OR($AG105=\"\",$AF$105=0),$C$13,IF($AG$105>$AG$108,$AG105+2.25,$AG$108+2.25))","v":99.18},null,61,9.76,"Left Bank",48.957655986450682,94.599999961184167,48.957655989015379,92.099999961184167,96.340730394290759,0,1.7407304331065916,1.7407304331065916,"",1.7407304331065916,0,4.2407304331065916,4.2407304331065916,0.16,0,0,0,0.6962921732426367,2.5,0.23511410091698962,0,0,"","","","","","","",0.16,0,0.16,9.76,9.76]
[null,null,null,null,null,null,null,null,null,null,null,null,null,null,null,null,null,null,null,null,null,null,null,null,null,null,null,null,null,null,"Point 3",{"$f":"IF(OR($F$25=\"\",$C83=\"\"),0,($AE$49-(($C83*$M$19)*$M$17))-(ABS(2*$M$17*$M$19)))","v":0},{"$f":"IF(OR($AG106=\"\",$AF$105=0),$C$13,$AG106)","v":99.18},null,62,9.92,"Left Bank",49.051701626817476,94.599999961463425,49.051701629382173,92.099999961463425,96.327474437362866,0,1.7274744758994416,1.7274744758994416,"",1.7274744758994416,0,4.2274744758994416,4.2274744758994416,0.16,0,0,0,0.6909897903597767,2.5,0.23511410091698962,0,0,"","","","","","","",0.16,0,0.16,9.92,9.92]
[null,null,null,null,null,null,null,null,null,null,null,null,null,null,null,null,null,null,null,null,null,null,null,null,null,null,null,"Anchor #2",null,null,"Point 4",{"$f":"IF($AF105=\"\",0,$AF107)","v":0},{"$f":"IF(OR($AG105=\"\",$AF$105=0),$C$13,$AG105-((ABS($AF$105-$AF$108))*$AA$40))","v":99.18},null,63,10.08,"Left Bank",49.145747267184277,94.599999961742682,49.145747269748973,92.099999961742682,96.314218480434974,0,1.7142185186922916,1.7142185186922916,"",1.7142185186922916,0,4.2142185186922916,4.2142185186922916,0.16,0,0,0,0.6856874074769167,2.5,0.23511410091698962,0,0,"","","","","","","",0.16,0,0.16,10.08,10.08]
[null,null,null,null,null,null,null,null,null,null,null,null,null,null,null,null,null,null,null,null,null,null,null,null,null,null,null,"xTS (ft)","yTS (ft)",null,null,null,null,null,64,10.24,{"$f":"IF(OR($C$19=\"\",$F$25=\"\",$G$25=\"\"),\"None\",IF(AL109<$B$14,\"Left Floodplain\",IF(AL109<$B$15,\"Left Bank\",IF(AL109<$B$16,\"Left Stream Bed\",IF(AL109<$B$17,\"Right Stream Bed\",IF(AL109<$B$18,\"Right Bank\",\"Right Floodplain\"))))))","v":"Left Bank"},49.23979290755107,94.59999996202194,49.239792910115767,92.09999996202194,96.300962523507081,{"$f":"IF(OR($AP109<$AE$12,$AP109<=$AM109),0,IF(OR($AP109>=$AE$12,$AM109>=$AE$12),$AP109-$AM109-$AR109,$AP109-$AE$12))","v":0},{"$f":"IF($AP109<=$AM109,0,IF($AM109>=$AE$12,0,IF($AP109<=$AE$12,$AP109-$AM109,$AE$12-$AM109)))","v":1.7009625614851416},1.7009625614851416,"",1.7009625614851416,0,{"$f":"IF($AP109<=$AO109,0,IF($AO109>=$AE$12,0,IF($AP109<=$AE$12,$AP109-$AO109,$AE$12-$AO109)))","v":4.2009625614851416},{"$f":"IF(AP109<=AO109,0,AP109-AO109)","v":4.2009625614851416},{"$f":"IF($AS109=0,0,IF(OR($AJ109=0,$AJ109=$E$22),$AJ$46/2,$AJ$46))","v":0.16},{"$f":"IF(OR($AK109=\"Left Stream Bed\",$AK109=\"Right Stream Bed\"),$F$22*$AQ109*$AY109,0)","v":0},{"$f":"IF(OR($AK109=\"Left Stream Bed\",$AK109=\"Right Stream Bed\"),$F$22*$AR109*$AY109,0)","v":0},{"$f":"IF(OR($AK109=\"Left Floodplain\",$AK109=\"Left Bank\",$AK109=\"Right Bank\",$AK109=\"Right Floodplain\"),$F$22*$AQ109*$AY109,0)","v":0},{"$f":"IF(OR($AK109=\"Left Floodplain\",$AK109=\"Left Bank\",$AK109=\"Right Bank\",$AK109=\"Right Floodplain\"),$F$22*$AR109*$AY109,0)","v":0.6803850245940567},{"$f":"AX109-AS109","v":2.5},0.23511410091698962,0,{"$f":"IF(OR($AJ109=0,$AJ109=$E$22),($BF109*$AJ$46/2)*ABS($M$17),$BF109*$AJ$46*ABS($M$17))","v":0},{"$f":"IF(OR($AM109<$AP109,$AO109>$AE$8),\"\",IF(OR($AJ109=0,$AJ109=$E$22),$AJ$46/2,$AJ$46))","v":""},"","",{"$f":"IF($BJ109=\"\",\"\",IF(OR($BJ109>($F$22/2),$BJ109=0),0,0.45-($BJ109*0.45/($F$22/2))))","v":""},{"$f":"IF($BK109=\"\",\"\",IF($BK109>0,$AJ109,\"\"))","v":""},"","",{"$f":"IF($AO109=0,0,IF($AO109>$AP109,0,IF(OR($AJ109=0,$AJ109=$E$22),$AJ$46/2,$AJ$46)))","v":0.16},{"$f":"IF(AND($BO109>0,OR($AK109=\"Left Stream Bed\",$AK109=\"Right Stream Bed\")),$BO109,0)","v":0},{"$f":"IF(AND($BO109>0,OR($AK109=\"Left Floodplain\",$AK109=\"Left Bank\",$AK109=\"Right Bank\",$AK109=\"Right Floodplain\")),$BO109,0)","v":0.16},{"$f":"IF($BO109>0,$AJ109,\"\")","v":10.24},10.24]
[null,null,null,null,null,null,null,null,null,null,null,null,null,null,null,null,null,null,null,null,null,null,null,null,null,null,"Point 1",{"$f":"IF(OR($F$25=\"\",$H84=\"\"),0,$AE$49-(($H84*$M$19)*$M$17))","v":0},{"$f":"IF(OR($AB$110=0,$AB110=\"\"),$C$13,($AF$49+(($AB110-$AE$49)*$AA$40))-($F$22/2))","v":99.18},null,null,"Log Interactions",null,null,65,{"$f":"($AI110/$AI$245)*$AJ$245","v":10.4},"Left Bank",49.333838547917864,94.599999962301197,{"$f":"$AN$45+ABS(AJ110*$M$19*$M$17)","v":49.333838550482561},92.099999962301197,96.287706566579189,0,1.6877066042779916,{"$f":"IF(AP110<=AM110,0,AP110-AM110)","v":1.6877066042779916},{"$f":"IF(OR($AS110=\"\",$AS110=0),\"\",IF(OR($AK110=\"Left Stream Bed\",$AK110=\"Right Stream Bed\"),$AS110,\"\"))","v":""},{"$f":"IF(OR($AS110=\"\",$AS110=0),\"\",IF(OR($AK110=\"Left Floodplain\",$AK110=\"Left Bank\",$AK110=\"Right Bank\",$AK110=\"Right Floodplain\"),$AS110,\"\"))","v":1.6877066042779916},{"$f":"IF(OR($AP110<$AE$12,$AP110<=$AO110),0,IF($AO110>=$AE$12,$AP110-$AO110,$AP110-$AE$12))","v":0},4.1877066042779916,4.1877066042779916,0.16,0,0,0,0.6750826417111967,2.5,{"$f":"$BD110*$AJ$46*ABS($M$17)","v":0.23511410091698962},{"$f":"AV110-AQ110","v":0},0,"",{"$f":"IF($BH110=\"\",\"\",IF($BH110>0,$AJ110,\"\"))","v":""},{"$f":"IF($BH110=\"\",\"\",IF(OR(($AO110-$AP110)<0,$AO$45>=$AE$8),0,($AO110-$AP110)))","v":""},"","",{"$f":"IF($BH110=\"\",\"\",IF(OR(($AM110-$AP110)<0,$AM110>=$AE$8),\"\",($AE$8-($AM110-(($F$22/2)/$M$19)))))","v":""},"",0.16,0,0.16,10.4,{"$f":"IF($AY110>0,$AJ110,\"\")","v":10.4}]
[null,null,null,null,null,null,null,null,null,null,null,null,null,null,null,null,null,null,null,null,null,null,null,null,null,null,"Point 2",{"$f":"IF($AB110=\"\",0,$AB110)","v":0},{"$f":"IF(OR($AB$110=0,$AC110=\"\"),$C$13,$AC110-4)","v":99.18},null,null,"xTS (ft)","yTS (ft)",null,66,10.56,"Left Bank",49.427884188284665,{"$f":"AM110+((AL111-AL110)*$AA$40)","v":94.599999962580455},49.427884190849355,{"$f":"AO110+((AN111-AN110)*$AA$40)","v":92.099999962580455},{"$f":"IF($AL111<$B$14,(($AL111-$B$13)*$AB$31)+$C$13,IF($AL111<$B$15,(($AL111-$B$14)*$AB$32)+$C$14,IF($AL111<$B$16,(($AL111-$B$15)*$AB$33)+$C$15,IF($AL111<$B$17,(($AL111-$B$16)*$AB$34)+$C$16,IF($AL111<$B$18,(($AL111-$B$17)*$AB$35)+$C$17,IF($AL111<$B$19,(($AL111-$B$18)*$AB$36)+$C$18))))))","v":96.274450609651296},0,1.6744506470708416,1.6744506470708416,"",1.6744506470708416,0,4.1744506470708416,4.1744506470708416,0.16,0,0,0,0.66978025882833669,2.5,0.23511410091698962,0,0,"","","","","","",{"$f":"IF($BM111=\"\",\"\",(((PI()^2)/32)*($B$66^-6)*EXP(-($BM111/$F$22)/(2*($B$66^2)))))","v":""},0.16,0,0.16,10.56,10.56]
[null,null,null,null,null,null,null,null,null,null,null,null,null,null,null,null,null,null,null,null,null,null,null,null,null,null,null,null,null,null,"Point 1",{"$f":"IF(OR($F$25=\"\",$C90=\"\"),0,($AE$49-(($C90*$M$19)*$M$17))+(ABS(2*$M$17*$M$19)))","v":0},{"$f":"IF(OR($AF112=\"\",$AF$105=0),$C$13,($AF$49+(($AF112-$AE$49)*$AA$40))+($F$22/2))","v":99.18},null,67,10.72,"Left Bank",{"$f":"$AL$45+ABS(AJ112*$M$19*$M$17)","v":49.521929828651459},94.599999962859712,49.521929831216156,92.099999962859712,96.261194652723404,0,1.6611946898636916,1.6611946898636916,"",1.6611946898636916,0,4.1611946898636916,4.1611946898636916,0.16,0,0,0,0.66447787594547669,2.5,0.23511410091698962,0,0,"","","","","","","",0.16,0,0.16,10.72,10.72]
[null,null,null,null,null,null,null,null,null,null,null,null,null,null,null,null,null,null,null,null,null,null,null,null,null,null,null,null,null,null,"Point 2",{"$f":"IF($AF112=\"\",0,$AF112)","v":0},{"$f":"IF(OR($AG112=\"\",$AF$105=0),$C$13,IF($AG$105>$AG$108,$AG112+2.25,$AG$108+2.25))","v":99.18},null,68,10.88,"Left Bank",49.615975469018252,94.59999996313897,49.615975471582949,92.09999996313897,96.247938695795526,0,1.6479387326565558,1.6479387326565558,"",1.6479387326565558,0,4.1479387326565558,4.1479387326565558,0.16,0,0,0,0.65917549306262235,2.5,0.23511410091698962,0,0,"","","","","","","",0.16,0,0.16,10.88,10.88]
[null,null,null,null,null,null,null,null,null,null,null,null,null,null,null,null,null,null,null,null,null,null,null,null,null,null,null,null,null,null,"Point 3",{"$f":"IF(OR($F$25=\"\",$C90=\"\"),0,($AE$49-(($C90*$M$19)*$M$17))-(ABS(2*$M$17*$M$19)))","v":0},{"$f":"IF(OR($AG113=\"\",$AF$105=0),$C$13,$AG113)","v":99.18},null,69,11.04,"Left Bank",49.710021109385046,94.599999963418227,49.710021111949743,92.099999963418227,96.234682738867633,0,1.6346827754494058,1.6346827754494058,"",1.6346827754494058,0,4.1346827754494058,4.1346827754494058,0.16,0,0,0,0.65387311017976235,2.5,0.23511410091698962,0,0,"","","","","","","",0.16,0,0.16,11.04,11.04]
[null,null,null,null,null,null,null,null,null,null,null,null,null,null,null,null,null,null,null,null,null,null,null,null,null,null,null,null,null,null,"Point 4",{"$f":"IF($AF112=\"\",0,$AF114)","v":0},{"$f":"IF(OR($AG112=\"\",$AF$105=0),$C$13,$AG112-((ABS($AF$105-$AF$108))*$AA$40))","v":99.18},null,70,11.2,"Left Bank",49.804066749751847,94.599999963697485,49.804066752316544,92.099999963697485,96.221426781939741,0,1.6214268182422558,1.6214268182422558,"",1.6214268182422558,0,4.1214268182422558,4.1214268182422558,0.16,0,0,0,0.64857072729690235,2.5,0.23511410091698962,0,0,"","","","","","","",0.16,0,0.16,11.2,11.2]
[null,null,null,null,null,null,null,null,null,null,null,null,null,null,null,null,null,null,null,null,null,null,null,null,null,null,null,null,null,null,null,null,null,null,71,11.36,"Left Bank",49.898112390118641,94.599999963976742,49.898112392683338,92.099999963976742,96.208170825011848,0,1.6081708610351058,1.6081708610351058,"",1.6081708610351058,0,4.1081708610351058,4.1081708610351058,0.16,0,0,0,0.64326834441404235,2.5,0.23511410091698962,0,0,"","","","","","","",0.16,0,0.16,11.36,11.36]
[null,null,null,null,null,null,null,null,null,null,null,null,null,null,null,null,null,null,null,null,null,null,null,null,null,null,null,null,null,null,null,null,null,null,72,11.52,"Left Bank",49.992158030485434,94.599999964256,49.992158033050131,92.099999964256,96.194914868083956,0,1.5949149038279558,1.5949149038279558,"",1.5949149038279558,0,4.0949149038279558,4.0949149038279558,0.16,0,0,0,0.63796596153118235,2.5,0.23511410091698962,0,0,"","","","","","","",0.16,0,0.16,11.52,11.52]
[null,null,null,null,null,null,null,null,null,null,null,null,null,null,null,null,null,null,null,null,null,null,null,null,null,null,null,null,null,null,null,null,null,null,73,11.68,"Left Bank",50.086203670852228,94.599999964535257,50.086203673416932,92.099999964535257,96.181658911156063,0,1.5816589466208058,1.5816589466208058,"",1.5816589466208058,0,4.0816589466208058,4.0816589466208058,0.16,0,0,0,0.63266357864832234,2.5,0.23511410091698962,0,0,"","","","","","","",0.16,0,0.16,11.68,11.68]
[null,null,null,null,null,null,null,null,null,null,null,null,null,null,null,null,null,null,null,null,null,null,null,null,null,null,null,null,null,null,null,null,null,null,74,11.84,"Left Bank",50.180249311219029,94.599999964814515,50.180249313783726,92.099999964814515,96.168402954228171,0,1.5684029894136557,1.5684029894136557,"",1.5684029894136557,0,4.0684029894136557,4.0684029894136557,0.16,0,0,0,0.62736119576546234,2.5,0.23511410091698962,0,0,"","","","","","","",0.16,0,0.16,11.84,11.84]
[null,null,null,null,null,null,null,null,null,null,null,null,null,null,null,null,null,null,null,null,null,null,null,null,null,null,null,null,null,null,null,null,null,null,75,12,"Left Bank",50.274294951585823,94.599999965093772,50.27429495415052,92.099999965093772,96.155146997300278,0,1.5551470322065057,1.5551470322065057,"",1.5551470322065057,0,4.0551470322065057,4.0551470322065057,0.16,0,0,0,0.62205881288260234,2.5,0.23511410091698962,0,0,"","","","","","","",0.16,0,0.16,12,12]
[null,null,null,null,null,null,null,null,null,null,null,null,null,null,null,null,null,null,null,null,null,null,null,null,null,null,null,null,null,null,null,null,null,null,76,12.16,"Left Bank",50.368340591952617,94.59999996537303,50.368340594517313,92.09999996537303,96.141891040372386,0,1.5418910749993557,1.5418910749993557,"",1.5418910749993557,0,4.0418910749993557,4.0418910749993557,0.16,0,0,0,0.61675642999974234,2.5,0.23511410091698962,0,0,"","","","","","","",0.16,0,0.16,12.16,12.16]
[null,null,null,null,null,null,null,null,null,null,null,null,null,null,null,null,null,null,null,null,null,null,null,null,null,null,null,null,null,null,null,null,null,null,77,12.32,"Left Bank",50.462386232319417,94.599999965652287,50.462386234884114,92.099999965652287,96.128635083444493,0,1.5286351177922057,1.5286351177922057,"",1.5286351177922057,0,4.0286351177922057,4.0286351177922057,0.16,0,0,0,0.61145404711688234,2.5,0.23511410091698962,0,0,"","","","","","","",0.16,0,0.16,12.32,12.32]
[null,null,null,null,null,null,null,null,null,null,null,null,null,null,null,null,null,null,null,null,null,null,null,null,null,null,null,null,null,null,null,null,null,null,78,12.48,"Left Bank",50.556431872686211,94.599999965931545,50.556431875250908,92.099999965931545,96.115379126516601,0,1.5153791605850557,1.5153791605850557,"",1.5153791605850557,0,4.0153791605850557,4.0153791605850557,0.16,0,0,0,0.60615166423402234,2.5,0.23511410091698962,0,0,"","","","","","","",0.16,0,0.16,12.48,12.48]
[null,null,null,null,null,null,null,null,null,null,null,null,null,null,null,null,null,null,null,null,null,null,null,null,null,null,null,null,null,null,null,null,null,null,79,12.64,"Left Bank",50.650477513053005,94.599999966210802,50.650477515617702,92.099999966210802,96.102123169588722,0,1.5021232033779199,1.5021232033779199,"",1.5021232033779199,0,4.0021232033779199,4.0021232033779199,0.16,0,0,0,0.600849281351168,2.5,0.23511410091698962,0,0,"","","","","","","",0.16,0,0.16,12.64,12.64]
[null,null,null,null,null,null,null,null,null,null,null,null,null,null,null,null,null,null,null,null,null,null,null,null,null,null,null,null,null,null,null,null,null,null,80,12.8,"Left Bank",50.744523153419806,94.59999996649006,50.744523155984503,92.09999996649006,96.08886721266083,0,1.4888672461707699,1.4888672461707699,"",1.4888672461707699,0,3.9888672461707699,3.9888672461707699,0.16,0,0,0,0.59554689846830799,2.5,0.23511410091698962,0,0,"","","","","","","",0.16,0,0.16,12.8,12.8]
[null,null,null,null,null,null,null,null,null,null,null,null,null,null,null,null,null,null,null,null,null,null,null,null,null,null,null,null,null,null,null,null,null,null,81,12.96,"Left Bank",50.8385687937866,94.599999966769317,50.838568796351296,92.099999966769317,96.075611255732937,0,1.4756112889636199,1.4756112889636199,"",1.4756112889636199,0,3.9756112889636199,3.9756112889636199,0.16,0,0,0,0.59024451558544799,2.5,0.23511410091698962,0,0,"","","","","","","",0.16,0,0.16,12.96,12.96]
[null,null,null,null,null,null,null,null,null,null,null,null,null,null,null,null,null,null,null,null,null,null,null,null,null,null,null,null,null,null,null,null,null,null,82,13.12,"Left Bank",50.932614434153393,94.599999967048575,50.93261443671809,92.099999967048575,96.062355298805045,0,1.4623553317564699,1.4623553317564699,"",1.4623553317564699,0,3.9623553317564699,3.9623553317564699,0.16,0,0,0,0.58494213270258799,2.5,0.23511410091698962,0,0,"","","","","","","",0.16,0,0.16,13.12,13.12]
[null,null,null,null,null,null,null,null,null,null,null,null,null,null,null,null,null,null,null,null,null,null,null,null,null,null,null,null,null,null,null,null,null,null,83,13.28,"Left Bank",51.026660074520187,94.599999967327832,51.026660077084884,92.099999967327832,96.049099341877152,0,1.4490993745493199,1.4490993745493199,"",1.4490993745493199,0,3.9490993745493199,3.9490993745493199,0.16,0,0,0,0.57963974981972799,2.5,0.23511410091698962,0,0,"","","","","","","",0.16,0,0.16,13.28,13.28]
[null,null,null,null,null,null,null,null,null,null,null,null,null,null,null,null,null,null,null,null,null,null,null,null,null,null,null,null,null,null,null,null,null,null,84,13.44,"Left Bank",51.120705714886988,94.59999996760709,51.120705717451685,92.09999996760709,96.03584338494926,0,1.4358434173421699,1.4358434173421699,"",1.4358434173421699,0,3.9358434173421699,3.9358434173421699,0.16,0,0,0,0.57433736693686799,2.5,0.23511410091698962,0,0,"","","","","","","",0.16,0,0.16,13.44,13.44]
[null,null,null,null,null,null,null,null,null,null,null,null,null,null,null,null,null,null,null,null,null,null,null,null,null,null,null,null,null,null,null,null,null,null,85,13.6,"Left Bank",51.214751355253782,94.599999967886347,51.214751357818479,92.099999967886347,96.022587428021367,0,1.4225874601350199,1.4225874601350199,"",1.4225874601350199,0,3.9225874601350199,3.9225874601350199,0.16,0,0,0,0.56903498405400799,2.5,0.23511410091698962,0,0,"","","","","","","",0.16,0,0.16,13.6,13.6]
[null,null,null,null,null,null,null,null,null,null,null,null,null,null,null,null,null,null,null,null,null,null,null,null,null,null,null,null,null,null,null,null,null,null,86,13.76,"Left Bank",51.308796995620575,94.599999968165605,51.308796998185272,92.099999968165605,96.009331471093475,0,1.4093315029278699,1.4093315029278699,"",1.4093315029278699,0,3.9093315029278699,3.9093315029278699,0.16,0,0,0,0.56373260117114798,2.5,0.23511410091698962,0,0,"","","","","","","",0.16,0,0.16,13.76,13.76]
[null,null,null,null,null,null,null,null,null,null,null,null,null,null,null,null,null,null,null,null,null,null,null,null,null,null,null,null,null,null,null,null,null,null,87,13.92,"Left Bank",51.402842635987376,94.599999968444862,51.402842638552073,92.099999968444862,95.996075514165582,0,1.3960755457207199,1.3960755457207199,"",1.3960755457207199,0,3.8960755457207199,3.8960755457207199,0.16,0,0,0,0.55843021828828798,2.5,0.23511410091698962,0,0,"","","","","","","",0.16,0,0.16,13.92,13.92]
[null,null,null,null,null,null,null,null,null,null,null,null,null,null,null,null,null,null,null,null,null,null,null,null,null,null,null,null,null,null,null,null,null,null,88,14.08,"Left Bank",51.49688827635417,94.59999996872412,51.496888278918867,92.09999996872412,95.98281955723769,0,1.3828195885135699,1.3828195885135699,"",1.3828195885135699,0,3.8828195885135699,3.8828195885135699,0.16,0,0,0,0.55312783540542798,2.5,0.23511410091698962,0,0,"","","","","","","",0.16,0,0.16,14.08,14.08]
[null,null,null,null,null,null,null,null,null,null,null,null,null,null,null,null,null,null,null,null,null,null,null,null,null,null,null,null,null,null,null,null,null,null,89,14.24,"Left Bank",51.590933916720964,94.599999969003377,51.590933919285661,92.099999969003377,95.969563600309797,0,1.3695636313064199,1.3695636313064199,"",1.3695636313064199,0,3.8695636313064199,3.8695636313064199,0.16,0,0,0,0.54782545252256798,2.5,0.23511410091698962,0,0,"","","","","","","",0.16,0,0.16,14.24,14.24]
[null,null,null,null,null,null,null,null,null,null,null,null,null,null,null,null,null,null,null,null,null,null,null,null,null,null,null,null,null,null,null,null,null,null,90,14.4,"Left Bank",51.684979557087757,94.599999969282635,51.684979559652461,92.099999969282635,95.956307643381919,0,1.3563076740992841,1.3563076740992841,"",1.3563076740992841,0,3.8563076740992841,3.8563076740992841,0.16,0,0,0,0.54252306963971364,2.5,0.23511410091698962,0,0,"","","","","","","",0.16,0,0.16,14.4,14.4]
[null,null,null,null,null,null,null,null,null,null,null,null,null,null,null,null,null,null,null,null,null,null,null,null,null,null,null,null,null,null,null,null,null,null,91,14.56,"Left Bank",51.779025197454558,94.599999969561892,51.779025200019255,92.099999969561892,95.943051686454027,0,1.3430517168921341,1.3430517168921341,"",1.3430517168921341,0,3.8430517168921341,3.8430517168921341,0.16,0,0,0,0.53722068675685364,2.5,0.23511410091698962,0,0,"","","","","","","",0.16,0,0.16,14.56,14.56]
[null,null,null,null,null,null,null,null,null,null,null,null,null,null,null,null,null,null,null,null,null,null,null,null,null,null,null,null,null,null,null,null,null,null,92,14.72,"Left Bank",51.873070837821352,94.59999996984115,51.873070840386049,92.09999996984115,95.929795729526134,0,1.3297957596849841,1.3297957596849841,"",1.3297957596849841,0,3.8297957596849841,3.8297957596849841,0.16,0,0,0,0.53191830387399364,2.5,0.23511410091698962,0,0,"","","","","","","",0.16,0,0.16,14.72,14.72]
[null,null,null,null,null,null,null,null,null,null,null,null,null,null,null,null,null,null,null,null,null,null,null,null,null,null,null,null,null,null,null,null,null,null,93,14.88,"Left Bank",51.967116478188146,94.599999970120408,51.96711648075285,92.099999970120408,95.916539772598242,0,1.3165398024778341,1.3165398024778341,"",1.3165398024778341,0,3.8165398024778341,3.8165398024778341,0.16,0,0,0,0.52661592099113363,2.5,0.23511410091698962,0,0,"","","","","","","",0.16,0,0.16,14.88,14.88]
[null,null,null,null,null,null,null,null,null,null,null,null,null,null,null,null,null,null,null,null,null,null,null,null,null,null,null,null,null,null,null,null,null,null,94,15.04,"Left Bank",52.061162118554947,94.599999970399665,52.061162121119644,92.099999970399665,95.903283815670349,0,1.3032838452706841,1.3032838452706841,"",1.3032838452706841,0,3.8032838452706841,3.8032838452706841,0.16,0,0,0,0.52131353810827363,2.5,0.23511410091698962,0,0,"","","","","","","",0.16,0,0.16,15.04,15.04]
[null,null,null,null,null,null,null,null,null,null,null,null,null,null,null,null,null,null,null,null,null,null,null,null,null,null,null,null,null,null,null,null,null,null,95,15.2,"Left Bank",52.15520775892174,94.599999970678923,52.155207761486437,92.099999970678923,95.890027858742457,0,1.2900278880635341,1.2900278880635341,"",1.2900278880635341,0,3.7900278880635341,3.7900278880635341,0.16,0,0,0,0.51601115522541363,2.5,0.23511410091698962,0,0,"","","","","","","",0.16,0,0.16,15.2,15.2]
[null,null,null,null,null,null,null,null,null,null,null,null,null,null,null,null,null,null,null,null,null,null,null,null,null,null,null,null,null,null,null,null,null,null,96,15.36,"Left Bank",52.249253399288534,94.59999997095818,52.249253401853231,92.09999997095818,95.876771901814564,0,1.2767719308563841,1.2767719308563841,"",1.2767719308563841,0,3.7767719308563841,3.7767719308563841,0.16,0,0,0,0.51070877234255363,2.5,0.23511410091698962,0,0,"","","","","","","",0.16,0,0.16,15.36,15.36]
[null,null,null,null,null,null,null,null,null,null,null,null,null,null,null,null,null,null,null,null,null,null,null,null,null,null,null,null,null,null,null,null,null,null,97,15.52,"Left Bank",52.343299039655335,94.599999971237438,52.343299042220025,92.099999971237438,95.863515944886672,0,1.2635159736492341,1.2635159736492341,"",1.2635159736492341,0,3.7635159736492341,3.7635159736492341,0.16,0,0,0,0.50540638945969363,2.5,0.23511410091698962,0,0,"","","","","","","",0.16,0,0.16,15.52,15.52]
[null,null,null,null,null,null,null,null,null,null,null,null,null,null,null,null,null,null,null,null,null,null,null,null,null,null,null,null,null,null,null,null,null,null,98,15.68,"Left Bank",52.437344680022129,94.599999971516695,52.437344682586826,92.099999971516695,95.850259987958779,0,1.2502600164420841,1.2502600164420841,"",1.2502600164420841,0,3.7502600164420841,3.7502600164420841,0.16,0,0,0,0.50010400657683363,2.5,0.23511410091698962,0,0,"","","","","","","",0.16,0,0.16,15.68,15.68]
[null,null,null,null,null,null,null,null,null,null,null,null,null,null,null,null,null,null,null,null,null,null,null,null,null,null,null,null,null,null,null,null,null,null,99,15.84,"Left Bank",52.531390320388923,94.599999971795953,52.531390322953619,92.099999971795953,95.837004031030887,0,1.2370040592349341,1.2370040592349341,"",1.2370040592349341,0,3.7370040592349341,3.7370040592349341,0.16,0,0,0,0.49480162369397362,2.5,0.23511410091698962,0,0,"","","","","","","",0.16,0,0.16,15.84,15.84]
[null,null,null,null,null,null,null,null,null,null,null,null,null,null,null,null,null,null,null,null,null,null,null,null,null,null,null,null,null,null,null,null,null,null,100,16,"Left Bank",52.625435960755723,94.59999997207521,52.625435963320413,92.09999997207521,95.823748074102994,0,1.2237481020277841,1.2237481020277841,"",1.2237481020277841,0,3.7237481020277841,3.7237481020277841,0.16,0,0,0,0.48949924081111362,2.5,0.23511410091698962,0,0,"","","","","","","",0.16,0,0.16,16,16]
[null,null,null,null,null,null,null,null,null,null,null,null,null,null,null,null,null,null,null,null,null,null,null,null,null,null,null,null,null,null,null,null,null,null,101,16.16,"Left Bank",52.719481601122517,94.599999972354468,52.719481603687214,92.099999972354468,95.810492117175102,0,1.2104921448206341,1.2104921448206341,"",1.2104921448206341,0,3.7104921448206341,3.7104921448206341,0.16,0,0,0,0.48419685792825362,2.5,0.23511410091698962,0,0,"","","","","","","",0.16,0,0.16,16.16,16.16]
[null,null,null,null,null,null,null,null,null,null,null,null,null,null,null,null,null,null,null,null,null,null,null,null,null,null,null,null,null,null,null,null,null,null,102,16.32,"Left Bank",52.813527241489311,94.599999972633725,52.813527244054008,92.099999972633725,95.797236160247223,0,1.1972361876134983,1.1972361876134983,"",1.1972361876134983,0,3.6972361876134983,3.6972361876134983,0.16,0,0,0,0.47889447504539934,2.5,0.23511410091698962,0,0,"","","","","","","",0.16,0,0.16,16.32,16.32]
[null,null,null,null,null,null,null,null,null,null,null,null,null,null,null,null,null,null,null,null,null,null,null,null,null,null,null,null,null,null,null,null,null,null,103,16.48,"Left Bank",52.907572881856112,94.599999972912983,52.907572884420802,92.099999972912983,95.783980203319331,0,1.1839802304063483,1.1839802304063483,"",1.1839802304063483,0,3.6839802304063483,3.6839802304063483,0.16,0,0,0,0.47359209216253934,2.5,0.23511410091698962,0,0,"","","","","","","",0.16,0,0.16,16.48,16.48]
[null,null,null,null,null,null,null,null,null,null,null,null,null,null,null,null,null,null,null,null,null,null,null,null,null,null,null,null,null,null,null,null,null,null,104,16.64,"Left Bank",53.001618522222905,94.59999997319224,53.001618524787602,92.09999997319224,95.770724246391438,0,1.1707242731991983,1.1707242731991983,"",1.1707242731991983,0,3.6707242731991983,3.6707242731991983,0.16,0,0,0,0.46828970927967933,2.5,0.23511410091698962,0,0,"","","","","","","",0.16,0,0.16,16.64,16.64]
[null,null,null,null,null,null,null,null,null,null,null,null,null,null,null,null,null,null,null,null,null,null,null,null,null,null,null,null,null,null,null,null,null,null,105,16.8,"Left Bank",53.095664162589699,94.599999973471498,53.095664165154396,92.099999973471498,95.757468289463546,0,1.1574683159920482,1.1574683159920482,"",1.1574683159920482,0,3.6574683159920482,3.6574683159920482,0.16,0,0,0,0.46298732639681933,2.5,0.23511410091698962,0,0,"","","","","","","",0.16,0,0.16,16.8,16.8]
[null,null,null,null,null,null,null,null,null,null,null,null,null,null,null,null,null,null,null,null,null,null,null,null,null,null,null,null,null,null,null,null,null,null,106,16.96,"Left Bank",53.189709802956493,94.599999973750755,53.18970980552119,92.099999973750755,95.744212332535653,0,1.1442123587848982,1.1442123587848982,"",1.1442123587848982,0,3.6442123587848982,3.6442123587848982,0.16,0,0,0,0.45768494351395933,2.5,0.23511410091698962,0,0,"","","","","","","",0.16,0,0.16,16.96,16.96]
[null,null,null,null,null,null,null,null,null,null,null,null,null,null,null,null,null,null,null,null,null,null,null,null,null,null,null,null,null,null,null,null,null,null,107,17.12,"Left Bank",53.283755443323294,94.599999974030013,53.283755445887991,92.099999974030013,95.730956375607761,0,1.1309564015777482,1.1309564015777482,"",1.1309564015777482,0,3.6309564015777482,3.6309564015777482,0.16,0,0,0,0.45238256063109933,2.5,0.23511410091698962,0,0,"","","","","","","",0.16,0,0.16,17.12,17.12]
[null,null,null,null,null,null,null,null,null,null,null,null,null,null,null,null,null,null,null,null,null,null,null,null,null,null,null,null,null,null,null,null,null,null,108,17.28,"Left Bank",53.377801083690088,94.59999997430927,53.377801086254784,92.09999997430927,95.717700418679868,0,1.1177004443705982,1.1177004443705982,"",1.1177004443705982,0,3.6177004443705982,3.6177004443705982,0.16,0,0,0,0.44708017774823933,2.5,0.23511410091698962,0,0,"","","","","","","",0.16,0,0.16,17.28,17.28]
[null,null,null,null,null,null,null,null,null,null,null,null,null,null,null,null,null,null,null,null,null,null,null,null,null,null,null,null,null,null,null,null,null,null,109,17.440000000000001,"Left Bank",53.471846724056881,94.599999974588528,53.471846726621578,92.099999974588528,95.704444461751976,0,1.1044444871634482,1.1044444871634482,"",1.1044444871634482,0,3.6044444871634482,3.6044444871634482,0.16,0,0,0,0.44177779486537933,2.5,0.23511410091698962,0,0,"","","","","","","",0.16,0,0.16,17.440000000000001,17.440000000000001]
[null,null,null,null,null,null,null,null,null,null,null,null,null,null,null,null,null,null,null,null,null,null,null,null,null,null,null,null,null,null,null,null,null,null,110,17.600000000000001,"Left Bank",53.565892364423675,94.599999974867785,53.565892366988379,92.099999974867785,95.691188504824083,0,1.0911885299562982,1.0911885299562982,"",1.0911885299562982,0,3.5911885299562982,3.5911885299562982,0.16,0,0,0,0.43647541198251932,2.5,0.23511410091698962,0,0,"","","","","","","",0.16,0,0.16,17.600000000000001,17.600000000000001]
[null,null,null,null,null,null,null,null,null,null,null,null,null,null,null,null,null,null,null,null,null,null,null,null,null,null,null,null,null,null,null,null,null,null,111,17.760000000000002,"Left Bank",53.659938004790476,94.599999975147043,53.659938007355173,92.099999975147043,95.677932547896191,0,1.0779325727491482,1.0779325727491482,"",1.0779325727491482,0,3.5779325727491482,3.5779325727491482,0.16,0,0,0,0.43117302909965932,2.5,0.23511410091698962,0,0,"","","","","","","",0.16,0,0.16,17.760000000000002,17.760000000000002]
[null,null,null,null,null,null,null,null,null,null,null,null,null,null,null,null,null,null,null,null,null,null,null,null,null,null,null,null,null,null,null,null,null,null,112,17.920000000000002,"Left Bank",53.75398364515727,94.5999999754263,53.753983647721967,92.0999999754263,95.664676590968298,0,1.0646766155419982,1.0646766155419982,"",1.0646766155419982,0,3.5646766155419982,3.5646766155419982,0.16,0,0,0,0.42587064621679932,2.5,0.23511410091698962,0,0,"","","","","","","",0.16,0,0.16,17.920000000000002,17.920000000000002]
[null,null,null,null,null,null,null,null,null,null,null,null,null,null,null,null,null,null,null,null,null,null,null,null,null,null,null,null,null,null,null,null,null,null,113,18.079999999999998,"Left Bank",53.848029285524063,94.599999975705558,53.84802928808876,92.099999975705558,95.65142063404042,0,1.0514206583348624,1.0514206583348624,"",1.0514206583348624,0,3.5514206583348624,3.5514206583348624,0.16,0,0,0,0.42056826333394498,2.5,0.23511410091698962,0,0,"","","","","","","",0.16,0,0.16,18.079999999999998,18.079999999999998]
[null,null,null,null,null,null,null,null,null,null,null,null,null,null,null,null,null,null,null,null,null,null,null,null,null,null,null,null,null,null,null,null,null,null,114,18.239999999999998,"Left Bank",53.942074925890864,94.599999975984815,53.942074928455554,92.099999975984815,95.638164677112528,0,1.0381647011277124,1.0381647011277124,"",1.0381647011277124,0,3.5381647011277124,3.5381647011277124,0.16,0,0,0,0.41526588045108498,2.5,0.23511410091698962,0,0,"","","","","","","",0.16,0,0.16,18.239999999999998,18.239999999999998]
[null,null,null,null,null,null,null,null,null,null,null,null,null,null,null,null,null,null,null,null,null,null,null,null,null,null,null,null,null,null,null,null,null,null,115,18.399999999999999,"Left Stream Bed",54.036120566257658,94.599999976264073,54.036120568822355,92.099999976264073,95.625911151899629,0,1.0259111756355566,1.0259111756355566,1.0259111756355566,"",0,3.5259111756355566,3.5259111756355566,0.16,0,0.41036447025422262,0,0,2.5,0.23511410091698962,0,0,"","","","","","","",0.16,0.16,0,18.399999999999999,18.399999999999999]
[null,null,null,null,null,null,null,null,null,null,null,null,null,null,null,null,null,null,null,null,null,null,null,null,null,null,null,null,null,null,null,null,null,null,116,18.559999999999999,"Left Stream Bed",54.130166206624452,94.59999997654333,54.130166209189149,92.09999997654333,95.615265185410109,0,1.0152652088667793,1.0152652088667793,1.0152652088667793,"",0,3.5152652088667793,3.5152652088667793,0.16,0,0.40610608354671174,0,0,2.5,0.23511410091698962,0,0,"","","","","","","",0.16,0.16,0,18.559999999999999,18.559999999999999]
[null,null,null,null,null,null,null,null,null,null,null,null,null,null,null,null,null,null,null,null,null,null,null,null,null,null,null,null,null,null,null,null,null,null,117,18.72,"Left Stream Bed",54.224211846991253,94.599999976822588,54.224211849555942,92.099999976822588,95.60461921892059,0,1.004619242098002,1.004619242098002,1.004619242098002,"",0,3.504619242098002,3.504619242098002,0.16,0,0.4018476968392008,0,0,2.5,0.23511410091698962,0,0,"","","","","","","",0.16,0.16,0,18.72,18.72]
[null,null,null,null,null,null,null,null,null,null,null,null,null,null,null,null,null,null,null,null,null,null,null,null,null,null,null,null,null,null,null,null,null,null,118,18.88,"Left Stream Bed",54.318257487358046,94.599999977101845,54.318257489922743,92.099999977101845,95.59397325243107,0,0.99397327532922475,0.99397327532922475,0.99397327532922475,"",0,3.4939732753292247,3.4939732753292247,0.16,0,0.39758931013168991,0,0,2.5,0.23511410091698962,0,0,"","","","","","","",0.16,0.16,0,18.88,18.88]
[null,null,null,null,null,null,null,null,null,null,null,null,null,null,null,null,null,null,null,null,null,null,null,null,null,null,null,null,null,null,null,null,null,null,119,19.04,"Left Stream Bed",54.41230312772484,94.599999977381103,54.412303130289537,92.099999977381103,95.58332728594155,0,0.98332730856044748,0.98332730856044748,0.98332730856044748,"",0,3.4833273085604475,3.4833273085604475,0.16,0,0.39333092342417902,0,0,2.5,0.23511410091698962,0,0,"","","","","","","",0.16,0.16,0,19.04,19.04]
[null,null,null,null,null,null,null,null,null,null,null,null,null,null,null,null,null,null,null,null,null,null,null,null,null,null,null,null,null,null,null,null,null,null,120,19.2,"Left Stream Bed",54.506348768091634,94.59999997766036,54.506348770656331,92.09999997766036,95.572681319452016,0,0.972681341791656,0.972681341791656,0.972681341791656,"",0,3.472681341791656,3.472681341791656,0.16,0,0.38907253671666242,0,0,2.5,0.23511410091698962,0,0,"","","","","","","",0.16,0.16,0,19.2,19.2]
[null,null,null,null,null,null,null,null,null,null,null,null,null,null,null,null,null,null,null,null,null,null,null,null,null,null,null,null,null,null,null,null,null,null,121,19.36,"Left Stream Bed",54.600394408458435,94.599999977939618,54.600394411023132,92.099999977939618,95.562035352962496,0,0.96203537502287872,0.96203537502287872,0.96203537502287872,"",0,3.4620353750228787,3.4620353750228787,0.16,0,0.38481415000915148,0,0,2.5,0.23511410091698962,0,0,"","","","","","","",0.16,0.16,0,19.36,19.36]
[null,null,null,null,null,null,null,null,null,null,null,null,null,null,null,null,null,null,null,null,null,null,null,null,null,null,null,null,null,null,null,null,null,null,122,19.52,"Left Stream Bed",54.694440048825228,94.599999978218875,54.694440051389925,92.099999978218875,95.551389386472977,0,0.95138940825410145,0.95138940825410145,0.95138940825410145,"",0,3.4513894082541015,3.4513894082541015,0.16,0,0.38055576330164059,0,0,2.5,0.23511410091698962,0,0,"","","","","","","",0.16,0.16,0,19.52,19.52]
[null,null,null,null,null,null,null,null,null,null,null,null,null,null,null,null,null,null,null,null,null,null,null,null,null,null,null,null,null,null,null,null,null,null,123,19.68,"Left Stream Bed",54.788485689192022,94.599999978498133,54.788485691756719,92.099999978498133,95.540743419983457,0,0.94074344148532418,0.94074344148532418,0.94074344148532418,"",0,3.4407434414853242,3.4407434414853242,0.16,0,0.37629737659412971,0,0,2.5,0.23511410091698962,0,0,"","","","","","","",0.16,0.16,0,19.68,19.68]
[null,null,null,null,null,null,null,null,null,null,null,null,null,null,null,null,null,null,null,null,null,null,null,null,null,null,null,null,null,null,null,null,null,null,124,19.84,"Left Stream Bed",54.882531329558816,94.59999997877739,54.88253133212352,92.09999997877739,95.530097453493937,0,0.93009747471654691,0.93009747471654691,0.93009747471654691,"",0,3.4300974747165469,3.4300974747165469,0.16,0,0.37203898988661877,0,0,2.5,0.23511410091698962,0,0,"","","","","","","",0.16,0.16,0,19.84,19.84]
[null,null,null,null,null,null,null,null,null,null,null,null,null,null,null,null,null,null,null,null,null,null,null,null,null,null,null,null,null,null,null,null,null,null,125,20,"Left Stream Bed",54.976576969925617,94.599999979056648,54.976576972490314,92.099999979056648,95.519451487004417,0,0.91945150794776964,0.91945150794776964,0.91945150794776964,"",0,3.4194515079477696,3.4194515079477696,0.16,0,0.36778060317910788,0,0,2.5,0.23511410091698962,0,0,"","","","","","","",0.16,0.16,0,20,20]
[null,null,null,null,null,null,null,null,null,null,null,null,null,null,null,null,null,null,null,null,null,null,null,null,null,null,null,null,null,null,null,null,null,null,126,20.16,"Left Stream Bed",55.070622610292411,94.599999979335905,55.070622612857107,92.099999979335905,95.508805520514898,0,0.90880554117899237,0.90880554117899237,0.90880554117899237,"",0,3.4088055411789924,3.4088055411789924,0.16,0,0.36352221647159694,0,0,2.5,0.23511410091698962,0,0,"","","","","","","",0.16,0.16,0,20.16,20.16]
[null,null,null,null,null,null,null,null,null,null,null,null,null,null,null,null,null,null,null,null,null,null,null,null,null,null,null,null,null,null,null,null,null,null,127,20.32,"Left Stream Bed",55.164668250659204,94.599999979615163,55.164668253223908,92.099999979615163,95.498159554025378,0,0.8981595744102151,0.8981595744102151,0.8981595744102151,"",0,3.3981595744102151,3.3981595744102151,0.16,0,0.35926382976408605,0,0,2.5,0.23511410091698962,0,0,"","","","","","","",0.16,0.16,0,20.32,20.32]
[null,null,null,null,null,null,null,null,null,null,null,null,null,null,null,null,null,null,null,null,null,null,null,null,null,null,null,null,null,null,null,null,null,null,128,20.48,{"$f":"IF(OR($C$19=\"\",$F$25=\"\",$G$25=\"\"),\"None\",IF(AL173<$B$14,\"Left Floodplain\",IF(AL173<$B$15,\"Left Bank\",IF(AL173<$B$16,\"Left Stream Bed\",IF(AL173<$B$17,\"Right Stream Bed\",IF(AL173<$B$18,\"Right Bank\",\"Right Floodplain\"))))))","v":"Left Stream Bed"},55.258713891026005,94.59999997989442,55.258713893590702,92.09999997989442,95.487513587535858,{"$f":"IF(OR($AP173<$AE$12,$AP173<=$AM173),0,IF(OR($AP173>=$AE$12,$AM173>=$AE$12),$AP173-$AM173-$AR173,$AP173-$AE$12))","v":0},{"$f":"IF($AP173<=$AM173,0,IF($AM173>=$AE$12,0,IF($AP173<=$AE$12,$AP173-$AM173,$AE$12-$AM173)))","v":0.88751360764143783},0.88751360764143783,0.88751360764143783,"",0,{"$f":"IF($AP173<=$AO173,0,IF($AO173>=$AE$12,0,IF($AP173<=$AE$12,$AP173-$AO173,$AE$12-$AO173)))","v":3.3875136076414378},{"$f":"IF(AP173<=AO173,0,AP173-AO173)","v":3.3875136076414378},{"$f":"IF($AS173=0,0,IF(OR($AJ173=0,$AJ173=$E$22),$AJ$46/2,$AJ$46))","v":0.16},{"$f":"IF(OR($AK173=\"Left Stream Bed\",$AK173=\"Right Stream Bed\"),$F$22*$AQ173*$AY173,0)","v":0},{"$f":"IF(OR($AK173=\"Left Stream Bed\",$AK173=\"Right Stream Bed\"),$F$22*$AR173*$AY173,0)","v":0.35500544305657517},{"$f":"IF(OR($AK173=\"Left Floodplain\",$AK173=\"Left Bank\",$AK173=\"Right Bank\",$AK173=\"Right Floodplain\"),$F$22*$AQ173*$AY173,0)","v":0},{"$f":"IF(OR($AK173=\"Left Floodplain\",$AK173=\"Left Bank\",$AK173=\"Right Bank\",$AK173=\"Right Floodplain\"),$F$22*$AR173*$AY173,0)","v":0},{"$f":"AX173-AS173","v":2.5},0.23511410091698962,0,{"$f":"IF(OR($AJ173=0,$AJ173=$E$22),($BF173*$AJ$46/2)*ABS($M$17),$BF173*$AJ$46*ABS($M$17))","v":0},{"$f":"IF(OR($AM173<$AP173,$AO173>$AE$8),\"\",IF(OR($AJ173=0,$AJ173=$E$22),$AJ$46/2,$AJ$46))","v":""},"","",{"$f":"IF($BJ173=\"\",\"\",IF(OR($BJ173>($F$22/2),$BJ173=0),0,0.45-($BJ173*0.45/($F$22/2))))","v":""},{"$f":"IF($BK173=\"\",\"\",IF($BK173>0,$AJ173,\"\"))","v":""},"","",{"$f":"IF($AO173=0,0,IF($AO173>$AP173,0,IF(OR($AJ173=0,$AJ173=$E$22),$AJ$46/2,$AJ$46)))","v":0.16},{"$f":"IF(AND($BO173>0,OR($AK173=\"Left Stream Bed\",$AK173=\"Right Stream Bed\")),$BO173,0)","v":0.16},{"$f":"IF(AND($BO173>0,OR($AK173=\"Left Floodplain\",$AK173=\"Left Bank\",$AK173=\"Right Bank\",$AK173=\"Right Floodplain\")),$BO173,0)","v":0},{"$f":"IF($BO173>0,$AJ173,\"\")","v":20.48},20.48]
[null,null,null,null,null,null,null,null,null,null,null,null,null,null,null,null,null,null,null,null,null,null,null,null,null,null,null,null,null,null,null,null,null,null,129,{"$f":"($AI174/$AI$245)*$AJ$245","v":20.64},"Left Stream Bed",55.352759531392799,94.599999980173678,{"$f":"$AN$45+ABS(AJ174*$M$19*$M$17)","v":55.352759533957496},92.099999980173678,95.476867621046324,0,0.87686764087264635,{"$f":"IF(AP174<=AM174,0,AP174-AM174)","v":0.87686764087264635},{"$f":"IF(OR($AS174=\"\",$AS174=0),\"\",IF(OR($AK174=\"Left Stream Bed\",$AK174=\"Right Stream Bed\"),$AS174,\"\"))","v":0.87686764087264635},{"$f":"IF(OR($AS174=\"\",$AS174=0),\"\",IF(OR($AK174=\"Left Floodplain\",$AK174=\"Left Bank\",$AK174=\"Right Bank\",$AK174=\"Right Floodplain\"),$AS174,\"\"))","v":""},{"$f":"IF(OR($AP174<$AE$12,$AP174<=$AO174),0,IF($AO174>=$AE$12,$AP174-$AO174,$AP174-$AE$12))","v":0},3.3768676408726463,3.3768676408726463,0.16,0,0.35074705634905856,0,0,2.5,{"$f":"$BD174*$AJ$46*ABS($M$17)","v":0.23511410091698962},{"$f":"AV174-AQ174","v":0},0,"",{"$f":"IF($BH174=\"\",\"\",IF($BH174>0,$AJ174,\"\"))","v":""},{"$f":"IF($BH174=\"\",\"\",IF(OR(($AO174-$AP174)<0,$AO$45>=$AE$8),0,($AO174-$AP174)))","v":""},"","",{"$f":"IF($BH174=\"\",\"\",IF(OR(($AM174-$AP174)<0,$AM174>=$AE$8),\"\",($AE$8-($AM174-(($F$22/2)/$M$19)))))","v":""},"",0.16,0.16,0,20.64,{"$f":"IF($AY174>0,$AJ174,\"\")","v":20.64}]
[null,null,null,null,null,null,null,null,null,null,null,null,null,null,null,null,null,null,null,null,null,null,null,null,null,null,null,null,null,null,null,null,null,null,130,20.8,"Left Stream Bed",55.446805171759593,{"$f":"AM174+((AL175-AL174)*$AA$40)","v":94.599999980452935},55.446805174324297,{"$f":"AO174+((AN175-AN174)*$AA$40)","v":92.099999980452935},{"$f":"IF($AL175<$B$14,(($AL175-$B$13)*$AB$31)+$C$13,IF($AL175<$B$15,(($AL175-$B$14)*$AB$32)+$C$14,IF($AL175<$B$16,(($AL175-$B$15)*$AB$33)+$C$15,IF($AL175<$B$17,(($AL175-$B$16)*$AB$34)+$C$16,IF($AL175<$B$18,(($AL175-$B$17)*$AB$35)+$C$17,IF($AL175<$B$19,(($AL175-$B$18)*$AB$36)+$C$18))))))","v":95.466221654556804},0,0.86622167410386908,0.86622167410386908,0.86622167410386908,"",0,3.3662216741038691,3.3662216741038691,0.16,0,0.34648866964154762,0,0,2.5,0.23511410091698962,0,0,"","","","","","",{"$f":"IF($BM175=\"\",\"\",(((PI()^2)/32)*($B$66^-6)*EXP(-($BM175/$F$22)/(2*($B$66^2)))))","v":""},0.16,0.16,0,20.8,20.8]
[null,null,null,null,null,null,null,null,null,null,null,null,null,null,null,null,null,null,null,null,null,null,null,null,null,null,null,null,null,null,null,null,null,null,131,20.96,"Left Stream Bed",{"$f":"$AL$45+ABS(AJ176*$M$19*$M$17)","v":55.540850812126394},94.599999980732193,55.54085081469109,92.099999980732193,95.455575688067285,0,0.85557570733509181,0.85557570733509181,0.85557570733509181,"",0,3.3555757073350918,3.3555757073350918,0.16,0,0.34223028293403673,0,0,2.5,0.23511410091698962,0,0,"","","","","","","",0.16,0.16,0,20.96,20.96]
[null,null,null,null,null,null,null,null,null,null,null,null,null,null,null,null,null,null,null,null,null,null,null,null,null,null,null,null,null,null,null,null,null,null,132,21.12,"Left Stream Bed",55.634896452493187,94.59999998101145,55.634896455057884,92.09999998101145,95.444929721577765,0,0.84492974056631454,0.84492974056631454,0.84492974056631454,"",0,3.3449297405663145,3.3449297405663145,0.16,0,0.33797189622652585,0,0,2.5,0.23511410091698962,0,0,"","","","","","","",0.16,0.16,0,21.12,21.12]
[null,null,null,null,null,null,null,null,null,null,null,null,null,null,null,null,null,null,null,null,null,null,null,null,null,null,null,null,null,null,null,null,null,null,133,21.28,"Left Stream Bed",55.728942092859981,94.599999981290708,55.728942095424678,92.099999981290708,95.434283755088245,0,0.83428377379753726,0.83428377379753726,0.83428377379753726,"",0,3.3342837737975373,3.3342837737975373,0.16,0,0.33371350951901491,0,0,2.5,0.23511410091698962,0,0,"","","","","","","",0.16,0.16,0,21.28,21.28]
[null,null,null,null,null,null,null,null,null,null,null,null,null,null,null,null,null,null,null,null,null,null,null,null,null,null,null,null,null,null,null,null,null,null,134,21.44,"Left Stream Bed",55.822987733226782,94.599999981569965,55.822987735791479,92.099999981569965,95.423637788598725,0,0.82363780702875999,0.82363780702875999,0.82363780702875999,"",0,3.32363780702876,3.32363780702876,0.16,0,0.32945512281150402,0,0,2.5,0.23511410091698962,0,0,"","","","","","","",0.16,0.16,0,21.44,21.44]
[null,null,null,null,null,null,null,null,null,null,null,null,null,null,null,null,null,null,null,null,null,null,null,null,null,null,null,null,null,null,null,null,null,null,135,21.6,"Left Stream Bed",55.917033373593576,94.599999981849223,55.917033376158273,92.099999981849223,95.412991822109205,0,0.81299184025998272,0.81299184025998272,0.81299184025998272,"",0,3.3129918402599827,3.3129918402599827,0.16,0,0.32519673610399308,0,0,2.5,0.23511410091698962,0,0,"","","","","","","",0.16,0.16,0,21.6,21.6]
[null,null,null,null,null,null,null,null,null,null,null,null,null,null,null,null,null,null,null,null,null,null,null,null,null,null,null,null,null,null,null,null,null,null,136,21.76,"Left Stream Bed",56.011079013960369,94.59999998212848,56.011079016525066,92.09999998212848,95.402345855619686,0,0.80234587349120545,0.80234587349120545,0.80234587349120545,"",0,3.3023458734912055,3.3023458734912055,0.16,0,0.32093834939648219,0,0,2.5,0.23511410091698962,0,0,"","","","","","","",0.16,0.16,0,21.76,21.76]
[null,null,null,null,null,null,null,null,null,null,null,null,null,null,null,null,null,null,null,null,null,null,null,null,null,null,null,null,null,null,null,null,null,null,137,21.92,"Left Stream Bed",56.10512465432717,94.599999982407738,56.10512465689186,92.099999982407738,95.391699889130166,0,0.79169990672242818,0.79169990672242818,0.79169990672242818,"",0,3.2916999067224282,3.2916999067224282,0.16,0,0.31667996268897131,0,0,2.5,0.23511410091698962,0,0,"","","","","","","",0.16,0.16,0,21.92,21.92]
[null,null,null,null,null,null,null,null,null,null,null,null,null,null,null,null,null,null,null,null,null,null,null,null,null,null,null,null,null,null,null,null,null,null,138,22.08,"Left Stream Bed",56.199170294693957,94.599999982686995,56.199170297258661,92.099999982686995,95.381053922640646,0,0.78105393995365091,0.78105393995365091,0.78105393995365091,"",0,3.2810539399536509,3.2810539399536509,0.16,0,0.31242157598146036,0,0,2.5,0.23511410091698962,0,0,"","","","","","","",0.16,0.16,0,22.08,22.08]
[null,null,null,null,null,null,null,null,null,null,null,null,null,null,null,null,null,null,null,null,null,null,null,null,null,null,null,null,null,null,null,null,null,null,139,22.24,"Left Stream Bed",56.293215935060758,94.599999982966253,56.293215937625455,92.099999982966253,95.370407956151112,0,0.77040797318485943,0.77040797318485943,0.77040797318485943,"",0,3.2704079731848594,3.2704079731848594,0.16,0,0.30816318927394376,0,0,2.5,0.23511410091698962,0,0,"","","","","","","",0.16,0.16,0,22.24,22.24]
[null,null,null,null,null,null,null,null,null,null,null,null,null,null,null,null,null,null,null,null,null,null,null,null,null,null,null,null,null,null,null,null,null,null,140,22.4,"Left Stream Bed",56.387261575427551,94.59999998324551,56.387261577992248,92.09999998324551,95.359761989661592,0,0.75976200641608216,0.75976200641608216,0.75976200641608216,"",0,3.2597620064160822,3.2597620064160822,0.16,0,0.30390480256643287,0,0,2.5,0.23511410091698962,0,0,"","","","","","","",0.16,0.16,0,22.4,22.4]
[null,null,null,null,null,null,null,null,null,null,null,null,null,null,null,null,null,null,null,null,null,null,null,null,null,null,null,null,null,null,null,null,null,null,141,22.56,"Left Stream Bed",56.481307215794345,94.599999983524768,56.481307218359049,92.099999983524768,95.349116023172073,0,0.74911603964730489,0.74911603964730489,0.74911603964730489,"",0,3.2491160396473049,3.2491160396473049,0.16,0,0.29964641585892199,0,0,2.5,0.23511410091698962,0,0,"","","","","","","",0.16,0.16,0,22.56,22.56]
[null,null,null,null,null,null,null,null,null,null,null,null,null,null,null,null,null,null,null,null,null,null,null,null,null,null,null,null,null,null,null,null,null,null,142,22.72,"Left Stream Bed",56.575352856161146,94.599999983804025,56.575352858725843,92.099999983804025,95.338470056682553,0,0.73847007287852762,0.73847007287852762,0.73847007287852762,"",0,3.2384700728785276,3.2384700728785276,0.16,0,0.29538802915141105,0,0,2.5,0.23511410091698962,0,0,"","","","","","","",0.16,0.16,0,22.72,22.72]
[null,null,null,null,null,null,null,null,null,null,null,null,null,null,null,null,null,null,null,null,null,null,null,null,null,null,null,null,null,null,null,null,null,null,143,22.88,"Left Stream Bed",56.66939849652794,94.599999984083283,56.669398499092637,92.099999984083283,95.327824090193033,0,0.72782410610975035,0.72782410610975035,0.72782410610975035,"",0,3.2278241061097503,3.2278241061097503,0.16,0,0.29112964244390016,0,0,2.5,0.23511410091698962,0,0,"","","","","","","",0.16,0.16,0,22.88,22.88]
[null,null,null,null,null,null,null,null,null,null,null,null,null,null,null,null,null,null,null,null,null,null,null,null,null,null,null,null,null,null,null,null,null,null,144,23.04,"Left Stream Bed",56.763444136894734,94.59999998436254,56.763444139459438,92.09999998436254,95.317178123703513,0,0.71717813934097308,0.71717813934097308,0.71717813934097308,"",0,3.2171781393409731,3.2171781393409731,0.16,0,0.28687125573638922,0,0,2.5,0.23511410091698962,0,0,"","","","","","","",0.16,0.16,0,23.04,23.04]
[null,null,null,null,null,null,null,null,null,null,null,null,null,null,null,null,null,null,null,null,null,null,null,null,null,null,null,null,null,null,null,null,null,null,145,23.2,"Left Stream Bed",56.857489777261534,94.599999984641798,56.857489779826231,92.099999984641798,95.306532157213994,0,0.7065321725721958,0.7065321725721958,0.7065321725721958,"",0,3.2065321725721958,3.2065321725721958,0.16,0,0.28261286902887833,0,0,2.5,0.23511410091698962,0,0,"","","","","","","",0.16,0.16,0,23.2,23.2]
[null,null,null,null,null,null,null,null,null,null,null,null,null,null,null,null,null,null,null,null,null,null,null,null,null,null,null,null,null,null,null,null,null,null,146,23.36,"Left Stream Bed",56.951535417628328,94.599999984921055,56.951535420193025,92.099999984921055,95.295886190724474,0,0.69588620580341853,0.69588620580341853,0.69588620580341853,"",0,3.1958862058034185,3.1958862058034185,0.16,0,0.27835448232136745,0,0,2.5,0.23511410091698962,0,0,"","","","","","","",0.16,0.16,0,23.36,23.36]
[null,null,null,null,null,null,null,null,null,null,null,null,null,null,null,null,null,null,null,null,null,null,null,null,null,null,null,null,null,null,null,null,null,null,147,23.52,"Left Stream Bed",57.045581057995122,94.599999985200313,57.045581060559819,92.099999985200313,95.285240224234954,0,0.68524023903464126,0.68524023903464126,0.68524023903464126,"",0,3.1852402390346413,3.1852402390346413,0.16,0,0.27409609561385651,0,0,2.5,0.23511410091698962,0,0,"","","","","","","",0.16,0.16,0,23.52,23.52]
[null,null,null,null,null,null,null,null,null,null,null,null,null,null,null,null,null,null,null,null,null,null,null,null,null,null,null,null,null,null,null,null,null,null,148,23.68,"Left Stream Bed",57.139626698361923,94.59999998547957,57.13962670092662,92.09999998547957,95.27459425774542,0,0.67459427226584978,0.67459427226584978,0.67459427226584978,"",0,3.1745942722658498,3.1745942722658498,0.16,0,0.2698377089063399,0,0,2.5,0.23511410091698962,0,0,"","","","","","","",0.16,0.16,0,23.68,23.68]
[null,null,null,null,null,null,null,null,null,null,null,null,null,null,null,null,null,null,null,null,null,null,null,null,null,null,null,null,null,null,null,null,null,null,149,23.84,"Left Stream Bed",57.233672338728717,94.599999985758828,57.233672341293413,92.099999985758828,95.2639482912559,0,0.66394830549707251,0.66394830549707251,0.66394830549707251,"",0,3.1639483054970725,3.1639483054970725,0.16,0,0.26557932219882902,0,0,2.5,0.23511410091698962,0,0,"","","","","","","",0.16,0.16,0,23.84,23.84]
[null,null,null,null,null,null,null,null,null,null,null,null,null,null,null,null,null,null,null,null,null,null,null,null,null,null,null,null,null,null,null,null,null,null,150,24,"Left Stream Bed",57.32771797909551,94.599999986038085,57.327717981660207,92.099999986038085,95.253302324766381,0,0.65330233872829524,0.65330233872829524,0.65330233872829524,"",0,3.1533023387282952,3.1533023387282952,0.16,0,0.26132093549131807,0,0,2.5,0.23511410091698962,0,0,"","","","","","","",0.16,0.16,0,24,24]
[null,null,null,null,null,null,null,null,null,null,null,null,null,null,null,null,null,null,null,null,null,null,null,null,null,null,null,null,null,null,null,null,null,null,151,24.16,"Left Stream Bed",57.421763619462311,94.599999986317343,57.421763622027001,92.099999986317343,95.242656358276861,0,0.64265637195951797,0.64265637195951797,0.64265637195951797,"",0,3.142656371959518,3.142656371959518,0.16,0,0.25706254878380719,0,0,2.5,0.23511410091698962,0,0,"","","","","","","",0.16,0.16,0,24.16,24.16]
[null,null,null,null,null,null,null,null,null,null,null,null,null,null,null,null,null,null,null,null,null,null,null,null,null,null,null,null,null,null,null,null,null,null,152,24.32,"Left Stream Bed",57.515809259829105,94.5999999865966,57.515809262393802,92.0999999865966,95.232010391787341,0,0.6320104051907407,0.6320104051907407,0.6320104051907407,"",0,3.1320104051907407,3.1320104051907407,0.16,0,0.2528041620762963,0,0,2.5,0.23511410091698962,0,0,"","","","","","","",0.16,0.16,0,24.32,24.32]
[null,null,null,null,null,null,null,null,null,null,null,null,null,null,null,null,null,null,null,null,null,null,null,null,null,null,null,null,null,null,null,null,null,null,153,24.48,"Left Stream Bed",57.609854900195899,94.599999986875858,57.609854902760596,92.099999986875858,95.221364425297821,0,0.62136443842196343,0.62136443842196343,0.62136443842196343,"",0,3.1213644384219634,3.1213644384219634,0.16,0,0.24854577536878539,0,0,2.5,0.23511410091698962,0,0,"","","","","","","",0.16,0.16,0,24.48,24.48]
[null,null,null,null,null,null,null,null,null,null,null,null,null,null,null,null,null,null,null,null,null,null,null,null,null,null,null,null,null,null,null,null,null,null,154,24.64,"Left Stream Bed",57.703900540562699,94.599999987155115,57.703900543127389,92.099999987155115,95.210718458808302,0,0.61071847165318616,0.61071847165318616,0.61071847165318616,"",0,3.1107184716531862,3.1107184716531862,0.16,0,0.24428738866127447,0,0,2.5,0.23511410091698962,0,0,"","","","","","","",0.16,0.16,0,24.64,24.64]
[null,null,null,null,null,null,null,null,null,null,null,null,null,null,null,null,null,null,null,null,null,null,null,null,null,null,null,null,null,null,null,null,null,null,155,24.8,"Left Stream Bed",57.797946180929493,94.599999987434373,57.79794618349419,92.099999987434373,95.200072492318782,0,0.60007250488440889,0.60007250488440889,0.60007250488440889,"",0,3.1000725048844089,3.1000725048844089,0.16,0,0.24002900195376356,0,0,2.5,0.23511410091698962,0,0,"","","","","","","",0.16,0.16,0,24.8,24.8]
[null,null,null,null,null,null,null,null,null,null,null,null,null,null,null,null,null,null,null,null,null,null,null,null,null,null,null,null,null,null,null,null,null,null,156,24.96,"Left Stream Bed",57.891991821296287,94.59999998771363,57.891991823860984,92.09999998771363,95.189426525829262,0,0.58942653811563162,0.58942653811563162,0.58942653811563162,"",0,3.0894265381156316,3.0894265381156316,0.16,0,0.23577061524625265,0,0,2.5,0.23511410091698962,0,0,"","","","","","","",0.16,0.16,0,24.96,24.96]
[null,null,null,null,null,null,null,null,null,null,null,null,null,null,null,null,null,null,null,null,null,null,null,null,null,null,null,null,null,null,null,null,null,null,157,25.12,"Left Stream Bed",57.986037461663088,94.599999987992888,57.986037464227778,92.099999987992888,95.178780559339728,0,0.57878057134684013,0.57878057134684013,0.57878057134684013,"",0,3.0787805713468401,3.0787805713468401,0.16,0,0.23151222853873607,0,0,2.5,0.23511410091698962,0,0,"","","","","","","",0.16,0.16,0,25.12,25.12]
[null,null,null,null,null,null,null,null,null,null,null,null,null,null,null,null,null,null,null,null,null,null,null,null,null,null,null,null,null,null,null,null,null,null,158,25.28,"Left Stream Bed",58.080083102029882,94.599999988272145,58.080083104594578,92.099999988272145,95.168134592850208,0,0.56813460457806286,0.56813460457806286,0.56813460457806286,"",0,3.0681346045780629,3.0681346045780629,0.16,0,0.22725384183122516,0,0,2.5,0.23511410091698962,0,0,"","","","","","","",0.16,0.16,0,25.28,25.28]
[null,null,null,null,null,null,null,null,null,null,null,null,null,null,null,null,null,null,null,null,null,null,null,null,null,null,null,null,null,null,null,null,null,null,159,25.44,"Left Stream Bed",58.174128742396675,94.599999988551403,58.174128744961372,92.099999988551403,95.157488626360688,0,0.55748863780928559,0.55748863780928559,0.55748863780928559,"",0,3.0574886378092856,3.0574886378092856,0.16,0,0.22299545512371424,0,0,2.5,0.23511410091698962,0,0,"","","","","","","",0.16,0.16,0,25.44,25.44]
[null,null,null,null,null,null,null,null,null,null,null,null,null,null,null,null,null,null,null,null,null,null,null,null,null,null,null,null,null,null,null,null,null,null,160,25.6,"Left Stream Bed",58.268174382763469,94.59999998883066,58.268174385328166,92.09999998883066,95.146842659871169,0,0.54684267104050832,0.54684267104050832,0.54684267104050832,"",0,3.0468426710405083,3.0468426710405083,0.16,0,0.21873706841620333,0,0,2.5,0.23511410091698962,0,0,"","","","","","","",0.16,0.16,0,25.6,25.6]
[null,null,null,null,null,null,null,null,null,null,null,null,null,null,null,null,null,null,null,null,null,null,null,null,null,null,null,null,null,null,null,null,null,null,161,25.76,"Left Stream Bed",58.362220023130263,94.599999989109918,58.362220025694967,92.099999989109918,95.136196693381649,0,0.53619670427173105,0.53619670427173105,0.53619670427173105,"",0,3.0361967042717311,3.0361967042717311,0.16,0,0.21447868170869241,0,0,2.5,0.23511410091698962,0,0,"","","","","","","",0.16,0.16,0,25.76,25.76]
[null,null,null,null,null,null,null,null,null,null,null,null,null,null,null,null,null,null,null,null,null,null,null,null,null,null,null,null,null,null,null,null,null,null,162,25.92,"Left Stream Bed",58.456265663497064,94.599999989389175,58.456265666061761,92.099999989389175,95.125550726892129,0,0.52555073750295378,0.52555073750295378,0.52555073750295378,"",0,3.0255507375029538,3.0255507375029538,0.16,0,0.21022029500118153,0,0,2.5,0.23511410091698962,0,0,"","","","","","","",0.16,0.16,0,25.92,25.92]
[null,null,null,null,null,null,null,null,null,null,null,null,null,null,null,null,null,null,null,null,null,null,null,null,null,null,null,null,null,null,null,null,null,null,163,26.08,"Left Stream Bed",58.550311303863857,94.599999989668433,58.550311306428554,92.099999989668433,95.114904760402609,0,0.51490477073417651,0.51490477073417651,0.51490477073417651,"",0,3.0149047707341765,3.0149047707341765,0.16,0,0.20596190829367061,0,0,2.5,0.23511410091698962,0,0,"","","","","","","",0.16,0.16,0,26.08,26.08]
[null,null,null,null,null,null,null,null,null,null,null,null,null,null,null,null,null,null,null,null,null,null,null,null,null,null,null,null,null,null,null,null,null,null,164,26.24,"Left Stream Bed",58.644356944230651,94.59999998994769,58.644356946795348,92.09999998994769,95.10425879391309,0,0.50425880396539924,0.50425880396539924,0.50425880396539924,"",0,3.0042588039653992,3.0042588039653992,0.16,0,0.2017035215861597,0,0,2.5,0.23511410091698962,0,0,"","","","","","","",0.16,0.16,0,26.24,26.24]
[null,null,null,null,null,null,null,null,null,null,null,null,null,null,null,null,null,null,null,null,null,null,null,null,null,null,null,null,null,null,null,null,null,null,165,26.4,"Left Stream Bed",58.738402584597452,94.599999990226948,58.738402587162142,92.099999990226948,95.09361282742357,0,0.49361283719662197,0.49361283719662197,0.49361283719662197,"",0,2.993612837196622,2.993612837196622,0.16,0,0.19744513487864879,0,0,2.5,0.23511410091698962,0,0,"","","","","","","",0.16,0.16,0,26.4,26.4]
[null,null,null,null,null,null,null,null,null,null,null,null,null,null,null,null,null,null,null,null,null,null,null,null,null,null,null,null,null,null,null,null,null,null,166,26.56,"Left Stream Bed",58.832448224964246,94.599999990506205,58.832448227528943,92.099999990506205,95.08296686093405,0,0.4829668704278447,0.4829668704278447,0.4829668704278447,"",0,2.9829668704278447,2.9829668704278447,0.16,0,0.19318674817113787,0,0,2.5,0.23511410091698962,0,0,"","","","","","","",0.16,0.16,0,26.56,26.56]
[null,null,null,null,null,null,null,null,null,null,null,null,null,null,null,null,null,null,null,null,null,null,null,null,null,null,null,null,null,null,null,null,null,null,167,26.72,"Left Stream Bed",58.92649386533104,94.599999990785463,58.926493867895736,92.099999990785463,95.072320894444516,0,0.47232090365905322,0.47232090365905322,0.47232090365905322,"",0,2.9723209036590532,2.9723209036590532,0.16,0,0.1889283614636213,0,0,2.5,0.23511410091698962,0,0,"","","","","","","",0.16,0.16,0,26.72,26.72]
[null,null,null,null,null,null,null,null,null,null,null,null,null,null,null,null,null,null,null,null,null,null,null,null,null,null,null,null,null,null,null,null,null,null,168,26.88,"Left Stream Bed",59.02053950569784,94.59999999106472,59.02053950826253,92.09999999106472,95.061674927954996,0,0.46167493689027594,0.46167493689027594,0.46167493689027594,"",0,2.9616749368902759,2.9616749368902759,0.16,0,0.18466997475611038,0,0,2.5,0.23511410091698962,0,0,"","","","","","","",0.16,0.16,0,26.88,26.88]
[null,null,null,null,null,null,null,null,null,null,null,null,null,null,null,null,null,null,null,null,null,null,null,null,null,null,null,null,null,null,null,null,null,null,169,27.04,"Left Stream Bed",59.114585146064634,94.599999991343978,59.114585148629331,92.099999991343978,95.051028961465477,0,0.45102897012149867,0.45102897012149867,0.45102897012149867,"",0,2.9510289701214987,2.9510289701214987,0.16,0,0.18041158804859947,0,0,2.5,0.23511410091698962,0,0,"","","","","","","",0.16,0.16,0,27.04,27.04]
[null,null,null,null,null,null,null,null,null,null,null,null,null,null,null,null,null,null,null,null,null,null,null,null,null,null,null,null,null,null,null,null,null,null,170,27.2,"Left Stream Bed",59.208630786431428,94.599999991623235,59.208630788996125,92.099999991623235,95.040382994975957,0,0.4403830033527214,0.4403830033527214,0.4403830033527214,"",0,2.9403830033527214,2.9403830033527214,0.16,0,0.17615320134108856,0,0,2.5,0.23511410091698962,0,0,"","","","","","","",0.16,0.16,0,27.2,27.2]
[null,null,null,null,null,null,null,null,null,null,null,null,null,null,null,null,null,null,null,null,null,null,null,null,null,null,null,null,null,null,null,null,null,null,171,27.36,"Left Stream Bed",59.302676426798229,94.599999991902493,59.302676429362918,92.099999991902493,95.029737028486437,0,0.42973703658394413,0.42973703658394413,0.42973703658394413,"",0,2.9297370365839441,2.9297370365839441,0.16,0,0.17189481463357767,0,0,2.5,0.23511410091698962,0,0,"","","","","","","",0.16,0.16,0,27.36,27.36]
[null,null,null,null,null,null,null,null,null,null,null,null,null,null,null,null,null,null,null,null,null,null,null,null,null,null,null,null,null,null,null,null,null,null,172,27.52,"Left Stream Bed",59.396722067165015,94.59999999218175,59.396722069729719,92.09999999218175,95.019091061996917,0,0.41909106981516686,0.41909106981516686,0.41909106981516686,"",0,2.9190910698151669,2.9190910698151669,0.16,0,0.16763642792606676,0,0,2.5,0.23511410091698962,0,0,"","","","","","","",0.16,0.16,0,27.52,27.52]
[null,null,null,null,null,null,null,null,null,null,null,null,null,null,null,null,null,null,null,null,null,null,null,null,null,null,null,null,null,null,null,null,null,null,173,27.68,"Left Stream Bed",59.490767707531816,94.599999992461008,59.490767710096513,92.099999992461008,95.008445095507398,0,0.40844510304638959,0.40844510304638959,0.40844510304638959,"",0,2.9084451030463896,2.9084451030463896,0.16,0,0.16337804121855584,0,0,2.5,0.23511410091698962,0,0,"","","","","","","",0.16,0.16,0,27.68,27.68]
[null,null,null,null,null,null,null,null,null,null,null,null,null,null,null,null,null,null,null,null,null,null,null,null,null,null,null,null,null,null,null,null,null,null,174,27.84,"Left Stream Bed",59.584813347898617,94.599999992740265,59.584813350463307,92.099999992740265,94.997799129017878,0,0.39779913627761232,0.39779913627761232,0.39779913627761232,"",0,2.8977991362776123,2.8977991362776123,0.16,0,0.15911965451104493,0,0,2.5,0.23511410091698962,0,0,"","","","","","","",0.16,0.16,0,27.84,27.84]
[null,null,null,null,null,null,null,null,null,null,null,null,null,null,null,null,null,null,null,null,null,null,null,null,null,null,null,null,null,null,null,null,null,null,175,28,"Left Stream Bed",59.678858988265404,94.599999993019523,59.678858990830108,92.099999993019523,94.987153162528358,0,0.38715316950883505,0.38715316950883505,0.38715316950883505,"",0,2.887153169508835,2.887153169508835,0.16,0,0.15486126780353401,0,0,2.5,0.23511410091698962,0,0,"","","","","","","",0.16,0.16,0,28,28]
[null,null,null,null,null,null,null,null,null,null,null,null,null,null,null,null,null,null,null,null,null,null,null,null,null,null,null,null,null,null,null,null,null,null,176,28.16,"Left Stream Bed",59.772904628632205,94.599999993298781,59.772904631196901,92.099999993298781,94.976507196038824,0,0.37650720274004357,0.37650720274004357,0.37650720274004357,"",0,2.8765072027400436,2.8765072027400436,0.16,0,0.15060288109601744,0,0,2.5,0.23511410091698962,0,0,"","","","","","","",0.16,0.16,0,28.16,28.16]
[null,null,null,null,null,null,null,null,null,null,null,null,null,null,null,null,null,null,null,null,null,null,null,null,null,null,null,null,null,null,null,null,null,null,177,28.32,"Left Stream Bed",59.866950268998998,94.599999993578038,59.866950271563695,92.099999993578038,94.965861229549304,0,0.3658612359712663,0.3658612359712663,0.3658612359712663,"",0,2.8658612359712663,2.8658612359712663,0.16,0,0.14634449438850652,0,0,2.5,0.23511410091698962,0,0,"","","","","","","",0.16,0.16,0,28.32,28.32]
[null,null,null,null,null,null,null,null,null,null,null,null,null,null,null,null,null,null,null,null,null,null,null,null,null,null,null,null,null,null,null,null,null,null,178,28.48,"Left Stream Bed",59.960995909365792,94.599999993857296,59.960995911930496,92.099999993857296,94.955215263059785,0,0.35521526920248903,0.35521526920248903,0.35521526920248903,"",0,2.855215269202489,2.855215269202489,0.16,0,0.14208610768099561,0,0,2.5,0.23511410091698962,0,0,"","","","","","","",0.16,0.16,0,28.48,28.48]
[null,null,null,null,null,null,null,null,null,null,null,null,null,null,null,null,null,null,null,null,null,null,null,null,null,null,null,null,null,null,null,null,null,null,179,28.64,"Left Stream Bed",60.055041549732593,94.599999994136553,60.05504155229729,92.099999994136553,94.944569296570265,0,0.34456930243371175,0.34456930243371175,0.34456930243371175,"",0,2.8445693024337118,2.8445693024337118,0.16,0,0.1378277209734847,0,0,2.5,0.23511410091698962,0,0,"","","","","","","",0.16,0.16,0,28.64,28.64]
[null,null,null,null,null,null,null,null,null,null,null,null,null,null,null,null,null,null,null,null,null,null,null,null,null,null,null,null,null,null,null,null,null,null,180,28.8,"Left Stream Bed",60.149087190099387,94.599999994415811,60.149087192664084,92.099999994415811,94.933923330080745,0,0.33392333566493448,0.33392333566493448,0.33392333566493448,"",0,2.8339233356649345,2.8339233356649345,0.16,0,0.13356933426597378,0,0,2.5,0.23511410091698962,0,0,"","","","","","","",0.16,0.16,0,28.8,28.8]
[null,null,null,null,null,null,null,null,null,null,null,null,null,null,null,null,null,null,null,null,null,null,null,null,null,null,null,null,null,null,null,null,null,null,181,28.96,"Left Stream Bed",60.24313283046618,94.599999994695068,60.243132833030884,92.099999994695068,94.923277363591225,0,0.32327736889615721,0.32327736889615721,0.32327736889615721,"",0,2.8232773688961572,2.8232773688961572,0.16,0,0.1293109475584629,0,0,2.5,0.23511410091698962,0,0,"","","","","","","",0.16,0.16,0,28.96,28.96]
[null,null,null,null,null,null,null,null,null,null,null,null,null,null,null,null,null,null,null,null,null,null,null,null,null,null,null,null,null,null,null,null,null,null,182,29.12,"Left Stream Bed",60.337178470832981,94.599999994974326,60.337178473397678,92.099999994974326,94.912631397101705,0,0.31263140212737994,0.31263140212737994,0.31263140212737994,"",0,2.8126314021273799,2.8126314021273799,0.16,0,0.12505256085095198,0,0,2.5,0.23511410091698962,0,0,"","","","","","","",0.16,0.16,0,29.12,29.12]
[null,null,null,null,null,null,null,null,null,null,null,null,null,null,null,null,null,null,null,null,null,null,null,null,null,null,null,null,null,null,null,null,null,null,183,29.28,"Left Stream Bed",60.431224111199775,94.599999995253583,60.431224113764472,92.099999995253583,94.901985430612186,0,0.30198543535860267,0.30198543535860267,0.30198543535860267,"",0,2.8019854353586027,2.8019854353586027,0.16,0,0.12079417414344107,0,0,2.5,0.23511410091698962,0,0,"","","","","","","",0.16,0.16,0,29.28,29.28]
[null,null,null,null,null,null,null,null,null,null,null,null,null,null,null,null,null,null,null,null,null,null,null,null,null,null,null,null,null,null,null,null,null,null,184,29.44,"Left Stream Bed",60.525269751566569,94.599999995532841,60.525269754131273,92.099999995532841,94.891339464122666,0,0.2913394685898254,0.2913394685898254,0.2913394685898254,"",0,2.7913394685898254,2.7913394685898254,0.16,0,0.11653578743593017,0,0,2.5,0.23511410091698962,0,0,"","","","","","","",0.16,0.16,0,29.44,29.44]
[null,null,null,null,null,null,null,null,null,null,null,null,null,null,null,null,null,null,null,null,null,null,null,null,null,null,null,null,null,null,null,null,null,null,185,29.6,"Left Stream Bed",60.61931539193337,94.599999995812098,60.619315394498059,92.099999995812098,94.880693497633132,0,0.28069350182103392,0.28069350182103392,0.28069350182103392,"",0,2.7806935018210339,2.7806935018210339,0.16,0,0.11227740072841357,0,0,2.5,0.23511410091698962,0,0,"","","","","","","",0.16,0.16,0,29.6,29.6]
[null,null,null,null,null,null,null,null,null,null,null,null,null,null,null,null,null,null,null,null,null,null,null,null,null,null,null,null,null,null,null,null,null,null,186,29.76,"Left Stream Bed",60.713361032300163,94.599999996091356,60.71336103486486,92.099999996091356,94.870047531143612,0,0.27004753505225665,0.27004753505225665,0.27004753505225665,"",0,2.7700475350522566,2.7700475350522566,0.16,0,0.10801901402090267,0,0,2.5,0.23511410091698962,0,0,"","","","","","","",0.16,0.16,0,29.76,29.76]
[null,null,null,null,null,null,null,null,null,null,null,null,null,null,null,null,null,null,null,null,null,null,null,null,null,null,null,null,null,null,null,null,null,null,187,29.92,"Left Stream Bed",60.807406672666957,94.599999996370613,60.807406675231661,92.099999996370613,94.859401564654092,0,0.25940156828347938,0.25940156828347938,0.25940156828347938,"",0,2.7594015682834794,2.7594015682834794,0.16,0,0.10376062731339175,0,0,2.5,0.23511410091698962,0,0,"","","","","","","",0.16,0.16,0,29.92,29.92]
[null,null,null,null,null,null,null,null,null,null,null,null,null,null,null,null,null,null,null,null,null,null,null,null,null,null,null,null,null,null,null,null,null,null,188,30.08,"Left Stream Bed",60.901452313033758,94.599999996649871,60.901452315598448,92.099999996649871,94.848755598164573,0,0.24875560151470211,0.24875560151470211,0.24875560151470211,"",0,2.7487556015147021,2.7487556015147021,0.16,0,9.9502240605880851E-2,0,0,2.5,0.23511410091698962,0,0,"","","","","","","",0.16,0.16,0,30.08,30.08]
[null,null,null,null,null,null,null,null,null,null,null,null,null,null,null,null,null,null,null,null,null,null,null,null,null,null,null,null,null,null,null,null,null,null,189,30.24,"Left Stream Bed",60.995497953400545,94.599999996929128,60.995497955965249,92.099999996929128,94.838109631675053,0,0.23810963474592484,0.23810963474592484,0.23810963474592484,"",0,2.7381096347459248,2.7381096347459248,0.16,0,9.5243853898369937E-2,0,0,2.5,0.23511410091698962,0,0,"","","","","","","",0.16,0.16,0,30.24,30.24]
[null,null,null,null,null,null,null,null,null,null,null,null,null,null,null,null,null,null,null,null,null,null,null,null,null,null,null,null,null,null,null,null,null,null,190,30.4,"Left Stream Bed",61.089543593767345,94.599999997208386,61.089543596332042,92.099999997208386,94.827463665185533,0,0.22746366797714757,0.22746366797714757,0.22746366797714757,"",0,2.7274636679771476,2.7274636679771476,0.16,0,9.0985467190859023E-2,0,0,2.5,0.23511410091698962,0,0,"","","","","","","",0.16,0.16,0,30.4,30.4]
[null,null,null,null,null,null,null,null,null,null,null,null,null,null,null,null,null,null,null,null,null,null,null,null,null,null,null,null,null,null,null,null,null,null,191,30.56,"Left Stream Bed",61.183589234134139,94.599999997487643,61.183589236698836,92.099999997487643,94.816817698696013,0,0.21681770120837029,0.21681770120837029,0.21681770120837029,"",0,2.7168177012083703,2.7168177012083703,0.16,0,8.6727080483348123E-2,0,0,2.5,0.23511410091698962,0,0,"","","","","","","",0.16,0.16,0,30.56,30.56]
[null,null,null,null,null,null,null,null,null,null,null,null,null,null,null,null,null,null,null,null,null,null,null,null,null,null,null,null,null,null,null,null,null,null,192,30.72,{"$f":"IF(OR($C$19=\"\",$F$25=\"\",$G$25=\"\"),\"None\",IF(AL237<$B$14,\"Left Floodplain\",IF(AL237<$B$15,\"Left Bank\",IF(AL237<$B$16,\"Left Stream Bed\",IF(AL237<$B$17,\"Right Stream Bed\",IF(AL237<$B$18,\"Right Bank\",\"Right Floodplain\"))))))","v":"Left Stream Bed"},61.277634874500933,94.599999997766901,61.277634877065637,92.099999997766901,94.806171732206494,{"$f":"IF(OR($AP237<$AE$12,$AP237<=$AM237),0,IF(OR($AP237>=$AE$12,$AM237>=$AE$12),$AP237-$AM237-$AR237,$AP237-$AE$12))","v":0},{"$f":"IF($AP237<=$AM237,0,IF($AM237>=$AE$12,0,IF($AP237<=$AE$12,$AP237-$AM237,$AE$12-$AM237)))","v":0.20617173443959302},0.20617173443959302,0.20617173443959302,"",0,{"$f":"IF($AP237<=$AO237,0,IF($AO237>=$AE$12,0,IF($AP237<=$AE$12,$AP237-$AO237,$AE$12-$AO237)))","v":2.706171734439593},{"$f":"IF(AP237<=AO237,0,AP237-AO237)","v":2.706171734439593},{"$f":"IF($AS237=0,0,IF(OR($AJ237=0,$AJ237=$E$22),$AJ$46/2,$AJ$46))","v":0.16},{"$f":"IF(OR($AK237=\"Left Stream Bed\",$AK237=\"Right Stream Bed\"),$F$22*$AQ237*$AY237,0)","v":0},{"$f":"IF(OR($AK237=\"Left Stream Bed\",$AK237=\"Right Stream Bed\"),$F$22*$AR237*$AY237,0)","v":8.246869377583721E-2},{"$f":"IF(OR($AK237=\"Left Floodplain\",$AK237=\"Left Bank\",$AK237=\"Right Bank\",$AK237=\"Right Floodplain\"),$F$22*$AQ237*$AY237,0)","v":0},{"$f":"IF(OR($AK237=\"Left Floodplain\",$AK237=\"Left Bank\",$AK237=\"Right Bank\",$AK237=\"Right Floodplain\"),$F$22*$AR237*$AY237,0)","v":0},{"$f":"AX237-AS237","v":2.5},0.23511410091698962,0,{"$f":"IF(OR($AJ237=0,$AJ237=$E$22),($BF237*$AJ$46/2)*ABS($M$17),$BF237*$AJ$46*ABS($M$17))","v":0},{"$f":"IF(OR($AM237<$AP237,$AO237>$AE$8),\"\",IF(OR($AJ237=0,$AJ237=$E$22),$AJ$46/2,$AJ$46))","v":""},"","",{"$f":"IF($BJ237=\"\",\"\",IF(OR($BJ237>($F$22/2),$BJ237=0),0,0.45-($BJ237*0.45/($F$22/2))))","v":""},{"$f":"IF($BK237=\"\",\"\",IF($BK237>0,$AJ237,\"\"))","v":""},"","",{"$f":"IF($AO237=0,0,IF($AO237>$AP237,0,IF(OR($AJ237=0,$AJ237=$E$22),$AJ$46/2,$AJ$46)))","v":0.16},{"$f":"IF(AND($BO237>0,OR($AK237=\"Left Stream Bed\",$AK237=\"Right Stream Bed\")),$BO237,0)","v":0.16},{"$f":"IF(AND($BO237>0,OR($AK237=\"Left Floodplain\",$AK237=\"Left Bank\",$AK237=\"Right Bank\",$AK237=\"Right Floodplain\")),$BO237,0)","v":0},{"$f":"IF($BO237>0,$AJ237,\"\")","v":30.72},30.72]
[null,null,null,null,null,null,null,null,null,null,null,null,null,null,null,null,null,null,null,null,null,null,null,null,null,null,null,null,null,null,null,null,null,null,193,{"$f":"($AI238/$AI$245)*$AJ$245","v":30.88},"Left Stream Bed",61.371680514867734,94.599999998046158,{"$f":"$AN$45+ABS(AJ238*$M$19*$M$17)","v":61.371680517432431},92.099999998046158,94.795525765716974,0,0.19552576767081575,{"$f":"IF(AP238<=AM238,0,AP238-AM238)","v":0.19552576767081575},{"$f":"IF(OR($AS238=\"\",$AS238=0),\"\",IF(OR($AK238=\"Left Stream Bed\",$AK238=\"Right Stream Bed\"),$AS238,\"\"))","v":0.19552576767081575},{"$f":"IF(OR($AS238=\"\",$AS238=0),\"\",IF(OR($AK238=\"Left Floodplain\",$AK238=\"Left Bank\",$AK238=\"Right Bank\",$AK238=\"Right Floodplain\"),$AS238,\"\"))","v":""},{"$f":"IF(OR($AP238<$AE$12,$AP238<=$AO238),0,IF($AO238>=$AE$12,$AP238-$AO238,$AP238-$AE$12))","v":0},2.6955257676708158,2.6955257676708158,0.16,0,7.821030706832631E-2,0,0,2.5,{"$f":"$BD238*$AJ$46*ABS($M$17)","v":0.23511410091698962},{"$f":"AV238-AQ238","v":0},0,"",{"$f":"IF($BH238=\"\",\"\",IF($BH238>0,$AJ238,\"\"))","v":""},{"$f":"IF($BH238=\"\",\"\",IF(OR(($AO238-$AP238)<0,$AO$45>=$AE$8),0,($AO238-$AP238)))","v":""},"","",{"$f":"IF($BH238=\"\",\"\",IF(OR(($AM238-$AP238)<0,$AM238>=$AE$8),\"\",($AE$8-($AM238-(($F$22/2)/$M$19)))))","v":""},"",0.16,0.16,0,30.88,{"$f":"IF($AY238>0,$AJ238,\"\")","v":30.88}]
[null,null,null,null,null,null,null,null,null,null,null,null,null,null,null,null,null,null,null,null,null,null,null,null,null,null,null,null,null,null,null,null,null,null,194,31.04,"Left Stream Bed",61.465726155234528,{"$f":"AM238+((AL239-AL238)*$AA$40)","v":94.599999998325416},61.465726157799224,{"$f":"AO238+((AN239-AN238)*$AA$40)","v":92.099999998325416},{"$f":"IF($AL239<$B$14,(($AL239-$B$13)*$AB$31)+$C$13,IF($AL239<$B$15,(($AL239-$B$14)*$AB$32)+$C$14,IF($AL239<$B$16,(($AL239-$B$15)*$AB$33)+$C$15,IF($AL239<$B$17,(($AL239-$B$16)*$AB$34)+$C$16,IF($AL239<$B$18,(($AL239-$B$17)*$AB$35)+$C$17,IF($AL239<$B$19,(($AL239-$B$18)*$AB$36)+$C$18))))))","v":94.784879799227454},0,0.18487980090203848,0.18487980090203848,0.18487980090203848,"",0,2.6848798009020385,2.6848798009020385,0.16,0,7.3951920360815396E-2,0,0,2.5,0.23511410091698962,0,0,"","","","","","",{"$f":"IF($BM239=\"\",\"\",(((PI()^2)/32)*($B$66^-6)*EXP(-($BM239/$F$22)/(2*($B$66^2)))))","v":""},0.16,0.16,0,31.04,31.04]
[null,null,null,null,null,null,null,null,null,null,null,null,null,null,null,null,null,null,null,null,null,null,null,null,null,null,null,null,null,null,null,null,null,null,195,31.2,"Left Stream Bed",{"$f":"$AL$45+ABS(AJ240*$M$19*$M$17)","v":61.559771795601321},94.599999998604673,61.559771798166025,92.099999998604673,94.77423383273792,0,0.174233834133247,0.174233834133247,0.174233834133247,"",0,2.674233834133247,2.674233834133247,0.16,0,6.9693533653298806E-2,0,0,2.5,0.23511410091698962,0,0,"","","","","","","",0.16,0.16,0,31.2,31.2]
[null,null,null,null,null,null,null,null,null,null,null,null,null,null,null,null,null,null,null,null,null,null,null,null,null,null,null,null,null,null,null,null,null,null,196,31.36,"Left Stream Bed",61.653817435968122,94.599999998883931,61.653817438532819,92.099999998883931,94.7635878662484,0,0.16358786736446973,0.16358786736446973,0.16358786736446973,"",0,2.6635878673644697,2.6635878673644697,0.16,0,6.5435146945787892E-2,0,0,2.5,0.23511410091698962,0,0,"","","","","","","",0.16,0.16,0,31.36,31.36]
[null,null,null,null,null,null,null,null,null,null,null,null,null,null,null,null,null,null,null,null,null,null,null,null,null,null,null,null,null,null,null,null,null,null,197,31.52,"Left Stream Bed",61.747863076334916,94.599999999163188,61.747863078899613,92.099999999163188,94.752941899758881,0,0.15294190059569246,0.15294190059569246,0.15294190059569246,"",0,2.6529419005956925,2.6529419005956925,0.16,0,6.1176760238276985E-2,0,0,2.5,0.23511410091698962,0,0,"","","","","","","",0.16,0.16,0,31.52,31.52]
[null,null,null,null,null,null,null,null,null,null,null,null,null,null,null,null,null,null,null,null,null,null,null,null,null,null,null,null,null,null,null,null,null,null,198,31.68,"Left Stream Bed",61.84190871670171,94.599999999442446,61.841908719266414,92.099999999442446,94.742295933269361,0,0.14229593382691519,0.14229593382691519,0.14229593382691519,"",0,2.6422959338269152,2.6422959338269152,0.16,0,5.6918373530766078E-2,0,0,2.5,0.23511410091698962,0,0,"","","","","","","",0.16,0.16,0,31.68,31.68]
[null,null,null,null,null,null,null,null,null,null,null,null,null,null,null,null,null,null,null,null,null,null,null,null,null,null,null,null,null,null,null,null,null,null,199,{"$f":"($AI244/$AI$245)*$AJ$245","v":31.84},"Left Stream Bed",61.93595435706851,94.599999999721703,61.9359543596332,92.099999999721703,94.731649966779841,0,0.13164996705813792,0.13164996705813792,0.13164996705813792,"",0,2.6316499670581379,2.6316499670581379,0.16,0,5.2659986823255171E-2,0,0,2.5,0.23511410091698962,0,0,"","","","","","","",0.16,0.16,0,31.84,31.84]
[null,null,null,null,null,null,null,null,null,null,null,null,null,null,null,null,null,null,null,null,null,null,null,null,null,null,null,null,null,null,null,null,null,null,200,{"$f":"$E$22","v":32},"Left Stream Bed",62.029999997435304,94.600000000000961,62.03,92.100000000000961,94.721004000290321,0,0.12100400028936065,0.12100400028936065,0.12100400028936065,"",0,2.6210040002893606,2.6210040002893606,0.08,0,2.4200800057872129E-2,0,0,2.5,0.23511410091698962,0,0,"","","","","","","",0.08,0.08,0,32,32]

{"sheet":"Foot#2","index":10,"n_rows":245,"n_cols":72,"rows_kept":245,"cut":false,"hidden":false,"merged":[[107,27,107,28],[109,31,109,32],[90,29,90,30],[90,31,90,32],[91,0,91,9],[91,14,91,25],[97,20,97,22],[102,27,102,28],[102,31,102,32],[85,20,85,21],[86,20,86,21],[87,20,87,21],[90,1,90,2],[90,20,90,24],[90,27,90,28],[83,19,83,23],[83,25,84,25],[83,27,84,27],[83,28,83,31],[84,0,84,9],[84,20,84,21],[75,15,75,16],[77,3,77,4],[79,0,79,9],[80,0,80,4],[80,7,80,9],[83,18,84,18],[64,26,65,26],[66,10,69,10],[67,0,67,2],[67,3,67,5],[73,0,73,9],[74,0,74,2],[74,3,74,6],[74,7,74,9],[74,18,74,20],[74,22,74,30],[63,0,63,5],[64,7,64,9],[64,21,64,22],[64,23,65,23],[64,24,65,24],[64,25,65,25],[52,7,52,9],[54,18,54,22],[55,19,56,19],[55,20,55,23],[56,0,56,4],[62,0,62,9],[47,1,47,2],[48,0,48,9],[49,0,49,5],[49,7,49,8],[50,13,50,14],[51,13,51,14],[38,45,38,48],[41,34,41,38],[42,34,42,40],[42,41,42,49],[44,21,44,22],[44,23,45,23],[44,24,45,24],[44,25,45,25],[44,26,45,26],[44,29,44,31],[29,19,30,19],[29,20,29,23],[33,32,33,33],[33,43,33,44],[37,26,38,26],[37,27,38,27],[38,34,38,37],[26,1,26,2],[27,1,27,2],[27,32,27,33],[27,43,27,44],[28,1,28,2],[28,18,28,22],[22,10,23,10],[22,32,22,33],[22,43,22,44],[23,0,24,0],[23,3,23,4],[24,3,24,4],[16,18,16,20],[17,22,17,27],[17,32,17,33],[17,43,17,44],[20,0,20,2],[21,0,21,2],[10,28,10,30],[11,11,11,12],[11,13,11,16],[12,11,12,12],[12,13,12,16],[13,11,13,12],[13,13,13,16],[13,28,13,30],[7,22,7,24],[8,11,8,12],[8,13,8,16],[9,11,9,12],[9,13,9,16],[10,0,10,2],[10,11,10,12],[10,13,10,16],[6,11,6,12],[6,13,6,16],[7,0,8,0],[7,11,7,12],[7,13,7,16],[7,18,7,20],[0,8,1,9],[2,0,2,9],[4,1,4,2],[4,3,4,4],[4,11,4,12],[4,32,5,35],[4,43,5,46],[4,54,4,59],[4,60,4,63],[5,1,5,2],[5,3,5,4],[5,11,5,12],[5,13,5,16],[5,28,5,30],[5,54,5,55]]}
[{"$f":"'1-Cover'!A1","v":"Sample Multi-Log Structure"},null,null,null,null,null,null,null,"Spreadsheet developed by Michael Rafferty, P.E."]
[]
["Single Log Stability Analysis Model Inputs",null,null,null,null,null,null,null,null,null,"ERROR CHECKS"]
[]
["Site ID","Structure Type",null,"Structure Position",null,"Meander","Station","dw (ft)","Rc/WBF","udes (ft/s)",null,"Type Lookup Table",null,null,null,null,null,null,null,null,null,null,null,null,null,null,null,null,null,null,null,null,"Tilted Cylindrical (Stem) \"Below Water Surface\" Volume Calculation (Below High Flow)",null,null,null,null,null,null,null,null,null,null,"Tilted Cylindrical (Stem) Wet Volume Calculation (Below Channel Thalweg)",null,null,null,null,null,null,null,null,null,null,"Tilted Frustum (RW) Volume Calculation (Slice Method)",null,null,null,null,null,"A = R2 arccos [(R - h)/R] - [(R - h)*SQRT(2Rh - h2)]"]
["Sample1","Flow Deflection",null,"Left bank",null,"Outside",{"$f":"IF($A6=\"\",\"\",VLOOKUP($A6,SiteInfo,2,0))","v":1000},{"$f":"IF($A6=\"\",\"\",VLOOKUP($A6,SiteInfo,4,0))","v":8.4499999999999993},{"$f":"IF($A6=\"\",\"\",VLOOKUP($A6,SiteInfo,9,0))","v":5.3191489361702127},{"$f":"IF(OR($A$6=\"\",$F$6=\"\"),\"\",IF($F$6=\"Outside\",VLOOKUP($A$6,SiteInfo,10,0),VLOOKUP($A$6,SiteInfo,5,0)))","v":4.6327110774981861},{"$f":"IF($F$6=\"\",\"\",IF(AND($I$6<26,$F$6=\"Straight\"),\"CHECK - Structure is located on a meander (Rc/WBF < 26)\",\"\"))","v":""},"Structure Types",null,"Description",null,null,null,null,null,null,null,null,null,null,null,null,null,null,"Water Surface",null,null,null,null,null,null,null,null,null,null,null,null,null,null,null,null,null,null,null,null,null,null,null,null,null,"Slice thickness (ft) =",null,{"$f":"IF($G$22=\"\",\"\",$G$22/$BC$39)","v":0.1125},"WSE (ft) =",{"$f":"IF($AE$8=\"\",\"\",$AE$8)","v":101.25},"RRW (ft) =",{"$f":"IF($H$22=\"\",\"\",$H$22/2)","v":3.375},"yRW,crown (ft) =",{"$f":"IF($U$10=\"\",\"\",$U$10)","v":97.249999994109515},"yRW,bot (ft) =",{"$f":"IF($U$15=\"\",\"\",$U$15)","v":90.499999994109515}]
[null,null,null,null,null,null,null,null,null,null,{"$f":"IF(OR($F$6=\"\",$I$6=\"\"),\"\",IF(AND($I$6>26,$F$6<>\"Straight\"),\"CHECK - Structure is not on a meander (Rc/WBF > 26)\",\"\"))","v":""},"Rootwad",null,"Logs buried in bank with rootwads protruding into channel",null,null,null,null,null,null,null,null,null,null,null,null,null,null,null,"x (ft)","y (ft)",null,null,"R = DTS/2",{"$f":"$F$22/2","v":1.125},"ft",null,null,null,null,null,null,null,null,"R = DTS/2",{"$f":"$F$22/2","v":1.125},"ft",null,null,null,null,null,null,null,null,null,null,"Thalweg Elevation (ft) =",{"$f":"$C$16","v":92.8},"RTS (ft) =",{"$f":"IF($F$22=\"\",\"\",$F$22/2)","v":1.125},"yRC,crown (ft) =",{"$f":"IF($U$11=\"\",\"\",$U$11)","v":95},"yRC,bot (ft) =",{"$f":"IF($U$14=\"\",\"\",$U$14)","v":92.75}]
["Multi-Log Structures","Layer","Log ID",null,null,null,null,null,null,null,null,"Log Vane",null,"Logs protruding from bank and angled either up- or downstream",null,null,null,null,"Large Wood Coordinates",null,null,null,null,null,null,null,null,null,"WSE",{"$f":"IF(OR($A$6=\"\",$C$16=\"\"),0,IF(($H$6+$C$16)>=$C$13,$B$13,IF(AND(($H$6+$C$16)<$C$13,($H$6+$C$16)>=$C$14),((($C$13-($H$6+$C$16))/($C$13-$C$14))*($B$14-$B$13))+$B$13,IF(AND(($H$6+$C$16)<$C$14,($H$6+$C$16)>=$C$15),((($C$14-($H$6+$C$16))/($C$14-$C$15))*($B$15-$B$14))+$B$14,IF(AND(($H$6+$C$16)<$C$15,($H$6+$C$16)>=$C$16),((($C$15-($H$6+$C$16))/($C$15-$C$16))*($B$16-$B$15))+$B$15,\"\")))))","v":0},{"$f":"IF(OR($A$6=\"\",$C$16=\"\"),$C$13,$H$6+$C$16)","v":101.25},null,null,"b (rad)",{"$f":"ABS($C$25)*PI()/180","v":1.7453292519943295E-9},"rad",null,null,null,null,null,null,null,null,"b (rad)",{"$f":"ABS($C$25)*PI()/180","v":1.7453292519943295E-9},"rad"]
[null,"Key Log","Foot#2",null,null,null,null,null,null,null,null,"Log Weir",null,"Weirs spanning small streams comprised of one or more large logs",null,null,null,null,null,"x (ft)","y (ft)",null,"Large wood check","x (ft)",null,"y (ft)",null,null,"WSE",{"$f":"IF(OR($A$6=\"\",$C$16=\"\"),0,IF(($H$6+$C$16)>=$C$19,$B$19,IF(AND(($H$6+$C$16)<$C$19,($H$6+$C$16)>=$C$18),(((($H$6+$C$16)-$C$18)/($C$19-$C$18))*($B$19-$B$18))+$B$18,IF(AND(($H$6+$C$16)<$C$18,($H$6+$C$16)>=$C$17),(((($H$6+$C$16)-$C$17)/($C$18-$C$17))*($B$18-$B$17))+$B$17,IF(AND(($H$6+$C$16)<$C$17,($H$6+$C$16)>=$C$16),(((($H$6+$C$16)-$C$16)/($C$17-$C$16))*($B$17-$B$16))+$B$16,\"\")))))","v":150},{"$f":"IF(OR($A$6=\"\",$C$16=\"\"),$C$13,$H$6+$C$16)","v":101.25},null,null,"dwet,max",{"$f":"IF($AB$23>$AB$24,$AB$23,IF($AB$23<$AB$24,$AB$24,\"\"))","v":8.5},"ft",null,null,null,null,null,null,null,null,"dwet,max",{"$f":"IF($Z$23>$Z$24,$Z$23,IF($Z$23<$Z$24,$Z$24,\"\"))","v":4.9999999999997158E-2},"ft",null,null,null,null,null,null,null,"Slice #","xRW,avg (ft)","RRW,slice (ft)","Aslice,avg (ft)","Vslice (ft3)","ycrown,avg (ft)","ybot,avg (ft)","hRW,cr,↑WSE (ft)","ARW,↑WSE (ft2)","VRW,↑WSE (ft3)","hRW,bot,↓thw (ft)","ARW,↓thw (ft2)","VRW,↓thw (ft3)"]
[null,null,null,null,null,null,null,null,null,null,{"$f":"IF(OR($C$14=\"\",$C$15=\"\"),\"\",IF($C$15>=$C$14,\"ERROR - LB top elevation must be > LB toe elevation\",\"\"))","v":""},"Tree Revetment",null,"Row of logs secured along the bank and placed parallel to flow",null,null,null,"Pt 1","Rootwad: Crown",{"$f":"IF($F$25=\"\",0,IF($D$25=\"Rootwad: Crown\",$F$25,IF($D$22=\"No\",$T$15+(($F$22*-$M$20)*$M$17),$T$15+(($H$22*-$M$20)*$M$17))))","v":70.301248160158934},{"$f":"IF($G$25=\"\",$C$13,IF($D$25=\"Rootwad: Crown\",$G$25,IF($D$22=\"No\",$U$15+($F$22*$M$19),$U$15+($H$22*$M$19))))","v":97.249999994109515},null,"Rootwad: Crown",{"$f":"IF($D$22=\"No\",$T$15+(($F$22*-$M$20)*$M$17),$T$15+(($H$22*-$M$20)*$M$17))","v":70.301248160158934},{"$f":"IF(X10=T10,\"OK\",\"ERROR\")","v":"OK"},{"$f":"IF($D$22=\"No\",$U$15+($F$22*$M$19),$U$15+($H$22*$M$19))","v":97.249999994109515},{"$f":"IF(Z10=U10,\"OK\",\"ERROR\")","v":"OK"},null,null,null,null,null,null,"dwet,avgH",{"$f":"IF(AND($AB$23>0,$AB$24>0),(($AB$23/COS($AI$8))+($AB$24/COS($AI$8)))/2,\"\")","v":8.4999999750199748},"ft",null,null,null,null,null,null,null,null,"dwet,avgH",{"$f":"IF(AND($Z$23>0,$Z$24>0),(($Z$23/COS($AT$8))+($Z$24/COS($AT$8)))/2,\"\")","v":4.9999975019971998E-2},"ft",null,null,null,null,null,null,null,1,{"$f":"($BE$6/2)+(($BC10-1)*$BE$6)","v":5.6250000000000001E-2},{"$f":"(($G$22-$BD10)/$G$22)*($BI$6-$BI$7)+$BI$7","v":3.3375000000000004},{"$f":"PI()*($BE10^2)","v":34.993906044025437},{"$f":"$BF10*$BE$6","v":3.9368144299528618},{"$f":"(($G$22-$BD10)/$G$22)*($BK$6-$BK$7)+$BK$7","v":97.21249999420769},{"$f":"(($G$22-$BD10)/$G$22)*($BM$6-$BM$7)+$BM$7","v":90.537499994207693},{"$f":"IF($BH10<=$BG$6,0,IF((($BH10-$BG$6)*$M$19)>=($BE10*2),$BE10*2,($BH10-$BG$6)*$M$19))","v":0},{"$f":"(($BE10^2)*ACOS(($BE10-$BJ10)/$BE10))-(($BE10-$BJ10)*SQRT(2*$BE10*$BJ10-($BJ10^2)))","v":0},{"$f":"$BK10*$BE$6","v":0},{"$f":"IF($BI10>=$BG$7,0,IF((($BG$7-$BI10)*$M$19)>=($BE10*2),$BE10*2,($BG$7-$BI10)*$M$19))","v":2.2625000057923046},{"$f":"(($BE10^2)*ACOS(($BE10-$BM10)/$BE10))-(($BE10-$BM10)*SQRT(2*$BE10*$BM10-($BM10^2)))","v":10.447408882990919},{"$f":"$BN10*$BE$6","v":1.1753334993364783}]
["Channel Geometry Coordinates",null,null,null,null,null,null,null,null,null,{"$f":"IF(OR($C$15=\"\",$C$16=\"\",$C$17=\"\"),\"\",IF(OR($C$15<$C$16,$C$17<$C$16),\"ERROR - Toe elevation must be >= thalweg elevation\",\"\"))","v":""},"Flow Deflection",null,"Partially spanning multiple log structure along the bank",null,null,null,"Pt 2","Root collar: Crown",{"$f":"IF($F$25=\"\",0,IF($D$25=\"Root collar: Crown\",$F$25,IF($D$22=\"No\",$T$10,$T$10+(($G$22*$M$19)*$M$17)-(((($H$22-$F$22)/2)*-$M$20)*$M$17))))","v":67.000000003841166},{"$f":"IF($G$25=\"\",$C$13,IF($D$25=\"Root collar: Crown\",$G$25,IF($D$22=\"No\",$U$10,$U$10-($G$22*-$M$20)-((($H$22-$F$22)/2)*$M$19))))","v":95},null,"Root collar: Crown",{"$f":"IF($D$22=\"No\",$X$10,$T$10+(($G$22*$M$19)*$M$17)-(((($H$22-$F$22)/2)*-$M$20)*$M$17))","v":67.000000003841166},"OK",{"$f":"IF($D$22=\"No\",$Z$10,$U$10-($G$22*-$M$20)-((($H$22-$F$22)/2)*$M$19))","v":95},"OK",null,"Water Surface Label",null,null,null,null,"hmax,lower",{"$f":"IF($AI$9/COS($AI$8)>$F$22,$F$22,$AI$9/COS($AI$8))","v":2.25},"ft",null,null,null,null,null,null,null,null,"hmax,lower",{"$f":"IF($AT$9/COS($AT$8)>$F$22,$F$22,$AT$9/COS($AT$8))","v":4.9999999999997158E-2},"ft",null,null,null,null,null,null,null,2,{"$f":"($BE$6/2)+(($BC11-1)*$BE$6)","v":0.16875000000000001},3.2624999999999997,{"$f":"PI()*($BE11^2)","v":33.438817680498481},{"$f":"$BF11*$BE$6","v":3.7618669890560792},97.137499994404038,90.612499994404033,{"$f":"IF($BH11<=$BG$6,0,IF((($BH11-$BG$6)*$M$19)>=($BE11*2),$BE11*2,($BH11-$BG$6)*$M$19))","v":0},{"$f":"(($BE11^2)*ACOS(($BE11-$BJ11)/$BE11))-(($BE11-$BJ11)*SQRT(2*$BE11*$BJ11-($BJ11^2)))","v":0},{"$f":"$BK11*$BE$6","v":0},{"$f":"IF($BI11>=$BG$7,0,IF((($BG$7-$BI11)*$M$19)>=($BE11*2),$BE11*2,($BG$7-$BI11)*$M$19))","v":2.1875000055959646},{"$f":"(($BE11^2)*ACOS(($BE11-$BM11)/$BE11))-(($BE11-$BM11)*SQRT(2*$BE11*$BM11-($BM11^2)))","v":9.8341125207655669},{"$f":"$BN11*$BE$6","v":1.1063376585861262}]
["Proposed","x (ft)","y (ft)",null,null,null,null,null,null,null,{"$f":"IF(OR($C$18=\"\",$C$17=\"\"),\"\",IF($C$17>=$C$18,\"ERROR - RB top elevation must be > RB toe elevation\",\"\"))","v":""},"Mid-Channel",null,"Logs placed at the head of an island or bar",null,null,null,"Pt 3","Stem tip: Crown",{"$f":"IF($F$25=\"\",0,IF($D$25=\"Stem tip: Crown\",$F$25,$T$11+((($E$22-$G$22)*$M$19)*$M$17)))","v":39.00052493283598},{"$f":"IF($G$25=\"\",$C$13,IF($D$25=\"Stem tip: Crown\",$G$25,$U$11-(($E$22-$G$22)*-$M$20)))","v":95.00000004996005},null,"Stem tip: Crown",{"$f":"$T$11+((($E$22-$G$22)*$M$19)*$M$17)","v":39.00052493283598},"OK",{"$f":"$U$11-(($E$22-$G$22)*-$M$20)","v":95.00000004996005},"OK",null,"WSE",{"$f":"IF($AD$8=\"\",\"\",AVERAGE(AD8:AD9))","v":75},{"$f":"IF($AE$8=\"\",\"\",AVERAGE(AE8:AE9))","v":101.25},null,null,"hmax,up,dry",{"$f":"IF(AND($AB$23>$F$22,$AB$24>$F$22),0,IF(AND($AB$23>=$F$22,(($F$22-$AB$24)/(COS($AI$8)))>$F$22),$F$22,IF($AB$23>=$F$22,($F$22-$AB$24)/(COS($AI$8)),IF(AND($AB$24>=$F$22,(($F$22-$AB$23)/(COS($AI$8))>$F$22)),$F$22,IF($AB$24>=$F$22,($F$22-$AB$23)/(COS($AI$8)),\"\")))))","v":0},"ft",null,null,null,null,null,null,null,null,"hmax,up,dry",{"$f":"IF(AND($Z$23>$F$22,$Z$24>$F$22),0,IF(AND($Z$23>=$F$22,(($F$22-$Z$24)/(COS($AT$8)))>$F$22),$F$22,IF($Z$23>=$F$22,($F$22-$Z$24)/(COS($AT$8)),IF(AND($Z$24>=$F$22,(($F$22-$Z$23)/(COS($AT$8))>$F$22)),$F$22,IF($Z$24>=$F$22,($F$22-$Z$23)/(COS($AT$8)),\"\")))))","v":""},"ft",null,null,null,null,null,null,null,3,0.28125,3.1875,31.919072234324421,3.5908956263614975,97.062499994600387,90.687499994600387,0,0,0,2.1125000053996104,9.2386363824054598,1.0393465930206143]
["Fldpln LB",{"$f":"'Prelim-Top#1'!B13","v":0},{"$f":"'Prelim-Top#1'!C13","v":99.18},null,null,null,null,null,null,null,{"$f":"IF(OR($B$14<$B$13,$B$15<$B$14,$B$16<$B$15,$B$17<$B$16,$B$18<$B$17,$B$19<$B$18),\"ERROR - Each 'x' distance must be >= previous point\",\"\")","v":""},"Full-Span",null,"Multiple logs constricting a large portion of the cross-sectional area",null,null,null,"Pt 4","Stem tip: Bottom",{"$f":"IF($F$25=\"\",0,IF($D$25=\"Stem tip: Bottom\",$F$25,$T$12-(($F$22*-$M$20)*$M$17)))","v":39.0005249289948},{"$f":"IF($G$25=\"\",$C$13,IF($D$25=\"Stem tip: Bottom\",$G$25,$U$12-($F$22*$M$19)))","v":92.75000004996005},null,"Stem tip: Bottom",{"$f":"$T$12-(($F$22*-$M$20)*$M$17)","v":39.0005249289948},"OK",{"$f":"$U$12-($F$22*$M$19)","v":92.75000004996005},"OK",null,null,null,null,null,null,"LTS,bot,wet",{"$f":"IF(($AI$9/SIN($AI$8))>($E$22-$G$22),($E$22-$G$22-$AI$14),($AI$9/SIN($AI$8))-$AI$14)","v":-3580986190.9426451},"ft",null,null,null,null,null,null,null,null,"LTS,bot,wet",{"$f":"IF(($AT$9/SIN($AT$8))>($E$22-$G$22),($E$22-$G$22-$AT$14),($AT$9/SIN($AT$8))-$AT$14)","v":28.625},"ft",null,null,null,null,null,null,null,4,0.39375000000000004,3.1125000000000003,30.43466970550325,3.4239003418691158,96.987499994796735,90.762499994796741,0,0,0,2.0375000052032561,8.6609920494115453,0.97436160555879892]
["Top LB",{"$f":"'Prelim-Top#1'!B14","v":33},{"$f":"'Prelim-Top#1'!C14","v":98.59},null,null,null,null,null,null,null,null,"Floodplain",null,"Logs placed outside of the bankfull channel",null,null,null,"Pt 5","Root collar: Bottom",{"$f":"IF($F$25=\"\",0,IF($D$25=\"Root collar: Bottom\",$F$25,$T$13-((($E$22-$G$22)*$M$19)*$M$17)))","v":67},{"$f":"IF($G$25=\"\",$C$13,IF($D$25=\"Root collar: Bottom\",$G$25,$U$13+(($E$22-$G$22)*-$M$20)))","v":92.75},null,"Root collar: Bottom",{"$f":"$T$13-((($E$22-$G$22)*$M$19)*$M$17)","v":66.999999999999986},"OK",{"$f":"$U$13+(($E$22-$G$22)*-$M$20)","v":92.75},"OK",null,"Bank Labels",null,null,null,null,"LTS,top,wet",{"$f":"IF($AI$11>=$F$22,(($AI$9-($AI$11/(COS($AI$8))))/SIN($AI$8))+($AI$11*TAN($AI$8)),0)","v":3580986219.5676451},"ft",null,null,null,null,null,null,null,null,"LTS,top,wet",{"$f":"IF($AT$11>=$F$22,(($AT$9-($AT$11/(COS($AT$8))))/SIN($AT$8))+($AT$11*TAN($AT$8)),0)","v":0},"ft",null,null,null,null,null,null,null,5,0.50624999999999998,3.0374999999999996,28.985610094034946,3.2608811355789316,96.912499994993084,90.837499994993095,0,0,0,1.9625000050069019,8.1011923633923661,0.91138414088164121]
["Toe LB",{"$f":"'Prelim-Top#1'!B15","v":54},{"$f":"'Prelim-Top#1'!C15","v":95.63},null,null,null,null,null,null,null,{"$f":"IF(AND($B$6=\"Rootwad\",$D$22=\"No\"),\"ERROR - Rootwad structure type should have a rootwad\",\"\")","v":""},null,null,null,null,null,null,"Pt 6","Rootwad: Bottom",{"$f":"IF($F$25=\"\",0,IF($D$25=\"Rootwad: Bottom\",$F$25,IF($D$22=\"No\",$T$14,$T$14-(($G$22*$M$19)*$M$17)-(((($H$22-$F$22)/2)*-$M$20)*$M$17))))","v":70.301248148635409},{"$f":"IF($G$25=\"\",$C$13,IF($D$25=\"Rootwad: Bottom\",$G$25,IF($D$22=\"No\",$U$14,$U$14+($G$22*-$M$20)-((($H$22-$F$22)/2)*$M$19))))","v":90.499999994109515},null,"Rootwad: Bottom",{"$f":"IF($D$22=\"No\",$T$14,$T$14-(($G$22*$M$19)*$M$17)-(((($H$22-$F$22)/2)*-$M$20)*$M$17))","v":70.301248148635409},"OK",{"$f":"IF($D$22=\"No\",$U$14,$U$14+($G$22*-$M$20)-((($H$22-$F$22)/2)*$M$19))","v":90.499999994109515},"OK",null,"LB",{"$f":"IF(OR($B$13=\"\",$B$14=\"\"),\"\",AVERAGE($B$13:$B$14))","v":16.5},{"$f":"IF(OR($C$13=\"\",$C$14=\"\"),\"\",AVERAGE($C$13:$C$14))","v":98.885000000000005},null,null,"K1",{"$f":"IF(AND(($AI$11-$AI$7)=1,$AH$17=\"Case 1\"),PI(),ACOS(1-($AI$11/$AI$7)))","v":3.1415926535897931},"rad",null,null,null,null,null,null,null,null,"K1",{"$f":"ACOS(1-($AT$11/$AT$7))","v":0.29925781871902624},"rad",null,null,null,null,null,null,null,6,0.61875000000000002,2.9624999999999999,27.571893399919542,3.1018380074909486,96.837499995189432,90.912499995189435,0,0,0,1.8875000048105619,7.5592516060938788,0.85041580568556141]
["Thalweg",{"$f":"'Prelim-Top#1'!B16","v":79},{"$f":"'Prelim-Top#1'!C16","v":92.8},null,null,null,null,null,null,null,{"$f":"IF(OR($N$52=\"\",$F$25=\"\",$G$25=\"\"),\"\",IF(AND($B$6=\"Rootwad\",$N$52<>\"Exposed in stream\"),\"CHECK - Rootwad structure typically has exposed rootwad\",\"\"))","v":""},null,null,null,null,null,null,null,null,null,null,null,null,null,null,null,null,null,"RB",{"$f":"IF(OR($B$18=\"\",$B$19=\"\"),\"\",AVERAGE($B$18:$B$19))","v":138.5},{"$f":"IF(OR($C$18=\"\",$C$19=\"\"),\"\",AVERAGE($C$18:$C$19))","v":98.8},null,null,"K2",{"$f":"IF($AI$12=\"\",\"\",ACOS(1-($AI$12/$AI$7)))","v":0},"rad",null,null,null,null,null,null,null,null,"K2",{"$f":"IF($AT$12=\"\",\"\",ACOS(1-($AT$12/$AT$7)))","v":""},"rad",null,null,null,null,null,null,null,7,0.73125000000000007,2.8875000000000002,26.193519623157023,2.9467709576051653,96.762499995385781,90.987499995385789,0,0,0,1.8125000046142077,7.0351857119192083,0.791458392590911]
["Toe RB",{"$f":"'Prelim-Top#1'!B17","v":108},{"$f":"'Prelim-Top#1'!C17","v":94.94},null,null,null,null,null,null,null,null,"cos (q+90) =",{"$f":"IF($B$25=\"\",0,COS(($B$25+90)*PI()/180))","v":-0.97814760073380569},null,null,null,null,null,"Rootwad Coordinates",null,null,null,null,null,null,null,null,null,null,null,null,null,"check:",{"$f":"IF(AND($AA$21=\"Wet\",$AA$22=\"Wet\",$AA$23=\"Wet\",$AA$24=\"Wet\"),\"Log is completely submerged\",IF(AND($AA$21=\"Dry\",$AA$22=\"Dry\",OR(AND($AA$23=\"Dry\",$AA$24=\"Wet\"),AND($AA$24=\"Dry\",$AA$23=\"Wet\"))),\"Case 1\",IF(OR(AND($AA$21=\"Wet\",$AA$24=\"Wet\",$AA$22=\"Dry\",$AA$23=\"Dry\"),AND($AA$22=\"Wet\",$AA$23=\"Wet\",$AA$21=\"Dry\",$AA$24=\"Dry\")),\"Case 2\",IF(AND($AA$22=\"Dry\",$AA$23=\"Wet\",$AA$21=\"Dry\",$AA$24=\"Wet\"),\"Case 3\",IF(OR(AND($AA$21=\"Dry\",$AA$22=\"Wet\",$AA$23=\"Wet\",$AA$24=\"Wet\"),AND($AA$21=\"Wet\",$AA$22=\"Dry\",$AA$23=\"Wet\",$AA$24=\"Wet\")),\"Case 4\",\"Stem is Dry\")))))","v":"Log is completely submerged"},null,null,"VTS =",{"$f":"PI()*(($F$22/2)^2)*($E$22-$G$22)","v":113.81523853796303},"ft3",null,null,null,null,"check:",{"$f":"IF(AND($Y$21=\"Wet\",$Y$22=\"Wet\",$Y$23=\"Wet\",$Y$24=\"Wet\"),\"Log is completely submerged\",IF(AND($Y$21=\"Dry\",$Y$22=\"Dry\",OR(AND($Y$23=\"Dry\",$Y$24=\"Wet\"),AND($Y$24=\"Dry\",$Y$23=\"Wet\"))),\"Case 1\",IF(OR(AND($Y$21=\"Wet\",$Y$24=\"Wet\",$Y$22=\"Dry\",$Y$23=\"Dry\"),AND($Y$22=\"Wet\",$Y$23=\"Wet\",$Y$21=\"Dry\",$Y$24=\"Dry\")),\"Case 2\",IF(AND($Y$22=\"Dry\",$Y$23=\"Wet\",$Y$21=\"Dry\",$Y$24=\"Wet\"),\"Case 3\",IF(OR(AND($Y$21=\"Dry\",$Y$22=\"Wet\",$Y$23=\"Wet\",$Y$24=\"Wet\"),AND($Y$21=\"Wet\",$Y$22=\"Dry\",$Y$23=\"Wet\",$Y$24=\"Wet\")),\"Case 4\",\"Stem is Dry\")))))","v":"Case 3"},null,null,"VTS =",{"$f":"PI()*(($F$22/2)^2)*($E$22-$G$22)","v":113.81523853796303},"ft3",null,null,null,null,8,0.84375,2.8125,24.850488763747386,2.7956799859215811,96.687499995582129,91.062499995582129,0,0,0,1.7375000044178677,6.5290125201555478,0.73451390851749909]
["Top RB",{"$f":"'Prelim-Top#1'!B18","v":127},{"$f":"'Prelim-Top#1'!C18","v":98.72},null,null,null,null,null,null,null,null,"sin (q+90) =",{"$f":"IF($B$25=\"\",0,SIN(($B$25+90)*PI()/180))","v":-0.20791169081775907},null,null,null,null,null,null,"x (ft)","y (ft)",null,"Large Wood \"Below Thalweg\" and \"Below Water Surface\" Depths",null,null,null,null,null,null,null,null,null,"Case 1",null,null,null,null,null,null,null,null,null,null,"Case 1",null,null,null,null,null,null,null,null,null,null,9,0.95625000000000004,2.7374999999999998,23.542800821690633,2.6485650924401964,96.612499995778492,91.137499995778484,0,0,0,1.6625000042215134,6.0407520760573146,0.67958460855644787]
["Fldpln RB",{"$f":"'Prelim-Top#1'!B19","v":150},{"$f":"'Prelim-Top#1'!C19","v":98.88},null,null,null,null,null,null,null,{"$f":"IF($C$25=\"\",\"\", IF($C$25=0,\"ERROR - Angle of tilt can not be exactly 0 deg, change to 0.01\", IF(OR($C$25>=90,$C$25<=-90),\"ERROR - Angle of tilt must be between (-)89.9 and (+)89.9 deg\",\"\")))","v":""},"cos b =",{"$f":"IF($C$25=\"\",0,COS($C$25*PI()/180))","v":1},null,null,null,null,null,"RW bottom1",{"$f":"IF($T$15=\"\",\"\",$T$15)","v":70.301248148635409},{"$f":"IF($U$15=\"\",$C$13,$U$15)","v":90.499999994109515},null,null,"Point","↓twCondition","dT,wet","↓WSECondition","dT↓dw",null,null,null,null,null,null,"V =","LTS,bot,wet/hmax,lower*R3*(sin K1 – K1*cos K1 – 1/3*(sin K1)3)",null,null,null,null,null,null,null,null,null,"V =","LTS,bot,wet/hmax,lower*R3*(sin K1 – K1*cos K1 – 1/3*(sin K1)3)",null,null,null,null,null,null,null,10,1.0687499999999999,2.6625000000000005,22.270455796986777,2.5054262771610123,96.537499995974841,91.212499995974838,0,0,0,1.5875000040251592,5.5704269924931635,0.62667303665548091]
[null,null,null,null,null,null,null,null,null,null,{"$f":"IF(OR($B$25=\"\",$A$6=\"\"),\"\",IF(OR($B$25>360,$B$25<-180),\"ERROR - Orientation angle must be (-)180 to (+)360 deg\",\"\"))","v":""},"sin b =",{"$f":"IF($C$25=\"\",0,SIN($C$25*PI()/180))","v":1.7453292519943295E-9},null,null,null,null,null,"RW sid1",{"$f":"IF($T$19=\"\",\"\",IF($D$22=\"No\",$T$19+((SIN(45*PI()/180))*$M$18),(($T$19+$T$21)/2)+((SIN(45*PI()/180))*$M$18)))","v":69.80338140679612},{"$f":"IF($U$15=\"\",$C$13,($U$21+$U$19)/2)","v":92.187499994109515},null,"Rootwad: Crown","Pt 1",{"$f":"IF($U10<$C$16,\"Wet\",\"Dry\")","v":"Dry"},{"$f":"IF($C$16<U10,0,$C$16-U10)","v":0},{"$f":"IF($U10<$AE$8,\"Wet\",\"Dry\")","v":"Wet"},{"$f":"IF(U10>$AE$8,0,$AE$8-U10)","v":4.0000000058904845},null,null,null,null,null,null,"where:","K1 = arccos(1-hmax,lower/R)",null,null,null,null,null,null,null,null,null,"where:","K1 = arccos(1-hmax,lower/R)",null,null,null,null,null,null,null,11,1.1812499999999999,2.5875000000000004,21.033453689635795,2.3662635400840268,96.462499996171189,91.287499996171192,0,0,0,1.512500003828805,5.1180628872652356,0.57578207481733901]
["Wood Species",null,null,"Rootwad","LT (ft)","DTS (ft)","LRW (ft)","DRW (ft)","gTd (lb/ft3)","gTgr (lb/ft3)",{"$f":"IF(AND($D$22=\"No\",OR($D$25=\"Rootwad: Crown\",$D$25=\"Rootwad: Bottom\")),\"ERROR - No rootwad, define a different starting point\",\"\")","v":""},"typ RW b =",{"$f":"IF($E$22=\"\",0,ROUND((-ATAN(((($H$22-$F$22)/2))/$E$22)*180/PI()),1))","v":-4},null,null,null,null,null,"RW sid2",{"$f":"IF($T$19=\"\",\"\",IF($D$22=\"No\",(($T$19+$T$23)/2)+($F$22/2*$M$18),(($T$19+$T$23)/2)+($H$22/2*$M$18)))","v":69.599546197887236},{"$f":"IF($U$15=\"\",$C$13,($U$19+$U$23)/2)","v":93.874999994109515},null,"Root collar: Crown","Pt 2","Dry",0,"Wet",6.25,null,null,null,null,null,null,"VTS,wet,C1",{"$f":"($AI$13/$AI$11)*($AI$7^3)*(SIN($AI$15)-($AI$15*COS($AI$15))-((1/3)*(SIN($AI$15))^3))","v":-7119140568.0923805},"ft3",null,null,null,null,null,null,null,null,"VTS,wet,C1",{"$f":"($AT$13/$AT$11)*($AT$7^3)*(SIN($AT$15)-($AT$15*COS($AT$15))-((1/3)*(SIN($AT$15))^3))","v":0.25480680418309154},"ft3",null,null,null,null,null,null,12,1.29375,2.5124999999999997,19.831794499637688,2.2310768812092401,96.387499996367538,91.362499996367532,0,0,0,1.437500003632465,4.6836889158040691,0.5269150030279578]
["Douglas-fir, Interior west",null,null,"Yes",32,2.25,{"$f":"IF(OR($D$22=\"No\",$D$22=\"\"),0,IF($F$22=\"\",0,$F$22*LFRW))","v":3.375},{"$f":"IF(OR($D$22=\"No\",$D$22=\"\"),0,IF($F$22=\"\",0,$F$22*DFRW))","v":6.75},{"$f":"IF($A$22=\"\",\"\",VLOOKUP($A$22,'5-Wood'!$B$8:$E$17,3,0))","v":34.944000000000003},{"$f":"IF($A$22=\"\",\"\",VLOOKUP($A$22,'5-Wood'!$B$8:$E$17,4,0))","v":39},null,null,null,null,null,null,null,null,"RW sid3",{"$f":"IF($T$19=\"\",\"\",IF($D$22=\"No\",$T$23+((SIN(45*PI()/180))*$M$18),(($T$23+$T$21)/2)+((SIN(45*PI()/180))*$M$18)))","v":69.803381412557883},{"$f":"IF($U$15=\"\",$C$13,($U$21+$U$23)/2)","v":95.562499994109515},null,"Stem tip: Crown","Pt 3","Dry",0,"Wet",6.2499999500399497,null,null,null,null,null,null,null,null,null,null,null,null,null,null,null,null,null,null,null,null,null,null,null,null,null,null,13,1.40625,2.4375,18.66547822699248,2.0998663005366542,96.312499996563886,91.437499996563886,0,0,0,1.3625000034361108,4.2673384252092941,0.48007557283604557]
[null,null,null,null,null,null,null,null,null,null,{"$f":"IF(OR($B$25=\"\",$A$6=\"\"),\"\",IF(OR($B$25=360,$B$25=270,$B$25=180,$B$25=90,$B$25=0,$B$25=-90,$B$25=-180),\"ERROR - Orientation angle can not EXACTLY equal 0, 90, 180, 270, or 360 deg. Change input value to 0.01, 89.99 (or similar)\",\"\"))","v":""},null,null,null,null,null,null,null,"RW crown",{"$f":"IF($T$19=\"\",\"\",$T$10)","v":70.301248160158934},{"$f":"IF($U$15=\"\",$C$13,$U$10)","v":97.249999994109515},null,"Stem tip: Bottom","Pt 4","Wet",4.9999950039946839E-2,"Wet",8.4999999500399497,null,null,null,null,"Case 2",null,null,null,null,null,null,null,null,null,null,"Case 2",null,null,null,null,null,null,null,null,null,null,14,1.51875,2.3624999999999998,17.534504871700154,1.9726317980662673,96.237499996760235,91.512499996760241,0,0,0,1.2875000032397566,3.8690497642820607,0.43526809848173181]
["Structure Geometry","q (deg)","b (deg)","Define Fixed Point",null,"xT (ft)","yT (ft)","yT,min (ft)","yT,max (ft)","ATp (ft2)",null,null,null,null,null,null,null,null,"RW sid4",{"$f":"IF($T$19=\"\",\"\",IF($D$22=\"No\",$T$23-((SIN(45*PI()/180))*$M$18),(($T$23+$T$25)/2)-((SIN(45*PI()/180))*$M$18)))","v":70.799114901998223},{"$f":"IF($U$15=\"\",$C$13,($U$25+$U$23)/2)","v":95.562499994109515},null,"Root collar: Bottom","Pt 5","Wet",4.9999999999997158E-2,"Wet",8.5,null,null,null,null,null,null,"V =","(p*R2*LTS,top,wet) + (LTS,bot,wet/hmax,lower*R3*(sin K1 – K1*cos K1 – 1/3*(sin K1)3)",null,null,null,null,null,null,null,null,null,"V =","(p*R2*LTS,top,wet) + (LTS,bot,wet/hmax,lower*R3*(sin K1 – K1*cos K1 – 1/3*(sin K1)3)",null,null,null,null,null,null,null,15,1.6312499999999999,2.2875000000000001,16.438874433760716,1.8493733737980806,96.162499996956583,91.587499996956581,0,0,0,1.2125000030434165,3.4888672963747256,0.39249757084215664]
[null,102,9.9999999999999995E-8,"Root collar: Bottom",null,67,92.75,{"$f":"IF(OR($E$22=\"\",$F$22=\"\",$F$25=\"\",$G$25=\"\"),\"\",MIN($U$10:$U$15))","v":90.499999994109515},{"$f":"IF(OR($E$22=\"\",$F$22=\"\",$F$25=\"\",$G$25=\"\"),\"\",MAX($U$10:$U$15))","v":97.249999994109515},{"$f":"IF(OR($E$22=\"\",$F$22=\"\",$F$25=\"\",$G$25=\"\"),\"\",IF($T$81<0,$AB$80,IF($T$81>$T$77,$T$77+$AB$80,IF(OR(AND($C$25=0,$D$22=\"No\",$B$25=0),AND($C$25=0,$D$22=\"No\",$B$25=360),AND($C$25=0,$D$22=\"No\",$B$25=180)),PI()*(($F$22/2)^2),$T$81+$AB$80))))","v":11.469737681253488},{"$f":"IF(OR($B$13=\"\",$B$19=\"\",$U$38=0,$U$39=0),\"\",IF(OR(MAX($U$38:$U$39)>$B$19,MIN($U$38:$U$39)<$B$13),\"ERROR - Log extends beyond limits of floodplain\",\"\"))","v":""},null,null,null,null,null,null,null,"RW sid5",{"$f":"IF($T$19=\"\",\"\",IF($D$22=\"No\",(($T$27+$T$23)/2)-($F$22/2*$M$18),(($T$27+$T$23)/2)-($H$22/2*$M$18)))","v":71.002950110907108},{"$f":"IF($U$15=\"\",$C$13,($U$27+$U$23)/2)","v":93.874999994109515},null,"Rootwad: Bottom","Pt 6","Wet",2.3000000058904817,"Wet",10.750000005890485,null,null,null,null,null,null,"where:","K1 = arccos(1-hmax,lower/R)",null,null,null,null,null,null,null,null,null,"where:","K1 = arccos(1-hmax,lower/R)",null,null,null,null,null,null,null,16,1.7437499999999999,2.2124999999999999,15.378586913174159,1.7300910277320929,96.087499997152932,91.662499997152935,0,0,0,1.1375000028470623,3.1268426792753665,0.35176980141847874]
[null,null,null,null,null,null,null,null,null,null,null,null,null,null,null,null,null,null,"RW sid6",{"$f":"IF($T$19=\"\",\"\",IF($D$22=\"No\",$T$27-((SIN(45*PI()/180))*$M$18),(($T$27+$T$25)/2)-((SIN(45*PI()/180))*$M$18)))","v":70.79911489623646},{"$f":"IF($U$15=\"\",$C$13,($U$25+$U$27)/2)","v":92.187499994109515},null,null,null,null,null,null,null,null,null,null,null,null,null,"VTS,wet,C2",{"$f":"(PI()*(($AI$7)^2)*($AI$14))+($AI$13/$AI$11)*($AI$7^3)*(SIN($AI$15)-($AI$15*COS($AI$15))-((1/3)*(SIN($AI$15))^3))","v":7119140681.9076176},"ft3",null,null,null,null,null,null,null,null,"VTS,wet,C2",{"$f":"(PI()*(($AT$7)^2)*($AT$14))+($AT$13/$AT$11)*($AT$7^3)*(SIN($AT$15)-($AT$15*COS($AT$15))-((1/3)*(SIN($AT$15))^3))","v":0.25480680418309154},"ft3",null,null,null,null,null,null,17,1.85625,2.1375000000000002,14.353642309940492,1.6147847598683054,96.012499997349281,91.737499997349289,0,0,0,1.0625000026507081,2.7830365016265954,0.313091606432992]
["Soils","Material",null,"gs (lb/ft3)","g's (lb/ft3)","f (deg)","Soil Class","LT,em (ft)","db,max (ft)","db,avg (ft)",null,null,null,null,null,null,null,null,"RW bottom2",{"$f":"IF($T$19=\"\",\"\",$T$15)","v":70.301248148635409},{"$f":"IF($U$15=\"\",$C$13,$U$15)","v":90.499999994109515},null,null,null,null,null,null,null,null,null,null,null,null,null,null,null,null,null,null,null,null,null,null,null,null,null,null,null,null,null,null,null,null,null,18,1.96875,2.0625,13.364040624059706,1.503454570206717,95.937499997545629,91.812499997545629,0,0,0,0.98750000245436809,2.4575204028878082,0.27647104532487843]
["Stream Bed",{"$f":"IF($A$6=\"\",\"\",VLOOKUP($A$6,Soil,4,0))","v":"Small Cobble"},null,{"$f":"IF($A$6=\"\",\"\",VLOOKUP($A$6,Soil,6,0))","v":136.37545738828794},{"$f":"IF($A$6=\"\",\"\",VLOOKUP($A$6,Soil,7,0))","v":84.913020637990599},{"$f":"IF($A$6=\"\",\"\",VLOOKUP($A$6,Soil,8,0))","v":41},{"$f":"IF($A$6=\"\",\"\",VLOOKUP($A$6,Soil,5,0))","v":4},{"$f":"IF(OR($E$22=\"\",$F$22=\"\",$F$25=\"\",$G$25=\"\"),\"\",IF(AND($F$25<=$B$17,$F$25>=$B$15,OR($B$25=0,$B$25=180,$B$25=360)),SUM($X$49:$X$50),$AB$49+$AB$50))","v":5.6897046042653061},{"$f":"IF(OR($E$22=\"\",$F$22=\"\",$F$25=\"\",$G$25=\"\"),\"\",$AT$42)","v":0.62718445738052253},{"$f":"IF(OR($E$22=\"\",$F$22=\"\",$F$25=\"\",$G$25=\"\"),\"\",$AT$41)","v":0.31715079873894603},null,null,null,null,null,null,null,null,null,null,null,null,null,null,null,null,null,null,null,null,null,null,"Case 3",null,null,null,null,null,null,null,null,null,null,"Case 3",null,null,null,null,null,null,null,null,null,null,19,2.0812499999999998,1.9875,12.409781855531806,1.3961004587473282,95.862499997741978,91.887499997741983,0,0,0,0.91250000225801386,2.1503798607995126,0.24191773433994518]
["Bank",{"$f":"IF($A$6=\"\",\"\",VLOOKUP($A$6,Soil,9,0))","v":"Gravel/cobble"},null,{"$f":"IF($A$6=\"\",\"\",VLOOKUP($A$6,Soil,11,0))","v":137},{"$f":"IF($A$6=\"\",\"\",VLOOKUP($A$6,Soil,12,0))","v":85.301886792452819},{"$f":"IF($A$6=\"\",\"\",VLOOKUP($A$6,Soil,13,0))","v":41},{"$f":"IF($A$6=\"\",\"\",VLOOKUP($A$6,Soil,10,0))","v":4},{"$f":"IF(OR($E$22=\"\",$F$22=\"\",$F$25=\"\",$G$25=\"\"),\"\",IF(AND(OR($F$25>$B$17,$F$25<$B$15),OR($B$25=0,$B$25=180,$B$25=360)),$X$47+$X$48+$X$51+$X$52,$AB$47+$AB$48+$AB$51+$AB$52))","v":15.334572262827642},{"$f":"IF(OR($E$22=\"\",$F$22=\"\",$F$25=\"\",$G$25=\"\"),\"\",$AU$42)","v":2.7442116737925915},{"$f":"IF(OR($E$22=\"\",$F$22=\"\",$F$25=\"\",$G$25=\"\"),\"\",$AU$41)","v":1.6963827143855266},{"$f":"IF(OR($E$22=\"\",$F$22=\"\",$F$25=\"\",$G$25=\"\"),\"\",IF(($H$28+$H$29)>$E$22,\"ERROR - Embedded length of log exceeds total length of log\",\"\"))","v":""},null,null,null,null,null,null,null,"Coordinates of Large Wood Crown at Key Points",null,null,null,null,null,null,null,null,null,null,null,null,null,null,null,"V =","LTS*(R2*arccos((R-dwet,avgH)/R)-(R-dwet,avgH)*((2*R*dwet,avgH)-dwet,avgH2)0.5)",null,null,null,null,null,null,null,null,null,"V =","LTS*(R2*arccos((R-dwet,avgH)/R)-(R-dwet,avgH)*((2*R*dwet,avgH)-dwet,avgH2)0.5)",null,null,null,null,null,null,null,20,2.1937500000000001,1.9125000000000001,11.490866004356793,1.2927224254901393,95.787499997938326,91.962499997938323,0,0,0,0.83750000206167385,1.8617179190478401,0.20944326589288201]
[null,null,null,null,null,null,null,null,null,null,null,null,null,null,null,null,null,null,null,"Wood Present?","Large Wood Parameters",null,null,null,"Soil",null,"Slope","Bank (ft/ft)",null,null,null,null,null,null,"VTS,wet,C3",{"$f":"IF($AI$10=\"\",\"\",($E$22-$G$22)*((($AI$7^2)*ACOS(($AI$7-$AI$10)/$AI$7))-(($AI$7-$AI$10)*((2*$AI$7*$AI$10)-($AI$10^2))^0.5)))","v":{"$error":"#NUM!"}},"ft3",null,null,null,null,null,null,null,null,"VTS,wet,C3",{"$f":"IF($AT$10=\"\",\"\",($E$22-$G$22)*((($AT$7^2)*ACOS(($AT$7-$AT$10)/$AT$7))-(($AT$7-$AT$10)*((2*$AT$7*$AT$10)-($AT$10^2))^0.5)))","v":0.63578973998157384},"ft3",null,null,null,null,null,null,21,2.3062499999999999,1.8375000000000001,10.607293070534665,1.1933204704351499,95.712499998134675,92.037499998134678,0,{"$f":"(($BE30^2)*ACOS(($BE30-$BJ30)/$BE30))-(($BE30-$BJ30)*SQRT(2*$BE30*$BJ30-($BJ30^2)))","v":0},{"$f":"$BK30*$BE$6","v":0},0.76250000186531963,1.5916602703023823,0.17906178040901802]
[null,null,null,null,null,null,null,null,null,null,null,null,null,null,null,null,null,null,null,null,"xTS (ft)","Dist (ft)","Adjusted Dist (ft)","yTS (ft)","ysoil (ft)",null,"Fldpln LB",{"$f":"IF(OR($B$13=\"\",$B$14=\"\",$C$13=\"\",$C$14=\"\"),\"\",($C$14-$C$13)/($B$14-$B$13))","v":-1.7878787878787984E-2},null,null,null,null,null,null,null,null,null,null,null,null,null,null,null,null,null,null,null,null,null,null,null,null,null,null,22,2.4187500000000002,1.7624999999999997,9.7590630540654164,1.0978945935823594,95.637499998331023,92.112499998331032,0,0,0,0.68750000166896541,1.3403623466297541,0.15079076399584734]
[null,null,null,null,null,null,null,null,null,null,null,null,null,null,null,null,null,null,"At Left Bank Top",{"$f":"IF(OR($F$25=\"\",$G$25=\"\"),\"No\",IF(MIN($U$38:$U$39)>$B$14,\"No\",IF(MAX($U$38:$U$39)<$B$14,\"No\",\"Yes\")))","v":"No"},{"$f":"$B$14","v":33},{"$f":"IF(OR($B$25=0,$B$25=180,$B$25=360),0,IF($T$11>$T$12,$G$22+((($T$11-$B$14)/ABS($M$17))/$M$19),(($T$12-$B$14)/ABS($M$17))/$M$19))","v":38.134580229337971},{"$f":"IF(V32<0,0,IF(V32>$E$22,$E$22,V32))","v":32},{"$f":"IF($T$11>$T$12,$U$11+(($V$32-$G$22)*$M$20),$U$12-($V$32*$M$20))","v":95.000000060666906},{"$f":"$C$14","v":98.59},null,"LB",{"$f":"IF(OR($B$14=\"\",$B$15=\"\",$C$14=\"\",$C$15=\"\"),\"\",($C$15-$C$14)/($B$15-$B$14))","v":-0.14095238095238133},null,null,null,null,null,null,null,null,null,null,null,null,null,null,null,null,null,null,null,null,null,null,null,null,null,null,23,2.53125,1.6875,8.9461759549490587,1.0064447949317692,95.562499998527386,92.187499998527386,0,0,0,0.61250000147261119,1.1080194793046731,0.12465219142177573]
[null,null,null,null,null,null,null,null,null,null,null,null,null,null,null,null,null,null,"At Left Bank Toe",{"$f":"IF(OR($F$25=\"\",$G$25=\"\"),\"No\",IF(MIN($U$38:$U$39)>$B$15,\"No\",IF(MAX($U$38:$U$39)<$B$15,\"No\",\"Yes\")))","v":"Yes"},{"$f":"$B$15","v":54},{"$f":"IF(OR($B$25=0,$B$25=180,$B$25=360),0,IF($T$11>$T$12,$G$22+((($T$11-$B$15)/ABS($M$17))/$M$19),(($T$12-$B$15)/ABS($M$17))/$M$19))","v":16.665427737172358},16.665427737172358,{"$f":"IF($T$11>$T$12,$U$11+(($V$33-$G$22)*$M$20),$U$12-($V$33*$M$20))","v":95.000000023196179},{"$f":"$C$15","v":95.63},null,"Stream L",{"$f":"IF(OR($B$15=\"\",$B$16=\"\",$C$15=\"\",$C$16=\"\"),\"\",($C$16-$C$15)/($B$16-$B$15))","v":-0.11319999999999993},null,null,null,null,null,null,null,null,null,null,null,null,null,null,null,null,null,null,null,null,null,null,null,null,null,null,24,2.6437499999999998,1.6125000000000003,8.168631773185588,0.91897107448337867,95.487499998723735,92.262499998723726,0,0,0,0.53750000127627118,0.89488193527516402,0.10067421771845596]
[null,null,null,null,null,null,null,null,null,null,null,null,null,null,null,null,null,null,"At Left Thalweg",{"$f":"IF(OR($F$25=\"\",$G$25=\"\"),\"No\",IF(AND(MAX($U$38:$U$39)>$B$16,MIN($U$38:$U$39)<$B$16),\"Yes\",\"No\"))","v":"No"},{"$f":"$B$16","v":79},{"$f":"IF(OR($B$25=0,$B$25=180,$B$25=360),0,IF($T$11>$T$12,$G$22+((($T$11-$B$16)/ABS($M$17))/$M$19),(($T$12-$B$16)/ABS($M$17))/$M$19))","v":-8.8930871344533706},0,{"$f":"IF($T$11>$T$12,$U$11+(($V$34-$G$22)*$M$20),$U$12-($V$34*$M$20))","v":94.99999997858815},{"$f":"$C$16","v":92.8},null,"Stream R",{"$f":"IF(OR($B$17=\"\",$B$16=\"\",$C$17=\"\",$C$16=\"\"),\"\",($C$16-$C$17)/($B$16-$B$17))","v":7.3793103448275887E-2},null,null,null,null,"Case 4",null,null,null,null,null,null,null,null,null,null,"Case 4",null,null,null,null,null,null,null,null,null,null,25,2.7562500000000001,1.5375000000000001,7.426430508774998,0.83547343223718729,95.412499998920083,92.33749999892008,0,0,0,0.46250000107991696,0.70127807450481994,7.8893783381792246E-2]
[null,null,null,null,null,null,null,null,null,null,null,null,null,null,null,null,null,null,"At Right Thalweg",{"$f":"IF(OR($F$25=\"\",$G$25=\"\"),\"No\",IF(AND(MAX($U$38:$U$39)>$B$16,MIN($U$38:$U$39)<$B$16),\"Yes\",\"No\"))","v":"No"},{"$f":"$B$16","v":79},{"$f":"IF(OR($B$25=0,$B$25=180,$B$25=360),0,IF($T$11<$T$12,$G$22+((($B$16-$T$11)/ABS($M$17))/$M$19),(($B$16-$T$12)/ABS($M$17))/$M$19))","v":40.893087134453367},32,{"$f":"IF($T$11<$T$12,$U$11+(($V$35-$G$22)*$M$20),$U$12-($V$35*$M$20))","v":94.99999997858815},{"$f":"$C$16","v":92.8},null,"RB",{"$f":"IF(OR($B$18=\"\",$B$17=\"\",$C$18=\"\",$C$17=\"\"),\"\",($C$18-$C$17)/($B$18-$B$17))","v":0.19894736842105268},null,null,null,null,null,null,"V =","VTS - (LTS,wet/hmax,up,dry*R3*(sin K2 – K2*cos K2 – 1/3*(sin K2)3)",null,null,null,null,null,null,null,null,null,"V =","VTS - (LTS,wet/hmax,up,dry*R3*(sin K2 – K2*cos K2 – 1/3*(sin K2)3)",null,null,null,null,null,null,null,26,2.8687499999999999,1.4624999999999999,6.7195721617172923,0.75595186819319538,95.337499999116432,92.41249999911642,0,0,0,0.38750000088357694,0.52765185495960298,5.936083368295534E-2]
[null,null,null,null,null,null,null,null,null,null,null,null,null,null,null,null,null,null,"At Right Bank Toe",{"$f":"IF(OR($F$25=\"\",$G$25=\"\"),\"No\",IF(MAX($U$38:$U$39)<$B$17,\"No\",IF(MIN($U$38:$U$39)>$B$17,\"No\",\"Yes\")))","v":"No"},{"$f":"$B$17","v":108},{"$f":"IF(OR($B$25=0,$B$25=180,$B$25=360),0,IF($T$11<$T$12,$G$22+((($B$17-$T$11)/ABS($M$17))/$M$19),(($B$17-$T$12)/ABS($M$17))/$M$19))","v":70.540964385539212},32,{"$f":"IF($T$11<$T$12,$U$11+(($V$36-$G$22)*$M$20),$U$12-($V$36*$M$20))","v":94.999999926842847},{"$f":"$C$17","v":94.94},null,"Fldpln RB",{"$f":"IF(OR($B$19=\"\",$B$18=\"\",$C$19=\"\",$C$18=\"\"),\"\",($C$19-$C$18)/($B$19-$B$18))","v":6.9565217391302867E-3},null,null,null,null,null,null,null,"K2 = arccos(1-hmax,up,dry/R)",null,null,null,null,null,null,null,null,null,null,"K2 = arccos(1-hmax,up,dry/R)",null,null,null,null,null,null,null,27,2.9812500000000002,1.3875,6.0480567320124745,0.68040638235140338,95.26249999931278,92.487499999312774,0,0,0,0.31250000068722272,0.37462771769687275,4.2145618240898186E-2]
[null,null,null,null,null,null,null,null,null,null,null,null,null,null,null,null,null,null,"At Right Bank Top",{"$f":"IF(OR($F$25=\"\",$G$25=\"\"),\"No\",IF(MAX($U$38:$U$39)<$B$18,\"No\",IF(MIN($U$38:$U$39)>$B$18,\"No\",\"Yes\")))","v":"No"},{"$f":"$B$18","v":127},{"$f":"IF(OR($B$25=0,$B$25=180,$B$25=360),0,IF($T$11<$T$12,$G$22+((($B$18-$T$11)/ABS($M$17))/$M$19),(($B$18-$T$12)/ABS($M$17))/$M$19))","v":89.965435687974761},32,{"$f":"IF($T$11<$T$12,$U$11+(($V$37-$G$22)*$M$20),$U$12-($V$37*$M$20))","v":94.99999989294075},{"$f":"$C$18","v":98.72},null,null,null,null,null,null,null,null,null,"VTS,wet,C4",{"$f":"IF($AI$16=\"\",\"\",$AW$17-(($AI$13/$AI$12)*($AI$7^3)*(SIN($AI$16)-($AI$16*COS($AI$16))-((1/3)*(SIN($AI$16))^3))))","v":{"$error":"#DIV/0!"}},"ft3",null,null,null,null,null,null,null,null,"VTS,wet,C4",{"$f":"IF($AT$16=\"\",\"\",$AW$17-(($AT$13/$AT$12)*($AT$7^3)*(SIN($AT$16)-($AT$16*COS($AT$16))-((1/3)*(SIN($AT$16))^3))))","v":""},"ft3",null,null,null,null,null,null,28,3.09375,1.3125,5.4118842196605419,0.60883697471181097,95.187499999509129,92.562499999509129,0,0,0,0.2375000004908685,0.24313352486276374,2.7352521547060922E-2]
[null,null,null,null,null,null,null,null,null,null,null,null,null,null,null,null,null,null,"Low Pt on Crown",{"$f":"IF(OR($F$25=\"\",$G$25=\"\"),\"No\",\"Yes\")","v":"Yes"},{"$f":"IF($T$38=\"No\",0,IF($U$12<=$U$11,$T$12,$T$11-($G$22*$M$19*$M$17)))","v":70.301248156317754},0,0,{"$f":"IF($T$38=\"No\",0,IF($U$12<=$U$11,$U$12,$U$11-($G$22*$M$20)))","v":94.999999994109515},{"$f":"IF($T$38=\"\",\"\",IF($U$38<$B$14,(($U$38-$B$13)*$AB$31)+$C$13,IF($U$38<$B$15,(($U$38-$B$14)*$AB$32)+$C$14,IF($U$38<$B$16,(($U$38-$B$15)*$AB$33)+$C$15,IF($U$38<$B$17,(($U$38-$B$16)*$AB$34)+$C$16,IF($U$38<$B$18,(($U$38-$B$17)*$AB$35)+$C$17,IF($U$38<$B$19,(($U$38-$B$18)*$AB$36)+$C$18)))))))","v":93.784698708704823},null,"Slope Log (ft/ft)","Slope Log Face (ft/ft)",null,null,null,null,null,null,null,null,null,null,null,null,null,null,null,null,null,null,null,null,null,null,null,null,null,null,29,3.2062499999999998,1.2375,4.8110546246614945,0.54124364527441815,95.112499999705477,92.637499999705469,0,0,0,0.16250000029452849,0.13466716185533811,1.5150055708725537E-2,null,null,"Max","Min","cP (ft)"]
[null,null,null,null,null,null,null,null,null,null,null,null,null,null,null,null,null,null,"High Pt on Crown","Yes",{"$f":"IF($T$39=\"No\",0,IF($U$12>$U$11,$T$12,$T$11-($G$22*$M$19*$M$17)))","v":39.00052493283598},{"$f":"IF($T$39=\"No\",0,$E$22)","v":32},32,{"$f":"IF($T$39=\"No\",0,IF($U$12>=$U$11,$U$12,$U$11-($G$22*$M$20)))","v":95.00000004996005},{"$f":"IF($T$39=\"\",\"\",IF($U$39<$B$14,(($U$39-$B$13)*$AB$31)+$C$13,IF($U$39<$B$15,(($U$39-$B$14)*$AB$32)+$C$14,IF($U$39<$B$16,(($U$39-$B$15)*$AB$33)+$C$15,IF($U$39<$B$17,(($U$39-$B$16)*$AB$34)+$C$16,IF($U$39<$B$18,(($U$39-$B$17)*$AB$35)+$C$17,IF($U$39<$B$19,(($U$39-$B$18)*$AB$36)+$C$18)))))))","v":97.744211723752642},null,null,null,null,null,null,null,null,null,"Free internet tilted cylinder calculator:",null,null,null,"http://planetcalc.com/1442/",null,null,null,null,null,null,"Free internet tilted cylinder calculator:",null,null,null,"http://planetcalc.com/1442/",null,null,null,null,30,3.3187500000000001,1.1624999999999999,4.2455679470153305,0.47762639403922469,95.037499999901826,92.712499999901823,0,0,0,8.7500000098174269E-2,5.2023222816418857E-2,5.8526125668471214E-3,null,null,{"$f":"MAX($BS$45:$BS$245)","v":20.96},{"$f":"MIN($BS$45:$BS$245)","v":0},{"$f":"IF($BS$43=0,0,IF(AND($BS$39=0,$BR$39=$E$22),($BR$39+$BS$39)/2,IF($BS$39=0,$BR$39-((1/3)*($BR$39-$BS$39)),IF($BR$39=$E$22,$BR$39-((2/3)*($BR$39-$BS$39)),($BR$39+$BS$39)/2))))","v":13.973333333333334}]
[null,null,null,null,null,null,null,null,null,null,null,null,null,null,null,null,null,null,"Low Pt on Bottom","Yes",{"$f":"IF($T$40=\"No\",0,IF($U$13<=$U$14,$T$13,$T$14-($G$22*$M$19*$M$17)))","v":70.301248152476589},0,0,{"$f":"IF($T$40=\"No\",0,IF($U$13<=$U$14,$U$13,$U$14-($G$22*$M$20)))","v":92.749999994109515},{"$f":"IF($T$40=\"\",\"\",IF($U$40<$B$14,(($U$40-$B$13)*$AB$31)+$C$13,IF($U$40<$B$15,(($U$40-$B$14)*$AB$32)+$C$14,IF($U$40<$B$16,(($U$40-$B$15)*$AB$33)+$C$15,IF($U$40<$B$17,(($U$40-$B$16)*$AB$34)+$C$16,IF($U$40<$B$18,(($U$40-$B$17)*$AB$35)+$C$17,IF($U$40<$B$19,(($U$40-$B$18)*$AB$36)+$C$18)))))))","v":93.784698709139647},null,{"$f":"IF(OR($B$25=0,$B$25=180,$B$25=360),($U$11-$U$12)/0.001,IF($X$38=$X$39,1E-25,($U$11-$U$12)/($T$11-$T$12)))","v":-1.7843209628855797E-9},{"$f":"IF(OR($B$25=0,$B$25=180,$B$25=360),9999,IF($X$38=$X$39,1E-25,($U$12-$U$13)/($T$12-$T$13)))","v":585757529.2536931},null,null,null,null,null,null,null,null,null,null,null,null,null,null,null,null,null,null,null,null,null,null,null,null,null,null,"Total",null,null,null,{"$f":"SUM(BG10:BG39)","v":58.145173609416133},null,null,null,null,{"$f":"SUM($BL$10:$BL$39)","v":0},null,null,{"$f":"SUM($BO$10:$BO$39)","v":13.476575401477342}]
[null,null,null,null,null,null,null,null,null,null,null,null,null,null,null,null,null,null,"High Pt on Bottom","Yes",{"$f":"IF($T$41=\"No\",0,IF($U$13>$U$14,$T$13,$T$14-($G$22*$M$19*$M$17)))","v":39.0005249289948},{"$f":"IF($T$41=\"No\",0,$E$22)","v":32},32,{"$f":"IF($T$41=\"No\",0,IF($U$13>=$U$14,$U$13,$U$14-($G$22*$M$20)))","v":92.75000004996005},{"$f":"IF($T$41=\"\",\"\",IF($U$41<$B$14,(($U$41-$B$13)*$AB$31)+$C$13,IF($U$41<$B$15,(($U$41-$B$14)*$AB$32)+$C$14,IF($U$41<$B$16,(($U$41-$B$15)*$AB$33)+$C$15,IF($U$41<$B$17,(($U$41-$B$16)*$AB$34)+$C$16,IF($U$41<$B$18,(($U$41-$B$17)*$AB$35)+$C$17,IF($U$41<$B$19,(($U$41-$B$18)*$AB$36)+$C$18)))))))","v":97.744211724294061},null,null,null,null,null,null,null,null,null,null,null,null,null,null,null,null,null,null,null,"Average",{"$f":"IF(AT42=0,0,AVERAGE(AT45:AT245))","v":0.31715079873894603},{"$f":"IF(AU42=0,0,AVERAGE(AU45:AU245))","v":1.6963827143855266}]
[null,null,null,null,null,null,null,null,null,null,null,null,null,null,null,null,null,null,"Low Pt on Centerline","Yes",{"$f":"IF($T$42=\"No\",0,AVERAGE($U$38,$U$40))","v":70.301248154397172},0,0,{"$f":"IF($T$42=\"No\",0,AVERAGE($X$38,$X$40))","v":93.874999994109515},{"$f":"IF($T$42=\"\",\"\",IF($U$42<$B$14,(($U$42-$B$13)*$AB$31)+$C$13,IF($U$42<$B$15,(($U$42-$B$14)*$AB$32)+$C$14,IF($U$42<$B$16,(($U$42-$B$15)*$AB$33)+$C$15,IF($U$42<$B$17,(($U$42-$B$16)*$AB$34)+$C$16,IF($U$42<$B$18,(($U$42-$B$17)*$AB$35)+$C$17,IF($U$42<$B$19,(($U$42-$B$18)*$AB$36)+$C$18)))))))","v":93.784698708922235},null,null,null,null,null,null,null,null,null,"Log Partial Area Calculations",null,null,null,null,null,null,null,null,null,"Max",{"$f":"MAX(AT45:AT245)","v":0.62718445738052253},{"$f":"MAX(AU45:AU245)","v":2.7442116737925915},null,null,null,"Total","Total","Total","Total","Total",null,"Total",null,"Total","Total","Average",null,"Average","Average","Average","Average","Total","Total","Total","Average","Average"]
[null,null,null,null,null,null,null,null,null,null,null,null,null,null,null,null,null,null,"High Pt on Centerline","Yes",{"$f":"IF($T$42=\"No\",0,AVERAGE($U$39,$U$41))","v":39.00052493091539},{"$f":"IF($T$43=\"No\",0,$E$22)","v":32},32,{"$f":"IF($T$42=\"No\",0,AVERAGE($X$39,$X$41))","v":93.87500004996005},{"$f":"IF($T$43=\"\",\"\",IF($U$43<$B$14,(($U$43-$B$13)*$AB$31)+$C$13,IF($U$43<$B$15,(($U$43-$B$14)*$AB$32)+$C$14,IF($U$43<$B$16,(($U$43-$B$15)*$AB$33)+$C$15,IF($U$43<$B$17,(($U$43-$B$16)*$AB$34)+$C$16,IF($U$43<$B$18,(($U$43-$B$17)*$AB$35)+$C$17,IF($U$43<$B$19,(($U$43-$B$18)*$AB$36)+$C$18)))))))","v":97.744211724023359},null,null,null,null,null,null,null,null,null,"Log Parameters",null,null,null,null,null,null,"Soil Parameters",null,null,null,null,null,null,null,null,{"$f":"SUM(AY45:AY245)","v":21.040000000000013},{"$f":"SUM($AZ$45:$AZ$245)","v":0},{"$f":"SUM($BA$45:$BA$245)","v":4.1102743516567397},{"$f":"SUM($BB$45:$BB$245)","v":0},{"$f":"SUM($BC$45:$BC$245)","v":58.133028507881164},null,{"$f":"SUM($BE$45:$BE$245)","v":64.159664962270881},null,{"$f":"SUM($BG$45:$BG$245)","v":0},{"$f":"SUM($BH$45:$BH$245)","v":10.960000000000006},{"$f":"IF(SUM($BI$45:$BI$245)=0,0,AVERAGE($BI$45:$BI$245))","v":26.56},null,{"$f":"IF(SUM($BK$45:$BK$245)=0,0,AVERAGE($BK$45:$BK$245))","v":0},{"$f":"IF(SUM($BL$45:$BL$245)=0,0,AVERAGE($BL$45:$BL$245))","v":0},{"$f":"IF(SUM($BM$45:$BM$245)=0,0,AVERAGE($BM$45:$BM$245))","v":7.374999996396701},{"$f":"IF(SUM($BN$45:$BN$245)=0,0,AVERAGE($BN$45:$BN$245))","v":4.7035842868129701E-2},{"$f":"SUM(BO45:BO245)","v":32.000000000000021},{"$f":"SUM($BP$45:$BP$245)","v":16.72000000000001},{"$f":"SUM($BQ$45:$BQ$245)","v":15.28000000000001},{"$f":"IF(SUM($BR$45:$BR$245)=0,0,AVERAGE($BR$45:$BR$245))","v":16},{"$f":"IF(SUM($BS$45:$BS$245)=0,0,AVERAGE($BS$45:$BS$245))","v":10.48}]
[null,null,null,null,null,null,null,null,null,null,null,null,null,null,null,null,null,null,null,null,null,null,null,null,null,null,null,null,null,null,null,null,null,null,"Point","Distance","Zone","xcrown (ft)","ycrown (ft)","xbottom (ft)","ybottom (ft)","ysoil (ft)","db,dry,crown (ft)","db,sat,crown (ft)","db,crown (ft)","db,crown,bed (ft)","db,crown,bank (ft)","db,dry,bottom (ft)","db,sat,bottom (ft)","db,bottom (ft)","LT,em (ft)","Vbed,dry (ft3)","Vbed,sat (ft3)","Vbank,dry (ft3)","Vbank,sat (ft3)","hb,TS (ft)","ATSp,em (ft2)","dTSp,dry,em (ft)","ATSp,dry,em (ft2)","LT,ex (ft)","cD (ft)","hT↑bed,ex,wet (ft)","CL (ft)","cL (ft)","zT,CL↓WSE","CW","LTf,tot (ft)","LTf,bed (ft)","LTf,banks (ft)","cF (ft)","csoil (ft)"]
[null,null,null,null,null,null,null,null,null,null,null,null,null,null,null,null,null,null,null,null,null,"Log Crown and Soil Intercept",null,"Dist to Intercept","Intercept in Zone?","LW Buried?","Exposed Segment",null,null,"Large Wood Centerline",null,null,null,null,0,{"$f":"($AI45/$AI$245)*$AJ$245","v":0},{"$f":"IF(OR($C$19=\"\",$F$25=\"\",$G$25=\"\"),\"None\",IF(AL45<$B$14,\"Left Floodplain\",IF(AL45<$B$15,\"Left Bank\",IF(AL45<$B$16,\"Left Stream Bed\",IF(AL45<$B$17,\"Right Stream Bed\",IF(AL45<$B$18,\"Right Bank\",\"Right Floodplain\"))))))","v":"Left Bank"},{"$f":"MIN($U$38:$U$39)","v":39.00052493283598},{"$f":"IF($U$38<=$U$39,$X$38,$X$39)","v":95.00000004996005},{"$f":"MIN($U$40:$U$41)","v":39.0005249289948},{"$f":"IF($U$40<=$U$41,$X$40,$X$41)","v":92.75000004996005},{"$f":"IF($AL45<$B$14,(($AL45-$B$13)*$AB$31)+$C$13,IF($AL45<$B$15,(($AL45-$B$14)*$AB$32)+$C$14,IF($AL45<$B$16,(($AL45-$B$15)*$AB$33)+$C$15,IF($AL45<$B$17,(($AL45-$B$16)*$AB$34)+$C$16,IF($AL45<$B$18,(($AL45-$B$17)*$AB$35)+$C$17,IF($AL45<$B$19,(($AL45-$B$18)*$AB$36)+$C$18))))))","v":97.744211723752642},{"$f":"IF(OR($AP45<$AE$12,$AP45<=$AM45),0,IF(OR($AP45>=$AE$12,$AM45>=$AE$12),$AP45-$AM45-$AR45,$AP45-$AE$12))","v":0},{"$f":"IF($AP45<=$AM45,0,IF($AM45>=$AE$12,0,IF($AP45<=$AE$12,$AP45-$AM45,$AE$12-$AM45)))","v":2.7442116737925915},{"$f":"IF(AP45<=AM45,0,AP45-AM45)","v":2.7442116737925915},{"$f":"IF(OR($AS45=\"\",$AS45=0),\"\",IF(OR($AK45=\"Left Stream Bed\",$AK45=\"Right Stream Bed\"),$AS45,\"\"))","v":""},{"$f":"IF(OR($AS45=\"\",$AS45=0),\"\",IF(OR($AK45=\"Left Floodplain\",$AK45=\"Left Bank\",$AK45=\"Right Bank\",$AK45=\"Right Floodplain\"),$AS45,\"\"))","v":2.7442116737925915},{"$f":"IF(OR($AP45<$AE$12,$AP45<=$AO45),0,IF($AO45>=$AE$12,$AP45-$AO45,$AP45-$AE$12))","v":0},{"$f":"IF($AP45<=$AO45,0,IF($AO45>=$AE$12,0,IF($AP45<=$AE$12,$AP45-$AO45,$AE$12-$AO45)))","v":4.9942116737925915},{"$f":"IF(AP45<=AO45,0,AP45-AO45)","v":4.9942116737925915},{"$f":"IF($AS45=0,0,IF(OR($AJ45=0,$AJ45=$E$22),$AJ$46/2,$AJ$46))","v":0.08},{"$f":"IF(OR($AK45=\"Left Stream Bed\",$AK45=\"Right Stream Bed\"),$F$22*$AQ45*$AY45,0)","v":0},{"$f":"IF(OR($AK45=\"Left Stream Bed\",$AK45=\"Right Stream Bed\"),$F$22*$AR45*$AY45,0)","v":0},{"$f":"IF(OR($AK45=\"Left Floodplain\",$AK45=\"Left Bank\",$AK45=\"Right Bank\",$AK45=\"Right Floodplain\"),$F$22*$AQ45*$AY45,0)","v":0},{"$f":"IF(OR($AK45=\"Left Floodplain\",$AK45=\"Left Bank\",$AK45=\"Right Bank\",$AK45=\"Right Floodplain\"),$F$22*$AR45*$AY45,0)","v":0.49395810128266648},{"$f":"AX45-AS45","v":2.25},{"$f":"$BD45*$AJ$46*ABS($M$17)","v":0.35213313626417003},{"$f":"AV45-AQ45","v":0},{"$f":"IF(OR($AJ45=0,$AJ45=$E$22),($BF45*$AJ$46/2)*ABS($M$17),$BF45*$AJ$46*ABS($M$17))","v":0},{"$f":"IF(OR($AM45<$AP45,$AO45>$AE$8),\"\",IF(OR($AJ45=0,$AJ45=$E$22),$AJ$46/2,$AJ$46))","v":""},{"$f":"IF($BH45=\"\",\"\",IF($BH45>0,$AJ45,\"\"))","v":""},{"$f":"IF($BH45=\"\",\"\",IF(OR(($AO45-$AP45)<0,$AO$45>=$AE$8),0,($AO45-$AP45)))","v":""},{"$f":"IF($BJ45=\"\",\"\",IF(OR($BJ45>($F$22/2),$BJ45=0),0,0.45-($BJ45*0.45/($F$22/2))))","v":""},{"$f":"IF($BK45=\"\",\"\",IF($BK45>0,$AJ45,\"\"))","v":""},{"$f":"IF($BH45=\"\",\"\",IF(OR(($AM45-$AP45)<0,$AM45>=$AE$8),\"\",($AE$8-($AM45-(($F$22/2)/$M$19)))))","v":""},{"$f":"IF($BM45=\"\",\"\",(((PI()^2)/32)*($B$66^-6)*EXP(-($BM45/$F$22)/(2*($B$66^2)))))","v":""},{"$f":"IF($AO45=0,0,IF($AO45>$AP45,0,IF(OR($AJ45=0,$AJ45=$E$22),$AJ$46/2,$AJ$46)))","v":0.08},{"$f":"IF(AND($BO45>0,OR($AK45=\"Left Stream Bed\",$AK45=\"Right Stream Bed\")),$BO45,0)","v":0},{"$f":"IF(AND($BO45>0,OR($AK45=\"Left Floodplain\",$AK45=\"Left Bank\",$AK45=\"Right Bank\",$AK45=\"Right Floodplain\")),$BO45,0)","v":0.08},{"$f":"IF($BO45>0,$AJ45,\"\")","v":0},{"$f":"IF($AY45>0,$AJ45,\"\")","v":0}]
[null,null,null,null,null,null,null,null,null,null,null,null,null,null,null,null,null,null,null,"Zone L (ft)","Log L (ft)","xcrown (ft)","ycrown (ft)",null,null,null,null,"Lem,crown (ft)",null,null,"x (ft)","y (ft)",null,null,1,{"$f":"($AI46/$AI$245)*$AJ$245","v":0.16},"Left Bank",{"$f":"$AL$45+ABS(AJ46*$M$19*$M$17)","v":39.157028548953392},{"$f":"AM45+((AL46-AL45)*$AA$40)","v":95.000000049680793},{"$f":"$AN$45+ABS(AJ46*$M$19*$M$17)","v":39.157028545112212},{"$f":"AO45+((AN46-AN45)*$AA$40)","v":92.750000049680793},{"$f":"IF($AL46<$B$14,(($AL46-$B$13)*$AB$31)+$C$13,IF($AL46<$B$15,(($AL46-$B$14)*$AB$32)+$C$14,IF($AL46<$B$16,(($AL46-$B$15)*$AB$33)+$C$15,IF($AL46<$B$17,(($AL46-$B$16)*$AB$34)+$C$16,IF($AL46<$B$18,(($AL46-$B$17)*$AB$35)+$C$17,IF($AL46<$B$19,(($AL46-$B$18)*$AB$36)+$C$18))))))","v":97.722152166433233},0,2.7221521167524401,{"$f":"IF(AP46<=AM46,0,AP46-AM46)","v":2.7221521167524401},{"$f":"IF(OR($AS46=\"\",$AS46=0),\"\",IF(OR($AK46=\"Left Stream Bed\",$AK46=\"Right Stream Bed\"),$AS46,\"\"))","v":""},{"$f":"IF(OR($AS46=\"\",$AS46=0),\"\",IF(OR($AK46=\"Left Floodplain\",$AK46=\"Left Bank\",$AK46=\"Right Bank\",$AK46=\"Right Floodplain\"),$AS46,\"\"))","v":2.7221521167524401},{"$f":"IF(OR($AP46<$AE$12,$AP46<=$AO46),0,IF($AO46>=$AE$12,$AP46-$AO46,$AP46-$AE$12))","v":0},4.9721521167524401,4.9721521167524401,0.16,0,0,0,0.97997476203087841,2.25,{"$f":"$BD46*$AJ$46*ABS($M$17)","v":0.35213313626417003},{"$f":"AV46-AQ46","v":0},0,"",{"$f":"IF($BH46=\"\",\"\",IF($BH46>0,$AJ46,\"\"))","v":""},{"$f":"IF($BH46=\"\",\"\",IF(OR(($AO46-$AP46)<0,$AO$45>=$AE$8),0,($AO46-$AP46)))","v":""},"","",{"$f":"IF($BH46=\"\",\"\",IF(OR(($AM46-$AP46)<0,$AM46>=$AE$8),\"\",($AE$8-($AM46-(($F$22/2)/$M$19)))))","v":""},{"$f":"IF($BM46=\"\",\"\",(((PI()^2)/32)*($B$66^-6)*EXP(-($BM46/$F$22)/(2*($B$66^2)))))","v":""},0.16,0,0.16,0.16,{"$f":"IF($AY46>0,$AJ46,\"\")","v":0.16}]
[null,null,null,null,null,null,null,null,null,null,null,null,null,null,null,null,null,null,"LB Floodplain",{"$f":"($B$14-$B$13)/ABS($M$17)/ABS($M$19)","v":33.737239630545965},{"$f":"IF(MAX($U$38:$U$39)<=$B$14,$E$22,IF($T$32=\"No\",0,$E$22-$W$32))","v":0},{"$f":"IF($U$47=0,0,IF(OR($B$25=0,$B$25=180,$B$25=360),$U$38,$U$32+(($X$32-$C$14)/($AB$31-$AA$40))))","v":0},{"$f":"IF($U$47=0,0,IF(OR($B$25=0,$B$25=180,$B$25=360),(($U$38-$B$13)*$AB$31)+$C$13,$X$32+(($V$47-$U$32)*$AA$40)))","v":0},{"$f":"IF($U$47=0,0,IF(OR($B$25=0,$B$25=180,$B$25=360),$E$22-ABS(($X$39-$W$47)/$M$20),IF(AND($U$38<=$U$39,$X$38>=$Y$38),ABS(($X$38-$W$47)/($AA$40*$M$17*$M$19)),IF(AND($U$38<=$U$39,$X$38<$Y$38),ABS($E$22-(ABS(($X$38-$W$47)/($AA$40*$M$17*$M$19)))),IF(AND($U$38>$U$39,$X$39>=$Y$39),ABS(($X$39-$W$47)/($AA$40*$M$17*$M$19)),IF(AND($U$38>=$U$39,$X$39<$Y$39),ABS($E$22-(ABS(($X$38-$W$47)/($AA$40*$M$17*$M$19))))))))))","v":0},{"$f":"IF(AND($U$47=0,$W$47=0),\"No\",IF(AND($V$47<=$B$14,$V$47>=$B$13,$V$47>=MIN($U$38:$U$39),$V$47<=MAX($U$38:$U$39),$W$47<$C$13,$X$47<=$E$22),\"Yes\",\"No\"))","v":"No"},{"$f":"IF($U$47=0,\"No\",IF($Y$47=\"Yes\",\"Partial\",IF(AND($U$47<$E$22,$X$39<$Y$39,$Y$47=\"No\",$Y$48=\"No\",$Y$49=\"No\",$Y$50=\"No\",$Y$51=\"No\",$Y$52=\"No\"),\"Yes\",IF(AND($Y$47=\"No\",$X$32>$Y$32),\"No\",\"Yes\"))))","v":"No"},{"$f":"IF($Z$47=\"Yes\",\"None\",IF(AND($Z$47=\"No\",$U$47=0),\"None\",IF($Z$47=\"No\",\"All\",IF(AND($X$39>=$Y$39,$U$39<=$U$38),\"Left\",\"Right\"))))","v":"None"},{"$f":"IF($U$47=0,0,IF($Z$47=\"No\",0,IF($Z$47=\"Yes\",$U$47,IF(OR($AA$47=\"Left\",$U$47=$E$22),$U$47-(ABS(($U$39-$V$47)/($M$17*$M$19))),$U$47-(ABS(($V$47-$B$14)/($M$17*$M$19)))))))","v":0},null,"Rootwad",{"$f":"AVERAGE(T10,T15)","v":70.301248154397172},{"$f":"AVERAGE(U10,U15)","v":93.874999994109515},null,null,2,0.32,"Left Bank",{"$f":"$AL$45+ABS(AJ47*$M$19*$M$17)","v":39.313532165070797},{"$f":"AM46+((AL47-AL46)*$AA$40)","v":95.000000049401535},39.313532161229617,{"$f":"AO46+((AN47-AN46)*$AA$40)","v":92.750000049401535},{"$f":"IF($AL47<$B$14,(($AL47-$B$13)*$AB$31)+$C$13,IF($AL47<$B$15,(($AL47-$B$14)*$AB$32)+$C$14,IF($AL47<$B$16,(($AL47-$B$15)*$AB$33)+$C$15,IF($AL47<$B$17,(($AL47-$B$16)*$AB$34)+$C$16,IF($AL47<$B$18,(($AL47-$B$17)*$AB$35)+$C$17,IF($AL47<$B$19,(($AL47-$B$18)*$AB$36)+$C$18))))))","v":97.700092609113838},0,2.7000925597123029,2.7000925597123029,"",2.7000925597123029,0,4.9500925597123029,4.9500925597123029,0.16,0,0,0,0.97203332149642907,2.25,0.35213313626417003,0,0,"","","","","","",{"$f":"IF($BM47=\"\",\"\",(((PI()^2)/32)*($B$66^-6)*EXP(-($BM47/$F$22)/(2*($B$66^2)))))","v":""},0.16,0,0.16,0.32,0.32]
[{"$f":"IF($A$6=\"\",\"\",$A$6)","v":"Sample1"},{"$f":"IF($A$6=\"\",\"\",$B$6)","v":"Flow Deflection"},null,{"$f":"IF(OR($B$9=\"N/A\",$B$9=\"\"),\"\",$B$9)","v":"Key Log"},{"$f":"IF($D$48=\"\",\"\",\"Log ID\")","v":"Log ID"},{"$f":"IF($D$48=\"\",\"\",$C$9)","v":"Foot#2"},null,null,null,"Page 2",null,null,null,null,null,null,null,null,"Left Bank",{"$f":"($B$15-$B$14)/ABS($M$17)/ABS($M$19)","v":21.469152492165613},{"$f":"IF(AND(MIN($U$38:$U$39)>=$B$14,MAX($U$38:$U$39)<=$B$15),$E$22,IF(AND($T$33=\"No\",$T$32=\"No\"),0,$E$22-$W$33-$U$47))","v":15.334572262827642},{"$f":"IF($U$48=0,0,IF(OR($B$25=0,$B$25=180,$B$25=360),$U$38,$U$33+(($C$15-$X$33)/($AA$40-$AB$32))))","v":58.469594486607811},{"$f":"IF($U$48=0,0,IF(OR($B$25=0,$B$25=180,$B$25=360),(($U$38-$B$14)*$AB$32)+$C$14,$X$33+(($V$48-$U$33)*$AA$40)))","v":95.000000015220991},{"$f":"IF($U$48=0,0,IF(OR($B$25=0,$B$25=180,$B$25=360),$E$22-ABS(($X$39-$W$48)/$M$20),IF(AND($U$38<=$U$39,$X$38>=$Y$38),ABS(($X$38-$W$48)/($AA$40*$M$17*$M$19)),IF(AND($U$38<=$U$39,$X$38<$Y$38),ABS($E$22-(ABS(($X$38-$W$48)/($AA$40*$M$17*$M$19)))),IF(AND($U$38>$U$39,$X$39>=$Y$39),ABS(($X$39-$W$48)/($AA$40*$M$17*$M$19)),IF(AND($U$38>=$U$39,$X$39<$Y$39),ABS($E$22-(ABS(($X$38-$W$48)/($AA$40*$M$17*$M$19))))))))))","v":19.904015813968833},{"$f":"IF(AND($U$48=0,$W$48=0),\"No\",IF(AND($V$48<=$B$15,$V$48>=$B$14,$V$48>=MIN($U$38:$U$39),$V$48<=MAX($U$38:$U$39),$W$48<$C$14,$X$48<=$E$22),\"Yes\",\"No\"))","v":"No"},{"$f":"IF($U$48=0,\"No\",IF($Y$48=\"Yes\",\"Partial\",IF(AND($U$48<$E$22,$X$39<$Y$39,$Y$47=\"No\",$Y$48=\"No\",$Y$49=\"No\",$Y$50=\"No\",$Y$51=\"No\",$Y$52=\"No\"),\"Yes\",IF(AND($Y$48=\"No\",$X$33>$Y$33),\"No\",\"Yes\"))))","v":"Yes"},{"$f":"IF($Z$48=\"Yes\",\"None\",IF(AND($Z$48=\"No\",$U$48=0),\"None\",IF($Z$48=\"No\",\"All\",IF(AND($X$39>=$Y$39,$U$39<=$U$38,$AA$47<>\"Left\"),\"Left\",\"Right\"))))","v":"None"},{"$f":"IF($U$48=0,0,IF($Z$48=\"No\",0,IF($Z$48=\"Yes\",$U$48,IF(OR($U$48=$E$22,AND($AA$48=\"Left\",MIN($U$38:$U$39)>=$B$14,MAX($U$38:$U$39)>=$B$15)),$U$48-(ABS(($U$39-$V$48)/($M$17*$M$19))),IF($AA$48=\"Left\",$U$48-(ABS(($B$14-$V$48)/($M$17*$M$19))),IF(MAX($U$38:$U$39)>=$B$15,$U$48-(ABS(($V$48-$B$15)/($M$17*$M$19))),ABS(($V$48-$B$14)/($M$17*$M$19))))))))","v":15.334572262827642},null,"Root collar",{"$f":"AVERAGE(T11,T14)","v":67.000000001920583},{"$f":"AVERAGE(U11,U14)","v":93.875},null,null,3,0.48,"Left Bank",{"$f":"$AL$45+ABS(AJ48*$M$19*$M$17)","v":39.470035781188209},95.000000049122278,39.470035777347029,92.750000049122278,97.678033051794429,0,2.6780330026721515,2.6780330026721515,"",2.6780330026721515,0,4.9280330026721515,4.9280330026721515,0.16,0,0,0,0.96409188096197451,2.25,0.35213313626417003,0,0,"","","","","","","",0.16,0,0.16,0.48,0.48]
["Vertical Force Analysis",null,null,null,null,null,null,null,null,null,null,null,null,null,null,null,null,null,"Left Stream Bed",{"$f":"($B$16-$B$15)/ABS($M$17)/ABS($M$19)","v":25.558514871625732},{"$f":"IF(AND(MIN($U$38:$U$39)>=$B$15,MAX($U$38:$U$39)<=$B$16),$E$22,IF(AND($T$34=\"No\",$T$33=\"No\"),0,IF(AND($T$33=\"Yes\",$T$34=\"No\"),$E$22-$U$48-$U$47,IF(AND($T$33=\"Yes\",$T$34=\"Yes\",$T$36=\"No\"),$E$22-$U$50-$U$48-$U$47,IF(AND($T$33=\"Yes\",$T$34=\"Yes\",$T$36=\"Yes\"),$E$22-$U$52-$U$51-$U$50-$U$48-$U$47,$E$22-$U$52-$U$51-$U$50)))))","v":16.665427737172358},{"$f":"IF($U$49=0,0,IF(OR($B$25=0,$B$25=180,$B$25=360),$U$38,$U$34+(($C$16-$X$34)/($AA$40-$AB$33))))","v":59.565370907546196},{"$f":"IF($U$49=0,0,IF(OR($B$25=0,$B$25=180,$B$25=360),(($U$38-$B$15)*$AB$33)+$C$15,$X$34+(($V$49-$U$34)*$AA$40)))","v":95.000000013265762},{"$f":"IF(OR($U$49=0,AND($C$25=0,$B$25=0),AND($C$25=0,$B$25=360),AND($C$25=0,$B$25=180)),0,IF(OR($B$25=0,$B$25=180,$B$25=360),$E$22-ABS(($X$39-$W$49)/$M$20),IF(AND($U$38<=$U$39,$X$38>=$Y$38),ABS(($X$38-$W$49)/($AA$40*$M$17*$M$19)),IF(AND($U$38<=$U$39,$X$38<$Y$38),ABS($E$22-(ABS(($X$38-$W$49)/($AA$40*$M$17*$M$19)))),IF(AND($U$38>$U$39,$X$39>=$Y$39),ABS(($X$39-$W$49)/($AA$40*$M$17*$M$19)),IF(AND($U$38>=$U$39,$X$39<$Y$39),ABS($E$22-(ABS(($X$38-$W$49)/($AA$40*$M$17*$M$19))))))))))","v":21.024279424204963},{"$f":"IF(AND($U$49=0,$W$49=0),\"No\",IF(AND($V$49<=$B$16,$V$49>=$B$15,$V$49>=MIN($U$38:$U$39),$V$49<=MAX($U$38:$U$39),$W$49<$C$15,$X$49<=$E$22),\"Yes\",\"No\"))","v":"Yes"},{"$f":"IF($U$49=0,\"No\",IF($Y$49=\"Yes\",\"Partial\",IF(AND($U$49<$E$22,$X$39<$Y$39,$Y$47=\"No\",$Y$48=\"No\",$Y$49=\"No\",$Y$50=\"No\",$Y$51=\"No\",$Y$52=\"No\"),\"Yes\",IF(AND($Y$49=\"No\",$X$34>$Y$34),\"No\",\"Yes\"))))","v":"Partial"},{"$f":"IF($Z$49=\"Yes\",\"None\",IF(AND($Z$49=\"No\",$U$49=0),\"None\",IF($Z$49=\"No\",\"All\",IF(AND($X$39>=$Y$39,$U$39<=$U$38,$AA$48<>\"Left\"),\"Left\",\"Right\"))))","v":"Right"},{"$f":"IF($U$49=0,0,IF($Z$49=\"No\",0,IF($Z$49=\"Yes\",$U$49,IF(OR($U$49=$E$22,AND($AA$49=\"Left\",MIN($U$38:$U$39)>=$B$15,MAX($U$38:$U$39)>=$B$16)),$U$49-(ABS(($U$39-$V$49)/($M$17*$M$19))),IF($AA$49=\"Left\",$U$49-(ABS(($B$15-$V$49)/($M$17*$M$19))),IF(MAX($U$38:$U$39)>=$B$16,$U$49-(ABS(($V$49-$B$16)/($M$17*$M$19))),ABS(($V$49-$B$15)/($M$17*$M$19))))))))","v":5.6897046042653061},null,"Stem tip",{"$f":"AVERAGE(T12,T13)","v":39.00052493091539},{"$f":"AVERAGE(U12,U13)","v":93.87500004996005},null,null,4,0.64,"Left Bank",39.626539397305613,95.00000004884302,39.626539393464434,92.75000004884302,97.65597349447502,0,2.6559734456320001,2.6559734456320001,"",2.6559734456320001,0,4.9059734456320001,4.9059734456320001,0.16,0,0,0,0.95615044042752007,2.25,0.35213313626417003,0,0,"","","","","","","",0.16,0,0.16,0.64,0.64]
["Net Buoyancy Force",null,null,null,null,null,null,"Lift Force",null,null,null,null,null,null,null,null,null,null,"Right Stream Bed",{"$f":"($B$17-$B$16)/ABS($M$17)/ABS($M$19)","v":29.647877251085848},{"$f":"IF(AND(MIN($U$38:$U$39)>=$B$16,MAX($U$38:$U$39)<=$B$17),$E$22,IF(AND($T$35=\"No\",$T$36=\"No\"),0,IF(AND($T$36=\"Yes\",$T$35=\"No\"),$E$22-$U$51-$U$52,IF(AND($T$36=\"Yes\",$T$35=\"Yes\"),$E$22-$W$35-$U$51-$U$52,$E$22-$W$35))))","v":0},{"$f":"IF($U$50=0,0,IF(OR($B$25=0,$B$25=180,$B$25=360),$U$38,$U$35+(($X$35-$C$16)/($AB$34-$AA$40))))","v":0},{"$f":"IF($U$50=0,0,IF(OR($B$25=0,$B$25=180,$B$25=360),(($U$38-$B$16)*$AB$34)+$C$16,$X$35+(($V$50-$U$35)*$AA$40)))","v":0},{"$f":"IF(OR($U$50=0,AND($C$25=0,$B$25=0),AND($C$25=0,$B$25=360),AND($C$25=0,$B$25=180)),0,IF(OR($B$25=0,$B$25=180,$B$25=360),$E$22-ABS(($X$39-$W$50)/$M$20),IF(AND($U$38<=$U$39,$X$38>=$Y$38),ABS(($X$38-$W$50)/($AA$40*$M$17*$M$19)),IF(AND($U$38<=$U$39,$X$38<$Y$38),ABS($E$22-(ABS(($X$38-$W$50)/($AA$40*$M$17*$M$19)))),IF(AND($U$38>$U$39,$X$39>=$Y$39),ABS(($X$39-$W$50)/($AA$40*$M$17*$M$19)),IF(AND($U$38>=$U$39,$X$39<$Y$39),ABS($E$22-(ABS(($X$38-$W$50)/($AA$40*$M$17*$M$19))))))))))","v":0},{"$f":"IF(AND($U$50=0,$W$50=0),\"No\",IF(AND($V$50<=$B$17,$V$50>=$B$16,$V$50>=MIN($U$38:$U$39),$V$50<=MAX($U$38:$U$39),$W$50<$C$17,$X$50<=$E$22),\"Yes\",\"No\"))","v":"No"},{"$f":"IF($U$50=0,\"No\",IF($Y$50=\"Yes\",\"Partial\",IF(AND($U$50<$E$22,$X$39<$Y$39,$Y$47=\"No\",$Y$48=\"No\",$Y$49=\"No\",$Y$50=\"No\",$Y$51=\"No\",$Y$52=\"No\"),\"Yes\",IF(AND($Y$50=\"No\",$X$35>$Y$35),\"No\",\"Yes\"))))","v":"No"},{"$f":"IF($Z$50=\"Yes\",\"None\",IF(AND($Z$50=\"No\",$U$50=0),\"None\",IF($Z$50=\"No\",\"All\",IF(AND($X$39>=$Y$39,$U$39>=$U$38,$AA$51<>\"Right\"),\"Right\",\"Left\"))))","v":"None"},{"$f":"IF($U$50=0,0,IF($Z$50=\"No\",0,IF($Z$50=\"Yes\",$U$50,IF(OR($U$50=$E$22,AND($AA$50=\"Right\",MIN($U$38:$U$39)<=$B$16,MAX($U$38:$U$39)<=$B$17)),$U$50-(ABS(($U$39-$V$50)/($M$17*$M$19))),IF($AA$50=\"Right\",$U$50-(ABS(($B$17-$V$50)/($M$17*$M$19))),IF(MIN($U$38:$U$39)<=$B$16,$U$50-(ABS(($V$50-$B$16)/($M$17*$M$19))),ABS(($V$50-$B$17)/($M$17*$M$19))))))))","v":0},null,null,null,null,null,null,5,0.8,"Left Bank",39.783043013423026,95.000000048563763,39.783043009581846,92.750000048563763,97.633913937155612,0,2.6339138885918487,2.6339138885918487,"",2.6339138885918487,0,4.8839138885918487,4.8839138885918487,0.16,0,0,0,0.94820899989306551,2.25,0.35213313626417003,0,0,"","","","","","","",0.16,0,0.16,0.8,0.8]
["Wood","VTS (ft3)","VRW (ft3)","VT (ft3)","WT (lbf)","FB (lbf)",null,"CLT",{"$f":"$BK$43","v":0},null,null,null,null,{"$f":"IF(OR($D$22=\"\",$D$22=\"No\"),\"\",\"Rootwad Position\")","v":"Rootwad Position"},null,null,null,null,"Right Bank",{"$f":"($B$18-$B$17)/ABS($M$17)/ABS($M$19)","v":19.424471302435556},{"$f":"IF(AND(MIN($U$38:$U$39)>=$B$17,MAX($U$38:$U$39)<=$B$18),$E$22,IF(AND($T$36=\"No\",$T$37=\"No\"),0,$E$22-$W$36-$U$52))","v":0},{"$f":"IF($U$51=0,0,IF(OR($B$25=0,$B$25=180,$B$25=360),$U$38,$U$36+(($X$36-$C$17)/($AB$35-$AA$40))))","v":0},{"$f":"IF($U$51=0,0,IF(OR($B$25=0,$B$25=180,$B$25=360),(($U$38-$B$17)*$AB$35)+$C$17,$X$36+(($V$51-$U$36)*$AA$40)))","v":0},{"$f":"IF($U$51=0,0,IF(OR($B$25=0,$B$25=180,$B$25=360),$E$22-ABS(($X$39-$W$51)/$M$20),IF(AND($U$38<=$U$39,$X$38>=$Y$38),ABS(($X$38-$W$51)/($AA$40*$M$17*$M$19)),IF(AND($U$38<=$U$39,$X$38<$Y$38),ABS($E$22-(ABS(($X$38-$W$51)/($AA$40*$M$17*$M$19)))),IF(AND($U$38>$U$39,$X$39>=$Y$39),ABS(($X$39-$W$51)/($AA$40*$M$17*$M$19)),IF(AND($U$38>=$U$39,$X$39<$Y$39),ABS($E$22-(ABS(($X$38-$W$51)/($AA$40*$M$17*$M$19))))))))))","v":0},{"$f":"IF(AND($U$51=0,$W$51=0),\"No\",IF(AND($V$51<=$B$18,$V$51>=$B$17,$V$51>=MIN($U$38:$U$39),$V$51<=MAX($U$38:$U$39),$W$51<$C$18,$X$51<=$E$22),\"Yes\",\"No\"))","v":"No"},{"$f":"IF($U$51=0,\"No\",IF($Y$51=\"Yes\",\"Partial\",IF(AND($U$51<$E$22,$X$39<$Y$39,$Y$47=\"No\",$Y$48=\"No\",$Y$49=\"No\",$Y$50=\"No\",$Y$51=\"No\",$Y$52=\"No\"),\"Yes\",IF(AND($Y$51=\"No\",$X$36>$Y$36),\"No\",\"Yes\"))))","v":"No"},{"$f":"IF($Z$51=\"Yes\",\"None\",IF(AND($Z$51=\"No\",$U$51=0),\"None\",IF($Z$51=\"No\",\"All\",IF(AND($X$39>=$Y$39,$U$39>=$U$38,$AA$52<>\"Right\"),\"Right\",\"Left\"))))","v":"None"},{"$f":"IF($U$51=0,0,IF($Z$51=\"No\",0,IF($Z$51=\"Yes\",$U$51,IF(OR($U$51=$E$22,AND($AA$51=\"Right\",MIN($U$38:$U$39)<=$B$17,MAX($U$38:$U$39)<=$B$18)),$U$51-(ABS(($U$39-$V$51)/($M$17*$M$19))),IF($AA$51=\"Right\",$U$51-(ABS(($B$18-$V$51)/($M$17*$M$19))),IF(MIN($U$38:$U$39)<=$B$17,$U$51-(ABS(($V$51-$B$17)/($M$17*$M$19))),ABS(($V$51-$B$18)/($M$17*$M$19))))))))","v":0},null,null,null,null,null,null,6,0.96,"Left Bank",39.93954662954043,95.000000048284505,39.939546625699251,92.750000048284505,97.611854379836203,0,2.6118543315516973,2.6118543315516973,"",2.6118543315516973,0,4.8618543315516973,4.8618543315516973,0.16,0,0,0,0.94026755935861106,2.25,0.35213313626417003,0,0,"","","","","","","",0.16,0,0.16,0.96,0.96]
["↑WSE",{"$f":"IF(OR($E$22=\"\",$F$22=\"\"),0,IF($AH$17=\"Case 1\",$AL$17-$AJ$21,IF($AH$17=\"Case 2\",$AL$17-$AJ$26,IF($AH$17=\"Case 3\",$AL$17-$AJ$30,IF($AH$17=\"Case 4\",$AL$17-$AJ$37,IF($AH$17=\"Log is completely submerged\",0,IF($AH$17=\"Stem is dry\",PI()*(($F$22/2)^2)*($E$22-$G$22),\"\")))))))","v":0},{"$f":"IF(OR($E$22=\"\",$F$22=\"\",$D$22=\"No\",$D$22=\"\"),0,$BL$40*(1-RWporosity))","v":0},{"$f":"B52+C52","v":0},{"$f":"IF($I$22=\"\",0,($B$52*$I$22)+($C$52*$I$22))","v":0},0,null,"FL (lbf)",{"$f":"IF($J$6=\"\",0,$I$51*$J$25*SWWater*(($J$6^2)/(2*g)))","v":0},null,null,null,null,{"$f":"IF($D$22=\"\",\"\",IF($D$22=\"No\",\"No Rootwad\",IF($U$15>=$AE$8,\"Above high water\",IF($U$10<=$C$16,\"Buried in bed\",IF(OR($AE$48<=$B$14,$AE$48>=$B$18),\"On bank/buried in bank\",\"Exposed in stream\")))))","v":"Exposed in stream"},null,null,null,null,"RB Floodplain",{"$f":"($B$19-$B$18)/ABS($M$17)/ABS($M$19)","v":23.513833681895672},{"$f":"IF(MIN($U$38:$U$39)>=$B$18,$E$22,IF($T$37=\"No\",0,$E$22-$W$37))","v":0},{"$f":"IF($U$52=0,0,IF(OR($B$25=0,$B$25=180,$B$25=360),$U$38,$U$37+(($X$37-$C$18)/($AB$36-$AA$40))))","v":0},{"$f":"IF($U$52=0,0,IF(OR($B$25=0,$B$25=180,$B$25=360),(($U$38-$B$18)*$AB$36)+$C$18,$X$37+(($V$52-$U$37)*$AA$40)))","v":0},{"$f":"IF($U$52=0,0,IF(OR($B$25=0,$B$25=180,$B$25=360),$E$22-ABS(($X$39-$W$52)/$M$20),IF(AND($U$38<=$U$39,$X$38>=$Y$38),ABS(($X$38-$W$52)/($AA$40*$M$17*$M$19)),IF(AND($U$38<=$U$39,$X$38<$Y$38),ABS($E$22-(ABS(($X$38-$W$52)/($AA$40*$M$17*$M$19)))),IF(AND($U$38>$U$39,$X$39>=$Y$39),ABS(($X$39-$W$52)/($AA$40*$M$17*$M$19)),IF(AND($U$38>=$U$39,$X$39<$Y$39),ABS($E$22-(ABS(($X$38-$W$52)/($AA$40*$M$17*$M$19))))))))))","v":0},{"$f":"IF(AND($U$52=0,$W$52=0),\"No\",IF(AND($V$52<=$B$19,$V$52>=$B$18,$V$52>=MIN($U$38:$U$39),$V$52<=MAX($U$38:$U$39),$W$52<$C$19,$X$52<=$E$22),\"Yes\",\"No\"))","v":"No"},{"$f":"IF($U$52=0,\"No\",IF($Y$52=\"Yes\",\"Partial\",IF(AND($U$52<$E$22,$X$39<$Y$39,$Y$47=\"No\",$Y$48=\"No\",$Y$49=\"No\",$Y$50=\"No\",$Y$51=\"No\",$Y$52=\"No\"),\"Yes\",IF(AND($Y$52=\"No\",$X$37>$Y$37),\"No\",\"Yes\"))))","v":"No"},{"$f":"IF($Z$52=\"Yes\",\"None\",IF(AND($Z$52=\"No\",$U$52=0),\"None\",IF($Z$52=\"No\",\"All\",IF(AND($X$39>=$Y$39,$U$39>=$U$38),\"Right\",\"Left\"))))","v":"None"},{"$f":"IF($U$52=0,0,IF($Z$52=\"No\",0,IF($Z$52=\"Yes\",$U$52,IF(OR($AA$52=\"Right\",$U$52=$E$22),$U$52-(ABS(($U$39-$V$52)/($M$17*$M$19))),$U$52-(ABS(($V$52-$B$18)/($M$17*$M$19)))))))","v":0},null,null,null,null,null,null,7,1.1200000000000001,"Left Bank",40.096050245657842,95.000000048005248,40.096050241816663,92.750000048005248,97.589794822516794,0,2.5897947745115459,2.5897947745115459,"",2.5897947745115459,0,4.8397947745115459,4.8397947745115459,0.16,0,0,0,0.9323261188241565,2.25,0.35213313626417003,0,0,"","","","","","","",0.16,0,0.16,1.1200000000000001,1.1200000000000001]
["↓WS↑Thw",{"$f":"IF(OR($E$22=\"\",$F$22=\"\"),0,IF(AND(MIN($U$10:$U$15)>=$C$16,MAX($U$10:$U$15)<=$AE$8),PI()*(($F$22/2)^2)*($E$22-$G$22),(PI()*(($F$22/2)^2)*($E$22-$G$22))-$B$52-$B$54))","v":113.17944879798145},{"$f":"IF(OR($F$22=\"\",$D$22=\"No\"),0,((1/3)*PI()*(($H$22/2)^2+($F$22/2)^2+(($H$22/2)*($F$22/2)))*$G$22*(1-RWporosity))-$C$52-$C$54)","v":35.738854644553236},{"$f":"B53+C53","v":148.91830344253469},{"$f":"IF($I$22=\"\",0,($B$53*$I$22)+($C$53*$I$22))","v":5203.8011954959329},{"$f":"($D$53*SWWater)","v":9292.5021348141654},null,"Vertical Force Balance",null,null,null,"Formatting",null,null,null,null,null,null,null,"L check",{"$f":"SUM(U47:U52)","v":32},{"$f":"IF($U$53=$E$22,\"OK\",\"ERROR\")","v":"OK"},null,null,null,null,"Total",{"$f":"SUM(AB47:AB52)","v":21.024276867092947},null,null,null,null,null,null,8,1.28,"Left Bank",40.252553861775247,95.00000004772599,40.252553857934068,92.75000004772599,97.567735265197399,0,2.5677352174714088,2.5677352174714088,"",2.5677352174714088,0,4.8177352174714088,4.8177352174714088,0.16,0,0,0,0.92438467828970716,2.25,0.35213313626417003,0,0,"","","","","","","",0.16,0,0.16,1.28,1.28]
["↓Thalweg",{"$f":"IF(OR($E$22=\"\",$F$22=\"\"),0,IF($AS$17=\"Case 1\",$AU$21,IF($AS$17=\"Case 2\",$AU$26,IF($AS$17=\"Case 3\",$AU$30,IF($AS$17=\"Case 4\",$AU$37,IF($AS$17=\"Log is completely submerged\",PI()*(($F$22/2)^2)*($E$22-$G$22),IF($AS$17=\"Stem is dry\",0,\"\")))))))","v":0.63578973998157384},{"$f":"IF(OR($E$22=\"\",$F$22=\"\",$D$22=\"No\",$D$22=\"\"),0,$BO$40*(1-RWporosity))","v":10.781260321181875},{"$f":"B54+C54","v":11.417050061163449},{"$f":"IF($J$22=\"\",0,($B$54*$J$22)+($C$54*$J$22))","v":445.2649523853745},{"$f":"($D$54*SWWater)","v":712.4239238165992},null,"FB (lbf)",{"$f":"$F$55","v":10004.926058630765},{"$f":"IF($L54=0,\"\",IF($L54>0,CHAR(233),CHAR(234)))","v":"é"},null,{"$f":"$F$55","v":10004.926058630765},null,"check:",{"$f":"IF(OR($D$22=\"\",$B$25=\"\",$N$52=\"\"),\"\",IF($D$22=\"No\",\"use CD stem\",IF(AND($D$22=\"Yes\",$N$52=\"Exposed in stream\"),\"use CD RW\",\"use CD stem\")))","v":"use CD RW"},null,null,null,null,null,null,null,null,null,null,null,null,null,null,null,null,null,null,null,9,1.44,"Left Bank",40.409057477892659,95.000000047446733,40.40905747405148,92.750000047446733,97.54567570787799,0,2.5456756604312574,2.5456756604312574,"",2.5456756604312574,0,4.7956756604312574,4.7956756604312574,0.16,0,0,0,0.91644323775525272,2.25,0.35213313626417003,0,0,"","","","","","","",0.16,0,0.16,1.44,1.44]
["Total",{"$f":"$B$52+$B$53+$B$54","v":113.81523853796303},{"$f":"$C$52+$C$53+$C$54","v":46.520114965735111},{"$f":"$D$52+$D$53+$D$54","v":160.33535350369814},{"$f":"$E$52+$E$53+$E$54","v":5649.0661478813072},{"$f":"$F$53+$F$54+$F$52","v":10004.926058630765},null,"FL (lbf)",{"$f":"$I$52","v":0},"",null,{"$f":"$I$52","v":0},null,"CDi for Stem Only (i.e., RW is not in contact with streamflow)",null,null,null,null,"Coordinates of Large Wood Bottom at Key Points",null,null,null,null,null,null,null,null,null,null,null,null,null,null,null,10,1.6,"Left Bank",40.565561094010071,95.000000047167475,40.565561090168892,92.750000047167475,97.523616150558581,0,2.523616103391106,2.523616103391106,"",2.523616103391106,0,4.773616103391106,4.773616103391106,0.16,0,0,0,0.90850179722079816,2.25,0.35213313626417003,0,0,"","","","","","","",0.16,0,0.16,1.6,1.6]
[null,null,null,null,null,null,null,"WT (lbf)",{"$f":"$E$55","v":5649.0661478813072},"ê",null,{"$f":"-$E$55","v":-5649.0661478813072},null,"Adjusted q (deg)","CDi Stem only1",null,null,null,null,"Wood Present?","Large Wood Parameters",null,null,null,"Soil",null,null,null,null,null,null,null,null,null,11,1.76,"Left Bank",40.722064710127476,95.000000046888218,40.722064706286297,92.750000046888218,97.501556593239172,0,2.5015565463509546,2.5015565463509546,"",2.5015565463509546,0,4.7515565463509546,4.7515565463509546,0.16,0,0,0,0.90056035668634371,2.25,0.35213313626417003,0,0,"","","","","","","",0.16,0,0.16,1.76,1.76]
["Soil Ballast Force",null,null,null,null,null,null,"Fsoil (lbf)",{"$f":"$E$61","v":5307.8728275317435},"ê",null,{"$f":"-$E$61","v":-5307.8728275317435},null,{"$f":"IF(OR($O$54=\"\",$O$54=\"use CD RW\"),\"\",IF($B$25<-180,\"Error\",IF($B$25<-90,$B$25+180,IF($B$25<0,-$B$25,IF($B$25<=90,$B$25,IF($B$25<=180,180-$B$25,IF($B$25<=270,$B$25-180,IF($B$25<=360,360-$B$25,\"Error\"))))))))","v":""},{"$f":"IF($O$54=\"use CD stem\",(1.1173-((5.28*10^-2)*$N$57)+((1.4385*10^-3)*$N$57^2)-((9.7668*10^-6)*$N$57^3)),\"\")","v":""},null,null,null,null,null,"xTS (ft)","Dist (ft)","Adjusted Dist (ft)","yTS (ft)","ysoil (ft)",null,null,null,null,null,null,null,null,null,12,1.92,"Left Bank",40.878568326244888,95.00000004660896,40.878568322403709,92.75000004660896,97.479497035919763,0,2.4794969893108032,2.4794969893108032,"",2.4794969893108032,0,4.7294969893108032,4.7294969893108032,0.16,0,0,0,0.89261891615188915,2.25,0.35213313626417003,0,0,"","","","","","","",0.16,0,0.16,1.92,1.92]
["Soil","Vdry (ft3)","Vsat (ft3)","Vsoil (ft3)","Fsoil (lbf)",null,null,"FW,V (lbf)",{"$f":"ABS($L$99)","v":9857.0483855487},{"$f":"IF($L58=0,\"\",IF($L58>0,CHAR(233),CHAR(234)))","v":"é"},null,{"$f":"$L$99","v":9857.0483855487},"Flex","1Applies Gippel et al (1996) Formula:",null,null,null,null,"At Left Bank Top",{"$f":"IF(OR($F$25=\"\",$G$25=\"\"),\"No\",IF(MIN($U$40:$U$41)>$B$14,\"No\",IF(MAX($U$40:$U$41)<$B$14,\"No\",\"Yes\")))","v":"No"},{"$f":"$B$14","v":33},{"$f":"IF(OR($B$25=0,$B$25=180,$B$25=360),0,IF($T$14>$T$13,$G$22+((($T$14-$B$14)/ABS($M$17))/$M$19),(($T$13-$B$14)/ABS($M$17))/$M$19))","v":38.134580225410993},{"$f":"IF(V58<0,0,IF(V58>$E$22,$E$22,V58))","v":32},{"$f":"IF($T$14>$T$13,$U$14+(($V$58-$G$22)*$M$20),$U$13-($V$58*$M$20))","v":92.750000060666906},{"$f":"$C$14","v":98.59},null,null,null,null,null,null,null,null,null,13,2.08,"Left Bank",41.035071942362293,95.000000046329703,41.035071938521114,92.750000046329703,97.457437478600369,0,2.457437432270666,2.457437432270666,"",2.457437432270666,0,4.707437432270666,4.707437432270666,0.16,0,0,0,0.88467747561743981,2.25,0.35213313626417003,0,0,"","","","","","","",0.16,0,0.16,2.08,2.08]
["Bed",{"$f":"IF(AND($H$28=\"\",$H$29=\"\"),0,$AZ$43)","v":0},{"$f":"IF(AND($H$28=\"\",$H$29=\"\"),0,$BA$43)","v":4.1102743516567397},{"$f":"B59+C59","v":4.1102743516567397},{"$f":"IF(OR($D$28=\"\",$E$28=\"\"),0,($B$59*$D$28)+($C$59*$E$28))","v":349.01581085003215},null,null,"FA,V (lbf)",{"$f":"ABS($L$59)+ABS($M$59)","v":19144.233033974382},{"$f":"IF(($L59+M59)=0,\"\",IF(($L59+M59)>0,CHAR(233),CHAR(234)))","v":"ê"},null,{"$f":"$L$86","v":0},{"$f":"$L$92","v":-19144.233033974382},"CDi = 1.1173 - (5.2800*10-2) q + (1.4385*10-3) q2 - (9.7668*10-6) q3",null,null,null,null,"At Left Bank Toe",{"$f":"IF(OR($F$25=\"\",$G$25=\"\"),\"No\",IF(MIN($U$40:$U$41)>$B$15,\"No\",IF(MAX($U$40:$U$41)<$B$15,\"No\",\"Yes\")))","v":"Yes"},{"$f":"$B$15","v":54},{"$f":"IF(OR($B$25=0,$B$25=180,$B$25=360),0,IF($T$14>$T$13,$G$22+((($T$14-$B$15)/ABS($M$17))/$M$19),(($T$13-$B$15)/ABS($M$17))/$M$19))","v":16.66542773324538},16.66542773324538,{"$f":"IF($T$14>$T$13,$U$14+(($V$59-$G$22)*$M$20),$U$13-($V$59*$M$20))","v":92.750000023196179},{"$f":"$C$15","v":95.63},null,null,null,null,null,null,null,null,null,14,2.2400000000000002,"Left Bank",41.191575558479705,95.000000046050445,41.191575554638526,92.750000046050445,97.43537792128096,0,2.4353778752305146,2.4353778752305146,"",2.4353778752305146,0,4.6853778752305146,4.6853778752305146,0.16,0,0,0,0.87673603508298525,2.25,0.35213313626417003,0,0,"","","","","","","",0.16,0,0.16,2.2400000000000002,2.2400000000000002]
["Bank",{"$f":"IF(AND($H$28=\"\",$H$29=\"\"),0,$BB$43)","v":0},{"$f":"IF(AND($H$28=\"\",$H$29=\"\"),0,$BC$43)","v":58.133028507881164},{"$f":"B60+C60","v":58.133028507881164},{"$f":"IF(OR($D$29=\"\",$E$29=\"\"),0,($B$60*$D$29)+($C$60*$E$29))","v":4958.8570166817117},null,null,"S FV (lbf)",{"$f":"ABS($L$60)","v":10239.197565207967},"ê","Additional resisting force (lbf) needed:",{"$f":"$L$54+$L$55+$L$56+$L$57+$L$58+$L$59+$M$59","v":-10239.197565207967},null,null,null,null,null,null,"At Left Thalweg",{"$f":"IF(OR($F$25=\"\",$G$25=\"\"),\"No\",IF(AND(MAX($U$40:$U$41)>$B$16,MIN($U$40:$U$41)<$B$16),\"Yes\",\"No\"))","v":"No"},{"$f":"$B$16","v":79},{"$f":"IF(OR($B$25=0,$B$25=180,$B$25=360),0,IF($T$14>$T$13,$G$22+((($T$14-$B$16)/ABS($M$17))/$M$19),(($T$13-$B$16)/ABS($M$17))/$M$19))","v":-8.8930871383803503},0,{"$f":"IF($T$14>$T$13,$U$14+(($V$60-$G$22)*$M$20),$U$13-($V$60*$M$20))","v":92.74999997858815},{"$f":"$C$16","v":92.8},null,null,null,null,null,null,null,null,null,15,2.4,"Left Bank",41.34807917459711,95.000000045771188,41.348079170755931,92.750000045771188,97.413318363961551,0,2.4133183181903632,2.4133183181903632,"",2.4133183181903632,0,4.6633183181903632,4.6633183181903632,0.16,0,0,0,0.86879459454853081,2.25,0.35213313626417003,0,0,"","","","","","","",0.16,0,0.16,2.4,2.4]
["Total",{"$f":"$B$59+$B$60","v":0},{"$f":"$C$59+$C$60","v":62.243302859537906},{"$f":"$D$59+$D$60","v":62.243302859537906},{"$f":"$E$59+$E$60","v":5307.8728275317435},null,null,"FSV",{"$f":"IF(OR($E$22=\"\",$F$22=\"\",$F$25=\"\",$G$25=\"\"),0,IF($L$58>=0,($I$56+$I$57+$I$59)/($I$54+$I$55+$I$58),($I$56+$I$57+$I$58+$I$59)/($I$54+$I$55)))","v":1.5155176084827033},{"$f":"$I$61-$L$61","v":1.5517608482703338E-2},{"$f":"IF(AND($F$25=\"\",$G$25=\"\"),\"\",IF($I$61>=$L$61,\"Structure is Vertically Stable\",IF(AND($I$61<$L$61,$L$58>=0),$L$61*($L$54+$L$55+$L$58)-(-$L$56-$L$57-$L$59-$M$59),IF(AND($I$61<$L$61,$L$58<0),$L$61*($L$54+$L$55)-(-$L$56-$L$57-$L$59-$M$59-$L$58),\"\"))))","v":"Structure is Vertically Stable"},{"$f":"'2-Constants'!$C$5","v":1.5},null,"CD Stem with Exposed RW Lookup Table",null,null,null,null,"At Right Thalweg",{"$f":"IF(OR($F$25=\"\",$G$25=\"\"),\"No\",IF(AND(MAX($U$40:$U$41)>$B$16,MIN($U$40:$U$41)<$B$16),\"Yes\",\"No\"))","v":"No"},{"$f":"$B$16","v":79},{"$f":"IF(OR($B$25=0,$B$25=180,$B$25=360),0,IF($T$14<$T$13,$G$22+((($B$16-$T$14)/ABS($M$17))/$M$19),(($B$16-$T$13)/ABS($M$17))/$M$19))","v":40.893087138380366},32,{"$f":"IF($T$14<$T$13,$U$14+(($V$61-$G$22)*$M$20),$U$13-($V$61*$M$20))","v":92.74999997858815},{"$f":"$C$16","v":92.8},null,null,null,null,null,null,null,null,null,16,2.56,"Left Bank",41.504582790714522,95.00000004549193,41.504582786873343,92.75000004549193,97.391258806642142,0,2.3912587611502119,2.3912587611502119,"",2.3912587611502119,0,4.6412587611502119,4.6412587611502119,0.16,0,0,0,0.86085315401407625,2.25,0.35213313626417003,0,0,"","","","","","","",0.16,0,0.16,2.56,2.56]
[null,null,null,null,null,null,null,null,null,null,{"$f":"IF($K$61<>\"Structure is Vertically Stable\",\"\",IF($K$61=\"Structure is Vertically Stable\",IF($L$58>=0,($I$56+$I$57+$I$59)-(($I$58+$I$54+$I$55)*$L$61),($I$56+$I$57+$I$58+$I$59)-(($I$54+$I$55)*$L$61))))","v":308.21034311823314},null,null,"Adjusted q (deg)","CDi Stem + RW",null,null,null,"At Right Bank Toe",{"$f":"IF(OR($F$25=\"\",$G$25=\"\"),\"No\",IF(MAX($U$40:$U$41)<$B$17,\"No\",IF(MIN($U$40:$U$41)>$B$17,\"No\",\"Yes\")))","v":"No"},{"$f":"$B$17","v":108},{"$f":"IF(OR($B$25=0,$B$25=180,$B$25=360),0,IF($T$14<$T$13,$G$22+((($B$17-$T$14)/ABS($M$17))/$M$19),(($B$17-$T$13)/ABS($M$17))/$M$19))","v":70.540964389466211},32,{"$f":"IF($T$14<$T$13,$U$14+(($V$62-$G$22)*$M$20),$U$13-($V$62*$M$20))","v":92.749999926842847},{"$f":"$C$17","v":94.94},null,null,null,null,null,null,null,null,null,17,2.72,"Left Bank",41.661086406831934,95.000000045212673,41.661086402990755,92.750000045212673,97.369199249322733,0,2.3691992041100605,2.3691992041100605,"",2.3691992041100605,0,4.6191992041100605,4.6191992041100605,0.16,0,0,0,0.8529117134796218,2.25,0.35213313626417003,0,0,"","","","","","","",0.16,0,0.16,2.72,2.72]
["Horizontal Force Analysis",null,null,null,null,null,null,null,null,null,null,null,null,{"$f":"IF(OR($O$54=\"\",$O$54=\"use CD stem\"),\"\",IF(OR($B$25<-180,$B$25>360),\"Error\",IF($B$25>180,360-$B$25,IF($B$25<0,-$B$25,$B$25))))","v":102},{"$f":"IF(OR($O$54=\"\",$O$54=\"use CD stem\"),\"\",IF($B$25<22.5,(($B$25/22.5)*($O$67-$O$66)+$O$66),IF($B$25<45,((($B$25-$N$67)/22.5)*($O$68-$O$67)+$O$67),IF($B$25<67.5,((($B$25-$N$68)/22.5)*($O$69-$O$68)+$O$68),IF($B$25<90,((($B$25-$N$69)/22.5)*($O$70-$O$69)+$O$69),IF($B$25<112.5,((($B$25-$N$70)/22.5)*($O$71-$O$70)+$O$70),IF($B$25<135,((($B$25-$N$71)/22.5)*($O$72-$O$71)+$O$71),IF($B$25<157.5,((($B$25-$N$72)/22.5)*($O$73-$O$72)+$O$72),IF($B$25<=180,((($B$25-$N$74)/22.5)*($O$74-$O$73)+$O$74),$O$74)))))))))","v":0.98599999999999999},null,null,null,"At Right Bank Top",{"$f":"IF(OR($F$25=\"\",$G$25=\"\"),\"No\",IF(MAX($U$40:$U$41)<$B$18,\"No\",IF(MIN($U$40:$U$41)>$B$18,\"No\",\"Yes\")))","v":"No"},{"$f":"$B$18","v":127},{"$f":"IF(OR($B$25=0,$B$25=180,$B$25=360),0,IF($T$14<$T$13,$G$22+((($B$18-$T$14)/ABS($M$17))/$M$19),(($B$18-$T$13)/ABS($M$17))/$M$19))","v":89.965435691901774},32,{"$f":"IF($T$14<$T$13,$U$14+(($V$63-$G$22)*$M$20),$U$13-($V$63*$M$20))","v":92.74999989294075},{"$f":"$C$18","v":98.72},null,null,null,null,null,null,null,null,null,18,2.88,"Left Bank",41.817590022949339,95.000000044933415,41.81759001910816,92.750000044933415,97.347139692003338,0,2.3471396470699233,2.3471396470699233,"",2.3471396470699233,0,4.5971396470699233,4.5971396470699233,0.16,0,0,0,0.84497027294517235,2.25,0.35213313626417003,0,0,"","","","","","","",0.16,0,0.16,2.88,2.88]
["Drag Force",null,null,null,null,null,null,null,null,null,null,null,null,null,null,null,null,null,null,null,null,null,null,null,null,null,null,null,null,null,null,null,null,null,19,3.04,"Left Bank",41.974093639066751,95.000000044654158,41.974093635225572,92.750000044654158,97.32508013468393,0,2.3250800900297719,2.3250800900297719,"",2.3250800900297719,0,4.5750800900297719,4.5750800900297719,0.16,0,0,0,0.8370288324107179,2.25,0.35213313626417003,0,0,"","","","","","","",0.16,0,0.16,3.04,3.04]
["ATp / AW","FrL","CDi","Cw","CD*","FD (lbf)",null,"Horizontal Force Balance",null,null,null,"Formatting",null,"q (deg)","CDi Stem + RW",null,null,null,null,null,null,"Log Bottom and Soil Intercept",null,"Dist to Intercept","Intercept in Zone?","LW Buried?","Exposed Segment",null,null,null,null,null,null,null,20,3.2,"Left Bank",42.130597255184156,95.0000000443749,42.130597251342977,92.7500000443749,97.303020577364521,0,2.3030205329896205,2.3030205329896205,"",2.3030205329896205,0,4.5530205329896205,4.5530205329896205,0.16,0,0,0,0.82908739187626335,2.25,0.35213313626417003,0,0,"","","","","","","",0.16,0,0.16,3.2,3.2]
[{"$f":"IF(OR($A$6=\"\",$F$6=\"\"),0,$J$25/(VLOOKUP($A$6,SiteInfo,7,0)))","v":6.9513561704566589E-3},{"$f":"IF($A$6=\"\",0,$J$6/(($F$22*g)^0.5))","v":0.54449190587483842},{"$f":"IF($O$54=\"\",0,IF($O$54=\"use CD stem\",$O$57,$O$63))","v":0.98599999999999999},{"$f":"IF(OR($BM$43=\"\",$B$25=\"\"),0,IF($BN$43>0.43,0.43,$BN$43))","v":4.7035842868129701E-2},{"$f":"IF(OR($F$22=\"\",$B$25=\"\"),0,0.997*($C$66+$D$66)*((1-$A$66)^-2.06))","v":1.044843564239978},{"$f":"IF(OR($E$66=\"\",$J$25=\"\"),0,$E$66*$J$25*SWWater*($J$6^2)/(2*g))","v":249.41623888067016},null,"FD (lbf)",{"$f":"IF(AND($F$66=0,$I$71>0),0.4999,$F$66)","v":249.41623888067016},{"$f":"IF($L$66=0,\"\",IF($L66>0,CHAR(232),CHAR(231)))","v":"è"},{"$f":"IF(AND($F$66=0,$I$71>0),\"NOTE - Tool has assumed the drag force = 0.49 lbf for FS calcs\",\"\")","v":""},{"$f":"$F$66","v":249.41623888067016},null,0,1.2,null,null,null,null,"Zone L (ft)","Log L (ft)","xbottom (ft)","ybottom (ft)",null,null,null,null,"Lem,bot (ft)",null,null,null,null,null,null,21,3.36,"Left Bank",42.287100871301568,95.000000044095643,42.287100867460389,92.750000044095643,97.280961020045112,0,2.2809609759494691,2.2809609759494691,"",2.2809609759494691,0,4.5309609759494691,4.5309609759494691,0.16,0,0,0,0.8211459513418089,2.25,0.35213313626417003,0,0,"","","","","","","",0.16,0,0.16,3.36,3.36]
[null,null,null,null,null,null,null,"FP (lbf)",{"$f":"$C$72","v":12778.574612625487},{"$f":"IF($L$67=0,\"\",IF($L67>=0,CHAR(232),CHAR(231)))","v":"ç"},{"$f":"IF(OR($M$59=0,$M$70=0),\"\",\"NOTE -- Mechanical soil anchors and deadman boulders provide equal resistance to vertical and horizontal forces.  The model first applies these anchor forces to resist the vertical forces, and then applies the balance to resist the horizontal forces.\")","v":""},{"$f":"-$C$72","v":-12778.574612625487},null,22.5,1.25,null,null,null,"LB Floodplain",{"$f":"($B$14-$B$13)/ABS($M$17)/ABS($M$19)","v":33.737239630545965},{"$f":"IF(MAX($U$40:$U$41)<=$B$14,$E$22,IF($T$58=\"No\",0,$E$22-$W$58))","v":0},{"$f":"IF($U$67=0,0,IF(OR($B$25=0,$B$25=180,$B$25=360),$U$40,$U$58+(($X$58-$C$14)/($AB$31-$AA$40))))","v":0},{"$f":"IF($U$67=0,0,IF(OR($B$25=0,$B$25=180,$B$25=360),(($U$40-$B$13)*$AB$31)+$C$13,$X$58+(($V$67-$U$58)*$AA$40)))","v":0},{"$f":"IF($U$67=0,0,IF(OR($B$25=0,$B$25=180,$B$25=360),$E$22-ABS(($X$41-$W$67)/$M$20),IF(AND($U$40<=$U$41,$X$40>=$Y$40),ABS(($X$40-$W$67)/($AA$40*$M$17*$M$19)),IF(AND($U$40<=$U$41,$X$40<$Y$40),ABS($E$22-(ABS(($X$40-$W$67)/($AA$40*$M$17*$M$19)))),IF(AND($U$40>$U$41,$X$41>=$Y$41),ABS(($X$41-$W$67)/($AA$40*$M$17*$M$19)),IF(AND($U$40>=$U$41,$X$41<$Y$41),ABS($E$22-(ABS(($X$40-$W$67)/($AA$40*$M$17*$M$19))))))))))","v":0},{"$f":"IF(AND($U$67=0,$W$67=0),\"No\",IF(AND($V$67<=$B$14,$V$67>=$B$13,$V$67>=MIN($U$40:$U$41),$V$67<=MAX($U$40:$U$41),$W$67<$C$13,$X$67<=$E$22),\"Yes\",\"No\"))","v":"No"},{"$f":"IF($U$67=0,\"No\",IF($Y$67=\"Yes\",\"Partial\",IF(AND($U$67<$E$22,$X$41<$Y$41,$Y$67=\"No\",$Y$68=\"No\",$Y$69=\"No\",$Y$70=\"No\",$Y$71=\"No\",$Y$72=\"No\"),\"Yes\",IF(AND($Y$67=\"No\",$X$58>$Y$58),\"No\",\"Yes\"))))","v":"No"},{"$f":"IF($Z$67=\"Yes\",\"None\",IF(AND($Z$67=\"No\",$U$67=0),\"None\",IF($Z$67=\"No\",\"All\",IF(AND($X$41>=$Y$41,$U$41<=$U$40),\"Left\",\"Right\"))))","v":"None"},{"$f":"IF($U$67=0,0,IF($Z$67=\"No\",0,IF($Z$67=\"Yes\",$U$67,IF(OR($AA$67=\"Left\",$U$67=$E$22),$U$67-(ABS(($U$41-$V$67)/($M$17*$M$19))),$U$67-(ABS(($V$67-$B$14)/($M$17*$M$19)))))))","v":0},null,null,null,null,null,null,22,3.52,"Left Bank",42.443604487418973,95.000000043816385,42.443604483577793,92.750000043816385,97.258901462725703,0,2.2589014189093177,2.2589014189093177,"",2.2589014189093177,0,4.5089014189093177,4.5089014189093177,0.16,0,0,0,0.81320451080735445,2.25,0.35213313626417003,0,0,"","","","","","","",0.16,0,0.16,3.52,3.52]
["Passive Soil Pressure",null,null,"Friction Force",null,null,null,"FF (lbf)",{"$f":"$F$72","v":8900.7986493154822},{"$f":"IF($L$68=0,\"\",IF($L68>=0,CHAR(232),CHAR(231)))","v":"ç"},null,{"$f":"-$F$72","v":-8900.7986493154822},null,45,1.1200000000000001,null,null,null,"Left Bank",{"$f":"($B$15-$B$14)/ABS($M$17)/ABS($M$19)","v":21.469152492165613},{"$f":"IF(AND(MIN($U$40:$U$41)>=$B$14,MAX($U$40:$U$41)<=$B$15),$E$22,IF(AND($T$59=\"No\",$T$58=\"No\"),0,$E$22-$W$59-$U$67))","v":15.33457226675462},{"$f":"IF($U$68=0,0,IF(OR($B$25=0,$B$25=180,$B$25=360),$U$40,$U$59+(($C$15-$X$59)/($AA$40-$AB$32))))","v":74.432432526519719},{"$f":"IF($U$68=0,0,IF(OR($B$25=0,$B$25=180,$B$25=360),(($U$40-$B$14)*$AB$32)+$C$14,$X$59+(($V$68-$U$59)*$AA$40)))","v":92.74999998673816},{"$f":"IF($U$68=0,0,IF(OR($B$25=0,$B$25=180,$B$25=360),$E$22-ABS(($X$41-$W$68)/$M$20),IF(AND($U$40<=$U$41,$X$40>=$Y$40),ABS(($X$40-$W$68)/($AA$40*$M$17*$M$19)),IF(AND($U$40<=$U$41,$X$40<$Y$40),ABS($E$22-(ABS(($X$40-$W$68)/($AA$40*$M$17*$M$19)))),IF(AND($U$40>$U$41,$X$41>=$Y$41),ABS(($X$41-$W$68)/($AA$40*$M$17*$M$19)),IF(AND($U$40>=$U$41,$X$41<$Y$41),ABS($E$22-(ABS(($X$40-$W$68)/($AA$40*$M$17*$M$19))))))))))","v":27.776524685788534},{"$f":"IF(AND($U$68=0,$W$68=0),\"No\",IF(AND($V$68<=$B$15,$V$68>=$B$14,$V$68>=MIN($U$40:$U$41),$V$68<=MAX($U$40:$U$41),$W$68<$C$14,$X$68<=$E$22),\"Yes\",\"No\"))","v":"No"},{"$f":"IF($U$68=0,\"No\",IF($Y$68=\"Yes\",\"Partial\",IF(AND($U$68<$E$22,$X$41<$Y$41,$Y$67=\"No\",$Y$68=\"No\",$Y$69=\"No\",$Y$70=\"No\",$Y$71=\"No\",$Y$72=\"No\"),\"Yes\",IF(AND($Y$68=\"No\",$X$59>$Y$59),\"No\",\"Yes\"))))","v":"Yes"},{"$f":"IF($Z$68=\"Yes\",\"None\",IF(AND($Z$68=\"No\",$U$68=0),\"None\",IF($Z$68=\"No\",\"All\",IF(AND($X$41>=$Y$41,$U$41<=$U$40,$AA$67<>\"Left\"),\"Left\",\"Right\"))))","v":"None"},{"$f":"IF($U$68=0,0,IF($Z$68=\"No\",0,IF($Z$68=\"Yes\",$U$68,IF(OR($U$68=$E$22,AND($AA$68=\"Left\",MIN($U$40:$U$41)>=$B$14,MAX($U$40:$U$41)>=$B$15)),$U$68-(ABS(($U$41-$V$68)/($M$17*$M$19))),IF($AA$68=\"Left\",$U$68-(ABS(($B$14-$V$68)/($M$17*$M$19))),IF(MAX($U$40:$U$41)>=$B$15,$U$68-(ABS(($V$68-$B$15)/($M$17*$M$19))),ABS(($V$68-$B$14)/($M$17*$M$19))))))))","v":15.33457226675462},null,null,null,null,null,null,23,3.68,"Left Bank",42.600108103536385,95.000000043537128,42.600108099695206,92.750000043537128,97.236841905406294,0,2.2368418618691663,2.2368418618691663,"",2.2368418618691663,0,4.4868418618691663,4.4868418618691663,0.16,0,0,0,0.80526307027289989,2.25,0.35213313626417003,0,0,"","","","","","","",0.16,0,0.16,3.68,3.68]
["Soil","KP","FP (lbf)","LTf (ft)","m","FF (lbf)",null,"FW,H (lbf)",{"$f":"ABS($M$99)","v":294.10882793616611},{"$f":"IF($L$69=0,\"\",IF($L69>=0,CHAR(232),CHAR(231)))","v":"ç"},null,{"$f":"$M$99","v":-294.10882793616611},"Flex",67.5,1.22,null,null,null,"Left Stream Bed",{"$f":"($B$16-$B$15)/ABS($M$17)/ABS($M$19)","v":25.558514871625732},{"$f":"IF(AND(MIN($U$40:$U$41)>=$B$15,MAX($U$40:$U$41)<=$B$16),$E$22,IF(AND($T$60=\"No\",$T$59=\"No\"),0,IF(AND($T$59=\"Yes\",$T$60=\"No\"),$E$22-$U$68-$U$67,IF(AND($T$59=\"Yes\",$T$60=\"Yes\",$T$62=\"No\"),$E$22-$U$70-$U$68-$U$67,IF(AND($T$59=\"Yes\",$T$60=\"Yes\",$T$62=\"Yes\"),$E$22-$U$72-$U$71-$U$70-$U$68-$U$67,$E$22-$U$72-$U$71-$U$70)))))","v":16.66542773324538},{"$f":"IF($U$69=0,0,IF(OR($B$25=0,$B$25=180,$B$25=360),$U$40,$U$60+(($C$16-$X$60)/($AA$40-$AB$33))))","v":79.441696309187066},{"$f":"IF($U$69=0,0,IF(OR($B$25=0,$B$25=180,$B$25=360),(($U$40-$B$15)*$AB$33)+$C$15,$X$60+(($V$69-$U$60)*$AA$40)))","v":92.749999977800016},{"$f":"IF($U$69=0,0,IF(OR($B$25=0,$B$25=180,$B$25=360),$E$22-ABS(($X$41-$W$69)/$M$20),IF(AND($U$40<=$U$41,$X$40>=$Y$40),ABS(($X$40-$W$69)/($AA$40*$M$17*$M$19)),IF(AND($U$40<=$U$41,$X$40<$Y$40),ABS($E$22-(ABS(($X$40-$W$69)/($AA$40*$M$17*$M$19)))),IF(AND($U$40>$U$41,$X$41>=$Y$41),ABS(($X$41-$W$69)/($AA$40*$M$17*$M$19)),IF(AND($U$40>=$U$41,$X$41<$Y$41),ABS($E$22-(ABS(($X$40-$W$69)/($AA$40*$M$17*$M$19))))))))))","v":22.655345200257365},{"$f":"IF(AND($U$69=0,$W$69=0),\"No\",IF(AND($V$69<=$B$16,$V$69>=$B$15,$V$69>=MIN($U$40:$U$41),$V$69<=MAX($U$40:$U$41),$W$69<$C$15,$X$69<=$E$22),\"Yes\",\"No\"))","v":"No"},{"$f":"IF($U$69=0,\"No\",IF($Y$69=\"Yes\",\"Partial\",IF(AND($U$69<$E$22,$X$41<$Y$41,$Y$67=\"No\",$Y$68=\"No\",$Y$69=\"No\",$Y$70=\"No\",$Y$71=\"No\",$Y$72=\"No\"),\"Yes\",IF(AND($Y$69=\"No\",$X$60>$Y$60),\"No\",\"Yes\"))))","v":"Yes"},{"$f":"IF($Z$69=\"Yes\",\"None\",IF(AND($Z$69=\"No\",$U$69=0),\"None\",IF($Z$69=\"No\",\"All\",IF(AND($X$41>=$Y$41,$U$41<=$U$40,$AA$68<>\"Left\"),\"Left\",\"Right\"))))","v":"None"},{"$f":"IF($U$69=0,0,IF($Z$69=\"No\",0,IF($Z$69=\"Yes\",$U$69,IF(OR($U$69=$E$22,AND($AA$69=\"Left\",MIN($U$40:$U$41)>=$B$15,MAX($U$40:$U$41)>=$B$16)),$U$69-(ABS(($U$41-$V$69)/($M$17*$M$19))),IF($AA$69=\"Left\",$U$69-(ABS(($B$15-$V$69)/($M$17*$M$19))),IF(MAX($U$40:$U$41)>=$B$16,$U$69-(ABS(($V$69-$B$16)/($M$17*$M$19))),ABS(($V$69-$B$15)/($M$17*$M$19))))))))","v":16.66542773324538},null,null,null,null,null,null,24,3.84,"Left Bank",42.75661171965379,95.00000004325787,42.75661171581261,92.75000004325787,97.214782348086899,0,2.2147823048290292,2.2147823048290292,"",2.2147823048290292,0,4.4647823048290292,4.4647823048290292,0.16,0,0,0,0.79732162973845055,2.25,0.35213313626417003,0,0,"","","","","","","",0.16,0,0.16,3.84,3.84]
["Bed",{"$f":"IF(OR($A$6=\"\",$F$6=\"\",$F$25=\"\"),0,TAN((45+($F$28/2))*PI()/180)^2)","v":4.8149513101909616},{"$f":"IF($E$61=0,0,0.5*$B$70*$E$59)","v":840.24706786486161},{"$f":"IF($F$28=\"\",0,IF($U$15<$AF$47,$BP$43+2,$BP$43))","v":18.72000000000001},{"$f":"IF($F$28=\"\",0,TAN($F$28*PI()/180))","v":0.86928673781622645},{"$f":"IF(OR($L$60>=0,$D$70=0),0,$I$60*$E$70*($D$70/$D$72))","v":4900.6750210348764},null,"FA,H (lbf)",{"$f":"ABS($L$70)+ABS($M$70)","v":0},{"$f":"IF(($L$70+M70)=0,\"\",IF(($L$70+M70)>=0,CHAR(232),CHAR(231)))","v":""},null,{"$f":"$M$86","v":0},{"$f":"$M$92","v":0},90,0.97,null,null,null,"Right Stream Bed",{"$f":"($B$17-$B$16)/ABS($M$17)/ABS($M$19)","v":29.647877251085848},{"$f":"IF(AND(MIN($U$40:$U$41)>=$B$16,MAX($U$40:$U$41)<=$B$17),$E$22,IF(AND($T$61=\"No\",$T$62=\"No\"),0,IF(AND($T$62=\"Yes\",$T$61=\"No\"),$E$22-$U$71-$U$72,IF(AND($T$62=\"Yes\",$T$61=\"Yes\"),$E$22-$W$61-$U$71-$U$72,$E$22-$W$61))))","v":0},{"$f":"IF($U$70=0,0,IF(OR($B$25=0,$B$25=180,$B$25=360),$U$40,$U$61+(($X$61-$C$16)/($AB$34-$AA$40))))","v":0},{"$f":"IF($U$70=0,0,IF(OR($B$25=0,$B$25=180,$B$25=360),(($U$40-$B$16)*$AB$34)+$C$16,$X$61+(($V$70-$U$61)*$AA$40)))","v":0},{"$f":"IF($U$70=0,0,IF(OR($B$25=0,$B$25=180,$B$25=360),$E$22-ABS(($X$41-$W$70)/$M$20),IF(AND($U$40<=$U$41,$X$40>=$Y$40),ABS(($X$40-$W$70)/($AA$40*$M$17*$M$19)),IF(AND($U$40<=$U$41,$X$40<$Y$40),ABS($E$22-(ABS(($X$40-$W$70)/($AA$40*$M$17*$M$19)))),IF(AND($U$40>$U$41,$X$41>=$Y$41),ABS(($X$41-$W$70)/($AA$40*$M$17*$M$19)),IF(AND($U$40>=$U$41,$X$41<$Y$41),ABS($E$22-(ABS(($X$40-$W$70)/($AA$40*$M$17*$M$19))))))))))","v":0},{"$f":"IF(AND($U$70=0,$W$70=0),\"No\",IF(AND($V$70<=$B$17,$V$70>=$B$16,$V$70>=MIN($U$40:$U$41),$V$70<=MAX($U$40:$U$41),$W$70<$C$17,$X$70<=$E$22),\"Yes\",\"No\"))","v":"No"},{"$f":"IF($U$70=0,\"No\",IF($Y$70=\"Yes\",\"Partial\",IF(AND($U$70<$E$22,$X$41<$Y$41,$Y$67=\"No\",$Y$68=\"No\",$Y$69=\"No\",$Y$70=\"No\",$Y$71=\"No\",$Y$72=\"No\"),\"Yes\",IF(AND($Y$70=\"No\",$X$61>$Y$61),\"No\",\"Yes\"))))","v":"No"},{"$f":"IF($Z$70=\"Yes\",\"None\",IF(AND($Z$70=\"No\",$U$70=0),\"None\",IF($Z$70=\"No\",\"All\",IF(AND($X$41>=$Y$41,$U$41>=$U$40,$AA$71<>\"Right\"),\"Right\",\"Left\"))))","v":"None"},{"$f":"IF($U$70=0,0,IF($Z$70=\"No\",0,IF($Z$70=\"Yes\",$U$70,IF(OR($U$70=$E$22,AND($AA$70=\"Right\",MIN($U$40:$U$41)<=$B$16,MAX($U$40:$U$41)<=$B$17)),$U$70-(ABS(($U$41-$V$70)/($M$17*$M$19))),IF($AA$70=\"Right\",$U$70-(ABS(($B$17-$V$70)/($M$17*$M$19))),IF(MIN($U$40:$U$41)<=$B$16,$U$70-(ABS(($V$70-$B$16)/($M$17*$M$19))),ABS(($V$70-$B$17)/($M$17*$M$19))))))))","v":0},null,null,null,null,null,null,25,4,"Left Bank",42.913115335771202,95.000000042978613,42.913115331930022,92.750000042978613,97.19272279076749,0,2.1927227477888778,2.1927227477888778,"",2.1927227477888778,0,4.4427227477888778,4.4427227477888778,0.16,0,0,0,0.789380189203996,2.25,0.35213313626417003,0,0,"","","","","","","",0.16,0,0.16,4,4]
["Bank",{"$f":"IF(OR($A$6=\"\",$F$6=\"\",$F$25=\"\"),0,TAN((45+($F$29/2))*PI()/180)^2)","v":4.8149513101909616},{"$f":"IF($E$61=0,0,0.5*$B$71*$E$60)","v":11938.327544760625},{"$f":"IF($F$28=\"\",0,$BQ$43)","v":15.28000000000001},{"$f":"IF($F$28=\"\",0,TAN($F$29*PI()/180))","v":0.86928673781622645},{"$f":"IF(OR($L$60>=0,$D$71=0),0,$I$60*$E$71*($D$71/$D$72))","v":4000.1236282806049},null,"S FH (lbf)",{"$f":"ABS($L$71)","v":21724.065850996463},{"$f":"IF($L$71=0,\"\",IF($L71>=0,CHAR(232),CHAR(231)))","v":"ç"},"Additional resisting force (lbf) needed:",{"$f":"$L$66+$L$67+$L$68+$L$69+$L$70+$M$70","v":-21724.065850996463},null,112.5,1,null,null,null,"Right Bank",{"$f":"($B$18-$B$17)/ABS($M$17)/ABS($M$19)","v":19.424471302435556},{"$f":"IF(AND(MIN($U$40:$U$41)>=$B$17,MAX($U$40:$U$41)<=$B$18),$E$22,IF(AND($T$62=\"No\",$T$63=\"No\"),0,$E$22-$W$62-$U$72))","v":0},{"$f":"IF($U$71=0,0,IF(OR($B$25=0,$B$25=180,$B$25=360),$U$40,$U$62+(($X$62-$C$17)/($AB$35-$AA$40))))","v":0},{"$f":"IF($U$71=0,0,IF(OR($B$25=0,$B$25=180,$B$25=360),(($U$40-$B$17)*$AB$35)+$C$17,$X$62+(($V$71-$U$62)*$AA$40)))","v":0},{"$f":"IF($U$71=0,0,IF(OR($B$25=0,$B$25=180,$B$25=360),$E$22-ABS(($X$41-$W$71)/$M$20),IF(AND($U$40<=$U$41,$X$40>=$Y$40),ABS(($X$40-$W$71)/($AA$40*$M$17*$M$19)),IF(AND($U$40<=$U$41,$X$40<$Y$40),ABS($E$22-(ABS(($X$40-$W$71)/($AA$40*$M$17*$M$19)))),IF(AND($U$40>$U$41,$X$41>=$Y$41),ABS(($X$41-$W$71)/($AA$40*$M$17*$M$19)),IF(AND($U$40>=$U$41,$X$41<$Y$41),ABS($E$22-(ABS(($X$40-$W$71)/($AA$40*$M$17*$M$19))))))))))","v":0},{"$f":"IF(AND($U$71=0,$W$71=0),\"No\",IF(AND($V$71<=$B$18,$V$71>=$B$17,$V$71>=MIN($U$40:$U$41),$V$71<=MAX($U$40:$U$41),$W$71<$C$18,$X$71<=$E$22),\"Yes\",\"No\"))","v":"No"},{"$f":"IF($U$71=0,\"No\",IF($Y$71=\"Yes\",\"Partial\",IF(AND($U$71<$E$22,$X$41<$Y$41,$Y$67=\"No\",$Y$68=\"No\",$Y$69=\"No\",$Y$70=\"No\",$Y$71=\"No\",$Y$72=\"No\"),\"Yes\",IF(AND($Y$71=\"No\",$X$62>$Y$62),\"No\",\"Yes\"))))","v":"No"},{"$f":"IF($Z$71=\"Yes\",\"None\",IF(AND($Z$71=\"No\",$U$71=0),\"None\",IF($Z$71=\"No\",\"All\",IF(AND($X$41>=$Y$41,$U$41>=$U$40,$AA$72<>\"Right\"),\"Right\",\"Left\"))))","v":"None"},{"$f":"IF($U$71=0,0,IF($Z$71=\"No\",0,IF($Z$71=\"Yes\",$U$71,IF(OR($U$71=$E$22,AND($AA$71=\"Right\",MIN($U$40:$U$41)<=$B$17,MAX($U$40:$U$41)<=$B$18)),$U$71-(ABS(($U$41-$V$71)/($M$17*$M$19))),IF($AA$71=\"Right\",$U$71-(ABS(($B$18-$V$71)/($M$17*$M$19))),IF(MIN($U$40:$U$41)<=$B$17,$U$71-(ABS(($V$71-$B$17)/($M$17*$M$19))),ABS(($V$71-$B$18)/($M$17*$M$19))))))))","v":0},null,null,null,null,null,null,26,4.16,"Left Bank",43.069618951888614,95.000000042699355,43.069618948047435,92.750000042699355,97.170663233448082,0,2.1706631907487264,2.1706631907487264,"",2.1706631907487264,0,4.4206631907487264,4.4206631907487264,0.16,0,0,0,0.78143874866954155,2.25,0.35213313626417003,0,0,"","","","","","","",0.16,0,0.16,4.16,4.16]
["Total","-",{"$f":"$C$70+$C$71","v":12778.574612625487},{"$f":"$D$70+$D$71","v":34.000000000000021},"-",{"$f":"$F$70+$F$71","v":8900.7986493154822},null,"FSH",{"$f":"IF(OR($E$22=\"\",$F$22=\"\",$F$25=\"\",$G$25=\"\"),0,IF($I$66=0,0,IF($L$69>=0,($I$67+$I$68+$I$70)/($I$66+$I$69),($I$67+$I$68+$I$69+$I$70)/$I$66)))","v":88.099644948900263},{"$f":"$I$72-$L$72","v":86.599644948900263},{"$f":"IF(AND($F$25=\"\",$G$25=\"\"),\"\",IF(OR($J$25=0,$I$72>=$L$72),\"Structure is Horizontally Stable\",IF(AND($I$72<$L$72,$L$69>=0),$L$72*($L$66+$L$69)-(-$L$67-$L$68-$L$70-$M$70),IF(AND($I$72<$L$72,$L$69<0),$L$72*($L$66)-(-$L$67-$L$68-$L$70-$M$70-$L$69),\"\"))))","v":"Structure is Horizontally Stable"},{"$f":"'2-Constants'!$C$6","v":1.5},null,135,0.81,null,null,null,"RB Floodplain",{"$f":"($B$19-$B$18)/ABS($M$17)/ABS($M$19)","v":23.513833681895672},{"$f":"IF(MIN($U$40:$U$41)>=$B$18,$E$22,IF($T$63=\"No\",0,$E$22-$W$63))","v":0},{"$f":"IF($U$72=0,0,IF(OR($B$25=0,$B$25=180,$B$25=360),$U$40,$U$63+(($X$63-$C$18)/($AB$36-$AA$40))))","v":0},{"$f":"IF($U$72=0,0,IF(OR($B$25=0,$B$25=180,$B$25=360),(($U$40-$B$18)*$AB$36)+$C$18,$X$63+(($V$72-$U$63)*$AA$40)))","v":0},{"$f":"IF($U$72=0,0,IF(OR($B$25=0,$B$25=180,$B$25=360),$E$22-ABS(($X$41-$W$72)/$M$20),IF(AND($U$40<=$U$41,$X$40>=$Y$40),ABS(($X$40-$W$72)/($AA$40*$M$17*$M$19)),IF(AND($U$40<=$U$41,$X$40<$Y$40),ABS($E$22-(ABS(($X$40-$W$72)/($AA$40*$M$17*$M$19)))),IF(AND($U$40>$U$41,$X$41>=$Y$41),ABS(($X$41-$W$72)/($AA$40*$M$17*$M$19)),IF(AND($U$40>=$U$41,$X$41<$Y$41),ABS($E$22-(ABS(($X$40-$W$72)/($AA$40*$M$17*$M$19))))))))))","v":0},{"$f":"IF(AND($U$72=0,$W$72=0),\"No\",IF(AND($V$72<=$B$19,$V$72>=$B$18,$V$72>=MIN($U$40:$U$41),$V$72<=MAX($U$40:$U$41),$W$72<$C$19,$X$72<=$E$22),\"Yes\",\"No\"))","v":"No"},{"$f":"IF($U$72=0,\"No\",IF($Y$72=\"Yes\",\"Partial\",IF(AND($U$72<$E$22,$X$41<$Y$41,$Y$67=\"No\",$Y$68=\"No\",$Y$69=\"No\",$Y$70=\"No\",$Y$71=\"No\",$Y$72=\"No\"),\"Yes\",IF(AND($Y$72=\"No\",$X$63>$Y$63),\"No\",\"Yes\"))))","v":"No"},{"$f":"IF($Z$72=\"Yes\",\"None\",IF(AND($Z$72=\"No\",$U$72=0),\"None\",IF($Z$72=\"No\",\"All\",IF(AND($X$41>=$Y$41,$U$41>=$U$40),\"Right\",\"Left\"))))","v":"None"},{"$f":"IF($U$72=0,0,IF($Z$72=\"No\",0,IF($Z$72=\"Yes\",$U$72,IF(OR($AA$72=\"Right\",$U$72=$E$22),$U$72-(ABS(($U$41-$V$72)/($M$17*$M$19))),$U$72-(ABS(($V$72-$B$18)/($M$17*$M$19)))))))","v":0},null,null,null,null,null,null,27,4.32,"Left Bank",43.226122568006019,95.000000042420098,43.226122564164839,92.750000042420098,97.148603676128673,0,2.148603633708575,2.148603633708575,"",2.148603633708575,0,4.398603633708575,4.398603633708575,0.16,0,0,0,0.77349730813508699,2.25,0.35213313626417003,0,0,"","","","","","","",0.16,0,0.16,4.32,4.32]
[null,null,null,null,null,null,null,null,null,null,{"$f":"IF($K$72<>\"Structure is Horizontally Stable\",\"\",IF($K$72=\"Structure is Horizontally Stable\",IF($L$69>=0,($I$67+$I$68+$I$70)-(($I$69+$I$66)*$L$72),($I$67+$I$68+$I$69+$I$70)-(($I$66)*$L$72))))","v":21599.357731556131},null,null,157.5,0.75,null,null,null,null,"L check",{"$f":"SUM(U67:U72)","v":32},{"$f":"IF($U$53=$E$22,\"OK\",\"ERROR\")","v":"OK"},null,null,null,null,"Total",{"$f":"SUM(AB67:AB72)","v":32},null,null,null,null,null,null,28,4.4800000000000004,"Left Bank",43.382626184123431,95.00000004214084,43.382626180282251,92.75000004214084,97.126544118809264,0,2.1265440766684236,2.1265440766684236,"",2.1265440766684236,0,4.3765440766684236,4.3765440766684236,0.16,0,0,0,0.76555586760063254,2.25,0.35213313626417003,0,0,"","","","","","","",0.16,0,0.16,4.4800000000000004,4.4800000000000004]
["Moment Force Balance",null,null,null,null,null,null,null,null,null,null,{"$f":"IF($D$22=\"Yes\",\"Rootwad\",\"Root Collar\")","v":"Rootwad"},null,180,1.1000000000000001,null,null,null,null,null,null,null,null,null,null,null,null,null,null,null,null,null,null,null,29,4.6399999999999997,"Left Bank",43.539129800240836,95.000000041861583,43.539129796399656,92.750000041861583,97.104484561489869,0,2.1044845196282864,2.1044845196282864,"",2.1044845196282864,0,4.3544845196282864,4.3544845196282864,0.16,0,0,0,0.75761442706618309,2.25,0.35213313626417003,0,0,"","","","","","","",0.16,0,0.16,4.6399999999999997,4.6399999999999997]
["Driving Moment Centroids",null,null,"Resisting Moment Centroids",null,null,null,"Moment Force Balance",null,null,null,null,null,"Source:  Gippel (1992) plot of drag coefficients",null,null,null,null,"Projected Area of Log Calculation",null,null,null,"Projected Area of Rootwad Calculation",null,null,null,null,null,null,null,null,null,null,null,30,4.8,"Left Bank",43.695633416358248,95.000000041582325,43.695633412517068,92.750000041582325,97.08242500417046,0,2.082424962588135,2.082424962588135,"",2.082424962588135,0,4.332424962588135,4.332424962588135,0.16,0,0,0,0.74967298653172865,2.25,0.35213313626417003,0,0,"","","","","","","",0.16,0,0.16,4.8,4.8]
["cT,B (ft)","cL (ft)","cD (ft)","cT,W (ft)","csoil (ft)","cF&N (ft)","cP (ft)","Md (lbf)",{"$f":"IF(OR($C$19=\"\",$E$22=\"\",$D$22=\"\",$F$22=\"\",$F$25=\"\",$G$25=\"\"),0,IF($F$78=\"Stem Tip\",$L$77,$L$78))","v":324750.42622432188},null,null,"Md","Mr",null,null,"Centroid of Log",null,null,"DTS =",{"$f":"IF(OR($E$22=\"\",$F$22=\"\",$F$25=\"\",$G$25=\"\"),\"\",$F$22)","v":2.25},"ft",null,null,"a = DRW/2",{"$f":"$H$22/2","v":3.375},"ft","A =","a*b*((p/2)+arcsin(d/a)) + (b*d*(sqrt(a2-d2))/a)",null,null,null,null,null,null,31,4.96,"Left Bank",43.852137032475653,95.000000041303068,43.852137028634473,92.750000041303068,97.060365446851051,0,2.0603654055479836,2.0603654055479836,"",2.0603654055479836,0,4.3103654055479836,4.3103654055479836,0.16,0,0,0,0.74173154599727409,2.25,0.35213313626417003,0,0,"","","","","","","",0.16,0,0.16,4.96,4.96]
[{"$f":"$Q$79","v":19.194016449957473},{"$f":"IF($I$52=0,0,IF($T$12>=$T$11,$E$22-$BL$43,$BL$43))","v":0},{"$f":"IF($F$66=0,0,IF($T$12>=$T$11,$E$22-$BI$43,$BI$43))","v":26.56},{"$f":"$Q$79","v":19.194016449957473},{"$f":"IF($E$61=0,0,IF($T$12>=$T$11,$E$22-$BS$43,$BS$43))","v":10.48},{"$f":"IF($F$72=0,0,IF($T$12>=$T$11,$E$22-$BR$43,$BR$43))","v":16},{"$f":"IF($C$72=0,0,IF($T$12>=$T$11,$E$22-$BT$39,$BT$39))","v":13.973333333333334},"Mr (lbf)",{"$f":"IF(OR($C$19=\"\",$E$22=\"\",$D$22=\"\",$F$22=\"\",$F$25=\"\",$G$25=\"\"),0,IF($F$78=\"Stem Tip\",$M$77,$M$78))","v":996161.1438265472},null,"Additional resisting moment force (lbf) needed:",{"$f":"(($I$54*$A$77)+($I$55*$B$77)+($I$66*$C$77)+(IF($L$95>0,$L$95*$D$95,0))+(IF($L$96>0,$L$96*$D$96,0))+(IF($L$97>0,$L$97*$D$97,0))+(IF($L$98>0,$L$98*$D$98,0))+(IF($M$95>0,$M$95*$D$95,0))+(IF($M$96>0,$M$96*$D$96,0))+(IF($M$97>0,$M$97*$D$97,0))+(IF($M$98>0,$M$98*$D$98,0)))*$M$19","v":324750.42622432188},{"$f":"(($I$56*$D$77)+(IF($L$60<0,$I$60*$F$77))+($I$57*$E$77)+($I$67*$G$77)+($I$68*$F$77)+(($D$83+$E$83)*$C$83)+($J$83*$H$83)+($J$84*$H$84)+(($I$87+$J$87)*$C$87)+(($I$88+$J$88)*$C$88)+(($I$89+$J$89)*$C$89)+(IF($L$95<=0,$G$95*$D$95,0))+(IF($L$96<=0,$G$96*$D$96,0))+(IF($L$97<=0,$G$97*$D$97,0))+(IF($L$98<=0,$G$98*$D$98,0))+(IF($M$95<=0,$I$95*$D$95,0))+(IF($M$96<=0,$I$96*$D$96,0))+(IF($M$97<=0,$I$97*$D$97,0))+(IF($M$98<=0,$I$98*$D$98,0)))*$M$19","v":996161.1438265472},"Stem Tip",null,"cRW",{"$f":"IF(OR($D$22=\"\",$D$22=\"No\",$F$22=\"\"),0,$E$22-((1/4)*$G$22*(($H$22^2)+(2*$H$22*$F$22)+(3*($F$22^2)))/(($H$22^2)+($H$22*$F$22)+($F$22^2))))","v":30.83173076923077},null,"ATSp,total =",{"$f":"IF($T$76=\"\",\"\",ABS(($U$42-$U$43)*$F$22/$M$19))","v":70.42662725283401},"ft2",null,null,"b= (DRW/2)*ABS(cos(q))",{"$f":"($H$22/2)*ABS(COS($B$25*PI()/180))","v":0.70170195650993705},"ft","ARW,total =",{"$f":"IF(OR($D$22=\"\",$D$22=\"No\"),0,PI()*$Y$76*$Y$77)","v":7.4400582765865586},"ft2",null,null,null,null,null,32,5.12,"Left Bank",44.008640648593065,95.00000004102381,44.008640644751885,92.75000004102381,97.038305889531642,0,2.0383058485078323,2.0383058485078323,"",2.0383058485078323,0,4.2883058485078323,4.2883058485078323,0.16,0,0,0,0.73379010546281964,2.25,0.35213313626417003,0,0,"","","","","","","",0.16,0,0.16,5.12,5.12]
["*Distances are from the stem tip",null,null,"Point of Rotation:",null,{"$f":"IF(OR($F$25=\"\",$G$25=\"\",$D$22=\"\"),\"\",IF(AND($T$11<$T$12,$AY$45>0),$L$74,IF(AND($T$11>$T$12,$AY$245>0),$L$74,IF(AND($AY$45>0,$AY$245>0),$L$74,IF(AND($AY$45=0,$AY$245=0),$L$74,\"Stem Tip\")))))","v":"Stem Tip"},null,"FSM",{"$f":"IF(OR($E$22=\"\",$F$22=\"\",$F$25=\"\",$G$25=\"\"),0,IF(OR($A$6=\"\",$F$25=\"\",$G$25=\"\"),\"\",$I$77/$I$76))","v":3.0674667787454952},{"$f":"$I$78-$L$80","v":1.5674667787454952},{"$f":"IF(AND($F$25=\"\",$G$25=\"\"),\"\",IF($I$78>=$L$80,\"Structure is Stable with respect to Moment Forces\",($I$76*$L$80)-$I$77))","v":"Structure is Stable with respect to Moment Forces"},{"$f":"(($I$54*($E$22-$A$77))+($I$55*($E$22-$B$77))+($I$66*($E$22-$C$77))+(IF($L$95>0,$L$95*($E$22-$D$95),0))+(IF($L$96>0,$L$96*($E$22-$D$96),0))+(IF($L$97>0,$L$97*($E$22-$D$97),0))+(IF($L$98>0,$L$98*($E$22-$D$98),0))+(IF($M$95>0,$M$95*($E$22-$D$95),0))+(IF($M$96>0,$M$96*($E$22-$D$96),0))+(IF($M$97>0,$M$97*($E$22-$D$97),0))+(IF($M$98>0,$M$98*($E$22-$D$98),0)))*$M$19","v":366158.85740505485},{"$f":"(($I$56*($E$22-$D$77))+(IF($L$60<0,$I$60*($E$22-$F$77)))+($I$57*($E$22-$E$77))+($I$67*($E$22-$G$77))+($I$68*($E$22-$F$77))+(($D$83+$E$83)*($E$22-$C$83))+($J$83*($E$22-$H$83))+($J$84*($E$22-$H$84))+(($I$87+$J$87)*($E$22-$C$87))+(($I$88+$J$88)*($E$22-$C$88))+(($I$89+$J$89)*($E$22-$C$89))+(IF($L$95<=0,$G$95*($E$22-$D$95),0))+(IF($L$96<=0,$G$96*($E$22-$D$96),0))+(IF($L$97<=0,$G$97*($E$22-$D$97),0))+(IF($L$98<=0,$G$98*($E$22-$D$98),0))+(IF($M$95<=0,$I$95*($E$22-$D$95),0))+(IF($M$96<=0,$I$96*($E$22-$D$96),0))+(IF($M$97<=0,$I$97*($E$22-$D$97),0))+(IF($M$98<=0,$I$98*($E$22-$D$98),0)))*$M$19","v":1045226.8912080262},"Root Collar or RW",null,"cTS",{"$f":"(($E$22-$G$22)/2)","v":14.3125},null,"ATSp,dry =",{"$f":"IF($T$86=\"\",\"\",IF($T$86=\"Submerged\",0,IF($T$88=\"Dry\",$T$77,IF(AND($AC$86=\"Dry\",$T$86=\"Partial\"),ABS(($U$43-$W$87)*$F$22/$M$19),IF(AND($AC$86=\"Partial\",$AC$87=\"Partial\"),(ABS($U$39-$U$38))*(($AF$86+$AF$87)/2),IF($AC$86=\"Partial\",(ABS($U$39-$W$86))*$AF$86/2,(($U$41-$W$88)*$F$22)+(ABS($W$88-$U$40))*($AF$87+$F$22)/2))))))","v":0},"ft2",null,null,"d1 = (DRW/2) - (yRW,crown-WSE)",{"$f":"IF(OR($D$22=\"\",$F$22=\"\"),\"\",IF($AE$8>=$U$10,$Y$76,$Y$76-($U$10-$AE$8)))","v":3.375},"ft","ARW,↑WSE =",{"$f":"IF($D$22=\"No\",0,IF($U$15>$AE$8,$AB$77,IF($U$10<$AE$8,0,IF($D$22=\"\",0,$AB$77-(($Y$76*$Y$77*((PI()/2)+ASIN($Y$78/$Y$76)))+($Y$77*$Y$78*(SQRT(($Y$76^2)-($Y$78^2))/$Y$76)))))))","v":0},"ft2",null,null,null,null,null,33,5.28,"Left Bank",44.165144264710477,95.000000040744553,44.165144260869297,92.750000040744553,97.016246332212233,0,2.0162462914676809,2.0162462914676809,"",2.0162462914676809,0,4.2662462914676809,4.2662462914676809,0.16,0,0,0,0.72584866492836508,2.25,0.35213313626417003,0,0,"","","","","","","",0.16,0,0.16,5.28,5.28]
[null,null,null,null,null,null,null,null,null,null,null,"Formatting",null,null,null,"cT",{"$f":"IF(OR($D$22=\"\",$D$22=\"No\",$F$22=\"\"),$Q$78,((((($B$53+$B$52)*$I$22)+($B$54*$J$22))*$Q$78)+(((($C$53+$C$52)*$I$22)+($C$54*$J$22))*$Q$77))/$E$55)","v":19.194016449957473},null,"ATSp,em =",{"$f":"$BE$43","v":64.159664962270881},"ft2",null,null,"d2 = (DRW/2) - (ythalweg-yRW,bot)",{"$f":"IF(OR($D$22=\"\",$F$22=\"\"),\"\",IF($U$15>=$C$16,$Y$76,$Y$76-($C$16-$U$15)))","v":1.0749999941095183},"ft","ARW,↓bed =",{"$f":"IF($D$22=\"No\",0,IF($U$10<$C$16,$AB$77,IF($U$15>$C$16,0,IF($D$22=\"\",0,$AB$77-(($Y$76*$Y$77*((PI()/2)+ASIN($Y$79/$Y$76)))+($Y$77*$Y$79*(SQRT(($Y$76^2)-($Y$79^2))/$Y$76)))))))","v":2.2372828858961986},"ft2",null,null,null,null,null,34,5.44,"Left Bank",44.321647880827882,95.000000040465295,44.321647876986702,92.750000040465295,96.994186774892825,0,1.9941867344275295,1.9941867344275295,"",1.9941867344275295,0,4.2441867344275295,4.2441867344275295,0.16,0,0,0,0.71790722439391064,2.25,0.35213313626417003,0,0,"","","","","","","",0.16,0,0.16,5.44,5.44]
["Anchor Forces",null,null,null,null,null,null,null,null,null,null,{"$f":"'2-Constants'!$C$7","v":1.5},null,null,null,null,null,null,"(-) ATSp,dry,em =",{"$f":"-$BG$43","v":0},"ft3",null,null,null,null,null,"ARWp =",{"$f":"IF($D$22=\"\",0,$AB$77-$AB$78-$AB$79)","v":5.20277539069036},"ft2",null,null,null,null,null,35,5.6,"Left Bank",44.478151496945287,95.000000040186038,44.478151493104107,92.750000040186038,96.97212721757343,0,1.9721271773873923,1.9721271773873923,"",1.9721271773873923,0,4.2221271773873923,4.2221271773873923,0.16,0,0,0,0.70996578385946119,2.25,0.35213313626417003,0,0,"","","","","","","",0.16,0,0.16,5.6,5.6]
["Additional Soil Ballast",null,null,null,null,null,null,"Mechanical Anchors",null,null,{"$f":"IF(OR($H$83<>\"\",$H$84<>\"\",$C$87<>\"\",$C$88<>\"\",$C$89<>\"\"),\"CHECK--Verify anchors are correctly located on X-Sect (above)\",\"\")","v":"CHECK--Verify anchors are correctly located on X-Sect (above)"},"Formatting",null,null,null,"Buried anchors","Number",null,"ATSp,wet =",{"$f":"IF($D$22=\"\",\"\",IF($T$88=\"Dry\",0,$T$77-$T$78-$T$79-$T$80))","v":6.2669622905631286},"ft2",null,null,null,null,null,null,null,null,null,null,null,null,null,36,5.76,"Left Bank",44.634655113062699,95.00000003990678,44.634655109221519,92.75000003990678,96.950067660254021,0,1.9500676203472409,1.9500676203472409,"",1.9500676203472409,0,4.2000676203472409,4.2000676203472409,0.16,0,0,0,0.70202434332500674,2.25,0.35213313626417003,0,0,"","","","","","","",0.16,0,0.16,5.76,5.76]
["VAdry (ft3)","VAwet (ft3)","cAsoil (ft)","FA,Vsoil (lbf)","FA,HP (lbf)",null,"Type","cAm (ft)","Soils","FAm (lbf)","Quick Design Reference:",{"$f":"IF($D$83=\"\",0,-$D$83)","v":0},{"$f":"IF($E$83=\"\",0,-$E$83)","v":0},null,"Total (lbf)",{"$f":"$J$83+$J$84+(IF($A$87=\"Deadman\",$F$87-$G$87,0))+(IF($A$88=\"Deadman\",$F$88-$G$88,0))+(IF($A$89=\"Deadman\",$F$89-$G$89,0))","v":13430.308594096365},{"$f":"(IF($J$83>0,1,0))+(IF($J$84>0,1,0))+(IF(AND($I$87>0,$A$87=\"Deadman\"),1,0))+(IF(AND($I$88>0,$A$88=\"Deadman\"),1,0))+(IF(AND($I$89>0,$A$89=\"Deadman\"),1,0))","v":2},null,null,null,null,null,null,null,null,null,null,null,null,null,null,null,null,null,37,5.92,"Left Bank",44.791158729180111,95.000000039627523,44.791158725338931,92.750000039627523,96.928008102934612,0,1.9280080633070895,1.9280080633070895,"",1.9280080633070895,0,4.1780080633070895,4.1780080633070895,0.16,0,0,0,0.69408290279055229,2.25,0.35213313626417003,0,0,"","","","","","","",0.16,0,0.16,5.92,5.92]
[null,null,null,{"$f":"IF(AND($A$83=\"\",$B$83=\"\"),0,($A$83*$D$29)+($B$83*$E$29))","v":0},{"$f":"IF($D$83=0,0,0.5*$B$71*$D$83)","v":0},null,null,null,{"$f":"$W$100","v":""},{"$f":"IF(OR($G83=\"\",$H83=\"\"),0,IF(AND($W100=\"Bed\",$G$28=4),HLOOKUP($G$83,AnchorRatings,3,0),IF(AND($W100=\"Bed\",$G$28=5),HLOOKUP($G$83,AnchorRatings,4,0),IF(AND($W100=\"Bed\",$G$28=6),HLOOKUP($G$83,AnchorRatings,5,0),IF(AND($W100=\"Bed\",$G$28=7),HLOOKUP($G$83,AnchorRatings,6,0),IF(AND($W100=\"Bank\",$G$29=4),HLOOKUP($G$83,AnchorRatings,3,0),IF(AND($W100=\"Bank\",$G$29=5),HLOOKUP($G$83,AnchorRatings,4,0),IF(AND($W100=\"Bank\",$G$29=6),HLOOKUP($G$83,AnchorRatings,5,0),IF(AND($W100=\"Bank\",$G$29=7),HLOOKUP($G$83,AnchorRatings,6,0))))))))))","v":0},{"$f":"$I$61","v":1.5155176084827033},0,{"$f":"(IF($A87=\"Behind\",-$J87,0))","v":0},null,"Required Vertical Resistance (lbf)",{"$f":"($L$54+$L$55+(IF($L$58>0,$L$58,0)))*$L$61","v":29792.961666269199},null,null,null,null,null,null,null,null,null,null,null,null,null,null,null,null,null,null,38,6.08,"Left Bank",44.947662345297516,95.000000039348265,44.947662341456336,92.750000039348265,96.905948545615203,0,1.9059485062669381,1.9059485062669381,"",1.9059485062669381,0,4.1559485062669381,4.1559485062669381,0.16,0,0,0,0.68614146225609773,2.25,0.35213313626417003,0,0,"","","","","","","",0.16,0,0.16,6.08,6.08]
[null,null,null,null,null,null,null,null,{"$f":"$W$101","v":""},{"$f":"IF(OR($G84=\"\",$H84=\"\"),0,IF(AND($W101=\"Bed\",$G$28=4),HLOOKUP($G$84,AnchorRatings,3,0),IF(AND($W101=\"Bed\",$G$28=5),HLOOKUP($G$84,AnchorRatings,4,0),IF(AND($W101=\"Bed\",$G$28=6),HLOOKUP($G$84,AnchorRatings,5,0),IF(AND($W101=\"Bed\",$G$28=7),HLOOKUP($G$84,AnchorRatings,6,0),IF(AND($W101=\"Bank\",$G$29=4),HLOOKUP($G$84,AnchorRatings,3,0),IF(AND($W101=\"Bank\",$G$29=5),HLOOKUP($G$84,AnchorRatings,4,0),IF(AND($W101=\"Bank\",$G$29=6),HLOOKUP($G$84,AnchorRatings,5,0),IF(AND($W101=\"Bank\",$G$29=7),HLOOKUP($G$84,AnchorRatings,6,0))))))))))","v":0},{"$f":"'2-Constants'!$C$5","v":1.5},0,{"$f":"(IF($A88=\"Behind\",-$J88,0))","v":0},null,"Actual Vertical Resistance (lbf)",{"$f":"ABS($L$56+$L$57+(IF($L$58<0,$L$58,0))+$L$59)","v":10956.93897541305},null,null,"Log Position","Water and Log Intercept",null,null,null,null,"Soil","LW Buried at Intercept?",null,"Log Position","Water and Log Intercept at Face",null,null,null,null,null,39,6.24,"Left Bank",45.104165961414928,95.000000039069008,45.104165957573748,92.750000039069008,96.883888988295794,0,1.8838889492267867,1.8838889492267867,"",1.8838889492267867,0,4.1338889492267867,4.1338889492267867,0.16,0,0,0,0.67820002172164329,2.25,0.35213313626417003,0,0,"","","","","","","",0.16,0,0.16,6.24,6.24]
["Boulder Ballast",null,null,null,null,null,null,null,null,null,null,0,{"$f":"(IF($A89=\"Behind\",-$J89,0))","v":0},null,"Extra Needed Vertical Resistance (lbf)",{"$f":"$P$83-$P$84","v":18836.022690856149},null,null,null,"Condition","Intercept Zone",null,"xTS (ft)","yTS (ft)","ysoil (ft)",null,null,null,"Condition","xTS (ft)","yTS (ft)","hTS,dry (ft)",null,null,40,6.4,"Left Bank",45.26066957753234,95.00000003878975,45.26066957369116,92.75000003878975,96.8618294309764,0,1.8618293921866496,1.8618293921866496,"",1.8618293921866496,0,4.1118293921866496,4.1118293921866496,0.16,0,0,0,0.67025858118719384,2.25,0.35213313626417003,0,0,"","","","","","","",0.16,0,0.16,6.4,6.4]
["Position","Dr (ft)","cAr (ft)","Vr,dry (ft3)","Vr,wet (ft3)","Wr (lbf)","FL,r (lbf)","FD,r (lbf)","FA,Vr (lbf)","FA,Hr (lbf)",{"$f":"$I$72","v":88.099644948900263},{"$f":"$L$82+$L$83+$L$84+$L$85","v":0},{"$f":"$M$82+$M$83+$M$84+$M$85","v":0},null,"Required Horizontal Resistance (lbf)",{"$f":"($L$66+(IF($L$69>0,$L$69,0)))*$L$72","v":374.12435832100527},null,null,"Crown",{"$f":"IF(OR($E$22=\"\",$F$22=\"\",$F$25=\"\",$G$25=\"\"),\"\",IF($X$39<=$AE$12,\"Submerged\",IF($X$38>$AE$12,\"Dry\",\"Partial\")))","v":"Submerged"},{"$f":"IF($X$86=\"\",\"None\",IF($W$86<$B$14,\"Left Floodplain\",IF($W$86<$B$15,\"Left Bank\",IF($W$86<$B$16,\"Left Stream Bed\",IF($W$86<$B$17,\"Right Stream Bed\",IF($W$86<$B$18,\"Right Bank\",\"Right Floodplain\"))))))","v":"None"},{"$f":"IF($U$47=0,0,IF(OR($B$25=0,$B$25=180,$B$25=360),$E$22-ABS(($X$39-$W$47)/$M$20),IF(AND($U$38<=$U$39,$X$38>=$Y$38),ABS(($X$38-$W$47)/($AA$40*$M$17*$M$19)),IF(AND($U$38<=$U$39,$X$38<$Y$38),ABS($E$22-(ABS(($X$38-$W$47)/($AA$40*$M$17*$M$19)))),IF(AND($U$38>$U$39,$X$39>=$Y$39),ABS(($X$39-$W$47)/($AA$40*$M$17*$M$19)),IF(AND($U$38>=$U$39,$X$39<$Y$39),ABS($E$22-(ABS(($X$38-$W$47)/($AA$40*$M$17*$M$19))))))))))","v":0},{"$f":"IF($X$86=\"\",\"\",$U$39-(($X$39-$AE$8)/$AA$40))","v":""},{"$f":"IF($T$86=\"Partial\",$AE$12,\"\")","v":""},{"$f":"IF($X$86=\"\",\"\",IF($W$86<$B$14,(($W$86-$B$13)*$AB$31)+$C$13,IF($W$86<$B$15,(($W$86-$B$14)*$AB$32)+$C$14,IF($W$86<$B$16,(($W$86-$B$15)*$AB$33)+$C$15,IF($W$86<$B$17,(($W$86-$B$16)*$AB$34)+$C$16,IF($W$86<$B$18,(($W$86-$B$17)*$AB$35)+$C$17,IF($W$86<$B$19,(($W$86-$B$18)*$AB$36)+$C$18)))))))","v":""},{"$f":"IF($X$86=\"\",\"\",IF($X$86<=$Y$86,\"Yes\",\"No\"))","v":""},null,"Upper Face",{"$f":"IF($T$86=\"\",\"\",IF($X$41>$AE$8,\"Dry\",IF($T$86=\"Submerged\",\"Submerged\",\"Partial\")))","v":"Submerged"},{"$f":"IF($AE$86=\"\",\"\",$U$39-(($X$39-$AE$8)/$AB$40))","v":""},{"$f":"IF($AC$86=\"Partial\",$AE$12,\"\")","v":""},{"$f":"IF($AC$86=\"Submerged\",0,IF($AC$86=\"Dry\",$F$22,($X$39-$AE$8)/$M$19))","v":0},null,null,41,6.56,"Left Bank",45.417173193649745,95.000000038510493,45.417173189808565,92.750000038510493,96.839769873656991,0,1.8397698351464982,1.8397698351464982,"",1.8397698351464982,0,4.0897698351464982,4.0897698351464982,0.16,0,0,0,0.66231714065273939,2.25,0.35213313626417003,0,0,"","","","","","","",0.16,0,0.16,6.56,6.56]
["Above",4.75,8,{"$f":"IF(OR($B87=\"\",$C87=\"\"),\"\",(PI()*($B87^3)/6)-$E87)","v":7.1054273576010019E-15},{"$f":"IF($B87=\"\",\"\",$U94)","v":56.11506252857393},{"$f":"IF(OR($B87=\"\",$C87=\"\"),\"\",($D87*DUWRock)+($E87*(DUWRock-SWWater)))","v":5757.4054154316855},{"$f":"IF(OR($B87=\"\",$C87=\"\"),\"\",$Q99)","v":43.480975553668983},{"$f":"IF(OR($B87=\"\",$C87=\"\"),\"\",$P99)","v":217.40487776834487},{"$f":"IF(OR($B87=\"\",$C87=\"\"),0,IF($A87=\"Behind\",0,IF(AND($A87=\"Deadman\",$P$85<=0),0,IF(AND($A87=\"Deadman\",$P$82>=$P$85),($F87-$G87)*($P$85/$P$82),$F87-$G87))))","v":5713.9244398780165},{"$f":"IF(OR($B87=\"\",$C87=\"\"),0,IF($A87=\"Above\",0,IF($A87=\"Deadman\",($F87-$G87)-$I87,IF(AND($A87=\"Behind\",OR($W94=\"Left Stream Bed\",$W94=\"Right Stream Bed\")),(($F87-$G87)*$E$70)-$H87,(($F87-$G87)*$E$71)-$H87))))","v":0},{"$f":"'2-Constants'!$C$6","v":1.5},{"$f":"IF($J83=0,0,IF($P$85<=0,0,IF($P$82>=$P$85,-J$83*($P$85/$P$82),-$J83)))","v":0},{"$f":"-($J83+$L87)","v":0},null,"Actual Horizontal Resistance (lbf)",{"$f":"ABS($L$67+$L$68+(IF($L$69<0,$L$69,0))+$L$70)","v":21973.482089877136},null,null,"Centerline",{"$f":"IF(OR($E$22=\"\",$F$22=\"\",$F$25=\"\",$G$25=\"\"),\"\",IF($X$43<=$AE$12,\"Submerged\",IF($X$42>=$AE$12,\"Dry\",\"Partial\")))","v":"Submerged"},{"$f":"IF($X$87=\"\",\"None\",IF($W$87<$B$14,\"Left Floodplain\",IF($W$87<$B$15,\"Left Bank\",IF($W$87<$B$16,\"Left Stream Bed\",IF($W$87<$B$17,\"Right Stream Bed\",IF($W$87<$B$18,\"Right Bank\",\"Right Floodplain\"))))))","v":"None"},{"$f":"IF($U$47=0,0,IF(OR($B$25=0,$B$25=180,$B$25=360),$E$22-ABS(($X$39-$W$47)/$M$20),IF(AND($U$38<=$U$39,$X$38>=$Y$38),ABS(($X$38-$W$47)/($AA$40*$M$17*$M$19)),IF(AND($U$38<=$U$39,$X$38<$Y$38),ABS($E$22-(ABS(($X$38-$W$47)/($AA$40*$M$17*$M$19)))),IF(AND($U$38>$U$39,$X$39>=$Y$39),ABS(($X$39-$W$47)/($AA$40*$M$17*$M$19)),IF(AND($U$38>=$U$39,$X$39<$Y$39),ABS($E$22-(ABS(($X$38-$W$47)/($AA$40*$M$17*$M$19))))))))))","v":0},{"$f":"IF($X$87=\"\",\"\",$U$43-(($X$43-$AE$8)/$AA$40))","v":""},{"$f":"IF($T$87=\"Partial\",$AE$12,\"\")","v":""},{"$f":"IF($X$87=\"\",\"\",IF($W$87<$B$14,(($W$87-$B$13)*$AB$31)+$C$13,IF($W$87<$B$15,(($W$87-$B$14)*$AB$32)+$C$14,IF($W$87<$B$16,(($W$87-$B$15)*$AB$33)+$C$15,IF($W$87<$B$17,(($W$87-$B$16)*$AB$34)+$C$16,IF($W$87<$B$18,(($W$87-$B$17)*$AB$35)+$C$17,IF($W$87<$B$19,(($W$87-$B$18)*$AB$36)+$C$18)))))))","v":""},{"$f":"IF($X$87=\"\",\"\",IF($X$87<=$Y$87,\"Yes\",\"No\"))","v":""},null,"Lower Face",{"$f":"IF($T$88=\"\",\"\",IF($X$40>=$AE$8,\"Dry\",IF($X$38<=$AE$8,\"Submerged\",\"Partial\")))","v":"Submerged"},{"$f":"IF($AE$87=\"\",\"\",$U$38-(($X$38-$AE$8)/$AB$40))","v":""},{"$f":"IF($AC$87=\"Partial\",$AE$12,\"\")","v":""},{"$f":"IF($AC$87=\"Submerged\",0,IF($AC$87=\"Dry\",$F$22,($X$38-$AE$8)/$M$19))","v":0},null,null,42,6.72,"Left Bank",45.57367680976715,95.000000038231235,45.57367680592597,92.750000038231235,96.817710316337582,0,1.8177102781063468,1.8177102781063468,"",1.8177102781063468,0,4.0677102781063468,4.0677102781063468,0.16,0,0,0,0.65437570011828483,2.25,0.35213313626417003,0,0,"","","","","","","",0.16,0,0.16,6.72,6.72]
["Deadman",5,16,{"$f":"IF(OR($B88=\"\",$C88=\"\"),\"\",(PI()*($B88^3)/6)-$E88)","v":0},{"$f":"IF($B88=\"\",\"\",$U95)","v":65.449846949787357},{"$f":"IF(OR($B88=\"\",$C88=\"\"),\"\",($D88*DUWRock)+($E88*(DUWRock-SWWater)))","v":6715.1542970481823},{"$f":"IF(OR($B88=\"\",$C88=\"\"),\"\",$Q100)","v":0},{"$f":"IF(OR($B88=\"\",$C88=\"\"),\"\",$P100)","v":0},{"$f":"IF(OR($B88=\"\",$C88=\"\"),0,IF($A88=\"Behind\",0,IF(AND($A88=\"Deadman\",$P$85<=0),0,IF(AND($A88=\"Deadman\",$P$82>=$P$85),($F88-$G88)*($P$85/$P$82),$F88-$G88))))","v":6715.1542970481823},{"$f":"IF(OR($B88=\"\",$C88=\"\"),0,IF($A88=\"Above\",0,IF($A88=\"Deadman\",($F88-$G88)-$I88,IF(AND($A88=\"Behind\",OR($W95=\"Left Stream Bed\",$W95=\"Right Stream Bed\")),(($F88-$G88)*$E$70)-$H88,(($F88-$G88)*$E$71)-$H88))))","v":0},null,{"$f":"IF($J84=0,0,IF($P$85<=0,0,IF($P$82>=$P$85,-J$84*($P$85/$P$82),-$J84)))","v":0},{"$f":"-($J84+$L88)","v":0},null,"Extra needed Horizontal Resistance (lbf)",{"$f":"$P$86-$P$87","v":-21599.357731556131},null,null,"Bottom",{"$f":"IF(OR($E$22=\"\",$F$22=\"\",$F$25=\"\",$G$25=\"\"),\"\",IF($X$41<=$AE$12,\"Submerged\",IF($X$40>=$AE$12,\"Dry\",\"Partial\")))","v":"Submerged"},{"$f":"IF($X$88=\"\",\"None\",IF($W$88<$B$14,\"Left Floodplain\",IF($W$88<$B$15,\"Left Bank\",IF($W$88<$B$16,\"Left Stream Bed\",IF($W$88<$B$17,\"Right Stream Bed\",IF($W$88<$B$18,\"Right Bank\",\"Right Floodplain\"))))))","v":"None"},{"$f":"IF($U$47=0,0,IF(OR($B$25=0,$B$25=180,$B$25=360),$E$22-ABS(($X$39-$W$47)/$M$20),IF(AND($U$38<=$U$39,$X$38>=$Y$38),ABS(($X$38-$W$47)/($AA$40*$M$17*$M$19)),IF(AND($U$38<=$U$39,$X$38<$Y$38),ABS($E$22-(ABS(($X$38-$W$47)/($AA$40*$M$17*$M$19)))),IF(AND($U$38>$U$39,$X$39>=$Y$39),ABS(($X$39-$W$47)/($AA$40*$M$17*$M$19)),IF(AND($U$38>=$U$39,$X$39<$Y$39),ABS($E$22-(ABS(($X$38-$W$47)/($AA$40*$M$17*$M$19))))))))))","v":0},{"$f":"IF($X$88=\"\",\"\",$U$41-(($X$41-$AE$8)/$AA$40))","v":""},{"$f":"IF($T$88=\"Partial\",$AE$12,\"\")","v":""},{"$f":"IF($X$88=\"\",\"\",IF($W$88<$B$14,(($W$88-$B$13)*$AB$31)+$C$13,IF($W$88<$B$15,(($W$88-$B$14)*$AB$32)+$C$14,IF($W$88<$B$16,(($W$88-$B$15)*$AB$33)+$C$15,IF($W$88<$B$17,(($W$88-$B$16)*$AB$34)+$C$16,IF($W$88<$B$18,(($W$88-$B$17)*$AB$35)+$C$17,IF($W$88<$B$19,(($W$88-$B$18)*$AB$36)+$C$18)))))))","v":""},{"$f":"IF($X$88=\"\",\"\",IF($X$88<=$Y$88,\"Yes\",\"No\"))","v":""},null,null,null,null,null,null,null,null,43,6.88,"Left Bank",45.730180425884562,95.000000037951978,45.730180422043382,92.750000037951978,96.795650759018173,0,1.7956507210661954,1.7956507210661954,"",1.7956507210661954,0,4.0456507210661954,4.0456507210661954,0.16,0,0,0,0.64643425958383038,2.25,0.35213313626417003,0,0,"","","","","","","",0.16,0,0.16,6.88,6.88]
["Deadman",5,24,{"$f":"IF(OR($B89=\"\",$C89=\"\"),\"\",(PI()*($B89^3)/6)-$E89)","v":0},{"$f":"IF($B89=\"\",\"\",$U96)","v":65.449846949787357},{"$f":"IF(OR($B89=\"\",$C89=\"\"),\"\",($D89*DUWRock)+($E89*(DUWRock-SWWater)))","v":6715.1542970481823},{"$f":"IF(OR($B89=\"\",$C89=\"\"),\"\",$Q101)","v":0},0,{"$f":"IF(OR($B89=\"\",$C89=\"\"),0,IF($A89=\"Behind\",0,IF(AND($A89=\"Deadman\",$P$85<=0),0,IF(AND($A89=\"Deadman\",$P$82>=$P$85),($F89-$G89)*($P$85/$P$82),$F89-$G89))))","v":6715.1542970481823},{"$f":"IF(OR($B89=\"\",$C89=\"\"),0,IF($A89=\"Above\",0,IF($A89=\"Deadman\",($F89-$G89)-$I89,IF(AND($A89=\"Behind\",OR($W96=\"Left Stream Bed\",$W96=\"Right Stream Bed\")),(($F89-$G89)*$E$70)-$H89,(($F89-$G89)*$E$71)-$H89))))","v":0},{"$f":"I78","v":3.0674667787454952},{"$f":"-$I87","v":-5713.9244398780165},{"$f":"IF($A87=\"Deadman\",-$J87,0)","v":0},null,null,null,null,null,null,null,null,null,null,null,null,null,null,null,null,null,null,null,null,null,44,7.04,"Left Bank",45.886684042001974,95.00000003767272,45.886684038160794,92.75000003767272,96.773591201698764,0,1.773591164026044,1.773591164026044,"",1.773591164026044,0,4.023591164026044,4.023591164026044,0.16,0,0,0,0.63849281904937583,2.25,0.35213313626417003,0,0,"","","","","","","",0.16,0,0.16,7.04,7.04]
[null,null,null,null,null,null,null,null,null,null,{"$f":"'2-Constants'!$C$7","v":1.5},{"$f":"-$I88","v":-6715.1542970481823},{"$f":"IF($A88=\"Deadman\",-$J88,0)","v":0},null,null,null,null,null,null,null,null,null,null,null,null,null,null,null,null,null,null,null,null,null,45,7.2,"Left Bank",46.043187658119379,95.000000037393463,46.043187654278199,92.750000037393463,96.751531644379355,0,1.7515316069858926,1.7515316069858926,"",1.7515316069858926,0,4.0015316069858926,4.0015316069858926,0.16,0,0,0,0.63055137851492138,2.25,0.35213313626417003,0,0,"","","","","","","",0.16,0,0.16,7.2,7.2]
[{"$f":"IF($A$6=\"\",\"\",$A$6)","v":"Sample1"},{"$f":"IF($A$6=\"\",\"\",$B$6)","v":"Flow Deflection"},null,{"$f":"IF(OR($B$9=\"N/A\",$B$9=\"\"),\"\",$B$9)","v":"Key Log"},{"$f":"IF($D$48=\"\",\"\",\"Log ID\")","v":"Log ID"},{"$f":"IF($D$48=\"\",\"\",$C$9)","v":"Foot#2"},null,null,null,"Page 3",null,{"$f":"-$I89","v":-6715.1542970481823},{"$f":"IF($A89=\"Deadman\",-$J89,0)","v":0},null,null,null,null,null,null,null,"A = [(R - ddry)*SQRT(2Rddry - ddry2)] - R2 arccos [(R - ddry)/R]",null,null,null,null,null,null,"Boulder #1",null,"Boulder #2",null,"Boulder #3",null,null,46,7.36,"Left Bank",46.199691274236791,95.000000037114205,46.199691270395611,92.750000037114205,96.72947208705996,0,1.7294720499457554,1.7294720499457554,"",1.7294720499457554,0,3.9794720499457554,3.9794720499457554,0.16,0,0,0,0.62260993798047193,2.25,0.35213313626417003,0,0,"","","","","","","",0.16,0,0.16,7.36,7.36]
["Interaction Forces with Adjacent Logs",null,null,null,null,null,null,null,null,null,null,{"$f":"$L$87+$L$88+$L$89+$L$90+$L$91","v":-19144.233033974382},{"$f":"$M$87+$M$88+$M$89+$M$90+$M$91","v":0},"←Flex anchors","Ballast Boulder Calculations",null,null,null,null,null,null,null,null,null,null,null,null,"xTS (ft)","yTS (ft)","xTS (ft)","yTS (ft)","xTS (ft)","yTS (ft)",null,47,7.52,"Left Bank",46.356194890354196,95.000000036834948,46.356194886513016,92.750000036834948,96.707412529740552,0,1.707412492905604,1.707412492905604,"",1.707412492905604,0,3.957412492905604,3.957412492905604,0.16,0,0,0,0.61466849744601748,2.25,0.35213313626417003,0,0,"","","","","","","",0.16,0,0.16,7.52,7.52]
[null,null,null,null,null,null,"Applied Forces from other Logs",null,null,null,{"$f":"IF(OR($B$95<>\"\",$B$96<>\"\",$B$97<>\"\",$B$98<>\"\"),\"NOTE -- The page is not formatted to print the Interaction Forces\",\"\")","v":"NOTE -- The page is not formatted to print the Interaction Forces"},null,null,null,null,"xr,bot (ft)","yr,bot (ft)","yTS,bot (ft)","ysoil (ft)","dr,dry (ft)","Vr,wet (ft3)","Ar↑WSE (ft2)","Zone","dr↓Thw (ft)","Ar↓Thw (ft2)","APr (ft2)","Point 1",{"$f":"IF($P$94=\"\",0,$P$94)","v":46.825705736785835},{"$f":"IF($Q$94=\"\",$C$13,$Q$94)","v":95.000000035997417},{"$f":"IF($P$95=\"\",0,$P$95)","v":54.650886542656281},{"$f":"IF($Q$95=\"\",$C$13,$Q$95)","v":89.500000022034783},{"$f":"IF($P$96=\"\",0,$P$96)","v":62.476067348526726},{"$f":"IF($Q$96=\"\",$C$13,$Q$96)","v":89.500000008072149},null,48,7.68,"Left Bank",46.512698506471608,95.00000003655569,46.512698502630428,92.75000003655569,96.685352972421143,0,1.6853529358654527,1.6853529358654527,"",1.6853529358654527,0,3.9353529358654527,3.9353529358654527,0.16,0,0,0,0.60672705691156292,2.25,0.35213313626417003,0,0,"","","","","","","",0.16,0,0.16,7.68,7.68]
["Log ID","Position","Link","cWI (ft)","FW,V (lbf)","FW,H (lbf)","FW,V (lbf)",null,"FW,H (lbf)",null,null,"Formatting",null,null,"Boulder 1",{"$f":"IF(OR($F$25=\"\",$C87=\"\"),\"\",$AE$49-(($C87*$M$19)*$M$17))","v":46.825705736785835},{"$f":"IF(OR($G$25=\"\",$C87=\"\"),\"\",IF($A87=\"Behind\",MIN($R94,$S94),IF($A87=\"Deadman\",(MIN($R94,$S94))-($F$22+1),$R94+$F$22)))","v":95.000000035997417},{"$f":"IF($P94=\"\",\"\",($AF$49+(($P94-$AE$49)*$AA$40))-($F$22/2))","v":92.750000035997417},{"$f":"IF($P94=\"\",\"\",IF($P94<$B$14,(($P94-$B$13)*$AB$31)+$C$13,IF($P94<$B$15,(($P94-$B$14)*$AB$32)+$C$14,IF($P94<$B$16,(($P94-$B$15)*$AB$33)+$C$15,IF($P94<$B$17,(($P94-$B$16)*$AB$34)+$C$16,IF($P94<$B$18,(($P94-$B$17)*$AB$35)+$C$17,IF($P94<$B$19,(($P94-$B$18)*$AB$36)+$C$18)))))))","v":96.641233858053042},{"$f":"IF($Q94=\"\",\"\",IF(($Q94+$B87-$AE$8)>=$B87,$B87,IF(($Q94+$B87)>$AE$8,($Q94+$B87)-$AE$8,0)))","v":0},{"$f":"IF($T94=\"\",\"\",IF($T94>=$B87,0,(PI()/3)*(($B87-$T94)^2)*((1.5*$B87)-($B87-$T94))))","v":56.11506252857393},{"$f":"IF($C87=\"\",\"\",IF($A87=\"Deadman\",0,IF($Q94>=$AE$8,PI()*(($B87/2)^2),((($B87/2)^2)*ACOS((($B87/2)-$T94)/($B87/2)))-((($B87/2)-$T94)*SQRT(2*($B87/2)*$T94-($T94^2))))))","v":0},{"$f":"IF($P94=\"\",\"\",IF(OR($C$19=\"\",$F$25=\"\",$G$25=\"\"),\"None\",IF($P94<$B$14,\"Left Floodplain\",IF($P94<$B$15,\"Left Bank\",IF($P94<$B$16,\"Left Stream Bed\",IF($P94<$B$17,\"Right Stream Bed\",IF($P94<$B$18,\"Right Bank\",\"Right Floodplain\")))))))","v":"Left Bank"},{"$f":"IF($Q94=\"\",\"\",IF(($Q94+$B87)<=$S94,$B87,IF($Q94>=$S94,0,$S94-$Q94)))","v":1.6412338220556251},{"$f":"IF($C87=\"\",\"\",IF($A87=\"Deadman\",PI()*(($B87/2)^2),IF($Q94>$S94,0,((($B87/2)^2)*ACOS((($B87/2)-$X94)/($B87/2)))-((($B87/2)-$X94)*SQRT(2*($B87/2)*$X94-($X94^2))))))","v":5.4311542776366961},{"$f":"IF($C87=\"\",\"\",IF(((PI()*(($B87/2)^2))-$V94-$Y94)<0,0,(PI()*(($B87/2)^2))-$V94-$Y94))","v":12.289391784018228},"Point 2",{"$f":"IF($AB$93=\"\",0,$AB$93-($B$87/4))","v":45.638205736785835},{"$f":"IF($AC$93=\"\",$C$13,$AC$93+($B$87/25))","v":95.190000035997414},{"$f":"IF($AD$93=\"\",0,$AD$93-($B$88/4))","v":53.400886542656281},{"$f":"IF($AE$93=\"\",$C$13,$AE$93+($B$88/25))","v":89.700000022034786},{"$f":"IF($AF$93=\"\",0,$AF$93-($B$89/4))","v":61.226067348526726},{"$f":"IF($AG$93=\"\",$C$13,$AG$93+($B$89/25))","v":89.700000008072152},null,49,7.84,"Left Bank",46.669202122589013,95.000000036276433,46.669202118747833,92.750000036276433,96.663293415101734,0,1.6632933788253013,1.6632933788253013,"",1.6632933788253013,0,3.9132933788253013,3.9132933788253013,0.16,0,0,0,0.59878561637710848,2.25,0.35213313626417003,0,0,"","","","","","","",0.16,0,0.16,7.84,7.84]
["Top#1","Above","Pinned",5,{"$f":"'Prelim-Top#1'!K61/2","v":3638.8545391606181},{"$f":"'Prelim-Top#1'!K72/2","v":936.14652657066904},{"$f":"IF(OR($E$95=\"\",$E$95=0),0,IF($C$95=\"Pinned\",ABS($E$95),IF(AND($C$95=\"Gravity\",$B$95=\"Below\",$E$95>=0),ABS($E$95),IF(AND($C$95=\"Gravity\",$B$95=\"Above\",$E$95<=0),ABS($E$95),0))))","v":3638.8545391606181},{"$f":"IF($L$95=0,\"\",IF($L$95>0,CHAR(233),CHAR(234)))","v":"é"},{"$f":"IF(OR($F$95=\"\",$F$95=0),0,IF($C$95=\"Pinned\",ABS($F$95),IF(AND($C$95=\"Gravity\",$B$95=\"Behind\",$F$95<0),ABS($F$95),IF(AND($C$95=\"Gravity\",$B$95=\"In front\",$F$95>0),ABS($F$95),0))))","v":936.14652657066904},{"$f":"IF($M$95=0,\"\",IF($M$95>=0,CHAR(232),CHAR(231)))","v":"è"},null,{"$f":"IF($G$95=0,0,$E$95)","v":3638.8545391606181},{"$f":"IF($I$95=0,0,$F$95)","v":936.14652657066904},null,"Boulder 2",{"$f":"IF(OR($F$25=\"\",$C88=\"\"),\"\",$AE$49-(($C88*$M$19)*$M$17))","v":54.650886542656281},{"$f":"IF(OR($G$25=\"\",$C88=\"\"),\"\",IF($A88=\"Behind\",MIN($R95,$S95),IF($A88=\"Deadman\",(MIN($R95,$S95))-($F$22+1),$R95+$F$22)))","v":89.500000022034783},{"$f":"IF($P95=\"\",\"\",($AF$49+(($P95-$AE$49)*$AA$40))-($F$22/2))","v":92.750000022034783},{"$f":"IF($P95=\"\",\"\",IF($P95<$B$14,(($P95-$B$13)*$AB$31)+$C$13,IF($P95<$B$15,(($P95-$B$14)*$AB$32)+$C$14,IF($P95<$B$16,(($P95-$B$15)*$AB$33)+$C$15,IF($P95<$B$17,(($P95-$B$16)*$AB$34)+$C$16,IF($P95<$B$18,(($P95-$B$17)*$AB$35)+$C$17,IF($P95<$B$19,(($P95-$B$18)*$AB$36)+$C$18)))))))","v":95.55631964337131},{"$f":"IF($Q95=\"\",\"\",IF(($Q95+$B88-$AE$8)>=$B88,$B88,IF(($Q95+$B88)>$AE$8,($Q95+$B88)-$AE$8,0)))","v":0},{"$f":"IF($T95=\"\",\"\",IF($T95>=$B88,0,(PI()/3)*(($B88-$T95)^2)*((1.5*$B88)-($B88-$T95))))","v":65.449846949787357},{"$f":"IF($C88=\"\",\"\",IF($A88=\"Deadman\",0,IF($Q95>=$AE$8,PI()*(($B88/2)^2),((($B88/2)^2)*ACOS((($B88/2)-$T95)/($B88/2)))-((($B88/2)-$T95)*SQRT(2*($B88/2)*$T95-($T95^2))))))","v":0},{"$f":"IF($P95=\"\",\"\",IF(OR($C$19=\"\",$F$25=\"\",$G$25=\"\"),\"None\",IF($P95<$B$14,\"Left Floodplain\",IF($P95<$B$15,\"Left Bank\",IF($P95<$B$16,\"Left Stream Bed\",IF($P95<$B$17,\"Right Stream Bed\",IF($P95<$B$18,\"Right Bank\",\"Right Floodplain\")))))))","v":"Left Stream Bed"},{"$f":"IF($Q95=\"\",\"\",IF(($Q95+$B88)<=$S95,$B88,IF($Q95>=$S95,0,$S95-$Q95)))","v":5},{"$f":"IF($C88=\"\",\"\",IF($A88=\"Deadman\",PI()*(($B88/2)^2),IF($Q95>$S95,0,((($B88/2)^2)*ACOS((($B88/2)-$X95)/($B88/2)))-((($B88/2)-$X95)*SQRT(2*($B88/2)*$X95-($X95^2))))))","v":19.634954084936208},{"$f":"IF($C88=\"\",\"\",IF(((PI()*(($B88/2)^2))-$V95-$Y95)<0,0,(PI()*(($B88/2)^2))-$V95-$Y95))","v":0},"Point 3",{"$f":"IF($AB$93=\"\",0,$AB$93-($B$87/2))","v":44.450705736785835},{"$f":"IF($AC$93=\"\",$C$13,$AC$93+($B$87/2))","v":97.375000035997417},{"$f":"IF($AD$93=\"\",0,$AD$93-($B$88/2))","v":52.150886542656281},{"$f":"IF($AE$93=\"\",$C$13,$AE$93+($B$88/2))","v":92.000000022034783},{"$f":"IF($AF$93=\"\",0,$AF$93-($B$89/2))","v":59.976067348526726},{"$f":"IF($AG$93=\"\",$C$13,$AG$93+($B$89/2))","v":92.000000008072149},null,50,8,"Left Bank",46.825705738706425,95.000000035997175,46.825705734865245,92.750000035997175,96.641233857782325,0,1.6412338217851499,1.6412338217851499,"",1.6412338217851499,0,3.8912338217851499,3.8912338217851499,0.16,0,0,0,0.59084417584265392,2.25,0.35213313626417003,0,0,"","","","","","","",0.16,0,0.16,8,8]
["Top#2","Above","Pinned",13.1,{"$f":"'Prelim-Top#2'!$K$61/2","v":3556.444698436937},{"$f":"'Prelim-Top#2'!$K$72/2","v":543.37790378722093},{"$f":"IF(OR($E$96=\"\",$E$96=0),0,IF($C$96=\"Pinned\",ABS($E$96),IF(AND($C$96=\"Gravity\",$B$96=\"Below\",$E$96>=0),ABS($E$96),IF(AND($C$96=\"Gravity\",$B$96=\"Above\",$E$96<=0),ABS($E$96),0))))","v":3556.444698436937},{"$f":"IF($L$96=0,\"\",IF($L$96>0,CHAR(233),CHAR(234)))","v":"é"},{"$f":"IF(OR($F$96=\"\",$F$96=0),0,IF($C$96=\"Pinned\",ABS($F$96),IF(AND($C$96=\"Gravity\",$B$96=\"Behind\",$F$96<0),ABS($F$96),IF(AND($C$96=\"Gravity\",$B$96=\"In front\",$F$96>0),ABS($F$96),0))))","v":543.37790378722093},{"$f":"IF($M$96=0,\"\",IF($M$96>=0,CHAR(232),CHAR(231)))","v":"è"},null,{"$f":"IF($G$96=0,0,$E$96)","v":3556.444698436937},{"$f":"IF($I$96=0,0,$F$96)","v":543.37790378722093},null,"Boulder 3",{"$f":"IF(OR($F$25=\"\",$C89=\"\"),\"\",$AE$49-(($C89*$M$19)*$M$17))","v":62.476067348526726},{"$f":"IF(OR($G$25=\"\",$C89=\"\"),\"\",IF($A89=\"Behind\",MIN($R96,$S96),IF($A89=\"Deadman\",(MIN($R96,$S96))-($F$22+1),$R96+$F$22)))","v":89.500000008072149},{"$f":"IF($P96=\"\",\"\",($AF$49+(($P96-$AE$49)*$AA$40))-($F$22/2))","v":92.750000008072149},{"$f":"IF($P96=\"\",\"\",IF($P96<$B$14,(($P96-$B$13)*$AB$31)+$C$13,IF($P96<$B$15,(($P96-$B$14)*$AB$32)+$C$14,IF($P96<$B$16,(($P96-$B$15)*$AB$33)+$C$15,IF($P96<$B$17,(($P96-$B$16)*$AB$34)+$C$16,IF($P96<$B$18,(($P96-$B$17)*$AB$35)+$C$17,IF($P96<$B$19,(($P96-$B$18)*$AB$36)+$C$18)))))))","v":94.670509176146766},{"$f":"IF($Q96=\"\",\"\",IF(($Q96+$B89-$AE$8)>=$B89,$B89,IF(($Q96+$B89)>$AE$8,($Q96+$B89)-$AE$8,0)))","v":0},{"$f":"IF($T96=\"\",\"\",IF($T96>=$B89,0,(PI()/3)*(($B89-$T96)^2)*((1.5*$B89)-($B89-$T96))))","v":65.449846949787357},{"$f":"IF($C89=\"\",\"\",IF($A89=\"Deadman\",0,IF($Q96>=$AE$8,PI()*(($B89/2)^2),((($B89/2)^2)*ACOS((($B89/2)-$T96)/($B89/2)))-((($B89/2)-$T96)*SQRT(2*($B89/2)*$T96-($T96^2))))))","v":0},{"$f":"IF($P96=\"\",\"\",IF(OR($C$19=\"\",$F$25=\"\",$G$25=\"\"),\"None\",IF($P96<$B$14,\"Left Floodplain\",IF($P96<$B$15,\"Left Bank\",IF($P96<$B$16,\"Left Stream Bed\",IF($P96<$B$17,\"Right Stream Bed\",IF($P96<$B$18,\"Right Bank\",\"Right Floodplain\")))))))","v":"Left Stream Bed"},{"$f":"IF($Q96=\"\",\"\",IF(($Q96+$B89)<=$S96,$B89,IF($Q96>=$S96,0,$S96-$Q96)))","v":5},{"$f":"IF($C89=\"\",\"\",IF($A89=\"Deadman\",PI()*(($B89/2)^2),IF($Q96>$S96,0,((($B89/2)^2)*ACOS((($B89/2)-$X96)/($B89/2)))-((($B89/2)-$X96)*SQRT(2*($B89/2)*$X96-($X96^2))))))","v":19.634954084936208},{"$f":"IF($C89=\"\",\"\",IF(((PI()*(($B89/2)^2))-$V96-$Y96)<0,0,(PI()*(($B89/2)^2))-$V96-$Y96))","v":0},"Point 4",{"$f":"IF($AB$93=\"\",0,$AB$94)","v":45.638205736785835},{"$f":"IF($AC$97=\"\",$C$13,$AC$97-($B$87/25))","v":99.560000035997419},{"$f":"IF($AD$93=\"\",0,$AD$94)","v":53.400886542656281},{"$f":"IF($AE$97=\"\",$C$13,$AE$97-($B$88/25))","v":94.30000002203478},{"$f":"IF($AF$93=\"\",0,$AF$94)","v":61.226067348526726},{"$f":"IF($AG$97=\"\",$C$13,$AG$97-($B$89/25))","v":94.300000008072146},null,51,8.16,"Left Bank",46.982209354823837,95.000000035717918,46.982209350982657,92.750000035717918,96.61917430046293,0,1.6191742647450127,1.6191742647450127,"",1.6191742647450127,0,3.8691742647450127,3.8691742647450127,0.16,0,0,0,0.58290273530820458,2.25,0.35213313626417003,0,0,"","","","","","","",0.16,0,0.16,8.16,8.16]
["Top#3","Above","Pinned",18.600000000000001,{"$f":"'Prelim-Top#3'!K61/2","v":2661.749147951145},{"$f":"-'Prelim-Top#3'!K73/2","v":-1773.6332582940561},{"$f":"IF(OR($E$97=\"\",$E$97=0),0,IF($C$97=\"Pinned\",ABS($E$97),IF(AND($C$97=\"Gravity\",$B$97=\"Below\",$E$97>=0),ABS($E$97),IF(AND($C$97=\"Gravity\",$B$97=\"Above\",$E$97<=0),ABS($E$97),0))))","v":2661.749147951145},{"$f":"IF($L$97=0,\"\",IF($L$97>0,CHAR(233),CHAR(234)))","v":"é"},{"$f":"IF(OR($F$97=\"\",$F$97=0),0,IF($C$97=\"Pinned\",ABS($F$97),IF(AND($C$97=\"Gravity\",$B$97=\"Behind\",$F$97<0),ABS($F$97),IF(AND($C$97=\"Gravity\",$B$97=\"In front\",$F$97>0),ABS($F$97),0))))","v":1773.6332582940561},{"$f":"IF($M$97=0,\"\",IF($M$97>=0,CHAR(232),CHAR(231)))","v":"ç"},null,{"$f":"IF($G$97=0,0,$E$97)","v":2661.749147951145},{"$f":"IF($I$97=0,0,$F$97)","v":-1773.6332582940561},null,null,null,null,null,null,null,null,null,null,null,null,null,"Point 5",{"$f":"IF($AB$93=\"\",0,$AB$93)","v":46.825705736785835},{"$f":"IF($AC$93=\"\",$C$13,$AC$93+$B$87)","v":99.750000035997417},{"$f":"IF($AD$93=\"\",0,$AD$93)","v":54.650886542656281},{"$f":"IF($AE$93=\"\",$C$13,$AE$93+$B$88)","v":94.500000022034783},{"$f":"IF($AF$93=\"\",0,$AF$93)","v":62.476067348526726},{"$f":"IF($AG$93=\"\",$C$13,$AG$93+$B$89)","v":94.500000008072149},null,52,8.32,"Left Bank",47.138712970941242,95.00000003543866,47.138712967100062,92.75000003543866,96.597114743143521,0,1.5971147077048613,1.5971147077048613,"",1.5971147077048613,0,3.8471147077048613,3.8471147077048613,0.16,0,0,0,0.57496129477375013,2.25,0.35213313626417003,0,0,"","","","","","","",0.16,0,0.16,8.32,8.32]
[null,null,null,null,null,null,{"$f":"IF(OR($E$98=\"\",$E$98=0),0,IF($C$98=\"Pinned\",ABS($E$98),IF(AND($C$98=\"Gravity\",$B$98=\"Below\",$E$98>=0),ABS($E$98),IF(AND($C$98=\"Gravity\",$B$98=\"Above\",$E$98<=0),ABS($E$98),0))))","v":0},{"$f":"IF($L$98=0,\"\",IF($L$98>0,CHAR(233),CHAR(234)))","v":""},{"$f":"IF(OR($F$98=\"\",$F$98=0),0,IF($C$98=\"Pinned\",ABS($F$98),IF(AND($C$98=\"Gravity\",$B$98=\"Behind\",$F$98<0),ABS($F$98),IF(AND($C$98=\"Gravity\",$B$98=\"In front\",$F$98>0),ABS($F$98),0))))","v":0},{"$f":"IF($M$98=0,\"\",IF($M$98>=0,CHAR(232),CHAR(231)))","v":""},null,{"$f":"IF($G$98=0,0,$E$98)","v":0},{"$f":"IF($I$98=0,0,$F$98)","v":0},null,null,"FD,r (lbf)","FL,r (lbf)",null,null,null,"Soil Anchor Zone Calculation",null,null,null,null,null,"Point 6",{"$f":"IF($AB$93=\"\",0,$AB$93+($B$87/4))","v":48.013205736785835},{"$f":"IF($AC$93=\"\",$C$13,$AC$96)","v":99.560000035997419},{"$f":"IF($AD$93=\"\",\"\",$AD$93+($B$88/4))","v":55.900886542656281},{"$f":"IF($AE$93=\"\",$C$13,$AE$96)","v":94.30000002203478},{"$f":"IF($AF$93=\"\",0,$AF$93+($B$89/4))","v":63.726067348526726},{"$f":"IF($AG$93=\"\",$C$13,$AG$96)","v":94.300000008072146},null,53,8.48,"Left Bank",47.295216587058654,95.000000035159403,47.295216583217474,92.750000035159403,96.575055185824112,0,1.5750551506647099,1.5750551506647099,"",1.5750551506647099,0,3.8250551506647099,3.8250551506647099,0.16,0,0,0,0.56701985423929557,2.25,0.35213313626417003,0,0,"","","","","","","",0.16,0,0.16,8.48,8.48]
[null,null,null,null,null,null,null,null,null,null,null,{"$f":"$L$95+$L$96+$L$97+$L$98","v":9857.0483855487},{"$f":"$M$95+$M$96+$M$97+$M$98","v":-294.10882793616611},null,"Boulder 1",{"$f":"IF(OR($F$25=\"\",$C87=\"\"),\"\",IF($A87=\"Behind\",0.5*CDrock*$Z94*SWWater*($J$6^2)/(2*g),CDrock*$Z94*SWWater*($J$6^2)/(2*g)))","v":217.40487776834487},{"$f":"IF(OR($F$25=\"\",$C87=\"\"),\"\",IF($A87=\"Behind\",0.5*CLrock*$Z94*SWWater*(($J$6^2)/(2*g)),CLrock*$Z94*SWWater*(($J$6^2)/(2*g))))","v":43.480975553668983},null,null,null,null,"xr,bot (ft)","Zone",null,null,null,"Point 7",{"$f":"IF($AB$93=\"\",0,$AB$93+($B$87/2))","v":49.200705736785835},{"$f":"IF($AC$93=\"\",$C$13,$AC$95)","v":97.375000035997417},{"$f":"IF($AD$93=\"\",0,$AD$93+($B$88/2))","v":57.150886542656281},{"$f":"IF($AE$93=\"\",$C$13,$AE$95)","v":92.000000022034783},{"$f":"IF($AF$93=\"\",\"\",$AF$93+($B$89/2))","v":64.976067348526726},{"$f":"IF($AG$93=\"\",$C$13,$AG$95)","v":92.000000008072149},null,54,8.64,"Left Bank",47.451720203176059,95.000000034880145,47.451720199334879,92.750000034880145,96.552995628504704,0,1.5529955936245585,1.5529955936245585,"",1.5529955936245585,0,3.8029955936245585,3.8029955936245585,0.16,0,0,0,0.55907841370484113,2.25,0.35213313626417003,0,0,"","","","","","","",0.16,0,0.16,8.64,8.64]
[null,null,null,null,null,null,null,null,null,null,null,null,null,null,"Boulder 2",{"$f":"IF(OR($F$25=\"\",$C88=\"\"),\"\",IF($A88=\"Behind\",0.5*CDrock*$Z95*SWWater*($J$6^2)/(2*g),CDrock*$Z95*SWWater*($J$6^2)/(2*g)))","v":0},{"$f":"IF(OR($F$25=\"\",$C88=\"\"),\"\",IF($A88=\"Behind\",0.5*CLrock*$Z95*SWWater*(($J$6^2)/(2*g)),CLrock*$Z95*SWWater*(($J$6^2)/(2*g))))","v":0},null,null,null,"Anchor 1",{"$f":"IF(OR($F$25=\"\",$H83=\"\"),\"\",$AE$49-(($H83*$M$19)*$M$17))","v":""},{"$f":"IF($V100=\"\",\"\",IF(OR($C$19=\"\",$F$25=\"\",$G$25=\"\"),\"None\",IF($V100<$B$14,\"Bank\",IF($V100<$B$15,\"Bank\",IF($V100<$B$16,\"Bed\",IF($V100<$B$17,\"Bed\",IF($V100<$B$18,\"Bank\",\"Bank\")))))))","v":""},null,null,null,"Point 8",{"$f":"IF($AB$93=\"\",0,$AB$98)","v":48.013205736785835},{"$f":"IF($AC$93=\"\",$C$13,$AC$94)","v":95.190000035997414},{"$f":"IF($AD$93=\"\",0,$AD$98)","v":55.900886542656281},{"$f":"IF($AE$93=\"\",$C$13,$AE$94)","v":89.700000022034786},{"$f":"IF($AF$93=\"\",0,$AF$98)","v":63.726067348526726},{"$f":"IF($AG$93=\"\",$C$13,$AG$94)","v":89.700000008072152},null,55,8.8000000000000007,"Left Bank",47.608223819293471,95.000000034600887,47.608223815452291,92.750000034600887,96.530936071185295,0,1.5309360365844071,1.5309360365844071,"",1.5309360365844071,0,3.7809360365844071,3.7809360365844071,0.16,0,0,0,0.55113697317038657,2.25,0.35213313626417003,0,0,"","","","","","","",0.16,0,0.16,8.8000000000000007,8.8000000000000007]
[null,null,null,null,null,null,null,null,null,null,null,null,null,null,"Boulder 3",{"$f":"IF(OR($F$25=\"\",$C89=\"\"),\"\",IF($A89=\"Behind\",0.5*CDrock*$Z96*SWWater*($J$6^2)/(2*g),CDrock*$Z96*SWWater*($J$6^2)/(2*g)))","v":0},{"$f":"IF(OR($F$25=\"\",$C89=\"\"),\"\",IF($A89=\"Behind\",0.5*CLrock*$Z96*SWWater*(($J$6^2)/(2*g)),CLrock*$Z96*SWWater*(($J$6^2)/(2*g))))","v":0},null,null,null,"Anchor 2",{"$f":"IF(OR($F$25=\"\",$H84=\"\"),\"\",$AE$49-(($H84*$M$19)*$M$17))","v":""},{"$f":"IF($V101=\"\",\"\",IF(OR($C$19=\"\",$F$25=\"\",$G$25=\"\"),\"None\",IF($V101<$B$14,\"Bank\",IF($V101<$B$15,\"Bank\",IF($V101<$B$16,\"Bed\",IF($V101<$B$17,\"Bed\",IF($V101<$B$18,\"Bank\",\"Bank\")))))))","v":""},null,null,null,"Point 9",{"$f":"IF($AB$93=\"\",0,$AB$93)","v":46.825705736785835},{"$f":"IF($AC$93=\"\",$C$13,$AC$93)","v":95.000000035997417},{"$f":"IF($AD$93=\"\",0,$AD$93)","v":54.650886542656281},{"$f":"IF($AE$93=\"\",$C$13,$AE$93)","v":89.500000022034783},{"$f":"IF($AF$93=\"\",0,$AF$93)","v":62.476067348526726},{"$f":"IF($AG$93=\"\",$C$13,$AG$93)","v":89.500000008072149},null,56,8.9600000000000009,"Left Bank",47.764727435410876,95.00000003432163,47.764727431569696,92.75000003432163,96.5088765138659,0,1.50887647954427,1.50887647954427,"",1.50887647954427,0,3.75887647954427,3.75887647954427,0.16,0,0,0,0.54319553263593723,2.25,0.35213313626417003,0,0,"","","","","","","",0.16,0,0.16,8.9600000000000009,8.9600000000000009]
[null,null,null,null,null,null,null,null,null,null,null,null,null,null,null,null,null,null,null,null,null,null,null,null,null,null,null,null,null,null,null,null,null,null,57,9.1199999999999992,"Left Bank",47.921231051528288,95.000000034042372,47.921231047687108,92.750000034042372,96.486816956546491,0,1.4868169225041186,1.4868169225041186,"",1.4868169225041186,0,3.7368169225041186,3.7368169225041186,0.16,0,0,0,0.53525409210148267,2.25,0.35213313626417003,0,0,"","","","","","","",0.16,0,0.16,9.1199999999999992,9.1199999999999992]
[null,null,null,null,null,null,null,null,null,null,null,null,null,null,null,null,null,null,null,null,null,null,null,null,null,null,null,"Anchor #1",null,null,null,"Soil Ballast #1",null,null,58,9.2799999999999994,"Left Bank",48.0777346676457,95.000000033763115,48.07773466380452,92.750000033763115,96.464757399227082,0,1.4647573654639672,1.4647573654639672,"",1.4647573654639672,0,3.7147573654639672,3.7147573654639672,0.16,0,0,0,0.52731265156702822,2.25,0.35213313626417003,0,0,"","","","","","","",0.16,0,0.16,9.2799999999999994,9.2799999999999994]
[null,null,null,null,null,null,null,null,null,null,null,null,null,null,null,null,null,null,null,null,null,null,null,null,null,null,null,"xTS (ft)","yTS (ft)",null,null,"xTS (ft)","yTS (ft)",null,59,9.44,"Left Bank",48.234238283763105,95.000000033483857,48.234238279921925,92.750000033483857,96.442697841907673,0,1.4426978084238158,1.4426978084238158,"",1.4426978084238158,0,3.6926978084238158,3.6926978084238158,0.16,0,0,0,0.51937121103257367,2.25,0.35213313626417003,0,0,"","","","","","","",0.16,0,0.16,9.44,9.44]
[null,null,null,null,null,null,null,null,null,null,null,null,null,null,null,null,null,null,null,null,null,null,null,null,null,null,"Point 1",{"$f":"IF(OR($F$25=\"\",$H83=\"\"),0,$AE$49-(($H83*$M$19)*$M$17))","v":0},{"$f":"IF(OR($AB105=\"\",$AB$105=0),$C$13,($AF$49+(($AB105-$AE$49)*$AA$40))-($F$22/2))","v":99.18},null,"Point 1",{"$f":"IF(OR($F$25=\"\",$C83=\"\"),0,($AE$49-(($C83*$M$19)*$M$17))+(ABS(2*$M$17*$M$19)))","v":0},{"$f":"IF(OR($AF105=\"\",$AF$105=0),$C$13,($AF$49+(($AF105-$AE$49)*$AA$40))+($F$22/2))","v":99.18},null,60,9.6,"Left Bank",48.39074189988051,95.0000000332046,48.39074189603933,92.7500000332046,96.420638284588264,0,1.4206382513836644,1.4206382513836644,"",1.4206382513836644,0,3.6706382513836644,3.6706382513836644,0.16,0,0,0,0.51142977049811922,2.25,0.35213313626417003,0,0,"","","","","","","",0.16,0,0.16,9.6,9.6]
[null,null,null,null,null,null,null,null,null,null,null,null,null,null,null,null,null,null,null,null,null,null,null,null,null,null,"Point 2",{"$f":"IF($AB105=\"\",0,$AB105)","v":0},{"$f":"IF(OR($AC105=\"\",$AB$105=0),$C$13,$AC105-4)","v":99.18},null,"Point 2",{"$f":"IF($AF105=\"\",0,$AF105)","v":0},{"$f":"IF(OR($AG105=\"\",$AF$105=0),$C$13,IF($AG$105>$AG$108,$AG105+2.25,$AG$108+2.25))","v":99.18},null,61,9.76,"Left Bank",48.547245515997922,95.000000032925342,48.547245512156742,92.750000032925342,96.398578727268855,0,1.398578694343513,1.398578694343513,"",1.398578694343513,0,3.648578694343513,3.648578694343513,0.16,0,0,0,0.50348832996366466,2.25,0.35213313626417003,0,0,"","","","","","","",0.16,0,0.16,9.76,9.76]
[null,null,null,null,null,null,null,null,null,null,null,null,null,null,null,null,null,null,null,null,null,null,null,null,null,null,null,null,null,null,"Point 3",{"$f":"IF(OR($F$25=\"\",$C83=\"\"),0,($AE$49-(($C83*$M$19)*$M$17))-(ABS(2*$M$17*$M$19)))","v":0},{"$f":"IF(OR($AG106=\"\",$AF$105=0),$C$13,$AG106)","v":99.18},null,62,9.92,"Left Bank",48.703749132115334,95.000000032646085,48.703749128274154,92.750000032646085,96.376519169949461,0,1.3765191373033758,1.3765191373033758,"",1.3765191373033758,0,3.6265191373033758,3.6265191373033758,0.16,0,0,0,0.49554688942921532,2.25,0.35213313626417003,0,0,"","","","","","","",0.16,0,0.16,9.92,9.92]
[null,null,null,null,null,null,null,null,null,null,null,null,null,null,null,null,null,null,null,null,null,null,null,null,null,null,null,"Anchor #2",null,null,"Point 4",{"$f":"IF($AF105=\"\",0,$AF107)","v":0},{"$f":"IF(OR($AG105=\"\",$AF$105=0),$C$13,$AG105-((ABS($AF$105-$AF$108))*$AA$40))","v":99.18},null,63,10.08,"Left Bank",48.860252748232739,95.000000032366827,48.860252744391559,92.750000032366827,96.354459612630052,0,1.3544595802632244,1.3544595802632244,"",1.3544595802632244,0,3.6044595802632244,3.6044595802632244,0.16,0,0,0,0.48760544889476082,2.25,0.35213313626417003,0,0,"","","","","","","",0.16,0,0.16,10.08,10.08]
[null,null,null,null,null,null,null,null,null,null,null,null,null,null,null,null,null,null,null,null,null,null,null,null,null,null,null,"xTS (ft)","yTS (ft)",null,null,null,null,null,64,10.24,{"$f":"IF(OR($C$19=\"\",$F$25=\"\",$G$25=\"\"),\"None\",IF(AL109<$B$14,\"Left Floodplain\",IF(AL109<$B$15,\"Left Bank\",IF(AL109<$B$16,\"Left Stream Bed\",IF(AL109<$B$17,\"Right Stream Bed\",IF(AL109<$B$18,\"Right Bank\",\"Right Floodplain\"))))))","v":"Left Bank"},49.016756364350151,95.00000003208757,49.016756360508971,92.75000003208757,96.332400055310643,{"$f":"IF(OR($AP109<$AE$12,$AP109<=$AM109),0,IF(OR($AP109>=$AE$12,$AM109>=$AE$12),$AP109-$AM109-$AR109,$AP109-$AE$12))","v":0},{"$f":"IF($AP109<=$AM109,0,IF($AM109>=$AE$12,0,IF($AP109<=$AE$12,$AP109-$AM109,$AE$12-$AM109)))","v":1.332400023223073},1.332400023223073,"",1.332400023223073,0,{"$f":"IF($AP109<=$AO109,0,IF($AO109>=$AE$12,0,IF($AP109<=$AE$12,$AP109-$AO109,$AE$12-$AO109)))","v":3.582400023223073},{"$f":"IF(AP109<=AO109,0,AP109-AO109)","v":3.582400023223073},{"$f":"IF($AS109=0,0,IF(OR($AJ109=0,$AJ109=$E$22),$AJ$46/2,$AJ$46))","v":0.16},{"$f":"IF(OR($AK109=\"Left Stream Bed\",$AK109=\"Right Stream Bed\"),$F$22*$AQ109*$AY109,0)","v":0},{"$f":"IF(OR($AK109=\"Left Stream Bed\",$AK109=\"Right Stream Bed\"),$F$22*$AR109*$AY109,0)","v":0},{"$f":"IF(OR($AK109=\"Left Floodplain\",$AK109=\"Left Bank\",$AK109=\"Right Bank\",$AK109=\"Right Floodplain\"),$F$22*$AQ109*$AY109,0)","v":0},{"$f":"IF(OR($AK109=\"Left Floodplain\",$AK109=\"Left Bank\",$AK109=\"Right Bank\",$AK109=\"Right Floodplain\"),$F$22*$AR109*$AY109,0)","v":0.47966400836030632},{"$f":"AX109-AS109","v":2.25},0.35213313626417003,0,{"$f":"IF(OR($AJ109=0,$AJ109=$E$22),($BF109*$AJ$46/2)*ABS($M$17),$BF109*$AJ$46*ABS($M$17))","v":0},{"$f":"IF(OR($AM109<$AP109,$AO109>$AE$8),\"\",IF(OR($AJ109=0,$AJ109=$E$22),$AJ$46/2,$AJ$46))","v":""},"","",{"$f":"IF($BJ109=\"\",\"\",IF(OR($BJ109>($F$22/2),$BJ109=0),0,0.45-($BJ109*0.45/($F$22/2))))","v":""},{"$f":"IF($BK109=\"\",\"\",IF($BK109>0,$AJ109,\"\"))","v":""},"","",{"$f":"IF($AO109=0,0,IF($AO109>$AP109,0,IF(OR($AJ109=0,$AJ109=$E$22),$AJ$46/2,$AJ$46)))","v":0.16},{"$f":"IF(AND($BO109>0,OR($AK109=\"Left Stream Bed\",$AK109=\"Right Stream Bed\")),$BO109,0)","v":0},{"$f":"IF(AND($BO109>0,OR($AK109=\"Left Floodplain\",$AK109=\"Left Bank\",$AK109=\"Right Bank\",$AK109=\"Right Floodplain\")),$BO109,0)","v":0.16},{"$f":"IF($BO109>0,$AJ109,\"\")","v":10.24},10.24]
[null,null,null,null,null,null,null,null,null,null,null,null,null,null,null,null,null,null,null,null,null,null,null,null,null,null,"Point 1",{"$f":"IF(OR($F$25=\"\",$H84=\"\"),0,$AE$49-(($H84*$M$19)*$M$17))","v":0},{"$f":"IF(OR($AB$110=0,$AB110=\"\"),$C$13,($AF$49+(($AB110-$AE$49)*$AA$40))-($F$22/2))","v":99.18},null,null,"Log Interactions",null,null,65,{"$f":"($AI110/$AI$245)*$AJ$245","v":10.4},"Left Bank",49.173259980467563,95.000000031808312,{"$f":"$AN$45+ABS(AJ110*$M$19*$M$17)","v":49.173259976626383},92.750000031808312,96.310340497991234,0,1.3103404661829217,{"$f":"IF(AP110<=AM110,0,AP110-AM110)","v":1.3103404661829217},{"$f":"IF(OR($AS110=\"\",$AS110=0),\"\",IF(OR($AK110=\"Left Stream Bed\",$AK110=\"Right Stream Bed\"),$AS110,\"\"))","v":""},{"$f":"IF(OR($AS110=\"\",$AS110=0),\"\",IF(OR($AK110=\"Left Floodplain\",$AK110=\"Left Bank\",$AK110=\"Right Bank\",$AK110=\"Right Floodplain\"),$AS110,\"\"))","v":1.3103404661829217},{"$f":"IF(OR($AP110<$AE$12,$AP110<=$AO110),0,IF($AO110>=$AE$12,$AP110-$AO110,$AP110-$AE$12))","v":0},3.5603404661829217,3.5603404661829217,0.16,0,0,0,0.47172256782585181,2.25,{"$f":"$BD110*$AJ$46*ABS($M$17)","v":0.35213313626417003},{"$f":"AV110-AQ110","v":0},0,"",{"$f":"IF($BH110=\"\",\"\",IF($BH110>0,$AJ110,\"\"))","v":""},{"$f":"IF($BH110=\"\",\"\",IF(OR(($AO110-$AP110)<0,$AO$45>=$AE$8),0,($AO110-$AP110)))","v":""},"","",{"$f":"IF($BH110=\"\",\"\",IF(OR(($AM110-$AP110)<0,$AM110>=$AE$8),\"\",($AE$8-($AM110-(($F$22/2)/$M$19)))))","v":""},"",0.16,0,0.16,10.4,{"$f":"IF($AY110>0,$AJ110,\"\")","v":10.4}]
[null,null,null,null,null,null,null,null,null,null,null,null,null,null,null,null,null,null,null,null,null,null,null,null,null,null,"Point 2",{"$f":"IF($AB110=\"\",0,$AB110)","v":0},{"$f":"IF(OR($AB$110=0,$AC110=\"\"),$C$13,$AC110-4)","v":99.18},null,null,"xTS (ft)","yTS (ft)",null,66,10.56,"Left Bank",49.329763596584968,{"$f":"AM110+((AL111-AL110)*$AA$40)","v":95.000000031529055},49.329763592743788,{"$f":"AO110+((AN111-AN110)*$AA$40)","v":92.750000031529055},{"$f":"IF($AL111<$B$14,(($AL111-$B$13)*$AB$31)+$C$13,IF($AL111<$B$15,(($AL111-$B$14)*$AB$32)+$C$14,IF($AL111<$B$16,(($AL111-$B$15)*$AB$33)+$C$15,IF($AL111<$B$17,(($AL111-$B$16)*$AB$34)+$C$16,IF($AL111<$B$18,(($AL111-$B$17)*$AB$35)+$C$17,IF($AL111<$B$19,(($AL111-$B$18)*$AB$36)+$C$18))))))","v":96.288280940671825},0,1.2882809091427703,1.2882809091427703,"",1.2882809091427703,0,3.5382809091427703,3.5382809091427703,0.16,0,0,0,0.46378112729139731,2.25,0.35213313626417003,0,0,"","","","","","",{"$f":"IF($BM111=\"\",\"\",(((PI()^2)/32)*($B$66^-6)*EXP(-($BM111/$F$22)/(2*($B$66^2)))))","v":""},0.16,0,0.16,10.56,10.56]
[null,null,null,null,null,null,null,null,null,null,null,null,null,null,null,null,null,null,null,null,null,null,null,null,null,null,null,null,null,null,"Point 1",{"$f":"IF(OR($F$25=\"\",$C90=\"\"),0,($AE$49-(($C90*$M$19)*$M$17))+(ABS(2*$M$17*$M$19)))","v":0},{"$f":"IF(OR($AF112=\"\",$AF$105=0),$C$13,($AF$49+(($AF112-$AE$49)*$AA$40))+($F$22/2))","v":99.18},null,67,10.72,"Left Bank",{"$f":"$AL$45+ABS(AJ112*$M$19*$M$17)","v":49.486267212702373},95.000000031249797,49.486267208861193,92.750000031249797,96.266221383352431,0,1.2662213521026331,1.2662213521026331,"",1.2662213521026331,0,3.5162213521026331,3.5162213521026331,0.16,0,0,0,0.45583968675694791,2.25,0.35213313626417003,0,0,"","","","","","","",0.16,0,0.16,10.72,10.72]
[null,null,null,null,null,null,null,null,null,null,null,null,null,null,null,null,null,null,null,null,null,null,null,null,null,null,null,null,null,null,"Point 2",{"$f":"IF($AF112=\"\",0,$AF112)","v":0},{"$f":"IF(OR($AG112=\"\",$AF$105=0),$C$13,IF($AG$105>$AG$108,$AG112+2.25,$AG$108+2.25))","v":99.18},null,68,10.88,"Left Bank",49.642770828819785,95.00000003097054,49.642770824978605,92.75000003097054,96.244161826033022,0,1.2441617950624817,1.2441617950624817,"",1.2441617950624817,0,3.4941617950624817,3.4941617950624817,0.16,0,0,0,0.44789824622249341,2.25,0.35213313626417003,0,0,"","","","","","","",0.16,0,0.16,10.88,10.88]
[null,null,null,null,null,null,null,null,null,null,null,null,null,null,null,null,null,null,null,null,null,null,null,null,null,null,null,null,null,null,"Point 3",{"$f":"IF(OR($F$25=\"\",$C90=\"\"),0,($AE$49-(($C90*$M$19)*$M$17))-(ABS(2*$M$17*$M$19)))","v":0},{"$f":"IF(OR($AG113=\"\",$AF$105=0),$C$13,$AG113)","v":99.18},null,69,11.04,"Left Bank",49.799274444937197,95.000000030691282,49.799274441096017,92.750000030691282,96.222102268713613,0,1.2221022380223303,1.2221022380223303,"",1.2221022380223303,0,3.4721022380223303,3.4721022380223303,0.16,0,0,0,0.43995680568803891,2.25,0.35213313626417003,0,0,"","","","","","","",0.16,0,0.16,11.04,11.04]
[null,null,null,null,null,null,null,null,null,null,null,null,null,null,null,null,null,null,null,null,null,null,null,null,null,null,null,null,null,null,"Point 4",{"$f":"IF($AF112=\"\",0,$AF114)","v":0},{"$f":"IF(OR($AG112=\"\",$AF$105=0),$C$13,$AG112-((ABS($AF$105-$AF$108))*$AA$40))","v":99.18},null,70,11.2,"Left Bank",49.955778061054602,95.000000030412025,49.955778057213422,92.750000030412025,96.200042711394204,0,1.2000426809821789,1.2000426809821789,"",1.2000426809821789,0,3.4500426809821789,3.4500426809821789,0.16,0,0,0,0.43201536515358441,2.25,0.35213313626417003,0,0,"","","","","","","",0.16,0,0.16,11.2,11.2]
[null,null,null,null,null,null,null,null,null,null,null,null,null,null,null,null,null,null,null,null,null,null,null,null,null,null,null,null,null,null,null,null,null,null,71,11.36,"Left Bank",50.112281677172014,95.000000030132767,50.112281673330834,92.750000030132767,96.177983154074795,0,1.1779831239420275,1.1779831239420275,"",1.1779831239420275,0,3.4279831239420275,3.4279831239420275,0.16,0,0,0,0.42407392461912991,2.25,0.35213313626417003,0,0,"","","","","","","",0.16,0,0.16,11.36,11.36]
[null,null,null,null,null,null,null,null,null,null,null,null,null,null,null,null,null,null,null,null,null,null,null,null,null,null,null,null,null,null,null,null,null,null,72,11.52,"Left Bank",50.268785293289419,95.00000002985351,50.268785289448239,92.75000002985351,96.1559235967554,0,1.1559235669018904,1.1559235669018904,"",1.1559235669018904,0,3.4059235669018904,3.4059235669018904,0.16,0,0,0,0.41613248408468051,2.25,0.35213313626417003,0,0,"","","","","","","",0.16,0,0.16,11.52,11.52]
[null,null,null,null,null,null,null,null,null,null,null,null,null,null,null,null,null,null,null,null,null,null,null,null,null,null,null,null,null,null,null,null,null,null,73,11.68,"Left Bank",50.425288909406831,95.000000029574252,50.425288905565651,92.750000029574252,96.133864039435991,0,1.133864009861739,1.133864009861739,"",1.133864009861739,0,3.383864009861739,3.383864009861739,0.16,0,0,0,0.40819104355022606,2.25,0.35213313626417003,0,0,"","","","","","","",0.16,0,0.16,11.68,11.68]
[null,null,null,null,null,null,null,null,null,null,null,null,null,null,null,null,null,null,null,null,null,null,null,null,null,null,null,null,null,null,null,null,null,null,74,11.84,"Left Bank",50.581792525524236,95.000000029294995,50.581792521683056,92.750000029294995,96.111804482116582,0,1.1118044528215876,1.1118044528215876,"",1.1118044528215876,0,3.3618044528215876,3.3618044528215876,0.16,0,0,0,0.40024960301577156,2.25,0.35213313626417003,0,0,"","","","","","","",0.16,0,0.16,11.84,11.84]
[null,null,null,null,null,null,null,null,null,null,null,null,null,null,null,null,null,null,null,null,null,null,null,null,null,null,null,null,null,null,null,null,null,null,75,12,"Left Bank",50.738296141641648,95.000000029015737,50.738296137800468,92.750000029015737,96.089744924797174,0,1.0897448957814362,1.0897448957814362,"",1.0897448957814362,0,3.3397448957814362,3.3397448957814362,0.16,0,0,0,0.39230816248131706,2.25,0.35213313626417003,0,0,"","","","","","","",0.16,0,0.16,12,12]
[null,null,null,null,null,null,null,null,null,null,null,null,null,null,null,null,null,null,null,null,null,null,null,null,null,null,null,null,null,null,null,null,null,null,76,12.16,"Left Bank",50.89479975775906,95.00000002873648,50.89479975391788,92.75000002873648,96.067685367477765,0,1.0676853387412848,1.0676853387412848,"",1.0676853387412848,0,3.3176853387412848,3.3176853387412848,0.16,0,0,0,0.38436672194686256,2.25,0.35213313626417003,0,0,"","","","","","","",0.16,0,0.16,12.16,12.16]
[null,null,null,null,null,null,null,null,null,null,null,null,null,null,null,null,null,null,null,null,null,null,null,null,null,null,null,null,null,null,null,null,null,null,77,12.32,"Left Bank",51.051303373876465,95.000000028457222,51.051303370035285,92.750000028457222,96.045625810158356,0,1.0456257817011334,1.0456257817011334,"",1.0456257817011334,0,3.2956257817011334,3.2956257817011334,0.16,0,0,0,0.37642528141240805,2.25,0.35213313626417003,0,0,"","","","","","","",0.16,0,0.16,12.32,12.32]
[null,null,null,null,null,null,null,null,null,null,null,null,null,null,null,null,null,null,null,null,null,null,null,null,null,null,null,null,null,null,null,null,null,null,78,12.48,"Left Bank",51.207806989993877,95.000000028177965,51.207806986152697,92.750000028177965,96.023566252838961,0,1.0235662246609962,1.0235662246609962,"",1.0235662246609962,0,3.2735662246609962,3.2735662246609962,0.16,0,0,0,0.36848384087795866,2.25,0.35213313626417003,0,0,"","","","","","","",0.16,0,0.16,12.48,12.48]
[null,null,null,null,null,null,null,null,null,null,null,null,null,null,null,null,null,null,null,null,null,null,null,null,null,null,null,null,null,null,null,null,null,null,79,12.64,"Left Bank",51.364310606111282,95.000000027898707,51.364310602270102,92.750000027898707,96.001506695519552,0,1.0015066676208448,1.0015066676208448,"",1.0015066676208448,0,3.2515066676208448,3.2515066676208448,0.16,0,0,0,0.36054240034350415,2.25,0.35213313626417003,0,0,"","","","","","","",0.16,0,0.16,12.64,12.64]
[null,null,null,null,null,null,null,null,null,null,null,null,null,null,null,null,null,null,null,null,null,null,null,null,null,null,null,null,null,null,null,null,null,null,80,12.8,"Left Bank",51.520814222228694,95.00000002761945,51.520814218387514,92.75000002761945,95.979447138200143,0,0.97944711058069345,0.97944711058069345,"",0.97944711058069345,0,3.2294471105806934,3.2294471105806934,0.16,0,0,0,0.35260095980904965,2.25,0.35213313626417003,0,0,"","","","","","","",0.16,0,0.16,12.8,12.8]
[null,null,null,null,null,null,null,null,null,null,null,null,null,null,null,null,null,null,null,null,null,null,null,null,null,null,null,null,null,null,null,null,null,null,81,12.96,"Left Bank",51.677317838346099,95.000000027340192,51.677317834504919,92.750000027340192,95.957387580880734,0,0.95738755354054206,0.95738755354054206,"",0.95738755354054206,0,3.2073875535405421,3.2073875535405421,0.16,0,0,0,0.34465951927459515,2.25,0.35213313626417003,0,0,"","","","","","","",0.16,0,0.16,12.96,12.96]
[null,null,null,null,null,null,null,null,null,null,null,null,null,null,null,null,null,null,null,null,null,null,null,null,null,null,null,null,null,null,null,null,null,null,82,13.12,"Left Bank",51.833821454463511,95.000000027060935,51.833821450622331,92.750000027060935,95.935328023561325,0,0.93532799650039067,0.93532799650039067,"",0.93532799650039067,0,3.1853279965003907,3.1853279965003907,0.16,0,0,0,0.33671807874014065,2.25,0.35213313626417003,0,0,"","","","","","","",0.16,0,0.16,13.12,13.12]
[null,null,null,null,null,null,null,null,null,null,null,null,null,null,null,null,null,null,null,null,null,null,null,null,null,null,null,null,null,null,null,null,null,null,83,13.28,"Left Bank",51.990325070580923,95.000000026781677,51.990325066739743,92.750000026781677,95.913268466241917,0,0.91326843946023928,0.91326843946023928,"",0.91326843946023928,0,3.1632684394602393,3.1632684394602393,0.16,0,0,0,0.32877663820568614,2.25,0.35213313626417003,0,0,"","","","","","","",0.16,0,0.16,13.28,13.28]
[null,null,null,null,null,null,null,null,null,null,null,null,null,null,null,null,null,null,null,null,null,null,null,null,null,null,null,null,null,null,null,null,null,null,84,13.44,"Left Bank",52.146828686698328,95.00000002650242,52.146828682857148,92.75000002650242,95.891208908922522,0,0.8912088824201021,0.8912088824201021,"",0.8912088824201021,0,3.1412088824201021,3.1412088824201021,0.16,0,0,0,0.32083519767123675,2.25,0.35213313626417003,0,0,"","","","","","","",0.16,0,0.16,13.44,13.44]
[null,null,null,null,null,null,null,null,null,null,null,null,null,null,null,null,null,null,null,null,null,null,null,null,null,null,null,null,null,null,null,null,null,null,85,13.6,"Left Bank",52.303332302815733,95.000000026223162,52.303332298974553,92.750000026223162,95.869149351603113,0,0.86914932537995071,0.86914932537995071,"",0.86914932537995071,0,3.1191493253799507,3.1191493253799507,0.16,0,0,0,0.31289375713678225,2.25,0.35213313626417003,0,0,"","","","","","","",0.16,0,0.16,13.6,13.6]
[null,null,null,null,null,null,null,null,null,null,null,null,null,null,null,null,null,null,null,null,null,null,null,null,null,null,null,null,null,null,null,null,null,null,86,13.76,"Left Bank",52.459835918933145,95.000000025943905,52.459835915091965,92.750000025943905,95.847089794283704,0,0.84708976833979932,0.84708976833979932,"",0.84708976833979932,0,3.0970897683397993,3.0970897683397993,0.16,0,0,0,0.30495231660232774,2.25,0.35213313626417003,0,0,"","","","","","","",0.16,0,0.16,13.76,13.76]
[null,null,null,null,null,null,null,null,null,null,null,null,null,null,null,null,null,null,null,null,null,null,null,null,null,null,null,null,null,null,null,null,null,null,87,13.92,"Left Bank",52.616339535050557,95.000000025664647,52.616339531209377,92.750000025664647,95.825030236964295,0,0.82503021129964793,0.82503021129964793,"",0.82503021129964793,0,3.0750302112996479,3.0750302112996479,0.16,0,0,0,0.29701087606787324,2.25,0.35213313626417003,0,0,"","","","","","","",0.16,0,0.16,13.92,13.92]
[null,null,null,null,null,null,null,null,null,null,null,null,null,null,null,null,null,null,null,null,null,null,null,null,null,null,null,null,null,null,null,null,null,null,88,14.08,"Left Bank",52.772843151167962,95.00000002538539,52.772843147326782,92.75000002538539,95.802970679644886,0,0.80297065425949654,0.80297065425949654,"",0.80297065425949654,0,3.0529706542594965,3.0529706542594965,0.16,0,0,0,0.28906943553341874,2.25,0.35213313626417003,0,0,"","","","","","","",0.16,0,0.16,14.08,14.08]
[null,null,null,null,null,null,null,null,null,null,null,null,null,null,null,null,null,null,null,null,null,null,null,null,null,null,null,null,null,null,null,null,null,null,89,14.24,"Left Bank",52.929346767285374,95.000000025106132,52.929346763444194,92.750000025106132,95.780911122325492,0,0.78091109721935936,0.78091109721935936,"",0.78091109721935936,0,3.0309110972193594,3.0309110972193594,0.16,0,0,0,0.2811279949989694,2.25,0.35213313626417003,0,0,"","","","","","","",0.16,0,0.16,14.24,14.24]
[null,null,null,null,null,null,null,null,null,null,null,null,null,null,null,null,null,null,null,null,null,null,null,null,null,null,null,null,null,null,null,null,null,null,90,14.4,"Left Bank",53.085850383402786,95.000000024826875,53.085850379561606,92.750000024826875,95.758851565006083,0,0.75885154017920797,0.75885154017920797,"",0.75885154017920797,0,3.008851540179208,3.008851540179208,0.16,0,0,0,0.2731865544645149,2.25,0.35213313626417003,0,0,"","","","","","","",0.16,0,0.16,14.4,14.4]
[null,null,null,null,null,null,null,null,null,null,null,null,null,null,null,null,null,null,null,null,null,null,null,null,null,null,null,null,null,null,null,null,null,null,91,14.56,"Left Bank",53.242353999520191,95.000000024547617,53.242353995679011,92.750000024547617,95.736792007686674,0,0.73679198313905658,0.73679198313905658,"",0.73679198313905658,0,2.9867919831390566,2.9867919831390566,0.16,0,0,0,0.26524511393006039,2.25,0.35213313626417003,0,0,"","","","","","","",0.16,0,0.16,14.56,14.56]
[null,null,null,null,null,null,null,null,null,null,null,null,null,null,null,null,null,null,null,null,null,null,null,null,null,null,null,null,null,null,null,null,null,null,92,14.72,"Left Bank",53.398857615637596,95.00000002426836,53.398857611796416,92.75000002426836,95.714732450367265,0,0.71473242609890519,0.71473242609890519,"",0.71473242609890519,0,2.9647324260989052,2.9647324260989052,0.16,0,0,0,0.25730367339560589,2.25,0.35213313626417003,0,0,"","","","","","","",0.16,0,0.16,14.72,14.72]
[null,null,null,null,null,null,null,null,null,null,null,null,null,null,null,null,null,null,null,null,null,null,null,null,null,null,null,null,null,null,null,null,null,null,93,14.88,"Left Bank",53.555361231755008,95.000000023989102,53.555361227913828,92.750000023989102,95.692672893047856,0,0.6926728690587538,0.6926728690587538,"",0.6926728690587538,0,2.9426728690587538,2.9426728690587538,0.16,0,0,0,0.24936223286115136,2.25,0.35213313626417003,0,0,"","","","","","","",0.16,0,0.16,14.88,14.88]
[null,null,null,null,null,null,null,null,null,null,null,null,null,null,null,null,null,null,null,null,null,null,null,null,null,null,null,null,null,null,null,null,null,null,94,15.04,"Left Bank",53.71186484787242,95.000000023709845,53.71186484403124,92.750000023709845,95.670613335728461,0,0.67061331201861663,0.67061331201861663,"",0.67061331201861663,0,2.9206133120186166,2.9206133120186166,0.16,0,0,0,0.24142079232670199,2.25,0.35213313626417003,0,0,"","","","","","","",0.16,0,0.16,15.04,15.04]
[null,null,null,null,null,null,null,null,null,null,null,null,null,null,null,null,null,null,null,null,null,null,null,null,null,null,null,null,null,null,null,null,null,null,95,15.2,"Left Bank",53.868368463989825,95.000000023430587,53.868368460148645,92.750000023430587,95.648553778409052,0,0.64855375497846524,0.64855375497846524,"",0.64855375497846524,0,2.8985537549784652,2.8985537549784652,0.16,0,0,0,0.23347935179224749,2.25,0.35213313626417003,0,0,"","","","","","","",0.16,0,0.16,15.2,15.2]
[null,null,null,null,null,null,null,null,null,null,null,null,null,null,null,null,null,null,null,null,null,null,null,null,null,null,null,null,null,null,null,null,null,null,96,15.36,"Left Stream Bed",54.024872080107237,95.00000002315133,54.024872076266057,92.75000002315133,95.627184480531852,0,0.62718445738052253,0.62718445738052253,0.62718445738052253,"",0,2.8771844573805225,2.8771844573805225,0.16,0,0.22578640465698813,0,0,2.25,0.35213313626417003,0,0,"","","","","","","",0.16,0.16,0,15.36,15.36]
[null,null,null,null,null,null,null,null,null,null,null,null,null,null,null,null,null,null,null,null,null,null,null,null,null,null,null,null,null,null,null,null,null,null,97,15.52,"Left Stream Bed",54.181375696224642,95.000000022872072,54.181375692383462,92.750000022872072,95.609468271187367,0,0.60946824831529511,0.60946824831529511,0.60946824831529511,"",0,2.8594682483152951,2.8594682483152951,0.16,0,0.21940856939350625,0,0,2.25,0.35213313626417003,0,0,"","","","","","","",0.16,0.16,0,15.52,15.52]
[null,null,null,null,null,null,null,null,null,null,null,null,null,null,null,null,null,null,null,null,null,null,null,null,null,null,null,null,null,null,null,null,null,null,98,15.68,"Left Stream Bed",54.337879312342054,95.000000022592815,54.337879308500874,92.750000022592815,95.591752061842868,0,0.59175203925005349,0.59175203925005349,0.59175203925005349,"",0,2.8417520392500535,2.8417520392500535,0.16,0,0.21303073413001927,0,0,2.25,0.35213313626417003,0,0,"","","","","","","",0.16,0.16,0,15.68,15.68]
[null,null,null,null,null,null,null,null,null,null,null,null,null,null,null,null,null,null,null,null,null,null,null,null,null,null,null,null,null,null,null,null,null,null,99,15.84,"Left Stream Bed",54.494382928459459,95.000000022313557,54.494382924618279,92.750000022313557,95.574035852498383,0,0.57403583018482607,0.57403583018482607,0.57403583018482607,"",0,2.8240358301848261,2.8240358301848261,0.16,0,0.2066528988665374,0,0,2.25,0.35213313626417003,0,0,"","","","","","","",0.16,0.16,0,15.84,15.84]
[null,null,null,null,null,null,null,null,null,null,null,null,null,null,null,null,null,null,null,null,null,null,null,null,null,null,null,null,null,null,null,null,null,null,100,16,"Left Stream Bed",54.650886544576871,95.0000000220343,54.650886540735691,92.7500000220343,95.556319643153898,0,0.55631962111959865,0.55631962111959865,0.55631962111959865,"",0,2.8063196211195987,2.8063196211195987,0.16,0,0.20027506360305553,0,0,2.25,0.35213313626417003,0,0,"","","","","","","",0.16,0.16,0,16,16]
[null,null,null,null,null,null,null,null,null,null,null,null,null,null,null,null,null,null,null,null,null,null,null,null,null,null,null,null,null,null,null,null,null,null,101,16.16,"Left Stream Bed",54.807390160694283,95.000000021755042,54.807390156853103,92.750000021755042,95.538603433809399,0,0.53860341205435702,0.53860341205435702,0.53860341205435702,"",0,2.788603412054357,2.788603412054357,0.16,0,0.19389722833956854,0,0,2.25,0.35213313626417003,0,0,"","","","","","","",0.16,0.16,0,16.16,16.16]
[null,null,null,null,null,null,null,null,null,null,null,null,null,null,null,null,null,null,null,null,null,null,null,null,null,null,null,null,null,null,null,null,null,null,102,16.32,"Left Stream Bed",54.963893776811688,95.000000021475785,54.963893772970508,92.750000021475785,95.520887224464914,0,0.52088720298912961,0.52088720298912961,0.52088720298912961,"",0,2.7708872029891296,2.7708872029891296,0.16,0,0.18751939307608667,0,0,2.25,0.35213313626417003,0,0,"","","","","","","",0.16,0.16,0,16.32,16.32]
[null,null,null,null,null,null,null,null,null,null,null,null,null,null,null,null,null,null,null,null,null,null,null,null,null,null,null,null,null,null,null,null,null,null,103,16.48,"Left Stream Bed",55.120397392929092,95.000000021196527,55.120397389087913,92.750000021196527,95.503171015120415,0,0.50317099392388798,0.50317099392388798,0.50317099392388798,"",0,2.753170993923888,2.753170993923888,0.16,0,0.18114155781259966,0,0,2.25,0.35213313626417003,0,0,"","","","","","","",0.16,0.16,0,16.48,16.48]
[null,null,null,null,null,null,null,null,null,null,null,null,null,null,null,null,null,null,null,null,null,null,null,null,null,null,null,null,null,null,null,null,null,null,104,16.64,"Left Stream Bed",55.276901009046512,95.00000002091727,55.276901005205332,92.75000002091727,95.48545480577593,0,0.48545478485866056,0.48545478485866056,0.48545478485866056,"",0,2.7354547848586606,2.7354547848586606,0.16,0,0.17476372254911782,0,0,2.25,0.35213313626417003,0,0,"","","","","","","",0.16,0.16,0,16.64,16.64]
[null,null,null,null,null,null,null,null,null,null,null,null,null,null,null,null,null,null,null,null,null,null,null,null,null,null,null,null,null,null,null,null,null,null,105,16.8,"Left Stream Bed",55.433404625163917,95.000000020638012,55.433404621322737,92.750000020638012,95.467738596431445,0,0.46773857579343314,0.46773857579343314,0.46773857579343314,"",0,2.7177385757934331,2.7177385757934331,0.16,0,0.16838588728563594,0,0,2.25,0.35213313626417003,0,0,"","","","","","","",0.16,0.16,0,16.8,16.8]
[null,null,null,null,null,null,null,null,null,null,null,null,null,null,null,null,null,null,null,null,null,null,null,null,null,null,null,null,null,null,null,null,null,null,106,16.96,"Left Stream Bed",55.589908241281321,95.000000020358755,55.589908237440142,92.750000020358755,95.450022387086946,0,0.45002236672819151,0.45002236672819151,0.45002236672819151,"",0,2.7000223667281915,2.7000223667281915,0.16,0,0.16200805202214894,0,0,2.25,0.35213313626417003,0,0,"","","","","","","",0.16,0.16,0,16.96,16.96]
[null,null,null,null,null,null,null,null,null,null,null,null,null,null,null,null,null,null,null,null,null,null,null,null,null,null,null,null,null,null,null,null,null,null,107,17.12,"Left Stream Bed",55.746411857398734,95.000000020079497,55.746411853557554,92.750000020079497,95.432306177742461,0,0.4323061576629641,0.4323061576629641,0.4323061576629641,"",0,2.6823061576629641,2.6823061576629641,0.16,0,0.15563021675866709,0,0,2.25,0.35213313626417003,0,0,"","","","","","","",0.16,0.16,0,17.12,17.12]
[null,null,null,null,null,null,null,null,null,null,null,null,null,null,null,null,null,null,null,null,null,null,null,null,null,null,null,null,null,null,null,null,null,null,108,17.28,"Left Stream Bed",55.902915473516146,95.00000001980024,55.902915469674966,92.75000001980024,95.414589968397962,0,0.41458994859772247,0.41458994859772247,0.41458994859772247,"",0,2.6645899485977225,2.6645899485977225,0.16,0,0.14925238149518008,0,0,2.25,0.35213313626417003,0,0,"","","","","","","",0.16,0.16,0,17.28,17.28]
[null,null,null,null,null,null,null,null,null,null,null,null,null,null,null,null,null,null,null,null,null,null,null,null,null,null,null,null,null,null,null,null,null,null,109,17.440000000000001,"Left Stream Bed",56.05941908963355,95.000000019520982,56.059419085792371,92.750000019520982,95.396873759053477,0,0.39687373953249505,0.39687373953249505,0.39687373953249505,"",0,2.6468737395324951,2.6468737395324951,0.16,0,0.14287454623169824,0,0,2.25,0.35213313626417003,0,0,"","","","","","","",0.16,0.16,0,17.440000000000001,17.440000000000001]
[null,null,null,null,null,null,null,null,null,null,null,null,null,null,null,null,null,null,null,null,null,null,null,null,null,null,null,null,null,null,null,null,null,null,110,17.600000000000001,"Left Stream Bed",56.215922705750963,95.000000019241725,56.215922701909783,92.750000019241725,95.379157549708992,0,0.37915753046726763,0.37915753046726763,0.37915753046726763,"",0,2.6291575304672676,2.6291575304672676,0.16,0,0.13649671096821636,0,0,2.25,0.35213313626417003,0,0,"","","","","","","",0.16,0.16,0,17.600000000000001,17.600000000000001]
[null,null,null,null,null,null,null,null,null,null,null,null,null,null,null,null,null,null,null,null,null,null,null,null,null,null,null,null,null,null,null,null,null,null,111,17.760000000000002,"Left Stream Bed",56.372426321868375,95.000000018962467,56.372426318027195,92.750000018962467,95.361441340364493,0,0.36144132140202601,0.36144132140202601,0.36144132140202601,"",0,2.611441321402026,2.611441321402026,0.16,0,0.13011887570472935,0,0,2.25,0.35213313626417003,0,0,"","","","","","","",0.16,0.16,0,17.760000000000002,17.760000000000002]
[null,null,null,null,null,null,null,null,null,null,null,null,null,null,null,null,null,null,null,null,null,null,null,null,null,null,null,null,null,null,null,null,null,null,112,17.920000000000002,"Left Stream Bed",56.528929937985779,95.00000001868321,56.5289299341446,92.75000001868321,95.343725131020008,0,0.34372511233679859,0.34372511233679859,0.34372511233679859,"",0,2.5937251123367986,2.5937251123367986,0.16,0,0.12374104044124749,0,0,2.25,0.35213313626417003,0,0,"","","","","","","",0.16,0.16,0,17.920000000000002,17.920000000000002]
[null,null,null,null,null,null,null,null,null,null,null,null,null,null,null,null,null,null,null,null,null,null,null,null,null,null,null,null,null,null,null,null,null,null,113,18.079999999999998,"Left Stream Bed",56.685433554103184,95.000000018403952,56.685433550262005,92.750000018403952,95.326008921675509,0,0.32600890327155696,0.32600890327155696,0.32600890327155696,"",0,2.576008903271557,2.576008903271557,0.16,0,0.11736320517776051,0,0,2.25,0.35213313626417003,0,0,"","","","","","","",0.16,0.16,0,18.079999999999998,18.079999999999998]
[null,null,null,null,null,null,null,null,null,null,null,null,null,null,null,null,null,null,null,null,null,null,null,null,null,null,null,null,null,null,null,null,null,null,114,18.239999999999998,"Left Stream Bed",56.841937170220589,95.000000018124695,56.84193716637941,92.750000018124695,95.308292712331024,0,0.30829269420632954,0.30829269420632954,0.30829269420632954,"",0,2.5582926942063295,2.5582926942063295,0.16,0,0.11098536991427864,0,0,2.25,0.35213313626417003,0,0,"","","","","","","",0.16,0.16,0,18.239999999999998,18.239999999999998]
[null,null,null,null,null,null,null,null,null,null,null,null,null,null,null,null,null,null,null,null,null,null,null,null,null,null,null,null,null,null,null,null,null,null,115,18.399999999999999,"Left Stream Bed",56.998440786338001,95.000000017845437,56.998440782496822,92.750000017845437,95.290576502986539,0,0.29057648514110213,0.29057648514110213,0.29057648514110213,"",0,2.5405764851411021,2.5405764851411021,0.16,0,0.10460753465079677,0,0,2.25,0.35213313626417003,0,0,"","","","","","","",0.16,0.16,0,18.399999999999999,18.399999999999999]
[null,null,null,null,null,null,null,null,null,null,null,null,null,null,null,null,null,null,null,null,null,null,null,null,null,null,null,null,null,null,null,null,null,null,116,18.559999999999999,"Left Stream Bed",57.154944402455413,95.00000001756618,57.154944398614234,92.75000001756618,95.27286029364204,0,0.2728602760758605,0.2728602760758605,0.2728602760758605,"",0,2.5228602760758605,2.5228602760758605,0.16,0,9.8229699387309785E-2,0,0,2.25,0.35213313626417003,0,0,"","","","","","","",0.16,0.16,0,18.559999999999999,18.559999999999999]
[null,null,null,null,null,null,null,null,null,null,null,null,null,null,null,null,null,null,null,null,null,null,null,null,null,null,null,null,null,null,null,null,null,null,117,18.72,"Left Stream Bed",57.311448018572818,95.000000017286922,57.311448014731639,92.750000017286922,95.255144084297555,0,0.25514406701063308,0.25514406701063308,0.25514406701063308,"",0,2.5051440670106331,2.5051440670106331,0.16,0,9.1851864123827912E-2,0,0,2.25,0.35213313626417003,0,0,"","","","","","","",0.16,0.16,0,18.72,18.72]
[null,null,null,null,null,null,null,null,null,null,null,null,null,null,null,null,null,null,null,null,null,null,null,null,null,null,null,null,null,null,null,null,null,null,118,18.88,"Left Stream Bed",57.46795163469023,95.000000017007665,57.467951630849051,92.750000017007665,95.237427874953056,0,0.23742785794539145,0.23742785794539145,0.23742785794539145,"",0,2.4874278579453915,2.4874278579453915,0.16,0,8.5474028860340931E-2,0,0,2.25,0.35213313626417003,0,0,"","","","","","","",0.16,0.16,0,18.88,18.88]
[null,null,null,null,null,null,null,null,null,null,null,null,null,null,null,null,null,null,null,null,null,null,null,null,null,null,null,null,null,null,null,null,null,null,119,19.04,"Left Stream Bed",57.624455250807642,95.000000016728407,57.624455246966463,92.750000016728407,95.219711665608571,0,0.21971164888016403,0.21971164888016403,0.21971164888016403,"",0,2.469711648880164,2.469711648880164,0.16,0,7.9096193596859057E-2,0,0,2.25,0.35213313626417003,0,0,"","","","","","","",0.16,0.16,0,19.04,19.04]
[null,null,null,null,null,null,null,null,null,null,null,null,null,null,null,null,null,null,null,null,null,null,null,null,null,null,null,null,null,null,null,null,null,null,120,19.2,"Left Stream Bed",57.780958866925047,95.00000001644915,57.780958863083868,92.75000001644915,95.201995456264086,0,0.20199543981493662,0.20199543981493662,0.20199543981493662,"",0,2.4519954398149366,2.4519954398149366,0.16,0,7.2718358333377184E-2,0,0,2.25,0.35213313626417003,0,0,"","","","","","","",0.16,0.16,0,19.2,19.2]
[null,null,null,null,null,null,null,null,null,null,null,null,null,null,null,null,null,null,null,null,null,null,null,null,null,null,null,null,null,null,null,null,null,null,121,19.36,"Left Stream Bed",57.937462483042452,95.000000016169892,57.937462479201272,92.750000016169892,95.184279246919587,0,0.18427923074969499,0.18427923074969499,0.18427923074969499,"",0,2.434279230749695,2.434279230749695,0.16,0,6.6340523069890203E-2,0,0,2.25,0.35213313626417003,0,0,"","","","","","","",0.16,0.16,0,19.36,19.36]
[null,null,null,null,null,null,null,null,null,null,null,null,null,null,null,null,null,null,null,null,null,null,null,null,null,null,null,null,null,null,null,null,null,null,122,19.52,"Left Stream Bed",58.093966099159871,95.000000015890635,58.093966095318692,92.750000015890635,95.166563037575102,0,0.16656302168446757,0.16656302168446757,0.16656302168446757,"",0,2.4165630216844676,2.4165630216844676,0.16,0,5.996268780640833E-2,0,0,2.25,0.35213313626417003,0,0,"","","","","","","",0.16,0.16,0,19.52,19.52]
[null,null,null,null,null,null,null,null,null,null,null,null,null,null,null,null,null,null,null,null,null,null,null,null,null,null,null,null,null,null,null,null,null,null,123,19.68,"Left Stream Bed",58.250469715277276,95.000000015611377,58.250469711436097,92.750000015611377,95.148846828230603,0,0.14884681261922594,0.14884681261922594,0.14884681261922594,"",0,2.3988468126192259,2.3988468126192259,0.16,0,5.3584852542921342E-2,0,0,2.25,0.35213313626417003,0,0,"","","","","","","",0.16,0.16,0,19.68,19.68]
[null,null,null,null,null,null,null,null,null,null,null,null,null,null,null,null,null,null,null,null,null,null,null,null,null,null,null,null,null,null,null,null,null,null,124,19.84,"Left Stream Bed",58.406973331394681,95.00000001533212,58.406973327553501,92.75000001533212,95.131130618886118,0,0.13113060355399853,0.13113060355399853,0.13113060355399853,"",0,2.3811306035539985,2.3811306035539985,0.16,0,4.7207017279439469E-2,0,0,2.25,0.35213313626417003,0,0,"","","","","","","",0.16,0.16,0,19.84,19.84]
[null,null,null,null,null,null,null,null,null,null,null,null,null,null,null,null,null,null,null,null,null,null,null,null,null,null,null,null,null,null,null,null,null,null,125,20,"Left Stream Bed",58.563476947512093,95.000000015052862,58.563476943670913,92.750000015052862,95.113414409541633,0,0.11341439448877111,0.11341439448877111,0.11341439448877111,"",0,2.3634143944887711,2.3634143944887711,0.16,0,4.0829182015957602E-2,0,0,2.25,0.35213313626417003,0,0,"","","","","","","",0.16,0.16,0,20,20]
[null,null,null,null,null,null,null,null,null,null,null,null,null,null,null,null,null,null,null,null,null,null,null,null,null,null,null,null,null,null,null,null,null,null,126,20.16,"Left Stream Bed",58.719980563629505,95.000000014773605,58.719980559788326,92.750000014773605,95.095698200197134,0,9.569818542352948E-2,9.569818542352948E-2,9.569818542352948E-2,"",0,2.3456981854235295,2.3456981854235295,0.16,0,3.4451346752470614E-2,0,0,2.25,0.35213313626417003,0,0,"","","","","","","",0.16,0.16,0,20.16,20.16]
[null,null,null,null,null,null,null,null,null,null,null,null,null,null,null,null,null,null,null,null,null,null,null,null,null,null,null,null,null,null,null,null,null,null,127,20.32,"Left Stream Bed",58.87648417974691,95.000000014494347,58.87648417590573,92.750000014494347,95.077981990852649,0,7.7981976358302063E-2,7.7981976358302063E-2,7.7981976358302063E-2,"",0,2.3279819763583021,2.3279819763583021,0.16,0,2.8073511488988744E-2,0,0,2.25,0.35213313626417003,0,0,"","","","","","","",0.16,0.16,0,20.32,20.32]
[null,null,null,null,null,null,null,null,null,null,null,null,null,null,null,null,null,null,null,null,null,null,null,null,null,null,null,null,null,null,null,null,null,null,128,20.48,{"$f":"IF(OR($C$19=\"\",$F$25=\"\",$G$25=\"\"),\"None\",IF(AL173<$B$14,\"Left Floodplain\",IF(AL173<$B$15,\"Left Bank\",IF(AL173<$B$16,\"Left Stream Bed\",IF(AL173<$B$17,\"Right Stream Bed\",IF(AL173<$B$18,\"Right Bank\",\"Right Floodplain\"))))))","v":"Left Stream Bed"},59.032987795864315,95.00000001421509,59.032987792023135,92.75000001421509,95.06026578150815,{"$f":"IF(OR($AP173<$AE$12,$AP173<=$AM173),0,IF(OR($AP173>=$AE$12,$AM173>=$AE$12),$AP173-$AM173-$AR173,$AP173-$AE$12))","v":0},{"$f":"IF($AP173<=$AM173,0,IF($AM173>=$AE$12,0,IF($AP173<=$AE$12,$AP173-$AM173,$AE$12-$AM173)))","v":6.0265767293060435E-2},6.0265767293060435E-2,6.0265767293060435E-2,"",0,{"$f":"IF($AP173<=$AO173,0,IF($AO173>=$AE$12,0,IF($AP173<=$AE$12,$AP173-$AO173,$AE$12-$AO173)))","v":2.3102657672930604},{"$f":"IF(AP173<=AO173,0,AP173-AO173)","v":2.3102657672930604},{"$f":"IF($AS173=0,0,IF(OR($AJ173=0,$AJ173=$E$22),$AJ$46/2,$AJ$46))","v":0.16},{"$f":"IF(OR($AK173=\"Left Stream Bed\",$AK173=\"Right Stream Bed\"),$F$22*$AQ173*$AY173,0)","v":0},{"$f":"IF(OR($AK173=\"Left Stream Bed\",$AK173=\"Right Stream Bed\"),$F$22*$AR173*$AY173,0)","v":2.1695676225501757E-2},{"$f":"IF(OR($AK173=\"Left Floodplain\",$AK173=\"Left Bank\",$AK173=\"Right Bank\",$AK173=\"Right Floodplain\"),$F$22*$AQ173*$AY173,0)","v":0},{"$f":"IF(OR($AK173=\"Left Floodplain\",$AK173=\"Left Bank\",$AK173=\"Right Bank\",$AK173=\"Right Floodplain\"),$F$22*$AR173*$AY173,0)","v":0},{"$f":"AX173-AS173","v":2.25},0.35213313626417003,0,{"$f":"IF(OR($AJ173=0,$AJ173=$E$22),($BF173*$AJ$46/2)*ABS($M$17),$BF173*$AJ$46*ABS($M$17))","v":0},{"$f":"IF(OR($AM173<$AP173,$AO173>$AE$8),\"\",IF(OR($AJ173=0,$AJ173=$E$22),$AJ$46/2,$AJ$46))","v":""},"","",{"$f":"IF($BJ173=\"\",\"\",IF(OR($BJ173>($F$22/2),$BJ173=0),0,0.45-($BJ173*0.45/($F$22/2))))","v":""},{"$f":"IF($BK173=\"\",\"\",IF($BK173>0,$AJ173,\"\"))","v":""},"","",{"$f":"IF($AO173=0,0,IF($AO173>$AP173,0,IF(OR($AJ173=0,$AJ173=$E$22),$AJ$46/2,$AJ$46)))","v":0.16},{"$f":"IF(AND($BO173>0,OR($AK173=\"Left Stream Bed\",$AK173=\"Right Stream Bed\")),$BO173,0)","v":0.16},{"$f":"IF(AND($BO173>0,OR($AK173=\"Left Floodplain\",$AK173=\"Left Bank\",$AK173=\"Right Bank\",$AK173=\"Right Floodplain\")),$BO173,0)","v":0},{"$f":"IF($BO173>0,$AJ173,\"\")","v":20.48},20.48]
[null,null,null,null,null,null,null,null,null,null,null,null,null,null,null,null,null,null,null,null,null,null,null,null,null,null,null,null,null,null,null,null,null,null,129,{"$f":"($AI174/$AI$245)*$AJ$245","v":20.64},"Left Stream Bed",59.189491411981734,95.000000013935832,{"$f":"$AN$45+ABS(AJ174*$M$19*$M$17)","v":59.189491408140555},92.750000013935832,95.042549572163665,0,4.2549558227833018E-2,{"$f":"IF(AP174<=AM174,0,AP174-AM174)","v":4.2549558227833018E-2},{"$f":"IF(OR($AS174=\"\",$AS174=0),\"\",IF(OR($AK174=\"Left Stream Bed\",$AK174=\"Right Stream Bed\"),$AS174,\"\"))","v":4.2549558227833018E-2},{"$f":"IF(OR($AS174=\"\",$AS174=0),\"\",IF(OR($AK174=\"Left Floodplain\",$AK174=\"Left Bank\",$AK174=\"Right Bank\",$AK174=\"Right Floodplain\"),$AS174,\"\"))","v":""},{"$f":"IF(OR($AP174<$AE$12,$AP174<=$AO174),0,IF($AO174>=$AE$12,$AP174-$AO174,$AP174-$AE$12))","v":0},2.292549558227833,2.292549558227833,0.16,0,1.5317840962019887E-2,0,0,2.25,{"$f":"$BD174*$AJ$46*ABS($M$17)","v":0.35213313626417003},{"$f":"AV174-AQ174","v":0},0,"",{"$f":"IF($BH174=\"\",\"\",IF($BH174>0,$AJ174,\"\"))","v":""},{"$f":"IF($BH174=\"\",\"\",IF(OR(($AO174-$AP174)<0,$AO$45>=$AE$8),0,($AO174-$AP174)))","v":""},"","",{"$f":"IF($BH174=\"\",\"\",IF(OR(($AM174-$AP174)<0,$AM174>=$AE$8),\"\",($AE$8-($AM174-(($F$22/2)/$M$19)))))","v":""},"",0.16,0.16,0,20.64,{"$f":"IF($AY174>0,$AJ174,\"\")","v":20.64}]
[null,null,null,null,null,null,null,null,null,null,null,null,null,null,null,null,null,null,null,null,null,null,null,null,null,null,null,null,null,null,null,null,null,null,130,20.8,"Left Stream Bed",59.345995028099139,{"$f":"AM174+((AL175-AL174)*$AA$40)","v":95.000000013656575},59.345995024257959,{"$f":"AO174+((AN175-AN174)*$AA$40)","v":92.750000013656575},{"$f":"IF($AL175<$B$14,(($AL175-$B$13)*$AB$31)+$C$13,IF($AL175<$B$15,(($AL175-$B$14)*$AB$32)+$C$14,IF($AL175<$B$16,(($AL175-$B$15)*$AB$33)+$C$15,IF($AL175<$B$17,(($AL175-$B$16)*$AB$34)+$C$16,IF($AL175<$B$18,(($AL175-$B$17)*$AB$35)+$C$17,IF($AL175<$B$19,(($AL175-$B$18)*$AB$36)+$C$18))))))","v":95.02483336281918},0,2.48333491626056E-2,2.48333491626056E-2,2.48333491626056E-2,"",0,2.2748333491626056,2.2748333491626056,0.16,0,8.9400056985380165E-3,0,0,2.25,0.35213313626417003,0,0,"","","","","","",{"$f":"IF($BM175=\"\",\"\",(((PI()^2)/32)*($B$66^-6)*EXP(-($BM175/$F$22)/(2*($B$66^2)))))","v":""},0.16,0.16,0,20.8,20.8]
[null,null,null,null,null,null,null,null,null,null,null,null,null,null,null,null,null,null,null,null,null,null,null,null,null,null,null,null,null,null,null,null,null,null,131,20.96,"Left Stream Bed",{"$f":"$AL$45+ABS(AJ176*$M$19*$M$17)","v":59.502498644216544},95.000000013377317,59.502498640375364,92.750000013377317,95.007117153474681,0,7.117140097363972E-3,7.117140097363972E-3,7.117140097363972E-3,"",0,2.257117140097364,2.257117140097364,0.16,0,2.5621704350510298E-3,0,0,2.25,0.35213313626417003,0,0,"","","","","","","",0.16,0.16,0,20.96,20.96]
[null,null,null,null,null,null,null,null,null,null,null,null,null,null,null,null,null,null,null,null,null,null,null,null,null,null,null,null,null,null,null,null,null,null,132,21.12,"Left Stream Bed",59.659002260333956,95.00000001309806,59.659002256492776,92.75000001309806,94.989400944130196,0,0,0,"","",0,2.2394009310321366,2.2394009310321366,0,0,0,0,0,2.2394009310321366,0.35047434364322161,0,0,0.16,21.12,0,0,"",7.3749999869019405,4.7035843202877202E-2,0.16,0.16,0,21.12,""]
[null,null,null,null,null,null,null,null,null,null,null,null,null,null,null,null,null,null,null,null,null,null,null,null,null,null,null,null,null,null,null,null,null,null,133,21.28,"Left Stream Bed",59.815505876451368,95.000000012818802,59.815505872610188,92.750000012818802,94.971684734785697,0,0,0,"","",0,2.2216847219668949,2.2216847219668949,0,0,0,0,0,2.2216847219668949,0.3477016928606193,0,0,0.16,21.28,0,0,"",7.374999987181198,4.7035843193031675E-2,0.16,0.16,0,21.28,""]
[null,null,null,null,null,null,null,null,null,null,null,null,null,null,null,null,null,null,null,null,null,null,null,null,null,null,null,null,null,null,null,null,null,null,134,21.44,"Left Stream Bed",59.972009492568773,95.000000012539545,59.972009488727593,92.750000012539545,94.953968525441212,0,0,0,"","",0,2.2039685129016675,2.2039685129016675,0,0,0,0,0,2.2039685129016675,0.34492904207801917,0,0,0.16,21.44,0,0,"",7.3749999874604555,4.7035843183186155E-2,0.16,0.16,0,21.44,""]
[null,null,null,null,null,null,null,null,null,null,null,null,null,null,null,null,null,null,null,null,null,null,null,null,null,null,null,null,null,null,null,null,null,null,135,21.6,"Left Stream Bed",60.128513108686185,95.000000012260287,60.128513104845005,92.750000012260287,94.936252316096713,0,0,0,"","",0,2.1862523038364259,2.1862523038364259,0,0,0,0,0,2.1862523038364259,0.34215639129541681,0,0,0.16,21.6,0,0,"",7.374999987739713,4.7035843173340627E-2,0.16,0.16,0,21.6,""]
[null,null,null,null,null,null,null,null,null,null,null,null,null,null,null,null,null,null,null,null,null,null,null,null,null,null,null,null,null,null,null,null,null,null,136,21.76,"Left Stream Bed",60.285016724803597,95.00000001198103,60.285016720962417,92.75000001198103,94.918536106752228,0,0,0,"","",0,2.1685360947711985,2.1685360947711985,0,0,0,0,0,2.1685360947711985,0.33938374051281672,0,0,0.16,21.76,0,0,"",7.3749999880189705,4.7035843163495135E-2,0.16,0.16,0,21.76,""]
[null,null,null,null,null,null,null,null,null,null,null,null,null,null,null,null,null,null,null,null,null,null,null,null,null,null,null,null,null,null,null,null,null,null,137,21.92,"Left Stream Bed",60.441520340921002,95.000000011701772,60.441520337079822,92.750000011701772,94.900819897407743,0,0,0,"","",0,2.150819885705971,2.150819885705971,0,0,0,0,0,2.150819885705971,0.33661108973021658,0,0,0.16,21.92,0,0,"",7.374999988298228,4.7035843153649608E-2,0.16,0.16,0,21.92,""]
[null,null,null,null,null,null,null,null,null,null,null,null,null,null,null,null,null,null,null,null,null,null,null,null,null,null,null,null,null,null,null,null,null,null,138,22.08,"Left Stream Bed",60.598023957038407,95.000000011422514,60.598023953197227,92.750000011422514,94.883103688063244,0,0,0,"","",0,2.1331036766407294,2.1331036766407294,0,0,0,0,0,2.1331036766407294,0.33383843894761422,0,0,0.16,22.08,0,0,"",7.3749999885774855,4.7035843143804087E-2,0.16,0.16,0,22.08,""]
[null,null,null,null,null,null,null,null,null,null,null,null,null,null,null,null,null,null,null,null,null,null,null,null,null,null,null,null,null,null,null,null,null,null,139,22.24,"Left Stream Bed",60.754527573155812,95.000000011143257,60.754527569314632,92.750000011143257,94.865387478718759,0,0,0,"","",0,2.115387467575502,2.115387467575502,0,0,0,0,0,2.115387467575502,0.33106578816501414,0,0,0.16,22.24,0,0,"",7.374999988856743,4.703584313395856E-2,0.16,0.16,0,22.24,""]
[null,null,null,null,null,null,null,null,null,null,null,null,null,null,null,null,null,null,null,null,null,null,null,null,null,null,null,null,null,null,null,null,null,null,140,22.4,"Left Stream Bed",60.911031189273224,95.000000010863999,60.911031185432044,92.750000010863999,94.847671269374274,0,0,0,"","",0,2.0976712585102746,2.0976712585102746,0,0,0,0,0,2.0976712585102746,0.32829313738241406,0,0,0.16,22.4,0,0,"",7.3749999891360005,4.7035843124113068E-2,0.16,0.16,0,22.4,""]
[null,null,null,null,null,null,null,null,null,null,null,null,null,null,null,null,null,null,null,null,null,null,null,null,null,null,null,null,null,null,null,null,null,null,141,22.56,"Left Stream Bed",61.067534805390636,95.000000010584742,61.067534801549456,92.750000010584742,94.829955060029775,0,0,0,"","",0,2.079955049445033,2.079955049445033,0,0,0,0,0,2.079955049445033,0.32552048659981175,0,0,0.16,22.56,0,0,"",7.374999989415258,4.7035843114267541E-2,0.16,0.16,0,22.56,""]
[null,null,null,null,null,null,null,null,null,null,null,null,null,null,null,null,null,null,null,null,null,null,null,null,null,null,null,null,null,null,null,null,null,null,142,22.72,"Left Stream Bed",61.224038421508041,95.000000010305484,61.224038417666861,92.750000010305484,94.81223885068529,0,0,0,"","",0,2.0622388403798055,2.0622388403798055,0,0,0,0,0,2.0622388403798055,0.32274783581721161,0,0,0.16,22.72,0,0,"",7.3749999896945155,4.7035843104422062E-2,0.16,0.16,0,22.72,""]
[null,null,null,null,null,null,null,null,null,null,null,null,null,null,null,null,null,null,null,null,null,null,null,null,null,null,null,null,null,null,null,null,null,null,143,22.88,"Left Stream Bed",61.380542037625453,95.000000010026227,61.380542033784273,92.750000010026227,94.794522641340791,0,0,0,"","",0,2.0445226313145639,2.0445226313145639,0,0,0,0,0,2.0445226313145639,0.31997518503460926,0,0,0.16,22.88,0,0,"",7.374999989973773,4.7035843094576535E-2,0.16,0.16,0,22.88,""]
[null,null,null,null,null,null,null,null,null,null,null,null,null,null,null,null,null,null,null,null,null,null,null,null,null,null,null,null,null,null,null,null,null,null,144,23.04,"Left Stream Bed",61.537045653742865,95.000000009746969,61.537045649901685,92.750000009746969,94.776806431996306,0,0,0,"","",0,2.0268064222493365,2.0268064222493365,0,0,0,0,0,2.0268064222493365,0.31720253425200917,0,0,0.16,23.04,0,0,"",7.3749999902530305,4.7035843084731001E-2,0.16,0.16,0,23.04,""]
[null,null,null,null,null,null,null,null,null,null,null,null,null,null,null,null,null,null,null,null,null,null,null,null,null,null,null,null,null,null,null,null,null,null,145,23.2,"Left Stream Bed",61.69354926986027,95.000000009467712,61.69354926601909,92.750000009467712,94.759090222651807,0,0,0,"","",0,2.0090902131840949,2.0090902131840949,0,0,0,0,0,2.0090902131840949,0.31442988346940681,0,0,0.16,23.2,0,0,"",7.3749999905322881,4.7035843074885474E-2,0.16,0.16,0,23.2,""]
[null,null,null,null,null,null,null,null,null,null,null,null,null,null,null,null,null,null,null,null,null,null,null,null,null,null,null,null,null,null,null,null,null,null,146,23.36,"Left Stream Bed",61.850052885977675,95.000000009188454,61.850052882136495,92.750000009188454,94.741374013307322,0,0,0,"","",0,1.9913740041188674,1.9913740041188674,0,0,0,0,0,1.9913740041188674,0.31165723268680667,0,0,0.16,23.36,0,0,"",7.3749999908115456,4.7035843065039995E-2,0.16,0.16,0,23.36,""]
[null,null,null,null,null,null,null,null,null,null,null,null,null,null,null,null,null,null,null,null,null,null,null,null,null,null,null,null,null,null,null,null,null,null,147,23.52,"Left Stream Bed",62.006556502095094,95.000000008909197,62.006556498253914,92.750000008909197,94.723657803962837,0,0,0,"","",0,1.97365779505364,1.97365779505364,0,0,0,0,0,1.97365779505364,0.30888458190420659,0,0,0.16,23.52,0,0,"",7.3749999910908031,4.7035843055194468E-2,0.16,0.16,0,23.52,""]
[null,null,null,null,null,null,null,null,null,null,null,null,null,null,null,null,null,null,null,null,null,null,null,null,null,null,null,null,null,null,null,null,null,null,148,23.68,"Left Stream Bed",62.163060118212499,95.000000008629939,62.163060114371319,92.750000008629939,94.705941594618338,0,0,0,"","",0,1.9559415859883984,1.9559415859883984,0,0,0,0,0,1.9559415859883984,0.30611193112160423,0,0,0.16,23.68,0,0,"",7.3749999913700606,4.7035843045348934E-2,0.16,0.16,0,23.68,""]
[null,null,null,null,null,null,null,null,null,null,null,null,null,null,null,null,null,null,null,null,null,null,null,null,null,null,null,null,null,null,null,null,null,null,149,23.84,"Left Stream Bed",62.319563734329904,95.000000008350682,62.319563730488724,92.750000008350682,94.688225385273853,0,0,0,"","",0,1.938225376923171,1.938225376923171,0,0,0,0,0,1.938225376923171,0.30333928033900415,0,0,0.16,23.84,0,0,"",7.3749999916493181,4.7035843035503448E-2,0.16,0.16,0,23.84,""]
[null,null,null,null,null,null,null,null,null,null,null,null,null,null,null,null,null,null,null,null,null,null,null,null,null,null,null,null,null,null,null,null,null,null,150,24,"Left Stream Bed",62.476067350447316,95.000000008071424,62.476067346606136,92.750000008071424,94.670509175929354,0,0,0,"","",0,1.9205091678579294,1.9205091678579294,0,0,0,0,0,1.9205091678579294,0.30056662955640179,0,0,0.16,24,0,0,"",7.3749999919285756,4.7035843025657928E-2,0.16,0.16,0,24,""]
[null,null,null,null,null,null,null,null,null,null,null,null,null,null,null,null,null,null,null,null,null,null,null,null,null,null,null,null,null,null,null,null,null,null,151,24.16,"Left Stream Bed",62.632570966564728,95.000000007792167,62.632570962723548,92.750000007792167,94.652792966584869,0,0,0,"","",0,1.9027929587927019,1.9027929587927019,0,0,0,0,0,1.9027929587927019,0.2977939787738017,0,0,0.16,24.16,0,0,"",7.3749999922078331,4.7035843015812394E-2,0.16,0.16,0,24.16,""]
[null,null,null,null,null,null,null,null,null,null,null,null,null,null,null,null,null,null,null,null,null,null,null,null,null,null,null,null,null,null,null,null,null,null,152,24.32,"Left Stream Bed",62.789074582682133,95.000000007512909,62.789074578840953,92.750000007512909,94.635076757240384,0,0,0,"","",0,1.8850767497274745,1.8850767497274745,0,0,0,0,0,1.8850767497274745,0.29502132799120162,0,0,0.16,24.32,0,0,"",7.3749999924870906,4.7035843005966908E-2,0.16,0.16,0,24.32,""]
[null,null,null,null,null,null,null,null,null,null,null,null,null,null,null,null,null,null,null,null,null,null,null,null,null,null,null,null,null,null,null,null,null,null,153,24.48,"Left Stream Bed",62.945578198799538,95.000000007233652,62.945578194958358,92.750000007233652,94.617360547895885,0,0,0,"","",0,1.8673605406622329,1.8673605406622329,0,0,0,0,0,1.8673605406622329,0.29224867720859926,0,0,0.16,24.48,0,0,"",7.3749999927663481,4.7035842996121388E-2,0.16,0.16,0,24.48,""]
[null,null,null,null,null,null,null,null,null,null,null,null,null,null,null,null,null,null,null,null,null,null,null,null,null,null,null,null,null,null,null,null,null,null,154,24.64,"Left Stream Bed",63.102081814916957,95.000000006954394,63.102081811075777,92.750000006954394,94.5996443385514,0,0,0,"","",0,1.8496443315970055,1.8496443315970055,0,0,0,0,0,1.8496443315970055,0.28947602642599912,0,0,0.16,24.64,0,0,"",7.3749999930456056,4.7035842986275861E-2,0.16,0.16,0,24.64,""]
[null,null,null,null,null,null,null,null,null,null,null,null,null,null,null,null,null,null,null,null,null,null,null,null,null,null,null,null,null,null,null,null,null,null,155,24.8,"Left Stream Bed",63.258585431034362,95.000000006675137,63.258585427193182,92.750000006675137,94.581928129206901,0,0,0,"","",0,1.8319281225317638,1.8319281225317638,0,0,0,0,0,1.8319281225317638,0.28670337564339682,0,0,0.16,24.8,0,0,"",7.3749999933248631,4.7035842976430327E-2,0.16,0.16,0,24.8,""]
[null,null,null,null,null,null,null,null,null,null,null,null,null,null,null,null,null,null,null,null,null,null,null,null,null,null,null,null,null,null,null,null,null,null,156,24.96,"Left Stream Bed",63.415089047151767,95.000000006395879,63.415089043310587,92.750000006395879,94.564211919862416,0,0,0,"","",0,1.8142119134665364,1.8142119134665364,0,0,0,0,0,1.8142119134665364,0.28393072486079668,0,0,0.16,24.96,0,0,"",7.3749999936041206,4.70358429665848E-2,0.16,0.16,0,24.96,""]
[null,null,null,null,null,null,null,null,null,null,null,null,null,null,null,null,null,null,null,null,null,null,null,null,null,null,null,null,null,null,null,null,null,null,157,25.12,"Left Stream Bed",63.571592663269179,95.000000006116622,63.571592659427999,92.750000006116622,94.546495710517931,0,0,0,"","",0,1.796495704401309,1.796495704401309,0,0,0,0,0,1.796495704401309,0.2811580740781966,0,0,0.16,25.12,0,0,"",7.3749999938833781,4.7035842956739321E-2,0.16,0.16,0,25.12,""]
[null,null,null,null,null,null,null,null,null,null,null,null,null,null,null,null,null,null,null,null,null,null,null,null,null,null,null,null,null,null,null,null,null,null,158,25.28,"Left Stream Bed",63.728096279386591,95.000000005837364,63.728096275545411,92.750000005837364,94.528779501173432,0,0,0,"","",0,1.7787794953360674,1.7787794953360674,0,0,0,0,0,1.7787794953360674,0.27838542329559424,0,0,0.16,25.28,0,0,"",7.3749999941626356,4.7035842946893835E-2,0.16,0.16,0,25.28,""]
[null,null,null,null,null,null,null,null,null,null,null,null,null,null,null,null,null,null,null,null,null,null,null,null,null,null,null,null,null,null,null,null,null,null,159,25.44,"Left Stream Bed",63.884599895503996,95.000000005558107,63.884599891662816,92.750000005558107,94.511063291828947,0,0,0,"","",0,1.76106328627084,1.76106328627084,0,0,0,0,0,1.76106328627084,0.2756127725129941,0,0,0.16,25.44,0,0,"",7.3749999944418931,4.7035842937048301E-2,0.16,0.16,0,25.44,""]
[null,null,null,null,null,null,null,null,null,null,null,null,null,null,null,null,null,null,null,null,null,null,null,null,null,null,null,null,null,null,null,null,null,null,160,25.6,"Left Stream Bed",64.041103511621401,95.000000005278849,64.041103507780235,92.750000005278849,94.493347082484448,0,0,0,"","",0,1.7433470772055983,1.7433470772055983,0,0,0,0,0,1.7433470772055983,0.27284012173039179,0,0,0.16,25.6,0,0,"",7.3749999947211506,4.7035842927202774E-2,0.16,0.16,0,25.6,""]
[null,null,null,null,null,null,null,null,null,null,null,null,null,null,null,null,null,null,null,null,null,null,null,null,null,null,null,null,null,null,null,null,null,null,161,25.76,"Left Stream Bed",64.19760712773882,95.000000004999592,64.19760712389764,92.750000004999592,94.475630873139963,0,0,0,"","",0,1.7256308681403709,1.7256308681403709,0,0,0,0,0,1.7256308681403709,0.27006747094779171,0,0,0.16,25.76,0,0,"",7.3749999950004081,4.7035842917357254E-2,0.16,0.16,0,25.76,""]
[null,null,null,null,null,null,null,null,null,null,null,null,null,null,null,null,null,null,null,null,null,null,null,null,null,null,null,null,null,null,null,null,null,null,162,25.92,"Left Stream Bed",64.354110743856225,95.000000004720334,64.354110740015045,92.750000004720334,94.457914663795478,0,0,0,"","",0,1.7079146590751435,1.7079146590751435,0,0,0,0,0,1.7079146590751435,0.26729482016519157,0,0,0.16,25.92,0,0,"",7.3749999952796657,4.7035842907511768E-2,0.16,0.16,0,25.92,""]
[null,null,null,null,null,null,null,null,null,null,null,null,null,null,null,null,null,null,null,null,null,null,null,null,null,null,null,null,null,null,null,null,null,null,163,26.08,"Left Stream Bed",64.51061435997363,95.000000004441077,64.51061435613245,92.750000004441077,94.440198454450979,0,0,0,"","",0,1.6901984500099019,1.6901984500099019,0,0,0,0,0,1.6901984500099019,0.26452216938258927,0,0,0.16,26.08,0,0,"",7.3749999955589232,4.7035842897666234E-2,0.16,0.16,0,26.08,""]
[null,null,null,null,null,null,null,null,null,null,null,null,null,null,null,null,null,null,null,null,null,null,null,null,null,null,null,null,null,null,null,null,null,null,164,26.24,"Left Stream Bed",64.667117976091035,95.000000004161819,64.667117972249855,92.750000004161819,94.422482245106494,0,0,0,"","",0,1.6724822409446745,1.6724822409446745,0,0,0,0,0,1.6724822409446745,0.26174951859998913,0,0,0.16,26.24,0,0,"",7.3749999958381807,4.7035842887820707E-2,0.16,0.16,0,26.24,""]
[null,null,null,null,null,null,null,null,null,null,null,null,null,null,null,null,null,null,null,null,null,null,null,null,null,null,null,null,null,null,null,null,null,null,165,26.4,"Left Stream Bed",64.82362159220844,95.000000003882562,64.823621588367274,92.750000003882562,94.404766035761995,0,0,0,"","",0,1.6547660318794328,1.6547660318794328,0,0,0,0,0,1.6547660318794328,0.25897686781738682,0,0,0.16,26.4,0,0,"",7.3749999961174382,4.7035842877975187E-2,0.16,0.16,0,26.4,""]
[null,null,null,null,null,null,null,null,null,null,null,null,null,null,null,null,null,null,null,null,null,null,null,null,null,null,null,null,null,null,null,null,null,null,166,26.56,"Left Stream Bed",64.980125208325859,95.000000003603304,64.980125204484679,92.750000003603304,94.38704982641751,0,0,0,"","",0,1.6370498228142054,1.6370498228142054,0,0,0,0,0,1.6370498228142054,0.25620421703478669,0,0,0.16,26.56,0,0,"",7.3749999963966957,4.703584286812966E-2,0.16,0.16,0,26.56,""]
[null,null,null,null,null,null,null,null,null,null,null,null,null,null,null,null,null,null,null,null,null,null,null,null,null,null,null,null,null,null,null,null,null,null,167,26.72,"Left Stream Bed",65.136628824443264,95.000000003324047,65.136628820602084,92.750000003324047,94.369333617073025,0,0,0,"","",0,1.619333613748978,1.619333613748978,0,0,0,0,0,1.619333613748978,0.25343156625218655,0,0,0.16,26.72,0,0,"",7.3749999966759532,4.7035842858284167E-2,0.16,0.16,0,26.72,""]
[null,null,null,null,null,null,null,null,null,null,null,null,null,null,null,null,null,null,null,null,null,null,null,null,null,null,null,null,null,null,null,null,null,null,168,26.88,"Left Stream Bed",65.293132440560669,95.000000003044789,65.293132436719503,92.750000003044789,94.351617407728526,0,0,0,"","",0,1.6016174046837364,1.6016174046837364,0,0,0,0,0,1.6016174046837364,0.25065891546958424,0,0,0.16,26.88,0,0,"",7.3749999969552107,4.7035842848438682E-2,0.16,0.16,0,26.88,""]
[null,null,null,null,null,null,null,null,null,null,null,null,null,null,null,null,null,null,null,null,null,null,null,null,null,null,null,null,null,null,null,null,null,null,169,27.04,"Left Stream Bed",65.449636056678088,95.000000002765532,65.449636052836908,92.750000002765532,94.333901198384041,0,0,0,"","",0,1.583901195618509,1.583901195618509,0,0,0,0,0,1.583901195618509,0.24788626468698413,0,0,0.16,27.04,0,0,"",7.3749999972344682,4.7035842838593162E-2,0.16,0.16,0,27.04,""]
[null,null,null,null,null,null,null,null,null,null,null,null,null,null,null,null,null,null,null,null,null,null,null,null,null,null,null,null,null,null,null,null,null,null,170,27.2,"Left Stream Bed",65.606139672795493,95.000000002486274,65.606139668954313,92.750000002486274,94.316184989039542,0,0,0,"","",0,1.5661849865532673,1.5661849865532673,0,0,0,0,0,1.5661849865532673,0.24511361390438177,0,0,0.16,27.2,0,0,"",7.3749999975137257,4.7035842828747634E-2,0.16,0.16,0,27.2,""]
[null,null,null,null,null,null,null,null,null,null,null,null,null,null,null,null,null,null,null,null,null,null,null,null,null,null,null,null,null,null,null,null,null,null,171,27.36,"Left Stream Bed",65.762643288912898,95.000000002207017,65.762643285071718,92.750000002207017,94.298468779695057,0,0,0,"","",0,1.5484687774880399,1.5484687774880399,0,0,0,0,0,1.5484687774880399,0.24234096312178169,0,0,0.16,27.36,0,0,"",7.3749999977929832,4.70358428189021E-2,0.16,0.16,0,27.36,""]
[null,null,null,null,null,null,null,null,null,null,null,null,null,null,null,null,null,null,null,null,null,null,null,null,null,null,null,null,null,null,null,null,null,null,172,27.52,"Left Stream Bed",65.919146905030317,95.000000001927759,65.919146901189137,92.750000001927759,94.280752570350558,0,0,0,"","",0,1.5307525684227983,1.5307525684227983,0,0,0,0,0,1.5307525684227983,0.23956831233917936,0,0,0.16,27.52,0,0,"",7.3749999980722407,4.7035842809056615E-2,0.16,0.16,0,27.52,""]
[null,null,null,null,null,null,null,null,null,null,null,null,null,null,null,null,null,null,null,null,null,null,null,null,null,null,null,null,null,null,null,null,null,null,173,27.68,"Left Stream Bed",66.075650521147722,95.000000001648502,66.075650517306542,92.750000001648502,94.263036361006073,0,0,0,"","",0,1.5130363593575709,1.5130363593575709,0,0,0,0,0,1.5130363593575709,0.23679566155657922,0,0,0.16,27.68,0,0,"",7.3749999983514982,4.7035842799211094E-2,0.16,0.16,0,27.68,""]
[null,null,null,null,null,null,null,null,null,null,null,null,null,null,null,null,null,null,null,null,null,null,null,null,null,null,null,null,null,null,null,null,null,null,174,27.84,"Left Stream Bed",66.232154137265127,95.000000001369244,66.232154133423947,92.750000001369244,94.245320151661588,0,0,0,"","",0,1.4953201502923434,1.4953201502923434,0,0,0,0,0,1.4953201502923434,0.23402301077397913,0,0,0.16,27.84,0,0,"",7.3749999986307557,4.703584278936556E-2,0.16,0.16,0,27.84,""]
[null,null,null,null,null,null,null,null,null,null,null,null,null,null,null,null,null,null,null,null,null,null,null,null,null,null,null,null,null,null,null,null,null,null,175,28,"Left Stream Bed",66.388657753382546,95.000000001089987,66.388657749541352,92.750000001089987,94.227603942317089,0,0,0,"","",0,1.4776039412271018,1.4776039412271018,0,0,0,0,0,1.4776039412271018,0.2312503599913768,0,0,0.16,28,0,0,"",7.3749999989100132,4.7035842779520033E-2,0.16,0.16,0,28,""]
[null,null,null,null,null,null,null,null,null,null,null,null,null,null,null,null,null,null,null,null,null,null,null,null,null,null,null,null,null,null,null,null,null,null,176,28.16,"Left Stream Bed",66.545161369499951,95.000000000810729,66.545161365658771,92.750000000810729,94.209887732972604,0,0,0,"","",0,1.4598877321618744,1.4598877321618744,0,0,0,0,0,1.4598877321618744,0.22847770920877666,0,0,0.16,28.16,0,0,"",7.3749999991892707,4.7035842769674548E-2,0.16,0.16,0,28.16,""]
[null,null,null,null,null,null,null,null,null,null,null,null,null,null,null,null,null,null,null,null,null,null,null,null,null,null,null,null,null,null,null,null,null,null,177,28.32,"Left Stream Bed",66.701664985617356,95.000000000531472,66.701664981776176,92.750000000531472,94.192171523628105,0,0,0,"","",0,1.4421715230966328,1.4421715230966328,0,0,0,0,0,1.4421715230966328,0.22570505842617433,0,0,0.16,28.32,0,0,"",7.3749999994685282,4.7035842759829027E-2,0.16,0.16,0,28.32,""]
[null,null,null,null,null,null,null,null,null,null,null,null,null,null,null,null,null,null,null,null,null,null,null,null,null,null,null,null,null,null,null,null,null,null,178,28.48,"Left Stream Bed",66.858168601734761,95.000000000252214,66.858168597893581,92.750000000252214,94.17445531428362,0,0,0,"","",0,1.4244553140314054,1.4244553140314054,0,0,0,0,0,1.4244553140314054,0.22293240764357422,0,0,0.16,28.48,0,0,"",7.3749999997477858,4.7035842749983535E-2,0.16,0.16,0,28.48,""]
[null,null,null,null,null,null,null,null,null,null,null,null,null,null,null,null,null,null,null,null,null,null,null,null,null,null,null,null,null,null,null,null,null,null,179,28.64,"Left Stream Bed",67.01467221785218,94.999999999972957,67.014672214011,92.749999999972957,94.156739104939135,0,0,0,"","",0,1.4067391049661779,1.4067391049661779,0,0,0,0,0,1.4067391049661779,0.22015975686097411,0,0,0.16,28.64,0,0,"",7.3750000000270433,4.7035842740138008E-2,0.16,0.16,0,28.64,""]
[null,null,null,null,null,null,null,null,null,null,null,null,null,null,null,null,null,null,null,null,null,null,null,null,null,null,null,null,null,null,null,null,null,null,180,28.8,"Left Stream Bed",67.171175833969585,94.999999999693699,67.171175830128405,92.749999999693699,94.139022895594636,0,0,0,"","",0,1.3890228959009363,1.3890228959009363,0,0,0,0,0,1.3890228959009363,0.21738710607837178,0,0,0.16,28.8,0,0,"",7.3750000003063008,4.7035842730292481E-2,0.16,0.16,0,28.8,""]
[null,null,null,null,null,null,null,null,null,null,null,null,null,null,null,null,null,null,null,null,null,null,null,null,null,null,null,null,null,null,null,null,null,null,181,28.96,"Left Stream Bed",67.32767945008699,94.999999999414442,67.32767944624581,92.749999999414442,94.121306686250151,0,0,0,"","",0,1.3713066868357089,1.3713066868357089,0,0,0,0,0,1.3713066868357089,0.21461445529577167,0,0,0.16,28.96,0,0,"",7.3750000005855583,4.703584272044696E-2,0.16,0.16,0,28.96,""]
[null,null,null,null,null,null,null,null,null,null,null,null,null,null,null,null,null,null,null,null,null,null,null,null,null,null,null,null,null,null,null,null,null,null,182,29.12,"Left Stream Bed",67.484183066204395,94.999999999135184,67.484183062363229,92.749999999135184,94.103590476905666,0,0,0,"","",0,1.3535904777704815,1.3535904777704815,0,0,0,0,0,1.3535904777704815,0.21184180451317156,0,0,0.16,29.12,0,0,"",7.3750000008648158,4.7035842710601426E-2,0.16,0.16,0,29.12,""]
[null,null,null,null,null,null,null,null,null,null,null,null,null,null,null,null,null,null,null,null,null,null,null,null,null,null,null,null,null,null,null,null,null,null,183,29.28,"Left Stream Bed",67.640686682321814,94.999999998855927,67.640686678480634,92.749999998855927,94.085874267561167,0,0,0,"","",0,1.3358742687052398,1.3358742687052398,0,0,0,0,0,1.3358742687052398,0.20906915373056922,0,0,0.16,29.28,0,0,"",7.3750000011440733,4.7035842700755941E-2,0.16,0.16,0,29.28,""]
[null,null,null,null,null,null,null,null,null,null,null,null,null,null,null,null,null,null,null,null,null,null,null,null,null,null,null,null,null,null,null,null,null,null,184,29.44,"Left Stream Bed",67.797190298439219,94.999999998576669,67.797190294598039,92.749999998576669,94.068158058216682,0,0,0,"","",0,1.3181580596400124,1.3181580596400124,0,0,0,0,0,1.3181580596400124,0.20629650294796908,0,0,0.16,29.44,0,0,"",7.3750000014233308,4.7035842690910414E-2,0.16,0.16,0,29.44,""]
[null,null,null,null,null,null,null,null,null,null,null,null,null,null,null,null,null,null,null,null,null,null,null,null,null,null,null,null,null,null,null,null,null,null,185,29.6,"Left Stream Bed",67.953693914556624,94.999999998297412,67.953693910715458,92.749999998297412,94.050441848872183,0,0,0,"","",0,1.3004418505747708,1.3004418505747708,0,0,0,0,0,1.3004418505747708,0.20352385216536675,0,0,0.16,29.6,0,0,"",7.3750000017025883,4.7035842681064935E-2,0.16,0.16,0,29.6,""]
[null,null,null,null,null,null,null,null,null,null,null,null,null,null,null,null,null,null,null,null,null,null,null,null,null,null,null,null,null,null,null,null,null,null,186,29.76,"Left Stream Bed",68.110197530674043,94.999999998018154,68.110197526832863,92.749999998018154,94.032725639527698,0,0,0,"","",0,1.2827256415095434,1.2827256415095434,0,0,0,0,0,1.2827256415095434,0.20075120138276667,0,0,0.16,29.76,0,0,"",7.3750000019818458,4.7035842671219401E-2,0.16,0.16,0,29.76,""]
[null,null,null,null,null,null,null,null,null,null,null,null,null,null,null,null,null,null,null,null,null,null,null,null,null,null,null,null,null,null,null,null,null,null,187,29.92,"Left Stream Bed",68.266701146791448,94.999999997738897,68.266701142950268,92.749999997738897,94.015009430183198,0,0,0,"","",0,1.2650094324443018,1.2650094324443018,0,0,0,0,0,1.2650094324443018,0.19797855060016434,0,0,0.16,29.92,0,0,"",7.3750000022611033,4.7035842661373874E-2,0.16,0.16,0,29.92,""]
[null,null,null,null,null,null,null,null,null,null,null,null,null,null,null,null,null,null,null,null,null,null,null,null,null,null,null,null,null,null,null,null,null,null,188,30.08,"Left Stream Bed",68.423204762908853,94.999999997459639,68.423204759067673,92.749999997459639,93.997293220838714,0,0,0,"","",0,1.2472932233790743,1.2472932233790743,0,0,0,0,0,1.2472932233790743,0.1952058998175642,0,0,0.16,30.08,0,0,"",7.3750000025403608,4.7035842651528395E-2,0.16,0.16,0,30.08,""]
[null,null,null,null,null,null,null,null,null,null,null,null,null,null,null,null,null,null,null,null,null,null,null,null,null,null,null,null,null,null,null,null,null,null,189,30.24,"Left Stream Bed",68.579708379026258,94.999999997180382,68.579708375185078,92.749999997180382,93.979577011494229,0,0,0,"","",0,1.2295770143138469,1.2295770143138469,0,0,0,0,0,1.2295770143138469,0.19243324903496409,0,0,0.16,30.24,0,0,"",7.3750000028196183,4.7035842641682868E-2,0.16,0.16,0,30.24,""]
[null,null,null,null,null,null,null,null,null,null,null,null,null,null,null,null,null,null,null,null,null,null,null,null,null,null,null,null,null,null,null,null,null,null,190,30.4,"Left Stream Bed",68.736211995143663,94.999999996901124,68.736211991302497,92.749999996901124,93.961860802149729,0,0,0,"","",0,1.2118608052486053,1.2118608052486053,0,0,0,0,0,1.2118608052486053,0.18966059825236176,0,0,0.16,30.4,0,0,"",7.3750000030988758,4.7035842631837334E-2,0.16,0.16,0,30.4,""]
[null,null,null,null,null,null,null,null,null,null,null,null,null,null,null,null,null,null,null,null,null,null,null,null,null,null,null,null,null,null,null,null,null,null,191,30.56,"Left Stream Bed",68.892715611261082,94.999999996621867,68.892715607419902,92.749999996621867,93.944144592805245,0,0,0,"","",0,1.1941445961833779,1.1941445961833779,0,0,0,0,0,1.1941445961833779,0.18688794746976167,0,0,0.16,30.56,0,0,"",7.3750000033781333,4.7035842621991807E-2,0.16,0.16,0,30.56,""]
[null,null,null,null,null,null,null,null,null,null,null,null,null,null,null,null,null,null,null,null,null,null,null,null,null,null,null,null,null,null,null,null,null,null,192,30.72,{"$f":"IF(OR($C$19=\"\",$F$25=\"\",$G$25=\"\"),\"None\",IF(AL237<$B$14,\"Left Floodplain\",IF(AL237<$B$15,\"Left Bank\",IF(AL237<$B$16,\"Left Stream Bed\",IF(AL237<$B$17,\"Right Stream Bed\",IF(AL237<$B$18,\"Right Bank\",\"Right Floodplain\"))))))","v":"Left Stream Bed"},69.049219227378487,94.999999996342609,69.049219223537307,92.749999996342609,93.926428383460745,{"$f":"IF(OR($AP237<$AE$12,$AP237<=$AM237),0,IF(OR($AP237>=$AE$12,$AM237>=$AE$12),$AP237-$AM237-$AR237,$AP237-$AE$12))","v":0},{"$f":"IF($AP237<=$AM237,0,IF($AM237>=$AE$12,0,IF($AP237<=$AE$12,$AP237-$AM237,$AE$12-$AM237)))","v":0},0,"","",0,{"$f":"IF($AP237<=$AO237,0,IF($AO237>=$AE$12,0,IF($AP237<=$AE$12,$AP237-$AO237,$AE$12-$AO237)))","v":1.1764283871181362},{"$f":"IF(AP237<=AO237,0,AP237-AO237)","v":1.1764283871181362},{"$f":"IF($AS237=0,0,IF(OR($AJ237=0,$AJ237=$E$22),$AJ$46/2,$AJ$46))","v":0},{"$f":"IF(OR($AK237=\"Left Stream Bed\",$AK237=\"Right Stream Bed\"),$F$22*$AQ237*$AY237,0)","v":0},{"$f":"IF(OR($AK237=\"Left Stream Bed\",$AK237=\"Right Stream Bed\"),$F$22*$AR237*$AY237,0)","v":0},{"$f":"IF(OR($AK237=\"Left Floodplain\",$AK237=\"Left Bank\",$AK237=\"Right Bank\",$AK237=\"Right Floodplain\"),$F$22*$AQ237*$AY237,0)","v":0},{"$f":"IF(OR($AK237=\"Left Floodplain\",$AK237=\"Left Bank\",$AK237=\"Right Bank\",$AK237=\"Right Floodplain\"),$F$22*$AR237*$AY237,0)","v":0},{"$f":"AX237-AS237","v":1.1764283871181362},0.18411529668715934,0,{"$f":"IF(OR($AJ237=0,$AJ237=$E$22),($BF237*$AJ$46/2)*ABS($M$17),$BF237*$AJ$46*ABS($M$17))","v":0},{"$f":"IF(OR($AM237<$AP237,$AO237>$AE$8),\"\",IF(OR($AJ237=0,$AJ237=$E$22),$AJ$46/2,$AJ$46))","v":0.16},30.72,0,{"$f":"IF($BJ237=\"\",\"\",IF(OR($BJ237>($F$22/2),$BJ237=0),0,0.45-($BJ237*0.45/($F$22/2))))","v":0},{"$f":"IF($BK237=\"\",\"\",IF($BK237>0,$AJ237,\"\"))","v":""},7.3750000036573908,4.7035842612146286E-2,{"$f":"IF($AO237=0,0,IF($AO237>$AP237,0,IF(OR($AJ237=0,$AJ237=$E$22),$AJ$46/2,$AJ$46)))","v":0.16},{"$f":"IF(AND($BO237>0,OR($AK237=\"Left Stream Bed\",$AK237=\"Right Stream Bed\")),$BO237,0)","v":0.16},{"$f":"IF(AND($BO237>0,OR($AK237=\"Left Floodplain\",$AK237=\"Left Bank\",$AK237=\"Right Bank\",$AK237=\"Right Floodplain\")),$BO237,0)","v":0},{"$f":"IF($BO237>0,$AJ237,\"\")","v":30.72},""]
[null,null,null,null,null,null,null,null,null,null,null,null,null,null,null,null,null,null,null,null,null,null,null,null,null,null,null,null,null,null,null,null,null,null,193,{"$f":"($AI238/$AI$245)*$AJ$245","v":30.88},"Left Stream Bed",69.205722843495892,94.999999996063352,{"$f":"$AN$45+ABS(AJ238*$M$19*$M$17)","v":69.205722839654726},92.749999996063352,93.90871217411626,0,0,{"$f":"IF(AP238<=AM238,0,AP238-AM238)","v":0},{"$f":"IF(OR($AS238=\"\",$AS238=0),\"\",IF(OR($AK238=\"Left Stream Bed\",$AK238=\"Right Stream Bed\"),$AS238,\"\"))","v":""},{"$f":"IF(OR($AS238=\"\",$AS238=0),\"\",IF(OR($AK238=\"Left Floodplain\",$AK238=\"Left Bank\",$AK238=\"Right Bank\",$AK238=\"Right Floodplain\"),$AS238,\"\"))","v":""},{"$f":"IF(OR($AP238<$AE$12,$AP238<=$AO238),0,IF($AO238>=$AE$12,$AP238-$AO238,$AP238-$AE$12))","v":0},1.1587121780529088,1.1587121780529088,0,0,0,0,0,1.1587121780529088,{"$f":"$BD238*$AJ$46*ABS($M$17)","v":0.1813426459045592},{"$f":"AV238-AQ238","v":0},0,0.16,{"$f":"IF($BH238=\"\",\"\",IF($BH238>0,$AJ238,\"\"))","v":30.88},{"$f":"IF($BH238=\"\",\"\",IF(OR(($AO238-$AP238)<0,$AO$45>=$AE$8),0,($AO238-$AP238)))","v":0},0,"",{"$f":"IF($BH238=\"\",\"\",IF(OR(($AM238-$AP238)<0,$AM238>=$AE$8),\"\",($AE$8-($AM238-(($F$22/2)/$M$19)))))","v":7.3750000039366483},4.7035842602300801E-2,0.16,0.16,0,30.88,{"$f":"IF($AY238>0,$AJ238,\"\")","v":""}]
[null,null,null,null,null,null,null,null,null,null,null,null,null,null,null,null,null,null,null,null,null,null,null,null,null,null,null,null,null,null,null,null,null,null,194,31.04,"Left Stream Bed",69.362226459613311,{"$f":"AM238+((AL239-AL238)*$AA$40)","v":94.999999995784094},69.362226455772131,{"$f":"AO238+((AN239-AN238)*$AA$40)","v":92.749999995784094},{"$f":"IF($AL239<$B$14,(($AL239-$B$13)*$AB$31)+$C$13,IF($AL239<$B$15,(($AL239-$B$14)*$AB$32)+$C$14,IF($AL239<$B$16,(($AL239-$B$15)*$AB$33)+$C$15,IF($AL239<$B$17,(($AL239-$B$16)*$AB$34)+$C$16,IF($AL239<$B$18,(($AL239-$B$17)*$AB$35)+$C$17,IF($AL239<$B$19,(($AL239-$B$18)*$AB$36)+$C$18))))))","v":93.890995964771776},0,0,0,"","",0,1.1409959689876814,1.1409959689876814,0,0,0,0,0,1.1409959689876814,0.17856999512195909,0,0,0.16,31.04,0,0,"",7.3750000042159058,{"$f":"IF($BM239=\"\",\"\",(((PI()^2)/32)*($B$66^-6)*EXP(-($BM239/$F$22)/(2*($B$66^2)))))","v":4.7035842592455308E-2},0.16,0.16,0,31.04,""]
[null,null,null,null,null,null,null,null,null,null,null,null,null,null,null,null,null,null,null,null,null,null,null,null,null,null,null,null,null,null,null,null,null,null,195,31.2,"Left Stream Bed",{"$f":"$AL$45+ABS(AJ240*$M$19*$M$17)","v":69.518730075730716},94.999999995504837,69.518730071889536,92.749999995504837,93.873279755427276,0,0,0,"","",0,1.1232797599224398,1.1232797599224398,0,0,0,0,0,1.1232797599224398,0.17579734433935676,0,0,0.16,31.2,0,0,"",7.3750000044951634,4.7035842582609781E-2,0.16,0.16,0,31.2,""]
[null,null,null,null,null,null,null,null,null,null,null,null,null,null,null,null,null,null,null,null,null,null,null,null,null,null,null,null,null,null,null,null,null,null,196,31.36,"Left Stream Bed",69.675233691848121,94.999999995225579,69.675233688006941,92.749999995225579,93.855563546082792,0,0,0,"","",0,1.1055635508572124,1.1055635508572124,0,0,0,0,0,1.1055635508572124,0.17302469355675665,0,0,0.16,31.36,0,0,"",7.3750000047744209,4.7035842572764261E-2,0.16,0.16,0,31.36,""]
[null,null,null,null,null,null,null,null,null,null,null,null,null,null,null,null,null,null,null,null,null,null,null,null,null,null,null,null,null,null,null,null,null,null,197,31.52,"Left Stream Bed",69.83173730796554,94.999999994946322,69.83173730412436,92.749999994946322,93.837847336738292,0,0,0,"","",0,1.0878473417919707,1.0878473417919707,0,0,0,0,0,1.0878473417919707,0.17025204277415432,0,0,0.16,31.52,0,0,"",7.3750000050536784,4.7035842562918734E-2,0.16,0.16,0,31.52,""]
[null,null,null,null,null,null,null,null,null,null,null,null,null,null,null,null,null,null,null,null,null,null,null,null,null,null,null,null,null,null,null,null,null,null,198,31.68,"Left Stream Bed",69.988240924082945,94.999999994667064,69.988240920241765,92.749999994667064,93.820131127393807,0,0,0,"","",0,1.0701311327267433,1.0701311327267433,0,0,0,0,0,1.0701311327267433,0.16747939199155421,0,0,0.16,31.68,0,0,"",7.3750000053329359,4.7035842553073241E-2,0.16,0.16,0,31.68,""]
[null,null,null,null,null,null,null,null,null,null,null,null,null,null,null,null,null,null,null,null,null,null,null,null,null,null,null,null,null,null,null,null,null,null,199,{"$f":"($AI244/$AI$245)*$AJ$245","v":31.84},"Left Stream Bed",70.14474454020035,94.999999994387807,70.14474453635917,92.749999994387807,93.802414918049323,0,0,0,"","",0,1.0524149236615159,1.0524149236615159,0,0,0,0,0,1.0524149236615159,0.16470674120895409,0,0,0.16,31.84,0,0,"",7.3750000056121934,4.7035842543227714E-2,0.16,0.16,0,31.84,""]
[null,null,null,null,null,null,null,null,null,null,null,null,null,null,null,null,null,null,null,null,null,null,null,null,null,null,null,null,null,null,null,null,null,null,200,{"$f":"$E$22","v":32},"Left Stream Bed",70.301248156317769,94.999999994108549,70.301248152476575,92.749999994108549,93.784698708704823,0,0,0,"","",0,1.0346987145962743,1.0346987145962743,0,0,0,0,0,1.0346987145962743,0.16193409042635173,0,0,0.08,32,0,0,"",7.3750000058914509,4.7035842533382194E-2,0.08,0.08,0,32,""]

{"sheet":"Final-Top#1","index":11,"n_rows":245,"n_cols":72,"rows_kept":245,"cut":false,"hidden":false,"merged":[[107,27,107,28],[109,31,109,32],[90,29,90,30],[90,31,90,32],[91,0,91,9],[91,14,91,25],[97,20,97,22],[102,27,102,28],[102,31,102,32],[85,20,85,21],[86,20,86,21],[87,20,87,21],[90,1,90,2],[90,20,90,24],[90,27,90,28],[83,19,83,23],[83,25,84,25],[83,27,84,27],[83,28,83,31],[84,0,84,9],[84,20,84,21],[75,15,75,16],[77,3,77,4],[79,0,79,9],[80,0,80,4],[80,7,80,9],[83,18,84,18],[64,26,65,26],[66,10,69,10],[67,0,67,2],[67,3,67,5],[73,0,73,9],[74,0,74,2],[74,3,74,6],[74,7,74,9],[74,18,74,20],[74,22,74,30],[63,0,63,5],[64,7,64,9],[64,21,64,22],[64,23,65,23],[64,24,65,24],[64,25,65,25],[52,7,52,9],[54,18,54,22],[55,19,56,19],[55,20,55,23],[56,0,56,4],[62,0,62,9],[47,1,47,2],[48,0,48,9],[49,0,49,5],[49,7,49,8],[50,13,50,14],[51,13,51,14],[38,45,38,48],[41,34,41,38],[42,34,42,40],[42,41,42,49],[44,21,44,22],[44,23,45,23],[44,24,45,24],[44,25,45,25],[44,26,45,26],[44,29,44,31],[29,19,30,19],[29,20,29,23],[33,32,33,33],[33,43,33,44],[37,26,38,26],[37,27,38,27],[38,34,38,37],[26,1,26,2],[27,1,27,2],[27,32,27,33],[27,43,27,44],[28,1,28,2],[28,18,28,22],[22,10,23,10],[22,32,22,33],[22,43,22,44],[23,0,24,0],[23,3,23,4],[24,3,24,4],[16,18,16,20],[17,22,17,27],[17,32,17,33],[17,43,17,44],[20,0,20,2],[21,0,21,2],[10,28,10,30],[11,11,11,12],[11,13,11,16],[12,11,12,12],[12,13,12,16],[13,11,13,12],[13,13,13,16],[13,28,13,30],[7,22,7,24],[8,11,8,12],[8,13,8,16],[9,11,9,12],[9,13,9,16],[10,0,10,2],[10,11,10,12],[10,13,10,16],[6,11,6,12],[6,13,6,16],[7,0,8,0],[7,11,7,12],[7,13,7,16],[7,18,7,20],[0,8,1,9],[2,0,2,9],[4,1,4,2],[4,3,4,4],[4,11,4,12],[4,32,5,35],[4,43,5,46],[4,54,4,59],[4,60,4,63],[5,1,5,2],[5,3,5,4],[5,11,5,12],[5,13,5,16],[5,28,5,30],[5,54,5,55]]}
[{"$f":"'1-Cover'!A1","v":"Sample Multi-Log Structure"},null,null,null,null,null,null,null,"Spreadsheet developed by Michael Rafferty, P.E."]
[]
["Single Log Stability Analysis Model Inputs",null,null,null,null,null,null,null,null,null,"ERROR CHECKS"]
[]
["Site ID","Structure Type",null,"Structure Position",null,"Meander","Station","dw (ft)","Rc/WBF","udes (ft/s)",null,"Type Lookup Table",null,null,null,null,null,null,null,null,null,null,null,null,null,null,null,null,null,null,null,null,"Tilted Cylindrical (Stem) \"Below Water Surface\" Volume Calculation (Below High Flow)",null,null,null,null,null,null,null,null,null,null,"Tilted Cylindrical (Stem) Wet Volume Calculation (Below Channel Thalweg)",null,null,null,null,null,null,null,null,null,null,"Tilted Frustum (RW) Volume Calculation (Slice Method)",null,null,null,null,null,"A = R2 arccos [(R - h)/R] - [(R - h)*SQRT(2Rh - h2)]"]
["Sample1","Flow Deflection",null,"Left bank",null,"Outside",{"$f":"IF($A6=\"\",\"\",VLOOKUP($A6,SiteInfo,2,0))","v":1000},{"$f":"IF($A6=\"\",\"\",VLOOKUP($A6,SiteInfo,4,0))","v":8.4499999999999993},{"$f":"IF($A6=\"\",\"\",VLOOKUP($A6,SiteInfo,9,0))","v":5.3191489361702127},{"$f":"IF(OR($A$6=\"\",$F$6=\"\"),\"\",IF($F$6=\"Outside\",VLOOKUP($A$6,SiteInfo,10,0),VLOOKUP($A$6,SiteInfo,5,0)))","v":4.6327110774981861},{"$f":"IF($F$6=\"\",\"\",IF(AND($I$6<26,$F$6=\"Straight\"),\"CHECK - Structure is located on a meander (Rc/WBF < 26)\",\"\"))","v":""},"Structure Types",null,"Description",null,null,null,null,null,null,null,null,null,null,null,null,null,null,"Water Surface",null,null,null,null,null,null,null,null,null,null,null,null,null,null,null,null,null,null,null,null,null,null,null,null,null,"Slice thickness (ft) =",null,{"$f":"IF($G$22=\"\",\"\",$G$22/$BC$39)","v":0.1},"WSE (ft) =",{"$f":"IF($AE$8=\"\",\"\",$AE$8)","v":101.25},"RRW (ft) =",{"$f":"IF($H$22=\"\",\"\",$H$22/2)","v":3},"yRW,crown (ft) =",{"$f":"IF($U$10=\"\",\"\",$U$10)","v":98.473668085761574},"yRW,bot (ft) =",{"$f":"IF($U$15=\"\",\"\",$U$15)","v":92.47389654737654}]
[null,null,null,null,null,null,null,null,null,null,{"$f":"IF(OR($F$6=\"\",$I$6=\"\"),\"\",IF(AND($I$6>26,$F$6<>\"Straight\"),\"CHECK - Structure is not on a meander (Rc/WBF > 26)\",\"\"))","v":""},"Rootwad",null,"Logs buried in bank with rootwads protruding into channel",null,null,null,null,null,null,null,null,null,null,null,null,null,null,null,"x (ft)","y (ft)",null,null,"R = DTS/2",{"$f":"$F$22/2","v":1},"ft",null,null,null,null,null,null,null,null,"R = DTS/2",{"$f":"$F$22/2","v":1},"ft",null,null,null,null,null,null,null,null,null,null,"Thalweg Elevation (ft) =",{"$f":"$C$16","v":92.8},"RTS (ft) =",{"$f":"IF($F$22=\"\",\"\",$F$22/2)","v":1},"yRC,crown (ft) =",{"$f":"IF($U$11=\"\",\"\",$U$11)","v":96.499923846128354},"yRC,bot (ft) =",{"$f":"IF($U$14=\"\",\"\",$U$14)","v":94.5}]
["Multi-Log Structures","Layer","Log ID",null,null,null,null,null,null,null,null,"Log Vane",null,"Logs protruding from bank and angled either up- or downstream",null,null,null,null,"Large Wood Coordinates",null,null,null,null,null,null,null,null,null,"WSE",{"$f":"IF(OR($A$6=\"\",$C$16=\"\"),0,IF(($H$6+$C$16)>=$C$13,$B$13,IF(AND(($H$6+$C$16)<$C$13,($H$6+$C$16)>=$C$14),((($C$13-($H$6+$C$16))/($C$13-$C$14))*($B$14-$B$13))+$B$13,IF(AND(($H$6+$C$16)<$C$14,($H$6+$C$16)>=$C$15),((($C$14-($H$6+$C$16))/($C$14-$C$15))*($B$15-$B$14))+$B$14,IF(AND(($H$6+$C$16)<$C$15,($H$6+$C$16)>=$C$16),((($C$15-($H$6+$C$16))/($C$15-$C$16))*($B$16-$B$15))+$B$15,\"\")))))","v":0},{"$f":"IF(OR($A$6=\"\",$C$16=\"\"),$C$13,$H$6+$C$16)","v":101.25},null,null,"b (rad)",{"$f":"ABS($C$25)*PI()/180","v":8.7266462599716477E-3},"rad",null,null,null,null,null,null,null,null,"b (rad)",{"$f":"ABS($C$25)*PI()/180","v":8.7266462599716477E-3},"rad"]
[null,"Stacked","Top#1",null,null,null,null,null,null,null,null,"Log Weir",null,"Weirs spanning small streams comprised of one or more large logs",null,null,null,null,null,"x (ft)","y (ft)",null,"Large wood check","x (ft)",null,"y (ft)",null,null,"WSE",{"$f":"IF(OR($A$6=\"\",$C$16=\"\"),0,IF(($H$6+$C$16)>=$C$19,$B$19,IF(AND(($H$6+$C$16)<$C$19,($H$6+$C$16)>=$C$18),(((($H$6+$C$16)-$C$18)/($C$19-$C$18))*($B$19-$B$18))+$B$18,IF(AND(($H$6+$C$16)<$C$18,($H$6+$C$16)>=$C$17),(((($H$6+$C$16)-$C$17)/($C$18-$C$17))*($B$18-$B$17))+$B$17,IF(AND(($H$6+$C$16)<$C$17,($H$6+$C$16)>=$C$16),(((($H$6+$C$16)-$C$16)/($C$17-$C$16))*($B$17-$B$16))+$B$16,\"\")))))","v":150},{"$f":"IF(OR($A$6=\"\",$C$16=\"\"),$C$13,$H$6+$C$16)","v":101.25},null,null,"dwet,max",{"$f":"IF($AB$23>$AB$24,$AB$23,IF($AB$23<$AB$24,$AB$24,\"\"))","v":6.75},"ft",null,null,null,null,null,null,null,null,"dwet,max",{"$f":"IF($Z$23>$Z$24,$Z$23,IF($Z$23<$Z$24,$Z$24,\"\"))","v":""},"ft",null,null,null,null,null,null,null,"Slice #","xRW,avg (ft)","RRW,slice (ft)","Aslice,avg (ft)","Vslice (ft3)","ycrown,avg (ft)","ybot,avg (ft)","hRW,cr,↑WSE (ft)","ARW,↑WSE (ft2)","VRW,↑WSE (ft3)","hRW,bot,↓thw (ft)","ARW,↓thw (ft2)","VRW,↓thw (ft3)"]
[null,null,null,null,null,null,null,null,null,null,{"$f":"IF(OR($C$14=\"\",$C$15=\"\"),\"\",IF($C$15>=$C$14,\"ERROR - LB top elevation must be > LB toe elevation\",\"\"))","v":""},"Tree Revetment",null,"Row of logs secured along the bank and placed parallel to flow",null,null,null,"Pt 1","Rootwad: Crown",{"$f":"IF($F$25=\"\",0,IF($D$25=\"Rootwad: Crown\",$F$25,IF($D$22=\"No\",$T$15+(($F$22*-$M$20)*$M$17),$T$15+(($H$22*-$M$20)*$M$17))))","v":64.652866137979757},{"$f":"IF($G$25=\"\",$C$13,IF($D$25=\"Rootwad: Crown\",$G$25,IF($D$22=\"No\",$U$15+($F$22*$M$19),$U$15+($H$22*$M$19))))","v":98.473668085761574},null,"Rootwad: Crown",{"$f":"IF($D$22=\"No\",$T$15+(($F$22*-$M$20)*$M$17),$T$15+(($H$22*-$M$20)*$M$17))","v":64.652866137979757},{"$f":"IF(X10=T10,\"OK\",\"ERROR\")","v":"OK"},{"$f":"IF($D$22=\"No\",$U$15+($F$22*$M$19),$U$15+($H$22*$M$19))","v":98.473668085761574},{"$f":"IF(Z10=U10,\"OK\",\"ERROR\")","v":"OK"},null,null,null,null,null,null,"dwet,avgH",{"$f":"IF(AND($AB$23>0,$AB$24>0),(($AB$23/COS($AI$8))+($AB$24/COS($AI$8)))/2,\"\")","v":6.6237174461377144},"ft",null,null,null,null,null,null,null,null,"dwet,avgH",{"$f":"IF(AND($Z$23>0,$Z$24>0),(($Z$23/COS($AT$8))+($Z$24/COS($AT$8)))/2,\"\")","v":""},"ft",null,null,null,null,null,null,null,1,{"$f":"($BE$6/2)+(($BC10-1)*$BE$6)","v":0.05},{"$f":"(($G$22-$BD10)/$G$22)*($BI$6-$BI$7)+$BI$7","v":2.9666666666666668},{"$f":"PI()*($BE10^2)","v":27.649506010094171},{"$f":"$BF10*$BE$6","v":2.7649506010094171},{"$f":"(($G$22-$BD10)/$G$22)*($BK$6-$BK$7)+$BK$7","v":98.440772348434351},{"$f":"(($G$22-$BD10)/$G$22)*($BM$6-$BM$7)+$BM$7","v":92.507664938253598},{"$f":"IF($BH10<=$BG$6,0,IF((($BH10-$BG$6)*$M$19)>=($BE10*2),$BE10*2,($BH10-$BG$6)*$M$19))","v":0},{"$f":"(($BE10^2)*ACOS(($BE10-$BJ10)/$BE10))-(($BE10-$BJ10)*SQRT(2*$BE10*$BJ10-($BJ10^2)))","v":0},{"$f":"$BK10*$BE$6","v":0},{"$f":"IF($BI10>=$BG$7,0,IF((($BG$7-$BI10)*$M$19)>=($BE10*2),$BE10*2,($BG$7-$BI10)*$M$19))","v":0.29232393052301298},{"$f":"(($BE10^2)*ACOS(($BE10-$BM10)/$BE10))-(($BE10-$BM10)*SQRT(2*$BE10*$BM10-($BM10^2)))","v":0.50566075111979059},{"$f":"$BN10*$BE$6","v":5.056607511197906E-2}]
["Channel Geometry Coordinates",null,null,null,null,null,null,null,null,null,{"$f":"IF(OR($C$15=\"\",$C$16=\"\",$C$17=\"\"),\"\",IF(OR($C$15<$C$16,$C$17<$C$16),\"ERROR - Toe elevation must be >= thalweg elevation\",\"\"))","v":""},"Flow Deflection",null,"Partially spanning multiple log structure along the bank",null,null,null,"Pt 2","Root collar: Crown",{"$f":"IF($F$25=\"\",0,IF($D$25=\"Root collar: Crown\",$F$25,IF($D$22=\"No\",$T$10,$T$10+(($G$22*$M$19)*$M$17)-(((($H$22-$F$22)/2)*-$M$20)*$M$17))))","v":63.009505623745717},{"$f":"IF($G$25=\"\",$C$13,IF($D$25=\"Root collar: Crown\",$G$25,IF($D$22=\"No\",$U$10,$U$10-($G$22*-$M$20)-((($H$22-$F$22)/2)*$M$19))))","v":96.499923846128354},null,"Root collar: Crown",{"$f":"IF($D$22=\"No\",$X$10,$T$10+(($G$22*$M$19)*$M$17)-(((($H$22-$F$22)/2)*-$M$20)*$M$17))","v":63.009505623745717},"OK",{"$f":"IF($D$22=\"No\",$Z$10,$U$10-($G$22*-$M$20)-((($H$22-$F$22)/2)*$M$19))","v":96.499923846128354},"OK",null,"Water Surface Label",null,null,null,null,"hmax,lower",{"$f":"IF($AI$9/COS($AI$8)>$F$22,$F$22,$AI$9/COS($AI$8))","v":2},"ft",null,null,null,null,null,null,null,null,"hmax,lower",{"$f":"IF($AT$9/COS($AT$8)>$F$22,$F$22,$AT$9/COS($AT$8))","v":{"$error":"#VALUE!"}},"ft",null,null,null,null,null,null,null,2,{"$f":"($BE$6/2)+(($BC11-1)*$BE$6)","v":0.15000000000000002},2.9000000000000004,{"$f":"PI()*($BE11^2)","v":26.420794216690165},{"$f":"$BF11*$BE$6","v":2.6420794216690169},98.374980873779919,92.575201720007712,{"$f":"IF($BH11<=$BG$6,0,IF((($BH11-$BG$6)*$M$19)>=($BE11*2),$BE11*2,($BH11-$BG$6)*$M$19))","v":0},{"$f":"(($BE11^2)*ACOS(($BE11-$BJ11)/$BE11))-(($BE11-$BJ11)*SQRT(2*$BE11*$BJ11-($BJ11^2)))","v":0},{"$f":"$BK11*$BE$6","v":0},{"$f":"IF($BI11>=$BG$7,0,IF((($BG$7-$BI11)*$M$19)>=($BE11*2),$BE11*2,($BG$7-$BI11)*$M$19))","v":0.22478972036260353},{"$f":"(($BE11^2)*ACOS(($BE11-$BM11)/$BE11))-(($BE11-$BM11)*SQRT(2*$BE11*$BM11-($BM11^2)))","v":0.33822238628601076},{"$f":"$BN11*$BE$6","v":3.3822238628601078E-2}]
["Proposed","x (ft)","y (ft)",null,null,null,null,null,null,null,{"$f":"IF(OR($C$18=\"\",$C$17=\"\"),\"\",IF($C$17>=$C$18,\"ERROR - RB top elevation must be > RB toe elevation\",\"\"))","v":""},"Mid-Channel",null,"Logs placed at the head of an island or bar",null,null,null,"Pt 3","Stem tip: Crown",{"$f":"IF($F$25=\"\",0,IF($D$25=\"Stem tip: Crown\",$F$25,$T$11+((($E$22-$G$22)*$M$19)*$M$17)))","v":47.215575015691925},{"$f":"IF($G$25=\"\",$C$13,IF($D$25=\"Stem tip: Crown\",$G$25,$U$11-(($E$22-$G$22)*-$M$20)))","v":96.752993375581198},null,"Stem tip: Crown",{"$f":"$T$11+((($E$22-$G$22)*$M$19)*$M$17)","v":47.215575015691925},"OK",{"$f":"$U$11-(($E$22-$G$22)*-$M$20)","v":96.752993375581198},"OK",null,"WSE",{"$f":"IF($AD$8=\"\",\"\",AVERAGE(AD8:AD9))","v":75},{"$f":"IF($AE$8=\"\",\"\",AVERAGE(AE8:AE9))","v":101.25},null,null,"hmax,up,dry",{"$f":"IF(AND($AB$23>$F$22,$AB$24>$F$22),0,IF(AND($AB$23>=$F$22,(($F$22-$AB$24)/(COS($AI$8)))>$F$22),$F$22,IF($AB$23>=$F$22,($F$22-$AB$24)/(COS($AI$8)),IF(AND($AB$24>=$F$22,(($F$22-$AB$23)/(COS($AI$8))>$F$22)),$F$22,IF($AB$24>=$F$22,($F$22-$AB$23)/(COS($AI$8)),\"\")))))","v":0},"ft",null,null,null,null,null,null,null,null,"hmax,up,dry",{"$f":"IF(AND($Z$23>$F$22,$Z$24>$F$22),0,IF(AND($Z$23>=$F$22,(($F$22-$Z$24)/(COS($AT$8)))>$F$22),$F$22,IF($Z$23>=$F$22,($F$22-$Z$24)/(COS($AT$8)),IF(AND($Z$24>=$F$22,(($F$22-$Z$23)/(COS($AT$8))>$F$22)),$F$22,IF($Z$24>=$F$22,($F$22-$Z$23)/(COS($AT$8)),\"\")))))","v":""},"ft",null,null,null,null,null,null,null,3,0.25,2.833333333333333,25.22000769131806,2.522000769131806,98.309189399125472,92.642738501761826,0,0,0,0.15725551020219408,0.19627380824632512,1.9627380824632515E-2]
["Fldpln LB",{"$f":"'Prelim-Top#1'!B13","v":0},{"$f":"'Prelim-Top#1'!C13","v":99.18},null,null,null,null,null,null,null,{"$f":"IF(OR($B$14<$B$13,$B$15<$B$14,$B$16<$B$15,$B$17<$B$16,$B$18<$B$17,$B$19<$B$18),\"ERROR - Each 'x' distance must be >= previous point\",\"\")","v":""},"Full-Span",null,"Multiple logs constricting a large portion of the cross-sectional area",null,null,null,"Pt 4","Stem tip: Bottom",{"$f":"IF($F$25=\"\",0,IF($D$25=\"Stem tip: Bottom\",$F$25,$T$12-(($F$22*-$M$20)*$M$17)))","v":47.206069391946208},{"$f":"IF($G$25=\"\",$C$13,IF($D$25=\"Stem tip: Bottom\",$G$25,$U$12-($F$22*$M$19)))","v":94.753069529452858},null,"Stem tip: Bottom",{"$f":"$T$12-(($F$22*-$M$20)*$M$17)","v":47.206069391946208},"OK",{"$f":"$U$12-($F$22*$M$19)","v":94.753069529452858},"OK",null,null,null,null,null,null,"LTS,bot,wet",{"$f":"IF(($AI$9/SIN($AI$8))>($E$22-$G$22),($E$22-$G$22-$AI$14),($AI$9/SIN($AI$8))-$AI$14)","v":-515.32554073226038},"ft",null,null,null,null,null,null,null,null,"LTS,bot,wet",{"$f":"IF(($AT$9/SIN($AT$8))>($E$22-$G$22),($E$22-$G$22-$AT$14),($AT$9/SIN($AT$8))-$AT$14)","v":{"$error":"#VALUE!"}},"ft",null,null,null,null,null,null,null,4,0.35000000000000003,2.7666666666666666,24.047146433977868,2.4047146433977868,98.243397924471026,92.710275283515941,0,0,0,8.9721300041784635E-2,8.3878675399100766E-2,8.387867539910077E-3]
["Top LB",{"$f":"'Prelim-Top#1'!B14","v":33},{"$f":"'Prelim-Top#1'!C14","v":98.59},null,null,null,null,null,null,null,null,"Floodplain",null,"Logs placed outside of the bankfull channel",null,null,null,"Pt 5","Root collar: Bottom",{"$f":"IF($F$25=\"\",0,IF($D$25=\"Root collar: Bottom\",$F$25,$T$13-((($E$22-$G$22)*$M$19)*$M$17)))","v":63},{"$f":"IF($G$25=\"\",$C$13,IF($D$25=\"Root collar: Bottom\",$G$25,$U$13+(($E$22-$G$22)*-$M$20)))","v":94.5},null,"Root collar: Bottom",{"$f":"$T$13-((($E$22-$G$22)*$M$19)*$M$17)","v":63},"OK",{"$f":"$U$13+(($E$22-$G$22)*-$M$20)","v":94.500000000000014},"OK",null,"Bank Labels",null,null,null,null,"LTS,top,wet",{"$f":"IF($AI$11>=$F$22,(($AI$9-($AI$11/(COS($AI$8))))/SIN($AI$8))+($AI$11*TAN($AI$8)),0)","v":544.32554073226038},"ft",null,null,null,null,null,null,null,null,"LTS,top,wet",{"$f":"IF($AT$11>=$F$22,(($AT$9-($AT$11/(COS($AT$8))))/SIN($AT$8))+($AT$11*TAN($AT$8)),0)","v":{"$error":"#VALUE!"}},"ft",null,null,null,null,null,null,null,5,0.45,2.7,22.902210444669596,2.2902210444669597,98.177606449816594,92.777812065270055,0,0,0,2.2187089881375188E-2,1.022704314628442E-2,1.0227043146284422E-3]
["Toe LB",{"$f":"'Prelim-Top#1'!B15","v":54},{"$f":"'Prelim-Top#1'!C15","v":95.63},null,null,null,null,null,null,null,{"$f":"IF(AND($B$6=\"Rootwad\",$D$22=\"No\"),\"ERROR - Rootwad structure type should have a rootwad\",\"\")","v":""},null,null,null,null,null,null,"Pt 6","Rootwad: Bottom",{"$f":"IF($F$25=\"\",0,IF($D$25=\"Rootwad: Bottom\",$F$25,IF($D$22=\"No\",$T$14,$T$14-(($G$22*$M$19)*$M$17)-(((($H$22-$F$22)/2)*-$M$20)*$M$17))))","v":64.624349266742598},{"$f":"IF($G$25=\"\",$C$13,IF($D$25=\"Rootwad: Bottom\",$G$25,IF($D$22=\"No\",$U$14,$U$14+($G$22*-$M$20)-((($H$22-$F$22)/2)*$M$19))))","v":92.47389654737654},null,"Rootwad: Bottom",{"$f":"IF($D$22=\"No\",$T$14,$T$14-(($G$22*$M$19)*$M$17)-(((($H$22-$F$22)/2)*-$M$20)*$M$17))","v":64.624349266742598},"OK",{"$f":"IF($D$22=\"No\",$U$14,$U$14+($G$22*-$M$20)-((($H$22-$F$22)/2)*$M$19))","v":92.47389654737654},"OK",null,"LB",{"$f":"IF(OR($B$13=\"\",$B$14=\"\"),\"\",AVERAGE($B$13:$B$14))","v":16.5},{"$f":"IF(OR($C$13=\"\",$C$14=\"\"),\"\",AVERAGE($C$13:$C$14))","v":98.885000000000005},null,null,"K1",{"$f":"IF(AND(($AI$11-$AI$7)=1,$AH$17=\"Case 1\"),PI(),ACOS(1-($AI$11/$AI$7)))","v":3.1415926535897931},"rad",null,null,null,null,null,null,null,null,"K1",{"$f":"ACOS(1-($AT$11/$AT$7))","v":{"$error":"#VALUE!"}},"rad",null,null,null,null,null,null,null,6,0.55000000000000004,2.6333333333333337,21.785199723393227,2.1785199723393229,98.111814975162147,92.845348847024169,0,0,0,0,0,0]
["Thalweg",{"$f":"'Prelim-Top#1'!B16","v":79},{"$f":"'Prelim-Top#1'!C16","v":92.8},null,null,null,null,null,null,null,{"$f":"IF(OR($N$52=\"\",$F$25=\"\",$G$25=\"\"),\"\",IF(AND($B$6=\"Rootwad\",$N$52<>\"Exposed in stream\"),\"CHECK - Rootwad structure typically has exposed rootwad\",\"\"))","v":""},null,null,null,null,null,null,null,null,null,null,null,null,null,null,null,null,null,"RB",{"$f":"IF(OR($B$18=\"\",$B$19=\"\"),\"\",AVERAGE($B$18:$B$19))","v":138.5},{"$f":"IF(OR($C$18=\"\",$C$19=\"\"),\"\",AVERAGE($C$18:$C$19))","v":98.8},null,null,"K2",{"$f":"IF($AI$12=\"\",\"\",ACOS(1-($AI$12/$AI$7)))","v":0},"rad",null,null,null,null,null,null,null,null,"K2",{"$f":"IF($AT$12=\"\",\"\",ACOS(1-($AT$12/$AT$7)))","v":""},"rad",null,null,null,null,null,null,null,7,0.65000000000000013,2.5666666666666664,20.696114270148755,2.0696114270148755,98.046023500507715,92.912885628778284,0,0,0,0,0,0]
["Toe RB",{"$f":"'Prelim-Top#1'!B17","v":108},{"$f":"'Prelim-Top#1'!C17","v":94.94},null,null,null,null,null,null,null,null,"cos (q+90) =",{"$f":"IF($B$25=\"\",0,COS(($B$25+90)*PI()/180))","v":-0.54463903501502708},null,null,null,null,null,"Rootwad Coordinates",null,null,null,null,null,null,null,null,null,null,null,null,null,"check:",{"$f":"IF(AND($AA$21=\"Wet\",$AA$22=\"Wet\",$AA$23=\"Wet\",$AA$24=\"Wet\"),\"Log is completely submerged\",IF(AND($AA$21=\"Dry\",$AA$22=\"Dry\",OR(AND($AA$23=\"Dry\",$AA$24=\"Wet\"),AND($AA$24=\"Dry\",$AA$23=\"Wet\"))),\"Case 1\",IF(OR(AND($AA$21=\"Wet\",$AA$24=\"Wet\",$AA$22=\"Dry\",$AA$23=\"Dry\"),AND($AA$22=\"Wet\",$AA$23=\"Wet\",$AA$21=\"Dry\",$AA$24=\"Dry\")),\"Case 2\",IF(AND($AA$22=\"Dry\",$AA$23=\"Wet\",$AA$21=\"Dry\",$AA$24=\"Wet\"),\"Case 3\",IF(OR(AND($AA$21=\"Dry\",$AA$22=\"Wet\",$AA$23=\"Wet\",$AA$24=\"Wet\"),AND($AA$21=\"Wet\",$AA$22=\"Dry\",$AA$23=\"Wet\",$AA$24=\"Wet\")),\"Case 4\",\"Stem is Dry\")))))","v":"Log is completely submerged"},null,null,"VTS =",{"$f":"PI()*(($F$22/2)^2)*($E$22-$G$22)","v":91.106186954104004},"ft3",null,null,null,null,"check:",{"$f":"IF(AND($Y$21=\"Wet\",$Y$22=\"Wet\",$Y$23=\"Wet\",$Y$24=\"Wet\"),\"Log is completely submerged\",IF(AND($Y$21=\"Dry\",$Y$22=\"Dry\",OR(AND($Y$23=\"Dry\",$Y$24=\"Wet\"),AND($Y$24=\"Dry\",$Y$23=\"Wet\"))),\"Case 1\",IF(OR(AND($Y$21=\"Wet\",$Y$24=\"Wet\",$Y$22=\"Dry\",$Y$23=\"Dry\"),AND($Y$22=\"Wet\",$Y$23=\"Wet\",$Y$21=\"Dry\",$Y$24=\"Dry\")),\"Case 2\",IF(AND($Y$22=\"Dry\",$Y$23=\"Wet\",$Y$21=\"Dry\",$Y$24=\"Wet\"),\"Case 3\",IF(OR(AND($Y$21=\"Dry\",$Y$22=\"Wet\",$Y$23=\"Wet\",$Y$24=\"Wet\"),AND($Y$21=\"Wet\",$Y$22=\"Dry\",$Y$23=\"Wet\",$Y$24=\"Wet\")),\"Case 4\",\"Stem is Dry\")))))","v":"Stem is Dry"},null,null,"VTS =",{"$f":"PI()*(($F$22/2)^2)*($E$22-$G$22)","v":91.106186954104004},"ft3",null,null,null,null,8,0.75000000000000011,2.5,19.634954084936208,1.9634954084936209,97.980232025853269,92.980422410532412,0,0,0,0,0,0]
["Top RB",{"$f":"'Prelim-Top#1'!B18","v":127},{"$f":"'Prelim-Top#1'!C18","v":98.72},null,null,null,null,null,null,null,null,"sin (q+90) =",{"$f":"IF($B$25=\"\",0,SIN(($B$25+90)*PI()/180))","v":0.83867056794542394},null,null,null,null,null,null,"x (ft)","y (ft)",null,"Large Wood \"Below Thalweg\" and \"Below Water Surface\" Depths",null,null,null,null,null,null,null,null,null,"Case 1",null,null,null,null,null,null,null,null,null,null,"Case 1",null,null,null,null,null,null,null,null,null,null,9,0.85000000000000009,2.4333333333333336,18.601719167755569,1.860171916775557,97.914440551198823,93.047959192286527,0,0,0,0,0,0]
["Fldpln RB",{"$f":"'Prelim-Top#1'!B19","v":150},{"$f":"'Prelim-Top#1'!C19","v":98.88},null,null,null,null,null,null,null,{"$f":"IF($C$25=\"\",\"\", IF($C$25=0,\"ERROR - Angle of tilt can not be exactly 0 deg, change to 0.01\", IF(OR($C$25>=90,$C$25<=-90),\"ERROR - Angle of tilt must be between (-)89.9 and (+)89.9 deg\",\"\")))","v":""},"cos b =",{"$f":"IF($C$25=\"\",0,COS($C$25*PI()/180))","v":0.99996192306417131},null,null,null,null,null,"RW bottom1",{"$f":"IF($T$15=\"\",\"\",$T$15)","v":64.624349266742598},{"$f":"IF($U$15=\"\",$C$13,$U$15)","v":92.47389654737654},null,null,"Point","↓twCondition","dT,wet","↓WSECondition","dT↓dw",null,null,null,null,null,null,"V =","LTS,bot,wet/hmax,lower*R3*(sin K1 – K1*cos K1 – 1/3*(sin K1)3)",null,null,null,null,null,null,null,null,null,"V =","LTS,bot,wet/hmax,lower*R3*(sin K1 – K1*cos K1 – 1/3*(sin K1)3)",null,null,null,null,null,null,null,10,0.95000000000000007,2.3666666666666663,17.596409518606823,1.7596409518606824,97.84864907654439,93.115495974040641,0,0,0,0,0,0]
[null,null,null,null,null,null,null,null,null,null,{"$f":"IF(OR($B$25=\"\",$A$6=\"\"),\"\",IF(OR($B$25>360,$B$25<-180),\"ERROR - Orientation angle must be (-)180 to (+)360 deg\",\"\"))","v":""},"sin b =",{"$f":"IF($C$25=\"\",0,SIN($C$25*PI()/180))","v":8.7265354983739347E-3},null,null,null,null,null,"RW sid1",{"$f":"IF($T$19=\"\",\"\",IF($D$22=\"No\",$T$19+((SIN(45*PI()/180))*$M$18),(($T$19+$T$21)/2)+((SIN(45*PI()/180))*$M$18)))","v":66.482513982245806},{"$f":"IF($U$15=\"\",$C$13,($U$21+$U$19)/2)","v":93.973839431972806},null,"Rootwad: Crown","Pt 1",{"$f":"IF($U10<$C$16,\"Wet\",\"Dry\")","v":"Dry"},{"$f":"IF($C$16<U10,0,$C$16-U10)","v":0},{"$f":"IF($U10<$AE$8,\"Wet\",\"Dry\")","v":"Wet"},{"$f":"IF(U10>$AE$8,0,$AE$8-U10)","v":2.7763319142384262},null,null,null,null,null,null,"where:","K1 = arccos(1-hmax,lower/R)",null,null,null,null,null,null,null,null,null,"where:","K1 = arccos(1-hmax,lower/R)",null,null,null,null,null,null,null,11,1.05,2.2999999999999998,16.619025137490002,1.6619025137490002,97.782857601889944,93.183032755794756,0,0,0,0,0,0]
["Wood Species",null,null,"Rootwad","LT (ft)","DTS (ft)","LRW (ft)","DRW (ft)","gTd (lb/ft3)","gTgr (lb/ft3)",{"$f":"IF(AND($D$22=\"No\",OR($D$25=\"Rootwad: Crown\",$D$25=\"Rootwad: Bottom\")),\"ERROR - No rootwad, define a different starting point\",\"\")","v":""},"typ RW b =",{"$f":"IF($E$22=\"\",0,ROUND((-ATAN(((($H$22-$F$22)/2))/$E$22)*180/PI()),1))","v":-3.6},null,null,null,null,null,"RW sid2",{"$f":"IF($T$19=\"\",\"\",IF($D$22=\"No\",(($T$19+$T$23)/2)+($F$22/2*$M$18),(($T$19+$T$23)/2)+($H$22/2*$M$18)))","v":67.154619406197455},{"$f":"IF($U$15=\"\",$C$13,($U$19+$U$23)/2)","v":95.473782316569057},null,"Root collar: Crown","Pt 2","Dry",0,"Wet",4.7500761538716461,null,null,null,null,null,null,"VTS,wet,C1",{"$f":"($AI$13/$AI$11)*($AI$7^3)*(SIN($AI$15)-($AI$15*COS($AI$15))-((1/3)*(SIN($AI$15))^3))","v":-809.4714664858285},"ft3",null,null,null,null,null,null,null,null,"VTS,wet,C1",{"$f":"($AT$13/$AT$11)*($AT$7^3)*(SIN($AT$15)-($AT$15*COS($AT$15))-((1/3)*(SIN($AT$15))^3))","v":{"$error":"#VALUE!"}},"ft3",null,null,null,null,null,null,12,1.1500000000000001,2.2333333333333334,15.669566024405089,1.566956602440509,97.717066127235512,93.25056953754887,0,0,0,0,0,0]
["Douglas-fir, Interior west",null,null,"Yes",32,2,{"$f":"IF(OR($D$22=\"No\",$D$22=\"\"),0,IF($F$22=\"\",0,$F$22*LFRW))","v":3},{"$f":"IF(OR($D$22=\"No\",$D$22=\"\"),0,IF($F$22=\"\",0,$F$22*DFRW))","v":6},{"$f":"IF($A$22=\"\",\"\",VLOOKUP($A$22,'5-Wood'!$B$8:$E$17,3,0))","v":34.944000000000003},{"$f":"IF($A$22=\"\",\"\",VLOOKUP($A$22,'5-Wood'!$B$8:$E$17,4,0))","v":39},null,null,null,null,null,null,null,null,"RW sid3",{"$f":"IF($T$19=\"\",\"\",IF($D$22=\"No\",$T$23+((SIN(45*PI()/180))*$M$18),(($T$23+$T$21)/2)+((SIN(45*PI()/180))*$M$18)))","v":66.496772417864392},{"$f":"IF($U$15=\"\",$C$13,($U$21+$U$23)/2)","v":96.973725201165308},null,"Stem tip: Crown","Pt 3","Dry",0,"Wet",4.4970066244188018,null,null,null,null,null,null,null,null,null,null,null,null,null,null,null,null,null,null,null,null,null,null,null,null,null,null,13,1.2500000000000002,2.1666666666666665,14.748032179352082,1.4748032179352082,97.651274652581066,93.318106319302984,0,0,0,0,0,0]
[null,null,null,null,null,null,null,null,null,null,{"$f":"IF(OR($B$25=\"\",$A$6=\"\"),\"\",IF(OR($B$25=360,$B$25=270,$B$25=180,$B$25=90,$B$25=0,$B$25=-90,$B$25=-180),\"ERROR - Orientation angle can not EXACTLY equal 0, 90, 180, 270, or 360 deg. Change input value to 0.01, 89.99 (or similar)\",\"\"))","v":""},null,null,null,null,null,null,null,"RW crown",{"$f":"IF($T$19=\"\",\"\",$T$10)","v":64.652866137979757},{"$f":"IF($U$15=\"\",$C$13,$U$10)","v":98.473668085761574},null,"Stem tip: Bottom","Pt 4","Dry",0,"Wet",6.4969304705471416,null,null,null,null,"Case 2",null,null,null,null,null,null,null,null,null,null,"Case 2",null,null,null,null,null,null,null,null,null,null,14,1.35,2.0999999999999996,13.854423602330982,1.3854423602330983,97.585483177926619,93.385643101057099,0,0,0,0,0,0]
["Structure Geometry","q (deg)","b (deg)","Define Fixed Point",null,"xT (ft)","yT (ft)","yT,min (ft)","yT,max (ft)","ATp (ft2)",null,null,null,null,null,null,null,null,"RW sid4",{"$f":"IF($T$19=\"\",\"\",IF($D$22=\"No\",$T$23-((SIN(45*PI()/180))*$M$18),(($T$23+$T$25)/2)-((SIN(45*PI()/180))*$M$18)))","v":62.794701422476557},{"$f":"IF($U$15=\"\",$C$13,($U$25+$U$23)/2)","v":96.973725201165308},null,"Root collar: Bottom","Pt 5","Dry",0,"Wet",6.75,null,null,null,null,null,null,"V =","(p*R2*LTS,top,wet) + (LTS,bot,wet/hmax,lower*R3*(sin K1 – K1*cos K1 – 1/3*(sin K1)3)",null,null,null,null,null,null,null,null,null,"V =","(p*R2*LTS,top,wet) + (LTS,bot,wet/hmax,lower*R3*(sin K1 – K1*cos K1 – 1/3*(sin K1)3)",null,null,null,null,null,null,null,15,1.4500000000000002,2.0333333333333332,12.988740293341799,1.2988740293341801,97.519691703272187,93.453179882811213,0,0,0,0,0,0]
[null,33,0.5,"Root collar: Bottom",null,63,94.5,{"$f":"IF(OR($E$22=\"\",$F$22=\"\",$F$25=\"\",$G$25=\"\"),\"\",MIN($U$10:$U$15))","v":92.47389654737654},{"$f":"IF(OR($E$22=\"\",$F$22=\"\",$F$25=\"\",$G$25=\"\"),\"\",MAX($U$10:$U$15))","v":98.473668085761574},{"$f":"IF(OR($E$22=\"\",$F$22=\"\",$F$25=\"\",$G$25=\"\"),\"\",IF($T$81<0,$AB$80,IF($T$81>$T$77,$T$77+$AB$80,IF(OR(AND($C$25=0,$D$22=\"No\",$B$25=0),AND($C$25=0,$D$22=\"No\",$B$25=360),AND($C$25=0,$D$22=\"No\",$B$25=180)),PI()*(($F$22/2)^2),$T$81+$AB$80))))","v":43.426879414893911},{"$f":"IF(OR($B$13=\"\",$B$19=\"\",$U$38=0,$U$39=0),\"\",IF(OR(MAX($U$38:$U$39)>$B$19,MIN($U$38:$U$39)<$B$13),\"ERROR - Log extends beyond limits of floodplain\",\"\"))","v":""},null,null,null,null,null,null,null,"RW sid5",{"$f":"IF($T$19=\"\",\"\",IF($D$22=\"No\",(($T$27+$T$23)/2)-($F$22/2*$M$18),(($T$27+$T$23)/2)-($H$22/2*$M$18)))","v":62.122595998524915},{"$f":"IF($U$15=\"\",$C$13,($U$27+$U$23)/2)","v":95.473782316569057},null,"Rootwad: Bottom","Pt 6","Wet",0.32610345262345675,"Wet",8.7761034526234596,null,null,null,null,null,null,"where:","K1 = arccos(1-hmax,lower/R)",null,null,null,null,null,null,null,null,null,"where:","K1 = arccos(1-hmax,lower/R)",null,null,null,null,null,null,null,16,1.55,1.9666666666666668,12.150982252384525,1.2150982252384526,97.453900228617741,93.520716664565327,0,0,0,0,0,0]
[null,null,null,null,null,null,null,null,null,null,null,null,null,null,null,null,null,null,"RW sid6",{"$f":"IF($T$19=\"\",\"\",IF($D$22=\"No\",$T$27-((SIN(45*PI()/180))*$M$18),(($T$27+$T$25)/2)-((SIN(45*PI()/180))*$M$18)))","v":62.780442986857977},{"$f":"IF($U$15=\"\",$C$13,($U$25+$U$27)/2)","v":93.973839431972806},null,null,null,null,null,null,null,null,null,null,null,null,null,"VTS,wet,C2",{"$f":"(PI()*(($AI$7)^2)*($AI$14))+($AI$13/$AI$11)*($AI$7^3)*(SIN($AI$15)-($AI$15*COS($AI$15))-((1/3)*(SIN($AI$15))^3))","v":900.57765343993231},"ft3",null,null,null,null,null,null,null,null,"VTS,wet,C2",{"$f":"(PI()*(($AT$7)^2)*($AT$14))+($AT$13/$AT$11)*($AT$7^3)*(SIN($AT$15)-($AT$15*COS($AT$15))-((1/3)*(SIN($AT$15))^3))","v":{"$error":"#VALUE!"}},"ft3",null,null,null,null,null,null,17,1.6500000000000001,1.9,11.341149479459153,1.1341149479459154,97.388108753963309,93.588253446319442,0,0,0,0,0,0]
["Soils","Material",null,"gs (lb/ft3)","g's (lb/ft3)","f (deg)","Soil Class","LT,em (ft)","db,max (ft)","db,avg (ft)",null,null,null,null,null,null,null,null,"RW bottom2",{"$f":"IF($T$19=\"\",\"\",$T$15)","v":64.624349266742598},{"$f":"IF($U$15=\"\",$C$13,$U$15)","v":92.47389654737654},null,null,null,null,null,null,null,null,null,null,null,null,null,null,null,null,null,null,null,null,null,null,null,null,null,null,null,null,null,null,null,null,null,18,1.7500000000000002,1.833333333333333,10.559241974565689,1.055924197456569,97.322317279308862,93.655790228073556,0,0,0,0,0,0]
["Stream Bed",{"$f":"IF($A$6=\"\",\"\",VLOOKUP($A$6,Soil,4,0))","v":"Small Cobble"},null,{"$f":"IF($A$6=\"\",\"\",VLOOKUP($A$6,Soil,6,0))","v":136.37545738828794},{"$f":"IF($A$6=\"\",\"\",VLOOKUP($A$6,Soil,7,0))","v":84.913020637990599},{"$f":"IF($A$6=\"\",\"\",VLOOKUP($A$6,Soil,8,0))","v":41},{"$f":"IF($A$6=\"\",\"\",VLOOKUP($A$6,Soil,5,0))","v":4},{"$f":"IF(OR($E$22=\"\",$F$22=\"\",$F$25=\"\",$G$25=\"\"),\"\",IF(AND($F$25<=$B$17,$F$25>=$B$15,OR($B$25=0,$B$25=180,$B$25=360)),SUM($X$49:$X$50),$AB$49+$AB$50))","v":0},{"$f":"IF(OR($E$22=\"\",$F$22=\"\",$F$25=\"\",$G$25=\"\"),\"\",$AT$42)","v":0},{"$f":"IF(OR($E$22=\"\",$F$22=\"\",$F$25=\"\",$G$25=\"\"),\"\",$AT$41)","v":0},null,null,null,null,null,null,null,null,null,null,null,null,null,null,null,null,null,null,null,null,null,null,"Case 3",null,null,null,null,null,null,null,null,null,null,"Case 3",null,null,null,null,null,null,null,null,null,null,19,1.85,1.7666666666666666,9.8052597377041426,0.98052597377041428,97.256525804654416,93.723327009827671,0,0,0,0,0,0]
["Bank",{"$f":"IF($A$6=\"\",\"\",VLOOKUP($A$6,Soil,9,0))","v":"Gravel/cobble"},null,{"$f":"IF($A$6=\"\",\"\",VLOOKUP($A$6,Soil,11,0))","v":137},{"$f":"IF($A$6=\"\",\"\",VLOOKUP($A$6,Soil,12,0))","v":85.301886792452819},{"$f":"IF($A$6=\"\",\"\",VLOOKUP($A$6,Soil,13,0))","v":41},{"$f":"IF($A$6=\"\",\"\",VLOOKUP($A$6,Soil,10,0))","v":4},{"$f":"IF(OR($E$22=\"\",$F$22=\"\",$F$25=\"\",$G$25=\"\"),\"\",IF(AND(OR($F$25>$B$17,$F$25<$B$15),OR($B$25=0,$B$25=180,$B$25=360)),$X$47+$X$48+$X$51+$X$52,$AB$47+$AB$48+$AB$51+$AB$52))","v":0},{"$f":"IF(OR($E$22=\"\",$F$22=\"\",$F$25=\"\",$G$25=\"\"),\"\",$AU$42)","v":0},{"$f":"IF(OR($E$22=\"\",$F$22=\"\",$F$25=\"\",$G$25=\"\"),\"\",$AU$41)","v":0},{"$f":"IF(OR($E$22=\"\",$F$22=\"\",$F$25=\"\",$G$25=\"\"),\"\",IF(($H$28+$H$29)>$E$22,\"ERROR - Embedded length of log exceeds total length of log\",\"\"))","v":""},null,null,null,null,null,null,null,"Coordinates of Large Wood Crown at Key Points",null,null,null,null,null,null,null,null,null,null,null,null,null,null,null,"V =","LTS*(R2*arccos((R-dwet,avgH)/R)-(R-dwet,avgH)*((2*R*dwet,avgH)-dwet,avgH2)0.5)",null,null,null,null,null,null,null,null,null,"V =","LTS*(R2*arccos((R-dwet,avgH)/R)-(R-dwet,avgH)*((2*R*dwet,avgH)-dwet,avgH2)0.5)",null,null,null,null,null,null,null,20,1.9500000000000002,1.6999999999999997,9.0792027688745005,0.90792027688745014,97.190734329999984,93.790863791581785,0,0,0,0,0,0]
[null,null,null,null,null,null,null,null,null,null,null,null,null,null,null,null,null,null,null,"Wood Present?","Large Wood Parameters",null,null,null,"Soil",null,"Slope","Bank (ft/ft)",null,null,null,null,null,null,"VTS,wet,C3",{"$f":"IF($AI$10=\"\",\"\",($E$22-$G$22)*((($AI$7^2)*ACOS(($AI$7-$AI$10)/$AI$7))-(($AI$7-$AI$10)*((2*$AI$7*$AI$10)-($AI$10^2))^0.5)))","v":{"$error":"#NUM!"}},"ft3",null,null,null,null,null,null,null,null,"VTS,wet,C3",{"$f":"IF($AT$10=\"\",\"\",($E$22-$G$22)*((($AT$7^2)*ACOS(($AT$7-$AT$10)/$AT$7))-(($AT$7-$AT$10)*((2*$AT$7*$AT$10)-($AT$10^2))^0.5)))","v":""},"ft3",null,null,null,null,null,null,21,2.0499999999999998,1.6333333333333333,8.3810710680767713,0.83810710680767719,97.124942855345537,93.858400573335899,0,{"$f":"(($BE30^2)*ACOS(($BE30-$BJ30)/$BE30))-(($BE30-$BJ30)*SQRT(2*$BE30*$BJ30-($BJ30^2)))","v":0},{"$f":"$BK30*$BE$6","v":0},0,0,0]
[null,null,null,null,null,null,null,null,null,null,null,null,null,null,null,null,null,null,null,null,"xTS (ft)","Dist (ft)","Adjusted Dist (ft)","yTS (ft)","ysoil (ft)",null,"Fldpln LB",{"$f":"IF(OR($B$13=\"\",$B$14=\"\",$C$13=\"\",$C$14=\"\"),\"\",($C$14-$C$13)/($B$14-$B$13))","v":-1.7878787878787984E-2},null,null,null,null,null,null,null,null,null,null,null,null,null,null,null,null,null,null,null,null,null,null,null,null,null,null,22,2.15,1.5666666666666669,7.7108646353109487,0.77108646353109489,97.059151380691105,93.925937355090014,0,0,0,0,0,0]
[null,null,null,null,null,null,null,null,null,null,null,null,null,null,null,null,null,null,"At Left Bank Top",{"$f":"IF(OR($F$25=\"\",$G$25=\"\"),\"No\",IF(MIN($U$38:$U$39)>$B$14,\"No\",IF(MAX($U$38:$U$39)<$B$14,\"No\",\"Yes\")))","v":"No"},{"$f":"$B$14","v":33},{"$f":"IF(OR($B$25=0,$B$25=180,$B$25=360),0,IF($T$11>$T$12,$G$22+((($T$11-$B$14)/ABS($M$17))/$M$19),(($T$12-$B$14)/ABS($M$17))/$M$19))","v":58.101904945995308},{"$f":"IF(V32<0,0,IF(V32>$E$22,$E$22,V32))","v":32},{"$f":"IF($T$11>$T$12,$U$11+(($V$32-$G$22)*$M$20),$U$12-($V$32*$M$20))","v":96.980772575667615},{"$f":"$C$14","v":98.59},null,"LB",{"$f":"IF(OR($B$14=\"\",$B$15=\"\",$C$14=\"\",$C$15=\"\"),\"\",($C$15-$C$14)/($B$15-$B$14))","v":-0.14095238095238133},null,null,null,null,null,null,null,null,null,null,null,null,null,null,null,null,null,null,null,null,null,null,null,null,null,null,23,2.25,1.5,7.0685834705770345,0.70685834705770345,96.993359906036659,93.993474136844128,0,0,0,0,0,0]
[null,null,null,null,null,null,null,null,null,null,null,null,null,null,null,null,null,null,"At Left Bank Toe",{"$f":"IF(OR($F$25=\"\",$G$25=\"\"),\"No\",IF(MIN($U$38:$U$39)>$B$15,\"No\",IF(MAX($U$38:$U$39)<$B$15,\"No\",\"Yes\")))","v":"Yes"},{"$f":"$B$15","v":54},{"$f":"IF(OR($B$25=0,$B$25=180,$B$25=360),0,IF($T$11>$T$12,$G$22+((($T$11-$B$15)/ABS($M$17))/$M$19),(($T$12-$B$15)/ABS($M$17))/$M$19))","v":19.542789098705654},19.542789098705654,{"$f":"IF($T$11>$T$12,$U$11+(($V$33-$G$22)*$M$20),$U$12-($V$33*$M$20))","v":96.644285082440319},{"$f":"$C$15","v":95.63},null,"Stream L",{"$f":"IF(OR($B$15=\"\",$B$16=\"\",$C$15=\"\",$C$16=\"\"),\"\",($C$16-$C$15)/($B$16-$B$15))","v":-0.11319999999999993},null,null,null,null,null,null,null,null,null,null,null,null,null,null,null,null,null,null,null,null,null,null,null,null,null,null,24,2.35,1.4333333333333333,6.4542275738750305,0.6454227573875031,96.927568431382213,94.061010918598257,0,0,0,0,0,0]
[null,null,null,null,null,null,null,null,null,null,null,null,null,null,null,null,null,null,"At Left Thalweg",{"$f":"IF(OR($F$25=\"\",$G$25=\"\"),\"No\",IF(AND(MAX($U$38:$U$39)>$B$16,MIN($U$38:$U$39)<$B$16),\"Yes\",\"No\"))","v":"No"},{"$f":"$B$16","v":79},{"$f":"IF(OR($B$25=0,$B$25=180,$B$25=360),0,IF($T$11>$T$12,$G$22+((($T$11-$B$16)/ABS($M$17))/$M$19),(($T$12-$B$16)/ABS($M$17))/$M$19))","v":-26.360920243305838},0,{"$f":"IF($T$11>$T$12,$U$11+(($V$34-$G$22)*$M$20),$U$12-($V$34*$M$20))","v":96.243704733360218},{"$f":"$C$16","v":92.8},null,"Stream R",{"$f":"IF(OR($B$17=\"\",$B$16=\"\",$C$17=\"\",$C$16=\"\"),\"\",($C$16-$C$17)/($B$16-$B$17))","v":7.3793103448275887E-2},null,null,null,null,"Case 4",null,null,null,null,null,null,null,null,null,null,"Case 4",null,null,null,null,null,null,null,null,null,null,25,2.4500000000000002,1.3666666666666665,5.8677969452049341,0.58677969452049339,96.86177695672778,94.128547700352371,0,0,0,0,0,0]
[null,null,null,null,null,null,null,null,null,null,null,null,null,null,null,null,null,null,"At Right Thalweg",{"$f":"IF(OR($F$25=\"\",$G$25=\"\"),\"No\",IF(AND(MAX($U$38:$U$39)>$B$16,MIN($U$38:$U$39)<$B$16),\"Yes\",\"No\"))","v":"No"},{"$f":"$B$16","v":79},{"$f":"IF(OR($B$25=0,$B$25=180,$B$25=360),0,IF($T$11<$T$12,$G$22+((($B$16-$T$11)/ABS($M$17))/$M$19),(($B$16-$T$12)/ABS($M$17))/$M$19))","v":58.360920243305841},32,{"$f":"IF($T$11<$T$12,$U$11+(($V$35-$G$22)*$M$20),$U$12-($V$35*$M$20))","v":96.243704733360218},{"$f":"$C$16","v":92.8},null,"RB",{"$f":"IF(OR($B$18=\"\",$B$17=\"\",$C$18=\"\",$C$17=\"\"),\"\",($C$18-$C$17)/($B$18-$B$17))","v":0.19894736842105268},null,null,null,null,null,null,"V =","VTS - (LTS,wet/hmax,up,dry*R3*(sin K2 – K2*cos K2 – 1/3*(sin K2)3)",null,null,null,null,null,null,null,null,null,"V =","VTS - (LTS,wet/hmax,up,dry*R3*(sin K2 – K2*cos K2 – 1/3*(sin K2)3)",null,null,null,null,null,null,null,26,2.5499999999999998,1.3,5.3092915845667505,0.5309291584566751,96.795985482073334,94.196084482106485,0,0,0,0,0,0]
[null,null,null,null,null,null,null,null,null,null,null,null,null,null,null,null,null,null,"At Right Bank Toe",{"$f":"IF(OR($F$25=\"\",$G$25=\"\"),\"No\",IF(MAX($U$38:$U$39)<$B$17,\"No\",IF(MIN($U$38:$U$39)>$B$17,\"No\",\"Yes\")))","v":"No"},{"$f":"$B$17","v":108},{"$f":"IF(OR($B$25=0,$B$25=180,$B$25=360),0,IF($T$11<$T$12,$G$22+((($B$17-$T$11)/ABS($M$17))/$M$19),(($B$17-$T$12)/ABS($M$17))/$M$19))","v":111.60922308003917},32,{"$f":"IF($T$11<$T$12,$U$11+(($V$36-$G$22)*$M$20),$U$12-($V$36*$M$20))","v":95.779031528427296},{"$f":"$C$17","v":94.94},null,"Fldpln RB",{"$f":"IF(OR($B$19=\"\",$B$18=\"\",$C$19=\"\",$C$18=\"\"),\"\",($C$19-$C$18)/($B$19-$B$18))","v":6.9565217391302867E-3},null,null,null,null,null,null,null,"K2 = arccos(1-hmax,up,dry/R)",null,null,null,null,null,null,null,null,null,null,"K2 = arccos(1-hmax,up,dry/R)",null,null,null,null,null,null,null,27,2.65,1.2333333333333334,4.7787114919604745,0.47787114919604745,96.730194007418902,94.2636212638606,0,0,0,0,0,0]
[null,null,null,null,null,null,null,null,null,null,null,null,null,null,null,null,null,null,"At Right Bank Top",{"$f":"IF(OR($F$25=\"\",$G$25=\"\"),\"No\",IF(MAX($U$38:$U$39)<$B$18,\"No\",IF(MIN($U$38:$U$39)>$B$18,\"No\",\"Yes\")))","v":"No"},{"$f":"$B$18","v":127},{"$f":"IF(OR($B$25=0,$B$25=180,$B$25=360),0,IF($T$11<$T$12,$G$22+((($B$18-$T$11)/ABS($M$17))/$M$19),(($B$18-$T$12)/ABS($M$17))/$M$19))","v":146.4960421799679},32,{"$f":"IF($T$11<$T$12,$U$11+(($V$37-$G$22)*$M$20),$U$12-($V$37*$M$20))","v":95.474590463126418},{"$f":"$C$18","v":98.72},null,null,null,null,null,null,null,null,null,"VTS,wet,C4",{"$f":"IF($AI$16=\"\",\"\",$AW$17-(($AI$13/$AI$12)*($AI$7^3)*(SIN($AI$16)-($AI$16*COS($AI$16))-((1/3)*(SIN($AI$16))^3))))","v":{"$error":"#DIV/0!"}},"ft3",null,null,null,null,null,null,null,null,"VTS,wet,C4",{"$f":"IF($AT$16=\"\",\"\",$AW$17-(($AT$13/$AT$12)*($AT$7^3)*(SIN($AT$16)-($AT$16*COS($AT$16))-((1/3)*(SIN($AT$16))^3))))","v":""},"ft3",null,null,null,null,null,null,28,2.75,1.1666666666666667,4.2760566673861078,0.42760566673861078,96.664402532764456,94.331158045614714,0,0,0,0,0,0]
[null,null,null,null,null,null,null,null,null,null,null,null,null,null,null,null,null,null,"Low Pt on Crown",{"$f":"IF(OR($F$25=\"\",$G$25=\"\"),\"No\",\"Yes\")","v":"Yes"},{"$f":"IF($T$38=\"No\",0,IF($U$12<=$U$11,$T$12,$T$11-($G$22*$M$19*$M$17)))","v":64.643360514234047},0,0,{"$f":"IF($T$38=\"No\",0,IF($U$12<=$U$11,$U$12,$U$11-($G$22*$M$20)))","v":96.473744239633234},{"$f":"IF($T$38=\"\",\"\",IF($U$38<$B$14,(($U$38-$B$13)*$AB$31)+$C$13,IF($U$38<$B$15,(($U$38-$B$14)*$AB$32)+$C$14,IF($U$38<$B$16,(($U$38-$B$15)*$AB$33)+$C$15,IF($U$38<$B$17,(($U$38-$B$16)*$AB$34)+$C$16,IF($U$38<$B$18,(($U$38-$B$17)*$AB$35)+$C$17,IF($U$38<$B$19,(($U$38-$B$18)*$AB$36)+$C$18)))))))","v":94.425171589788704},null,"Slope Log (ft/ft)","Slope Log Face (ft/ft)",null,null,null,null,null,null,null,null,null,null,null,null,null,null,null,null,null,null,null,null,null,null,null,null,null,null,29,2.85,1.0999999999999999,3.801327110843649,0.38013271108436492,96.598611058110009,94.398694827368828,0,0,0,0,0,0,null,null,"Max","Min","cP (ft)"]
[null,null,null,null,null,null,null,null,null,null,null,null,null,null,null,null,null,null,"High Pt on Crown","Yes",{"$f":"IF($T$39=\"No\",0,IF($U$12>$U$11,$T$12,$T$11-($G$22*$M$19*$M$17)))","v":47.215575015691925},{"$f":"IF($T$39=\"No\",0,$E$22)","v":32},32,{"$f":"IF($T$39=\"No\",0,IF($U$12>=$U$11,$U$12,$U$11-($G$22*$M$20)))","v":96.752993375581198},{"$f":"IF($T$39=\"\",\"\",IF($U$39<$B$14,(($U$39-$B$13)*$AB$31)+$C$13,IF($U$39<$B$15,(($U$39-$B$14)*$AB$32)+$C$14,IF($U$39<$B$16,(($U$39-$B$15)*$AB$33)+$C$15,IF($U$39<$B$17,(($U$39-$B$16)*$AB$34)+$C$16,IF($U$39<$B$18,(($U$39-$B$17)*$AB$35)+$C$17,IF($U$39<$B$19,(($U$39-$B$18)*$AB$36)+$C$18)))))))","v":96.586280854931047},null,null,null,null,null,null,null,null,null,"Free internet tilted cylinder calculator:",null,null,null,"http://planetcalc.com/1442/",null,null,null,null,null,null,"Free internet tilted cylinder calculator:",null,null,null,"http://planetcalc.com/1442/",null,null,null,null,30,2.95,1.0333333333333332,3.3545228223331005,0.33545228223331008,96.532819583455577,94.466231609122943,0,0,0,0,0,0,null,null,{"$f":"MAX($BS$45:$BS$245)","v":0},{"$f":"MIN($BS$45:$BS$245)","v":0},{"$f":"IF($BS$43=0,0,IF(AND($BS$39=0,$BR$39=$E$22),($BR$39+$BS$39)/2,IF($BS$39=0,$BR$39-((1/3)*($BR$39-$BS$39)),IF($BR$39=$E$22,$BR$39-((2/3)*($BR$39-$BS$39)),($BR$39+$BS$39)/2))))","v":0}]
[null,null,null,null,null,null,null,null,null,null,null,null,null,null,null,null,null,null,"Low Pt on Bottom","Yes",{"$f":"IF($T$40=\"No\",0,IF($U$13<=$U$14,$T$13,$T$14-($G$22*$M$19*$M$17)))","v":64.633854890488323},0,0,{"$f":"IF($T$40=\"No\",0,IF($U$13<=$U$14,$U$13,$U$14-($G$22*$M$20)))","v":94.47382039350488},{"$f":"IF($T$40=\"\",\"\",IF($U$40<$B$14,(($U$40-$B$13)*$AB$31)+$C$13,IF($U$40<$B$15,(($U$40-$B$14)*$AB$32)+$C$14,IF($U$40<$B$16,(($U$40-$B$15)*$AB$33)+$C$15,IF($U$40<$B$17,(($U$40-$B$16)*$AB$34)+$C$16,IF($U$40<$B$18,(($U$40-$B$17)*$AB$35)+$C$17,IF($U$40<$B$19,(($U$40-$B$18)*$AB$36)+$C$18)))))))","v":94.426247626396716},null,{"$f":"IF(OR($B$25=0,$B$25=180,$B$25=360),($U$11-$U$12)/0.001,IF($X$38=$X$39,1E-25,($U$11-$U$12)/($T$11-$T$12)))","v":-1.6023213963204105E-2},{"$f":"IF(OR($B$25=0,$B$25=180,$B$25=360),9999,IF($X$38=$X$39,1E-25,($U$12-$U$13)/($T$12-$T$13)))","v":210.39375212272836},null,null,null,null,null,null,null,null,null,null,null,null,null,null,null,null,null,null,null,null,null,null,null,null,null,null,"Total",null,null,null,{"$f":"SUM(BG10:BG39)","v":40.837213838163322},null,null,null,null,{"$f":"SUM($BL$10:$BL$39)","v":0},null,null,{"$f":"SUM($BO$10:$BO$39)","v":0.11342626641975119}]
[null,null,null,null,null,null,null,null,null,null,null,null,null,null,null,null,null,null,"High Pt on Bottom","Yes",{"$f":"IF($T$41=\"No\",0,IF($U$13>$U$14,$T$13,$T$14-($G$22*$M$19*$M$17)))","v":47.206069391946208},{"$f":"IF($T$41=\"No\",0,$E$22)","v":32},32,{"$f":"IF($T$41=\"No\",0,IF($U$13>=$U$14,$U$13,$U$14-($G$22*$M$20)))","v":94.753069529452858},{"$f":"IF($T$41=\"\",\"\",IF($U$41<$B$14,(($U$41-$B$13)*$AB$31)+$C$13,IF($U$41<$B$15,(($U$41-$B$14)*$AB$32)+$C$14,IF($U$41<$B$16,(($U$41-$B$15)*$AB$33)+$C$15,IF($U$41<$B$17,(($U$41-$B$16)*$AB$34)+$C$16,IF($U$41<$B$18,(($U$41-$B$17)*$AB$35)+$C$17,IF($U$41<$B$19,(($U$41-$B$18)*$AB$36)+$C$18)))))))","v":96.587620695230441},null,null,null,null,null,null,null,null,null,null,null,null,null,null,null,null,null,null,null,"Average",{"$f":"IF(AT42=0,0,AVERAGE(AT45:AT245))","v":0},{"$f":"IF(AU42=0,0,AVERAGE(AU45:AU245))","v":0}]
[null,null,null,null,null,null,null,null,null,null,null,null,null,null,null,null,null,null,"Low Pt on Centerline","Yes",{"$f":"IF($T$42=\"No\",0,AVERAGE($U$38,$U$40))","v":64.638607702361185},0,0,{"$f":"IF($T$42=\"No\",0,AVERAGE($X$38,$X$40))","v":95.473782316569057},{"$f":"IF($T$42=\"\",\"\",IF($U$42<$B$14,(($U$42-$B$13)*$AB$31)+$C$13,IF($U$42<$B$15,(($U$42-$B$14)*$AB$32)+$C$14,IF($U$42<$B$16,(($U$42-$B$15)*$AB$33)+$C$15,IF($U$42<$B$17,(($U$42-$B$16)*$AB$34)+$C$16,IF($U$42<$B$18,(($U$42-$B$17)*$AB$35)+$C$17,IF($U$42<$B$19,(($U$42-$B$18)*$AB$36)+$C$18)))))))","v":94.425709608092717},null,null,null,null,null,null,null,null,null,"Log Partial Area Calculations",null,null,null,null,null,null,null,null,null,"Max",{"$f":"MAX(AT45:AT245)","v":0},{"$f":"MAX(AU45:AU245)","v":0},null,null,null,"Total","Total","Total","Total","Total",null,"Total",null,"Total","Total","Average",null,"Average","Average","Average","Average","Total","Total","Total","Average","Average"]
[null,null,null,null,null,null,null,null,null,null,null,null,null,null,null,null,null,null,"High Pt on Centerline","Yes",{"$f":"IF($T$42=\"No\",0,AVERAGE($U$39,$U$41))","v":47.210822203819063},{"$f":"IF($T$43=\"No\",0,$E$22)","v":32},32,{"$f":"IF($T$42=\"No\",0,AVERAGE($X$39,$X$41))","v":95.753031452517035},{"$f":"IF($T$43=\"\",\"\",IF($U$43<$B$14,(($U$43-$B$13)*$AB$31)+$C$13,IF($U$43<$B$15,(($U$43-$B$14)*$AB$32)+$C$14,IF($U$43<$B$16,(($U$43-$B$15)*$AB$33)+$C$15,IF($U$43<$B$17,(($U$43-$B$16)*$AB$34)+$C$16,IF($U$43<$B$18,(($U$43-$B$17)*$AB$35)+$C$17,IF($U$43<$B$19,(($U$43-$B$18)*$AB$36)+$C$18)))))))","v":96.586950775080737},null,null,null,null,null,null,null,null,null,"Log Parameters",null,null,null,null,null,null,"Soil Parameters",null,null,null,null,null,null,null,null,{"$f":"SUM(AY45:AY245)","v":0},{"$f":"SUM($AZ$45:$AZ$245)","v":0},{"$f":"SUM($BA$45:$BA$245)","v":0},{"$f":"SUM($BB$45:$BB$245)","v":0},{"$f":"SUM($BC$45:$BC$245)","v":0},null,{"$f":"SUM($BE$45:$BE$245)","v":14.641189247127471},null,{"$f":"SUM($BG$45:$BG$245)","v":0},{"$f":"SUM($BH$45:$BH$245)","v":32.000000000000021},{"$f":"IF(SUM($BI$45:$BI$245)=0,0,AVERAGE($BI$45:$BI$245))","v":16},null,{"$f":"IF(SUM($BK$45:$BK$245)=0,0,AVERAGE($BK$45:$BK$245))","v":1.3063713562820324E-2},{"$f":"IF(SUM($BL$45:$BL$245)=0,0,AVERAGE($BL$45:$BL$245))","v":31.599999999999998},{"$f":"IF(SUM($BM$45:$BM$245)=0,0,AVERAGE($BM$45:$BM$245))","v":5.6366692707788433},{"$f":"IF(SUM($BN$45:$BN$245)=0,0,AVERAGE($BN$45:$BN$245))","v":0.12180017033366351},{"$f":"SUM(BO45:BO245)","v":31.120000000000022},{"$f":"SUM($BP$45:$BP$245)","v":18.720000000000013},{"$f":"SUM($BQ$45:$BQ$245)","v":12.400000000000007},{"$f":"IF(SUM($BR$45:$BR$245)=0,0,AVERAGE($BR$45:$BR$245))","v":15.520000000000001},{"$f":"IF(SUM($BS$45:$BS$245)=0,0,AVERAGE($BS$45:$BS$245))","v":0}]
[null,null,null,null,null,null,null,null,null,null,null,null,null,null,null,null,null,null,null,null,null,null,null,null,null,null,null,null,null,null,null,null,null,null,"Point","Distance","Zone","xcrown (ft)","ycrown (ft)","xbottom (ft)","ybottom (ft)","ysoil (ft)","db,dry,crown (ft)","db,sat,crown (ft)","db,crown (ft)","db,crown,bed (ft)","db,crown,bank (ft)","db,dry,bottom (ft)","db,sat,bottom (ft)","db,bottom (ft)","LT,em (ft)","Vbed,dry (ft3)","Vbed,sat (ft3)","Vbank,dry (ft3)","Vbank,sat (ft3)","hb,TS (ft)","ATSp,em (ft2)","dTSp,dry,em (ft)","ATSp,dry,em (ft2)","LT,ex (ft)","cD (ft)","hT↑bed,ex,wet (ft)","CL (ft)","cL (ft)","zT,CL↓WSE","CW","LTf,tot (ft)","LTf,bed (ft)","LTf,banks (ft)","cF (ft)","csoil (ft)"]
[null,null,null,null,null,null,null,null,null,null,null,null,null,null,null,null,null,null,null,null,null,"Log Crown and Soil Intercept",null,"Dist to Intercept","Intercept in Zone?","LW Buried?","Exposed Segment",null,null,"Large Wood Centerline",null,null,null,null,0,{"$f":"($AI45/$AI$245)*$AJ$245","v":0},{"$f":"IF(OR($C$19=\"\",$F$25=\"\",$G$25=\"\"),\"None\",IF(AL45<$B$14,\"Left Floodplain\",IF(AL45<$B$15,\"Left Bank\",IF(AL45<$B$16,\"Left Stream Bed\",IF(AL45<$B$17,\"Right Stream Bed\",IF(AL45<$B$18,\"Right Bank\",\"Right Floodplain\"))))))","v":"Left Bank"},{"$f":"MIN($U$38:$U$39)","v":47.215575015691925},{"$f":"IF($U$38<=$U$39,$X$38,$X$39)","v":96.752993375581198},{"$f":"MIN($U$40:$U$41)","v":47.206069391946208},{"$f":"IF($U$40<=$U$41,$X$40,$X$41)","v":94.753069529452858},{"$f":"IF($AL45<$B$14,(($AL45-$B$13)*$AB$31)+$C$13,IF($AL45<$B$15,(($AL45-$B$14)*$AB$32)+$C$14,IF($AL45<$B$16,(($AL45-$B$15)*$AB$33)+$C$15,IF($AL45<$B$17,(($AL45-$B$16)*$AB$34)+$C$16,IF($AL45<$B$18,(($AL45-$B$17)*$AB$35)+$C$17,IF($AL45<$B$19,(($AL45-$B$18)*$AB$36)+$C$18))))))","v":96.586280854931047},{"$f":"IF(OR($AP45<$AE$12,$AP45<=$AM45),0,IF(OR($AP45>=$AE$12,$AM45>=$AE$12),$AP45-$AM45-$AR45,$AP45-$AE$12))","v":0},{"$f":"IF($AP45<=$AM45,0,IF($AM45>=$AE$12,0,IF($AP45<=$AE$12,$AP45-$AM45,$AE$12-$AM45)))","v":0},{"$f":"IF(AP45<=AM45,0,AP45-AM45)","v":0},{"$f":"IF(OR($AS45=\"\",$AS45=0),\"\",IF(OR($AK45=\"Left Stream Bed\",$AK45=\"Right Stream Bed\"),$AS45,\"\"))","v":""},{"$f":"IF(OR($AS45=\"\",$AS45=0),\"\",IF(OR($AK45=\"Left Floodplain\",$AK45=\"Left Bank\",$AK45=\"Right Bank\",$AK45=\"Right Floodplain\"),$AS45,\"\"))","v":""},{"$f":"IF(OR($AP45<$AE$12,$AP45<=$AO45),0,IF($AO45>=$AE$12,$AP45-$AO45,$AP45-$AE$12))","v":0},{"$f":"IF($AP45<=$AO45,0,IF($AO45>=$AE$12,0,IF($AP45<=$AE$12,$AP45-$AO45,$AE$12-$AO45)))","v":1.8332113254781888},{"$f":"IF(AP45<=AO45,0,AP45-AO45)","v":1.8332113254781888},{"$f":"IF($AS45=0,0,IF(OR($AJ45=0,$AJ45=$E$22),$AJ$46/2,$AJ$46))","v":0},{"$f":"IF(OR($AK45=\"Left Stream Bed\",$AK45=\"Right Stream Bed\"),$F$22*$AQ45*$AY45,0)","v":0},{"$f":"IF(OR($AK45=\"Left Stream Bed\",$AK45=\"Right Stream Bed\"),$F$22*$AR45*$AY45,0)","v":0},{"$f":"IF(OR($AK45=\"Left Floodplain\",$AK45=\"Left Bank\",$AK45=\"Right Bank\",$AK45=\"Right Floodplain\"),$F$22*$AQ45*$AY45,0)","v":0},{"$f":"IF(OR($AK45=\"Left Floodplain\",$AK45=\"Left Bank\",$AK45=\"Right Bank\",$AK45=\"Right Floodplain\"),$F$22*$AR45*$AY45,0)","v":0},{"$f":"AX45-AS45","v":1.8332113254781888},{"$f":"$BD45*$AJ$46*ABS($M$17)","v":0.1597501515659295},{"$f":"AV45-AQ45","v":0},{"$f":"IF(OR($AJ45=0,$AJ45=$E$22),($BF45*$AJ$46/2)*ABS($M$17),$BF45*$AJ$46*ABS($M$17))","v":0},{"$f":"IF(OR($AM45<$AP45,$AO45>$AE$8),\"\",IF(OR($AJ45=0,$AJ45=$E$22),$AJ$46/2,$AJ$46))","v":0.08},{"$f":"IF($BH45=\"\",\"\",IF($BH45>0,$AJ45,\"\"))","v":0},{"$f":"IF($BH45=\"\",\"\",IF(OR(($AO45-$AP45)<0,$AO$45>=$AE$8),0,($AO45-$AP45)))","v":0},{"$f":"IF($BJ45=\"\",\"\",IF(OR($BJ45>($F$22/2),$BJ45=0),0,0.45-($BJ45*0.45/($F$22/2))))","v":0},{"$f":"IF($BK45=\"\",\"\",IF($BK45>0,$AJ45,\"\"))","v":""},{"$f":"IF($BH45=\"\",\"\",IF(OR(($AM45-$AP45)<0,$AM45>=$AE$8),\"\",($AE$8-($AM45-(($F$22/2)/$M$19)))))","v":5.4970447028045442},{"$f":"IF($BM45=\"\",\"\",(((PI()^2)/32)*($B$66^-6)*EXP(-($BM45/$F$22)/(2*($B$66^2)))))","v":0.13498926311601028},{"$f":"IF($AO45=0,0,IF($AO45>$AP45,0,IF(OR($AJ45=0,$AJ45=$E$22),$AJ$46/2,$AJ$46)))","v":0.08},{"$f":"IF(AND($BO45>0,OR($AK45=\"Left Stream Bed\",$AK45=\"Right Stream Bed\")),$BO45,0)","v":0},{"$f":"IF(AND($BO45>0,OR($AK45=\"Left Floodplain\",$AK45=\"Left Bank\",$AK45=\"Right Bank\",$AK45=\"Right Floodplain\")),$BO45,0)","v":0.08},{"$f":"IF($BO45>0,$AJ45,\"\")","v":0},{"$f":"IF($AY45>0,$AJ45,\"\")","v":""}]
[null,null,null,null,null,null,null,null,null,null,null,null,null,null,null,null,null,null,null,"Zone L (ft)","Log L (ft)","xcrown (ft)","ycrown (ft)",null,null,null,null,"Lem,crown (ft)",null,null,"x (ft)","y (ft)",null,null,1,{"$f":"($AI46/$AI$245)*$AJ$245","v":0.16},"Left Bank",{"$f":"$AL$45+ABS(AJ46*$M$19*$M$17)","v":47.302713943184635},{"$f":"AM45+((AL46-AL45)*$AA$40)","v":96.751597129901455},{"$f":"$AN$45+ABS(AJ46*$M$19*$M$17)","v":47.293208319438918},{"$f":"AO45+((AN46-AN45)*$AA$40)","v":94.751673283773115},{"$f":"IF($AL46<$B$14,(($AL46-$B$13)*$AB$31)+$C$13,IF($AL46<$B$15,(($AL46-$B$14)*$AB$32)+$C$14,IF($AL46<$B$16,(($AL46-$B$15)*$AB$33)+$C$15,IF($AL46<$B$17,(($AL46-$B$16)*$AB$34)+$C$16,IF($AL46<$B$18,(($AL46-$B$17)*$AB$35)+$C$17,IF($AL46<$B$19,(($AL46-$B$18)*$AB$36)+$C$18))))))","v":96.573998415627301},0,0,{"$f":"IF(AP46<=AM46,0,AP46-AM46)","v":0},{"$f":"IF(OR($AS46=\"\",$AS46=0),\"\",IF(OR($AK46=\"Left Stream Bed\",$AK46=\"Right Stream Bed\"),$AS46,\"\"))","v":""},{"$f":"IF(OR($AS46=\"\",$AS46=0),\"\",IF(OR($AK46=\"Left Floodplain\",$AK46=\"Left Bank\",$AK46=\"Right Bank\",$AK46=\"Right Floodplain\"),$AS46,\"\"))","v":""},{"$f":"IF(OR($AP46<$AE$12,$AP46<=$AO46),0,IF($AO46>=$AE$12,$AP46-$AO46,$AP46-$AE$12))","v":0},1.8223251318541855,1.8223251318541855,0,0,0,0,0,1.8223251318541855,{"$f":"$BD46*$AJ$46*ABS($M$17)","v":0.1588015042074713},{"$f":"AV46-AQ46","v":0},0,0.16,{"$f":"IF($BH46=\"\",\"\",IF($BH46>0,$AJ46,\"\"))","v":0.16},{"$f":"IF($BH46=\"\",\"\",IF(OR(($AO46-$AP46)<0,$AO$45>=$AE$8),0,($AO46-$AP46)))","v":0},0,"",{"$f":"IF($BH46=\"\",\"\",IF(OR(($AM46-$AP46)<0,$AM46>=$AE$8),\"\",($AE$8-($AM46-(($F$22/2)/$M$19)))))","v":5.4984409484842871},{"$f":"IF($BM46=\"\",\"\",(((PI()^2)/32)*($B$66^-6)*EXP(-($BM46/$F$22)/(2*($B$66^2)))))","v":0.13484806189251819},0.16,0,0.16,0.16,{"$f":"IF($AY46>0,$AJ46,\"\")","v":""}]
[null,null,null,null,null,null,null,null,null,null,null,null,null,null,null,null,null,null,"LB Floodplain",{"$f":"($B$14-$B$13)/ABS($M$17)/ABS($M$19)","v":60.592896331455172},{"$f":"IF(MAX($U$38:$U$39)<=$B$14,$E$22,IF($T$32=\"No\",0,$E$22-$W$32))","v":0},{"$f":"IF($U$47=0,0,IF(OR($B$25=0,$B$25=180,$B$25=360),$U$38,$U$32+(($X$32-$C$14)/($AB$31-$AA$40))))","v":0},{"$f":"IF($U$47=0,0,IF(OR($B$25=0,$B$25=180,$B$25=360),(($U$38-$B$13)*$AB$31)+$C$13,$X$32+(($V$47-$U$32)*$AA$40)))","v":0},{"$f":"IF($U$47=0,0,IF(OR($B$25=0,$B$25=180,$B$25=360),$E$22-ABS(($X$39-$W$47)/$M$20),IF(AND($U$38<=$U$39,$X$38>=$Y$38),ABS(($X$38-$W$47)/($AA$40*$M$17*$M$19)),IF(AND($U$38<=$U$39,$X$38<$Y$38),ABS($E$22-(ABS(($X$38-$W$47)/($AA$40*$M$17*$M$19)))),IF(AND($U$38>$U$39,$X$39>=$Y$39),ABS(($X$39-$W$47)/($AA$40*$M$17*$M$19)),IF(AND($U$38>=$U$39,$X$39<$Y$39),ABS($E$22-(ABS(($X$38-$W$47)/($AA$40*$M$17*$M$19))))))))))","v":0},{"$f":"IF(AND($U$47=0,$W$47=0),\"No\",IF(AND($V$47<=$B$14,$V$47>=$B$13,$V$47>=MIN($U$38:$U$39),$V$47<=MAX($U$38:$U$39),$W$47<$C$13,$X$47<=$E$22),\"Yes\",\"No\"))","v":"No"},{"$f":"IF($U$47=0,\"No\",IF($Y$47=\"Yes\",\"Partial\",IF(AND($U$47<$E$22,$X$39<$Y$39,$Y$47=\"No\",$Y$48=\"No\",$Y$49=\"No\",$Y$50=\"No\",$Y$51=\"No\",$Y$52=\"No\"),\"Yes\",IF(AND($Y$47=\"No\",$X$32>$Y$32),\"No\",\"Yes\"))))","v":"No"},{"$f":"IF($Z$47=\"Yes\",\"None\",IF(AND($Z$47=\"No\",$U$47=0),\"None\",IF($Z$47=\"No\",\"All\",IF(AND($X$39>=$Y$39,$U$39<=$U$38),\"Left\",\"Right\"))))","v":"None"},{"$f":"IF($U$47=0,0,IF($Z$47=\"No\",0,IF($Z$47=\"Yes\",$U$47,IF(OR($AA$47=\"Left\",$U$47=$E$22),$U$47-(ABS(($U$39-$V$47)/($M$17*$M$19))),$U$47-(ABS(($V$47-$B$14)/($M$17*$M$19)))))))","v":0},null,"Rootwad",{"$f":"AVERAGE(T10,T15)","v":64.638607702361185},{"$f":"AVERAGE(U10,U15)","v":95.473782316569057},null,null,2,0.32,"Left Bank",{"$f":"$AL$45+ABS(AJ47*$M$19*$M$17)","v":47.389852870677345},{"$f":"AM46+((AL47-AL46)*$AA$40)","v":96.750200884221712},47.380347246931628,{"$f":"AO46+((AN47-AN46)*$AA$40)","v":94.750277038093373},{"$f":"IF($AL47<$B$14,(($AL47-$B$13)*$AB$31)+$C$13,IF($AL47<$B$15,(($AL47-$B$14)*$AB$32)+$C$14,IF($AL47<$B$16,(($AL47-$B$15)*$AB$33)+$C$15,IF($AL47<$B$17,(($AL47-$B$16)*$AB$34)+$C$16,IF($AL47<$B$18,(($AL47-$B$17)*$AB$35)+$C$17,IF($AL47<$B$19,(($AL47-$B$18)*$AB$36)+$C$18))))))","v":96.561715976323569},0,0,0,"","",0,1.8114389382301965,1.8114389382301965,0,0,0,0,0,1.8114389382301965,0.15785285684901432,0,0,0.16,0.32,0,0,"",5.4998371941640301,{"$f":"IF($BM47=\"\",\"\",(((PI()^2)/32)*($B$66^-6)*EXP(-($BM47/$F$22)/(2*($B$66^2)))))","v":0.13470700836807303},0.16,0,0.16,0.32,""]
[{"$f":"IF($A$6=\"\",\"\",$A$6)","v":"Sample1"},{"$f":"IF($A$6=\"\",\"\",$B$6)","v":"Flow Deflection"},null,{"$f":"IF(OR($B$9=\"N/A\",$B$9=\"\"),\"\",$B$9)","v":"Stacked"},{"$f":"IF($D$48=\"\",\"\",\"Log ID\")","v":"Log ID"},{"$f":"IF($D$48=\"\",\"\",$C$9)","v":"Top#1"},null,null,null,"Page 2",null,null,null,null,null,null,null,null,"Left Bank",{"$f":"($B$15-$B$14)/ABS($M$17)/ABS($M$19)","v":38.559115847289654},{"$f":"IF(AND(MIN($U$38:$U$39)>=$B$14,MAX($U$38:$U$39)<=$B$15),$E$22,IF(AND($T$33=\"No\",$T$32=\"No\"),0,$E$22-$W$33-$U$47))","v":12.457210901294346},{"$f":"IF($U$48=0,0,IF(OR($B$25=0,$B$25=180,$B$25=360),$U$38,$U$33+(($C$15-$X$33)/($AA$40-$AB$32))))","v":45.881118661999942},{"$f":"IF($U$48=0,0,IF(OR($B$25=0,$B$25=180,$B$25=360),(($U$38-$B$14)*$AB$32)+$C$14,$X$33+(($V$48-$U$33)*$AA$40)))","v":96.774375655260954},{"$f":"IF($U$48=0,0,IF(OR($B$25=0,$B$25=180,$B$25=360),$E$22-ABS(($X$39-$W$48)/$M$20),IF(AND($U$38<=$U$39,$X$38>=$Y$38),ABS(($X$38-$W$48)/($AA$40*$M$17*$M$19)),IF(AND($U$38<=$U$39,$X$38<$Y$38),ABS($E$22-(ABS(($X$38-$W$48)/($AA$40*$M$17*$M$19)))),IF(AND($U$38>$U$39,$X$39>=$Y$39),ABS(($X$39-$W$48)/($AA$40*$M$17*$M$19)),IF(AND($U$38>=$U$39,$X$39<$Y$39),ABS($E$22-(ABS(($X$38-$W$48)/($AA$40*$M$17*$M$19))))))))))","v":2.4502598635781738},{"$f":"IF(AND($U$48=0,$W$48=0),\"No\",IF(AND($V$48<=$B$15,$V$48>=$B$14,$V$48>=MIN($U$38:$U$39),$V$48<=MAX($U$38:$U$39),$W$48<$C$14,$X$48<=$E$22),\"Yes\",\"No\"))","v":"No"},{"$f":"IF($U$48=0,\"No\",IF($Y$48=\"Yes\",\"Partial\",IF(AND($U$48<$E$22,$X$39<$Y$39,$Y$47=\"No\",$Y$48=\"No\",$Y$49=\"No\",$Y$50=\"No\",$Y$51=\"No\",$Y$52=\"No\"),\"Yes\",IF(AND($Y$48=\"No\",$X$33>$Y$33),\"No\",\"Yes\"))))","v":"No"},{"$f":"IF($Z$48=\"Yes\",\"None\",IF(AND($Z$48=\"No\",$U$48=0),\"None\",IF($Z$48=\"No\",\"All\",IF(AND($X$39>=$Y$39,$U$39<=$U$38,$AA$47<>\"Left\"),\"Left\",\"Right\"))))","v":"All"},{"$f":"IF($U$48=0,0,IF($Z$48=\"No\",0,IF($Z$48=\"Yes\",$U$48,IF(OR($U$48=$E$22,AND($AA$48=\"Left\",MIN($U$38:$U$39)>=$B$14,MAX($U$38:$U$39)>=$B$15)),$U$48-(ABS(($U$39-$V$48)/($M$17*$M$19))),IF($AA$48=\"Left\",$U$48-(ABS(($B$14-$V$48)/($M$17*$M$19))),IF(MAX($U$38:$U$39)>=$B$15,$U$48-(ABS(($V$48-$B$15)/($M$17*$M$19))),ABS(($V$48-$B$14)/($M$17*$M$19))))))))","v":0},null,"Root collar",{"$f":"AVERAGE(T11,T14)","v":63.004752811872862},{"$f":"AVERAGE(U11,U14)","v":95.499961923064177},null,null,3,0.48,"Left Bank",{"$f":"$AL$45+ABS(AJ48*$M$19*$M$17)","v":47.476991798170054},96.748804638541969,47.467486174424337,94.74888079241363,96.549433537019837,0,0,0,"","",0,1.8005527446062075,1.8005527446062075,0,0,0,0,0,1.8005527446062075,0.15690420949055736,0,0,0.16,0.48,0,0,"",5.501233439843773,0.13456610238817898,0.16,0,0.16,0.48,""]
["Vertical Force Analysis",null,null,null,null,null,null,null,null,null,null,null,null,null,null,null,null,null,"Left Stream Bed",{"$f":"($B$16-$B$15)/ABS($M$17)/ABS($M$19)","v":45.903709342011489},{"$f":"IF(AND(MIN($U$38:$U$39)>=$B$15,MAX($U$38:$U$39)<=$B$16),$E$22,IF(AND($T$34=\"No\",$T$33=\"No\"),0,IF(AND($T$33=\"Yes\",$T$34=\"No\"),$E$22-$U$48-$U$47,IF(AND($T$33=\"Yes\",$T$34=\"Yes\",$T$36=\"No\"),$E$22-$U$50-$U$48-$U$47,IF(AND($T$33=\"Yes\",$T$34=\"Yes\",$T$36=\"Yes\"),$E$22-$U$52-$U$51-$U$50-$U$48-$U$47,$E$22-$U$52-$U$51-$U$50)))))","v":19.542789098705654},{"$f":"IF($U$49=0,0,IF(OR($B$25=0,$B$25=180,$B$25=360),$U$38,$U$34+(($C$16-$X$34)/($AA$40-$AB$33))))","v":43.562475527269775},{"$f":"IF($U$49=0,0,IF(OR($B$25=0,$B$25=180,$B$25=360),(($U$38-$B$15)*$AB$33)+$C$15,$X$34+(($V$49-$U$34)*$AA$40)))","v":96.811527770313063},{"$f":"IF(OR($U$49=0,AND($C$25=0,$B$25=0),AND($C$25=0,$B$25=360),AND($C$25=0,$B$25=180)),0,IF(OR($B$25=0,$B$25=180,$B$25=360),$E$22-ABS(($X$39-$W$49)/$M$20),IF(AND($U$38<=$U$39,$X$38>=$Y$38),ABS(($X$38-$W$49)/($AA$40*$M$17*$M$19)),IF(AND($U$38<=$U$39,$X$38<$Y$38),ABS($E$22-(ABS(($X$38-$W$49)/($AA$40*$M$17*$M$19)))),IF(AND($U$38>$U$39,$X$39>=$Y$39),ABS(($X$39-$W$49)/($AA$40*$M$17*$M$19)),IF(AND($U$38>=$U$39,$X$39<$Y$39),ABS($E$22-(ABS(($X$38-$W$49)/($AA$40*$M$17*$M$19))))))))))","v":6.7076326845598544},{"$f":"IF(AND($U$49=0,$W$49=0),\"No\",IF(AND($V$49<=$B$16,$V$49>=$B$15,$V$49>=MIN($U$38:$U$39),$V$49<=MAX($U$38:$U$39),$W$49<$C$15,$X$49<=$E$22),\"Yes\",\"No\"))","v":"No"},{"$f":"IF($U$49=0,\"No\",IF($Y$49=\"Yes\",\"Partial\",IF(AND($U$49<$E$22,$X$39<$Y$39,$Y$47=\"No\",$Y$48=\"No\",$Y$49=\"No\",$Y$50=\"No\",$Y$51=\"No\",$Y$52=\"No\"),\"Yes\",IF(AND($Y$49=\"No\",$X$34>$Y$34),\"No\",\"Yes\"))))","v":"No"},{"$f":"IF($Z$49=\"Yes\",\"None\",IF(AND($Z$49=\"No\",$U$49=0),\"None\",IF($Z$49=\"No\",\"All\",IF(AND($X$39>=$Y$39,$U$39<=$U$38,$AA$48<>\"Left\"),\"Left\",\"Right\"))))","v":"All"},{"$f":"IF($U$49=0,0,IF($Z$49=\"No\",0,IF($Z$49=\"Yes\",$U$49,IF(OR($U$49=$E$22,AND($AA$49=\"Left\",MIN($U$38:$U$39)>=$B$15,MAX($U$38:$U$39)>=$B$16)),$U$49-(ABS(($U$39-$V$49)/($M$17*$M$19))),IF($AA$49=\"Left\",$U$49-(ABS(($B$15-$V$49)/($M$17*$M$19))),IF(MAX($U$38:$U$39)>=$B$16,$U$49-(ABS(($V$49-$B$16)/($M$17*$M$19))),ABS(($V$49-$B$15)/($M$17*$M$19))))))))","v":0},null,"Stem tip",{"$f":"AVERAGE(T12,T13)","v":47.210822203819063},{"$f":"AVERAGE(U12,U13)","v":95.753031452517035},null,null,4,0.64,"Left Bank",47.564130725662764,96.747408392862226,47.554625101917054,94.747484546733887,96.537151097716105,0,0,0,"","",0,1.7896665509822185,1.7896665509822185,0,0,0,0,0,1.7896665509822185,0.15595556213210038,0,0,0.16,0.64,0,0,"",5.5026296855235159,0.13442534379850188,0.16,0,0.16,0.64,""]
["Net Buoyancy Force",null,null,null,null,null,null,"Lift Force",null,null,null,null,null,null,null,null,null,null,"Right Stream Bed",{"$f":"($B$17-$B$16)/ABS($M$17)/ABS($M$19)","v":53.24830283673333},{"$f":"IF(AND(MIN($U$38:$U$39)>=$B$16,MAX($U$38:$U$39)<=$B$17),$E$22,IF(AND($T$35=\"No\",$T$36=\"No\"),0,IF(AND($T$36=\"Yes\",$T$35=\"No\"),$E$22-$U$51-$U$52,IF(AND($T$36=\"Yes\",$T$35=\"Yes\"),$E$22-$W$35-$U$51-$U$52,$E$22-$W$35))))","v":0},{"$f":"IF($U$50=0,0,IF(OR($B$25=0,$B$25=180,$B$25=360),$U$38,$U$35+(($X$35-$C$16)/($AB$34-$AA$40))))","v":0},{"$f":"IF($U$50=0,0,IF(OR($B$25=0,$B$25=180,$B$25=360),(($U$38-$B$16)*$AB$34)+$C$16,$X$35+(($V$50-$U$35)*$AA$40)))","v":0},{"$f":"IF(OR($U$50=0,AND($C$25=0,$B$25=0),AND($C$25=0,$B$25=360),AND($C$25=0,$B$25=180)),0,IF(OR($B$25=0,$B$25=180,$B$25=360),$E$22-ABS(($X$39-$W$50)/$M$20),IF(AND($U$38<=$U$39,$X$38>=$Y$38),ABS(($X$38-$W$50)/($AA$40*$M$17*$M$19)),IF(AND($U$38<=$U$39,$X$38<$Y$38),ABS($E$22-(ABS(($X$38-$W$50)/($AA$40*$M$17*$M$19)))),IF(AND($U$38>$U$39,$X$39>=$Y$39),ABS(($X$39-$W$50)/($AA$40*$M$17*$M$19)),IF(AND($U$38>=$U$39,$X$39<$Y$39),ABS($E$22-(ABS(($X$38-$W$50)/($AA$40*$M$17*$M$19))))))))))","v":0},{"$f":"IF(AND($U$50=0,$W$50=0),\"No\",IF(AND($V$50<=$B$17,$V$50>=$B$16,$V$50>=MIN($U$38:$U$39),$V$50<=MAX($U$38:$U$39),$W$50<$C$17,$X$50<=$E$22),\"Yes\",\"No\"))","v":"No"},{"$f":"IF($U$50=0,\"No\",IF($Y$50=\"Yes\",\"Partial\",IF(AND($U$50<$E$22,$X$39<$Y$39,$Y$47=\"No\",$Y$48=\"No\",$Y$49=\"No\",$Y$50=\"No\",$Y$51=\"No\",$Y$52=\"No\"),\"Yes\",IF(AND($Y$50=\"No\",$X$35>$Y$35),\"No\",\"Yes\"))))","v":"No"},{"$f":"IF($Z$50=\"Yes\",\"None\",IF(AND($Z$50=\"No\",$U$50=0),\"None\",IF($Z$50=\"No\",\"All\",IF(AND($X$39>=$Y$39,$U$39>=$U$38,$AA$51<>\"Right\"),\"Right\",\"Left\"))))","v":"None"},{"$f":"IF($U$50=0,0,IF($Z$50=\"No\",0,IF($Z$50=\"Yes\",$U$50,IF(OR($U$50=$E$22,AND($AA$50=\"Right\",MIN($U$38:$U$39)<=$B$16,MAX($U$38:$U$39)<=$B$17)),$U$50-(ABS(($U$39-$V$50)/($M$17*$M$19))),IF($AA$50=\"Right\",$U$50-(ABS(($B$17-$V$50)/($M$17*$M$19))),IF(MIN($U$38:$U$39)<=$B$16,$U$50-(ABS(($V$50-$B$16)/($M$17*$M$19))),ABS(($V$50-$B$17)/($M$17*$M$19))))))))","v":0},null,null,null,null,null,null,5,0.8,"Left Bank",47.651269653155481,96.746012147182483,47.641764029409764,94.746088301054144,96.524868658412373,0,0,0,"","",0,1.7787803573582295,1.7787803573582295,0,0,0,0,0,1.7787803573582295,0.15500691477364337,0,0,0.16,0.8,0,0,"",5.5040259312032589,0.13428473244486863,0.16,0,0.16,0.8,""]
["Wood","VTS (ft3)","VRW (ft3)","VT (ft3)","WT (lbf)","FB (lbf)",null,"CLT",{"$f":"$BK$43","v":1.3063713562820324E-2},null,null,null,null,{"$f":"IF(OR($D$22=\"\",$D$22=\"No\"),\"\",\"Rootwad Position\")","v":"Rootwad Position"},null,null,null,null,"Right Bank",{"$f":"($B$18-$B$17)/ABS($M$17)/ABS($M$19)","v":34.886819099928736},{"$f":"IF(AND(MIN($U$38:$U$39)>=$B$17,MAX($U$38:$U$39)<=$B$18),$E$22,IF(AND($T$36=\"No\",$T$37=\"No\"),0,$E$22-$W$36-$U$52))","v":0},{"$f":"IF($U$51=0,0,IF(OR($B$25=0,$B$25=180,$B$25=360),$U$38,$U$36+(($X$36-$C$17)/($AB$35-$AA$40))))","v":0},{"$f":"IF($U$51=0,0,IF(OR($B$25=0,$B$25=180,$B$25=360),(($U$38-$B$17)*$AB$35)+$C$17,$X$36+(($V$51-$U$36)*$AA$40)))","v":0},{"$f":"IF($U$51=0,0,IF(OR($B$25=0,$B$25=180,$B$25=360),$E$22-ABS(($X$39-$W$51)/$M$20),IF(AND($U$38<=$U$39,$X$38>=$Y$38),ABS(($X$38-$W$51)/($AA$40*$M$17*$M$19)),IF(AND($U$38<=$U$39,$X$38<$Y$38),ABS($E$22-(ABS(($X$38-$W$51)/($AA$40*$M$17*$M$19)))),IF(AND($U$38>$U$39,$X$39>=$Y$39),ABS(($X$39-$W$51)/($AA$40*$M$17*$M$19)),IF(AND($U$38>=$U$39,$X$39<$Y$39),ABS($E$22-(ABS(($X$38-$W$51)/($AA$40*$M$17*$M$19))))))))))","v":0},{"$f":"IF(AND($U$51=0,$W$51=0),\"No\",IF(AND($V$51<=$B$18,$V$51>=$B$17,$V$51>=MIN($U$38:$U$39),$V$51<=MAX($U$38:$U$39),$W$51<$C$18,$X$51<=$E$22),\"Yes\",\"No\"))","v":"No"},{"$f":"IF($U$51=0,\"No\",IF($Y$51=\"Yes\",\"Partial\",IF(AND($U$51<$E$22,$X$39<$Y$39,$Y$47=\"No\",$Y$48=\"No\",$Y$49=\"No\",$Y$50=\"No\",$Y$51=\"No\",$Y$52=\"No\"),\"Yes\",IF(AND($Y$51=\"No\",$X$36>$Y$36),\"No\",\"Yes\"))))","v":"No"},{"$f":"IF($Z$51=\"Yes\",\"None\",IF(AND($Z$51=\"No\",$U$51=0),\"None\",IF($Z$51=\"No\",\"All\",IF(AND($X$39>=$Y$39,$U$39>=$U$38,$AA$52<>\"Right\"),\"Right\",\"Left\"))))","v":"None"},{"$f":"IF($U$51=0,0,IF($Z$51=\"No\",0,IF($Z$51=\"Yes\",$U$51,IF(OR($U$51=$E$22,AND($AA$51=\"Right\",MIN($U$38:$U$39)<=$B$17,MAX($U$38:$U$39)<=$B$18)),$U$51-(ABS(($U$39-$V$51)/($M$17*$M$19))),IF($AA$51=\"Right\",$U$51-(ABS(($B$18-$V$51)/($M$17*$M$19))),IF(MIN($U$38:$U$39)<=$B$17,$U$51-(ABS(($V$51-$B$17)/($M$17*$M$19))),ABS(($V$51-$B$18)/($M$17*$M$19))))))))","v":0},null,null,null,null,null,null,6,0.96,"Left Bank",47.738408580648191,96.74461590150274,47.728902956902473,94.744692055374401,96.512586219108627,0,0,0,"","",0,1.7678941637342263,1.7678941637342263,0,0,0,0,0,1.7678941637342263,0.15405826741518516,0,0,0.16,0.96,0,0,"",5.5054221768830018,0.13414426817326774,0.16,0,0.16,0.96,""]
["↑WSE",{"$f":"IF(OR($E$22=\"\",$F$22=\"\"),0,IF($AH$17=\"Case 1\",$AL$17-$AJ$21,IF($AH$17=\"Case 2\",$AL$17-$AJ$26,IF($AH$17=\"Case 3\",$AL$17-$AJ$30,IF($AH$17=\"Case 4\",$AL$17-$AJ$37,IF($AH$17=\"Log is completely submerged\",0,IF($AH$17=\"Stem is dry\",PI()*(($F$22/2)^2)*($E$22-$G$22),\"\")))))))","v":0},{"$f":"IF(OR($E$22=\"\",$F$22=\"\",$D$22=\"No\",$D$22=\"\"),0,$BL$40*(1-RWporosity))","v":0},{"$f":"B52+C52","v":0},{"$f":"IF($I$22=\"\",0,($B$52*$I$22)+($C$52*$I$22))","v":0},0,null,"FL (lbf)",{"$f":"IF($J$6=\"\",0,$I$51*$J$25*SWWater*(($J$6^2)/(2*g)))","v":11.807154350250796},null,null,null,null,{"$f":"IF($D$22=\"\",\"\",IF($D$22=\"No\",\"No Rootwad\",IF($U$15>=$AE$8,\"Above high water\",IF($U$10<=$C$16,\"Buried in bed\",IF(OR($AE$48<=$B$14,$AE$48>=$B$18),\"On bank/buried in bank\",\"Exposed in stream\")))))","v":"Exposed in stream"},null,null,null,null,"RB Floodplain",{"$f":"($B$19-$B$18)/ABS($M$17)/ABS($M$19)","v":42.231412594650578},{"$f":"IF(MIN($U$38:$U$39)>=$B$18,$E$22,IF($T$37=\"No\",0,$E$22-$W$37))","v":0},{"$f":"IF($U$52=0,0,IF(OR($B$25=0,$B$25=180,$B$25=360),$U$38,$U$37+(($X$37-$C$18)/($AB$36-$AA$40))))","v":0},{"$f":"IF($U$52=0,0,IF(OR($B$25=0,$B$25=180,$B$25=360),(($U$38-$B$18)*$AB$36)+$C$18,$X$37+(($V$52-$U$37)*$AA$40)))","v":0},{"$f":"IF($U$52=0,0,IF(OR($B$25=0,$B$25=180,$B$25=360),$E$22-ABS(($X$39-$W$52)/$M$20),IF(AND($U$38<=$U$39,$X$38>=$Y$38),ABS(($X$38-$W$52)/($AA$40*$M$17*$M$19)),IF(AND($U$38<=$U$39,$X$38<$Y$38),ABS($E$22-(ABS(($X$38-$W$52)/($AA$40*$M$17*$M$19)))),IF(AND($U$38>$U$39,$X$39>=$Y$39),ABS(($X$39-$W$52)/($AA$40*$M$17*$M$19)),IF(AND($U$38>=$U$39,$X$39<$Y$39),ABS($E$22-(ABS(($X$38-$W$52)/($AA$40*$M$17*$M$19))))))))))","v":0},{"$f":"IF(AND($U$52=0,$W$52=0),\"No\",IF(AND($V$52<=$B$19,$V$52>=$B$18,$V$52>=MIN($U$38:$U$39),$V$52<=MAX($U$38:$U$39),$W$52<$C$19,$X$52<=$E$22),\"Yes\",\"No\"))","v":"No"},{"$f":"IF($U$52=0,\"No\",IF($Y$52=\"Yes\",\"Partial\",IF(AND($U$52<$E$22,$X$39<$Y$39,$Y$47=\"No\",$Y$48=\"No\",$Y$49=\"No\",$Y$50=\"No\",$Y$51=\"No\",$Y$52=\"No\"),\"Yes\",IF(AND($Y$52=\"No\",$X$37>$Y$37),\"No\",\"Yes\"))))","v":"No"},{"$f":"IF($Z$52=\"Yes\",\"None\",IF(AND($Z$52=\"No\",$U$52=0),\"None\",IF($Z$52=\"No\",\"All\",IF(AND($X$39>=$Y$39,$U$39>=$U$38),\"Right\",\"Left\"))))","v":"None"},{"$f":"IF($U$52=0,0,IF($Z$52=\"No\",0,IF($Z$52=\"Yes\",$U$52,IF(OR($AA$52=\"Right\",$U$52=$E$22),$U$52-(ABS(($U$39-$V$52)/($M$17*$M$19))),$U$52-(ABS(($V$52-$B$18)/($M$17*$M$19)))))))","v":0},null,null,null,null,null,null,7,1.1200000000000001,"Left Bank",47.8255475081409,96.743219655822998,47.816041884395183,94.743295809694658,96.500303779804895,0,0,0,"","",0,1.7570079701102372,1.7570079701102372,0,0,0,0,0,1.7570079701102372,0.15310962005672818,0,0,0.16,1.1200000000000001,0,0,"",5.5068184225627448,0.13400395082984881,0.16,0,0.16,1.1200000000000001,""]
["↓WS↑Thw",{"$f":"IF(OR($E$22=\"\",$F$22=\"\"),0,IF(AND(MIN($U$10:$U$15)>=$C$16,MAX($U$10:$U$15)<=$AE$8),PI()*(($F$22/2)^2)*($E$22-$G$22),(PI()*(($F$22/2)^2)*($E$22-$G$22))-$B$52-$B$54))","v":91.106186954104004},{"$f":"IF(OR($F$22=\"\",$D$22=\"No\"),0,((1/3)*PI()*(($H$22/2)^2+($F$22/2)^2+(($H$22/2)*($F$22/2)))*$G$22*(1-RWporosity))-$C$52-$C$54)","v":32.581822584198051},{"$f":"B53+C53","v":123.68800953830205},{"$f":"IF($I$22=\"\",0,($B$53*$I$22)+($C$53*$I$22))","v":4322.1538053064269},{"$f":"($D$53*SWWater)","v":7718.1317951900483},null,"Vertical Force Balance",null,null,null,"Formatting",null,null,null,null,null,null,null,"L check",{"$f":"SUM(U47:U52)","v":32},{"$f":"IF($U$53=$E$22,\"OK\",\"ERROR\")","v":"OK"},null,null,null,null,"Total",{"$f":"SUM(AB47:AB52)","v":0},null,null,null,null,null,null,8,1.28,"Left Bank",47.91268643563361,96.741823410143255,47.903180811887893,94.741899564014915,96.488021340501163,0,0,0,"","",0,1.7461217764862482,1.7461217764862482,0,0,0,0,0,1.7461217764862482,0.15216097269827122,0,0,0.16,1.28,0,0,"",5.5082146682424877,0.13386378026092219,0.16,0,0.16,1.28,""]
["↓Thalweg",{"$f":"IF(OR($E$22=\"\",$F$22=\"\"),0,IF($AS$17=\"Case 1\",$AU$21,IF($AS$17=\"Case 2\",$AU$26,IF($AS$17=\"Case 3\",$AU$30,IF($AS$17=\"Case 4\",$AU$37,IF($AS$17=\"Log is completely submerged\",PI()*(($F$22/2)^2)*($E$22-$G$22),IF($AS$17=\"Stem is dry\",0,\"\")))))))","v":0},{"$f":"IF(OR($E$22=\"\",$F$22=\"\",$D$22=\"No\",$D$22=\"\"),0,$BO$40*(1-RWporosity))","v":9.0741013135800963E-2},{"$f":"B54+C54","v":9.0741013135800963E-2},{"$f":"IF($J$22=\"\",0,($B$54*$J$22)+($C$54*$J$22))","v":3.5388995122962377},{"$f":"($D$54*SWWater)","v":5.6622392196739799},null,"FB (lbf)",{"$f":"$F$55","v":7723.7940344097224},{"$f":"IF($L54=0,\"\",IF($L54>0,CHAR(233),CHAR(234)))","v":"é"},null,{"$f":"$F$55","v":7723.7940344097224},null,"check:",{"$f":"IF(OR($D$22=\"\",$B$25=\"\",$N$52=\"\"),\"\",IF($D$22=\"No\",\"use CD stem\",IF(AND($D$22=\"Yes\",$N$52=\"Exposed in stream\"),\"use CD RW\",\"use CD stem\")))","v":"use CD RW"},null,null,null,null,null,null,null,null,null,null,null,null,null,null,null,null,null,null,null,9,1.44,"Left Bank",47.99982536312632,96.740427164463512,47.990319739380602,94.740503318335172,96.475738901197431,0,0,0,"","",0,1.7352355828622592,1.7352355828622592,0,0,0,0,0,1.7352355828622592,0.15121232533981424,0,0,0.16,1.44,0,0,"",5.5096109139222307,0.1337237563129593,0.16,0,0.16,1.44,""]
["Total",{"$f":"$B$52+$B$53+$B$54","v":91.106186954104004},{"$f":"$C$52+$C$53+$C$54","v":32.672563597333848},{"$f":"$D$52+$D$53+$D$54","v":123.77875055143785},{"$f":"$E$52+$E$53+$E$54","v":4325.6927048187235},{"$f":"$F$53+$F$54+$F$52","v":7723.7940344097224},null,"FL (lbf)",{"$f":"$I$52","v":11.807154350250796},"é",null,{"$f":"$I$52","v":11.807154350250796},null,"CDi for Stem Only (i.e., RW is not in contact with streamflow)",null,null,null,null,"Coordinates of Large Wood Bottom at Key Points",null,null,null,null,null,null,null,null,null,null,null,null,null,null,null,10,1.6,"Left Bank",48.086964290619029,96.739030918783769,48.077458666873312,94.739107072655429,96.463456461893699,0,0,0,"","",0,1.7243493892382702,1.7243493892382702,0,0,0,0,0,1.7243493892382702,0.15026367798135723,0,0,0.16,1.6,0,0,"",5.5110071596019736,0.13358387883259165,0.16,0,0.16,1.6,""]
[null,null,null,null,null,null,null,"WT (lbf)",{"$f":"$E$55","v":4325.6927048187235},"ê",null,{"$f":"-$E$55","v":-4325.6927048187235},null,"Adjusted q (deg)","CDi Stem only1",null,null,null,null,"Wood Present?","Large Wood Parameters",null,null,null,"Soil",null,null,null,null,null,null,null,null,null,11,1.76,"Left Bank",48.174103218111739,96.737634673104026,48.164597594366022,94.737710826975686,96.451174022589967,0,0,0,"","",0,1.7134631956142812,1.7134631956142812,0,0,0,0,0,1.7134631956142812,0.14931503062290027,0,0,0.16,1.76,0,0,"",5.5124034052817166,0.13344414766661158,0.16,0,0.16,1.76,""]
["Soil Ballast Force",null,null,null,null,null,null,"Fsoil (lbf)",{"$f":"$E$61","v":0},"",null,{"$f":"-$E$61","v":0},null,{"$f":"IF(OR($O$54=\"\",$O$54=\"use CD RW\"),\"\",IF($B$25<-180,\"Error\",IF($B$25<-90,$B$25+180,IF($B$25<0,-$B$25,IF($B$25<=90,$B$25,IF($B$25<=180,180-$B$25,IF($B$25<=270,$B$25-180,IF($B$25<=360,360-$B$25,\"Error\"))))))))","v":""},{"$f":"IF($O$54=\"use CD stem\",(1.1173-((5.28*10^-2)*$N$57)+((1.4385*10^-3)*$N$57^2)-((9.7668*10^-6)*$N$57^3)),\"\")","v":""},null,null,null,null,null,"xTS (ft)","Dist (ft)","Adjusted Dist (ft)","yTS (ft)","ysoil (ft)",null,null,null,null,null,null,null,null,null,12,1.92,"Left Bank",48.261242145604449,96.736238427424283,48.251736521858732,94.736314581295943,96.438891583286221,0,0,0,"","",0,1.7025770019902779,1.7025770019902779,0,0,0,0,0,1.7025770019902779,0.14836638326444207,0,0,0.16,1.92,0,0,"",5.5137996509614595,0.13330456266197166,0.16,0,0.16,1.92,""]
["Soil","Vdry (ft3)","Vsat (ft3)","Vsoil (ft3)","Fsoil (lbf)",null,null,"FW,V (lbf)",{"$f":"ABS($L$99)","v":7277.7090783212361},{"$f":"IF($L58=0,\"\",IF($L58>0,CHAR(233),CHAR(234)))","v":"ê"},null,{"$f":"$L$99","v":-7277.7090783212361},"Flex","1Applies Gippel et al (1996) Formula:",null,null,null,null,"At Left Bank Top",{"$f":"IF(OR($F$25=\"\",$G$25=\"\"),\"No\",IF(MIN($U$40:$U$41)>$B$14,\"No\",IF(MAX($U$40:$U$41)<$B$14,\"No\",\"Yes\")))","v":"No"},{"$f":"$B$14","v":33},{"$f":"IF(OR($B$25=0,$B$25=180,$B$25=360),0,IF($T$14>$T$13,$G$22+((($T$14-$B$14)/ABS($M$17))/$M$19),(($T$13-$B$14)/ABS($M$17))/$M$19))","v":58.084451210413789},{"$f":"IF(V58<0,0,IF(V58>$E$22,$E$22,V58))","v":32},{"$f":"IF($T$14>$T$13,$U$14+(($V$58-$G$22)*$M$20),$U$13-($V$58*$M$20))","v":94.980696418896116},{"$f":"$C$14","v":98.59},null,null,null,null,null,null,null,null,null,13,2.08,"Left Bank",48.348381073097165,96.73484218174454,48.338875449351448,94.7349183356162,96.426609143982489,0,0,0,"","",0,1.6916908083662889,1.6916908083662889,0,0,0,0,0,1.6916908083662889,0.14741773590598509,0,0,0.16,2.08,0,0,"",5.5151958966412025,0.13316512366578442,0.16,0,0.16,2.08,""]
["Bed",{"$f":"IF(AND($H$28=\"\",$H$29=\"\"),0,$AZ$43)","v":0},{"$f":"IF(AND($H$28=\"\",$H$29=\"\"),0,$BA$43)","v":0},{"$f":"B59+C59","v":0},{"$f":"IF(OR($D$28=\"\",$E$28=\"\"),0,($B$59*$D$28)+($C$59*$E$28))","v":0},null,null,"FA,V (lbf)",{"$f":"ABS($L$59)+ABS($M$59)","v":0},{"$f":"IF(($L59+M59)=0,\"\",IF(($L59+M59)>0,CHAR(233),CHAR(234)))","v":""},null,{"$f":"$L$86","v":0},{"$f":"$L$92","v":0},"CDi = 1.1173 - (5.2800*10-2) q + (1.4385*10-3) q2 - (9.7668*10-6) q3",null,null,null,null,"At Left Bank Toe",{"$f":"IF(OR($F$25=\"\",$G$25=\"\"),\"No\",IF(MIN($U$40:$U$41)>$B$15,\"No\",IF(MAX($U$40:$U$41)<$B$15,\"No\",\"Yes\")))","v":"Yes"},{"$f":"$B$15","v":54},{"$f":"IF(OR($B$25=0,$B$25=180,$B$25=360),0,IF($T$14>$T$13,$G$22+((($T$14-$B$15)/ABS($M$17))/$M$19),(($T$13-$B$15)/ABS($M$17))/$M$19))","v":19.525335363124139},19.525335363124139,{"$f":"IF($T$14>$T$13,$U$14+(($V$59-$G$22)*$M$20),$U$13-($V$59*$M$20))","v":94.644208925668835},{"$f":"$C$15","v":95.63},null,null,null,null,null,null,null,null,null,14,2.2400000000000002,"Left Bank",48.435520000589875,96.733445936064797,48.426014376844158,94.733522089936457,96.414326704678757,0,0,0,"","",0,1.6808046147422999,1.6808046147422999,0,0,0,0,0,1.6808046147422999,0.1464690885475281,0,0,0.16,2.2400000000000002,0,0,"",5.5165921423209454,0.13302583052532249,0.16,0,0.16,2.2400000000000002,""]
["Bank",{"$f":"IF(AND($H$28=\"\",$H$29=\"\"),0,$BB$43)","v":0},{"$f":"IF(AND($H$28=\"\",$H$29=\"\"),0,$BC$43)","v":0},{"$f":"B60+C60","v":0},{"$f":"IF(OR($D$29=\"\",$E$29=\"\"),0,($B$60*$D$29)+($C$60*$E$29))","v":0},null,null,"S FV (lbf)",{"$f":"ABS($L$60)","v":3867.8005943799863},"ê","Additional resisting force (lbf) needed:",{"$f":"$L$54+$L$55+$L$56+$L$57+$L$58+$L$59+$M$59","v":-3867.8005943799863},null,null,null,null,null,null,"At Left Thalweg",{"$f":"IF(OR($F$25=\"\",$G$25=\"\"),\"No\",IF(AND(MAX($U$40:$U$41)>$B$16,MIN($U$40:$U$41)<$B$16),\"Yes\",\"No\"))","v":"No"},{"$f":"$B$16","v":79},{"$f":"IF(OR($B$25=0,$B$25=180,$B$25=360),0,IF($T$14>$T$13,$G$22+((($T$14-$B$16)/ABS($M$17))/$M$19),(($T$13-$B$16)/ABS($M$17))/$M$19))","v":-26.378373978887357},0,{"$f":"IF($T$14>$T$13,$U$14+(($V$60-$G$22)*$M$20),$U$13-($V$60*$M$20))","v":94.243628576588733},{"$f":"$C$16","v":92.8},null,null,null,null,null,null,null,null,null,15,2.4,"Left Bank",48.522658928082585,96.732049690385054,48.513153304336868,94.732125844256714,96.402044265375025,0,0,0,"","",0,1.6699184211183109,1.6699184211183109,0,0,0,0,0,1.6699184211183109,0.14552044118907112,0,0,0.16,2.4,0,0,"",5.5179883880006884,0.13288668308801785,0.16,0,0.16,2.4,""]
["Total",{"$f":"$B$59+$B$60","v":0},{"$f":"$C$59+$C$60","v":0},{"$f":"$D$59+$D$60","v":0},{"$f":"$E$59+$E$60","v":0},null,null,"FSV",{"$f":"IF(OR($E$22=\"\",$F$22=\"\",$F$25=\"\",$G$25=\"\"),0,IF($L$58>=0,($I$56+$I$57+$I$59)/($I$54+$I$55+$I$58),($I$56+$I$57+$I$58+$I$59)/($I$54+$I$55)))","v":1.5},{"$f":"$I$61-$L$61","v":0},{"$f":"IF(AND($F$25=\"\",$G$25=\"\"),\"\",IF($I$61>=$L$61,\"Structure is Vertically Stable\",IF(AND($I$61<$L$61,$L$58>=0),$L$61*($L$54+$L$55+$L$58)-(-$L$56-$L$57-$L$59-$M$59),IF(AND($I$61<$L$61,$L$58<0),$L$61*($L$54+$L$55)-(-$L$56-$L$57-$L$59-$M$59-$L$58),\"\"))))","v":"Structure is Vertically Stable"},{"$f":"'2-Constants'!$C$5","v":1.5},null,"CD Stem with Exposed RW Lookup Table",null,null,null,null,"At Right Thalweg",{"$f":"IF(OR($F$25=\"\",$G$25=\"\"),\"No\",IF(AND(MAX($U$40:$U$41)>$B$16,MIN($U$40:$U$41)<$B$16),\"Yes\",\"No\"))","v":"No"},{"$f":"$B$16","v":79},{"$f":"IF(OR($B$25=0,$B$25=180,$B$25=360),0,IF($T$14<$T$13,$G$22+((($B$16-$T$14)/ABS($M$17))/$M$19),(($B$16-$T$13)/ABS($M$17))/$M$19))","v":58.37837397888736},32,{"$f":"IF($T$14<$T$13,$U$14+(($V$61-$G$22)*$M$20),$U$13-($V$61*$M$20))","v":94.243628576588748},{"$f":"$C$16","v":92.8},null,null,null,null,null,null,null,null,null,16,2.56,"Left Bank",48.609797855575295,96.730653444705311,48.600292231829577,94.730729598576971,96.389761826071293,0,0,0,"","",0,1.6590322274943219,1.6590322274943219,0,0,0,0,0,1.6590322274943219,0.14457179383061414,0,0,0.16,2.56,0,0,"",5.5193846336804313,0.13274768120146252,0.16,0,0.16,2.56,""]
[null,null,null,null,null,null,null,null,null,null,{"$f":"IF($K$61<>\"Structure is Vertically Stable\",\"\",IF($K$61=\"Structure is Vertically Stable\",IF($L$58>=0,($I$56+$I$57+$I$59)-(($I$58+$I$54+$I$55)*$L$61),($I$56+$I$57+$I$58+$I$59)-(($I$54+$I$55)*$L$61))))","v":0},null,null,"Adjusted q (deg)","CDi Stem + RW",null,null,null,"At Right Bank Toe",{"$f":"IF(OR($F$25=\"\",$G$25=\"\"),\"No\",IF(MAX($U$40:$U$41)<$B$17,\"No\",IF(MIN($U$40:$U$41)>$B$17,\"No\",\"Yes\")))","v":"No"},{"$f":"$B$17","v":108},{"$f":"IF(OR($B$25=0,$B$25=180,$B$25=360),0,IF($T$14<$T$13,$G$22+((($B$17-$T$14)/ABS($M$17))/$M$19),(($B$17-$T$13)/ABS($M$17))/$M$19))","v":111.6266768156207},32,{"$f":"IF($T$14<$T$13,$U$14+(($V$62-$G$22)*$M$20),$U$13-($V$62*$M$20))","v":93.778955371655826},{"$f":"$C$17","v":94.94},null,null,null,null,null,null,null,null,null,17,2.72,"Left Bank",48.696936783068004,96.729257199025568,48.687431159322287,94.729333352897228,96.377479386767561,0,0,0,"","",0,1.6481460338703329,1.6481460338703329,0,0,0,0,0,1.6481460338703329,0.14362314647215715,0,0,0.16,2.72,0,0,"",5.5207808793601743,0.13260882471340776,0.16,0,0.16,2.72,""]
["Horizontal Force Analysis",null,null,null,null,null,null,null,null,null,null,null,null,{"$f":"IF(OR($O$54=\"\",$O$54=\"use CD stem\"),\"\",IF(OR($B$25<-180,$B$25>360),\"Error\",IF($B$25>180,360-$B$25,IF($B$25<0,-$B$25,$B$25))))","v":33},{"$f":"IF(OR($O$54=\"\",$O$54=\"use CD stem\"),\"\",IF($B$25<22.5,(($B$25/22.5)*($O$67-$O$66)+$O$66),IF($B$25<45,((($B$25-$N$67)/22.5)*($O$68-$O$67)+$O$67),IF($B$25<67.5,((($B$25-$N$68)/22.5)*($O$69-$O$68)+$O$68),IF($B$25<90,((($B$25-$N$69)/22.5)*($O$70-$O$69)+$O$69),IF($B$25<112.5,((($B$25-$N$70)/22.5)*($O$71-$O$70)+$O$70),IF($B$25<135,((($B$25-$N$71)/22.5)*($O$72-$O$71)+$O$71),IF($B$25<157.5,((($B$25-$N$72)/22.5)*($O$73-$O$72)+$O$72),IF($B$25<=180,((($B$25-$N$74)/22.5)*($O$74-$O$73)+$O$74),$O$74)))))))))","v":1.1893333333333334},null,null,null,"At Right Bank Top",{"$f":"IF(OR($F$25=\"\",$G$25=\"\"),\"No\",IF(MAX($U$40:$U$41)<$B$18,\"No\",IF(MIN($U$40:$U$41)>$B$18,\"No\",\"Yes\")))","v":"No"},{"$f":"$B$18","v":127},{"$f":"IF(OR($B$25=0,$B$25=180,$B$25=360),0,IF($T$14<$T$13,$G$22+((($B$18-$T$14)/ABS($M$17))/$M$19),(($B$18-$T$13)/ABS($M$17))/$M$19))","v":146.51349591554941},32,{"$f":"IF($T$14<$T$13,$U$14+(($V$63-$G$22)*$M$20),$U$13-($V$63*$M$20))","v":93.474514306354948},{"$f":"$C$18","v":98.72},null,null,null,null,null,null,null,null,null,18,2.88,"Left Bank",48.784075710560714,96.727860953345825,48.774570086814997,94.727937107217485,96.365196947463815,0,0,0,"","",0,1.6372598402463296,1.6372598402463296,0,0,0,0,0,1.6372598402463296,0.14267449911369895,0,0,0.16,2.88,0,0,"",5.5221771250399172,0.13247011347176424,0.16,0,0.16,2.88,""]
["Drag Force",null,null,null,null,null,null,null,null,null,null,null,null,null,null,null,null,null,null,null,null,null,null,null,null,null,null,null,null,null,null,null,null,null,19,3.04,"Left Bank",48.871214638053424,96.726464707666082,48.861709014307706,94.726540861537742,96.352914508160083,0,0,0,"","",0,1.6263736466223406,1.6263736466223406,0,0,0,0,0,1.6263736466223406,0.14172585175524197,0,0,0.16,3.04,0,0,"",5.5235733707196601,0.13233154732460126,0.16,0,0.16,3.04,""]
["ATp / AW","FrL","CDi","Cw","CD*","FD (lbf)",null,"Horizontal Force Balance",null,null,null,"Formatting",null,"q (deg)","CDi Stem + RW",null,null,null,null,null,null,"Log Bottom and Soil Intercept",null,"Dist to Intercept","Intercept in Zone?","LW Buried?","Exposed Segment",null,null,null,null,null,null,null,20,3.2,"Left Bank",48.958353565546133,96.725068461986339,48.948847941800423,94.725144615857999,96.340632068856351,0,0,0,"","",0,1.6154874529983516,1.6154874529983516,0,0,0,0,0,1.6154874529983516,0.14077720439678498,0,0,0.16,3.2,0,0,"",5.5249696163994031,0.13219312612014752,0.16,0,0.16,3.2,""]
[{"$f":"IF(OR($A$6=\"\",$F$6=\"\"),0,$J$25/(VLOOKUP($A$6,SiteInfo,7,0)))","v":2.6319320857511461E-2},{"$f":"IF($A$6=\"\",0,$J$6/(($F$22*g)^0.5))","v":0.57752087841792843},{"$f":"IF($O$54=\"\",0,IF($O$54=\"use CD stem\",$O$57,$O$63))","v":1.1893333333333334},{"$f":"IF(OR($BM$43=\"\",$B$25=\"\"),0,IF($BN$43>0.43,0.43,$BN$43))","v":0.12180017033366351},{"$f":"IF(OR($F$22=\"\",$B$25=\"\"),0,0.997*($C$66+$D$66)*((1-$A$66)^-2.06))","v":1.381032743726673},{"$f":"IF(OR($E$66=\"\",$J$25=\"\"),0,$E$66*$J$25*SWWater*($J$6^2)/(2*g))","v":1248.1953687608921},null,"FD (lbf)",{"$f":"IF(AND($F$66=0,$I$71>0),0.4999,$F$66)","v":1248.1953687608921},{"$f":"IF($L$66=0,\"\",IF($L66>0,CHAR(232),CHAR(231)))","v":"è"},{"$f":"IF(AND($F$66=0,$I$71>0),\"NOTE - Tool has assumed the drag force = 0.49 lbf for FS calcs\",\"\")","v":""},{"$f":"$F$66","v":1248.1953687608921},null,0,1.2,null,null,null,null,"Zone L (ft)","Log L (ft)","xbottom (ft)","ybottom (ft)",null,null,null,null,"Lem,bot (ft)",null,null,null,null,null,null,21,3.36,"Left Bank",49.04549249303885,96.723672216306596,49.035986869293133,94.723748370178257,96.328349629552619,0,0,0,"","",0,1.6046012593743626,1.6046012593743626,0,0,0,0,0,1.6046012593743626,0.139828557038328,0,0,0.16,3.36,0,0,"",5.526365862079146,0.13205484970679029,0.16,0,0.16,3.36,""]
[null,null,null,null,null,null,null,"FP (lbf)",{"$f":"$C$72","v":0},{"$f":"IF($L$67=0,\"\",IF($L67>=0,CHAR(232),CHAR(231)))","v":""},{"$f":"IF(OR($M$59=0,$M$70=0),\"\",\"NOTE -- Mechanical soil anchors and deadman boulders provide equal resistance to vertical and horizontal forces.  The model first applies these anchor forces to resist the vertical forces, and then applies the balance to resist the horizontal forces.\")","v":""},{"$f":"-$C$72","v":0},null,22.5,1.25,null,null,null,"LB Floodplain",{"$f":"($B$14-$B$13)/ABS($M$17)/ABS($M$19)","v":60.592896331455172},{"$f":"IF(MAX($U$40:$U$41)<=$B$14,$E$22,IF($T$58=\"No\",0,$E$22-$W$58))","v":0},{"$f":"IF($U$67=0,0,IF(OR($B$25=0,$B$25=180,$B$25=360),$U$40,$U$58+(($X$58-$C$14)/($AB$31-$AA$40))))","v":0},{"$f":"IF($U$67=0,0,IF(OR($B$25=0,$B$25=180,$B$25=360),(($U$40-$B$13)*$AB$31)+$C$13,$X$58+(($V$67-$U$58)*$AA$40)))","v":0},{"$f":"IF($U$67=0,0,IF(OR($B$25=0,$B$25=180,$B$25=360),$E$22-ABS(($X$41-$W$67)/$M$20),IF(AND($U$40<=$U$41,$X$40>=$Y$40),ABS(($X$40-$W$67)/($AA$40*$M$17*$M$19)),IF(AND($U$40<=$U$41,$X$40<$Y$40),ABS($E$22-(ABS(($X$40-$W$67)/($AA$40*$M$17*$M$19)))),IF(AND($U$40>$U$41,$X$41>=$Y$41),ABS(($X$41-$W$67)/($AA$40*$M$17*$M$19)),IF(AND($U$40>=$U$41,$X$41<$Y$41),ABS($E$22-(ABS(($X$40-$W$67)/($AA$40*$M$17*$M$19))))))))))","v":0},{"$f":"IF(AND($U$67=0,$W$67=0),\"No\",IF(AND($V$67<=$B$14,$V$67>=$B$13,$V$67>=MIN($U$40:$U$41),$V$67<=MAX($U$40:$U$41),$W$67<$C$13,$X$67<=$E$22),\"Yes\",\"No\"))","v":"No"},{"$f":"IF($U$67=0,\"No\",IF($Y$67=\"Yes\",\"Partial\",IF(AND($U$67<$E$22,$X$41<$Y$41,$Y$67=\"No\",$Y$68=\"No\",$Y$69=\"No\",$Y$70=\"No\",$Y$71=\"No\",$Y$72=\"No\"),\"Yes\",IF(AND($Y$67=\"No\",$X$58>$Y$58),\"No\",\"Yes\"))))","v":"No"},{"$f":"IF($Z$67=\"Yes\",\"None\",IF(AND($Z$67=\"No\",$U$67=0),\"None\",IF($Z$67=\"No\",\"All\",IF(AND($X$41>=$Y$41,$U$41<=$U$40),\"Left\",\"Right\"))))","v":"None"},{"$f":"IF($U$67=0,0,IF($Z$67=\"No\",0,IF($Z$67=\"Yes\",$U$67,IF(OR($AA$67=\"Left\",$U$67=$E$22),$U$67-(ABS(($U$41-$V$67)/($M$17*$M$19))),$U$67-(ABS(($V$67-$B$14)/($M$17*$M$19)))))))","v":0},null,null,null,null,null,null,22,3.52,"Left Bank",49.13263142053156,96.722275970626853,49.123125796785843,94.722352124498514,96.316067190248887,0,0,0,"","",0,1.5937150657503736,1.5937150657503736,0,0,0,0,0,1.5937150657503736,0.13887990967987102,0,0,0.16,3.52,0,0,"",5.527762107758889,0.13191671793307552,0.16,0,0.16,3.52,""]
["Passive Soil Pressure",null,null,"Friction Force",null,null,null,"FF (lbf)",{"$f":"$F$72","v":3362.2277612122398},{"$f":"IF($L$68=0,\"\",IF($L68>=0,CHAR(232),CHAR(231)))","v":"ç"},null,{"$f":"-$F$72","v":-3362.2277612122398},null,45,1.1200000000000001,null,null,null,"Left Bank",{"$f":"($B$15-$B$14)/ABS($M$17)/ABS($M$19)","v":38.559115847289654},{"$f":"IF(AND(MIN($U$40:$U$41)>=$B$14,MAX($U$40:$U$41)<=$B$15),$E$22,IF(AND($T$59=\"No\",$T$58=\"No\"),0,$E$22-$W$59-$U$67))","v":12.474664636875861},{"$f":"IF($U$68=0,0,IF(OR($B$25=0,$B$25=180,$B$25=360),$U$40,$U$59+(($C$15-$X$59)/($AA$40-$AB$32))))","v":61.890800027639351},{"$f":"IF($U$68=0,0,IF(OR($B$25=0,$B$25=180,$B$25=360),(($U$40-$B$14)*$AB$32)+$C$14,$X$59+(($V$68-$U$59)*$AA$40)))","v":94.517772948485117},{"$f":"IF($U$68=0,0,IF(OR($B$25=0,$B$25=180,$B$25=360),$E$22-ABS(($X$41-$W$68)/$M$20),IF(AND($U$40<=$U$41,$X$40>=$Y$40),ABS(($X$40-$W$68)/($AA$40*$M$17*$M$19)),IF(AND($U$40<=$U$41,$X$40<$Y$40),ABS($E$22-(ABS(($X$40-$W$68)/($AA$40*$M$17*$M$19)))),IF(AND($U$40>$U$41,$X$41>=$Y$41),ABS(($X$41-$W$68)/($AA$40*$M$17*$M$19)),IF(AND($U$40>=$U$41,$X$41<$Y$41),ABS($E$22-(ABS(($X$40-$W$68)/($AA$40*$M$17*$M$19))))))))))","v":26.963344274663548},{"$f":"IF(AND($U$68=0,$W$68=0),\"No\",IF(AND($V$68<=$B$15,$V$68>=$B$14,$V$68>=MIN($U$40:$U$41),$V$68<=MAX($U$40:$U$41),$W$68<$C$14,$X$68<=$E$22),\"Yes\",\"No\"))","v":"No"},{"$f":"IF($U$68=0,\"No\",IF($Y$68=\"Yes\",\"Partial\",IF(AND($U$68<$E$22,$X$41<$Y$41,$Y$67=\"No\",$Y$68=\"No\",$Y$69=\"No\",$Y$70=\"No\",$Y$71=\"No\",$Y$72=\"No\"),\"Yes\",IF(AND($Y$68=\"No\",$X$59>$Y$59),\"No\",\"Yes\"))))","v":"Yes"},{"$f":"IF($Z$68=\"Yes\",\"None\",IF(AND($Z$68=\"No\",$U$68=0),\"None\",IF($Z$68=\"No\",\"All\",IF(AND($X$41>=$Y$41,$U$41<=$U$40,$AA$67<>\"Left\"),\"Left\",\"Right\"))))","v":"None"},{"$f":"IF($U$68=0,0,IF($Z$68=\"No\",0,IF($Z$68=\"Yes\",$U$68,IF(OR($U$68=$E$22,AND($AA$68=\"Left\",MIN($U$40:$U$41)>=$B$14,MAX($U$40:$U$41)>=$B$15)),$U$68-(ABS(($U$41-$V$68)/($M$17*$M$19))),IF($AA$68=\"Left\",$U$68-(ABS(($B$14-$V$68)/($M$17*$M$19))),IF(MAX($U$40:$U$41)>=$B$15,$U$68-(ABS(($V$68-$B$15)/($M$17*$M$19))),ABS(($V$68-$B$14)/($M$17*$M$19))))))))","v":12.474664636875861},null,null,null,null,null,null,23,3.68,"Left Bank",49.219770348024269,96.72087972494711,49.210264724278552,94.720955878818771,96.303784750945141,0,0,0,"","",0,1.5828288721263704,1.5828288721263704,0,0,0,0,0,1.5828288721263704,0.13793126232141281,0,0,0.16,3.68,0,0,"",5.5291583534386319,0.13177873064770754,0.16,0,0.16,3.68,""]
["Soil","KP","FP (lbf)","LTf (ft)","m","FF (lbf)",null,"FW,H (lbf)",{"$f":"ABS($M$99)","v":1872.2930531413381},{"$f":"IF($L$69=0,\"\",IF($L69>=0,CHAR(232),CHAR(231)))","v":"ç"},null,{"$f":"$M$99","v":-1872.2930531413381},"Flex",67.5,1.22,null,null,null,"Left Stream Bed",{"$f":"($B$16-$B$15)/ABS($M$17)/ABS($M$19)","v":45.903709342011489},{"$f":"IF(AND(MIN($U$40:$U$41)>=$B$15,MAX($U$40:$U$41)<=$B$16),$E$22,IF(AND($T$60=\"No\",$T$59=\"No\"),0,IF(AND($T$59=\"Yes\",$T$60=\"No\"),$E$22-$U$68-$U$67,IF(AND($T$59=\"Yes\",$T$60=\"Yes\",$T$62=\"No\"),$E$22-$U$70-$U$68-$U$67,IF(AND($T$59=\"Yes\",$T$60=\"Yes\",$T$62=\"Yes\"),$E$22-$U$72-$U$71-$U$70-$U$68-$U$67,$E$22-$U$72-$U$71-$U$70)))))","v":19.525335363124139},{"$f":"IF($U$69=0,0,IF(OR($B$25=0,$B$25=180,$B$25=360),$U$40,$U$60+(($C$16-$X$60)/($AA$40-$AB$33))))","v":64.144306212781018},{"$f":"IF($U$69=0,0,IF(OR($B$25=0,$B$25=180,$B$25=360),(($U$40-$B$15)*$AB$33)+$C$15,$X$60+(($V$69-$U$60)*$AA$40)))","v":94.481664536713183},{"$f":"IF($U$69=0,0,IF(OR($B$25=0,$B$25=180,$B$25=360),$E$22-ABS(($X$41-$W$69)/$M$20),IF(AND($U$40<=$U$41,$X$40>=$Y$40),ABS(($X$40-$W$69)/($AA$40*$M$17*$M$19)),IF(AND($U$40<=$U$41,$X$40<$Y$40),ABS($E$22-(ABS(($X$40-$W$69)/($AA$40*$M$17*$M$19)))),IF(AND($U$40>$U$41,$X$41>=$Y$41),ABS(($X$41-$W$69)/($AA$40*$M$17*$M$19)),IF(AND($U$40>=$U$41,$X$41<$Y$41),ABS($E$22-(ABS(($X$40-$W$69)/($AA$40*$M$17*$M$19))))))))))","v":31.101115991590916},{"$f":"IF(AND($U$69=0,$W$69=0),\"No\",IF(AND($V$69<=$B$16,$V$69>=$B$15,$V$69>=MIN($U$40:$U$41),$V$69<=MAX($U$40:$U$41),$W$69<$C$15,$X$69<=$E$22),\"Yes\",\"No\"))","v":"Yes"},{"$f":"IF($U$69=0,\"No\",IF($Y$69=\"Yes\",\"Partial\",IF(AND($U$69<$E$22,$X$41<$Y$41,$Y$67=\"No\",$Y$68=\"No\",$Y$69=\"No\",$Y$70=\"No\",$Y$71=\"No\",$Y$72=\"No\"),\"Yes\",IF(AND($Y$69=\"No\",$X$60>$Y$60),\"No\",\"Yes\"))))","v":"Partial"},{"$f":"IF($Z$69=\"Yes\",\"None\",IF(AND($Z$69=\"No\",$U$69=0),\"None\",IF($Z$69=\"No\",\"All\",IF(AND($X$41>=$Y$41,$U$41<=$U$40,$AA$68<>\"Left\"),\"Left\",\"Right\"))))","v":"Right"},{"$f":"IF($U$69=0,0,IF($Z$69=\"No\",0,IF($Z$69=\"Yes\",$U$69,IF(OR($U$69=$E$22,AND($AA$69=\"Left\",MIN($U$40:$U$41)>=$B$15,MAX($U$40:$U$41)>=$B$16)),$U$69-(ABS(($U$41-$V$69)/($M$17*$M$19))),IF($AA$69=\"Left\",$U$69-(ABS(($B$15-$V$69)/($M$17*$M$19))),IF(MAX($U$40:$U$41)>=$B$16,$U$69-(ABS(($V$69-$B$16)/($M$17*$M$19))),ABS(($V$69-$B$15)/($M$17*$M$19))))))))","v":18.626451354714451},null,null,null,null,null,null,24,3.84,"Left Bank",49.306909275516979,96.719483479267367,49.297403651771262,94.719559633139028,96.291502311641409,0,0,0,"","",0,1.5719426785023813,1.5719426785023813,0,0,0,0,0,1.5719426785023813,0.13698261496295586,0,0,0.16,3.84,0,0,"",5.5305545991183749,0.13164088769954874,0.16,0,0.16,3.84,""]
["Bed",{"$f":"IF(OR($A$6=\"\",$F$6=\"\",$F$25=\"\"),0,TAN((45+($F$28/2))*PI()/180)^2)","v":4.8149513101909616},{"$f":"IF($E$61=0,0,0.5*$B$70*$E$59)","v":0},{"$f":"IF($F$28=\"\",0,IF($U$15<$AF$47,$BP$43+2,$BP$43))","v":20.720000000000013},{"$f":"IF($F$28=\"\",0,TAN($F$28*PI()/180))","v":0.86928673781622645},{"$f":"IF(OR($L$60>=0,$D$70=0),0,$I$60*$E$70*($D$70/$D$72))","v":2103.4226815313286},null,"FA,H (lbf)",{"$f":"ABS($L$70)+ABS($M$70)","v":0},{"$f":"IF(($L$70+M70)=0,\"\",IF(($L$70+M70)>=0,CHAR(232),CHAR(231)))","v":""},null,{"$f":"$M$86","v":0},{"$f":"$M$92","v":0},90,0.97,null,null,null,"Right Stream Bed",{"$f":"($B$17-$B$16)/ABS($M$17)/ABS($M$19)","v":53.24830283673333},{"$f":"IF(AND(MIN($U$40:$U$41)>=$B$16,MAX($U$40:$U$41)<=$B$17),$E$22,IF(AND($T$61=\"No\",$T$62=\"No\"),0,IF(AND($T$62=\"Yes\",$T$61=\"No\"),$E$22-$U$71-$U$72,IF(AND($T$62=\"Yes\",$T$61=\"Yes\"),$E$22-$W$61-$U$71-$U$72,$E$22-$W$61))))","v":0},{"$f":"IF($U$70=0,0,IF(OR($B$25=0,$B$25=180,$B$25=360),$U$40,$U$61+(($X$61-$C$16)/($AB$34-$AA$40))))","v":0},{"$f":"IF($U$70=0,0,IF(OR($B$25=0,$B$25=180,$B$25=360),(($U$40-$B$16)*$AB$34)+$C$16,$X$61+(($V$70-$U$61)*$AA$40)))","v":0},{"$f":"IF($U$70=0,0,IF(OR($B$25=0,$B$25=180,$B$25=360),$E$22-ABS(($X$41-$W$70)/$M$20),IF(AND($U$40<=$U$41,$X$40>=$Y$40),ABS(($X$40-$W$70)/($AA$40*$M$17*$M$19)),IF(AND($U$40<=$U$41,$X$40<$Y$40),ABS($E$22-(ABS(($X$40-$W$70)/($AA$40*$M$17*$M$19)))),IF(AND($U$40>$U$41,$X$41>=$Y$41),ABS(($X$41-$W$70)/($AA$40*$M$17*$M$19)),IF(AND($U$40>=$U$41,$X$41<$Y$41),ABS($E$22-(ABS(($X$40-$W$70)/($AA$40*$M$17*$M$19))))))))))","v":0},{"$f":"IF(AND($U$70=0,$W$70=0),\"No\",IF(AND($V$70<=$B$17,$V$70>=$B$16,$V$70>=MIN($U$40:$U$41),$V$70<=MAX($U$40:$U$41),$W$70<$C$17,$X$70<=$E$22),\"Yes\",\"No\"))","v":"No"},{"$f":"IF($U$70=0,\"No\",IF($Y$70=\"Yes\",\"Partial\",IF(AND($U$70<$E$22,$X$41<$Y$41,$Y$67=\"No\",$Y$68=\"No\",$Y$69=\"No\",$Y$70=\"No\",$Y$71=\"No\",$Y$72=\"No\"),\"Yes\",IF(AND($Y$70=\"No\",$X$61>$Y$61),\"No\",\"Yes\"))))","v":"No"},{"$f":"IF($Z$70=\"Yes\",\"None\",IF(AND($Z$70=\"No\",$U$70=0),\"None\",IF($Z$70=\"No\",\"All\",IF(AND($X$41>=$Y$41,$U$41>=$U$40,$AA$71<>\"Right\"),\"Right\",\"Left\"))))","v":"None"},{"$f":"IF($U$70=0,0,IF($Z$70=\"No\",0,IF($Z$70=\"Yes\",$U$70,IF(OR($U$70=$E$22,AND($AA$70=\"Right\",MIN($U$40:$U$41)<=$B$16,MAX($U$40:$U$41)<=$B$17)),$U$70-(ABS(($U$41-$V$70)/($M$17*$M$19))),IF($AA$70=\"Right\",$U$70-(ABS(($B$17-$V$70)/($M$17*$M$19))),IF(MIN($U$40:$U$41)<=$B$16,$U$70-(ABS(($V$70-$B$16)/($M$17*$M$19))),ABS(($V$70-$B$17)/($M$17*$M$19))))))))","v":0},null,null,null,null,null,null,25,4,"Left Bank",49.394048203009689,96.718087233587624,49.384542579263972,94.718163387459285,96.279219872337677,0,0,0,"","",0,1.5610564848783923,1.5610564848783923,0,0,0,0,0,1.5610564848783923,0.13603396760449885,0,0,0.16,4,0,0,"",5.5319508447981178,0.13150318893761984,0.16,0,0.16,4,""]
["Bank",{"$f":"IF(OR($A$6=\"\",$F$6=\"\",$F$25=\"\"),0,TAN((45+($F$29/2))*PI()/180)^2)","v":4.8149513101909616},{"$f":"IF($E$61=0,0,0.5*$B$71*$E$60)","v":0},{"$f":"IF($F$28=\"\",0,$BQ$43)","v":12.400000000000007},{"$f":"IF($F$28=\"\",0,TAN($F$29*PI()/180))","v":0.86928673781622645},{"$f":"IF(OR($L$60>=0,$D$71=0),0,$I$60*$E$71*($D$71/$D$72))","v":1258.8050796809109},null,"S FH (lbf)",{"$f":"ABS($L$71)","v":3986.3254455926858},{"$f":"IF($L$71=0,\"\",IF($L71>=0,CHAR(232),CHAR(231)))","v":"ç"},"Additional resisting force (lbf) needed:",{"$f":"$L$66+$L$67+$L$68+$L$69+$L$70+$M$70","v":-3986.3254455926858},null,112.5,1,null,null,null,"Right Bank",{"$f":"($B$18-$B$17)/ABS($M$17)/ABS($M$19)","v":34.886819099928736},{"$f":"IF(AND(MIN($U$40:$U$41)>=$B$17,MAX($U$40:$U$41)<=$B$18),$E$22,IF(AND($T$62=\"No\",$T$63=\"No\"),0,$E$22-$W$62-$U$72))","v":0},{"$f":"IF($U$71=0,0,IF(OR($B$25=0,$B$25=180,$B$25=360),$U$40,$U$62+(($X$62-$C$17)/($AB$35-$AA$40))))","v":0},{"$f":"IF($U$71=0,0,IF(OR($B$25=0,$B$25=180,$B$25=360),(($U$40-$B$17)*$AB$35)+$C$17,$X$62+(($V$71-$U$62)*$AA$40)))","v":0},{"$f":"IF($U$71=0,0,IF(OR($B$25=0,$B$25=180,$B$25=360),$E$22-ABS(($X$41-$W$71)/$M$20),IF(AND($U$40<=$U$41,$X$40>=$Y$40),ABS(($X$40-$W$71)/($AA$40*$M$17*$M$19)),IF(AND($U$40<=$U$41,$X$40<$Y$40),ABS($E$22-(ABS(($X$40-$W$71)/($AA$40*$M$17*$M$19)))),IF(AND($U$40>$U$41,$X$41>=$Y$41),ABS(($X$41-$W$71)/($AA$40*$M$17*$M$19)),IF(AND($U$40>=$U$41,$X$41<$Y$41),ABS($E$22-(ABS(($X$40-$W$71)/($AA$40*$M$17*$M$19))))))))))","v":0},{"$f":"IF(AND($U$71=0,$W$71=0),\"No\",IF(AND($V$71<=$B$18,$V$71>=$B$17,$V$71>=MIN($U$40:$U$41),$V$71<=MAX($U$40:$U$41),$W$71<$C$18,$X$71<=$E$22),\"Yes\",\"No\"))","v":"No"},{"$f":"IF($U$71=0,\"No\",IF($Y$71=\"Yes\",\"Partial\",IF(AND($U$71<$E$22,$X$41<$Y$41,$Y$67=\"No\",$Y$68=\"No\",$Y$69=\"No\",$Y$70=\"No\",$Y$71=\"No\",$Y$72=\"No\"),\"Yes\",IF(AND($Y$71=\"No\",$X$62>$Y$62),\"No\",\"Yes\"))))","v":"No"},{"$f":"IF($Z$71=\"Yes\",\"None\",IF(AND($Z$71=\"No\",$U$71=0),\"None\",IF($Z$71=\"No\",\"All\",IF(AND($X$41>=$Y$41,$U$41>=$U$40,$AA$72<>\"Right\"),\"Right\",\"Left\"))))","v":"None"},{"$f":"IF($U$71=0,0,IF($Z$71=\"No\",0,IF($Z$71=\"Yes\",$U$71,IF(OR($U$71=$E$22,AND($AA$71=\"Right\",MIN($U$40:$U$41)<=$B$17,MAX($U$40:$U$41)<=$B$18)),$U$71-(ABS(($U$41-$V$71)/($M$17*$M$19))),IF($AA$71=\"Right\",$U$71-(ABS(($B$18-$V$71)/($M$17*$M$19))),IF(MIN($U$40:$U$41)<=$B$17,$U$71-(ABS(($V$71-$B$17)/($M$17*$M$19))),ABS(($V$71-$B$18)/($M$17*$M$19))))))))","v":0},null,null,null,null,null,null,26,4.16,"Left Bank",49.481187130502398,96.716690987907882,49.471681506756681,94.716767141779542,96.266937433033945,0,0,0,"","",0,1.5501702912544033,1.5501702912544033,0,0,0,0,0,1.5501702912544033,0.13508532024604189,0,0,0.16,4.16,0,0,"",5.5333470904778608,0.13136563421109951,0.16,0,0.16,4.16,""]
["Total","-",{"$f":"$C$70+$C$71","v":0},{"$f":"$D$70+$D$71","v":33.120000000000019},"-",{"$f":"$F$70+$F$71","v":3362.2277612122398},null,"FSH",{"$f":"IF(OR($E$22=\"\",$F$22=\"\",$F$25=\"\",$G$25=\"\"),0,IF($I$66=0,0,IF($L$69>=0,($I$67+$I$68+$I$70)/($I$66+$I$69),($I$67+$I$68+$I$69+$I$70)/$I$66)))","v":4.1936710753461535},{"$f":"$I$72-$L$72","v":2.6936710753461535},{"$f":"IF(AND($F$25=\"\",$G$25=\"\"),\"\",IF(OR($J$25=0,$I$72>=$L$72),\"Structure is Horizontally Stable\",IF(AND($I$72<$L$72,$L$69>=0),$L$72*($L$66+$L$69)-(-$L$67-$L$68-$L$70-$M$70),IF(AND($I$72<$L$72,$L$69<0),$L$72*($L$66)-(-$L$67-$L$68-$L$70-$M$70-$L$69),\"\"))))","v":"Structure is Horizontally Stable"},{"$f":"'2-Constants'!$C$6","v":1.5},null,135,0.81,null,null,null,"RB Floodplain",{"$f":"($B$19-$B$18)/ABS($M$17)/ABS($M$19)","v":42.231412594650578},{"$f":"IF(MIN($U$40:$U$41)>=$B$18,$E$22,IF($T$63=\"No\",0,$E$22-$W$63))","v":0},{"$f":"IF($U$72=0,0,IF(OR($B$25=0,$B$25=180,$B$25=360),$U$40,$U$63+(($X$63-$C$18)/($AB$36-$AA$40))))","v":0},{"$f":"IF($U$72=0,0,IF(OR($B$25=0,$B$25=180,$B$25=360),(($U$40-$B$18)*$AB$36)+$C$18,$X$63+(($V$72-$U$63)*$AA$40)))","v":0},{"$f":"IF($U$72=0,0,IF(OR($B$25=0,$B$25=180,$B$25=360),$E$22-ABS(($X$41-$W$72)/$M$20),IF(AND($U$40<=$U$41,$X$40>=$Y$40),ABS(($X$40-$W$72)/($AA$40*$M$17*$M$19)),IF(AND($U$40<=$U$41,$X$40<$Y$40),ABS($E$22-(ABS(($X$40-$W$72)/($AA$40*$M$17*$M$19)))),IF(AND($U$40>$U$41,$X$41>=$Y$41),ABS(($X$41-$W$72)/($AA$40*$M$17*$M$19)),IF(AND($U$40>=$U$41,$X$41<$Y$41),ABS($E$22-(ABS(($X$40-$W$72)/($AA$40*$M$17*$M$19))))))))))","v":0},{"$f":"IF(AND($U$72=0,$W$72=0),\"No\",IF(AND($V$72<=$B$19,$V$72>=$B$18,$V$72>=MIN($U$40:$U$41),$V$72<=MAX($U$40:$U$41),$W$72<$C$19,$X$72<=$E$22),\"Yes\",\"No\"))","v":"No"},{"$f":"IF($U$72=0,\"No\",IF($Y$72=\"Yes\",\"Partial\",IF(AND($U$72<$E$22,$X$41<$Y$41,$Y$67=\"No\",$Y$68=\"No\",$Y$69=\"No\",$Y$70=\"No\",$Y$71=\"No\",$Y$72=\"No\"),\"Yes\",IF(AND($Y$72=\"No\",$X$63>$Y$63),\"No\",\"Yes\"))))","v":"No"},{"$f":"IF($Z$72=\"Yes\",\"None\",IF(AND($Z$72=\"No\",$U$72=0),\"None\",IF($Z$72=\"No\",\"All\",IF(AND($X$41>=$Y$41,$U$41>=$U$40),\"Right\",\"Left\"))))","v":"None"},{"$f":"IF($U$72=0,0,IF($Z$72=\"No\",0,IF($Z$72=\"Yes\",$U$72,IF(OR($AA$72=\"Right\",$U$72=$E$22),$U$72-(ABS(($U$41-$V$72)/($M$17*$M$19))),$U$72-(ABS(($V$72-$B$18)/($M$17*$M$19)))))))","v":0},null,null,null,null,null,null,27,4.32,"Left Bank",49.568326057995108,96.715294742228139,49.558820434249391,94.715370896099799,96.254654993730213,0,0,0,"","",0,1.5392840976304143,1.5392840976304143,0,0,0,0,0,1.5392840976304143,0.13413667288758491,0,0,0.16,4.32,0,0,"",5.5347433361576037,0.13122822336932399,0.16,0,0.16,4.32,""]
[null,null,null,null,null,null,null,null,null,null,{"$f":"IF($K$72<>\"Structure is Horizontally Stable\",\"\",IF($K$72=\"Structure is Horizontally Stable\",IF($L$69>=0,($I$67+$I$68+$I$70)-(($I$69+$I$66)*$L$72),($I$67+$I$68+$I$69+$I$70)-(($I$66)*$L$72))))","v":3362.2277612122402},null,null,157.5,0.75,null,null,null,null,"L check",{"$f":"SUM(U67:U72)","v":32},{"$f":"IF($U$53=$E$22,\"OK\",\"ERROR\")","v":"OK"},null,null,null,null,"Total",{"$f":"SUM(AB67:AB72)","v":31.101115991590312},null,null,null,null,null,null,28,4.4800000000000004,"Left Bank",49.655464985487825,96.713898496548396,49.645959361742101,94.713974650420056,96.242372554426481,0,0,0,"","",0,1.5283979040064253,1.5283979040064253,0,0,0,0,0,1.5283979040064253,0.13318802552912792,0,0,0.16,4.4800000000000004,0,0,"",5.5361395818373467,0.13109095626178741,0.16,0,0.16,4.4800000000000004,""]
["Moment Force Balance",null,null,null,null,null,null,null,null,null,null,{"$f":"IF($D$22=\"Yes\",\"Rootwad\",\"Root Collar\")","v":"Rootwad"},null,180,1.1000000000000001,null,null,null,null,null,null,null,null,null,null,null,null,null,null,null,null,null,null,null,29,4.6399999999999997,"Left Bank",49.742603912980535,96.712502250868653,49.733098289234817,94.712578404740313,96.230090115122735,0,0,0,"","",0,1.5175117103824221,1.5175117103824221,0,0,0,0,0,1.5175117103824221,0.13223937817066969,0,0,0.16,4.6399999999999997,0,0,"",5.5375358275170896,0.13095383273814085,0.16,0,0.16,4.6399999999999997,""]
["Driving Moment Centroids",null,null,"Resisting Moment Centroids",null,null,null,"Moment Force Balance",null,null,null,null,null,"Source:  Gippel (1992) plot of drag coefficients",null,null,null,null,"Projected Area of Log Calculation",null,null,null,"Projected Area of Rootwad Calculation",null,null,null,null,null,null,null,null,null,null,null,30,4.8,"Left Bank",49.829742840473244,96.71110600518891,49.820237216727527,94.71118215906057,96.217807675819003,0,0,0,"","",0,1.506625516758433,1.506625516758433,0,0,0,0,0,1.506625516758433,0.13129073081221271,0,0,0.16,4.8,0,0,"",5.5389320731968326,0.13081685264819312,0.16,0,0.16,4.8,""]
["cT,B (ft)","cL (ft)","cD (ft)","cT,W (ft)","csoil (ft)","cF&N (ft)","cP (ft)","Md (lbf)",{"$f":"IF(OR($C$19=\"\",$E$22=\"\",$D$22=\"\",$F$22=\"\",$F$25=\"\",$G$25=\"\"),0,IF($F$78=\"Stem Tip\",$L$77,$L$78))","v":121568.39542071123},null,null,"Md","Mr",null,null,"Centroid of Log",null,null,"DTS =",{"$f":"IF(OR($E$22=\"\",$F$22=\"\",$F$25=\"\",$G$25=\"\"),\"\",$F$22)","v":2},"ft",null,null,"a = DRW/2",{"$f":"$H$22/2","v":3},"ft","A =","a*b*((p/2)+arcsin(d/a)) + (b*d*(sqrt(a2-d2))/a)",null,null,null,null,null,null,31,4.96,"Left Bank",49.916881767965954,96.709709759509167,49.907376144220237,94.709785913380827,96.205525236515271,0,0,0,"","",0,1.495739323134444,1.495739323134444,0,0,0,0,0,1.495739323134444,0.13034208345375575,0,0,0.16,4.96,0,0,"",5.5403283188765755,0.13068001584190994,0.16,0,0.16,4.96,""]
[{"$f":"$Q$79","v":18.846208568686219},{"$f":"IF($I$52=0,0,IF($T$12>=$T$11,$E$22-$BL$43,$BL$43))","v":31.599999999999998},{"$f":"IF($F$66=0,0,IF($T$12>=$T$11,$E$22-$BI$43,$BI$43))","v":16},{"$f":"$Q$79","v":18.846208568686219},{"$f":"IF($E$61=0,0,IF($T$12>=$T$11,$E$22-$BS$43,$BS$43))","v":0},{"$f":"IF($F$72=0,0,IF($T$12>=$T$11,$E$22-$BR$43,$BR$43))","v":15.520000000000001},{"$f":"IF($C$72=0,0,IF($T$12>=$T$11,$E$22-$BT$39,$BT$39))","v":0},"Mr (lbf)",{"$f":"IF(OR($C$19=\"\",$E$22=\"\",$D$22=\"\",$F$22=\"\",$F$25=\"\",$G$25=\"\"),0,IF($F$78=\"Stem Tip\",$M$77,$M$78))","v":291786.54313776008},null,"Additional resisting moment force (lbf) needed:",{"$f":"(($I$54*$A$77)+($I$55*$B$77)+($I$66*$C$77)+(IF($L$95>0,$L$95*$D$95,0))+(IF($L$96>0,$L$96*$D$96,0))+(IF($L$97>0,$L$97*$D$97,0))+(IF($L$98>0,$L$98*$D$98,0))+(IF($M$95>0,$M$95*$D$95,0))+(IF($M$96>0,$M$96*$D$96,0))+(IF($M$97>0,$M$97*$D$97,0))+(IF($M$98>0,$M$98*$D$98,0)))*$M$19","v":165902.14800571589},{"$f":"(($I$56*$D$77)+(IF($L$60<0,$I$60*$F$77))+($I$57*$E$77)+($I$67*$G$77)+($I$68*$F$77)+(($D$83+$E$83)*$C$83)+($J$83*$H$83)+($J$84*$H$84)+(($I$87+$J$87)*$C$87)+(($I$88+$J$88)*$C$88)+(($I$89+$J$89)*$C$89)+(IF($L$95<=0,$G$95*$D$95,0))+(IF($L$96<=0,$G$96*$D$96,0))+(IF($L$97<=0,$G$97*$D$97,0))+(IF($L$98<=0,$G$98*$D$98,0))+(IF($M$95<=0,$I$95*$D$95,0))+(IF($M$96<=0,$I$96*$D$96,0))+(IF($M$97<=0,$I$97*$D$97,0))+(IF($M$98<=0,$I$98*$D$98,0)))*$M$19","v":370771.36986640829},"Stem Tip",null,"cRW",{"$f":"IF(OR($D$22=\"\",$D$22=\"No\",$F$22=\"\"),0,$E$22-((1/4)*$G$22*(($H$22^2)+(2*$H$22*$F$22)+(3*($F$22^2)))/(($H$22^2)+($H$22*$F$22)+($F$22^2))))","v":30.96153846153846},null,"ATSp,total =",{"$f":"IF($T$76=\"\",\"\",ABS(($U$42-$U$43)*$F$22/$M$19))","v":34.856898240961755},"ft2",null,null,"b= (DRW/2)*ABS(cos(q))",{"$f":"($H$22/2)*ABS(COS($B$25*PI()/180))","v":2.5160117038362722},"ft","ARW,total =",{"$f":"IF(OR($D$22=\"\",$D$22=\"No\"),0,PI()*$Y$76*$Y$77)","v":23.712851655353912},"ft2",null,null,null,null,null,32,5.12,"Left Bank",50.004020695458664,96.708313513829424,49.994515071712947,94.708389667701084,96.193242797211539,0,0,0,"","",0,1.484853129510455,1.484853129510455,0,0,0,0,0,1.484853129510455,0.12939343609529877,0,0,0.16,5.12,0,0,"",5.5417245645563185,0.130543322169414,0.16,0,0.16,5.12,""]
["*Distances are from the stem tip",null,null,"Point of Rotation:",null,{"$f":"IF(OR($F$25=\"\",$G$25=\"\",$D$22=\"\"),\"\",IF(AND($T$11<$T$12,$AY$45>0),$L$74,IF(AND($T$11>$T$12,$AY$245>0),$L$74,IF(AND($AY$45>0,$AY$245>0),$L$74,IF(AND($AY$45=0,$AY$245=0),$L$74,\"Stem Tip\")))))","v":"Rootwad"},null,"FSM",{"$f":"IF(OR($E$22=\"\",$F$22=\"\",$F$25=\"\",$G$25=\"\"),0,IF(OR($A$6=\"\",$F$25=\"\",$G$25=\"\"),\"\",$I$77/$I$76))","v":2.4001842101146078},{"$f":"$I$78-$L$80","v":0.90018421011460781},{"$f":"IF(AND($F$25=\"\",$G$25=\"\"),\"\",IF($I$78>=$L$80,\"Structure is Stable with respect to Moment Forces\",($I$76*$L$80)-$I$77))","v":"Structure is Stable with respect to Moment Forces"},{"$f":"(($I$54*($E$22-$A$77))+($I$55*($E$22-$B$77))+($I$66*($E$22-$C$77))+(IF($L$95>0,$L$95*($E$22-$D$95),0))+(IF($L$96>0,$L$96*($E$22-$D$96),0))+(IF($L$97>0,$L$97*($E$22-$D$97),0))+(IF($L$98>0,$L$98*($E$22-$D$98),0))+(IF($M$95>0,$M$95*($E$22-$D$95),0))+(IF($M$96>0,$M$96*($E$22-$D$96),0))+(IF($M$97>0,$M$97*($E$22-$D$97),0))+(IF($M$98>0,$M$98*($E$22-$D$98),0)))*$M$19","v":121568.39542071123},{"$f":"(($I$56*($E$22-$D$77))+(IF($L$60<0,$I$60*($E$22-$F$77)))+($I$57*($E$22-$E$77))+($I$67*($E$22-$G$77))+($I$68*($E$22-$F$77))+(($D$83+$E$83)*($E$22-$C$83))+($J$83*($E$22-$H$83))+($J$84*($E$22-$H$84))+(($I$87+$J$87)*($E$22-$C$87))+(($I$88+$J$88)*($E$22-$C$88))+(($I$89+$J$89)*($E$22-$C$89))+(IF($L$95<=0,$G$95*($E$22-$D$95),0))+(IF($L$96<=0,$G$96*($E$22-$D$96),0))+(IF($L$97<=0,$G$97*($E$22-$D$97),0))+(IF($L$98<=0,$G$98*($E$22-$D$98),0))+(IF($M$95<=0,$I$95*($E$22-$D$95),0))+(IF($M$96<=0,$I$96*($E$22-$D$96),0))+(IF($M$97<=0,$I$97*($E$22-$D$97),0))+(IF($M$98<=0,$I$98*($E$22-$D$98),0)))*$M$19","v":291786.54313776008},"Root Collar or RW",null,"cTS",{"$f":"(($E$22-$G$22)/2)","v":14.5},null,"ATSp,dry =",{"$f":"IF($T$86=\"\",\"\",IF($T$86=\"Submerged\",0,IF($T$88=\"Dry\",$T$77,IF(AND($AC$86=\"Dry\",$T$86=\"Partial\"),ABS(($U$43-$W$87)*$F$22/$M$19),IF(AND($AC$86=\"Partial\",$AC$87=\"Partial\"),(ABS($U$39-$U$38))*(($AF$86+$AF$87)/2),IF($AC$86=\"Partial\",(ABS($U$39-$W$86))*$AF$86/2,(($U$41-$W$88)*$F$22)+(ABS($W$88-$U$40))*($AF$87+$F$22)/2))))))","v":0},"ft2",null,null,"d1 = (DRW/2) - (yRW,crown-WSE)",{"$f":"IF(OR($D$22=\"\",$F$22=\"\"),\"\",IF($AE$8>=$U$10,$Y$76,$Y$76-($U$10-$AE$8)))","v":3},"ft","ARW,↑WSE =",{"$f":"IF($D$22=\"No\",0,IF($U$15>$AE$8,$AB$77,IF($U$10<$AE$8,0,IF($D$22=\"\",0,$AB$77-(($Y$76*$Y$77*((PI()/2)+ASIN($Y$78/$Y$76)))+($Y$77*$Y$78*(SQRT(($Y$76^2)-($Y$78^2))/$Y$76)))))))","v":0},"ft2",null,null,null,null,null,33,5.28,"Left Bank",50.091159622951373,96.706917268149681,50.081653999205656,94.706993422021341,96.180960357907807,0,0,0,"","",0,1.473966935886466,1.473966935886466,0,0,0,0,0,1.473966935886466,0.12844478873684179,0,0,0.16,5.28,0,0,"",5.5431208102360614,0.13040677148098487,0.16,0,0.16,5.28,""]
[null,null,null,null,null,null,null,null,null,null,null,"Formatting",null,null,null,"cT",{"$f":"IF(OR($D$22=\"\",$D$22=\"No\",$F$22=\"\"),$Q$78,((((($B$53+$B$52)*$I$22)+($B$54*$J$22))*$Q$78)+(((($C$53+$C$52)*$I$22)+($C$54*$J$22))*$Q$77))/$E$55)","v":18.846208568686219},null,"ATSp,em =",{"$f":"$BE$43","v":14.641189247127471},"ft2",null,null,"d2 = (DRW/2) - (ythalweg-yRW,bot)",{"$f":"IF(OR($D$22=\"\",$F$22=\"\"),\"\",IF($U$15>=$C$16,$Y$76,$Y$76-($C$16-$U$15)))","v":2.6738965473765433},"ft","ARW,↓bed =",{"$f":"IF($D$22=\"No\",0,IF($U$10<$C$16,$AB$77,IF($U$15>$C$16,0,IF($D$22=\"\",0,$AB$77-(($Y$76*$Y$77*((PI()/2)+ASIN($Y$79/$Y$76)))+($Y$77*$Y$79*(SQRT(($Y$76^2)-($Y$79^2))/$Y$76)))))))","v":0.50168123429428491},"ft2",null,null,null,null,null,34,5.44,"Left Bank",50.178298550444083,96.705521022469938,50.168792926698366,94.705597176341598,96.168677918604075,0,0,0,"","",0,1.463080742262477,1.463080742262477,0,0,0,0,0,1.463080742262477,0.1274961413783848,0,0,0.16,5.44,0,0,"",5.5445170559158043,0.13027036362705838,0.16,0,0.16,5.44,""]
["Anchor Forces",null,null,null,null,null,null,null,null,null,null,{"$f":"'2-Constants'!$C$7","v":1.5},null,null,null,null,null,null,"(-) ATSp,dry,em =",{"$f":"-$BG$43","v":0},"ft3",null,null,null,null,null,"ARWp =",{"$f":"IF($D$22=\"\",0,$AB$77-$AB$78-$AB$79)","v":23.211170421059627},"ft2",null,null,null,null,null,35,5.6,"Left Bank",50.265437477936793,96.704124776790195,50.255931854191076,94.704200930661855,96.156395479300329,0,0,0,"","",0,1.4521945486384737,1.4521945486384737,0,0,0,0,0,1.4521945486384737,0.1265474940199266,0,0,0.16,5.6,0,0,"",5.5459133015955473,0.13013409845822715,0.16,0,0.16,5.6,""]
["Additional Soil Ballast",null,null,null,null,null,null,"Mechanical Anchors",null,null,{"$f":"IF(OR($H$83<>\"\",$H$84<>\"\",$C$87<>\"\",$C$88<>\"\",$C$89<>\"\"),\"CHECK--Verify anchors are correctly located on X-Sect (above)\",\"\")","v":""},"Formatting",null,null,null,"Buried anchors","Number",null,"ATSp,wet =",{"$f":"IF($D$22=\"\",\"\",IF($T$88=\"Dry\",0,$T$77-$T$78-$T$79-$T$80))","v":20.215708993834284},"ft2",null,null,null,null,null,null,null,null,null,null,null,null,null,36,5.76,"Left Bank",50.352576405429502,96.702728531110452,50.343070781683785,94.702804684982112,96.144113039996597,0,0,0,"","",0,1.4413083550144847,1.4413083550144847,0,0,0,0,0,1.4413083550144847,0.12559884666146962,0,0,0.16,5.76,0,0,"",5.5473095472752902,0.12999797582524003,0.16,0,0.16,5.76,""]
["VAdry (ft3)","VAwet (ft3)","cAsoil (ft)","FA,Vsoil (lbf)","FA,HP (lbf)",null,"Type","cAm (ft)","Soils","FAm (lbf)","Quick Design Reference:",{"$f":"IF($D$83=\"\",0,-$D$83)","v":0},{"$f":"IF($E$83=\"\",0,-$E$83)","v":0},null,"Total (lbf)",{"$f":"$J$83+$J$84+(IF($A$87=\"Deadman\",$F$87-$G$87,0))+(IF($A$88=\"Deadman\",$F$88-$G$88,0))+(IF($A$89=\"Deadman\",$F$89-$G$89,0))","v":0},{"$f":"(IF($J$83>0,1,0))+(IF($J$84>0,1,0))+(IF(AND($I$87>0,$A$87=\"Deadman\"),1,0))+(IF(AND($I$88>0,$A$88=\"Deadman\"),1,0))+(IF(AND($I$89>0,$A$89=\"Deadman\"),1,0))","v":0},null,null,null,null,null,null,null,null,null,null,null,null,null,null,null,null,null,37,5.92,"Left Bank",50.439715332922219,96.701332285430709,50.430209709176502,94.701408439302369,96.131830600692865,0,0,0,"","",0,1.4304221613904957,1.4304221613904957,0,0,0,0,0,1.4304221613904957,0.12465019930301263,0,0,0.16,5.92,0,0,"",5.5487057929550332,0.12986199557900197,0.16,0,0.16,5.92,""]
[null,null,null,{"$f":"IF(AND($A$83=\"\",$B$83=\"\"),0,($A$83*$D$29)+($B$83*$E$29))","v":0},{"$f":"IF($D$83=0,0,0.5*$B$71*$D$83)","v":0},null,null,null,{"$f":"$W$100","v":""},{"$f":"IF(OR($G83=\"\",$H83=\"\"),0,IF(AND($W100=\"Bed\",$G$28=4),HLOOKUP($G$83,AnchorRatings,3,0),IF(AND($W100=\"Bed\",$G$28=5),HLOOKUP($G$83,AnchorRatings,4,0),IF(AND($W100=\"Bed\",$G$28=6),HLOOKUP($G$83,AnchorRatings,5,0),IF(AND($W100=\"Bed\",$G$28=7),HLOOKUP($G$83,AnchorRatings,6,0),IF(AND($W100=\"Bank\",$G$29=4),HLOOKUP($G$83,AnchorRatings,3,0),IF(AND($W100=\"Bank\",$G$29=5),HLOOKUP($G$83,AnchorRatings,4,0),IF(AND($W100=\"Bank\",$G$29=6),HLOOKUP($G$83,AnchorRatings,5,0),IF(AND($W100=\"Bank\",$G$29=7),HLOOKUP($G$83,AnchorRatings,6,0))))))))))","v":0},{"$f":"$I$61","v":1.5},0,{"$f":"(IF($A87=\"Behind\",-$J87,0))","v":0},null,"Required Vertical Resistance (lbf)",{"$f":"($L$54+$L$55+(IF($L$58>0,$L$58,0)))*$L$61","v":11603.40178313996},null,null,null,null,null,null,null,null,null,null,null,null,null,null,null,null,null,null,38,6.08,"Left Bank",50.526854260414929,96.699936039750966,50.517348636669212,94.700012193622626,96.119548161389133,0,0,0,"","",0,1.4195359677665067,1.4195359677665067,0,0,0,0,0,1.4195359677665067,0.12370155194455565,0,0,0.16,6.08,0,0,"",5.5501020386347761,0.12972615757057365,0.16,0,0.16,6.08,""]
[null,null,null,null,null,null,null,null,{"$f":"$W$101","v":""},{"$f":"IF(OR($G84=\"\",$H84=\"\"),0,IF(AND($W101=\"Bed\",$G$28=4),HLOOKUP($G$84,AnchorRatings,3,0),IF(AND($W101=\"Bed\",$G$28=5),HLOOKUP($G$84,AnchorRatings,4,0),IF(AND($W101=\"Bed\",$G$28=6),HLOOKUP($G$84,AnchorRatings,5,0),IF(AND($W101=\"Bed\",$G$28=7),HLOOKUP($G$84,AnchorRatings,6,0),IF(AND($W101=\"Bank\",$G$29=4),HLOOKUP($G$84,AnchorRatings,3,0),IF(AND($W101=\"Bank\",$G$29=5),HLOOKUP($G$84,AnchorRatings,4,0),IF(AND($W101=\"Bank\",$G$29=6),HLOOKUP($G$84,AnchorRatings,5,0),IF(AND($W101=\"Bank\",$G$29=7),HLOOKUP($G$84,AnchorRatings,6,0))))))))))","v":0},{"$f":"'2-Constants'!$C$5","v":1.5},0,{"$f":"(IF($A88=\"Behind\",-$J88,0))","v":0},null,"Actual Vertical Resistance (lbf)",{"$f":"ABS($L$56+$L$57+(IF($L$58<0,$L$58,0))+$L$59)","v":11603.40178313996},null,null,"Log Position","Water and Log Intercept",null,null,null,null,"Soil","LW Buried at Intercept?",null,"Log Position","Water and Log Intercept at Face",null,null,null,null,null,39,6.24,"Left Bank",50.613993187907639,96.698539794071223,50.604487564161921,94.698615947942884,96.107265722085401,0,0,0,"","",0,1.4086497741425177,1.4086497741425177,0,0,0,0,0,1.4086497741425177,0.12275290458609867,0,0,0.16,6.24,0,0,"",5.5514982843145191,0.12959046165117186,0.16,0,0.16,6.24,""]
["Boulder Ballast",null,null,null,null,null,null,null,null,null,null,0,{"$f":"(IF($A89=\"Behind\",-$J89,0))","v":0},null,"Extra Needed Vertical Resistance (lbf)",{"$f":"$P$83-$P$84","v":0},null,null,null,"Condition","Intercept Zone",null,"xTS (ft)","yTS (ft)","ysoil (ft)",null,null,null,"Condition","xTS (ft)","yTS (ft)","hTS,dry (ft)",null,null,40,6.4,"Left Bank",50.701132115400348,96.69714354839148,50.691626491654631,94.697219702263141,96.094983282781669,0,0,0,"","",0,1.3977635805185287,1.3977635805185287,0,0,0,0,0,1.3977635805185287,0.1218042572276417,0,0,0.16,6.4,0,0,"",5.552894529994262,0.12945490767216888,0.16,0,0.16,6.4,""]
["Position","Dr (ft)","cAr (ft)","Vr,dry (ft3)","Vr,wet (ft3)","Wr (lbf)","FL,r (lbf)","FD,r (lbf)","FA,Vr (lbf)","FA,Hr (lbf)",{"$f":"$I$72","v":4.1936710753461535},{"$f":"$L$82+$L$83+$L$84+$L$85","v":0},{"$f":"$M$82+$M$83+$M$84+$M$85","v":0},null,"Required Horizontal Resistance (lbf)",{"$f":"($L$66+(IF($L$69>0,$L$69,0)))*$L$72","v":1872.2930531413381},null,null,"Crown",{"$f":"IF(OR($E$22=\"\",$F$22=\"\",$F$25=\"\",$G$25=\"\"),\"\",IF($X$39<=$AE$12,\"Submerged\",IF($X$38>$AE$12,\"Dry\",\"Partial\")))","v":"Submerged"},{"$f":"IF($X$86=\"\",\"None\",IF($W$86<$B$14,\"Left Floodplain\",IF($W$86<$B$15,\"Left Bank\",IF($W$86<$B$16,\"Left Stream Bed\",IF($W$86<$B$17,\"Right Stream Bed\",IF($W$86<$B$18,\"Right Bank\",\"Right Floodplain\"))))))","v":"None"},{"$f":"IF($U$47=0,0,IF(OR($B$25=0,$B$25=180,$B$25=360),$E$22-ABS(($X$39-$W$47)/$M$20),IF(AND($U$38<=$U$39,$X$38>=$Y$38),ABS(($X$38-$W$47)/($AA$40*$M$17*$M$19)),IF(AND($U$38<=$U$39,$X$38<$Y$38),ABS($E$22-(ABS(($X$38-$W$47)/($AA$40*$M$17*$M$19)))),IF(AND($U$38>$U$39,$X$39>=$Y$39),ABS(($X$39-$W$47)/($AA$40*$M$17*$M$19)),IF(AND($U$38>=$U$39,$X$39<$Y$39),ABS($E$22-(ABS(($X$38-$W$47)/($AA$40*$M$17*$M$19))))))))))","v":0},{"$f":"IF($X$86=\"\",\"\",$U$39-(($X$39-$AE$8)/$AA$40))","v":""},{"$f":"IF($T$86=\"Partial\",$AE$12,\"\")","v":""},{"$f":"IF($X$86=\"\",\"\",IF($W$86<$B$14,(($W$86-$B$13)*$AB$31)+$C$13,IF($W$86<$B$15,(($W$86-$B$14)*$AB$32)+$C$14,IF($W$86<$B$16,(($W$86-$B$15)*$AB$33)+$C$15,IF($W$86<$B$17,(($W$86-$B$16)*$AB$34)+$C$16,IF($W$86<$B$18,(($W$86-$B$17)*$AB$35)+$C$17,IF($W$86<$B$19,(($W$86-$B$18)*$AB$36)+$C$18)))))))","v":""},{"$f":"IF($X$86=\"\",\"\",IF($X$86<=$Y$86,\"Yes\",\"No\"))","v":""},null,"Upper Face",{"$f":"IF($T$86=\"\",\"\",IF($X$41>$AE$8,\"Dry\",IF($T$86=\"Submerged\",\"Submerged\",\"Partial\")))","v":"Submerged"},{"$f":"IF($AE$86=\"\",\"\",$U$39-(($X$39-$AE$8)/$AB$40))","v":""},{"$f":"IF($AC$86=\"Partial\",$AE$12,\"\")","v":""},{"$f":"IF($AC$86=\"Submerged\",0,IF($AC$86=\"Dry\",$F$22,($X$39-$AE$8)/$M$19))","v":0},null,null,41,6.56,"Left Bank",50.788271042893058,96.695747302711737,50.778765419147341,94.695823456583398,96.082700843477923,0,0,0,"","",0,1.3868773868945254,1.3868773868945254,0,0,0,0,0,1.3868773868945254,0.12085560986918348,0,0,0.16,6.56,0,0,"",5.554290775674005,0.12931949548509247,0.16,0,0.16,6.56,""]
[null,null,null,{"$f":"IF(OR($B87=\"\",$C87=\"\"),\"\",(PI()*($B87^3)/6)-$E87)","v":""},{"$f":"IF($B87=\"\",\"\",$U94)","v":""},{"$f":"IF(OR($B87=\"\",$C87=\"\"),\"\",($D87*DUWRock)+($E87*(DUWRock-SWWater)))","v":""},{"$f":"IF(OR($B87=\"\",$C87=\"\"),\"\",$Q99)","v":""},{"$f":"IF(OR($B87=\"\",$C87=\"\"),\"\",$P99)","v":""},{"$f":"IF(OR($B87=\"\",$C87=\"\"),0,IF($A87=\"Behind\",0,IF(AND($A87=\"Deadman\",$P$85<=0),0,IF(AND($A87=\"Deadman\",$P$82>=$P$85),($F87-$G87)*($P$85/$P$82),$F87-$G87))))","v":0},{"$f":"IF(OR($B87=\"\",$C87=\"\"),0,IF($A87=\"Above\",0,IF($A87=\"Deadman\",($F87-$G87)-$I87,IF(AND($A87=\"Behind\",OR($W94=\"Left Stream Bed\",$W94=\"Right Stream Bed\")),(($F87-$G87)*$E$70)-$H87,(($F87-$G87)*$E$71)-$H87))))","v":0},{"$f":"'2-Constants'!$C$6","v":1.5},{"$f":"IF($J83=0,0,IF($P$85<=0,0,IF($P$82>=$P$85,-J$83*($P$85/$P$82),-$J83)))","v":0},{"$f":"-($J83+$L87)","v":0},null,"Actual Horizontal Resistance (lbf)",{"$f":"ABS($L$67+$L$68+(IF($L$69<0,$L$69,0))+$L$70)","v":5234.5208143535783},null,null,"Centerline",{"$f":"IF(OR($E$22=\"\",$F$22=\"\",$F$25=\"\",$G$25=\"\"),\"\",IF($X$43<=$AE$12,\"Submerged\",IF($X$42>=$AE$12,\"Dry\",\"Partial\")))","v":"Submerged"},{"$f":"IF($X$87=\"\",\"None\",IF($W$87<$B$14,\"Left Floodplain\",IF($W$87<$B$15,\"Left Bank\",IF($W$87<$B$16,\"Left Stream Bed\",IF($W$87<$B$17,\"Right Stream Bed\",IF($W$87<$B$18,\"Right Bank\",\"Right Floodplain\"))))))","v":"None"},{"$f":"IF($U$47=0,0,IF(OR($B$25=0,$B$25=180,$B$25=360),$E$22-ABS(($X$39-$W$47)/$M$20),IF(AND($U$38<=$U$39,$X$38>=$Y$38),ABS(($X$38-$W$47)/($AA$40*$M$17*$M$19)),IF(AND($U$38<=$U$39,$X$38<$Y$38),ABS($E$22-(ABS(($X$38-$W$47)/($AA$40*$M$17*$M$19)))),IF(AND($U$38>$U$39,$X$39>=$Y$39),ABS(($X$39-$W$47)/($AA$40*$M$17*$M$19)),IF(AND($U$38>=$U$39,$X$39<$Y$39),ABS($E$22-(ABS(($X$38-$W$47)/($AA$40*$M$17*$M$19))))))))))","v":0},{"$f":"IF($X$87=\"\",\"\",$U$43-(($X$43-$AE$8)/$AA$40))","v":""},{"$f":"IF($T$87=\"Partial\",$AE$12,\"\")","v":""},{"$f":"IF($X$87=\"\",\"\",IF($W$87<$B$14,(($W$87-$B$13)*$AB$31)+$C$13,IF($W$87<$B$15,(($W$87-$B$14)*$AB$32)+$C$14,IF($W$87<$B$16,(($W$87-$B$15)*$AB$33)+$C$15,IF($W$87<$B$17,(($W$87-$B$16)*$AB$34)+$C$16,IF($W$87<$B$18,(($W$87-$B$17)*$AB$35)+$C$17,IF($W$87<$B$19,(($W$87-$B$18)*$AB$36)+$C$18)))))))","v":""},{"$f":"IF($X$87=\"\",\"\",IF($X$87<=$Y$87,\"Yes\",\"No\"))","v":""},null,"Lower Face",{"$f":"IF($T$88=\"\",\"\",IF($X$40>=$AE$8,\"Dry\",IF($X$38<=$AE$8,\"Submerged\",\"Partial\")))","v":"Submerged"},{"$f":"IF($AE$87=\"\",\"\",$U$38-(($X$38-$AE$8)/$AB$40))","v":""},{"$f":"IF($AC$87=\"Partial\",$AE$12,\"\")","v":""},{"$f":"IF($AC$87=\"Submerged\",0,IF($AC$87=\"Dry\",$F$22,($X$38-$AE$8)/$M$19))","v":0},null,null,42,6.72,"Left Bank",50.875409970385768,96.694351057031994,50.86590434664005,94.694427210903655,96.070418404174191,0,0,0,"","",0,1.3759911932705364,1.3759911932705364,0,0,0,0,0,1.3759911932705364,0.11990696251072649,0,0,0.16,6.72,0,0,"",5.5556870213537479,0.12918422494162582,0.16,0,0.16,6.72,""]
[null,null,null,{"$f":"IF(OR($B88=\"\",$C88=\"\"),\"\",(PI()*($B88^3)/6)-$E88)","v":""},{"$f":"IF($B88=\"\",\"\",$U95)","v":""},{"$f":"IF(OR($B88=\"\",$C88=\"\"),\"\",($D88*DUWRock)+($E88*(DUWRock-SWWater)))","v":""},{"$f":"IF(OR($B88=\"\",$C88=\"\"),\"\",$Q100)","v":""},{"$f":"IF(OR($B88=\"\",$C88=\"\"),\"\",$P100)","v":""},{"$f":"IF(OR($B88=\"\",$C88=\"\"),0,IF($A88=\"Behind\",0,IF(AND($A88=\"Deadman\",$P$85<=0),0,IF(AND($A88=\"Deadman\",$P$82>=$P$85),($F88-$G88)*($P$85/$P$82),$F88-$G88))))","v":0},{"$f":"IF(OR($B88=\"\",$C88=\"\"),0,IF($A88=\"Above\",0,IF($A88=\"Deadman\",($F88-$G88)-$I88,IF(AND($A88=\"Behind\",OR($W95=\"Left Stream Bed\",$W95=\"Right Stream Bed\")),(($F88-$G88)*$E$70)-$H88,(($F88-$G88)*$E$71)-$H88))))","v":0},null,{"$f":"IF($J84=0,0,IF($P$85<=0,0,IF($P$82>=$P$85,-J$84*($P$85/$P$82),-$J84)))","v":0},{"$f":"-($J84+$L88)","v":0},null,"Extra needed Horizontal Resistance (lbf)",{"$f":"$P$86-$P$87","v":-3362.2277612122402},null,null,"Bottom",{"$f":"IF(OR($E$22=\"\",$F$22=\"\",$F$25=\"\",$G$25=\"\"),\"\",IF($X$41<=$AE$12,\"Submerged\",IF($X$40>=$AE$12,\"Dry\",\"Partial\")))","v":"Submerged"},{"$f":"IF($X$88=\"\",\"None\",IF($W$88<$B$14,\"Left Floodplain\",IF($W$88<$B$15,\"Left Bank\",IF($W$88<$B$16,\"Left Stream Bed\",IF($W$88<$B$17,\"Right Stream Bed\",IF($W$88<$B$18,\"Right Bank\",\"Right Floodplain\"))))))","v":"None"},{"$f":"IF($U$47=0,0,IF(OR($B$25=0,$B$25=180,$B$25=360),$E$22-ABS(($X$39-$W$47)/$M$20),IF(AND($U$38<=$U$39,$X$38>=$Y$38),ABS(($X$38-$W$47)/($AA$40*$M$17*$M$19)),IF(AND($U$38<=$U$39,$X$38<$Y$38),ABS($E$22-(ABS(($X$38-$W$47)/($AA$40*$M$17*$M$19)))),IF(AND($U$38>$U$39,$X$39>=$Y$39),ABS(($X$39-$W$47)/($AA$40*$M$17*$M$19)),IF(AND($U$38>=$U$39,$X$39<$Y$39),ABS($E$22-(ABS(($X$38-$W$47)/($AA$40*$M$17*$M$19))))))))))","v":0},{"$f":"IF($X$88=\"\",\"\",$U$41-(($X$41-$AE$8)/$AA$40))","v":""},{"$f":"IF($T$88=\"Partial\",$AE$12,\"\")","v":""},{"$f":"IF($X$88=\"\",\"\",IF($W$88<$B$14,(($W$88-$B$13)*$AB$31)+$C$13,IF($W$88<$B$15,(($W$88-$B$14)*$AB$32)+$C$14,IF($W$88<$B$16,(($W$88-$B$15)*$AB$33)+$C$15,IF($W$88<$B$17,(($W$88-$B$16)*$AB$34)+$C$16,IF($W$88<$B$18,(($W$88-$B$17)*$AB$35)+$C$17,IF($W$88<$B$19,(($W$88-$B$18)*$AB$36)+$C$18)))))))","v":""},{"$f":"IF($X$88=\"\",\"\",IF($X$88<=$Y$88,\"Yes\",\"No\"))","v":""},null,null,null,null,null,null,null,null,43,6.88,"Left Bank",50.962548897878477,96.692954811352251,50.95304327413276,94.693030965223912,96.058135964870459,0,0,0,"","",0,1.3651049996465474,1.3651049996465474,0,0,0,0,0,1.3651049996465474,0.11895831515226953,0,0,0.16,6.88,0,0,"",5.5570832670334909,0.12904909589360694,0.16,0,0.16,6.88,""]
[null,null,null,{"$f":"IF(OR($B89=\"\",$C89=\"\"),\"\",(PI()*($B89^3)/6)-$E89)","v":""},{"$f":"IF($B89=\"\",\"\",$U96)","v":""},{"$f":"IF(OR($B89=\"\",$C89=\"\"),\"\",($D89*DUWRock)+($E89*(DUWRock-SWWater)))","v":""},{"$f":"IF(OR($B89=\"\",$C89=\"\"),\"\",$Q101)","v":""},"",{"$f":"IF(OR($B89=\"\",$C89=\"\"),0,IF($A89=\"Behind\",0,IF(AND($A89=\"Deadman\",$P$85<=0),0,IF(AND($A89=\"Deadman\",$P$82>=$P$85),($F89-$G89)*($P$85/$P$82),$F89-$G89))))","v":0},{"$f":"IF(OR($B89=\"\",$C89=\"\"),0,IF($A89=\"Above\",0,IF($A89=\"Deadman\",($F89-$G89)-$I89,IF(AND($A89=\"Behind\",OR($W96=\"Left Stream Bed\",$W96=\"Right Stream Bed\")),(($F89-$G89)*$E$70)-$H89,(($F89-$G89)*$E$71)-$H89))))","v":0},{"$f":"I78","v":2.4001842101146078},{"$f":"-$I87","v":0},{"$f":"IF($A87=\"Deadman\",-$J87,0)","v":0},null,null,null,null,null,null,null,null,null,null,null,null,null,null,null,null,null,null,null,null,null,44,7.04,"Left Bank",51.049687825371187,96.691558565672509,51.04018220162547,94.691634719544169,96.045853525566727,0,0,0,"","",0,1.3542188060225584,1.3542188060225584,0,0,0,0,0,1.3542188060225584,0.11800966779381254,0,0,0.16,7.04,0,0,"",5.5584795127132338,0.12891410819302906,0.16,0,0.16,7.04,""]
[null,null,null,null,null,null,null,null,null,null,{"$f":"'2-Constants'!$C$7","v":1.5},{"$f":"-$I88","v":0},{"$f":"IF($A88=\"Deadman\",-$J88,0)","v":0},null,null,null,null,null,null,null,null,null,null,null,null,null,null,null,null,null,null,null,null,null,45,7.2,"Left Bank",51.136826752863904,96.690162319992766,51.127321129118187,94.690238473864426,96.033571086262995,0,0,0,"","",0,1.3433326123985694,1.3433326123985694,0,0,0,0,0,1.3433326123985694,0.11706102043535556,0,0,0.16,7.2,0,0,"",5.5598757583929768,0.12877926169204026,0.16,0,0.16,7.2,""]
[{"$f":"IF($A$6=\"\",\"\",$A$6)","v":"Sample1"},{"$f":"IF($A$6=\"\",\"\",$B$6)","v":"Flow Deflection"},null,{"$f":"IF(OR($B$9=\"N/A\",$B$9=\"\"),\"\",$B$9)","v":"Stacked"},{"$f":"IF($D$48=\"\",\"\",\"Log ID\")","v":"Log ID"},{"$f":"IF($D$48=\"\",\"\",$C$9)","v":"Top#1"},null,null,null,"Page 3",null,{"$f":"-$I89","v":0},{"$f":"IF($A89=\"Deadman\",-$J89,0)","v":0},null,null,null,null,null,null,null,"A = [(R - ddry)*SQRT(2Rddry - ddry2)] - R2 arccos [(R - ddry)/R]",null,null,null,null,null,null,"Boulder #1",null,"Boulder #2",null,"Boulder #3",null,null,46,7.36,"Left Bank",51.223965680356613,96.688766074313023,51.214460056610896,94.688842228184683,96.021288646959249,0,0,0,"","",0,1.3324464187745662,1.3324464187745662,0,0,0,0,0,1.3324464187745662,0.11611237307689734,0,0,0.16,7.36,0,0,"",5.5612720040727197,0.12864455624294316,0.16,0,0.16,7.36,""]
["Interaction Forces with Adjacent Logs",null,null,null,null,null,null,null,null,null,null,{"$f":"$L$87+$L$88+$L$89+$L$90+$L$91","v":0},{"$f":"$M$87+$M$88+$M$89+$M$90+$M$91","v":0},"←Flex anchors","Ballast Boulder Calculations",null,null,null,null,null,null,null,null,null,null,null,null,"xTS (ft)","yTS (ft)","xTS (ft)","yTS (ft)","xTS (ft)","yTS (ft)",null,47,7.52,"Left Bank",51.311104607849323,96.68736982863328,51.301598984103606,94.68744598250494,96.009006207655517,0,0,0,"","",0,1.3215602251505771,1.3215602251505771,0,0,0,0,0,1.3215602251505771,0.11516372571844036,0,0,0.16,7.52,0,0,"",5.5626682497524627,0.12850999169819505,0.16,0,0.16,7.52,""]
[null,null,null,null,null,null,"Applied Forces from other Logs",null,null,null,{"$f":"IF(OR($B$95<>\"\",$B$96<>\"\",$B$97<>\"\",$B$98<>\"\"),\"NOTE -- The page is not formatted to print the Interaction Forces\",\"\")","v":"NOTE -- The page is not formatted to print the Interaction Forces"},null,null,null,null,"xr,bot (ft)","yr,bot (ft)","yTS,bot (ft)","ysoil (ft)","dr,dry (ft)","Vr,wet (ft3)","Ar↑WSE (ft2)","Zone","dr↓Thw (ft)","Ar↓Thw (ft2)","APr (ft2)","Point 1",{"$f":"IF($P$94=\"\",0,$P$94)","v":0},{"$f":"IF($Q$94=\"\",$C$13,$Q$94)","v":99.18},{"$f":"IF($P$95=\"\",0,$P$95)","v":0},{"$f":"IF($Q$95=\"\",$C$13,$Q$95)","v":99.18},{"$f":"IF($P$96=\"\",0,$P$96)","v":0},{"$f":"IF($Q$96=\"\",$C$13,$Q$96)","v":99.18},null,48,7.68,"Left Bank",51.398243535342033,96.685973582953537,51.388737911596316,94.686049736825197,95.996723768351785,0,0,0,"","",0,1.3106740315265881,1.3106740315265881,0,0,0,0,0,1.3106740315265881,0.11421507835998339,0,0,0.16,7.68,0,0,"",5.5640644954322056,0.12837556791040716,0.16,0,0.16,7.68,""]
["Log ID","Position","Link","cWI (ft)","FW,V (lbf)","FW,H (lbf)","FW,V (lbf)",null,"FW,H (lbf)",null,null,"Formatting",null,null,"Boulder 1",{"$f":"IF(OR($F$25=\"\",$C87=\"\"),\"\",$AE$49-(($C87*$M$19)*$M$17))","v":""},{"$f":"IF(OR($G$25=\"\",$C87=\"\"),\"\",IF($A87=\"Behind\",MIN($R94,$S94),IF($A87=\"Deadman\",(MIN($R94,$S94))-($F$22+1),$R94+$F$22)))","v":""},{"$f":"IF($P94=\"\",\"\",($AF$49+(($P94-$AE$49)*$AA$40))-($F$22/2))","v":""},{"$f":"IF($P94=\"\",\"\",IF($P94<$B$14,(($P94-$B$13)*$AB$31)+$C$13,IF($P94<$B$15,(($P94-$B$14)*$AB$32)+$C$14,IF($P94<$B$16,(($P94-$B$15)*$AB$33)+$C$15,IF($P94<$B$17,(($P94-$B$16)*$AB$34)+$C$16,IF($P94<$B$18,(($P94-$B$17)*$AB$35)+$C$17,IF($P94<$B$19,(($P94-$B$18)*$AB$36)+$C$18)))))))","v":""},{"$f":"IF($Q94=\"\",\"\",IF(($Q94+$B87-$AE$8)>=$B87,$B87,IF(($Q94+$B87)>$AE$8,($Q94+$B87)-$AE$8,0)))","v":""},{"$f":"IF($T94=\"\",\"\",IF($T94>=$B87,0,(PI()/3)*(($B87-$T94)^2)*((1.5*$B87)-($B87-$T94))))","v":""},{"$f":"IF($C87=\"\",\"\",IF($A87=\"Deadman\",0,IF($Q94>=$AE$8,PI()*(($B87/2)^2),((($B87/2)^2)*ACOS((($B87/2)-$T94)/($B87/2)))-((($B87/2)-$T94)*SQRT(2*($B87/2)*$T94-($T94^2))))))","v":""},{"$f":"IF($P94=\"\",\"\",IF(OR($C$19=\"\",$F$25=\"\",$G$25=\"\"),\"None\",IF($P94<$B$14,\"Left Floodplain\",IF($P94<$B$15,\"Left Bank\",IF($P94<$B$16,\"Left Stream Bed\",IF($P94<$B$17,\"Right Stream Bed\",IF($P94<$B$18,\"Right Bank\",\"Right Floodplain\")))))))","v":""},{"$f":"IF($Q94=\"\",\"\",IF(($Q94+$B87)<=$S94,$B87,IF($Q94>=$S94,0,$S94-$Q94)))","v":""},{"$f":"IF($C87=\"\",\"\",IF($A87=\"Deadman\",PI()*(($B87/2)^2),IF($Q94>$S94,0,((($B87/2)^2)*ACOS((($B87/2)-$X94)/($B87/2)))-((($B87/2)-$X94)*SQRT(2*($B87/2)*$X94-($X94^2))))))","v":""},{"$f":"IF($C87=\"\",\"\",IF(((PI()*(($B87/2)^2))-$V94-$Y94)<0,0,(PI()*(($B87/2)^2))-$V94-$Y94))","v":""},"Point 2",{"$f":"IF($AB$93=\"\",0,$AB$93-($B$87/4))","v":0},{"$f":"IF($AC$93=\"\",$C$13,$AC$93+($B$87/25))","v":99.18},{"$f":"IF($AD$93=\"\",0,$AD$93-($B$88/4))","v":0},{"$f":"IF($AE$93=\"\",$C$13,$AE$93+($B$88/25))","v":99.18},{"$f":"IF($AF$93=\"\",0,$AF$93-($B$89/4))","v":0},{"$f":"IF($AG$93=\"\",$C$13,$AG$93+($B$89/25))","v":99.18},null,49,7.84,"Left Bank",51.485382462834743,96.684577337273794,51.475876839089025,94.684653491145454,95.984441329048053,0,0,0,"","",0,1.2997878379025991,1.2997878379025991,0,0,0,0,0,1.2997878379025991,0.11326643100152642,0,0,0.16,7.84,0,0,"",5.5654607411119486,0.12824128473234531,0.16,0,0.16,7.84,""]
["Foot#1","Below","Pinned",22.1,{"$f":"-'Foot#1'!E95","v":-3638.8545391606181},{"$f":"-'Foot#1'!F95","v":-936.14652657066904},{"$f":"IF(OR($E$95=\"\",$E$95=0),0,IF($C$95=\"Pinned\",ABS($E$95),IF(AND($C$95=\"Gravity\",$B$95=\"Below\",$E$95>=0),ABS($E$95),IF(AND($C$95=\"Gravity\",$B$95=\"Above\",$E$95<=0),ABS($E$95),0))))","v":3638.8545391606181},{"$f":"IF($L$95=0,\"\",IF($L$95>0,CHAR(233),CHAR(234)))","v":"ê"},{"$f":"IF(OR($F$95=\"\",$F$95=0),0,IF($C$95=\"Pinned\",ABS($F$95),IF(AND($C$95=\"Gravity\",$B$95=\"Behind\",$F$95<0),ABS($F$95),IF(AND($C$95=\"Gravity\",$B$95=\"In front\",$F$95>0),ABS($F$95),0))))","v":936.14652657066904},{"$f":"IF($M$95=0,\"\",IF($M$95>=0,CHAR(232),CHAR(231)))","v":"ç"},null,{"$f":"IF($G$95=0,0,$E$95)","v":-3638.8545391606181},{"$f":"IF($I$95=0,0,$F$95)","v":-936.14652657066904},null,"Boulder 2",{"$f":"IF(OR($F$25=\"\",$C88=\"\"),\"\",$AE$49-(($C88*$M$19)*$M$17))","v":""},{"$f":"IF(OR($G$25=\"\",$C88=\"\"),\"\",IF($A88=\"Behind\",MIN($R95,$S95),IF($A88=\"Deadman\",(MIN($R95,$S95))-($F$22+1),$R95+$F$22)))","v":""},{"$f":"IF($P95=\"\",\"\",($AF$49+(($P95-$AE$49)*$AA$40))-($F$22/2))","v":""},{"$f":"IF($P95=\"\",\"\",IF($P95<$B$14,(($P95-$B$13)*$AB$31)+$C$13,IF($P95<$B$15,(($P95-$B$14)*$AB$32)+$C$14,IF($P95<$B$16,(($P95-$B$15)*$AB$33)+$C$15,IF($P95<$B$17,(($P95-$B$16)*$AB$34)+$C$16,IF($P95<$B$18,(($P95-$B$17)*$AB$35)+$C$17,IF($P95<$B$19,(($P95-$B$18)*$AB$36)+$C$18)))))))","v":""},{"$f":"IF($Q95=\"\",\"\",IF(($Q95+$B88-$AE$8)>=$B88,$B88,IF(($Q95+$B88)>$AE$8,($Q95+$B88)-$AE$8,0)))","v":""},{"$f":"IF($T95=\"\",\"\",IF($T95>=$B88,0,(PI()/3)*(($B88-$T95)^2)*((1.5*$B88)-($B88-$T95))))","v":""},{"$f":"IF($C88=\"\",\"\",IF($A88=\"Deadman\",0,IF($Q95>=$AE$8,PI()*(($B88/2)^2),((($B88/2)^2)*ACOS((($B88/2)-$T95)/($B88/2)))-((($B88/2)-$T95)*SQRT(2*($B88/2)*$T95-($T95^2))))))","v":""},{"$f":"IF($P95=\"\",\"\",IF(OR($C$19=\"\",$F$25=\"\",$G$25=\"\"),\"None\",IF($P95<$B$14,\"Left Floodplain\",IF($P95<$B$15,\"Left Bank\",IF($P95<$B$16,\"Left Stream Bed\",IF($P95<$B$17,\"Right Stream Bed\",IF($P95<$B$18,\"Right Bank\",\"Right Floodplain\")))))))","v":""},{"$f":"IF($Q95=\"\",\"\",IF(($Q95+$B88)<=$S95,$B88,IF($Q95>=$S95,0,$S95-$Q95)))","v":""},{"$f":"IF($C88=\"\",\"\",IF($A88=\"Deadman\",PI()*(($B88/2)^2),IF($Q95>$S95,0,((($B88/2)^2)*ACOS((($B88/2)-$X95)/($B88/2)))-((($B88/2)-$X95)*SQRT(2*($B88/2)*$X95-($X95^2))))))","v":""},{"$f":"IF($C88=\"\",\"\",IF(((PI()*(($B88/2)^2))-$V95-$Y95)<0,0,(PI()*(($B88/2)^2))-$V95-$Y95))","v":""},"Point 3",{"$f":"IF($AB$93=\"\",0,$AB$93-($B$87/2))","v":0},{"$f":"IF($AC$93=\"\",$C$13,$AC$93+($B$87/2))","v":99.18},{"$f":"IF($AD$93=\"\",0,$AD$93-($B$88/2))","v":0},{"$f":"IF($AE$93=\"\",$C$13,$AE$93+($B$88/2))","v":99.18},{"$f":"IF($AF$93=\"\",0,$AF$93-($B$89/2))","v":0},{"$f":"IF($AG$93=\"\",$C$13,$AG$93+($B$89/2))","v":99.18},null,50,8,"Left Bank",51.572521390327452,96.683181091594051,51.563015766581735,94.683257245465711,95.972158889744321,0,0,0,"","",0,1.2889016442786101,1.2889016442786101,0,0,0,0,0,1.2889016442786101,0.11231778364306942,0,0,0.16,8,0,0,"",5.5668569867916915,0.12810714201692913,0.16,0,0.16,8,""]
["Foot#2","Below","Pinned",16.600000000000001,{"$f":"-'Foot#2'!E95","v":-3638.8545391606181},{"$f":"-'Foot#2'!F95","v":-936.14652657066904},{"$f":"IF(OR($E$96=\"\",$E$96=0),0,IF($C$96=\"Pinned\",ABS($E$96),IF(AND($C$96=\"Gravity\",$B$96=\"Below\",$E$96>=0),ABS($E$96),IF(AND($C$96=\"Gravity\",$B$96=\"Above\",$E$96<=0),ABS($E$96),0))))","v":3638.8545391606181},{"$f":"IF($L$96=0,\"\",IF($L$96>0,CHAR(233),CHAR(234)))","v":"ê"},{"$f":"IF(OR($F$96=\"\",$F$96=0),0,IF($C$96=\"Pinned\",ABS($F$96),IF(AND($C$96=\"Gravity\",$B$96=\"Behind\",$F$96<0),ABS($F$96),IF(AND($C$96=\"Gravity\",$B$96=\"In front\",$F$96>0),ABS($F$96),0))))","v":936.14652657066904},{"$f":"IF($M$96=0,\"\",IF($M$96>=0,CHAR(232),CHAR(231)))","v":"ç"},null,{"$f":"IF($G$96=0,0,$E$96)","v":-3638.8545391606181},{"$f":"IF($I$96=0,0,$F$96)","v":-936.14652657066904},null,"Boulder 3",{"$f":"IF(OR($F$25=\"\",$C89=\"\"),\"\",$AE$49-(($C89*$M$19)*$M$17))","v":""},{"$f":"IF(OR($G$25=\"\",$C89=\"\"),\"\",IF($A89=\"Behind\",MIN($R96,$S96),IF($A89=\"Deadman\",(MIN($R96,$S96))-($F$22+1),$R96+$F$22)))","v":""},{"$f":"IF($P96=\"\",\"\",($AF$49+(($P96-$AE$49)*$AA$40))-($F$22/2))","v":""},{"$f":"IF($P96=\"\",\"\",IF($P96<$B$14,(($P96-$B$13)*$AB$31)+$C$13,IF($P96<$B$15,(($P96-$B$14)*$AB$32)+$C$14,IF($P96<$B$16,(($P96-$B$15)*$AB$33)+$C$15,IF($P96<$B$17,(($P96-$B$16)*$AB$34)+$C$16,IF($P96<$B$18,(($P96-$B$17)*$AB$35)+$C$17,IF($P96<$B$19,(($P96-$B$18)*$AB$36)+$C$18)))))))","v":""},{"$f":"IF($Q96=\"\",\"\",IF(($Q96+$B89-$AE$8)>=$B89,$B89,IF(($Q96+$B89)>$AE$8,($Q96+$B89)-$AE$8,0)))","v":""},{"$f":"IF($T96=\"\",\"\",IF($T96>=$B89,0,(PI()/3)*(($B89-$T96)^2)*((1.5*$B89)-($B89-$T96))))","v":""},{"$f":"IF($C89=\"\",\"\",IF($A89=\"Deadman\",0,IF($Q96>=$AE$8,PI()*(($B89/2)^2),((($B89/2)^2)*ACOS((($B89/2)-$T96)/($B89/2)))-((($B89/2)-$T96)*SQRT(2*($B89/2)*$T96-($T96^2))))))","v":""},{"$f":"IF($P96=\"\",\"\",IF(OR($C$19=\"\",$F$25=\"\",$G$25=\"\"),\"None\",IF($P96<$B$14,\"Left Floodplain\",IF($P96<$B$15,\"Left Bank\",IF($P96<$B$16,\"Left Stream Bed\",IF($P96<$B$17,\"Right Stream Bed\",IF($P96<$B$18,\"Right Bank\",\"Right Floodplain\")))))))","v":""},{"$f":"IF($Q96=\"\",\"\",IF(($Q96+$B89)<=$S96,$B89,IF($Q96>=$S96,0,$S96-$Q96)))","v":""},{"$f":"IF($C89=\"\",\"\",IF($A89=\"Deadman\",PI()*(($B89/2)^2),IF($Q96>$S96,0,((($B89/2)^2)*ACOS((($B89/2)-$X96)/($B89/2)))-((($B89/2)-$X96)*SQRT(2*($B89/2)*$X96-($X96^2))))))","v":""},{"$f":"IF($C89=\"\",\"\",IF(((PI()*(($B89/2)^2))-$V96-$Y96)<0,0,(PI()*(($B89/2)^2))-$V96-$Y96))","v":""},"Point 4",{"$f":"IF($AB$93=\"\",0,$AB$94)","v":0},{"$f":"IF($AC$97=\"\",$C$13,$AC$97-($B$87/25))","v":99.18},{"$f":"IF($AD$93=\"\",0,$AD$94)","v":0},{"$f":"IF($AE$97=\"\",$C$13,$AE$97-($B$88/25))","v":99.18},{"$f":"IF($AF$93=\"\",0,$AF$94)","v":0},{"$f":"IF($AG$97=\"\",$C$13,$AG$97-($B$89/25))","v":99.18},null,51,8.16,"Left Bank",51.659660317820162,96.681784845914308,51.650154694074445,94.681860999785968,95.959876450440589,0,0,0,"","",0,1.2780154506546211,1.2780154506546211,0,0,0,0,0,1.2780154506546211,0.11136913628461245,0,0,0.16,8.16,0,0,"",5.5682532324714344,0.12797313961723228,0.16,0,0.16,8.16,""]
[null,null,null,null,null,null,{"$f":"IF(OR($E$97=\"\",$E$97=0),0,IF($C$97=\"Pinned\",ABS($E$97),IF(AND($C$97=\"Gravity\",$B$97=\"Below\",$E$97>=0),ABS($E$97),IF(AND($C$97=\"Gravity\",$B$97=\"Above\",$E$97<=0),ABS($E$97),0))))","v":0},{"$f":"IF($L$97=0,\"\",IF($L$97>0,CHAR(233),CHAR(234)))","v":""},{"$f":"IF(OR($F$97=\"\",$F$97=0),0,IF($C$97=\"Pinned\",ABS($F$97),IF(AND($C$97=\"Gravity\",$B$97=\"Behind\",$F$97<0),ABS($F$97),IF(AND($C$97=\"Gravity\",$B$97=\"In front\",$F$97>0),ABS($F$97),0))))","v":0},{"$f":"IF($M$97=0,\"\",IF($M$97>=0,CHAR(232),CHAR(231)))","v":""},null,{"$f":"IF($G$97=0,0,$E$97)","v":0},{"$f":"IF($I$97=0,0,$F$97)","v":0},null,null,null,null,null,null,null,null,null,null,null,null,null,"Point 5",{"$f":"IF($AB$93=\"\",0,$AB$93)","v":0},{"$f":"IF($AC$93=\"\",$C$13,$AC$93+$B$87)","v":99.18},{"$f":"IF($AD$93=\"\",0,$AD$93)","v":0},{"$f":"IF($AE$93=\"\",$C$13,$AE$93+$B$88)","v":99.18},{"$f":"IF($AF$93=\"\",0,$AF$93)","v":0},{"$f":"IF($AG$93=\"\",$C$13,$AG$93+$B$89)","v":99.18},null,52,8.32,"Left Bank",51.746799245312872,96.680388600234565,51.737293621567161,94.680464754106225,95.947594011136843,0,0,0,"","",0,1.2671292570306179,1.2671292570306179,0,0,0,0,0,1.2671292570306179,0.11042048892615422,0,0,0.16,8.32,0,0,"",5.5696494781511774,0.12783927738648174,0.16,0,0.16,8.32,""]
[null,null,null,null,null,null,{"$f":"IF(OR($E$98=\"\",$E$98=0),0,IF($C$98=\"Pinned\",ABS($E$98),IF(AND($C$98=\"Gravity\",$B$98=\"Below\",$E$98>=0),ABS($E$98),IF(AND($C$98=\"Gravity\",$B$98=\"Above\",$E$98<=0),ABS($E$98),0))))","v":0},{"$f":"IF($L$98=0,\"\",IF($L$98>0,CHAR(233),CHAR(234)))","v":""},{"$f":"IF(OR($F$98=\"\",$F$98=0),0,IF($C$98=\"Pinned\",ABS($F$98),IF(AND($C$98=\"Gravity\",$B$98=\"Behind\",$F$98<0),ABS($F$98),IF(AND($C$98=\"Gravity\",$B$98=\"In front\",$F$98>0),ABS($F$98),0))))","v":0},{"$f":"IF($M$98=0,\"\",IF($M$98>=0,CHAR(232),CHAR(231)))","v":""},null,{"$f":"IF($G$98=0,0,$E$98)","v":0},{"$f":"IF($I$98=0,0,$F$98)","v":0},null,null,"FD,r (lbf)","FL,r (lbf)",null,null,null,"Soil Anchor Zone Calculation",null,null,null,null,null,"Point 6",{"$f":"IF($AB$93=\"\",0,$AB$93+($B$87/4))","v":0},{"$f":"IF($AC$93=\"\",$C$13,$AC$96)","v":99.18},{"$f":"IF($AD$93=\"\",\"\",$AD$93+($B$88/4))","v":0},{"$f":"IF($AE$93=\"\",$C$13,$AE$96)","v":99.18},{"$f":"IF($AF$93=\"\",0,$AF$93+($B$89/4))","v":0},{"$f":"IF($AG$93=\"\",$C$13,$AG$96)","v":99.18},null,53,8.48,"Left Bank",51.833938172805588,96.678992354554822,51.824432549059871,94.679068508426482,95.935311571833111,0,0,0,"","",0,1.2562430634066288,1.2562430634066288,0,0,0,0,0,1.2562430634066288,0.10947184156769725,0,0,0.16,8.48,0,0,"",5.5710457238309203,0.12770555517805834,0.16,0,0.16,8.48,""]
[null,null,null,null,null,null,null,null,null,null,null,{"$f":"$L$95+$L$96+$L$97+$L$98","v":-7277.7090783212361},{"$f":"$M$95+$M$96+$M$97+$M$98","v":-1872.2930531413381},null,"Boulder 1",{"$f":"IF(OR($F$25=\"\",$C87=\"\"),\"\",IF($A87=\"Behind\",0.5*CDrock*$Z94*SWWater*($J$6^2)/(2*g),CDrock*$Z94*SWWater*($J$6^2)/(2*g)))","v":""},{"$f":"IF(OR($F$25=\"\",$C87=\"\"),\"\",IF($A87=\"Behind\",0.5*CLrock*$Z94*SWWater*(($J$6^2)/(2*g)),CLrock*$Z94*SWWater*(($J$6^2)/(2*g))))","v":""},null,null,null,null,"xr,bot (ft)","Zone",null,null,null,"Point 7",{"$f":"IF($AB$93=\"\",0,$AB$93+($B$87/2))","v":0},{"$f":"IF($AC$93=\"\",$C$13,$AC$95)","v":99.18},{"$f":"IF($AD$93=\"\",0,$AD$93+($B$88/2))","v":0},{"$f":"IF($AE$93=\"\",$C$13,$AE$95)","v":99.18},{"$f":"IF($AF$93=\"\",\"\",$AF$93+($B$89/2))","v":0},{"$f":"IF($AG$93=\"\",$C$13,$AG$95)","v":99.18},null,54,8.64,"Left Bank",51.921077100298298,96.677596108875079,51.911571476552581,94.677672262746739,95.923029132529379,0,0,0,"","",0,1.2453568697826398,1.2453568697826398,0,0,0,0,0,1.2453568697826398,0.10852319420924028,0,0,0.16,8.64,0,0,"",5.5724419695106633,0.12757197284549618,0.16,0,0.16,8.64,""]
[null,null,null,null,null,null,null,null,null,null,null,null,null,null,"Boulder 2",{"$f":"IF(OR($F$25=\"\",$C88=\"\"),\"\",IF($A88=\"Behind\",0.5*CDrock*$Z95*SWWater*($J$6^2)/(2*g),CDrock*$Z95*SWWater*($J$6^2)/(2*g)))","v":""},{"$f":"IF(OR($F$25=\"\",$C88=\"\"),\"\",IF($A88=\"Behind\",0.5*CLrock*$Z95*SWWater*(($J$6^2)/(2*g)),CLrock*$Z95*SWWater*(($J$6^2)/(2*g))))","v":""},null,null,null,"Anchor 1",{"$f":"IF(OR($F$25=\"\",$H83=\"\"),\"\",$AE$49-(($H83*$M$19)*$M$17))","v":""},{"$f":"IF($V100=\"\",\"\",IF(OR($C$19=\"\",$F$25=\"\",$G$25=\"\"),\"None\",IF($V100<$B$14,\"Bank\",IF($V100<$B$15,\"Bank\",IF($V100<$B$16,\"Bed\",IF($V100<$B$17,\"Bed\",IF($V100<$B$18,\"Bank\",\"Bank\")))))))","v":""},null,null,null,"Point 8",{"$f":"IF($AB$93=\"\",0,$AB$98)","v":0},{"$f":"IF($AC$93=\"\",$C$13,$AC$94)","v":99.18},{"$f":"IF($AD$93=\"\",0,$AD$98)","v":0},{"$f":"IF($AE$93=\"\",$C$13,$AE$94)","v":99.18},{"$f":"IF($AF$93=\"\",0,$AF$98)","v":0},{"$f":"IF($AG$93=\"\",$C$13,$AG$94)","v":99.18},null,55,8.8000000000000007,"Left Bank",52.008216027791008,96.676199863195336,51.998710404045291,94.676276017066996,95.910746693225647,0,0,0,"","",0,1.2344706761586508,1.2344706761586508,0,0,0,0,0,1.2344706761586508,0.10757454685078328,0,0,0.16,8.8000000000000007,0,0,"",5.5738382151904062,0.12743853024248258,0.16,0,0.16,8.8000000000000007,""]
[null,null,null,null,null,null,null,null,null,null,null,null,null,null,"Boulder 3",{"$f":"IF(OR($F$25=\"\",$C89=\"\"),\"\",IF($A89=\"Behind\",0.5*CDrock*$Z96*SWWater*($J$6^2)/(2*g),CDrock*$Z96*SWWater*($J$6^2)/(2*g)))","v":""},{"$f":"IF(OR($F$25=\"\",$C89=\"\"),\"\",IF($A89=\"Behind\",0.5*CLrock*$Z96*SWWater*(($J$6^2)/(2*g)),CLrock*$Z96*SWWater*(($J$6^2)/(2*g))))","v":""},null,null,null,"Anchor 2",{"$f":"IF(OR($F$25=\"\",$H84=\"\"),\"\",$AE$49-(($H84*$M$19)*$M$17))","v":""},{"$f":"IF($V101=\"\",\"\",IF(OR($C$19=\"\",$F$25=\"\",$G$25=\"\"),\"None\",IF($V101<$B$14,\"Bank\",IF($V101<$B$15,\"Bank\",IF($V101<$B$16,\"Bed\",IF($V101<$B$17,\"Bed\",IF($V101<$B$18,\"Bank\",\"Bank\")))))))","v":""},null,null,null,"Point 9",{"$f":"IF($AB$93=\"\",0,$AB$93)","v":0},{"$f":"IF($AC$93=\"\",$C$13,$AC$93)","v":99.18},{"$f":"IF($AD$93=\"\",0,$AD$93)","v":0},{"$f":"IF($AE$93=\"\",$C$13,$AE$93)","v":99.18},{"$f":"IF($AF$93=\"\",0,$AF$93)","v":0},{"$f":"IF($AG$93=\"\",$C$13,$AG$93)","v":99.18},null,56,8.9600000000000009,"Left Bank",52.095354955283717,96.674803617515593,52.085849331538,94.674879771387253,95.898464253921915,0,0,0,"","",0,1.2235844825346618,1.2235844825346618,0,0,0,0,0,1.2235844825346618,0.10662589949232631,0,0,0.16,8.9600000000000009,0,0,"",5.5752344608701492,0.12730522722285798,0.16,0,0.16,8.9600000000000009,""]
[null,null,null,null,null,null,null,null,null,null,null,null,null,null,null,null,null,null,null,null,null,null,null,null,null,null,null,null,null,null,null,null,null,null,57,9.1199999999999992,"Left Bank",52.182493882776427,96.67340737183585,52.17298825903071,94.67348352570751,95.886181814618169,0,0,0,"","",0,1.2126982889106586,1.2126982889106586,0,0,0,0,0,1.2126982889106586,0.10567725213386811,0,0,0.16,9.1199999999999992,0,0,"",5.5766307065498921,0.12717206364061542,0.16,0,0.16,9.1199999999999992,""]
[null,null,null,null,null,null,null,null,null,null,null,null,null,null,null,null,null,null,null,null,null,null,null,null,null,null,null,"Anchor #1",null,null,null,"Soil Ballast #1",null,null,58,9.2799999999999994,"Left Bank",52.269632810269137,96.672011126156107,52.26012718652342,94.672087280027768,95.873899375314437,0,0,0,"","",0,1.2018120952866695,1.2018120952866695,0,0,0,0,0,1.2018120952866695,0.10472860477541111,0,0,0.16,9.2799999999999994,0,0,"",5.5780269522296351,0.12703903934990099,0.16,0,0.16,9.2799999999999994,""]
[null,null,null,null,null,null,null,null,null,null,null,null,null,null,null,null,null,null,null,null,null,null,null,null,null,null,null,"xTS (ft)","yTS (ft)",null,null,"xTS (ft)","yTS (ft)",null,59,9.44,"Left Bank",52.356771737761846,96.670614880476364,52.347266114016129,94.670691034348025,95.861616936010705,0,0,0,"","",0,1.1909259016626805,1.1909259016626805,0,0,0,0,0,1.1909259016626805,0.10377995741695414,0,0,0.16,9.44,0,0,"",5.579423197909378,0.12690615420501317,0.16,0,0.16,9.44,""]
[null,null,null,null,null,null,null,null,null,null,null,null,null,null,null,null,null,null,null,null,null,null,null,null,null,null,"Point 1",{"$f":"IF(OR($F$25=\"\",$H83=\"\"),0,$AE$49-(($H83*$M$19)*$M$17))","v":0},{"$f":"IF(OR($AB105=\"\",$AB$105=0),$C$13,($AF$49+(($AB105-$AE$49)*$AA$40))-($F$22/2))","v":99.18},null,"Point 1",{"$f":"IF(OR($F$25=\"\",$C83=\"\"),0,($AE$49-(($C83*$M$19)*$M$17))+(ABS(2*$M$17*$M$19)))","v":0},{"$f":"IF(OR($AF105=\"\",$AF$105=0),$C$13,($AF$49+(($AF105-$AE$49)*$AA$40))+($F$22/2))","v":99.18},null,60,9.6,"Left Bank",52.443910665254563,96.669218634796621,52.434405041508839,94.669294788668282,95.849334496706973,0,0,0,"","",0,1.1800397080386915,1.1800397080386915,0,0,0,0,0,1.1800397080386915,0.10283131005849716,0,0,0.16,9.6,0,0,"",5.580819443589121,0.12677340806040291,0.16,0,0.16,9.6,""]
[null,null,null,null,null,null,null,null,null,null,null,null,null,null,null,null,null,null,null,null,null,null,null,null,null,null,"Point 2",{"$f":"IF($AB105=\"\",0,$AB105)","v":0},{"$f":"IF(OR($AC105=\"\",$AB$105=0),$C$13,$AC105-4)","v":99.18},null,"Point 2",{"$f":"IF($AF105=\"\",0,$AF105)","v":0},{"$f":"IF(OR($AG105=\"\",$AF$105=0),$C$13,IF($AG$105>$AG$108,$AG105+2.25,$AG$108+2.25))","v":99.18},null,61,9.76,"Left Bank",52.531049592747266,96.667822389116878,52.521543969001556,94.667898542988539,95.837052057403241,0,0,0,"","",0,1.1691535144147025,1.1691535144147025,0,0,0,0,0,1.1691535144147025,0.10188266270004018,0,0,0.16,9.76,0,0,"",5.5822156892688639,0.12664080077067355,0.16,0,0.16,9.76,""]
[null,null,null,null,null,null,null,null,null,null,null,null,null,null,null,null,null,null,null,null,null,null,null,null,null,null,null,null,null,null,"Point 3",{"$f":"IF(OR($F$25=\"\",$C83=\"\"),0,($AE$49-(($C83*$M$19)*$M$17))-(ABS(2*$M$17*$M$19)))","v":0},{"$f":"IF(OR($AG106=\"\",$AF$105=0),$C$13,$AG106)","v":99.18},null,62,9.92,"Left Bank",52.618188520239983,96.666426143437135,52.608682896494265,94.666502297308796,95.824769618099509,0,0,0,"","",0,1.1582673207907135,1.1582673207907135,0,0,0,0,0,1.1582673207907135,0.10093401534158321,0,0,0.16,9.92,0,0,"",5.5836119349486069,0.12650833219058008,0.16,0,0.16,9.92,""]
[null,null,null,null,null,null,null,null,null,null,null,null,null,null,null,null,null,null,null,null,null,null,null,null,null,null,null,"Anchor #2",null,null,"Point 4",{"$f":"IF($AF105=\"\",0,$AF107)","v":0},{"$f":"IF(OR($AG105=\"\",$AF$105=0),$C$13,$AG105-((ABS($AF$105-$AF$108))*$AA$40))","v":99.18},null,63,10.08,"Left Bank",52.705327447732692,96.665029897757393,52.695821823986975,94.665106051629053,95.812487178795763,0,0,0,"","",0,1.1473811271667103,1.1473811271667103,0,0,0,0,0,1.1473811271667103,9.998536798312499E-2,0,0,0.16,10.08,0,0,"",5.5850081806283498,0.12637600217502981,0.16,0,0.16,10.08,""]
[null,null,null,null,null,null,null,null,null,null,null,null,null,null,null,null,null,null,null,null,null,null,null,null,null,null,null,"xTS (ft)","yTS (ft)",null,null,null,null,null,64,10.24,{"$f":"IF(OR($C$19=\"\",$F$25=\"\",$G$25=\"\"),\"None\",IF(AL109<$B$14,\"Left Floodplain\",IF(AL109<$B$15,\"Left Bank\",IF(AL109<$B$16,\"Left Stream Bed\",IF(AL109<$B$17,\"Right Stream Bed\",IF(AL109<$B$18,\"Right Bank\",\"Right Floodplain\"))))))","v":"Left Bank"},52.792466375225402,96.66363365207765,52.782960751479685,94.66370980594931,95.800204739492031,{"$f":"IF(OR($AP109<$AE$12,$AP109<=$AM109),0,IF(OR($AP109>=$AE$12,$AM109>=$AE$12),$AP109-$AM109-$AR109,$AP109-$AE$12))","v":0},{"$f":"IF($AP109<=$AM109,0,IF($AM109>=$AE$12,0,IF($AP109<=$AE$12,$AP109-$AM109,$AE$12-$AM109)))","v":0},0,"","",0,{"$f":"IF($AP109<=$AO109,0,IF($AO109>=$AE$12,0,IF($AP109<=$AE$12,$AP109-$AO109,$AE$12-$AO109)))","v":1.1364949335427212},{"$f":"IF(AP109<=AO109,0,AP109-AO109)","v":1.1364949335427212},{"$f":"IF($AS109=0,0,IF(OR($AJ109=0,$AJ109=$E$22),$AJ$46/2,$AJ$46))","v":0},{"$f":"IF(OR($AK109=\"Left Stream Bed\",$AK109=\"Right Stream Bed\"),$F$22*$AQ109*$AY109,0)","v":0},{"$f":"IF(OR($AK109=\"Left Stream Bed\",$AK109=\"Right Stream Bed\"),$F$22*$AR109*$AY109,0)","v":0},{"$f":"IF(OR($AK109=\"Left Floodplain\",$AK109=\"Left Bank\",$AK109=\"Right Bank\",$AK109=\"Right Floodplain\"),$F$22*$AQ109*$AY109,0)","v":0},{"$f":"IF(OR($AK109=\"Left Floodplain\",$AK109=\"Left Bank\",$AK109=\"Right Bank\",$AK109=\"Right Floodplain\"),$F$22*$AR109*$AY109,0)","v":0},{"$f":"AX109-AS109","v":1.1364949335427212},9.9036720624668007E-2,0,{"$f":"IF(OR($AJ109=0,$AJ109=$E$22),($BF109*$AJ$46/2)*ABS($M$17),$BF109*$AJ$46*ABS($M$17))","v":0},{"$f":"IF(OR($AM109<$AP109,$AO109>$AE$8),\"\",IF(OR($AJ109=0,$AJ109=$E$22),$AJ$46/2,$AJ$46))","v":0.16},10.24,0,{"$f":"IF($BJ109=\"\",\"\",IF(OR($BJ109>($F$22/2),$BJ109=0),0,0.45-($BJ109*0.45/($F$22/2))))","v":0},{"$f":"IF($BK109=\"\",\"\",IF($BK109>0,$AJ109,\"\"))","v":""},5.5864044263080928,0.12624381057908177,{"$f":"IF($AO109=0,0,IF($AO109>$AP109,0,IF(OR($AJ109=0,$AJ109=$E$22),$AJ$46/2,$AJ$46)))","v":0.16},{"$f":"IF(AND($BO109>0,OR($AK109=\"Left Stream Bed\",$AK109=\"Right Stream Bed\")),$BO109,0)","v":0},{"$f":"IF(AND($BO109>0,OR($AK109=\"Left Floodplain\",$AK109=\"Left Bank\",$AK109=\"Right Bank\",$AK109=\"Right Floodplain\")),$BO109,0)","v":0.16},{"$f":"IF($BO109>0,$AJ109,\"\")","v":10.24},""]
[null,null,null,null,null,null,null,null,null,null,null,null,null,null,null,null,null,null,null,null,null,null,null,null,null,null,"Point 1",{"$f":"IF(OR($F$25=\"\",$H84=\"\"),0,$AE$49-(($H84*$M$19)*$M$17))","v":0},{"$f":"IF(OR($AB$110=0,$AB110=\"\"),$C$13,($AF$49+(($AB110-$AE$49)*$AA$40))-($F$22/2))","v":99.18},null,null,"Log Interactions",null,null,65,{"$f":"($AI110/$AI$245)*$AJ$245","v":10.4},"Left Bank",52.879605302718112,96.662237406397907,{"$f":"$AN$45+ABS(AJ110*$M$19*$M$17)","v":52.870099678972394},94.662313560269567,95.787922300188299,0,0,{"$f":"IF(AP110<=AM110,0,AP110-AM110)","v":0},{"$f":"IF(OR($AS110=\"\",$AS110=0),\"\",IF(OR($AK110=\"Left Stream Bed\",$AK110=\"Right Stream Bed\"),$AS110,\"\"))","v":""},{"$f":"IF(OR($AS110=\"\",$AS110=0),\"\",IF(OR($AK110=\"Left Floodplain\",$AK110=\"Left Bank\",$AK110=\"Right Bank\",$AK110=\"Right Floodplain\"),$AS110,\"\"))","v":""},{"$f":"IF(OR($AP110<$AE$12,$AP110<=$AO110),0,IF($AO110>=$AE$12,$AP110-$AO110,$AP110-$AE$12))","v":0},1.1256087399187322,1.1256087399187322,0,0,0,0,0,1.1256087399187322,{"$f":"$BD110*$AJ$46*ABS($M$17)","v":9.8088073266211023E-2},{"$f":"AV110-AQ110","v":0},0,0.16,{"$f":"IF($BH110=\"\",\"\",IF($BH110>0,$AJ110,\"\"))","v":10.4},{"$f":"IF($BH110=\"\",\"\",IF(OR(($AO110-$AP110)<0,$AO$45>=$AE$8),0,($AO110-$AP110)))","v":0},0,"",{"$f":"IF($BH110=\"\",\"\",IF(OR(($AM110-$AP110)<0,$AM110>=$AE$8),\"\",($AE$8-($AM110-(($F$22/2)/$M$19)))))","v":5.5878006719878357},0.1261117572579466,0.16,0,0.16,10.4,{"$f":"IF($AY110>0,$AJ110,\"\")","v":""}]
[null,null,null,null,null,null,null,null,null,null,null,null,null,null,null,null,null,null,null,null,null,null,null,null,null,null,"Point 2",{"$f":"IF($AB110=\"\",0,$AB110)","v":0},{"$f":"IF(OR($AB$110=0,$AC110=\"\"),$C$13,$AC110-4)","v":99.18},null,null,"xTS (ft)","yTS (ft)",null,66,10.56,"Left Bank",52.966744230210821,{"$f":"AM110+((AL111-AL110)*$AA$40)","v":96.660841160718164},52.957238606465104,{"$f":"AO110+((AN111-AN110)*$AA$40)","v":94.660917314589824},{"$f":"IF($AL111<$B$14,(($AL111-$B$13)*$AB$31)+$C$13,IF($AL111<$B$15,(($AL111-$B$14)*$AB$32)+$C$14,IF($AL111<$B$16,(($AL111-$B$15)*$AB$33)+$C$15,IF($AL111<$B$17,(($AL111-$B$16)*$AB$34)+$C$16,IF($AL111<$B$18,(($AL111-$B$17)*$AB$35)+$C$17,IF($AL111<$B$19,(($AL111-$B$18)*$AB$36)+$C$18))))))","v":95.775639860884567},0,0,0,"","",0,1.1147225462947432,1.1147225462947432,0,0,0,0,0,1.1147225462947432,9.7139425907754054E-2,0,0,0.16,10.56,0,0,"",5.5891969176675786,{"$f":"IF($BM111=\"\",\"\",(((PI()^2)/32)*($B$66^-6)*EXP(-($BM111/$F$22)/(2*($B$66^2)))))","v":0.12597984206698609},0.16,0,0.16,10.56,""]
[null,null,null,null,null,null,null,null,null,null,null,null,null,null,null,null,null,null,null,null,null,null,null,null,null,null,null,null,null,null,"Point 1",{"$f":"IF(OR($F$25=\"\",$C90=\"\"),0,($AE$49-(($C90*$M$19)*$M$17))+(ABS(2*$M$17*$M$19)))","v":0},{"$f":"IF(OR($AF112=\"\",$AF$105=0),$C$13,($AF$49+(($AF112-$AE$49)*$AA$40))+($F$22/2))","v":99.18},null,67,10.72,"Left Bank",{"$f":"$AL$45+ABS(AJ112*$M$19*$M$17)","v":53.053883157703531},96.659444915038421,53.044377533957814,94.659521068910081,95.763357421580835,0,0,0,"","",0,1.1038363526707542,1.1038363526707542,0,0,0,0,0,1.1038363526707542,9.6190778549297071E-2,0,0,0.16,10.72,0,0,"",5.5905931633473216,0.12584806486171374,0.16,0,0.16,10.72,""]
[null,null,null,null,null,null,null,null,null,null,null,null,null,null,null,null,null,null,null,null,null,null,null,null,null,null,null,null,null,null,"Point 2",{"$f":"IF($AF112=\"\",0,$AF112)","v":0},{"$f":"IF(OR($AG112=\"\",$AF$105=0),$C$13,IF($AG$105>$AG$108,$AG112+2.25,$AG$108+2.25))","v":99.18},null,68,10.88,"Left Bank",53.141022085196241,96.658048669358678,53.131516461450531,94.658124823230338,95.751074982277103,0,0,0,"","",0,1.0929501590467652,1.0929501590467652,0,0,0,0,0,1.0929501590467652,9.5242131190840087E-2,0,0,0.16,10.88,0,0,"",5.5919894090270645,0.12571642549779397,0.16,0,0.16,10.88,""]
[null,null,null,null,null,null,null,null,null,null,null,null,null,null,null,null,null,null,null,null,null,null,null,null,null,null,null,null,null,null,"Point 3",{"$f":"IF(OR($F$25=\"\",$C90=\"\"),0,($AE$49-(($C90*$M$19)*$M$17))-(ABS(2*$M$17*$M$19)))","v":0},{"$f":"IF(OR($AG113=\"\",$AF$105=0),$C$13,$AG113)","v":99.18},null,69,11.04,"Left Bank",53.228161012688957,96.656652423678935,53.218655388943233,94.656728577550595,95.738792542973357,0,0,0,"","",0,1.082063965422762,1.082063965422762,0,0,0,0,0,1.082063965422762,9.4293483832381883E-2,0,0,0.16,11.04,0,0,"",5.5933856547068075,0.12558492383104222,0.16,0,0.16,11.04,""]
[null,null,null,null,null,null,null,null,null,null,null,null,null,null,null,null,null,null,null,null,null,null,null,null,null,null,null,null,null,null,"Point 4",{"$f":"IF($AF112=\"\",0,$AF114)","v":0},{"$f":"IF(OR($AG112=\"\",$AF$105=0),$C$13,$AG112-((ABS($AF$105-$AF$108))*$AA$40))","v":99.18},null,70,11.2,"Left Bank",53.315299940181667,96.655256177999192,53.30579431643595,94.655332331870852,95.726510103669625,0,0,0,"","",0,1.0711777717987729,1.0711777717987729,0,0,0,0,0,1.0711777717987729,9.3344836473924886E-2,0,0,0.16,11.2,0,0,"",5.5947819003865504,0.12545355971742486,0.16,0,0.16,11.2,""]
[null,null,null,null,null,null,null,null,null,null,null,null,null,null,null,null,null,null,null,null,null,null,null,null,null,null,null,null,null,null,null,null,null,null,71,11.36,"Left Bank",53.402438867674377,96.653859932319449,53.39293324392866,94.653936086191109,95.714227664365893,0,0,0,"","",0,1.0602915781747839,1.0602915781747839,0,0,0,0,0,1.0602915781747839,9.2396189115467917E-2,0,0,0.16,11.36,0,0,"",5.5961781460662934,0.12532233301305862,0.16,0,0.16,11.36,""]
[null,null,null,null,null,null,null,null,null,null,null,null,null,null,null,null,null,null,null,null,null,null,null,null,null,null,null,null,null,null,null,null,null,null,72,11.52,"Left Bank",53.489577795167087,96.652463686639706,53.480072171421369,94.652539840511366,95.701945225062161,0,0,0,"","",0,1.0494053845507949,1.0494053845507949,0,0,0,0,0,1.0494053845507949,9.1447541757010947E-2,0,0,0.16,11.52,0,0,"",5.5975743917460363,0.12519124357421099,0.16,0,0.16,11.52,""]
[null,null,null,null,null,null,null,null,null,null,null,null,null,null,null,null,null,null,null,null,null,null,null,null,null,null,null,null,null,null,null,null,null,null,73,11.68,"Left Bank",53.576716722659796,96.651067440959963,53.567211098914079,94.651143594831623,95.689662785758429,0,0,0,"","",0,1.0385191909268059,1.0385191909268059,0,0,0,0,0,1.0385191909268059,9.049889439855395E-2,0,0,0.16,11.68,0,0,"",5.5989706374257793,0.12506029125729978,0.16,0,0.16,11.68,""]
[null,null,null,null,null,null,null,null,null,null,null,null,null,null,null,null,null,null,null,null,null,null,null,null,null,null,null,null,null,null,null,null,null,null,74,11.84,"Left Bank",53.663855650152506,96.64967119528022,53.654350026406789,94.64974734915188,95.677380346454697,0,0,0,"","",0,1.0276329973028169,1.0276329973028169,0,0,0,0,0,1.0276329973028169,8.9550247040096981E-2,0,0,0.16,11.84,0,0,"",5.6003668831055222,0.12492947591889292,0.16,0,0.16,11.84,""]
[null,null,null,null,null,null,null,null,null,null,null,null,null,null,null,null,null,null,null,null,null,null,null,null,null,null,null,null,null,null,null,null,null,null,75,12,"Left Bank",53.750994577645216,96.648274949600477,53.741488953899498,94.648351103472137,95.665097907150951,0,0,0,"","",0,1.0167468036788136,1.0167468036788136,0,0,0,0,0,1.0167468036788136,8.8601599681638762E-2,0,0,0.16,12,0,0,"",5.6017631287852652,0.12479879741570854,0.16,0,0.16,12,""]
[null,null,null,null,null,null,null,null,null,null,null,null,null,null,null,null,null,null,null,null,null,null,null,null,null,null,null,null,null,null,null,null,null,null,76,12.16,"Left Bank",53.838133505137932,96.646878703920734,53.828627881392208,94.646954857792394,95.652815467847219,0,0,0,"","",0,1.0058606100548246,1.0058606100548246,0,0,0,0,0,1.0058606100548246,8.7652952323181779E-2,0,0,0.16,12.16,0,0,"",5.6031593744650081,0.12466825560461427,0.16,0,0.16,12.16,""]
[null,null,null,null,null,null,null,null,null,null,null,null,null,null,null,null,null,null,null,null,null,null,null,null,null,null,null,null,null,null,null,null,null,null,77,12.32,"Left Bank",53.925272432630635,96.645482458240991,53.915766808884925,94.645558612112652,95.640533028543487,0,0,0,"","",0,0.99497441643083562,0.99497441643083562,0,0,0,0,0,0.99497441643083562,8.670430496472481E-2,0,0,0.16,12.32,0,0,"",5.6045556201447511,0.12453785034262782,0.16,0,0.16,12.32,""]
[null,null,null,null,null,null,null,null,null,null,null,null,null,null,null,null,null,null,null,null,null,null,null,null,null,null,null,null,null,null,null,null,null,null,78,12.48,"Left Stream Bed",54.012411360123352,96.644086212561248,54.002905736377635,94.644162366432909,95.628595034034035,0,0,0,"","",0,0.98443266760112635,0.98443266760112635,0,0,0,0,0,0.98443266760112635,8.578567329912741E-2,0,0,0.16,12.48,0,0,"",5.605951865824494,0.12440758148691636,0.16,0.16,0,12.48,""]
[null,null,null,null,null,null,null,null,null,null,null,null,null,null,null,null,null,null,null,null,null,null,null,null,null,null,null,null,null,null,null,null,null,null,79,12.64,"Left Stream Bed",54.099550287616061,96.642689966881505,54.090044663870344,94.642766120753166,95.618730907441858,0,0,0,"","",0,0.97596478668869224,0.97596478668869224,0,0,0,0,0,0.97596478668869224,8.5047763140924187E-2,0,0,0.16,12.64,0,0,"",5.607348111504237,0.1242774488947964,0.16,0.16,0,12.64,""]
[null,null,null,null,null,null,null,null,null,null,null,null,null,null,null,null,null,null,null,null,null,null,null,null,null,null,null,null,null,null,null,null,null,null,80,12.8,"Left Stream Bed",54.186689215108771,96.641293721201762,54.177183591363054,94.641369875073423,95.608866780849681,0,0,0,"","",0,0.96749690577625813,0.96749690577625813,0,0,0,0,0,0.96749690577625813,8.4309852982720937E-2,0,0,0.16,12.8,0,0,"",5.6087443571839799,0.12414745242373389,0.16,0.16,0,12.8,""]
[null,null,null,null,null,null,null,null,null,null,null,null,null,null,null,null,null,null,null,null,null,null,null,null,null,null,null,null,null,null,null,null,null,null,81,12.96,"Left Stream Bed",54.273828142601481,96.639897475522019,54.264322518855764,94.63997362939368,95.599002654257504,0,0,0,"","",0,0.95902902486382402,0.95902902486382402,0,0,0,0,0,0.95902902486382402,8.3571942824517687E-2,0,0,0.16,12.96,0,0,"",5.6101406028637228,0.12401759193134348,0.16,0.16,0,12.96,""]
[null,null,null,null,null,null,null,null,null,null,null,null,null,null,null,null,null,null,null,null,null,null,null,null,null,null,null,null,null,null,null,null,null,null,82,13.12,"Left Stream Bed",54.36096707009419,96.638501229842277,54.351461446348473,94.638577383713937,95.589138527665327,0,0,0,"","",0,0.95056114395138991,0.95056114395138991,0,0,0,0,0,0.95056114395138991,8.283403266631445E-2,0,0,0.16,13.12,0,0,"",5.6115368485434658,0.12388786727538915,0.16,0.16,0,13.12,""]
[null,null,null,null,null,null,null,null,null,null,null,null,null,null,null,null,null,null,null,null,null,null,null,null,null,null,null,null,null,null,null,null,null,null,83,13.28,"Left Stream Bed",54.4481059975869,96.637104984162534,54.438600373841183,94.637181138034194,95.579274401073164,0,0,0,"","",0,0.94209326303897001,0.94209326303897001,0,0,0,0,0,0.94209326303897001,8.2096122508112435E-2,0,0,0.16,13.28,0,0,"",5.6129330942232087,0.1237582783137835,0.16,0.16,0,13.28,""]
[null,null,null,null,null,null,null,null,null,null,null,null,null,null,null,null,null,null,null,null,null,null,null,null,null,null,null,null,null,null,null,null,null,null,84,13.44,"Left Stream Bed",54.53524492507961,96.635708738482791,54.525739301333893,94.635784892354451,95.569410274480987,0,0,0,"","",0,0.9336253821265359,0.9336253821265359,0,0,0,0,0,0.9336253821265359,8.1358212349909184E-2,0,0,0.16,13.44,0,0,"",5.6143293399029517,0.1236288249045879,0.16,0.16,0,13.44,""]
[null,null,null,null,null,null,null,null,null,null,null,null,null,null,null,null,null,null,null,null,null,null,null,null,null,null,null,null,null,null,null,null,null,null,85,13.6,"Left Stream Bed",54.622383852572327,96.634312492803048,54.612878228826602,94.634388646674708,95.55954614788881,0,0,0,"","",0,0.92515750121410179,0.92515750121410179,0,0,0,0,0,0.92515750121410179,8.0620302191705948E-2,0,0,0.16,13.6,0,0,"",5.6157255855826946,0.12349950690601183,0.16,0.16,0,13.6,""]
[null,null,null,null,null,null,null,null,null,null,null,null,null,null,null,null,null,null,null,null,null,null,null,null,null,null,null,null,null,null,null,null,null,null,86,13.76,"Left Stream Bed",54.709522780065036,96.632916247123305,54.700017156319319,94.632992400994965,95.549682021296633,0,0,0,"","",0,0.91668962030166767,0.91668962030166767,0,0,0,0,0,0.91668962030166767,7.9882392033502697E-2,0,0,0.16,13.76,0,0,"",5.6171218312624376,0.12337032417641342,0.16,0.16,0,13.76,""]
[null,null,null,null,null,null,null,null,null,null,null,null,null,null,null,null,null,null,null,null,null,null,null,null,null,null,null,null,null,null,null,null,null,null,87,13.92,"Left Stream Bed",54.796661707557746,96.631520001443562,54.787156083812029,94.631596155315222,95.539817894704456,0,0,0,"","",0,0.90822173938923356,0.90822173938923356,0,0,0,0,0,0.90822173938923356,7.9144481875299447E-2,0,0,0.16,13.92,0,0,"",5.6185180769421805,0.12324127657429888,0.16,0.16,0,13.92,""]
[null,null,null,null,null,null,null,null,null,null,null,null,null,null,null,null,null,null,null,null,null,null,null,null,null,null,null,null,null,null,null,null,null,null,88,14.08,"Left Stream Bed",54.883800635050456,96.630123755763819,54.874295011304739,94.630199909635479,95.529953768112279,0,0,0,"","",0,0.89975385847679945,0.89975385847679945,0,0,0,0,0,0.89975385847679945,7.8406571717096224E-2,0,0,0.16,14.08,0,0,"",5.6199143226219235,0.1231123639583224,0.16,0.16,0,14.08,""]
[null,null,null,null,null,null,null,null,null,null,null,null,null,null,null,null,null,null,null,null,null,null,null,null,null,null,null,null,null,null,null,null,null,null,89,14.24,"Left Stream Bed",54.970939562543165,96.628727510084076,54.961433938797448,94.628803663955736,95.520089641520116,0,0,0,"","",0,0.89128597756437955,0.89128597756437955,0,0,0,0,0,0.89128597756437955,7.7668661558894209E-2,0,0,0.16,14.24,0,0,"",5.6213105683016664,0.12298358618728612,0.16,0.16,0,14.24,""]
[null,null,null,null,null,null,null,null,null,null,null,null,null,null,null,null,null,null,null,null,null,null,null,null,null,null,null,null,null,null,null,null,null,null,90,14.4,"Left Stream Bed",55.058078490035875,96.627331264404333,55.048572866290158,94.627407418275993,95.510225514927939,0,0,0,"","",0,0.88281809665194544,0.88281809665194544,0,0,0,0,0,0.88281809665194544,7.6930751400690958E-2,0,0,0.16,14.4,0,0,"",5.6227068139814094,0.12285494312013959,0.16,0.16,0,14.4,""]
[null,null,null,null,null,null,null,null,null,null,null,null,null,null,null,null,null,null,null,null,null,null,null,null,null,null,null,null,null,null,null,null,null,null,91,14.56,"Left Stream Bed",55.145217417528585,96.62593501872459,55.135711793782868,94.62601117259625,95.500361388335762,0,0,0,"","",0,0.87435021573951133,0.87435021573951133,0,0,0,0,0,0.87435021573951133,7.6192841242487708E-2,0,0,0.16,14.56,0,0,"",5.6241030596611523,0.12272643461598018,0.16,0.16,0,14.56,""]
[null,null,null,null,null,null,null,null,null,null,null,null,null,null,null,null,null,null,null,null,null,null,null,null,null,null,null,null,null,null,null,null,null,null,92,14.72,"Left Stream Bed",55.232356345021302,96.624538773044847,55.222850721275577,94.624614926916507,95.490497261743585,0,0,0,"","",0,0.86588233482707722,0.86588233482707722,0,0,0,0,0,0.86588233482707722,7.5454931084284471E-2,0,0,0.16,14.72,0,0,"",5.6254993053408953,0.12259806053405256,0.16,0.16,0,14.72,""]
[null,null,null,null,null,null,null,null,null,null,null,null,null,null,null,null,null,null,null,null,null,null,null,null,null,null,null,null,null,null,null,null,null,null,93,14.88,"Left Stream Bed",55.319495272514004,96.623142527365104,55.309989648768294,94.623218681236764,95.480633135151407,0,0,0,"","",0,0.8574144539146431,0.8574144539146431,0,0,0,0,0,0.8574144539146431,7.4717020926081221E-2,0,0,0.16,14.88,0,0,"",5.6268955510206382,0.12246982073374865,0.16,0.16,0,14.88,""]
[null,null,null,null,null,null,null,null,null,null,null,null,null,null,null,null,null,null,null,null,null,null,null,null,null,null,null,null,null,null,null,null,null,null,94,15.04,"Left Stream Bed",55.406634200006721,96.621746281685361,55.397128576260997,94.621822435557021,95.47076900855923,0,0,0,"","",0,0.84894657300220899,0.84894657300220899,0,0,0,0,0,0.84894657300220899,7.397911076787797E-2,0,0,0.16,15.04,0,0,"",5.6282917967003812,0.12234171507460752,0.16,0.16,0,15.04,""]
[null,null,null,null,null,null,null,null,null,null,null,null,null,null,null,null,null,null,null,null,null,null,null,null,null,null,null,null,null,null,null,null,null,null,95,15.2,"Left Stream Bed",55.493773127499431,96.620350036005618,55.484267503753713,94.620426189877278,95.460904881967053,0,0,0,"","",0,0.84047869208977488,0.84047869208977488,0,0,0,0,0,0.84047869208977488,7.3241200609674734E-2,0,0,0.16,15.2,0,0,"",5.6296880423801241,0.12221374341631487,0.16,0.16,0,15.2,""]
[null,null,null,null,null,null,null,null,null,null,null,null,null,null,null,null,null,null,null,null,null,null,null,null,null,null,null,null,null,null,null,null,null,null,96,15.36,"Left Stream Bed",55.58091205499214,96.618953790325875,55.571406431246423,94.619029944197536,95.451040755374891,0,0,0,"","",0,0.83201081117735498,0.83201081117735498,0,0,0,0,0,0.83201081117735498,7.2503290451472732E-2,0,0,0.16,15.36,0,0,"",5.631084288059867,0.12208590561870346,0.16,0.16,0,15.36,""]
[null,null,null,null,null,null,null,null,null,null,null,null,null,null,null,null,null,null,null,null,null,null,null,null,null,null,null,null,null,null,null,null,null,null,97,15.52,"Left Stream Bed",55.66805098248485,96.617557544646132,55.658545358739133,94.617633698517793,95.441176628782713,0,0,0,"","",0,0.82354293026492087,0.82354293026492087,0,0,0,0,0,0.82354293026492087,7.1765380293269482E-2,0,0,0.16,15.52,0,0,"",5.63248053373961,0.12195820154175262,0.16,0.16,0,15.52,""]
[null,null,null,null,null,null,null,null,null,null,null,null,null,null,null,null,null,null,null,null,null,null,null,null,null,null,null,null,null,null,null,null,null,null,98,15.68,"Left Stream Bed",55.75518990997756,96.616161298966389,55.745684286231842,94.61623745283805,95.431312502190536,0,0,0,"","",0,0.81507504935248676,0.81507504935248676,0,0,0,0,0,0.81507504935248676,7.1027470135066245E-2,0,0,0.16,15.68,0,0,"",5.6338767794193529,0.12183063104558818,0.16,0.16,0,15.68,""]
[null,null,null,null,null,null,null,null,null,null,null,null,null,null,null,null,null,null,null,null,null,null,null,null,null,null,null,null,null,null,null,null,null,null,99,15.84,"Left Stream Bed",55.842328837470269,96.614765053286646,55.832823213724552,94.614841207158307,95.421448375598359,0,0,0,"","",0,0.80660716844005265,0.80660716844005265,0,0,0,0,0,0.80660716844005265,7.0289559976862995E-2,0,0,0.16,15.84,0,0,"",5.6352730250990959,0.12170319399048202,0.16,0.16,0,15.84,""]
[null,null,null,null,null,null,null,null,null,null,null,null,null,null,null,null,null,null,null,null,null,null,null,null,null,null,null,null,null,null,null,null,null,null,100,16,"Left Stream Bed",55.929467764962979,96.613368807606903,55.919962141217262,94.613444961478564,95.411584249006182,0,0,0,"","",0,0.79813928752761854,0.79813928752761854,0,0,0,0,0,0.79813928752761854,6.9551649818659744E-2,0,0,0.16,16,0,0,"",5.6366692707788388,0.12157589023685247,0.16,0.16,0,16,""]
[null,null,null,null,null,null,null,null,null,null,null,null,null,null,null,null,null,null,null,null,null,null,null,null,null,null,null,null,null,null,null,null,null,null,101,16.16,"Left Stream Bed",56.016606692455696,96.611972561927161,56.007101068709972,94.612048715798821,95.401720122414005,0,0,0,"","",0,0.78967140661518442,0.78967140661518442,0,0,0,0,0,0.78967140661518442,6.8813739660456494E-2,0,0,0.16,16.16,0,0,"",5.6380655164585818,0.12144871964526376,0.16,0.16,0,16.16,""]
[null,null,null,null,null,null,null,null,null,null,null,null,null,null,null,null,null,null,null,null,null,null,null,null,null,null,null,null,null,null,null,null,null,null,102,16.32,"Left Stream Bed",56.103745619948398,96.610576316247418,56.094239996202688,94.610652470119078,95.391855995821842,0,0,0,"","",0,0.78120352570276452,0.78120352570276452,0,0,0,0,0,0.78120352570276452,6.8075829502254492E-2,0,0,0.16,16.32,0,0,"",5.6394617621383247,0.12132168207642595,0.16,0.16,0,16.32,""]
[null,null,null,null,null,null,null,null,null,null,null,null,null,null,null,null,null,null,null,null,null,null,null,null,null,null,null,null,null,null,null,null,null,null,103,16.48,"Left Stream Bed",56.190884547441115,96.609180070567675,56.181378923695398,94.609256224439335,95.381991869229665,0,0,0,"","",0,0.77273564479033041,0.77273564479033041,0,0,0,0,0,0.77273564479033041,6.7337919344051242E-2,0,0,0.16,16.48,0,0,"",5.6408580078180677,0.12119477739119497,0.16,0.16,0,16.48,""]
[null,null,null,null,null,null,null,null,null,null,null,null,null,null,null,null,null,null,null,null,null,null,null,null,null,null,null,null,null,null,null,null,null,null,104,16.64,"Left Stream Bed",56.278023474933825,96.607783824887932,56.268517851188108,94.607859978759592,95.372127742637488,0,0,0,"","",0,0.7642677638778963,0.7642677638778963,0,0,0,0,0,0.7642677638778963,6.6600009185848005E-2,0,0,0.16,16.64,0,0,"",5.6422542534978106,0.12106800545057191,0.16,0.16,0,16.64,""]
[null,null,null,null,null,null,null,null,null,null,null,null,null,null,null,null,null,null,null,null,null,null,null,null,null,null,null,null,null,null,null,null,null,null,105,16.8,"Left Stream Bed",56.365162402426535,96.606387579208189,56.355656778680817,94.606463733079849,95.362263616045311,0,0,0,"","",0,0.75579988296546219,0.75579988296546219,0,0,0,0,0,0.75579988296546219,6.5862099027644755E-2,0,0,0.16,16.8,0,0,"",5.6436504991775536,0.12094136611570362,0.16,0.16,0,16.8,""]
[null,null,null,null,null,null,null,null,null,null,null,null,null,null,null,null,null,null,null,null,null,null,null,null,null,null,null,null,null,null,null,null,null,null,106,16.96,"Left Stream Bed",56.452301329919244,96.604991333528446,56.442795706173527,94.605067487400106,95.352399489453134,0,0,0,"","",0,0.74733200205302808,0.74733200205302808,0,0,0,0,0,0.74733200205302808,6.5124188869441518E-2,0,0,0.16,16.96,0,0,"",5.6450467448572965,0.12081485924788206,0.16,0.16,0,16.96,""]
[null,null,null,null,null,null,null,null,null,null,null,null,null,null,null,null,null,null,null,null,null,null,null,null,null,null,null,null,null,null,null,null,null,null,107,17.12,"Left Stream Bed",56.539440257411954,96.603595087848703,56.529934633666237,94.603671241720363,95.342535362860957,0,0,0,"","",0,0.73886412114059397,0.73886412114059397,0,0,0,0,0,0.73886412114059397,6.4386278711238268E-2,0,0,0.16,17.12,0,0,"",5.6464429905370395,0.12068848470854431,0.16,0.16,0,17.12,""]
[null,null,null,null,null,null,null,null,null,null,null,null,null,null,null,null,null,null,null,null,null,null,null,null,null,null,null,null,null,null,null,null,null,null,108,17.28,"Left Stream Bed",56.626579184904671,96.60219884216896,56.617073561158946,94.60227499604062,95.33267123626878,0,0,0,"","",0,0.73039624022815985,0.73039624022815985,0,0,0,0,0,0.73039624022815985,6.3648368553035017E-2,0,0,0.16,17.28,0,0,"",5.6478392362167824,0.12056224235927243,0.16,0.16,0,17.28,""]
[null,null,null,null,null,null,null,null,null,null,null,null,null,null,null,null,null,null,null,null,null,null,null,null,null,null,null,null,null,null,null,null,null,null,109,17.440000000000001,"Left Stream Bed",56.71371811239738,96.600802596489217,56.704212488651663,94.600878750360877,95.322807109676617,0,0,0,"","",0,0.72192835931573995,0.72192835931573995,0,0,0,0,0,0.72192835931573995,6.2910458394833016E-2,0,0,0.16,17.440000000000001,0,0,"",5.6492354818965254,0.12043613206179304,0.16,0.16,0,17.440000000000001,""]
[null,null,null,null,null,null,null,null,null,null,null,null,null,null,null,null,null,null,null,null,null,null,null,null,null,null,null,null,null,null,null,null,null,null,110,17.600000000000001,"Left Stream Bed",56.80085703989009,96.599406350809474,56.791351416144373,94.599482504681134,95.31294298308444,0,0,0,"","",0,0.71346047840330584,0.71346047840330584,0,0,0,0,0,0.71346047840330584,6.2172548236629765E-2,0,0,0.16,17.600000000000001,0,0,"",5.6506317275762683,0.12031015367797765,0.16,0.16,0,17.600000000000001,""]
[null,null,null,null,null,null,null,null,null,null,null,null,null,null,null,null,null,null,null,null,null,null,null,null,null,null,null,null,null,null,null,null,null,null,111,17.760000000000002,"Left Stream Bed",56.8879959673828,96.598010105129731,56.878490343637083,94.598086259001391,95.303078856492263,0,0,0,"","",0,0.70499259749087173,0.70499259749087173,0,0,0,0,0,0.70499259749087173,6.1434638078426529E-2,0,0,0.16,17.760000000000002,0,0,"",5.6520279732560113,0.12018430706984219,0.16,0.16,0,17.760000000000002,""]
[null,null,null,null,null,null,null,null,null,null,null,null,null,null,null,null,null,null,null,null,null,null,null,null,null,null,null,null,null,null,null,null,null,null,112,17.920000000000002,"Left Stream Bed",56.975134894875509,96.596613859449988,56.965629271129792,94.596690013321648,95.293214729900086,0,0,0,"","",0,0.69652471657843762,0.69652471657843762,0,0,0,0,0,0.69652471657843762,6.0696727920223285E-2,0,0,0.16,17.920000000000002,0,0,"",5.6534242189357542,0.12005859209954688,0.16,0.16,0,17.920000000000002,""]
[null,null,null,null,null,null,null,null,null,null,null,null,null,null,null,null,null,null,null,null,null,null,null,null,null,null,null,null,null,null,null,null,null,null,113,18.079999999999998,"Left Stream Bed",57.062273822368219,96.595217613770245,57.052768198622502,94.595293767641905,95.283350603307909,0,0,0,"","",0,0.68805683566600351,0.68805683566600351,0,0,0,0,0,0.68805683566600351,5.9958817762020035E-2,0,0,0.16,18.079999999999998,0,0,"",5.6548204646154971,0.11993300862939626,0.16,0.16,0,18.079999999999998,""]
[null,null,null,null,null,null,null,null,null,null,null,null,null,null,null,null,null,null,null,null,null,null,null,null,null,null,null,null,null,null,null,null,null,null,114,18.239999999999998,"Left Stream Bed",57.149412749860929,96.593821368090502,57.139907126115212,94.593897521962163,95.273486476715732,0,0,0,"","",0,0.6795889547535694,0.6795889547535694,0,0,0,0,0,0.6795889547535694,5.9220907603816791E-2,0,0,0.16,18.239999999999998,0,0,"",5.6562167102952401,0.11980755652183857,0.16,0.16,0,18.239999999999998,""]
[null,null,null,null,null,null,null,null,null,null,null,null,null,null,null,null,null,null,null,null,null,null,null,null,null,null,null,null,null,null,null,null,null,null,115,18.399999999999999,"Left Stream Bed",57.236551677353638,96.592425122410759,57.227046053607921,94.59250127628242,95.263622350123569,0,0,0,"","",0,0.6711210738411495,0.6711210738411495,0,0,0,0,0,0.6711210738411495,5.8482997445614783E-2,0,0,0.16,18.399999999999999,0,0,"",5.657612955974983,0.11968223563946627,0.16,0.16,0,18.399999999999999,""]
[null,null,null,null,null,null,null,null,null,null,null,null,null,null,null,null,null,null,null,null,null,null,null,null,null,null,null,null,null,null,null,null,null,null,116,18.559999999999999,"Left Stream Bed",57.323690604846348,96.591028876731016,57.314184981100631,94.591105030602677,95.253758223531392,0,0,0,"","",0,0.66265319292871538,0.66265319292871538,0,0,0,0,0,0.66265319292871538,5.774508728741154E-2,0,0,0.16,18.559999999999999,0,0,"",5.659009201654726,0.11955704584501542,0.16,0.16,0,18.559999999999999,""]
[null,null,null,null,null,null,null,null,null,null,null,null,null,null,null,null,null,null,null,null,null,null,null,null,null,null,null,null,null,null,null,null,null,null,117,18.72,"Left Stream Bed",57.410829532339065,96.589632631051273,57.401323908593341,94.589708784922934,95.243894096939215,0,0,0,"","",0,0.65418531201628127,0.65418531201628127,0,0,0,0,0,0.65418531201628127,5.7007177129208296E-2,0,0,0.16,18.72,0,0,"",5.6604054473344689,0.11943198700136576,0.16,0.16,0,18.72,""]
[null,null,null,null,null,null,null,null,null,null,null,null,null,null,null,null,null,null,null,null,null,null,null,null,null,null,null,null,null,null,null,null,null,null,118,18.88,"Left Stream Bed",57.497968459831768,96.58823638537153,57.488462836086057,94.588312539243191,95.234029970347038,0,0,0,"","",0,0.64571743110384716,0.64571743110384716,0,0,0,0,0,0.64571743110384716,5.6269266971005046E-2,0,0,0.16,18.88,0,0,"",5.6618016930142119,0.1193070589715402,0.16,0.16,0,18.88,""]
[null,null,null,null,null,null,null,null,null,null,null,null,null,null,null,null,null,null,null,null,null,null,null,null,null,null,null,null,null,null,null,null,null,null,119,19.04,"Left Stream Bed",57.585107387324484,96.586840139691787,57.575601763578767,94.586916293563448,95.224165843754861,0,0,0,"","",0,0.63724955019141305,0.63724955019141305,0,0,0,0,0,0.63724955019141305,5.5531356812801802E-2,0,0,0.16,19.04,0,0,"",5.6631979386939548,0.11918226161870517,0.16,0.16,0,19.04,""]
[null,null,null,null,null,null,null,null,null,null,null,null,null,null,null,null,null,null,null,null,null,null,null,null,null,null,null,null,null,null,null,null,null,null,120,19.2,"Left Stream Bed",57.672246314817194,96.585443894012045,57.662740691071477,94.585520047883705,95.214301717162684,0,0,0,"","",0,0.62878166927897894,0.62878166927897894,0,0,0,0,0,0.62878166927897894,5.4793446654598565E-2,0,0,0.16,19.2,0,0,"",5.6645941843736978,0.11905759480617017,0.16,0.16,0,19.2,""]
[null,null,null,null,null,null,null,null,null,null,null,null,null,null,null,null,null,null,null,null,null,null,null,null,null,null,null,null,null,null,null,null,null,null,121,19.36,"Left Stream Bed",57.759385242309904,96.584047648332302,57.749879618564187,94.584123802203962,95.204437590570521,0,0,0,"","",0,0.62031378836655904,0.62031378836655904,0,0,0,0,0,0.62031378836655904,5.405553649639655E-2,0,0,0.16,19.36,0,0,"",5.6659904300534407,0.1189330583973877,0.16,0.16,0,19.36,""]
[null,null,null,null,null,null,null,null,null,null,null,null,null,null,null,null,null,null,null,null,null,null,null,null,null,null,null,null,null,null,null,null,null,null,122,19.52,"Left Stream Bed",57.846524169802613,96.582651402652559,57.837018546056896,94.582727556524219,95.194573463978344,0,0,0,"","",0,0.61184590745412493,0.61184590745412493,0,0,0,0,0,0.61184590745412493,5.3317626338193307E-2,0,0,0.16,19.52,0,0,"",5.6673866757331837,0.11880865225595313,0.16,0.16,0,19.52,""]
[null,null,null,null,null,null,null,null,null,null,null,null,null,null,null,null,null,null,null,null,null,null,null,null,null,null,null,null,null,null,null,null,null,null,123,19.68,"Left Stream Bed",57.933663097295323,96.581255156972816,57.924157473549606,94.581331310844476,95.184709337386167,0,0,0,"","",0,0.60337802654169082,0.60337802654169082,0,0,0,0,0,0.60337802654169082,5.2579716179990063E-2,0,0,0.16,19.68,0,0,"",5.6687829214129266,0.11868437624560428,0.16,0.16,0,19.68,""]
[null,null,null,null,null,null,null,null,null,null,null,null,null,null,null,null,null,null,null,null,null,null,null,null,null,null,null,null,null,null,null,null,null,null,124,19.84,"Left Stream Bed",58.020802024788033,96.579858911293073,58.011296401042316,94.579935065164733,95.17484521079399,0,0,0,"","",0,0.5949101456292567,0.5949101456292567,0,0,0,0,0,0.5949101456292567,5.184180602178682E-2,0,0,0.16,19.84,0,0,"",5.6701791670926696,0.11856023023022172,0.16,0.16,0,19.84,""]
[null,null,null,null,null,null,null,null,null,null,null,null,null,null,null,null,null,null,null,null,null,null,null,null,null,null,null,null,null,null,null,null,null,null,125,20,"Left Stream Bed",58.107940952280742,96.57846266561333,58.098435328535032,94.57853881948499,95.164981084201813,0,0,0,"","",0,0.58644226471682259,0.58644226471682259,0,0,0,0,0,0.58644226471682259,5.1103895863583576E-2,0,0,0.16,20,0,0,"",5.6715754127724125,0.11843621407382839,0.16,0.16,0,20,""]
[null,null,null,null,null,null,null,null,null,null,null,null,null,null,null,null,null,null,null,null,null,null,null,null,null,null,null,null,null,null,null,null,null,null,126,20.16,"Left Stream Bed",58.195079879773459,96.577066419933587,58.185574256027735,94.577142573805247,95.155116957609636,0,0,0,"","",0,0.57797438380438848,0.57797438380438848,0,0,0,0,0,0.57797438380438848,5.0365985705380326E-2,0,0,0.16,20.16,0,0,"",5.6729716584521555,0.11831232764058942,0.16,0.16,0,20.16,""]
[null,null,null,null,null,null,null,null,null,null,null,null,null,null,null,null,null,null,null,null,null,null,null,null,null,null,null,null,null,null,null,null,null,null,127,20.32,"Left Stream Bed",58.282218807266169,96.575670174253844,58.272713183520452,94.575746328125504,95.145252831017459,0,0,0,"","",0,0.56950650289195437,0.56950650289195437,0,0,0,0,0,0.56950650289195437,4.9628075547177082E-2,0,0,0.16,20.32,0,0,"",5.6743679041318984,0.11818857079481211,0.16,0.16,0,20.32,""]
[null,null,null,null,null,null,null,null,null,null,null,null,null,null,null,null,null,null,null,null,null,null,null,null,null,null,null,null,null,null,null,null,null,null,128,20.48,{"$f":"IF(OR($C$19=\"\",$F$25=\"\",$G$25=\"\"),\"None\",IF(AL173<$B$14,\"Left Floodplain\",IF(AL173<$B$15,\"Left Bank\",IF(AL173<$B$16,\"Left Stream Bed\",IF(AL173<$B$17,\"Right Stream Bed\",IF(AL173<$B$18,\"Right Bank\",\"Right Floodplain\"))))))","v":"Left Stream Bed"},58.369357734758879,96.574273928574101,58.359852111013161,94.574350082445761,95.135388704425296,{"$f":"IF(OR($AP173<$AE$12,$AP173<=$AM173),0,IF(OR($AP173>=$AE$12,$AM173>=$AE$12),$AP173-$AM173-$AR173,$AP173-$AE$12))","v":0},{"$f":"IF($AP173<=$AM173,0,IF($AM173>=$AE$12,0,IF($AP173<=$AE$12,$AP173-$AM173,$AE$12-$AM173)))","v":0},0,"","",0,{"$f":"IF($AP173<=$AO173,0,IF($AO173>=$AE$12,0,IF($AP173<=$AE$12,$AP173-$AO173,$AE$12-$AO173)))","v":0.56103862197953447},{"$f":"IF(AP173<=AO173,0,AP173-AO173)","v":0.56103862197953447},{"$f":"IF($AS173=0,0,IF(OR($AJ173=0,$AJ173=$E$22),$AJ$46/2,$AJ$46))","v":0},{"$f":"IF(OR($AK173=\"Left Stream Bed\",$AK173=\"Right Stream Bed\"),$F$22*$AQ173*$AY173,0)","v":0},{"$f":"IF(OR($AK173=\"Left Stream Bed\",$AK173=\"Right Stream Bed\"),$F$22*$AR173*$AY173,0)","v":0},{"$f":"IF(OR($AK173=\"Left Floodplain\",$AK173=\"Left Bank\",$AK173=\"Right Bank\",$AK173=\"Right Floodplain\"),$F$22*$AQ173*$AY173,0)","v":0},{"$f":"IF(OR($AK173=\"Left Floodplain\",$AK173=\"Left Bank\",$AK173=\"Right Bank\",$AK173=\"Right Floodplain\"),$F$22*$AR173*$AY173,0)","v":0},{"$f":"AX173-AS173","v":0.56103862197953447},4.8890165388975074E-2,0,{"$f":"IF(OR($AJ173=0,$AJ173=$E$22),($BF173*$AJ$46/2)*ABS($M$17),$BF173*$AJ$46*ABS($M$17))","v":0},{"$f":"IF(OR($AM173<$AP173,$AO173>$AE$8),\"\",IF(OR($AJ173=0,$AJ173=$E$22),$AJ$46/2,$AJ$46))","v":0.16},20.48,0,{"$f":"IF($BJ173=\"\",\"\",IF(OR($BJ173>($F$22/2),$BJ173=0),0,0.45-($BJ173*0.45/($F$22/2))))","v":0},{"$f":"IF($BK173=\"\",\"\",IF($BK173>0,$AJ173,\"\"))","v":""},5.6757641498116413,0.11806494340094546,{"$f":"IF($AO173=0,0,IF($AO173>$AP173,0,IF(OR($AJ173=0,$AJ173=$E$22),$AJ$46/2,$AJ$46)))","v":0.16},{"$f":"IF(AND($BO173>0,OR($AK173=\"Left Stream Bed\",$AK173=\"Right Stream Bed\")),$BO173,0)","v":0.16},{"$f":"IF(AND($BO173>0,OR($AK173=\"Left Floodplain\",$AK173=\"Left Bank\",$AK173=\"Right Bank\",$AK173=\"Right Floodplain\")),$BO173,0)","v":0},{"$f":"IF($BO173>0,$AJ173,\"\")","v":20.48},""]
[null,null,null,null,null,null,null,null,null,null,null,null,null,null,null,null,null,null,null,null,null,null,null,null,null,null,null,null,null,null,null,null,null,null,129,{"$f":"($AI174/$AI$245)*$AJ$245","v":20.64},"Left Stream Bed",58.456496662251588,96.572877682894358,{"$f":"$AN$45+ABS(AJ174*$M$19*$M$17)","v":58.446991038505871},94.572953836766018,95.125524577833119,0,0,{"$f":"IF(AP174<=AM174,0,AP174-AM174)","v":0},{"$f":"IF(OR($AS174=\"\",$AS174=0),\"\",IF(OR($AK174=\"Left Stream Bed\",$AK174=\"Right Stream Bed\"),$AS174,\"\"))","v":""},{"$f":"IF(OR($AS174=\"\",$AS174=0),\"\",IF(OR($AK174=\"Left Floodplain\",$AK174=\"Left Bank\",$AK174=\"Right Bank\",$AK174=\"Right Floodplain\"),$AS174,\"\"))","v":""},{"$f":"IF(OR($AP174<$AE$12,$AP174<=$AO174),0,IF($AO174>=$AE$12,$AP174-$AO174,$AP174-$AE$12))","v":0},0.55257074106710036,0.55257074106710036,0,0,0,0,0,0.55257074106710036,{"$f":"$BD174*$AJ$46*ABS($M$17)","v":4.815225523077183E-2},{"$f":"AV174-AQ174","v":0},0,0.16,{"$f":"IF($BH174=\"\",\"\",IF($BH174>0,$AJ174,\"\"))","v":20.64},{"$f":"IF($BH174=\"\",\"\",IF(OR(($AO174-$AP174)<0,$AO$45>=$AE$8),0,($AO174-$AP174)))","v":0},0,"",{"$f":"IF($BH174=\"\",\"\",IF(OR(($AM174-$AP174)<0,$AM174>=$AE$8),\"\",($AE$8-($AM174-(($F$22/2)/$M$19)))))","v":5.6771603954913843},0.11794144532358049,0.16,0.16,0,20.64,{"$f":"IF($AY174>0,$AJ174,\"\")","v":""}]
[null,null,null,null,null,null,null,null,null,null,null,null,null,null,null,null,null,null,null,null,null,null,null,null,null,null,null,null,null,null,null,null,null,null,130,20.8,"Left Stream Bed",58.543635589744298,{"$f":"AM174+((AL175-AL174)*$AA$40)","v":96.571481437214615},58.534129965998581,{"$f":"AO174+((AN175-AN174)*$AA$40)","v":94.571557591086275},{"$f":"IF($AL175<$B$14,(($AL175-$B$13)*$AB$31)+$C$13,IF($AL175<$B$15,(($AL175-$B$14)*$AB$32)+$C$14,IF($AL175<$B$16,(($AL175-$B$15)*$AB$33)+$C$15,IF($AL175<$B$17,(($AL175-$B$16)*$AB$34)+$C$16,IF($AL175<$B$18,(($AL175-$B$17)*$AB$35)+$C$17,IF($AL175<$B$19,(($AL175-$B$18)*$AB$36)+$C$18))))))","v":95.115660451240942},0,0,0,"","",0,0.54410286015466625,0.54410286015466625,0,0,0,0,0,0.54410286015466625,4.7414345072568587E-2,0,0,0.16,20.8,0,0,"",5.6785566411711272,{"$f":"IF($BM175=\"\",\"\",(((PI()^2)/32)*($B$66^-6)*EXP(-($BM175/$F$22)/(2*($B$66^2)))))","v":0.11781807642744978},0.16,0.16,0,20.8,""]
[null,null,null,null,null,null,null,null,null,null,null,null,null,null,null,null,null,null,null,null,null,null,null,null,null,null,null,null,null,null,null,null,null,null,131,20.96,"Left Stream Bed",{"$f":"$AL$45+ABS(AJ176*$M$19*$M$17)","v":58.630774517237015},96.570085191534872,58.62126889349129,94.570161345406532,95.105796324648765,0,0,0,"","",0,0.53563497924223213,0.53563497924223213,0,0,0,0,0,0.53563497924223213,4.6676434914365336E-2,0,0,0.16,20.96,0,0,"",5.6799528868508702,0.11769483657742753,0.16,0.16,0,20.96,""]
[null,null,null,null,null,null,null,null,null,null,null,null,null,null,null,null,null,null,null,null,null,null,null,null,null,null,null,null,null,null,null,null,null,null,132,21.12,"Left Stream Bed",58.717913444729717,96.568688945855129,58.708407820984,94.568765099726789,95.095932198056587,0,0,0,"","",0,0.52716709832979802,0.52716709832979802,0,0,0,0,0,0.52716709832979802,4.5938524756162093E-2,0,0,0.16,21.12,0,0,"",5.6813491325306131,0.11757172563852895,0.16,0.16,0,21.12,""]
[null,null,null,null,null,null,null,null,null,null,null,null,null,null,null,null,null,null,null,null,null,null,null,null,null,null,null,null,null,null,null,null,null,null,133,21.28,"Left Stream Bed",58.805052372222434,96.567292700175386,58.79554674847671,94.567368854047047,95.08606807146441,0,0,0,"","",0,0.51869921741736391,0.51869921741736391,0,0,0,0,0,0.51869921741736391,4.5200614597958856E-2,0,0,0.16,21.28,0,0,"",5.6827453782103561,0.11744874347591078,0.16,0.16,0,21.28,""]
[null,null,null,null,null,null,null,null,null,null,null,null,null,null,null,null,null,null,null,null,null,null,null,null,null,null,null,null,null,null,null,null,null,null,134,21.44,"Left Stream Bed",58.892191299715137,96.565896454495643,58.882685675969427,94.565972608367304,95.076203944872248,0,0,0,"","",0,0.51023133650494401,0.51023133650494401,0,0,0,0,0,0.51023133650494401,4.4462704439756841E-2,0,0,0.16,21.44,0,0,"",5.684141623890099,0.11732588995487067,0.16,0.16,0,21.44,""]
[null,null,null,null,null,null,null,null,null,null,null,null,null,null,null,null,null,null,null,null,null,null,null,null,null,null,null,null,null,null,null,null,null,null,135,21.6,"Left Stream Bed",58.979330227207853,96.5645002088159,58.969824603462136,94.564576362687561,95.066339818280071,0,0,0,"","",0,0.5017634555925099,0.5017634555925099,0,0,0,0,0,0.5017634555925099,4.3724794281553604E-2,0,0,0.16,21.6,0,0,"",5.685537869569842,0.1172031649408472,0.16,0.16,0,21.6,""]
[null,null,null,null,null,null,null,null,null,null,null,null,null,null,null,null,null,null,null,null,null,null,null,null,null,null,null,null,null,null,null,null,null,null,136,21.76,"Left Stream Bed",59.066469154700563,96.563103963136157,59.056963530954846,94.563180117007818,95.056475691687893,0,0,0,"","",0,0.49329557468007579,0.49329557468007579,0,0,0,0,0,0.49329557468007579,4.2986884123350354E-2,0,0,0.16,21.76,0,0,"",5.6869341152495849,0.11708056829941979,0.16,0.16,0,21.76,""]
[null,null,null,null,null,null,null,null,null,null,null,null,null,null,null,null,null,null,null,null,null,null,null,null,null,null,null,null,null,null,null,null,null,null,137,21.92,"Left Stream Bed",59.153608082193273,96.561707717456414,59.144102458447556,94.561783871328075,95.046611565095716,0,0,0,"","",0,0.48482769376764168,0.48482769376764168,0,0,0,0,0,0.48482769376764168,4.224897396514711E-2,0,0,0.16,21.92,0,0,"",5.6883303609293279,0.11695809989630818,0.16,0.16,0,21.92,""]
[null,null,null,null,null,null,null,null,null,null,null,null,null,null,null,null,null,null,null,null,null,null,null,null,null,null,null,null,null,null,null,null,null,null,138,22.08,"Left Stream Bed",59.240747009685983,96.560311471776672,59.231241385940265,94.560387625648332,95.036747438503539,0,0,0,"","",0,0.47635981285520757,0.47635981285520757,0,0,0,0,0,0.47635981285520757,4.1511063806943867E-2,0,0,0.16,22.08,0,0,"",5.6897266066090708,0.11683575959737284,0.16,0.16,0,22.08,""]
[null,null,null,null,null,null,null,null,null,null,null,null,null,null,null,null,null,null,null,null,null,null,null,null,null,null,null,null,null,null,null,null,null,null,139,22.24,"Left Stream Bed",59.327885937178692,96.558915226096929,59.318380313432975,94.558991379968589,95.026883311911362,0,0,0,"","",0,0.46789193194277345,0.46789193194277345,0,0,0,0,0,0.46789193194277345,4.0773153648740616E-2,0,0,0.16,22.24,0,0,"",5.6911228522888138,0.11671354726861451,0.16,0.16,0,22.24,""]
[null,null,null,null,null,null,null,null,null,null,null,null,null,null,null,null,null,null,null,null,null,null,null,null,null,null,null,null,null,null,null,null,null,null,140,22.4,"Left Stream Bed",59.415024864671402,96.557518980417186,59.405519240925685,94.557595134288846,95.017019185319199,0,0,0,"","",0,0.45942405103035355,0.45942405103035355,0,0,0,0,0,0.45942405103035355,4.0035243490538615E-2,0,0,0.16,22.4,0,0,"",5.6925190979685567,0.11659146277617401,0.16,0.16,0,22.4,""]
[null,null,null,null,null,null,null,null,null,null,null,null,null,null,null,null,null,null,null,null,null,null,null,null,null,null,null,null,null,null,null,null,null,null,141,22.56,"Left Stream Bed",59.502163792164112,96.556122734737443,59.492658168418401,94.556198888609103,95.007155058727022,0,0,0,"","",0,0.45095617011791944,0.45095617011791944,0,0,0,0,0,0.45095617011791944,3.9297333332335364E-2,0,0,0.16,22.56,0,0,"",5.6939153436482997,0.11646950598633235,0.16,0.16,0,22.56,""]
[null,null,null,null,null,null,null,null,null,null,null,null,null,null,null,null,null,null,null,null,null,null,null,null,null,null,null,null,null,null,null,null,null,null,142,22.72,"Left Stream Bed",59.589302719656828,96.5547264890577,59.579797095911104,94.55480264292936,94.997290932134845,0,0,0,"","",0,0.44248828920548533,0.44248828920548533,0,0,0,0,0,0.44248828920548533,3.8559423174132121E-2,0,0,0.16,22.72,0,0,"",5.6953115893280426,0.1163476767655101,0.16,0.16,0,22.72,""]
[null,null,null,null,null,null,null,null,null,null,null,null,null,null,null,null,null,null,null,null,null,null,null,null,null,null,null,null,null,null,null,null,null,null,143,22.88,"Left Stream Bed",59.676441647149531,96.553330243377957,59.666936023403821,94.553406397249617,94.987426805542668,0,0,0,"","",0,0.43402040829305122,0.43402040829305122,0,0,0,0,0,0.43402040829305122,3.7821513015928877E-2,0,0,0.16,22.88,0,0,"",5.6967078350077855,0.11622597498026783,0.16,0.16,0,22.88,""]
[null,null,null,null,null,null,null,null,null,null,null,null,null,null,null,null,null,null,null,null,null,null,null,null,null,null,null,null,null,null,null,null,null,null,144,23.04,"Left Stream Bed",59.763580574642248,96.551933997698214,59.754074950896531,94.552010151569874,94.977562678950491,0,0,0,"","",0,0.42555252738061711,0.42555252738061711,0,0,0,0,0,0.42555252738061711,3.7083602857725627E-2,0,0,0.16,23.04,0,0,"",5.6981040806875285,0.11610440049730562,0.16,0.16,0,23.04,""]
[null,null,null,null,null,null,null,null,null,null,null,null,null,null,null,null,null,null,null,null,null,null,null,null,null,null,null,null,null,null,null,null,null,null,145,23.2,"Left Stream Bed",59.850719502134957,96.550537752018471,59.84121387838924,94.550613905890131,94.967698552358314,0,0,0,"","",0,0.417084646468183,0.417084646468183,0,0,0,0,0,0.417084646468183,3.634569269952239E-2,0,0,0.16,23.2,0,0,"",5.6995003263672714,0.11598295318346297,0.16,0.16,0,23.2,""]
[null,null,null,null,null,null,null,null,null,null,null,null,null,null,null,null,null,null,null,null,null,null,null,null,null,null,null,null,null,null,null,null,null,null,146,23.36,"Left Stream Bed",59.937858429627667,96.549141506338728,59.92835280588195,94.549217660210388,94.957834425766137,0,0,0,"","",0,0.40861676555574888,0.40861676555574888,0,0,0,0,0,0.40861676555574888,3.5607782541319147E-2,0,0,0.16,23.36,0,0,"",5.7008965720470144,0.11586163290571874,0.16,0.16,0,23.36,""]
[null,null,null,null,null,null,null,null,null,null,null,null,null,null,null,null,null,null,null,null,null,null,null,null,null,null,null,null,null,null,null,null,null,null,147,23.52,"Left Stream Bed",60.024997357120377,96.547745260658985,60.01549173337466,94.547821414530645,94.947970299173974,0,0,0,"","",0,0.40014888464332898,0.40014888464332898,0,0,0,0,0,0.40014888464332898,3.4869872383117131E-2,0,0,0.16,23.52,0,0,"",5.7022928177267573,0.1157404395311907,0.16,0.16,0,23.52,""]
[null,null,null,null,null,null,null,null,null,null,null,null,null,null,null,null,null,null,null,null,null,null,null,null,null,null,null,null,null,null,null,null,null,null,148,23.68,"Left Stream Bed",60.112136284613086,96.546349014979242,60.102630660867369,94.546425168850902,94.938106172581797,0,0,0,"","",0,0.39168100373089487,0.39168100373089487,0,0,0,0,0,0.39168100373089487,3.4131962224913895E-2,0,0,0.16,23.68,0,0,"",5.7036890634065003,0.11561937292713585,0.16,0.16,0,23.68,""]
[null,null,null,null,null,null,null,null,null,null,null,null,null,null,null,null,null,null,null,null,null,null,null,null,null,null,null,null,null,null,null,null,null,null,149,23.84,"Left Stream Bed",60.199275212105803,96.544952769299499,60.189769588360079,94.545028923171159,94.92824204598962,0,0,0,"","",0,0.38321312281846076,0.38321312281846076,0,0,0,0,0,0.38321312281846076,3.3394052066710644E-2,0,0,0.16,23.84,0,0,"",5.7050853090862432,0.11549843296095,0.16,0.16,0,23.84,""]
[null,null,null,null,null,null,null,null,null,null,null,null,null,null,null,null,null,null,null,null,null,null,null,null,null,null,null,null,null,null,null,null,null,null,150,24,"Left Stream Bed",60.286414139598513,96.543556523619756,60.276908515852796,94.543632677491416,94.918377919397443,0,0,0,"","",0,0.37474524190602665,0.37474524190602665,0,0,0,0,0,0.37474524190602665,3.2656141908507401E-2,0,0,0.16,24,0,0,"",5.7064815547659862,0.11537761950016773,0.16,0.16,0,24,""]
[null,null,null,null,null,null,null,null,null,null,null,null,null,null,null,null,null,null,null,null,null,null,null,null,null,null,null,null,null,null,null,null,null,null,151,24.16,"Left Stream Bed",60.373553067091223,96.542160277940013,60.364047443345505,94.542236431811673,94.908513792805266,0,0,0,"","",0,0.36627736099359254,0.36627736099359254,0,0,0,0,0,0.36627736099359254,3.191823175030415E-2,0,0,0.16,24.16,0,0,"",5.7078778004457291,0.11525693241246183,0.16,0.16,0,24.16,""]
[null,null,null,null,null,null,null,null,null,null,null,null,null,null,null,null,null,null,null,null,null,null,null,null,null,null,null,null,null,null,null,null,null,null,152,24.32,"Left Stream Bed",60.460691994583932,96.54076403226027,60.451186370838215,94.540840186131931,94.898649666213089,0,0,0,"","",0,0.35780948008115843,0.35780948008115843,0,0,0,0,0,0.35780948008115843,3.1180321592100907E-2,0,0,0.16,24.32,0,0,"",5.7092740461254721,0.11513637156564396,0.16,0.16,0,24.32,""]
[null,null,null,null,null,null,null,null,null,null,null,null,null,null,null,null,null,null,null,null,null,null,null,null,null,null,null,null,null,null,null,null,null,null,153,24.48,"Left Stream Bed",60.547830922076642,96.539367786580527,60.538325298330925,94.539443940452188,94.888785539620926,0,0,0,"","",0,0.34934159916873853,0.34934159916873853,0,0,0,0,0,0.34934159916873853,3.0442411433898902E-2,0,0,0.16,24.48,0,0,"",5.710670291805215,0.1150159368276638,0.16,0.16,0,24.48,""]
[null,null,null,null,null,null,null,null,null,null,null,null,null,null,null,null,null,null,null,null,null,null,null,null,null,null,null,null,null,null,null,null,null,null,154,24.64,"Left Stream Bed",60.634969849569352,96.537971540900784,60.625464225823634,94.538047694772445,94.878921413028749,0,0,0,"","",0,0.34087371825630441,0.34087371825630441,0,0,0,0,0,0.34087371825630441,2.9704501275695658E-2,0,0,0.16,24.64,0,0,"",5.712066537484958,0.11489562806660919,0.16,0.16,0,24.64,""]
[null,null,null,null,null,null,null,null,null,null,null,null,null,null,null,null,null,null,null,null,null,null,null,null,null,null,null,null,null,null,null,null,null,null,155,24.8,"Left Stream Bed",60.722108777062061,96.536575295221041,60.712603153316344,94.536651449092702,94.869057286436572,0,0,0,"","",0,0.3324058373438703,0.3324058373438703,0,0,0,0,0,0.3324058373438703,2.8966591117492412E-2,0,0,0.16,24.8,0,0,"",5.7134627831647009,0.11477544515070615,0.16,0.16,0,24.8,""]
[null,null,null,null,null,null,null,null,null,null,null,null,null,null,null,null,null,null,null,null,null,null,null,null,null,null,null,null,null,null,null,null,null,null,156,24.96,"Left Stream Bed",60.809247704554771,96.535179049541298,60.799742080809054,94.535255203412959,94.859193159844395,0,0,0,"","",0,0.32393795643143619,0.32393795643143619,0,0,0,0,0,0.32393795643143619,2.8228680959289168E-2,0,0,0.16,24.96,0,0,"",5.7148590288444439,0.11465538794831807,0.16,0.16,0,24.96,""]
[null,null,null,null,null,null,null,null,null,null,null,null,null,null,null,null,null,null,null,null,null,null,null,null,null,null,null,null,null,null,null,null,null,null,157,25.12,"Left Stream Bed",60.896386632047481,96.533782803861556,60.886881008301771,94.533858957733216,94.849329033252218,0,0,0,"","",0,0.31547007551900208,0.31547007551900208,0,0,0,0,0,0.31547007551900208,2.7490770801085924E-2,0,0,0.16,25.12,0,0,"",5.7162552745241868,0.11453545632794651,0.16,0.16,0,25.12,""]
[null,null,null,null,null,null,null,null,null,null,null,null,null,null,null,null,null,null,null,null,null,null,null,null,null,null,null,null,null,null,null,null,null,null,158,25.28,"Left Stream Bed",60.983525559540197,96.532386558181813,60.97401993579448,94.532462712053473,94.839464906660041,0,0,0,"","",0,0.30700219460656797,0.30700219460656797,0,0,0,0,0,0.30700219460656797,2.6752860642882677E-2,0,0,0.16,25.28,0,0,"",5.7176515202039297,0.11441565015823035,0.16,0.16,0,25.28,""]
[null,null,null,null,null,null,null,null,null,null,null,null,null,null,null,null,null,null,null,null,null,null,null,null,null,null,null,null,null,null,null,null,null,null,159,25.44,"Left Stream Bed",61.070664487032907,96.53099031250207,61.06115886328719,94.53106646637373,94.829600780067864,0,0,0,"","",0,0.29853431369413386,0.29853431369413386,0,0,0,0,0,0.29853431369413386,2.601495048467943E-2,0,0,0.16,25.44,0,0,"",5.7190477658836727,0.11429596930794596,0.16,0.16,0,25.44,""]
[null,null,null,null,null,null,null,null,null,null,null,null,null,null,null,null,null,null,null,null,null,null,null,null,null,null,null,null,null,null,null,null,null,null,160,25.6,"Left Stream Bed",61.157803414525617,96.529594066822327,61.1482977907799,94.529670220693987,94.819736653475701,0,0,0,"","",0,0.29006643278171396,0.29006643278171396,0,0,0,0,0,0.29006643278171396,2.5277040326477426E-2,0,0,0.16,25.6,0,0,"",5.7204440115634156,0.11417641364600699,0.16,0.16,0,25.6,""]
[null,null,null,null,null,null,null,null,null,null,null,null,null,null,null,null,null,null,null,null,null,null,null,null,null,null,null,null,null,null,null,null,null,null,161,25.76,"Left Stream Bed",61.244942342018327,96.528197821142584,61.235436718272609,94.528273975014244,94.809872526883524,0,0,0,"","",0,0.28159855186927985,0.28159855186927985,0,0,0,0,0,0.28159855186927985,2.4539130168274179E-2,0,0,0.16,25.76,0,0,"",5.7218402572431586,0.114056983041464,0.16,0.16,0,25.76,""]
[null,null,null,null,null,null,null,null,null,null,null,null,null,null,null,null,null,null,null,null,null,null,null,null,null,null,null,null,null,null,null,null,null,null,162,25.92,"Left Stream Bed",61.332081269511036,96.526801575462841,61.322575645765319,94.526877729334501,94.800008400291347,0,0,0,"","",0,0.27313067095684573,0.27313067095684573,0,0,0,0,0,0.27313067095684573,2.3801220010070939E-2,0,0,0.16,25.92,0,0,"",5.7232365029229015,0.11393767736350474,0.16,0.16,0,25.92,""]
[null,null,null,null,null,null,null,null,null,null,null,null,null,null,null,null,null,null,null,null,null,null,null,null,null,null,null,null,null,null,null,null,null,null,163,26.08,"Left Stream Bed",61.419220197003746,96.525405329783098,61.409714573258029,94.525481483654758,94.79014427369917,0,0,0,"","",0,0.26466279004441162,0.26466279004441162,0,0,0,0,0,0.26466279004441162,2.3063309851867692E-2,0,0,0.16,26.08,0,0,"",5.7246327486026445,0.11381849648145376,0.16,0.16,0,26.08,""]
[null,null,null,null,null,null,null,null,null,null,null,null,null,null,null,null,null,null,null,null,null,null,null,null,null,null,null,null,null,null,null,null,null,null,164,26.24,"Left Stream Bed",61.506359124496456,96.524009084103355,61.496853500750738,94.524085237975015,94.780280147106993,0,0,0,"","",0,0.25619490913197751,0.25619490913197751,0,0,0,0,0,0.25619490913197751,2.2325399693664445E-2,0,0,0.16,26.24,0,0,"",5.7260289942823874,0.11369944026477237,0.16,0.16,0,26.24,""]
[null,null,null,null,null,null,null,null,null,null,null,null,null,null,null,null,null,null,null,null,null,null,null,null,null,null,null,null,null,null,null,null,null,null,165,26.4,"Left Stream Bed",61.593498051989165,96.522612838423612,61.583992428243448,94.522688992295272,94.770416020514816,0,0,0,"","",0,0.2477270282195434,0.2477270282195434,0,0,0,0,0,0.2477270282195434,2.1587489535461198E-2,0,0,0.16,26.4,0,0,"",5.7274252399621304,0.1135805085830581,0.16,0.16,0,26.4,""]
[null,null,null,null,null,null,null,null,null,null,null,null,null,null,null,null,null,null,null,null,null,null,null,null,null,null,null,null,null,null,null,null,null,null,166,26.56,"Left Stream Bed",61.680636979481875,96.521216592743869,61.671131355736165,94.521292746615529,94.760551893922653,0,0,0,"","",0,0.2392591473071235,0.2392591473071235,0,0,0,0,0,0.2392591473071235,2.0849579377259193E-2,0,0,0.16,26.56,0,0,"",5.7288214856418733,0.11346170130604524,0.16,0.16,0,26.56,""]
[null,null,null,null,null,null,null,null,null,null,null,null,null,null,null,null,null,null,null,null,null,null,null,null,null,null,null,null,null,null,null,null,null,null,167,26.72,"Left Stream Bed",61.767775906974592,96.519820347064126,61.758270283228867,94.519896500935786,94.750687767330476,0,0,0,"","",0,0.23079126639468939,0.23079126639468939,0,0,0,0,0,0.23079126639468939,2.0111669219055949E-2,0,0,0.16,26.72,0,0,"",5.7302177313216163,0.11334301830360419,0.16,0.16,0,26.72,""]
[null,null,null,null,null,null,null,null,null,null,null,null,null,null,null,null,null,null,null,null,null,null,null,null,null,null,null,null,null,null,null,null,null,null,168,26.88,"Left Stream Bed",61.854914834467301,96.518424101384383,61.845409210721584,94.518500255256043,94.740823640738299,0,0,0,"","",0,0.22232338548225528,0.22232338548225528,0,0,0,0,0,0.22232338548225528,1.9373759060852702E-2,0,0,0.16,26.88,0,0,"",5.7316139770013592,0.11322445944574151,0.16,0.16,0,26.88,""]
[null,null,null,null,null,null,null,null,null,null,null,null,null,null,null,null,null,null,null,null,null,null,null,null,null,null,null,null,null,null,null,null,null,null,169,27.04,"Left Stream Bed",61.942053761960011,96.51702785570464,61.932548138214294,94.5171040095763,94.730959514146122,0,0,0,"","",0,0.21385550456982116,0.21385550456982116,0,0,0,0,0,0.21385550456982116,1.8635848902649459E-2,0,0,0.16,27.04,0,0,"",5.7330102226811022,0.1131060246025998,0.16,0.16,0,27.04,""]
[null,null,null,null,null,null,null,null,null,null,null,null,null,null,null,null,null,null,null,null,null,null,null,null,null,null,null,null,null,null,null,null,null,null,170,27.2,"Left Stream Bed",62.029192689452721,96.515631610024897,62.019687065707004,94.515707763896557,94.721095387553945,0,0,0,"","",0,0.20538762365738705,0.20538762365738705,0,0,0,0,0,0.20538762365738705,1.7897938744446212E-2,0,0,0.16,27.2,0,0,"",5.7344064683608451,0.11298771364445721,0.16,0.16,0,27.2,""]
[null,null,null,null,null,null,null,null,null,null,null,null,null,null,null,null,null,null,null,null,null,null,null,null,null,null,null,null,null,null,null,null,null,null,171,27.36,"Left Stream Bed",62.11633161694543,96.514235364345154,62.106825993199713,94.514311518216815,94.711231260961767,0,0,0,"","",0,0.19691974274495294,0.19691974274495294,0,0,0,0,0,0.19691974274495294,1.7160028586242968E-2,0,0,0.16,27.36,0,0,"",5.7358027140405881,0.11286952644172789,0.16,0.16,0,27.36,""]
[null,null,null,null,null,null,null,null,null,null,null,null,null,null,null,null,null,null,null,null,null,null,null,null,null,null,null,null,null,null,null,null,null,null,172,27.52,"Left Stream Bed",62.20347054443814,96.512839118665411,62.193964920692423,94.512915272537072,94.701367134369605,0,0,0,"","",0,0.18845186183253304,0.18845186183253304,0,0,0,0,0,0.18845186183253304,1.642211842804096E-2,0,0,0.16,27.52,0,0,"",5.737198959720331,0.11275146286496139,0.16,0.16,0,27.52,""]
[null,null,null,null,null,null,null,null,null,null,null,null,null,null,null,null,null,null,null,null,null,null,null,null,null,null,null,null,null,null,null,null,null,null,173,27.68,"Left Stream Bed",62.29060947193085,96.511442872985668,62.28110384818514,94.511519026857329,94.691503007777428,0,0,0,"","",0,0.17998398092009893,0.17998398092009893,0,0,0,0,0,0.17998398092009893,1.5684208269837716E-2,0,0,0.16,27.68,0,0,"",5.738595205400074,0.11263352278484275,0.16,0.16,0,27.68,""]
[null,null,null,null,null,null,null,null,null,null,null,null,null,null,null,null,null,null,null,null,null,null,null,null,null,null,null,null,null,null,null,null,null,null,174,27.84,"Left Stream Bed",62.377748399423567,96.510046627305925,62.368242775677842,94.510122781177586,94.681638881185251,0,0,0,"","",0,0.17151610000766482,0.17151610000766482,0,0,0,0,0,0.17151610000766482,1.4946298111634473E-2,0,0,0.16,27.84,0,0,"",5.7399914510798169,0.11251570607219229,0.16,0.16,0,27.84,""]
[null,null,null,null,null,null,null,null,null,null,null,null,null,null,null,null,null,null,null,null,null,null,null,null,null,null,null,null,null,null,null,null,null,null,175,28,"Left Stream Bed",62.464887326916269,96.508650381626182,62.455381703170559,94.508726535497843,94.671774754593073,0,0,0,"","",0,0.16304821909523071,0.16304821909523071,0,0,0,0,0,0.16304821909523071,1.4208387953431226E-2,0,0,0.16,28,0,0,"",5.7413876967595598,0.11239801259796524,0.16,0.16,0,28,""]
[null,null,null,null,null,null,null,null,null,null,null,null,null,null,null,null,null,null,null,null,null,null,null,null,null,null,null,null,null,null,null,null,null,null,176,28.16,"Left Stream Bed",62.552026254408986,96.50725413594644,62.542520630663269,94.5073302898181,94.661910628000896,0,0,0,"","",0,0.15458033818279659,0.15458033818279659,0,0,0,0,0,0.15458033818279659,1.3470477795227982E-2,0,0,0.16,28.16,0,0,"",5.7427839424393028,0.11228044223325202,0.16,0.16,0,28.16,""]
[null,null,null,null,null,null,null,null,null,null,null,null,null,null,null,null,null,null,null,null,null,null,null,null,null,null,null,null,null,null,null,null,null,null,177,28.32,"Left Stream Bed",62.639165181901696,96.505857890266697,62.629659558155979,94.505934044138357,94.652046501408719,0,0,0,"","",0,0.14611245727036248,0.14611245727036248,0,0,0,0,0,0.14611245727036248,1.2732567637024735E-2,0,0,0.16,28.32,0,0,"",5.7441801881190457,0.11216299484927787,0.16,0.16,0,28.32,""]
[null,null,null,null,null,null,null,null,null,null,null,null,null,null,null,null,null,null,null,null,null,null,null,null,null,null,null,null,null,null,null,null,null,null,178,28.48,"Left Stream Bed",62.726304109394405,96.504461644586954,62.716798485648688,94.504537798458614,94.642182374816542,0,0,0,"","",0,0.13764457635792837,0.13764457635792837,0,0,0,0,0,0.13764457635792837,1.1994657478821492E-2,0,0,0.16,28.48,0,0,"",5.7455764337987887,0.11204567031740272,0.16,0.16,0,28.48,""]
[null,null,null,null,null,null,null,null,null,null,null,null,null,null,null,null,null,null,null,null,null,null,null,null,null,null,null,null,null,null,null,null,null,null,179,28.64,"Left Stream Bed",62.813443036887115,96.503065398907211,62.803937413141398,94.503141552778871,94.632318248224379,0,0,0,"","",0,0.12917669544550847,0.12917669544550847,0,0,0,0,0,0.12917669544550847,1.1256747320619485E-2,0,0,0.16,28.64,0,0,"",5.7469726794785316,0.11192846850912111,0.16,0.16,0,28.64,""]
[null,null,null,null,null,null,null,null,null,null,null,null,null,null,null,null,null,null,null,null,null,null,null,null,null,null,null,null,null,null,null,null,null,null,180,28.8,"Left Stream Bed",62.900581964379825,96.501669153227468,62.891076340634108,94.501745307099128,94.622454121632202,0,0,0,"","",0,0.12070881453307436,0.12070881453307436,0,0,0,0,0,0.12070881453307436,1.051883716241624E-2,0,0,0.16,28.8,0,0,"",5.7483689251582746,0.11181138929606173,0.16,0.16,0,28.8,""]
[null,null,null,null,null,null,null,null,null,null,null,null,null,null,null,null,null,null,null,null,null,null,null,null,null,null,null,null,null,null,null,null,null,null,181,28.96,"Left Stream Bed",62.987720891872542,96.500272907547725,62.978215268126817,94.500349061419385,94.612589995040025,0,0,0,"","",0,0.11224093362064025,0.11224093362064025,0,0,0,0,0,0.11224093362064025,9.7809270042129946E-3,0,0,0.16,28.96,0,0,"",5.7497651708380175,0.11169443254998784,0.16,0.16,0,28.96,""]
[null,null,null,null,null,null,null,null,null,null,null,null,null,null,null,null,null,null,null,null,null,null,null,null,null,null,null,null,null,null,null,null,null,null,182,29.12,"Left Stream Bed",63.074859819365251,96.498876661867982,63.065354195619534,94.498952815739642,94.602725868447848,0,0,0,"","",0,0.10377305270820614,0.10377305270820614,0,0,0,0,0,0.10377305270820614,9.0430168460097493E-3,0,0,0.16,29.12,0,0,"",5.7511614165177605,0.11157759814279679,0.16,0.16,0,29.12,""]
[null,null,null,null,null,null,null,null,null,null,null,null,null,null,null,null,null,null,null,null,null,null,null,null,null,null,null,null,null,null,null,null,null,null,183,29.28,"Left Stream Bed",63.161998746857961,96.497480416188239,63.152493123112244,94.497556570059899,94.592861741855671,0,0,0,"","",0,9.5305171795772026E-2,9.5305171795772026E-2,0,0,0,0,0,9.5305171795772026E-2,8.3051066878065041E-3,0,0,0.16,29.28,0,0,"",5.7525576621975034,0.11146088594651994,0.16,0.16,0,29.28,""]
[null,null,null,null,null,null,null,null,null,null,null,null,null,null,null,null,null,null,null,null,null,null,null,null,null,null,null,null,null,null,null,null,null,null,184,29.44,"Left Stream Bed",63.249137674350671,96.496084170508496,63.239632050604953,94.496160324380156,94.582997615263494,0,0,0,"","",0,8.6837290883337914E-2,8.6837290883337914E-2,0,0,0,0,0,8.6837290883337914E-2,7.5671965296032597E-3,0,0,0.16,29.44,0,0,"",5.7539539078772464,0.11134429583332228,0.16,0.16,0,29.44,""]
[null,null,null,null,null,null,null,null,null,null,null,null,null,null,null,null,null,null,null,null,null,null,null,null,null,null,null,null,null,null,null,null,null,null,185,29.6,"Left Stream Bed",63.33627660184338,96.494687924828753,63.326770978097663,94.494764078700413,94.573133488671331,0,0,0,"","",0,7.8369409970918014E-2,7.8369409970918014E-2,0,0,0,0,0,7.8369409970918014E-2,6.829286371401253E-3,0,0,0.16,29.6,0,0,"",5.7553501535569893,0.11122782767550278,0.16,0.16,0,29.6,""]
[null,null,null,null,null,null,null,null,null,null,null,null,null,null,null,null,null,null,null,null,null,null,null,null,null,null,null,null,null,null,null,null,null,null,186,29.76,"Left Stream Bed",63.42341552933609,96.49329167914901,63.413909905590373,94.49336783302067,94.563269362079154,0,0,0,"","",0,6.9901529058483902E-2,6.9901529058483902E-2,0,0,0,0,0,6.9901529058483902E-2,6.0913762131980078E-3,0,0,0.16,29.76,0,0,"",5.7567463992367323,0.11111148134549388,0.16,0.16,0,29.76,""]
[null,null,null,null,null,null,null,null,null,null,null,null,null,null,null,null,null,null,null,null,null,null,null,null,null,null,null,null,null,null,null,null,null,null,187,29.92,"Left Stream Bed",63.5105544568288,96.491895433469267,63.501048833083082,94.491971587340927,94.553405235486977,0,0,0,"","",0,6.1433648146049791E-2,6.1433648146049791E-2,0,0,0,0,0,6.1433648146049791E-2,5.3534660549947625E-3,0,0,0.16,29.92,0,0,"",5.7581426449164752,0.1109952567158615,0.16,0.16,0,29.92,""]
[null,null,null,null,null,null,null,null,null,null,null,null,null,null,null,null,null,null,null,null,null,null,null,null,null,null,null,null,null,null,null,null,null,null,188,30.08,"Left Stream Bed",63.597693384321509,96.490499187789524,63.588187760575792,94.490575341661184,94.5435411088948,0,0,0,"","",0,5.2965767233615679E-2,5.2965767233615679E-2,0,0,0,0,0,5.2965767233615679E-2,4.6155558967915173E-3,0,0,0.16,30.08,0,0,"",5.7595388905962182,0.11087915365930491,0.16,0.16,0,30.08,""]
[null,null,null,null,null,null,null,null,null,null,null,null,null,null,null,null,null,null,null,null,null,null,null,null,null,null,null,null,null,null,null,null,null,null,189,30.24,"Left Stream Bed",63.684832311814219,96.489102942109781,63.675326688068509,94.489179095981441,94.533676982302623,0,0,0,"","",0,4.4497886321181568E-2,4.4497886321181568E-2,0,0,0,0,0,4.4497886321181568E-2,3.8776457385882724E-3,0,0,0.16,30.24,0,0,"",5.7609351362759611,0.11076317204865629,0.16,0.16,0,30.24,""]
[null,null,null,null,null,null,null,null,null,null,null,null,null,null,null,null,null,null,null,null,null,null,null,null,null,null,null,null,null,null,null,null,null,null,190,30.4,"Left Stream Bed",63.771971239306936,96.487706696430038,63.762465615561212,94.487782850301699,94.523812855710446,0,0,0,"","",0,3.6030005408747456E-2,3.6030005408747456E-2,0,0,0,0,0,3.6030005408747456E-2,3.1397355803850272E-3,0,0,0.16,30.4,0,0,"",5.762331381955704,0.1106473117568811,0.16,0.16,0,30.4,""]
[null,null,null,null,null,null,null,null,null,null,null,null,null,null,null,null,null,null,null,null,null,null,null,null,null,null,null,null,null,null,null,null,null,null,191,30.56,"Left Stream Bed",63.859110166799638,96.486310450750295,63.849604543053928,94.486386604621956,94.513948729118283,0,0,0,"","",0,2.7562124496327556E-2,2.7562124496327556E-2,0,0,0,0,0,2.7562124496327556E-2,2.4018254221830205E-3,0,0,0.16,30.56,0,0,"",5.763727627635447,0.1105315726570776,0.16,0.16,0,30.56,""]
[null,null,null,null,null,null,null,null,null,null,null,null,null,null,null,null,null,null,null,null,null,null,null,null,null,null,null,null,null,null,null,null,null,null,192,30.72,{"$f":"IF(OR($C$19=\"\",$F$25=\"\",$G$25=\"\"),\"None\",IF(AL237<$B$14,\"Left Floodplain\",IF(AL237<$B$15,\"Left Bank\",IF(AL237<$B$16,\"Left Stream Bed\",IF(AL237<$B$17,\"Right Stream Bed\",IF(AL237<$B$18,\"Right Bank\",\"Right Floodplain\"))))))","v":"Left Stream Bed"},63.946249094292355,96.484914205070552,63.936743470546631,94.484990358942213,94.504084602526106,{"$f":"IF(OR($AP237<$AE$12,$AP237<=$AM237),0,IF(OR($AP237>=$AE$12,$AM237>=$AE$12),$AP237-$AM237-$AR237,$AP237-$AE$12))","v":0},{"$f":"IF($AP237<=$AM237,0,IF($AM237>=$AE$12,0,IF($AP237<=$AE$12,$AP237-$AM237,$AE$12-$AM237)))","v":0},0,"","",0,{"$f":"IF($AP237<=$AO237,0,IF($AO237>=$AE$12,0,IF($AP237<=$AE$12,$AP237-$AO237,$AE$12-$AO237)))","v":1.9094243583893444E-2},{"$f":"IF(AP237<=AO237,0,AP237-AO237)","v":1.9094243583893444E-2},{"$f":"IF($AS237=0,0,IF(OR($AJ237=0,$AJ237=$E$22),$AJ$46/2,$AJ$46))","v":0},{"$f":"IF(OR($AK237=\"Left Stream Bed\",$AK237=\"Right Stream Bed\"),$F$22*$AQ237*$AY237,0)","v":0},{"$f":"IF(OR($AK237=\"Left Stream Bed\",$AK237=\"Right Stream Bed\"),$F$22*$AR237*$AY237,0)","v":0},{"$f":"IF(OR($AK237=\"Left Floodplain\",$AK237=\"Left Bank\",$AK237=\"Right Bank\",$AK237=\"Right Floodplain\"),$F$22*$AQ237*$AY237,0)","v":0},{"$f":"IF(OR($AK237=\"Left Floodplain\",$AK237=\"Left Bank\",$AK237=\"Right Bank\",$AK237=\"Right Floodplain\"),$F$22*$AR237*$AY237,0)","v":0},{"$f":"AX237-AS237","v":1.9094243583893444E-2},1.6639152639797757E-3,0,{"$f":"IF(OR($AJ237=0,$AJ237=$E$22),($BF237*$AJ$46/2)*ABS($M$17),$BF237*$AJ$46*ABS($M$17))","v":0},{"$f":"IF(OR($AM237<$AP237,$AO237>$AE$8),\"\",IF(OR($AJ237=0,$AJ237=$E$22),$AJ$46/2,$AJ$46))","v":0.16},30.72,0,{"$f":"IF($BJ237=\"\",\"\",IF(OR($BJ237>($F$22/2),$BJ237=0),0,0.45-($BJ237*0.45/($F$22/2))))","v":0},{"$f":"IF($BK237=\"\",\"\",IF($BK237>0,$AJ237,\"\"))","v":""},5.7651238733151899,0.11041595462247675,{"$f":"IF($AO237=0,0,IF($AO237>$AP237,0,IF(OR($AJ237=0,$AJ237=$E$22),$AJ$46/2,$AJ$46)))","v":0.16},{"$f":"IF(AND($BO237>0,OR($AK237=\"Left Stream Bed\",$AK237=\"Right Stream Bed\")),$BO237,0)","v":0.16},{"$f":"IF(AND($BO237>0,OR($AK237=\"Left Floodplain\",$AK237=\"Left Bank\",$AK237=\"Right Bank\",$AK237=\"Right Floodplain\")),$BO237,0)","v":0},{"$f":"IF($BO237>0,$AJ237,\"\")","v":30.72},""]
[null,null,null,null,null,null,null,null,null,null,null,null,null,null,null,null,null,null,null,null,null,null,null,null,null,null,null,null,null,null,null,null,null,null,193,{"$f":"($AI238/$AI$245)*$AJ$245","v":30.88},"Left Stream Bed",64.033388021785072,96.483517959390809,{"$f":"$AN$45+ABS(AJ238*$M$19*$M$17)","v":64.023882398039348},94.48359411326247,94.494220475933929,0,0,{"$f":"IF(AP238<=AM238,0,AP238-AM238)","v":0},{"$f":"IF(OR($AS238=\"\",$AS238=0),\"\",IF(OR($AK238=\"Left Stream Bed\",$AK238=\"Right Stream Bed\"),$AS238,\"\"))","v":""},{"$f":"IF(OR($AS238=\"\",$AS238=0),\"\",IF(OR($AK238=\"Left Floodplain\",$AK238=\"Left Bank\",$AK238=\"Right Bank\",$AK238=\"Right Floodplain\"),$AS238,\"\"))","v":""},{"$f":"IF(OR($AP238<$AE$12,$AP238<=$AO238),0,IF($AO238>=$AE$12,$AP238-$AO238,$AP238-$AE$12))","v":0},1.0626362671459333E-2,1.0626362671459333E-2,0,0,0,0,0,1.0626362671459333E-2,{"$f":"$BD238*$AJ$46*ABS($M$17)","v":9.2600510577653058E-4},{"$f":"AV238-AQ238","v":0},0,0.16,{"$f":"IF($BH238=\"\",\"\",IF($BH238>0,$AJ238,\"\"))","v":30.88},{"$f":"IF($BH238=\"\",\"\",IF(OR(($AO238-$AP238)<0,$AO$45>=$AE$8),0,($AO238-$AP238)))","v":0},0,"",{"$f":"IF($BH238=\"\",\"\",IF(OR(($AM238-$AP238)<0,$AM238>=$AE$8),\"\",($AE$8-($AM238-(($F$22/2)/$M$19)))))","v":5.7665201189949329},0.1103004575264423,0.16,0.16,0,30.88,{"$f":"IF($AY238>0,$AJ238,\"\")","v":""}]
[null,null,null,null,null,null,null,null,null,null,null,null,null,null,null,null,null,null,null,null,null,null,null,null,null,null,null,null,null,null,null,null,null,null,194,31.04,"Left Stream Bed",64.120526949277775,{"$f":"AM238+((AL239-AL238)*$AA$40)","v":96.482121713711066},64.11102132553205,{"$f":"AO238+((AN239-AN238)*$AA$40)","v":94.482197867582727},{"$f":"IF($AL239<$B$14,(($AL239-$B$13)*$AB$31)+$C$13,IF($AL239<$B$15,(($AL239-$B$14)*$AB$32)+$C$14,IF($AL239<$B$16,(($AL239-$B$15)*$AB$33)+$C$15,IF($AL239<$B$17,(($AL239-$B$16)*$AB$34)+$C$16,IF($AL239<$B$18,(($AL239-$B$17)*$AB$35)+$C$17,IF($AL239<$B$19,(($AL239-$B$18)*$AB$36)+$C$18))))))","v":94.484356349341752},0,0,0,"","",0,2.1584817590252214E-3,2.1584817590252214E-3,0,0,0,0,0,2.1584817590252214E-3,1.8809494757328558E-4,0,0,0.16,31.04,0,0,"",5.7679163646746758,{"$f":"IF($BM239=\"\",\"\",(((PI()^2)/32)*($B$66^-6)*EXP(-($BM239/$F$22)/(2*($B$66^2)))))","v":0.11018508124247006},0.16,0.16,0,31.04,""]
[null,null,null,null,null,null,null,null,null,null,null,null,null,null,null,null,null,null,null,null,null,null,null,null,null,null,null,null,null,null,null,null,null,null,195,31.2,"Left Stream Bed",{"$f":"$AL$45+ABS(AJ240*$M$19*$M$17)","v":64.207665876770477},96.480725468031324,64.198160253024767,94.480801621902984,94.474492222749575,0,0,0,"","",0,0,0,0,0,0,0,0,0,0,0,0,0.16,31.2,6.30939915340889E-3,0.44716077038096602,31.2,5.7693126103544188,0.11006982564418855,0,0,0,"",""]
[null,null,null,null,null,null,null,null,null,null,null,null,null,null,null,null,null,null,null,null,null,null,null,null,null,null,null,null,null,null,null,null,null,null,196,31.36,"Left Stream Bed",64.294804804263194,96.479329222351581,64.285299180517484,94.479405376223241,94.464628096157398,0,0,0,"","",0,0,0,0,0,0,0,0,0,0,0,0,0.16,31.36,1.4777280065843001E-2,0.44335022397037066,31.36,5.7707088560341617,0.10995469060535833,0,0,0,"",""]
[null,null,null,null,null,null,null,null,null,null,null,null,null,null,null,null,null,null,null,null,null,null,null,null,null,null,null,null,null,null,null,null,null,null,197,31.52,"Left Stream Bed",64.381943731755911,96.477932976671838,64.372438108010186,94.478009130543498,94.454763969565221,0,0,0,"","",0,0,0,0,0,0,0,0,0,0,0,0,0.16,31.52,2.3245160978277113E-2,0.4395396775597753,31.52,5.7721051017139047,0.10983967599987213,0,0,0,"",""]
[null,null,null,null,null,null,null,null,null,null,null,null,null,null,null,null,null,null,null,null,null,null,null,null,null,null,null,null,null,null,null,null,null,null,198,31.68,"Left Stream Bed",64.469082659248613,96.476536730992095,64.459577035502903,94.476612884863755,94.444899842973058,0,0,0,"","",0,0,0,0,0,0,0,0,0,0,0,0,0.16,31.68,3.1713041890697014E-2,0.43572913114918638,31.68,5.7735013473936476,0.10972478170175427,0,0,0,"",""]
[null,null,null,null,null,null,null,null,null,null,null,null,null,null,null,null,null,null,null,null,null,null,null,null,null,null,null,null,null,null,null,null,null,null,199,{"$f":"($AI244/$AI$245)*$AJ$245","v":31.84},"Left Stream Bed",64.55622158674133,96.475140485312352,64.546715962995606,94.475216639184012,94.435035716380881,0,0,0,"","",0,0,0,0,0,0,0,0,0,0,0,0,0.16,31.84,4.0180922803131125E-2,0.43191858473859102,31.84,5.7748975930733906,0.10961000758516115,0,0,0,"",""]
[null,null,null,null,null,null,null,null,null,null,null,null,null,null,null,null,null,null,null,null,null,null,null,null,null,null,null,null,null,null,null,null,null,null,200,{"$f":"$E$22","v":32},"Left Stream Bed",64.643360514234033,96.473744239632609,64.633854890488323,94.473820393504269,94.425171589788704,0,0,0,"","",0,0,0,0,0,0,0,0,0,0,0,0,0.08,32,4.8648803715565236E-2,0.42810803832799565,32,5.7762938387531335,0.10949535352438074,0,0,0,"",""]

{"sheet":"Final-Top#2","index":12,"n_rows":245,"n_cols":72,"rows_kept":245,"cut":false,"hidden":false,"merged":[[107,27,107,28],[109,31,109,32],[90,29,90,30],[90,31,90,32],[91,0,91,9],[91,14,91,25],[97,20,97,22],[102,27,102,28],[102,31,102,32],[85,20,85,21],[86,20,86,21],[87,20,87,21],[90,1,90,2],[90,20,90,24],[90,27,90,28],[83,19,83,23],[83,25,84,25],[83,27,84,27],[83,28,83,31],[84,0,84,9],[84,20,84,21],[75,15,75,16],[77,3,77,4],[79,0,79,9],[80,0,80,4],[80,7,80,9],[83,18,84,18],[64,26,65,26],[66,10,69,10],[67,0,67,2],[67,3,67,5],[73,0,73,9],[74,0,74,2],[74,3,74,6],[74,7,74,9],[74,18,74,20],[74,22,74,30],[63,0,63,5],[64,7,64,9],[64,21,64,22],[64,23,65,23],[64,24,65,24],[64,25,65,25],[52,7,52,9],[54,18,54,22],[55,19,56,19],[55,20,55,23],[56,0,56,4],[62,0,62,9],[47,1,47,2],[48,0,48,9],[49,0,49,5],[49,7,49,8],[50,13,50,14],[51,13,51,14],[38,45,38,48],[41,34,41,38],[42,34,42,40],[42,41,42,49],[44,21,44,22],[44,23,45,23],[44,24,45,24],[44,25,45,25],[44,26,45,26],[44,29,44,31],[29,19,30,19],[29,20,29,23],[33,32,33,33],[33,43,33,44],[37,26,38,26],[37,27,38,27],[38,34,38,37],[26,1,26,2],[27,1,27,2],[27,32,27,33],[27,43,27,44],[28,1,28,2],[28,18,28,22],[22,10,23,10],[22,32,22,33],[22,43,22,44],[23,0,24,0],[23,3,23,4],[24,3,24,4],[16,18,16,20],[17,22,17,27],[17,32,17,33],[17,43,17,44],[20,0,20,2],[21,0,21,2],[10,28,10,30],[11,11,11,12],[11,13,11,16],[12,11,12,12],[12,13,12,16],[13,11,13,12],[13,13,13,16],[13,28,13,30],[7,22,7,24],[8,11,8,12],[8,13,8,16],[9,11,9,12],[9,13,9,16],[10,0,10,2],[10,11,10,12],[10,13,10,16],[6,11,6,12],[6,13,6,16],[7,0,8,0],[7,11,7,12],[7,13,7,16],[7,18,7,20],[0,8,1,9],[2,0,2,9],[4,1,4,2],[4,3,4,4],[4,11,4,12],[4,32,5,35],[4,43,5,46],[4,54,4,59],[4,60,4,63],[5,1,5,2],[5,3,5,4],[5,11,5,12],[5,13,5,16],[5,28,5,30],[5,54,5,55]]}
[{"$f":"'1-Cover'!A1","v":"Sample Multi-Log Structure"},null,null,null,null,null,null,null,"Spreadsheet developed by Michael Rafferty, P.E."]
[]
["Single Log Stability Analysis Model Inputs",null,null,null,null,null,null,null,null,null,"ERROR CHECKS"]
[]
["Site ID","Structure Type",null,"Structure Position",null,"Meander","Station","dw (ft)","Rc/WBF","udes (ft/s)",null,"Type Lookup Table",null,null,null,null,null,null,null,null,null,null,null,null,null,null,null,null,null,null,null,null,"Tilted Cylindrical (Stem) \"Below Water Surface\" Volume Calculation (Below High Flow)",null,null,null,null,null,null,null,null,null,null,"Tilted Cylindrical (Stem) Wet Volume Calculation (Below Channel Thalweg)",null,null,null,null,null,null,null,null,null,null,"Tilted Frustum (RW) Volume Calculation (Slice Method)",null,null,null,null,null,"A = R2 arccos [(R - h)/R] - [(R - h)*SQRT(2Rh - h2)]"]
["Sample1","Flow Deflection",null,"Left bank",null,"Outside",{"$f":"IF($A6=\"\",\"\",VLOOKUP($A6,SiteInfo,2,0))","v":1000},{"$f":"IF($A6=\"\",\"\",VLOOKUP($A6,SiteInfo,4,0))","v":8.4499999999999993},{"$f":"IF($A6=\"\",\"\",VLOOKUP($A6,SiteInfo,9,0))","v":5.3191489361702127},{"$f":"IF(OR($A$6=\"\",$F$6=\"\"),\"\",IF($F$6=\"Outside\",VLOOKUP($A$6,SiteInfo,10,0),VLOOKUP($A$6,SiteInfo,5,0)))","v":4.6327110774981861},{"$f":"IF($F$6=\"\",\"\",IF(AND($I$6<26,$F$6=\"Straight\"),\"CHECK - Structure is located on a meander (Rc/WBF < 26)\",\"\"))","v":""},"Structure Types",null,"Description",null,null,null,null,null,null,null,null,null,null,null,null,null,null,"Water Surface",null,null,null,null,null,null,null,null,null,null,null,null,null,null,null,null,null,null,null,null,null,null,null,null,null,"Slice thickness (ft) =",null,{"$f":"IF($G$22=\"\",\"\",$G$22/$BC$39)","v":0.1},"WSE (ft) =",{"$f":"IF($AE$8=\"\",\"\",$AE$8)","v":101.25},"RRW (ft) =",{"$f":"IF($H$22=\"\",\"\",$H$22/2)","v":3},"yRW,crown (ft) =",{"$f":"IF($U$10=\"\",\"\",$U$10)","v":98.473668085761574},"yRW,bot (ft) =",{"$f":"IF($U$15=\"\",\"\",$U$15)","v":92.47389654737654}]
[null,null,null,null,null,null,null,null,null,null,{"$f":"IF(OR($F$6=\"\",$I$6=\"\"),\"\",IF(AND($I$6>26,$F$6<>\"Straight\"),\"CHECK - Structure is not on a meander (Rc/WBF > 26)\",\"\"))","v":""},"Rootwad",null,"Logs buried in bank with rootwads protruding into channel",null,null,null,null,null,null,null,null,null,null,null,null,null,null,null,"x (ft)","y (ft)",null,null,"R = DTS/2",{"$f":"$F$22/2","v":1},"ft",null,null,null,null,null,null,null,null,"R = DTS/2",{"$f":"$F$22/2","v":1},"ft",null,null,null,null,null,null,null,null,null,null,"Thalweg Elevation (ft) =",{"$f":"$C$16","v":92.8},"RTS (ft) =",{"$f":"IF($F$22=\"\",\"\",$F$22/2)","v":1},"yRC,crown (ft) =",{"$f":"IF($U$11=\"\",\"\",$U$11)","v":96.499923846128354},"yRC,bot (ft) =",{"$f":"IF($U$14=\"\",\"\",$U$14)","v":94.5}]
["Multi-Log Structures","Layer","Log ID",null,null,null,null,null,null,null,null,"Log Vane",null,"Logs protruding from bank and angled either up- or downstream",null,null,null,null,"Large Wood Coordinates",null,null,null,null,null,null,null,null,null,"WSE",{"$f":"IF(OR($A$6=\"\",$C$16=\"\"),0,IF(($H$6+$C$16)>=$C$13,$B$13,IF(AND(($H$6+$C$16)<$C$13,($H$6+$C$16)>=$C$14),((($C$13-($H$6+$C$16))/($C$13-$C$14))*($B$14-$B$13))+$B$13,IF(AND(($H$6+$C$16)<$C$14,($H$6+$C$16)>=$C$15),((($C$14-($H$6+$C$16))/($C$14-$C$15))*($B$15-$B$14))+$B$14,IF(AND(($H$6+$C$16)<$C$15,($H$6+$C$16)>=$C$16),((($C$15-($H$6+$C$16))/($C$15-$C$16))*($B$16-$B$15))+$B$15,\"\")))))","v":0},{"$f":"IF(OR($A$6=\"\",$C$16=\"\"),$C$13,$H$6+$C$16)","v":101.25},null,null,"b (rad)",{"$f":"ABS($C$25)*PI()/180","v":8.7266462599716477E-3},"rad",null,null,null,null,null,null,null,null,"b (rad)",{"$f":"ABS($C$25)*PI()/180","v":8.7266462599716477E-3},"rad"]
[null,"Stacked","Top#2",null,null,null,null,null,null,null,null,"Log Weir",null,"Weirs spanning small streams comprised of one or more large logs",null,null,null,null,null,"x (ft)","y (ft)",null,"Large wood check","x (ft)",null,"y (ft)",null,null,"WSE",{"$f":"IF(OR($A$6=\"\",$C$16=\"\"),0,IF(($H$6+$C$16)>=$C$19,$B$19,IF(AND(($H$6+$C$16)<$C$19,($H$6+$C$16)>=$C$18),(((($H$6+$C$16)-$C$18)/($C$19-$C$18))*($B$19-$B$18))+$B$18,IF(AND(($H$6+$C$16)<$C$18,($H$6+$C$16)>=$C$17),(((($H$6+$C$16)-$C$17)/($C$18-$C$17))*($B$18-$B$17))+$B$17,IF(AND(($H$6+$C$16)<$C$17,($H$6+$C$16)>=$C$16),(((($H$6+$C$16)-$C$16)/($C$17-$C$16))*($B$17-$B$16))+$B$16,\"\")))))","v":150},{"$f":"IF(OR($A$6=\"\",$C$16=\"\"),$C$13,$H$6+$C$16)","v":101.25},null,null,"dwet,max",{"$f":"IF($AB$23>$AB$24,$AB$23,IF($AB$23<$AB$24,$AB$24,\"\"))","v":6.75},"ft",null,null,null,null,null,null,null,null,"dwet,max",{"$f":"IF($Z$23>$Z$24,$Z$23,IF($Z$23<$Z$24,$Z$24,\"\"))","v":""},"ft",null,null,null,null,null,null,null,"Slice #","xRW,avg (ft)","RRW,slice (ft)","Aslice,avg (ft)","Vslice (ft3)","ycrown,avg (ft)","ybot,avg (ft)","hRW,cr,↑WSE (ft)","ARW,↑WSE (ft2)","VRW,↑WSE (ft3)","hRW,bot,↓thw (ft)","ARW,↓thw (ft2)","VRW,↓thw (ft3)"]
[null,null,null,null,null,null,null,null,null,null,{"$f":"IF(OR($C$14=\"\",$C$15=\"\"),\"\",IF($C$15>=$C$14,\"ERROR - LB top elevation must be > LB toe elevation\",\"\"))","v":""},"Tree Revetment",null,"Row of logs secured along the bank and placed parallel to flow",null,null,null,"Pt 1","Rootwad: Crown",{"$f":"IF($F$25=\"\",0,IF($D$25=\"Rootwad: Crown\",$F$25,IF($D$22=\"No\",$T$15+(($F$22*-$M$20)*$M$17),$T$15+(($H$22*-$M$20)*$M$17))))","v":58.377766696364866},{"$f":"IF($G$25=\"\",$C$13,IF($D$25=\"Rootwad: Crown\",$G$25,IF($D$22=\"No\",$U$15+($F$22*$M$19),$U$15+($H$22*$M$19))))","v":98.473668085761574},null,"Rootwad: Crown",{"$f":"IF($D$22=\"No\",$T$15+(($F$22*-$M$20)*$M$17),$T$15+(($H$22*-$M$20)*$M$17))","v":58.377766696364866},{"$f":"IF(X10=T10,\"OK\",\"ERROR\")","v":"OK"},{"$f":"IF($D$22=\"No\",$U$15+($F$22*$M$19),$U$15+($H$22*$M$19))","v":98.473668085761574},{"$f":"IF(Z10=U10,\"OK\",\"ERROR\")","v":"OK"},null,null,null,null,null,null,"dwet,avgH",{"$f":"IF(AND($AB$23>0,$AB$24>0),(($AB$23/COS($AI$8))+($AB$24/COS($AI$8)))/2,\"\")","v":6.6237174461377144},"ft",null,null,null,null,null,null,null,null,"dwet,avgH",{"$f":"IF(AND($Z$23>0,$Z$24>0),(($Z$23/COS($AT$8))+($Z$24/COS($AT$8)))/2,\"\")","v":""},"ft",null,null,null,null,null,null,null,1,{"$f":"($BE$6/2)+(($BC10-1)*$BE$6)","v":0.05},{"$f":"(($G$22-$BD10)/$G$22)*($BI$6-$BI$7)+$BI$7","v":2.9666666666666668},{"$f":"PI()*($BE10^2)","v":27.649506010094171},{"$f":"$BF10*$BE$6","v":2.7649506010094171},{"$f":"(($G$22-$BD10)/$G$22)*($BK$6-$BK$7)+$BK$7","v":98.440772348434351},{"$f":"(($G$22-$BD10)/$G$22)*($BM$6-$BM$7)+$BM$7","v":92.507664938253598},{"$f":"IF($BH10<=$BG$6,0,IF((($BH10-$BG$6)*$M$19)>=($BE10*2),$BE10*2,($BH10-$BG$6)*$M$19))","v":0},{"$f":"(($BE10^2)*ACOS(($BE10-$BJ10)/$BE10))-(($BE10-$BJ10)*SQRT(2*$BE10*$BJ10-($BJ10^2)))","v":0},{"$f":"$BK10*$BE$6","v":0},{"$f":"IF($BI10>=$BG$7,0,IF((($BG$7-$BI10)*$M$19)>=($BE10*2),$BE10*2,($BG$7-$BI10)*$M$19))","v":0.29232393052301298},{"$f":"(($BE10^2)*ACOS(($BE10-$BM10)/$BE10))-(($BE10-$BM10)*SQRT(2*$BE10*$BM10-($BM10^2)))","v":0.50566075111979059},{"$f":"$BN10*$BE$6","v":5.056607511197906E-2}]
["Channel Geometry Coordinates",null,null,null,null,null,null,null,null,null,{"$f":"IF(OR($C$15=\"\",$C$16=\"\",$C$17=\"\"),\"\",IF(OR($C$15<$C$16,$C$17<$C$16),\"ERROR - Toe elevation must be >= thalweg elevation\",\"\"))","v":""},"Flow Deflection",null,"Partially spanning multiple log structure along the bank",null,null,null,"Pt 2","Root collar: Crown",{"$f":"IF($F$25=\"\",0,IF($D$25=\"Root collar: Crown\",$F$25,IF($D$22=\"No\",$T$10,$T$10+(($G$22*$M$19)*$M$17)-(((($H$22-$F$22)/2)*-$M$20)*$M$17))))","v":57.007923528423802},{"$f":"IF($G$25=\"\",$C$13,IF($D$25=\"Root collar: Crown\",$G$25,IF($D$22=\"No\",$U$10,$U$10-($G$22*-$M$20)-((($H$22-$F$22)/2)*$M$19))))","v":96.499923846128354},null,"Root collar: Crown",{"$f":"IF($D$22=\"No\",$X$10,$T$10+(($G$22*$M$19)*$M$17)-(((($H$22-$F$22)/2)*-$M$20)*$M$17))","v":57.007923528423802},"OK",{"$f":"IF($D$22=\"No\",$Z$10,$U$10-($G$22*-$M$20)-((($H$22-$F$22)/2)*$M$19))","v":96.499923846128354},"OK",null,"Water Surface Label",null,null,null,null,"hmax,lower",{"$f":"IF($AI$9/COS($AI$8)>$F$22,$F$22,$AI$9/COS($AI$8))","v":2},"ft",null,null,null,null,null,null,null,null,"hmax,lower",{"$f":"IF($AT$9/COS($AT$8)>$F$22,$F$22,$AT$9/COS($AT$8))","v":{"$error":"#VALUE!"}},"ft",null,null,null,null,null,null,null,2,{"$f":"($BE$6/2)+(($BC11-1)*$BE$6)","v":0.15000000000000002},2.9000000000000004,{"$f":"PI()*($BE11^2)","v":26.420794216690165},{"$f":"$BF11*$BE$6","v":2.6420794216690169},98.374980873779919,92.575201720007712,{"$f":"IF($BH11<=$BG$6,0,IF((($BH11-$BG$6)*$M$19)>=($BE11*2),$BE11*2,($BH11-$BG$6)*$M$19))","v":0},{"$f":"(($BE11^2)*ACOS(($BE11-$BJ11)/$BE11))-(($BE11-$BJ11)*SQRT(2*$BE11*$BJ11-($BJ11^2)))","v":0},{"$f":"$BK11*$BE$6","v":0},{"$f":"IF($BI11>=$BG$7,0,IF((($BG$7-$BI11)*$M$19)>=($BE11*2),$BE11*2,($BG$7-$BI11)*$M$19))","v":0.22478972036260353},{"$f":"(($BE11^2)*ACOS(($BE11-$BM11)/$BE11))-(($BE11-$BM11)*SQRT(2*$BE11*$BM11-($BM11^2)))","v":0.33822238628601076},{"$f":"$BN11*$BE$6","v":3.3822238628601078E-2}]
["Proposed","x (ft)","y (ft)",null,null,null,null,null,null,null,{"$f":"IF(OR($C$18=\"\",$C$17=\"\"),\"\",IF($C$17>=$C$18,\"ERROR - RB top elevation must be > RB toe elevation\",\"\"))","v":""},"Mid-Channel",null,"Logs placed at the head of an island or bar",null,null,null,"Pt 3","Stem tip: Crown",{"$f":"IF($F$25=\"\",0,IF($D$25=\"Stem tip: Crown\",$F$25,$T$11+((($E$22-$G$22)*$M$19)*$M$17)))","v":43.842700346423584},{"$f":"IF($G$25=\"\",$C$13,IF($D$25=\"Stem tip: Crown\",$G$25,$U$11-(($E$22-$G$22)*-$M$20)))","v":96.752993375581198},null,"Stem tip: Crown",{"$f":"$T$11+((($E$22-$G$22)*$M$19)*$M$17)","v":43.842700346423584},"OK",{"$f":"$U$11-(($E$22-$G$22)*-$M$20)","v":96.752993375581198},"OK",null,"WSE",{"$f":"IF($AD$8=\"\",\"\",AVERAGE(AD8:AD9))","v":75},{"$f":"IF($AE$8=\"\",\"\",AVERAGE(AE8:AE9))","v":101.25},null,null,"hmax,up,dry",{"$f":"IF(AND($AB$23>$F$22,$AB$24>$F$22),0,IF(AND($AB$23>=$F$22,(($F$22-$AB$24)/(COS($AI$8)))>$F$22),$F$22,IF($AB$23>=$F$22,($F$22-$AB$24)/(COS($AI$8)),IF(AND($AB$24>=$F$22,(($F$22-$AB$23)/(COS($AI$8))>$F$22)),$F$22,IF($AB$24>=$F$22,($F$22-$AB$23)/(COS($AI$8)),\"\")))))","v":0},"ft",null,null,null,null,null,null,null,null,"hmax,up,dry",{"$f":"IF(AND($Z$23>$F$22,$Z$24>$F$22),0,IF(AND($Z$23>=$F$22,(($F$22-$Z$24)/(COS($AT$8)))>$F$22),$F$22,IF($Z$23>=$F$22,($F$22-$Z$24)/(COS($AT$8)),IF(AND($Z$24>=$F$22,(($F$22-$Z$23)/(COS($AT$8))>$F$22)),$F$22,IF($Z$24>=$F$22,($F$22-$Z$23)/(COS($AT$8)),\"\")))))","v":""},"ft",null,null,null,null,null,null,null,3,0.25,2.833333333333333,25.22000769131806,2.522000769131806,98.309189399125472,92.642738501761826,0,0,0,0.15725551020219408,0.19627380824632512,1.9627380824632515E-2]
["Fldpln LB",{"$f":"'Prelim-Top#1'!B13","v":0},{"$f":"'Prelim-Top#1'!C13","v":99.18},null,null,null,null,null,null,null,{"$f":"IF(OR($B$14<$B$13,$B$15<$B$14,$B$16<$B$15,$B$17<$B$16,$B$18<$B$17,$B$19<$B$18),\"ERROR - Each 'x' distance must be >= previous point\",\"\")","v":""},"Full-Span",null,"Multiple logs constricting a large portion of the cross-sectional area",null,null,null,"Pt 4","Stem tip: Bottom",{"$f":"IF($F$25=\"\",0,IF($D$25=\"Stem tip: Bottom\",$F$25,$T$12-(($F$22*-$M$20)*$M$17)))","v":43.834776817999781},{"$f":"IF($G$25=\"\",$C$13,IF($D$25=\"Stem tip: Bottom\",$G$25,$U$12-($F$22*$M$19)))","v":94.753069529452858},null,"Stem tip: Bottom",{"$f":"$T$12-(($F$22*-$M$20)*$M$17)","v":43.834776817999781},"OK",{"$f":"$U$12-($F$22*$M$19)","v":94.753069529452858},"OK",null,null,null,null,null,null,"LTS,bot,wet",{"$f":"IF(($AI$9/SIN($AI$8))>($E$22-$G$22),($E$22-$G$22-$AI$14),($AI$9/SIN($AI$8))-$AI$14)","v":-515.32554073226038},"ft",null,null,null,null,null,null,null,null,"LTS,bot,wet",{"$f":"IF(($AT$9/SIN($AT$8))>($E$22-$G$22),($E$22-$G$22-$AT$14),($AT$9/SIN($AT$8))-$AT$14)","v":{"$error":"#VALUE!"}},"ft",null,null,null,null,null,null,null,4,0.35000000000000003,2.7666666666666666,24.047146433977868,2.4047146433977868,98.243397924471026,92.710275283515941,0,0,0,8.9721300041784635E-2,8.3878675399100766E-2,8.387867539910077E-3]
["Top LB",{"$f":"'Prelim-Top#1'!B14","v":33},{"$f":"'Prelim-Top#1'!C14","v":98.59},null,null,null,null,null,null,null,null,"Floodplain",null,"Logs placed outside of the bankfull channel",null,null,null,"Pt 5","Root collar: Bottom",{"$f":"IF($F$25=\"\",0,IF($D$25=\"Root collar: Bottom\",$F$25,$T$13-((($E$22-$G$22)*$M$19)*$M$17)))","v":57},{"$f":"IF($G$25=\"\",$C$13,IF($D$25=\"Root collar: Bottom\",$G$25,$U$13+(($E$22-$G$22)*-$M$20)))","v":94.5},null,"Root collar: Bottom",{"$f":"$T$13-((($E$22-$G$22)*$M$19)*$M$17)","v":57},"OK",{"$f":"$U$13+(($E$22-$G$22)*-$M$20)","v":94.500000000000014},"OK",null,"Bank Labels",null,null,null,null,"LTS,top,wet",{"$f":"IF($AI$11>=$F$22,(($AI$9-($AI$11/(COS($AI$8))))/SIN($AI$8))+($AI$11*TAN($AI$8)),0)","v":544.32554073226038},"ft",null,null,null,null,null,null,null,null,"LTS,top,wet",{"$f":"IF($AT$11>=$F$22,(($AT$9-($AT$11/(COS($AT$8))))/SIN($AT$8))+($AT$11*TAN($AT$8)),0)","v":{"$error":"#VALUE!"}},"ft",null,null,null,null,null,null,null,5,0.45,2.7,22.902210444669596,2.2902210444669597,98.177606449816594,92.777812065270055,0,0,0,2.2187089881375188E-2,1.022704314628442E-2,1.0227043146284422E-3]
["Toe LB",{"$f":"'Prelim-Top#1'!B15","v":54},{"$f":"'Prelim-Top#1'!C15","v":95.63},null,null,null,null,null,null,null,{"$f":"IF(AND($B$6=\"Rootwad\",$D$22=\"No\"),\"ERROR - Rootwad structure type should have a rootwad\",\"\")","v":""},null,null,null,null,null,null,"Pt 6","Rootwad: Bottom",{"$f":"IF($F$25=\"\",0,IF($D$25=\"Rootwad: Bottom\",$F$25,IF($D$22=\"No\",$T$14,$T$14-(($G$22*$M$19)*$M$17)-(((($H$22-$F$22)/2)*-$M$20)*$M$17))))","v":58.353996111093458},{"$f":"IF($G$25=\"\",$C$13,IF($D$25=\"Rootwad: Bottom\",$G$25,IF($D$22=\"No\",$U$14,$U$14+($G$22*-$M$20)-((($H$22-$F$22)/2)*$M$19))))","v":92.47389654737654},null,"Rootwad: Bottom",{"$f":"IF($D$22=\"No\",$T$14,$T$14-(($G$22*$M$19)*$M$17)-(((($H$22-$F$22)/2)*-$M$20)*$M$17))","v":58.353996111093458},"OK",{"$f":"IF($D$22=\"No\",$U$14,$U$14+($G$22*-$M$20)-((($H$22-$F$22)/2)*$M$19))","v":92.47389654737654},"OK",null,"LB",{"$f":"IF(OR($B$13=\"\",$B$14=\"\"),\"\",AVERAGE($B$13:$B$14))","v":16.5},{"$f":"IF(OR($C$13=\"\",$C$14=\"\"),\"\",AVERAGE($C$13:$C$14))","v":98.885000000000005},null,null,"K1",{"$f":"IF(AND(($AI$11-$AI$7)=1,$AH$17=\"Case 1\"),PI(),ACOS(1-($AI$11/$AI$7)))","v":3.1415926535897931},"rad",null,null,null,null,null,null,null,null,"K1",{"$f":"ACOS(1-($AT$11/$AT$7))","v":{"$error":"#VALUE!"}},"rad",null,null,null,null,null,null,null,6,0.55000000000000004,2.6333333333333337,21.785199723393227,2.1785199723393229,98.111814975162147,92.845348847024169,0,0,0,0,0,0]
["Thalweg",{"$f":"'Prelim-Top#1'!B16","v":79},{"$f":"'Prelim-Top#1'!C16","v":92.8},null,null,null,null,null,null,null,{"$f":"IF(OR($N$52=\"\",$F$25=\"\",$G$25=\"\"),\"\",IF(AND($B$6=\"Rootwad\",$N$52<>\"Exposed in stream\"),\"CHECK - Rootwad structure typically has exposed rootwad\",\"\"))","v":""},null,null,null,null,null,null,null,null,null,null,null,null,null,null,null,null,null,"RB",{"$f":"IF(OR($B$18=\"\",$B$19=\"\"),\"\",AVERAGE($B$18:$B$19))","v":138.5},{"$f":"IF(OR($C$18=\"\",$C$19=\"\"),\"\",AVERAGE($C$18:$C$19))","v":98.8},null,null,"K2",{"$f":"IF($AI$12=\"\",\"\",ACOS(1-($AI$12/$AI$7)))","v":0},"rad",null,null,null,null,null,null,null,null,"K2",{"$f":"IF($AT$12=\"\",\"\",ACOS(1-($AT$12/$AT$7)))","v":""},"rad",null,null,null,null,null,null,null,7,0.65000000000000013,2.5666666666666664,20.696114270148755,2.0696114270148755,98.046023500507715,92.912885628778284,0,0,0,0,0,0]
["Toe RB",{"$f":"'Prelim-Top#1'!B17","v":108},{"$f":"'Prelim-Top#1'!C17","v":94.94},null,null,null,null,null,null,null,null,"cos (q+90) =",{"$f":"IF($B$25=\"\",0,COS(($B$25+90)*PI()/180))","v":-0.45399049973954669},null,null,null,null,null,"Rootwad Coordinates",null,null,null,null,null,null,null,null,null,null,null,null,null,"check:",{"$f":"IF(AND($AA$21=\"Wet\",$AA$22=\"Wet\",$AA$23=\"Wet\",$AA$24=\"Wet\"),\"Log is completely submerged\",IF(AND($AA$21=\"Dry\",$AA$22=\"Dry\",OR(AND($AA$23=\"Dry\",$AA$24=\"Wet\"),AND($AA$24=\"Dry\",$AA$23=\"Wet\"))),\"Case 1\",IF(OR(AND($AA$21=\"Wet\",$AA$24=\"Wet\",$AA$22=\"Dry\",$AA$23=\"Dry\"),AND($AA$22=\"Wet\",$AA$23=\"Wet\",$AA$21=\"Dry\",$AA$24=\"Dry\")),\"Case 2\",IF(AND($AA$22=\"Dry\",$AA$23=\"Wet\",$AA$21=\"Dry\",$AA$24=\"Wet\"),\"Case 3\",IF(OR(AND($AA$21=\"Dry\",$AA$22=\"Wet\",$AA$23=\"Wet\",$AA$24=\"Wet\"),AND($AA$21=\"Wet\",$AA$22=\"Dry\",$AA$23=\"Wet\",$AA$24=\"Wet\")),\"Case 4\",\"Stem is Dry\")))))","v":"Log is completely submerged"},null,null,"VTS =",{"$f":"PI()*(($F$22/2)^2)*($E$22-$G$22)","v":91.106186954104004},"ft3",null,null,null,null,"check:",{"$f":"IF(AND($Y$21=\"Wet\",$Y$22=\"Wet\",$Y$23=\"Wet\",$Y$24=\"Wet\"),\"Log is completely submerged\",IF(AND($Y$21=\"Dry\",$Y$22=\"Dry\",OR(AND($Y$23=\"Dry\",$Y$24=\"Wet\"),AND($Y$24=\"Dry\",$Y$23=\"Wet\"))),\"Case 1\",IF(OR(AND($Y$21=\"Wet\",$Y$24=\"Wet\",$Y$22=\"Dry\",$Y$23=\"Dry\"),AND($Y$22=\"Wet\",$Y$23=\"Wet\",$Y$21=\"Dry\",$Y$24=\"Dry\")),\"Case 2\",IF(AND($Y$22=\"Dry\",$Y$23=\"Wet\",$Y$21=\"Dry\",$Y$24=\"Wet\"),\"Case 3\",IF(OR(AND($Y$21=\"Dry\",$Y$22=\"Wet\",$Y$23=\"Wet\",$Y$24=\"Wet\"),AND($Y$21=\"Wet\",$Y$22=\"Dry\",$Y$23=\"Wet\",$Y$24=\"Wet\")),\"Case 4\",\"Stem is Dry\")))))","v":"Stem is Dry"},null,null,"VTS =",{"$f":"PI()*(($F$22/2)^2)*($E$22-$G$22)","v":91.106186954104004},"ft3",null,null,null,null,8,0.75000000000000011,2.5,19.634954084936208,1.9634954084936209,97.980232025853269,92.980422410532412,0,0,0,0,0,0]
["Top RB",{"$f":"'Prelim-Top#1'!B18","v":127},{"$f":"'Prelim-Top#1'!C18","v":98.72},null,null,null,null,null,null,null,null,"sin (q+90) =",{"$f":"IF($B$25=\"\",0,SIN(($B$25+90)*PI()/180))","v":0.8910065241883679},null,null,null,null,null,null,"x (ft)","y (ft)",null,"Large Wood \"Below Thalweg\" and \"Below Water Surface\" Depths",null,null,null,null,null,null,null,null,null,"Case 1",null,null,null,null,null,null,null,null,null,null,"Case 1",null,null,null,null,null,null,null,null,null,null,9,0.85000000000000009,2.4333333333333336,18.601719167755569,1.860171916775557,97.914440551198823,93.047959192286527,0,0,0,0,0,0]
["Fldpln RB",{"$f":"'Prelim-Top#1'!B19","v":150},{"$f":"'Prelim-Top#1'!C19","v":98.88},null,null,null,null,null,null,null,{"$f":"IF($C$25=\"\",\"\", IF($C$25=0,\"ERROR - Angle of tilt can not be exactly 0 deg, change to 0.01\", IF(OR($C$25>=90,$C$25<=-90),\"ERROR - Angle of tilt must be between (-)89.9 and (+)89.9 deg\",\"\")))","v":""},"cos b =",{"$f":"IF($C$25=\"\",0,COS($C$25*PI()/180))","v":0.99996192306417131},null,null,null,null,null,"RW bottom1",{"$f":"IF($T$15=\"\",\"\",$T$15)","v":58.353996111093458},{"$f":"IF($U$15=\"\",$C$13,$U$15)","v":92.47389654737654},null,null,"Point","↓twCondition","dT,wet","↓WSECondition","dT↓dw",null,null,null,null,null,null,"V =","LTS,bot,wet/hmax,lower*R3*(sin K1 – K1*cos K1 – 1/3*(sin K1)3)",null,null,null,null,null,null,null,null,null,"V =","LTS,bot,wet/hmax,lower*R3*(sin K1 – K1*cos K1 – 1/3*(sin K1)3)",null,null,null,null,null,null,null,10,0.95000000000000007,2.3666666666666663,17.596409518606823,1.7596409518606824,97.84864907654439,93.115495974040641,0,0,0,0,0,0]
[null,null,null,null,null,null,null,null,null,null,{"$f":"IF(OR($B$25=\"\",$A$6=\"\"),\"\",IF(OR($B$25>360,$B$25<-180),\"ERROR - Orientation angle must be (-)180 to (+)360 deg\",\"\"))","v":""},"sin b =",{"$f":"IF($C$25=\"\",0,SIN($C$25*PI()/180))","v":8.7265354983739347E-3},null,null,null,null,null,"RW sid1",{"$f":"IF($T$19=\"\",\"\",IF($D$22=\"No\",$T$19+((SIN(45*PI()/180))*$M$18),(($T$19+$T$21)/2)+((SIN(45*PI()/180))*$M$18)))","v":60.32648529902891},{"$f":"IF($U$15=\"\",$C$13,($U$21+$U$19)/2)","v":93.973839431972806},null,"Rootwad: Crown","Pt 1",{"$f":"IF($U10<$C$16,\"Wet\",\"Dry\")","v":"Dry"},{"$f":"IF($C$16<U10,0,$C$16-U10)","v":0},{"$f":"IF($U10<$AE$8,\"Wet\",\"Dry\")","v":"Wet"},{"$f":"IF(U10>$AE$8,0,$AE$8-U10)","v":2.7763319142384262},null,null,null,null,null,null,"where:","K1 = arccos(1-hmax,lower/R)",null,null,null,null,null,null,null,null,null,"where:","K1 = arccos(1-hmax,lower/R)",null,null,null,null,null,null,null,11,1.05,2.2999999999999998,16.619025137490002,1.6619025137490002,97.782857601889944,93.183032755794756,0,0,0,0,0,0]
["Wood Species",null,null,"Rootwad","LT (ft)","DTS (ft)","LRW (ft)","DRW (ft)","gTd (lb/ft3)","gTgr (lb/ft3)",{"$f":"IF(AND($D$22=\"No\",OR($D$25=\"Rootwad: Crown\",$D$25=\"Rootwad: Bottom\")),\"ERROR - No rootwad, define a different starting point\",\"\")","v":""},"typ RW b =",{"$f":"IF($E$22=\"\",0,ROUND((-ATAN(((($H$22-$F$22)/2))/$E$22)*180/PI()),1))","v":-3.6},null,null,null,null,null,"RW sid2",{"$f":"IF($T$19=\"\",\"\",IF($D$22=\"No\",(($T$19+$T$23)/2)+($F$22/2*$M$18),(($T$19+$T$23)/2)+($H$22/2*$M$18)))","v":61.038900976294265},{"$f":"IF($U$15=\"\",$C$13,($U$19+$U$23)/2)","v":95.473782316569057},null,"Root collar: Crown","Pt 2","Dry",0,"Wet",4.7500761538716461,null,null,null,null,null,null,"VTS,wet,C1",{"$f":"($AI$13/$AI$11)*($AI$7^3)*(SIN($AI$15)-($AI$15*COS($AI$15))-((1/3)*(SIN($AI$15))^3))","v":-809.4714664858285},"ft3",null,null,null,null,null,null,null,null,"VTS,wet,C1",{"$f":"($AT$13/$AT$11)*($AT$7^3)*(SIN($AT$15)-($AT$15*COS($AT$15))-((1/3)*(SIN($AT$15))^3))","v":{"$error":"#VALUE!"}},"ft3",null,null,null,null,null,null,12,1.1500000000000001,2.2333333333333334,15.669566024405089,1.566956602440509,97.717066127235512,93.25056953754887,0,0,0,0,0,0]
["Douglas-fir, Interior west",null,null,"Yes",32,2,{"$f":"IF(OR($D$22=\"No\",$D$22=\"\"),0,IF($F$22=\"\",0,$F$22*LFRW))","v":3},{"$f":"IF(OR($D$22=\"No\",$D$22=\"\"),0,IF($F$22=\"\",0,$F$22*DFRW))","v":6},{"$f":"IF($A$22=\"\",\"\",VLOOKUP($A$22,'5-Wood'!$B$8:$E$17,3,0))","v":34.944000000000003},{"$f":"IF($A$22=\"\",\"\",VLOOKUP($A$22,'5-Wood'!$B$8:$E$17,4,0))","v":39},null,null,null,null,null,null,null,null,"RW sid3",{"$f":"IF($T$19=\"\",\"\",IF($D$22=\"No\",$T$23+((SIN(45*PI()/180))*$M$18),(($T$23+$T$21)/2)+((SIN(45*PI()/180))*$M$18)))","v":60.338370591664614},{"$f":"IF($U$15=\"\",$C$13,($U$21+$U$23)/2)","v":96.973725201165308},null,"Stem tip: Crown","Pt 3","Dry",0,"Wet",4.4970066244188018,null,null,null,null,null,null,null,null,null,null,null,null,null,null,null,null,null,null,null,null,null,null,null,null,null,null,13,1.2500000000000002,2.1666666666666665,14.748032179352082,1.4748032179352082,97.651274652581066,93.318106319302984,0,0,0,0,0,0]
[null,null,null,null,null,null,null,null,null,null,{"$f":"IF(OR($B$25=\"\",$A$6=\"\"),\"\",IF(OR($B$25=360,$B$25=270,$B$25=180,$B$25=90,$B$25=0,$B$25=-90,$B$25=-180),\"ERROR - Orientation angle can not EXACTLY equal 0, 90, 180, 270, or 360 deg. Change input value to 0.01, 89.99 (or similar)\",\"\"))","v":""},null,null,null,null,null,null,null,"RW crown",{"$f":"IF($T$19=\"\",\"\",$T$10)","v":58.377766696364866},{"$f":"IF($U$15=\"\",$C$13,$U$10)","v":98.473668085761574},null,"Stem tip: Bottom","Pt 4","Dry",0,"Wet",6.4969304705471416,null,null,null,null,"Case 2",null,null,null,null,null,null,null,null,null,null,"Case 2",null,null,null,null,null,null,null,null,null,null,14,1.35,2.0999999999999996,13.854423602330982,1.3854423602330983,97.585483177926619,93.385643101057099,0,0,0,0,0,0]
["Structure Geometry","q (deg)","b (deg)","Define Fixed Point",null,"xT (ft)","yT (ft)","yT,min (ft)","yT,max (ft)","ATp (ft2)",null,null,null,null,null,null,null,null,"RW sid4",{"$f":"IF($T$19=\"\",\"\",IF($D$22=\"No\",$T$23-((SIN(45*PI()/180))*$M$18),(($T$23+$T$25)/2)-((SIN(45*PI()/180))*$M$18)))","v":56.405277508429414},{"$f":"IF($U$15=\"\",$C$13,($U$25+$U$23)/2)","v":96.973725201165308},null,"Root collar: Bottom","Pt 5","Dry",0,"Wet",6.75,null,null,null,null,null,null,"V =","(p*R2*LTS,top,wet) + (LTS,bot,wet/hmax,lower*R3*(sin K1 – K1*cos K1 – 1/3*(sin K1)3)",null,null,null,null,null,null,null,null,null,"V =","(p*R2*LTS,top,wet) + (LTS,bot,wet/hmax,lower*R3*(sin K1 – K1*cos K1 – 1/3*(sin K1)3)",null,null,null,null,null,null,null,15,1.4500000000000002,2.0333333333333332,12.988740293341799,1.2988740293341801,97.519691703272187,93.453179882811213,0,0,0,0,0,0]
[null,27,0.5,"Root collar: Bottom",null,57,94.5,{"$f":"IF(OR($E$22=\"\",$F$22=\"\",$F$25=\"\",$G$25=\"\"),\"\",MIN($U$10:$U$15))","v":92.47389654737654},{"$f":"IF(OR($E$22=\"\",$F$22=\"\",$F$25=\"\",$G$25=\"\"),\"\",MAX($U$10:$U$15))","v":98.473668085761574},{"$f":"IF(OR($E$22=\"\",$F$22=\"\",$F$25=\"\",$G$25=\"\"),\"\",IF($T$81<0,$AB$80,IF($T$81>$T$77,$T$77+$AB$80,IF(OR(AND($C$25=0,$D$22=\"No\",$B$25=0),AND($C$25=0,$D$22=\"No\",$B$25=360),AND($C$25=0,$D$22=\"No\",$B$25=180)),PI()*(($F$22/2)^2),$T$81+$AB$80))))","v":33.05110587446103},{"$f":"IF(OR($B$13=\"\",$B$19=\"\",$U$38=0,$U$39=0),\"\",IF(OR(MAX($U$38:$U$39)>$B$19,MIN($U$38:$U$39)<$B$13),\"ERROR - Log extends beyond limits of floodplain\",\"\"))","v":""},null,null,null,null,null,null,null,"RW sid5",{"$f":"IF($T$19=\"\",\"\",IF($D$22=\"No\",(($T$27+$T$23)/2)-($F$22/2*$M$18),(($T$27+$T$23)/2)-($H$22/2*$M$18)))","v":55.692861831164059},{"$f":"IF($U$15=\"\",$C$13,($U$27+$U$23)/2)","v":95.473782316569057},null,"Rootwad: Bottom","Pt 6","Wet",0.32610345262345675,"Wet",8.7761034526234596,null,null,null,null,null,null,"where:","K1 = arccos(1-hmax,lower/R)",null,null,null,null,null,null,null,null,null,"where:","K1 = arccos(1-hmax,lower/R)",null,null,null,null,null,null,null,16,1.55,1.9666666666666668,12.150982252384525,1.2150982252384526,97.453900228617741,93.520716664565327,0,0,0,0,0,0]
[null,null,null,null,null,null,null,null,null,null,null,null,null,null,null,null,null,null,"RW sid6",{"$f":"IF($T$19=\"\",\"\",IF($D$22=\"No\",$T$27-((SIN(45*PI()/180))*$M$18),(($T$27+$T$25)/2)-((SIN(45*PI()/180))*$M$18)))","v":56.39339221579371},{"$f":"IF($U$15=\"\",$C$13,($U$25+$U$27)/2)","v":93.973839431972806},null,null,null,null,null,null,null,null,null,null,null,null,null,"VTS,wet,C2",{"$f":"(PI()*(($AI$7)^2)*($AI$14))+($AI$13/$AI$11)*($AI$7^3)*(SIN($AI$15)-($AI$15*COS($AI$15))-((1/3)*(SIN($AI$15))^3))","v":900.57765343993231},"ft3",null,null,null,null,null,null,null,null,"VTS,wet,C2",{"$f":"(PI()*(($AT$7)^2)*($AT$14))+($AT$13/$AT$11)*($AT$7^3)*(SIN($AT$15)-($AT$15*COS($AT$15))-((1/3)*(SIN($AT$15))^3))","v":{"$error":"#VALUE!"}},"ft3",null,null,null,null,null,null,17,1.6500000000000001,1.9,11.341149479459153,1.1341149479459154,97.388108753963309,93.588253446319442,0,0,0,0,0,0]
["Soils","Material",null,"gs (lb/ft3)","g's (lb/ft3)","f (deg)","Soil Class","LT,em (ft)","db,max (ft)","db,avg (ft)",null,null,null,null,null,null,null,null,"RW bottom2",{"$f":"IF($T$19=\"\",\"\",$T$15)","v":58.353996111093458},{"$f":"IF($U$15=\"\",$C$13,$U$15)","v":92.47389654737654},null,null,null,null,null,null,null,null,null,null,null,null,null,null,null,null,null,null,null,null,null,null,null,null,null,null,null,null,null,null,null,null,null,18,1.7500000000000002,1.833333333333333,10.559241974565689,1.055924197456569,97.322317279308862,93.655790228073556,0,0,0,0,0,0]
["Stream Bed",{"$f":"IF($A$6=\"\",\"\",VLOOKUP($A$6,Soil,4,0))","v":"Small Cobble"},null,{"$f":"IF($A$6=\"\",\"\",VLOOKUP($A$6,Soil,6,0))","v":136.37545738828794},{"$f":"IF($A$6=\"\",\"\",VLOOKUP($A$6,Soil,7,0))","v":84.913020637990599},{"$f":"IF($A$6=\"\",\"\",VLOOKUP($A$6,Soil,8,0))","v":41},{"$f":"IF($A$6=\"\",\"\",VLOOKUP($A$6,Soil,5,0))","v":4},{"$f":"IF(OR($E$22=\"\",$F$22=\"\",$F$25=\"\",$G$25=\"\"),\"\",IF(AND($F$25<=$B$17,$F$25>=$B$15,OR($B$25=0,$B$25=180,$B$25=360)),SUM($X$49:$X$50),$AB$49+$AB$50))","v":0},{"$f":"IF(OR($E$22=\"\",$F$22=\"\",$F$25=\"\",$G$25=\"\"),\"\",$AT$42)","v":0},{"$f":"IF(OR($E$22=\"\",$F$22=\"\",$F$25=\"\",$G$25=\"\"),\"\",$AT$41)","v":0},null,null,null,null,null,null,null,null,null,null,null,null,null,null,null,null,null,null,null,null,null,null,"Case 3",null,null,null,null,null,null,null,null,null,null,"Case 3",null,null,null,null,null,null,null,null,null,null,19,1.85,1.7666666666666666,9.8052597377041426,0.98052597377041428,97.256525804654416,93.723327009827671,0,0,0,0,0,0]
["Bank",{"$f":"IF($A$6=\"\",\"\",VLOOKUP($A$6,Soil,9,0))","v":"Gravel/cobble"},null,{"$f":"IF($A$6=\"\",\"\",VLOOKUP($A$6,Soil,11,0))","v":137},{"$f":"IF($A$6=\"\",\"\",VLOOKUP($A$6,Soil,12,0))","v":85.301886792452819},{"$f":"IF($A$6=\"\",\"\",VLOOKUP($A$6,Soil,13,0))","v":41},{"$f":"IF($A$6=\"\",\"\",VLOOKUP($A$6,Soil,10,0))","v":4},{"$f":"IF(OR($E$22=\"\",$F$22=\"\",$F$25=\"\",$G$25=\"\"),\"\",IF(AND(OR($F$25>$B$17,$F$25<$B$15),OR($B$25=0,$B$25=180,$B$25=360)),$X$47+$X$48+$X$51+$X$52,$AB$47+$AB$48+$AB$51+$AB$52))","v":5.5861497013720083},{"$f":"IF(OR($E$22=\"\",$F$22=\"\",$F$25=\"\",$G$25=\"\"),\"\",$AU$42)","v":0.30870219463719195},{"$f":"IF(OR($E$22=\"\",$F$22=\"\",$F$25=\"\",$G$25=\"\"),\"\",$AU$41)","v":0.15838936481692575},{"$f":"IF(OR($E$22=\"\",$F$22=\"\",$F$25=\"\",$G$25=\"\"),\"\",IF(($H$28+$H$29)>$E$22,\"ERROR - Embedded length of log exceeds total length of log\",\"\"))","v":""},null,null,null,null,null,null,null,"Coordinates of Large Wood Crown at Key Points",null,null,null,null,null,null,null,null,null,null,null,null,null,null,null,"V =","LTS*(R2*arccos((R-dwet,avgH)/R)-(R-dwet,avgH)*((2*R*dwet,avgH)-dwet,avgH2)0.5)",null,null,null,null,null,null,null,null,null,"V =","LTS*(R2*arccos((R-dwet,avgH)/R)-(R-dwet,avgH)*((2*R*dwet,avgH)-dwet,avgH2)0.5)",null,null,null,null,null,null,null,20,1.9500000000000002,1.6999999999999997,9.0792027688745005,0.90792027688745014,97.190734329999984,93.790863791581785,0,0,0,0,0,0]
[null,null,null,null,null,null,null,null,null,null,null,null,null,null,null,null,null,null,null,"Wood Present?","Large Wood Parameters",null,null,null,"Soil",null,"Slope","Bank (ft/ft)",null,null,null,null,null,null,"VTS,wet,C3",{"$f":"IF($AI$10=\"\",\"\",($E$22-$G$22)*((($AI$7^2)*ACOS(($AI$7-$AI$10)/$AI$7))-(($AI$7-$AI$10)*((2*$AI$7*$AI$10)-($AI$10^2))^0.5)))","v":{"$error":"#NUM!"}},"ft3",null,null,null,null,null,null,null,null,"VTS,wet,C3",{"$f":"IF($AT$10=\"\",\"\",($E$22-$G$22)*((($AT$7^2)*ACOS(($AT$7-$AT$10)/$AT$7))-(($AT$7-$AT$10)*((2*$AT$7*$AT$10)-($AT$10^2))^0.5)))","v":""},"ft3",null,null,null,null,null,null,21,2.0499999999999998,1.6333333333333333,8.3810710680767713,0.83810710680767719,97.124942855345537,93.858400573335899,0,{"$f":"(($BE30^2)*ACOS(($BE30-$BJ30)/$BE30))-(($BE30-$BJ30)*SQRT(2*$BE30*$BJ30-($BJ30^2)))","v":0},{"$f":"$BK30*$BE$6","v":0},0,0,0]
[null,null,null,null,null,null,null,null,null,null,null,null,null,null,null,null,null,null,null,null,"xTS (ft)","Dist (ft)","Adjusted Dist (ft)","yTS (ft)","ysoil (ft)",null,"Fldpln LB",{"$f":"IF(OR($B$13=\"\",$B$14=\"\",$C$13=\"\",$C$14=\"\"),\"\",($C$14-$C$13)/($B$14-$B$13))","v":-1.7878787878787984E-2},null,null,null,null,null,null,null,null,null,null,null,null,null,null,null,null,null,null,null,null,null,null,null,null,null,null,22,2.15,1.5666666666666669,7.7108646353109487,0.77108646353109489,97.059151380691105,93.925937355090014,0,0,0,0,0,0]
[null,null,null,null,null,null,null,null,null,null,null,null,null,null,null,null,null,null,"At Left Bank Top",{"$f":"IF(OR($F$25=\"\",$G$25=\"\"),\"No\",IF(MIN($U$38:$U$39)>$B$14,\"No\",IF(MAX($U$38:$U$39)<$B$14,\"No\",\"Yes\")))","v":"No"},{"$f":"$B$14","v":33},{"$f":"IF(OR($B$25=0,$B$25=180,$B$25=360),0,IF($T$11>$T$12,$G$22+((($T$11-$B$14)/ABS($M$17))/$M$19),(($T$12-$B$14)/ABS($M$17))/$M$19))","v":55.884009082063336},{"$f":"IF(V32<0,0,IF(V32>$E$22,$E$22,V32))","v":32},{"$f":"IF($T$11>$T$12,$U$11+(($V$32-$G$22)*$M$20),$U$12-($V$32*$M$20))","v":96.961418028679304},{"$f":"$C$14","v":98.59},null,"LB",{"$f":"IF(OR($B$14=\"\",$B$15=\"\",$C$14=\"\",$C$15=\"\"),\"\",($C$15-$C$14)/($B$15-$B$14))","v":-0.14095238095238133},null,null,null,null,null,null,null,null,null,null,null,null,null,null,null,null,null,null,null,null,null,null,null,null,null,null,23,2.25,1.5,7.0685834705770345,0.70685834705770345,96.993359906036659,93.993474136844128,0,0,0,0,0,0]
[null,null,null,null,null,null,null,null,null,null,null,null,null,null,null,null,null,null,"At Left Bank Toe",{"$f":"IF(OR($F$25=\"\",$G$25=\"\"),\"No\",IF(MIN($U$38:$U$39)>$B$15,\"No\",IF(MAX($U$38:$U$39)<$B$15,\"No\",\"Yes\")))","v":"Yes"},{"$f":"$B$15","v":54},{"$f":"IF(OR($B$25=0,$B$25=180,$B$25=360),0,IF($T$11>$T$12,$G$22+((($T$11-$B$15)/ABS($M$17))/$M$19),(($T$12-$B$15)/ABS($M$17))/$M$19))","v":9.6257731538917426},9.6257731538917426,{"$f":"IF($T$11>$T$12,$U$11+(($V$33-$G$22)*$M$20),$U$12-($V$33*$M$20))","v":96.557743890759966},{"$f":"$C$15","v":95.63},null,"Stream L",{"$f":"IF(OR($B$15=\"\",$B$16=\"\",$C$15=\"\",$C$16=\"\"),\"\",($C$16-$C$15)/($B$16-$B$15))","v":-0.11319999999999993},null,null,null,null,null,null,null,null,null,null,null,null,null,null,null,null,null,null,null,null,null,null,null,null,null,null,24,2.35,1.4333333333333333,6.4542275738750305,0.6454227573875031,96.927568431382213,94.061010918598257,0,0,0,0,0,0]
[null,null,null,null,null,null,null,null,null,null,null,null,null,null,null,null,null,null,"At Left Thalweg",{"$f":"IF(OR($F$25=\"\",$G$25=\"\"),\"No\",IF(AND(MAX($U$38:$U$39)>$B$16,MIN($U$38:$U$39)<$B$16),\"Yes\",\"No\"))","v":"No"},{"$f":"$B$16","v":79},{"$f":"IF(OR($B$25=0,$B$25=180,$B$25=360),0,IF($T$11>$T$12,$G$22+((($T$11-$B$16)/ABS($M$17))/$M$19),(($T$12-$B$16)/ABS($M$17))/$M$19))","v":-45.443555332026818},0,{"$f":"IF($T$11>$T$12,$U$11+(($V$34-$G$22)*$M$20),$U$12-($V$34*$M$20))","v":96.077179440855986},{"$f":"$C$16","v":92.8},null,"Stream R",{"$f":"IF(OR($B$17=\"\",$B$16=\"\",$C$17=\"\",$C$16=\"\"),\"\",($C$16-$C$17)/($B$16-$B$17))","v":7.3793103448275887E-2},null,null,null,null,"Case 4",null,null,null,null,null,null,null,null,null,null,"Case 4",null,null,null,null,null,null,null,null,null,null,25,2.4500000000000002,1.3666666666666665,5.8677969452049341,0.58677969452049339,96.86177695672778,94.128547700352371,0,0,0,0,0,0]
[null,null,null,null,null,null,null,null,null,null,null,null,null,null,null,null,null,null,"At Right Thalweg",{"$f":"IF(OR($F$25=\"\",$G$25=\"\"),\"No\",IF(AND(MAX($U$38:$U$39)>$B$16,MIN($U$38:$U$39)<$B$16),\"Yes\",\"No\"))","v":"No"},{"$f":"$B$16","v":79},{"$f":"IF(OR($B$25=0,$B$25=180,$B$25=360),0,IF($T$11<$T$12,$G$22+((($B$16-$T$11)/ABS($M$17))/$M$19),(($B$16-$T$12)/ABS($M$17))/$M$19))","v":77.443555332026818},32,{"$f":"IF($T$11<$T$12,$U$11+(($V$35-$G$22)*$M$20),$U$12-($V$35*$M$20))","v":96.077179440855986},{"$f":"$C$16","v":92.8},null,"RB",{"$f":"IF(OR($B$18=\"\",$B$17=\"\",$C$18=\"\",$C$17=\"\"),\"\",($C$18-$C$17)/($B$18-$B$17))","v":0.19894736842105268},null,null,null,null,null,null,"V =","VTS - (LTS,wet/hmax,up,dry*R3*(sin K2 – K2*cos K2 – 1/3*(sin K2)3)",null,null,null,null,null,null,null,null,null,"V =","VTS - (LTS,wet/hmax,up,dry*R3*(sin K2 – K2*cos K2 – 1/3*(sin K2)3)",null,null,null,null,null,null,null,26,2.5499999999999998,1.3,5.3092915845667505,0.5309291584566751,96.795985482073334,94.196084482106485,0,0,0,0,0,0]
[null,null,null,null,null,null,null,null,null,null,null,null,null,null,null,null,null,null,"At Right Bank Toe",{"$f":"IF(OR($F$25=\"\",$G$25=\"\"),\"No\",IF(MAX($U$38:$U$39)<$B$17,\"No\",IF(MIN($U$38:$U$39)>$B$17,\"No\",\"Yes\")))","v":"No"},{"$f":"$B$17","v":108},{"$f":"IF(OR($B$25=0,$B$25=180,$B$25=360),0,IF($T$11<$T$12,$G$22+((($B$17-$T$11)/ABS($M$17))/$M$19),(($B$17-$T$12)/ABS($M$17))/$M$19))","v":141.32397637569238},32,{"$f":"IF($T$11<$T$12,$U$11+(($V$36-$G$22)*$M$20),$U$12-($V$36*$M$20))","v":95.519724678967364},{"$f":"$C$17","v":94.94},null,"Fldpln RB",{"$f":"IF(OR($B$19=\"\",$B$18=\"\",$C$19=\"\",$C$18=\"\"),\"\",($C$19-$C$18)/($B$19-$B$18))","v":6.9565217391302867E-3},null,null,null,null,null,null,null,"K2 = arccos(1-hmax,up,dry/R)",null,null,null,null,null,null,null,null,null,null,"K2 = arccos(1-hmax,up,dry/R)",null,null,null,null,null,null,null,27,2.65,1.2333333333333334,4.7787114919604745,0.47787114919604745,96.730194007418902,94.2636212638606,0,0,0,0,0,0]
[null,null,null,null,null,null,null,null,null,null,null,null,null,null,null,null,null,null,"At Right Bank Top",{"$f":"IF(OR($F$25=\"\",$G$25=\"\"),\"No\",IF(MAX($U$38:$U$39)<$B$18,\"No\",IF(MIN($U$38:$U$39)>$B$18,\"No\",\"Yes\")))","v":"No"},{"$f":"$B$18","v":127},{"$f":"IF(OR($B$25=0,$B$25=180,$B$25=360),0,IF($T$11<$T$12,$G$22+((($B$18-$T$11)/ABS($M$17))/$M$19),(($B$18-$T$12)/ABS($M$17))/$M$19))","v":183.17666602499048},32,{"$f":"IF($T$11<$T$12,$U$11+(($V$37-$G$22)*$M$20),$U$12-($V$37*$M$20))","v":95.154495697040332},{"$f":"$C$18","v":98.72},null,null,null,null,null,null,null,null,null,"VTS,wet,C4",{"$f":"IF($AI$16=\"\",\"\",$AW$17-(($AI$13/$AI$12)*($AI$7^3)*(SIN($AI$16)-($AI$16*COS($AI$16))-((1/3)*(SIN($AI$16))^3))))","v":{"$error":"#DIV/0!"}},"ft3",null,null,null,null,null,null,null,null,"VTS,wet,C4",{"$f":"IF($AT$16=\"\",\"\",$AW$17-(($AT$13/$AT$12)*($AT$7^3)*(SIN($AT$16)-($AT$16*COS($AT$16))-((1/3)*(SIN($AT$16))^3))))","v":""},"ft3",null,null,null,null,null,null,28,2.75,1.1666666666666667,4.2760566673861078,0.42760566673861078,96.664402532764456,94.331158045614714,0,0,0,0,0,0]
[null,null,null,null,null,null,null,null,null,null,null,null,null,null,null,null,null,null,"Low Pt on Crown",{"$f":"IF(OR($F$25=\"\",$G$25=\"\"),\"No\",\"Yes\")","v":"Yes"},{"$f":"IF($T$38=\"No\",0,IF($U$12<=$U$11,$T$12,$T$11-($G$22*$M$19*$M$17)))","v":58.369843167941063},0,0,{"$f":"IF($T$38=\"No\",0,IF($U$12<=$U$11,$U$12,$U$11-($G$22*$M$20)))","v":96.473744239633234},{"$f":"IF($T$38=\"\",\"\",IF($U$38<$B$14,(($U$38-$B$13)*$AB$31)+$C$13,IF($U$38<$B$15,(($U$38-$B$14)*$AB$32)+$C$14,IF($U$38<$B$16,(($U$38-$B$15)*$AB$33)+$C$15,IF($U$38<$B$17,(($U$38-$B$16)*$AB$34)+$C$16,IF($U$38<$B$18,(($U$38-$B$17)*$AB$35)+$C$17,IF($U$38<$B$19,(($U$38-$B$18)*$AB$36)+$C$18)))))))","v":95.135333753389062},null,"Slope Log (ft/ft)","Slope Log Face (ft/ft)",null,null,null,null,null,null,null,null,null,null,null,null,null,null,null,null,null,null,null,null,null,null,null,null,null,null,29,2.85,1.0999999999999999,3.801327110843649,0.38013271108436492,96.598611058110009,94.398694827368828,0,0,0,0,0,0,null,null,"Max","Min","cP (ft)"]
[null,null,null,null,null,null,null,null,null,null,null,null,null,null,null,null,null,null,"High Pt on Crown","Yes",{"$f":"IF($T$39=\"No\",0,IF($U$12>$U$11,$T$12,$T$11-($G$22*$M$19*$M$17)))","v":43.842700346423584},{"$f":"IF($T$39=\"No\",0,$E$22)","v":32},32,{"$f":"IF($T$39=\"No\",0,IF($U$12>=$U$11,$U$12,$U$11-($G$22*$M$20)))","v":96.752993375581198},{"$f":"IF($T$39=\"\",\"\",IF($U$39<$B$14,(($U$39-$B$13)*$AB$31)+$C$13,IF($U$39<$B$15,(($U$39-$B$14)*$AB$32)+$C$14,IF($U$39<$B$16,(($U$39-$B$15)*$AB$33)+$C$15,IF($U$39<$B$17,(($U$39-$B$16)*$AB$34)+$C$16,IF($U$39<$B$18,(($U$39-$B$17)*$AB$35)+$C$17,IF($U$39<$B$19,(($U$39-$B$18)*$AB$36)+$C$18)))))))","v":97.06169557021839},null,null,null,null,null,null,null,null,null,"Free internet tilted cylinder calculator:",null,null,null,"http://planetcalc.com/1442/",null,null,null,null,null,null,"Free internet tilted cylinder calculator:",null,null,null,"http://planetcalc.com/1442/",null,null,null,null,30,2.95,1.0333333333333332,3.3545228223331005,0.33545228223331008,96.532819583455577,94.466231609122943,0,0,0,0,0,0,null,null,{"$f":"MAX($BS$45:$BS$245)","v":5.44},{"$f":"MIN($BS$45:$BS$245)","v":0},{"$f":"IF($BS$43=0,0,IF(AND($BS$39=0,$BR$39=$E$22),($BR$39+$BS$39)/2,IF($BS$39=0,$BR$39-((1/3)*($BR$39-$BS$39)),IF($BR$39=$E$22,$BR$39-((2/3)*($BR$39-$BS$39)),($BR$39+$BS$39)/2))))","v":3.6266666666666669}]
[null,null,null,null,null,null,null,null,null,null,null,null,null,null,null,null,null,null,"Low Pt on Bottom","Yes",{"$f":"IF($T$40=\"No\",0,IF($U$13<=$U$14,$T$13,$T$14-($G$22*$M$19*$M$17)))","v":58.361919639517261},0,0,{"$f":"IF($T$40=\"No\",0,IF($U$13<=$U$14,$U$13,$U$14-($G$22*$M$20)))","v":94.47382039350488},{"$f":"IF($T$40=\"\",\"\",IF($U$40<$B$14,(($U$40-$B$13)*$AB$31)+$C$13,IF($U$40<$B$15,(($U$40-$B$14)*$AB$32)+$C$14,IF($U$40<$B$16,(($U$40-$B$15)*$AB$33)+$C$15,IF($U$40<$B$17,(($U$40-$B$16)*$AB$34)+$C$16,IF($U$40<$B$18,(($U$40-$B$17)*$AB$35)+$C$17,IF($U$40<$B$19,(($U$40-$B$18)*$AB$36)+$C$18)))))))","v":95.136230696806635},null,{"$f":"IF(OR($B$25=0,$B$25=180,$B$25=360),($U$11-$U$12)/0.001,IF($X$38=$X$39,1E-25,($U$11-$U$12)/($T$11-$T$12)))","v":-1.9222577996159337E-2},{"$f":"IF(OR($B$25=0,$B$25=180,$B$25=360),9999,IF($X$38=$X$39,1E-25,($U$12-$U$13)/($T$12-$T$13)))","v":252.40318948317764},null,null,null,null,null,null,null,null,null,null,null,null,null,null,null,null,null,null,null,null,null,null,null,null,null,null,"Total",null,null,null,{"$f":"SUM(BG10:BG39)","v":40.837213838163322},null,null,null,null,{"$f":"SUM($BL$10:$BL$39)","v":0},null,null,{"$f":"SUM($BO$10:$BO$39)","v":0.11342626641975119}]
[null,null,null,null,null,null,null,null,null,null,null,null,null,null,null,null,null,null,"High Pt on Bottom","Yes",{"$f":"IF($T$41=\"No\",0,IF($U$13>$U$14,$T$13,$T$14-($G$22*$M$19*$M$17)))","v":43.834776817999781},{"$f":"IF($T$41=\"No\",0,$E$22)","v":32},32,{"$f":"IF($T$41=\"No\",0,IF($U$13>=$U$14,$U$13,$U$14-($G$22*$M$20)))","v":94.753069529452858},{"$f":"IF($T$41=\"\",\"\",IF($U$41<$B$14,(($U$41-$B$13)*$AB$31)+$C$13,IF($U$41<$B$15,(($U$41-$B$14)*$AB$32)+$C$14,IF($U$41<$B$16,(($U$41-$B$15)*$AB$33)+$C$15,IF($U$41<$B$17,(($U$41-$B$16)*$AB$34)+$C$16,IF($U$41<$B$18,(($U$41-$B$17)*$AB$35)+$C$17,IF($U$41<$B$19,(($U$41-$B$18)*$AB$36)+$C$18)))))))","v":97.062812410415262},null,null,null,null,null,null,null,null,null,null,null,null,null,null,null,null,null,null,null,"Average",{"$f":"IF(AT42=0,0,AVERAGE(AT45:AT245))","v":0},{"$f":"IF(AU42=0,0,AVERAGE(AU45:AU245))","v":0.15838936481692575}]
[null,null,null,null,null,null,null,null,null,null,null,null,null,null,null,null,null,null,"Low Pt on Centerline","Yes",{"$f":"IF($T$42=\"No\",0,AVERAGE($U$38,$U$40))","v":58.365881403729162},0,0,{"$f":"IF($T$42=\"No\",0,AVERAGE($X$38,$X$40))","v":95.473782316569057},{"$f":"IF($T$42=\"\",\"\",IF($U$42<$B$14,(($U$42-$B$13)*$AB$31)+$C$13,IF($U$42<$B$15,(($U$42-$B$14)*$AB$32)+$C$14,IF($U$42<$B$16,(($U$42-$B$15)*$AB$33)+$C$15,IF($U$42<$B$17,(($U$42-$B$16)*$AB$34)+$C$16,IF($U$42<$B$18,(($U$42-$B$17)*$AB$35)+$C$17,IF($U$42<$B$19,(($U$42-$B$18)*$AB$36)+$C$18)))))))","v":95.135782225097856},null,null,null,null,null,null,null,null,null,"Log Partial Area Calculations",null,null,null,null,null,null,null,null,null,"Max",{"$f":"MAX(AT45:AT245)","v":0},{"$f":"MAX(AU45:AU245)","v":0.30870219463719195},null,null,null,"Total","Total","Total","Total","Total",null,"Total",null,"Total","Total","Average",null,"Average","Average","Average","Average","Total","Total","Total","Average","Average"]
[null,null,null,null,null,null,null,null,null,null,null,null,null,null,null,null,null,null,"High Pt on Centerline","Yes",{"$f":"IF($T$42=\"No\",0,AVERAGE($U$39,$U$41))","v":43.838738582211683},{"$f":"IF($T$43=\"No\",0,$E$22)","v":32},32,{"$f":"IF($T$42=\"No\",0,AVERAGE($X$39,$X$41))","v":95.753031452517035},{"$f":"IF($T$43=\"\",\"\",IF($U$43<$B$14,(($U$43-$B$13)*$AB$31)+$C$13,IF($U$43<$B$15,(($U$43-$B$14)*$AB$32)+$C$14,IF($U$43<$B$16,(($U$43-$B$15)*$AB$33)+$C$15,IF($U$43<$B$17,(($U$43-$B$16)*$AB$34)+$C$16,IF($U$43<$B$18,(($U$43-$B$17)*$AB$35)+$C$17,IF($U$43<$B$19,(($U$43-$B$18)*$AB$36)+$C$18)))))))","v":97.062253990316833},null,null,null,null,null,null,null,null,null,"Log Parameters",null,null,null,null,null,null,"Soil Parameters",null,null,null,null,null,null,null,null,{"$f":"SUM(AY45:AY245)","v":5.5200000000000022},{"$f":"SUM($AZ$45:$AZ$245)","v":0},{"$f":"SUM($BA$45:$BA$245)","v":0},{"$f":"SUM($BB$45:$BB$245)","v":0},{"$f":"SUM($BC$45:$BC$245)","v":1.7245685348076183},null,{"$f":"SUM($BE$45:$BE$245)","v":20.663914179373577},null,{"$f":"SUM($BG$45:$BG$245)","v":0},{"$f":"SUM($BH$45:$BH$245)","v":26.480000000000018},{"$f":"IF(SUM($BI$45:$BI$245)=0,0,AVERAGE($BI$45:$BI$245))","v":18.799999999999997},null,{"$f":"IF(SUM($BK$45:$BK$245)=0,0,AVERAGE($BK$45:$BK$245))","v":0},{"$f":"IF(SUM($BL$45:$BL$245)=0,0,AVERAGE($BL$45:$BL$245))","v":0},{"$f":"IF(SUM($BM$45:$BM$245)=0,0,AVERAGE($BM$45:$BM$245))","v":5.6611035701743457},{"$f":"IF(SUM($BN$45:$BN$245)=0,0,AVERAGE($BN$45:$BN$245))","v":0.11951967531889683},{"$f":"SUM(BO45:BO245)","v":32.000000000000021},{"$f":"SUM($BP$45:$BP$245)","v":9.680000000000005},{"$f":"SUM($BQ$45:$BQ$245)","v":22.320000000000014},{"$f":"IF(SUM($BR$45:$BR$245)=0,0,AVERAGE($BR$45:$BR$245))","v":16},{"$f":"IF(SUM($BS$45:$BS$245)=0,0,AVERAGE($BS$45:$BS$245))","v":2.7199999999999998}]
[null,null,null,null,null,null,null,null,null,null,null,null,null,null,null,null,null,null,null,null,null,null,null,null,null,null,null,null,null,null,null,null,null,null,"Point","Distance","Zone","xcrown (ft)","ycrown (ft)","xbottom (ft)","ybottom (ft)","ysoil (ft)","db,dry,crown (ft)","db,sat,crown (ft)","db,crown (ft)","db,crown,bed (ft)","db,crown,bank (ft)","db,dry,bottom (ft)","db,sat,bottom (ft)","db,bottom (ft)","LT,em (ft)","Vbed,dry (ft3)","Vbed,sat (ft3)","Vbank,dry (ft3)","Vbank,sat (ft3)","hb,TS (ft)","ATSp,em (ft2)","dTSp,dry,em (ft)","ATSp,dry,em (ft2)","LT,ex (ft)","cD (ft)","hT↑bed,ex,wet (ft)","CL (ft)","cL (ft)","zT,CL↓WSE","CW","LTf,tot (ft)","LTf,bed (ft)","LTf,banks (ft)","cF (ft)","csoil (ft)"]
[null,null,null,null,null,null,null,null,null,null,null,null,null,null,null,null,null,null,null,null,null,"Log Crown and Soil Intercept",null,"Dist to Intercept","Intercept in Zone?","LW Buried?","Exposed Segment",null,null,"Large Wood Centerline",null,null,null,null,0,{"$f":"($AI45/$AI$245)*$AJ$245","v":0},{"$f":"IF(OR($C$19=\"\",$F$25=\"\",$G$25=\"\"),\"None\",IF(AL45<$B$14,\"Left Floodplain\",IF(AL45<$B$15,\"Left Bank\",IF(AL45<$B$16,\"Left Stream Bed\",IF(AL45<$B$17,\"Right Stream Bed\",IF(AL45<$B$18,\"Right Bank\",\"Right Floodplain\"))))))","v":"Left Bank"},{"$f":"MIN($U$38:$U$39)","v":43.842700346423584},{"$f":"IF($U$38<=$U$39,$X$38,$X$39)","v":96.752993375581198},{"$f":"MIN($U$40:$U$41)","v":43.834776817999781},{"$f":"IF($U$40<=$U$41,$X$40,$X$41)","v":94.753069529452858},{"$f":"IF($AL45<$B$14,(($AL45-$B$13)*$AB$31)+$C$13,IF($AL45<$B$15,(($AL45-$B$14)*$AB$32)+$C$14,IF($AL45<$B$16,(($AL45-$B$15)*$AB$33)+$C$15,IF($AL45<$B$17,(($AL45-$B$16)*$AB$34)+$C$16,IF($AL45<$B$18,(($AL45-$B$17)*$AB$35)+$C$17,IF($AL45<$B$19,(($AL45-$B$18)*$AB$36)+$C$18))))))","v":97.06169557021839},{"$f":"IF(OR($AP45<$AE$12,$AP45<=$AM45),0,IF(OR($AP45>=$AE$12,$AM45>=$AE$12),$AP45-$AM45-$AR45,$AP45-$AE$12))","v":0},{"$f":"IF($AP45<=$AM45,0,IF($AM45>=$AE$12,0,IF($AP45<=$AE$12,$AP45-$AM45,$AE$12-$AM45)))","v":0.30870219463719195},{"$f":"IF(AP45<=AM45,0,AP45-AM45)","v":0.30870219463719195},{"$f":"IF(OR($AS45=\"\",$AS45=0),\"\",IF(OR($AK45=\"Left Stream Bed\",$AK45=\"Right Stream Bed\"),$AS45,\"\"))","v":""},{"$f":"IF(OR($AS45=\"\",$AS45=0),\"\",IF(OR($AK45=\"Left Floodplain\",$AK45=\"Left Bank\",$AK45=\"Right Bank\",$AK45=\"Right Floodplain\"),$AS45,\"\"))","v":0.30870219463719195},{"$f":"IF(OR($AP45<$AE$12,$AP45<=$AO45),0,IF($AO45>=$AE$12,$AP45-$AO45,$AP45-$AE$12))","v":0},{"$f":"IF($AP45<=$AO45,0,IF($AO45>=$AE$12,0,IF($AP45<=$AE$12,$AP45-$AO45,$AE$12-$AO45)))","v":2.3086260407655317},{"$f":"IF(AP45<=AO45,0,AP45-AO45)","v":2.3086260407655317},{"$f":"IF($AS45=0,0,IF(OR($AJ45=0,$AJ45=$E$22),$AJ$46/2,$AJ$46))","v":0.08},{"$f":"IF(OR($AK45=\"Left Stream Bed\",$AK45=\"Right Stream Bed\"),$F$22*$AQ45*$AY45,0)","v":0},{"$f":"IF(OR($AK45=\"Left Stream Bed\",$AK45=\"Right Stream Bed\"),$F$22*$AR45*$AY45,0)","v":0},{"$f":"IF(OR($AK45=\"Left Floodplain\",$AK45=\"Left Bank\",$AK45=\"Right Bank\",$AK45=\"Right Floodplain\"),$F$22*$AQ45*$AY45,0)","v":0},{"$f":"IF(OR($AK45=\"Left Floodplain\",$AK45=\"Left Bank\",$AK45=\"Right Bank\",$AK45=\"Right Floodplain\"),$F$22*$AR45*$AY45,0)","v":4.9392351141950716E-2},{"$f":"AX45-AS45","v":1.9999238461283397},{"$f":"$BD45*$AJ$46*ABS($M$17)","v":0.14527142821517461},{"$f":"AV45-AQ45","v":0},{"$f":"IF(OR($AJ45=0,$AJ45=$E$22),($BF45*$AJ$46/2)*ABS($M$17),$BF45*$AJ$46*ABS($M$17))","v":0},{"$f":"IF(OR($AM45<$AP45,$AO45>$AE$8),\"\",IF(OR($AJ45=0,$AJ45=$E$22),$AJ$46/2,$AJ$46))","v":""},{"$f":"IF($BH45=\"\",\"\",IF($BH45>0,$AJ45,\"\"))","v":""},{"$f":"IF($BH45=\"\",\"\",IF(OR(($AO45-$AP45)<0,$AO$45>=$AE$8),0,($AO45-$AP45)))","v":""},{"$f":"IF($BJ45=\"\",\"\",IF(OR($BJ45>($F$22/2),$BJ45=0),0,0.45-($BJ45*0.45/($F$22/2))))","v":""},{"$f":"IF($BK45=\"\",\"\",IF($BK45>0,$AJ45,\"\"))","v":""},{"$f":"IF($BH45=\"\",\"\",IF(OR(($AM45-$AP45)<0,$AM45>=$AE$8),\"\",($AE$8-($AM45-(($F$22/2)/$M$19)))))","v":""},{"$f":"IF($BM45=\"\",\"\",(((PI()^2)/32)*($B$66^-6)*EXP(-($BM45/$F$22)/(2*($B$66^2)))))","v":""},{"$f":"IF($AO45=0,0,IF($AO45>$AP45,0,IF(OR($AJ45=0,$AJ45=$E$22),$AJ$46/2,$AJ$46)))","v":0.08},{"$f":"IF(AND($BO45>0,OR($AK45=\"Left Stream Bed\",$AK45=\"Right Stream Bed\")),$BO45,0)","v":0},{"$f":"IF(AND($BO45>0,OR($AK45=\"Left Floodplain\",$AK45=\"Left Bank\",$AK45=\"Right Bank\",$AK45=\"Right Floodplain\")),$BO45,0)","v":0.08},{"$f":"IF($BO45>0,$AJ45,\"\")","v":0},{"$f":"IF($AY45>0,$AJ45,\"\")","v":0}]
[null,null,null,null,null,null,null,null,null,null,null,null,null,null,null,null,null,null,null,"Zone L (ft)","Log L (ft)","xcrown (ft)","ycrown (ft)",null,null,null,null,"Lem,crown (ft)",null,null,"x (ft)","y (ft)",null,null,1,{"$f":"($AI46/$AI$245)*$AJ$245","v":0.16},"Left Bank",{"$f":"$AL$45+ABS(AJ46*$M$19*$M$17)","v":43.915336060531175},{"$f":"AM45+((AL46-AL45)*$AA$40)","v":96.751597129901455},{"$f":"$AN$45+ABS(AJ46*$M$19*$M$17)","v":43.907412532107372},{"$f":"AO45+((AN46-AN45)*$AA$40)","v":94.751673283773115},{"$f":"IF($AL46<$B$14,(($AL46-$B$13)*$AB$31)+$C$13,IF($AL46<$B$15,(($AL46-$B$14)*$AB$32)+$C$14,IF($AL46<$B$16,(($AL46-$B$15)*$AB$33)+$C$15,IF($AL46<$B$17,(($AL46-$B$16)*$AB$34)+$C$16,IF($AL46<$B$18,(($AL46-$B$17)*$AB$35)+$C$17,IF($AL46<$B$19,(($AL46-$B$18)*$AB$36)+$C$18))))))","v":97.051457393372743},0,0.29986026347128814,{"$f":"IF(AP46<=AM46,0,AP46-AM46)","v":0.29986026347128814},{"$f":"IF(OR($AS46=\"\",$AS46=0),\"\",IF(OR($AK46=\"Left Stream Bed\",$AK46=\"Right Stream Bed\"),$AS46,\"\"))","v":""},{"$f":"IF(OR($AS46=\"\",$AS46=0),\"\",IF(OR($AK46=\"Left Floodplain\",$AK46=\"Left Bank\",$AK46=\"Right Bank\",$AK46=\"Right Floodplain\"),$AS46,\"\"))","v":0.29986026347128814},{"$f":"IF(OR($AP46<$AE$12,$AP46<=$AO46),0,IF($AO46>=$AE$12,$AP46-$AO46,$AP46-$AE$12))","v":0},2.2997841095996279,2.2997841095996279,0.16,0,0,0,9.5955284310812211E-2,1.9999238461283397,{"$f":"$BD46*$AJ$46*ABS($M$17)","v":0.14527142821517461},{"$f":"AV46-AQ46","v":0},0,"",{"$f":"IF($BH46=\"\",\"\",IF($BH46>0,$AJ46,\"\"))","v":""},{"$f":"IF($BH46=\"\",\"\",IF(OR(($AO46-$AP46)<0,$AO$45>=$AE$8),0,($AO46-$AP46)))","v":""},"","",{"$f":"IF($BH46=\"\",\"\",IF(OR(($AM46-$AP46)<0,$AM46>=$AE$8),\"\",($AE$8-($AM46-(($F$22/2)/$M$19)))))","v":""},{"$f":"IF($BM46=\"\",\"\",(((PI()^2)/32)*($B$66^-6)*EXP(-($BM46/$F$22)/(2*($B$66^2)))))","v":""},0.16,0,0.16,0.16,{"$f":"IF($AY46>0,$AJ46,\"\")","v":0.16}]
[null,null,null,null,null,null,null,null,null,null,null,null,null,null,null,null,null,null,"LB Floodplain",{"$f":"($B$14-$B$13)/ABS($M$17)/ABS($M$19)","v":72.69151360141251},{"$f":"IF(MAX($U$38:$U$39)<=$B$14,$E$22,IF($T$32=\"No\",0,$E$22-$W$32))","v":0},{"$f":"IF($U$47=0,0,IF(OR($B$25=0,$B$25=180,$B$25=360),$U$38,$U$32+(($X$32-$C$14)/($AB$31-$AA$40))))","v":0},{"$f":"IF($U$47=0,0,IF(OR($B$25=0,$B$25=180,$B$25=360),(($U$38-$B$13)*$AB$31)+$C$13,$X$32+(($V$47-$U$32)*$AA$40)))","v":0},{"$f":"IF($U$47=0,0,IF(OR($B$25=0,$B$25=180,$B$25=360),$E$22-ABS(($X$39-$W$47)/$M$20),IF(AND($U$38<=$U$39,$X$38>=$Y$38),ABS(($X$38-$W$47)/($AA$40*$M$17*$M$19)),IF(AND($U$38<=$U$39,$X$38<$Y$38),ABS($E$22-(ABS(($X$38-$W$47)/($AA$40*$M$17*$M$19)))),IF(AND($U$38>$U$39,$X$39>=$Y$39),ABS(($X$39-$W$47)/($AA$40*$M$17*$M$19)),IF(AND($U$38>=$U$39,$X$39<$Y$39),ABS($E$22-(ABS(($X$38-$W$47)/($AA$40*$M$17*$M$19))))))))))","v":0},{"$f":"IF(AND($U$47=0,$W$47=0),\"No\",IF(AND($V$47<=$B$14,$V$47>=$B$13,$V$47>=MIN($U$38:$U$39),$V$47<=MAX($U$38:$U$39),$W$47<$C$13,$X$47<=$E$22),\"Yes\",\"No\"))","v":"No"},{"$f":"IF($U$47=0,\"No\",IF($Y$47=\"Yes\",\"Partial\",IF(AND($U$47<$E$22,$X$39<$Y$39,$Y$47=\"No\",$Y$48=\"No\",$Y$49=\"No\",$Y$50=\"No\",$Y$51=\"No\",$Y$52=\"No\"),\"Yes\",IF(AND($Y$47=\"No\",$X$32>$Y$32),\"No\",\"Yes\"))))","v":"No"},{"$f":"IF($Z$47=\"Yes\",\"None\",IF(AND($Z$47=\"No\",$U$47=0),\"None\",IF($Z$47=\"No\",\"All\",IF(AND($X$39>=$Y$39,$U$39<=$U$38),\"Left\",\"Right\"))))","v":"None"},{"$f":"IF($U$47=0,0,IF($Z$47=\"No\",0,IF($Z$47=\"Yes\",$U$47,IF(OR($AA$47=\"Left\",$U$47=$E$22),$U$47-(ABS(($U$39-$V$47)/($M$17*$M$19))),$U$47-(ABS(($V$47-$B$14)/($M$17*$M$19)))))))","v":0},null,"Rootwad",{"$f":"AVERAGE(T10,T15)","v":58.365881403729162},{"$f":"AVERAGE(U10,U15)","v":95.473782316569057},null,null,2,0.32,"Left Bank",{"$f":"$AL$45+ABS(AJ47*$M$19*$M$17)","v":43.987971774638758},{"$f":"AM46+((AL47-AL46)*$AA$40)","v":96.750200884221712},43.980048246214956,{"$f":"AO46+((AN47-AN46)*$AA$40)","v":94.750277038093373},{"$f":"IF($AL47<$B$14,(($AL47-$B$13)*$AB$31)+$C$13,IF($AL47<$B$15,(($AL47-$B$14)*$AB$32)+$C$14,IF($AL47<$B$16,(($AL47-$B$15)*$AB$33)+$C$15,IF($AL47<$B$17,(($AL47-$B$16)*$AB$34)+$C$16,IF($AL47<$B$18,(($AL47-$B$17)*$AB$35)+$C$17,IF($AL47<$B$19,(($AL47-$B$18)*$AB$36)+$C$18))))))","v":97.041219216527111},0,0.29101833230539853,0.29101833230539853,"",0.29101833230539853,0,2.2909421784337383,2.2909421784337383,0.16,0,0,0,9.3125866337727528E-2,1.9999238461283397,0.14527142821517461,0,0,"","","","","","",{"$f":"IF($BM47=\"\",\"\",(((PI()^2)/32)*($B$66^-6)*EXP(-($BM47/$F$22)/(2*($B$66^2)))))","v":""},0.16,0,0.16,0.32,0.32]
[{"$f":"IF($A$6=\"\",\"\",$A$6)","v":"Sample1"},{"$f":"IF($A$6=\"\",\"\",$B$6)","v":"Flow Deflection"},null,{"$f":"IF(OR($B$9=\"N/A\",$B$9=\"\"),\"\",$B$9)","v":"Stacked"},{"$f":"IF($D$48=\"\",\"\",\"Log ID\")","v":"Log ID"},{"$f":"IF($D$48=\"\",\"\",$C$9)","v":"Top#2"},null,null,null,"Page 2",null,null,null,null,null,null,null,null,"Left Bank",{"$f":"($B$15-$B$14)/ABS($M$17)/ABS($M$19)","v":46.258235928171601},{"$f":"IF(AND(MIN($U$38:$U$39)>=$B$14,MAX($U$38:$U$39)<=$B$15),$E$22,IF(AND($T$33=\"No\",$T$32=\"No\"),0,$E$22-$W$33-$U$47))","v":22.374226846108257},{"$f":"IF($U$48=0,0,IF(OR($B$25=0,$B$25=180,$B$25=360),$U$38,$U$33+(($C$15-$X$33)/($AA$40-$AB$32))))","v":46.378662675617598},{"$f":"IF($U$48=0,0,IF(OR($B$25=0,$B$25=180,$B$25=360),(($U$38-$B$14)*$AB$32)+$C$14,$X$33+(($V$48-$U$33)*$AA$40)))","v":96.704245641912948},{"$f":"IF($U$48=0,0,IF(OR($B$25=0,$B$25=180,$B$25=360),$E$22-ABS(($X$39-$W$48)/$M$20),IF(AND($U$38<=$U$39,$X$38>=$Y$38),ABS(($X$38-$W$48)/($AA$40*$M$17*$M$19)),IF(AND($U$38<=$U$39,$X$38<$Y$38),ABS($E$22-(ABS(($X$38-$W$48)/($AA$40*$M$17*$M$19)))),IF(AND($U$38>$U$39,$X$39>=$Y$39),ABS(($X$39-$W$48)/($AA$40*$M$17*$M$19)),IF(AND($U$38>=$U$39,$X$39<$Y$39),ABS($E$22-(ABS(($X$38-$W$48)/($AA$40*$M$17*$M$19))))))))))","v":5.5861497013718164},{"$f":"IF(AND($U$48=0,$W$48=0),\"No\",IF(AND($V$48<=$B$15,$V$48>=$B$14,$V$48>=MIN($U$38:$U$39),$V$48<=MAX($U$38:$U$39),$W$48<$C$14,$X$48<=$E$22),\"Yes\",\"No\"))","v":"Yes"},{"$f":"IF($U$48=0,\"No\",IF($Y$48=\"Yes\",\"Partial\",IF(AND($U$48<$E$22,$X$39<$Y$39,$Y$47=\"No\",$Y$48=\"No\",$Y$49=\"No\",$Y$50=\"No\",$Y$51=\"No\",$Y$52=\"No\"),\"Yes\",IF(AND($Y$48=\"No\",$X$33>$Y$33),\"No\",\"Yes\"))))","v":"Partial"},{"$f":"IF($Z$48=\"Yes\",\"None\",IF(AND($Z$48=\"No\",$U$48=0),\"None\",IF($Z$48=\"No\",\"All\",IF(AND($X$39>=$Y$39,$U$39<=$U$38,$AA$47<>\"Left\"),\"Left\",\"Right\"))))","v":"Right"},{"$f":"IF($U$48=0,0,IF($Z$48=\"No\",0,IF($Z$48=\"Yes\",$U$48,IF(OR($U$48=$E$22,AND($AA$48=\"Left\",MIN($U$38:$U$39)>=$B$14,MAX($U$38:$U$39)>=$B$15)),$U$48-(ABS(($U$39-$V$48)/($M$17*$M$19))),IF($AA$48=\"Left\",$U$48-(ABS(($B$14-$V$48)/($M$17*$M$19))),IF(MAX($U$38:$U$39)>=$B$15,$U$48-(ABS(($V$48-$B$15)/($M$17*$M$19))),ABS(($V$48-$B$14)/($M$17*$M$19))))))))","v":5.5861497013720083},null,"Root collar",{"$f":"AVERAGE(T11,T14)","v":57.003961764211901},{"$f":"AVERAGE(U11,U14)","v":95.499961923064177},null,null,3,0.48,"Left Bank",{"$f":"$AL$45+ABS(AJ48*$M$19*$M$17)","v":44.060607488746349},96.748804638541969,44.052683960322547,94.74888079241363,97.030981039681464,0,0.28217640113949471,0.28217640113949471,"",0.28217640113949471,0,2.2821002472678344,2.2821002472678344,0.16,0,0,0,9.0296448364638307E-2,1.9999238461283397,0.14527142821517461,0,0,"","","","","","","",0.16,0,0.16,0.48,0.48]
["Vertical Force Analysis",null,null,null,null,null,null,null,null,null,null,null,null,null,null,null,null,null,"Left Stream Bed",{"$f":"($B$16-$B$15)/ABS($M$17)/ABS($M$19)","v":55.069328485918568},{"$f":"IF(AND(MIN($U$38:$U$39)>=$B$15,MAX($U$38:$U$39)<=$B$16),$E$22,IF(AND($T$34=\"No\",$T$33=\"No\"),0,IF(AND($T$33=\"Yes\",$T$34=\"No\"),$E$22-$U$48-$U$47,IF(AND($T$33=\"Yes\",$T$34=\"Yes\",$T$36=\"No\"),$E$22-$U$50-$U$48-$U$47,IF(AND($T$33=\"Yes\",$T$34=\"Yes\",$T$36=\"Yes\"),$E$22-$U$52-$U$51-$U$50-$U$48-$U$47,$E$22-$U$52-$U$51-$U$50)))))","v":9.6257731538917426},{"$f":"IF($U$49=0,0,IF(OR($B$25=0,$B$25=180,$B$25=360),$U$38,$U$34+(($C$16-$X$34)/($AA$40-$AB$33))))","v":44.12801297398795},{"$f":"IF($U$49=0,0,IF(OR($B$25=0,$B$25=180,$B$25=360),(($U$38-$B$15)*$AB$33)+$C$15,$X$34+(($V$49-$U$34)*$AA$40)))","v":96.747508931344555},{"$f":"IF(OR($U$49=0,AND($C$25=0,$B$25=0),AND($C$25=0,$B$25=360),AND($C$25=0,$B$25=180)),0,IF(OR($B$25=0,$B$25=180,$B$25=360),$E$22-ABS(($X$39-$W$49)/$M$20),IF(AND($U$38<=$U$39,$X$38>=$Y$38),ABS(($X$38-$W$49)/($AA$40*$M$17*$M$19)),IF(AND($U$38<=$U$39,$X$38<$Y$38),ABS($E$22-(ABS(($X$38-$W$49)/($AA$40*$M$17*$M$19)))),IF(AND($U$38>$U$39,$X$39>=$Y$39),ABS(($X$39-$W$49)/($AA$40*$M$17*$M$19)),IF(AND($U$38>=$U$39,$X$39<$Y$39),ABS($E$22-(ABS(($X$38-$W$49)/($AA$40*$M$17*$M$19))))))))))","v":0.62847899234087734},{"$f":"IF(AND($U$49=0,$W$49=0),\"No\",IF(AND($V$49<=$B$16,$V$49>=$B$15,$V$49>=MIN($U$38:$U$39),$V$49<=MAX($U$38:$U$39),$W$49<$C$15,$X$49<=$E$22),\"Yes\",\"No\"))","v":"No"},{"$f":"IF($U$49=0,\"No\",IF($Y$49=\"Yes\",\"Partial\",IF(AND($U$49<$E$22,$X$39<$Y$39,$Y$47=\"No\",$Y$48=\"No\",$Y$49=\"No\",$Y$50=\"No\",$Y$51=\"No\",$Y$52=\"No\"),\"Yes\",IF(AND($Y$49=\"No\",$X$34>$Y$34),\"No\",\"Yes\"))))","v":"No"},{"$f":"IF($Z$49=\"Yes\",\"None\",IF(AND($Z$49=\"No\",$U$49=0),\"None\",IF($Z$49=\"No\",\"All\",IF(AND($X$39>=$Y$39,$U$39<=$U$38,$AA$48<>\"Left\"),\"Left\",\"Right\"))))","v":"All"},{"$f":"IF($U$49=0,0,IF($Z$49=\"No\",0,IF($Z$49=\"Yes\",$U$49,IF(OR($U$49=$E$22,AND($AA$49=\"Left\",MIN($U$38:$U$39)>=$B$15,MAX($U$38:$U$39)>=$B$16)),$U$49-(ABS(($U$39-$V$49)/($M$17*$M$19))),IF($AA$49=\"Left\",$U$49-(ABS(($B$15-$V$49)/($M$17*$M$19))),IF(MAX($U$38:$U$39)>=$B$16,$U$49-(ABS(($V$49-$B$16)/($M$17*$M$19))),ABS(($V$49-$B$15)/($M$17*$M$19))))))))","v":0},null,"Stem tip",{"$f":"AVERAGE(T12,T13)","v":43.838738582211683},{"$f":"AVERAGE(U12,U13)","v":95.753031452517035},null,null,4,0.64,"Left Bank",44.133243202853933,96.747408392862226,44.125319674430131,94.747484546733887,97.020742862835831,0,0.27333446997360511,0.27333446997360511,"",0.27333446997360511,0,2.2732583161019448,2.2732583161019448,0.16,0,0,0,8.7467030391553638E-2,1.9999238461283397,0.14527142821517461,0,0,"","","","","","","",0.16,0,0.16,0.64,0.64]
["Net Buoyancy Force",null,null,null,null,null,null,"Lift Force",null,null,null,null,null,null,null,null,null,null,"Right Stream Bed",{"$f":"($B$17-$B$16)/ABS($M$17)/ABS($M$19)","v":63.880421043665535},{"$f":"IF(AND(MIN($U$38:$U$39)>=$B$16,MAX($U$38:$U$39)<=$B$17),$E$22,IF(AND($T$35=\"No\",$T$36=\"No\"),0,IF(AND($T$36=\"Yes\",$T$35=\"No\"),$E$22-$U$51-$U$52,IF(AND($T$36=\"Yes\",$T$35=\"Yes\"),$E$22-$W$35-$U$51-$U$52,$E$22-$W$35))))","v":0},{"$f":"IF($U$50=0,0,IF(OR($B$25=0,$B$25=180,$B$25=360),$U$38,$U$35+(($X$35-$C$16)/($AB$34-$AA$40))))","v":0},{"$f":"IF($U$50=0,0,IF(OR($B$25=0,$B$25=180,$B$25=360),(($U$38-$B$16)*$AB$34)+$C$16,$X$35+(($V$50-$U$35)*$AA$40)))","v":0},{"$f":"IF(OR($U$50=0,AND($C$25=0,$B$25=0),AND($C$25=0,$B$25=360),AND($C$25=0,$B$25=180)),0,IF(OR($B$25=0,$B$25=180,$B$25=360),$E$22-ABS(($X$39-$W$50)/$M$20),IF(AND($U$38<=$U$39,$X$38>=$Y$38),ABS(($X$38-$W$50)/($AA$40*$M$17*$M$19)),IF(AND($U$38<=$U$39,$X$38<$Y$38),ABS($E$22-(ABS(($X$38-$W$50)/($AA$40*$M$17*$M$19)))),IF(AND($U$38>$U$39,$X$39>=$Y$39),ABS(($X$39-$W$50)/($AA$40*$M$17*$M$19)),IF(AND($U$38>=$U$39,$X$39<$Y$39),ABS($E$22-(ABS(($X$38-$W$50)/($AA$40*$M$17*$M$19))))))))))","v":0},{"$f":"IF(AND($U$50=0,$W$50=0),\"No\",IF(AND($V$50<=$B$17,$V$50>=$B$16,$V$50>=MIN($U$38:$U$39),$V$50<=MAX($U$38:$U$39),$W$50<$C$17,$X$50<=$E$22),\"Yes\",\"No\"))","v":"No"},{"$f":"IF($U$50=0,\"No\",IF($Y$50=\"Yes\",\"Partial\",IF(AND($U$50<$E$22,$X$39<$Y$39,$Y$47=\"No\",$Y$48=\"No\",$Y$49=\"No\",$Y$50=\"No\",$Y$51=\"No\",$Y$52=\"No\"),\"Yes\",IF(AND($Y$50=\"No\",$X$35>$Y$35),\"No\",\"Yes\"))))","v":"No"},{"$f":"IF($Z$50=\"Yes\",\"None\",IF(AND($Z$50=\"No\",$U$50=0),\"None\",IF($Z$50=\"No\",\"All\",IF(AND($X$39>=$Y$39,$U$39>=$U$38,$AA$51<>\"Right\"),\"Right\",\"Left\"))))","v":"None"},{"$f":"IF($U$50=0,0,IF($Z$50=\"No\",0,IF($Z$50=\"Yes\",$U$50,IF(OR($U$50=$E$22,AND($AA$50=\"Right\",MIN($U$38:$U$39)<=$B$16,MAX($U$38:$U$39)<=$B$17)),$U$50-(ABS(($U$39-$V$50)/($M$17*$M$19))),IF($AA$50=\"Right\",$U$50-(ABS(($B$17-$V$50)/($M$17*$M$19))),IF(MIN($U$38:$U$39)<=$B$16,$U$50-(ABS(($V$50-$B$16)/($M$17*$M$19))),ABS(($V$50-$B$17)/($M$17*$M$19))))))))","v":0},null,null,null,null,null,null,5,0.8,"Left Bank",44.205878916961524,96.746012147182483,44.197955388537721,94.746088301054144,97.010504685990185,0,0.26449253880770129,0.26449253880770129,"",0.26449253880770129,0,2.264416384936041,2.264416384936041,0.16,0,0,0,8.4637612418464417E-2,1.9999238461283397,0.14527142821517461,0,0,"","","","","","","",0.16,0,0.16,0.8,0.8]
["Wood","VTS (ft3)","VRW (ft3)","VT (ft3)","WT (lbf)","FB (lbf)",null,"CLT",{"$f":"$BK$43","v":0},null,null,null,null,{"$f":"IF(OR($D$22=\"\",$D$22=\"No\"),\"\",\"Rootwad Position\")","v":"Rootwad Position"},null,null,null,null,"Right Bank",{"$f":"($B$18-$B$17)/ABS($M$17)/ABS($M$19)","v":41.852689649298107},{"$f":"IF(AND(MIN($U$38:$U$39)>=$B$17,MAX($U$38:$U$39)<=$B$18),$E$22,IF(AND($T$36=\"No\",$T$37=\"No\"),0,$E$22-$W$36-$U$52))","v":0},{"$f":"IF($U$51=0,0,IF(OR($B$25=0,$B$25=180,$B$25=360),$U$38,$U$36+(($X$36-$C$17)/($AB$35-$AA$40))))","v":0},{"$f":"IF($U$51=0,0,IF(OR($B$25=0,$B$25=180,$B$25=360),(($U$38-$B$17)*$AB$35)+$C$17,$X$36+(($V$51-$U$36)*$AA$40)))","v":0},{"$f":"IF($U$51=0,0,IF(OR($B$25=0,$B$25=180,$B$25=360),$E$22-ABS(($X$39-$W$51)/$M$20),IF(AND($U$38<=$U$39,$X$38>=$Y$38),ABS(($X$38-$W$51)/($AA$40*$M$17*$M$19)),IF(AND($U$38<=$U$39,$X$38<$Y$38),ABS($E$22-(ABS(($X$38-$W$51)/($AA$40*$M$17*$M$19)))),IF(AND($U$38>$U$39,$X$39>=$Y$39),ABS(($X$39-$W$51)/($AA$40*$M$17*$M$19)),IF(AND($U$38>=$U$39,$X$39<$Y$39),ABS($E$22-(ABS(($X$38-$W$51)/($AA$40*$M$17*$M$19))))))))))","v":0},{"$f":"IF(AND($U$51=0,$W$51=0),\"No\",IF(AND($V$51<=$B$18,$V$51>=$B$17,$V$51>=MIN($U$38:$U$39),$V$51<=MAX($U$38:$U$39),$W$51<$C$18,$X$51<=$E$22),\"Yes\",\"No\"))","v":"No"},{"$f":"IF($U$51=0,\"No\",IF($Y$51=\"Yes\",\"Partial\",IF(AND($U$51<$E$22,$X$39<$Y$39,$Y$47=\"No\",$Y$48=\"No\",$Y$49=\"No\",$Y$50=\"No\",$Y$51=\"No\",$Y$52=\"No\"),\"Yes\",IF(AND($Y$51=\"No\",$X$36>$Y$36),\"No\",\"Yes\"))))","v":"No"},{"$f":"IF($Z$51=\"Yes\",\"None\",IF(AND($Z$51=\"No\",$U$51=0),\"None\",IF($Z$51=\"No\",\"All\",IF(AND($X$39>=$Y$39,$U$39>=$U$38,$AA$52<>\"Right\"),\"Right\",\"Left\"))))","v":"None"},{"$f":"IF($U$51=0,0,IF($Z$51=\"No\",0,IF($Z$51=\"Yes\",$U$51,IF(OR($U$51=$E$22,AND($AA$51=\"Right\",MIN($U$38:$U$39)<=$B$17,MAX($U$38:$U$39)<=$B$18)),$U$51-(ABS(($U$39-$V$51)/($M$17*$M$19))),IF($AA$51=\"Right\",$U$51-(ABS(($B$18-$V$51)/($M$17*$M$19))),IF(MIN($U$38:$U$39)<=$B$17,$U$51-(ABS(($V$51-$B$17)/($M$17*$M$19))),ABS(($V$51-$B$18)/($M$17*$M$19))))))))","v":0},null,null,null,null,null,null,6,0.96,"Left Bank",44.278514631069108,96.74461590150274,44.270591102645305,94.744692055374401,97.000266509144538,0,0.25565060764179748,0.25565060764179748,"",0.25565060764179748,0,2.2555744537701372,2.2555744537701372,0.16,0,0,0,8.1808194445375196E-2,1.9999238461283397,0.14527142821517461,0,0,"","","","","","","",0.16,0,0.16,0.96,0.96]
["↑WSE",{"$f":"IF(OR($E$22=\"\",$F$22=\"\"),0,IF($AH$17=\"Case 1\",$AL$17-$AJ$21,IF($AH$17=\"Case 2\",$AL$17-$AJ$26,IF($AH$17=\"Case 3\",$AL$17-$AJ$30,IF($AH$17=\"Case 4\",$AL$17-$AJ$37,IF($AH$17=\"Log is completely submerged\",0,IF($AH$17=\"Stem is dry\",PI()*(($F$22/2)^2)*($E$22-$G$22),\"\")))))))","v":0},{"$f":"IF(OR($E$22=\"\",$F$22=\"\",$D$22=\"No\",$D$22=\"\"),0,$BL$40*(1-RWporosity))","v":0},{"$f":"B52+C52","v":0},{"$f":"IF($I$22=\"\",0,($B$52*$I$22)+($C$52*$I$22))","v":0},0,null,"FL (lbf)",{"$f":"IF($J$6=\"\",0,$I$51*$J$25*SWWater*(($J$6^2)/(2*g)))","v":0},null,null,null,null,{"$f":"IF($D$22=\"\",\"\",IF($D$22=\"No\",\"No Rootwad\",IF($U$15>=$AE$8,\"Above high water\",IF($U$10<=$C$16,\"Buried in bed\",IF(OR($AE$48<=$B$14,$AE$48>=$B$18),\"On bank/buried in bank\",\"Exposed in stream\")))))","v":"Exposed in stream"},null,null,null,null,"RB Floodplain",{"$f":"($B$19-$B$18)/ABS($M$17)/ABS($M$19)","v":50.663782207045081},{"$f":"IF(MIN($U$38:$U$39)>=$B$18,$E$22,IF($T$37=\"No\",0,$E$22-$W$37))","v":0},{"$f":"IF($U$52=0,0,IF(OR($B$25=0,$B$25=180,$B$25=360),$U$38,$U$37+(($X$37-$C$18)/($AB$36-$AA$40))))","v":0},{"$f":"IF($U$52=0,0,IF(OR($B$25=0,$B$25=180,$B$25=360),(($U$38-$B$18)*$AB$36)+$C$18,$X$37+(($V$52-$U$37)*$AA$40)))","v":0},{"$f":"IF($U$52=0,0,IF(OR($B$25=0,$B$25=180,$B$25=360),$E$22-ABS(($X$39-$W$52)/$M$20),IF(AND($U$38<=$U$39,$X$38>=$Y$38),ABS(($X$38-$W$52)/($AA$40*$M$17*$M$19)),IF(AND($U$38<=$U$39,$X$38<$Y$38),ABS($E$22-(ABS(($X$38-$W$52)/($AA$40*$M$17*$M$19)))),IF(AND($U$38>$U$39,$X$39>=$Y$39),ABS(($X$39-$W$52)/($AA$40*$M$17*$M$19)),IF(AND($U$38>=$U$39,$X$39<$Y$39),ABS($E$22-(ABS(($X$38-$W$52)/($AA$40*$M$17*$M$19))))))))))","v":0},{"$f":"IF(AND($U$52=0,$W$52=0),\"No\",IF(AND($V$52<=$B$19,$V$52>=$B$18,$V$52>=MIN($U$38:$U$39),$V$52<=MAX($U$38:$U$39),$W$52<$C$19,$X$52<=$E$22),\"Yes\",\"No\"))","v":"No"},{"$f":"IF($U$52=0,\"No\",IF($Y$52=\"Yes\",\"Partial\",IF(AND($U$52<$E$22,$X$39<$Y$39,$Y$47=\"No\",$Y$48=\"No\",$Y$49=\"No\",$Y$50=\"No\",$Y$51=\"No\",$Y$52=\"No\"),\"Yes\",IF(AND($Y$52=\"No\",$X$37>$Y$37),\"No\",\"Yes\"))))","v":"No"},{"$f":"IF($Z$52=\"Yes\",\"None\",IF(AND($Z$52=\"No\",$U$52=0),\"None\",IF($Z$52=\"No\",\"All\",IF(AND($X$39>=$Y$39,$U$39>=$U$38),\"Right\",\"Left\"))))","v":"None"},{"$f":"IF($U$52=0,0,IF($Z$52=\"No\",0,IF($Z$52=\"Yes\",$U$52,IF(OR($AA$52=\"Right\",$U$52=$E$22),$U$52-(ABS(($U$39-$V$52)/($M$17*$M$19))),$U$52-(ABS(($V$52-$B$18)/($M$17*$M$19)))))))","v":0},null,null,null,null,null,null,7,1.1200000000000001,"Left Bank",44.351150345176698,96.743219655822998,44.343226816752896,94.743295809694658,96.990028332298905,0,0.24680867647590787,0.24680867647590787,"",0.24680867647590787,0,2.2467325226042476,2.2467325226042476,0.16,0,0,0,7.8978776472290527E-2,1.9999238461283397,0.14527142821517461,0,0,"","","","","","","",0.16,0,0.16,1.1200000000000001,1.1200000000000001]
["↓WS↑Thw",{"$f":"IF(OR($E$22=\"\",$F$22=\"\"),0,IF(AND(MIN($U$10:$U$15)>=$C$16,MAX($U$10:$U$15)<=$AE$8),PI()*(($F$22/2)^2)*($E$22-$G$22),(PI()*(($F$22/2)^2)*($E$22-$G$22))-$B$52-$B$54))","v":91.106186954104004},{"$f":"IF(OR($F$22=\"\",$D$22=\"No\"),0,((1/3)*PI()*(($H$22/2)^2+($F$22/2)^2+(($H$22/2)*($F$22/2)))*$G$22*(1-RWporosity))-$C$52-$C$54)","v":32.581822584198051},{"$f":"B53+C53","v":123.68800953830205},{"$f":"IF($I$22=\"\",0,($B$53*$I$22)+($C$53*$I$22))","v":4322.1538053064269},{"$f":"($D$53*SWWater)","v":7718.1317951900483},null,"Vertical Force Balance",null,null,null,"Formatting",null,null,null,null,null,null,null,"L check",{"$f":"SUM(U47:U52)","v":32},{"$f":"IF($U$53=$E$22,\"OK\",\"ERROR\")","v":"OK"},null,null,null,null,"Total",{"$f":"SUM(AB47:AB52)","v":5.5861497013720083},null,null,null,null,null,null,8,1.28,"Left Bank",44.423786059284282,96.741823410143255,44.41586253086048,94.741899564014915,96.979790155453259,0,0.23796674531000406,0.23796674531000406,"",0.23796674531000406,0,2.2378905914383438,2.2378905914383438,0.16,0,0,0,7.6149358499201306E-2,1.9999238461283397,0.14527142821517461,0,0,"","","","","","","",0.16,0,0.16,1.28,1.28]
["↓Thalweg",{"$f":"IF(OR($E$22=\"\",$F$22=\"\"),0,IF($AS$17=\"Case 1\",$AU$21,IF($AS$17=\"Case 2\",$AU$26,IF($AS$17=\"Case 3\",$AU$30,IF($AS$17=\"Case 4\",$AU$37,IF($AS$17=\"Log is completely submerged\",PI()*(($F$22/2)^2)*($E$22-$G$22),IF($AS$17=\"Stem is dry\",0,\"\")))))))","v":0},{"$f":"IF(OR($E$22=\"\",$F$22=\"\",$D$22=\"No\",$D$22=\"\"),0,$BO$40*(1-RWporosity))","v":9.0741013135800963E-2},{"$f":"B54+C54","v":9.0741013135800963E-2},{"$f":"IF($J$22=\"\",0,($B$54*$J$22)+($C$54*$J$22))","v":3.5388995122962377},{"$f":"($D$54*SWWater)","v":5.6622392196739799},null,"FB (lbf)",{"$f":"$F$55","v":7723.7940344097224},{"$f":"IF($L54=0,\"\",IF($L54>0,CHAR(233),CHAR(234)))","v":"é"},null,{"$f":"$F$55","v":7723.7940344097224},null,"check:",{"$f":"IF(OR($D$22=\"\",$B$25=\"\",$N$52=\"\"),\"\",IF($D$22=\"No\",\"use CD stem\",IF(AND($D$22=\"Yes\",$N$52=\"Exposed in stream\"),\"use CD RW\",\"use CD stem\")))","v":"use CD RW"},null,null,null,null,null,null,null,null,null,null,null,null,null,null,null,null,null,null,null,9,1.44,"Left Bank",44.496421773391873,96.740427164463512,44.488498244968071,94.740503318335172,96.969551978607626,0,0.22912481414411445,0.22912481414411445,"",0.22912481414411445,0,2.2290486602724542,2.2290486602724542,0.16,0,0,0,7.3319940526116623E-2,1.9999238461283397,0.14527142821517461,0,0,"","","","","","","",0.16,0,0.16,1.44,1.44]
["Total",{"$f":"$B$52+$B$53+$B$54","v":91.106186954104004},{"$f":"$C$52+$C$53+$C$54","v":32.672563597333848},{"$f":"$D$52+$D$53+$D$54","v":123.77875055143785},{"$f":"$E$52+$E$53+$E$54","v":4325.6927048187235},{"$f":"$F$53+$F$54+$F$52","v":7723.7940344097224},null,"FL (lbf)",{"$f":"$I$52","v":0},"",null,{"$f":"$I$52","v":0},null,"CDi for Stem Only (i.e., RW is not in contact with streamflow)",null,null,null,null,"Coordinates of Large Wood Bottom at Key Points",null,null,null,null,null,null,null,null,null,null,null,null,null,null,null,10,1.6,"Left Bank",44.569057487499457,96.739030918783769,44.561133959075654,94.739107072655429,96.959313801761979,0,0.22028288297821064,0.22028288297821064,"",0.22028288297821064,0,2.2202067291065504,2.2202067291065504,0.16,0,0,0,7.0490522553027402E-2,1.9999238461283397,0.14527142821517461,0,0,"","","","","","","",0.16,0,0.16,1.6,1.6]
[null,null,null,null,null,null,null,"WT (lbf)",{"$f":"$E$55","v":4325.6927048187235},"ê",null,{"$f":"-$E$55","v":-4325.6927048187235},null,"Adjusted q (deg)","CDi Stem only1",null,null,null,null,"Wood Present?","Large Wood Parameters",null,null,null,"Soil",null,null,null,null,null,null,null,null,null,11,1.76,"Left Bank",44.641693201607048,96.737634673104026,44.633769673183245,94.737710826975686,96.949075624916333,0,0.21144095181230682,0.21144095181230682,"",0.21144095181230682,0,2.2113647979406466,2.2113647979406466,0.16,0,0,0,6.7661104579938181E-2,1.9999238461283397,0.14527142821517461,0,0,"","","","","","","",0.16,0,0.16,1.76,1.76]
["Soil Ballast Force",null,null,null,null,null,null,"Fsoil (lbf)",{"$f":"$E$61","v":147.1089499219857},"ê",null,{"$f":"-$E$61","v":-147.1089499219857},null,{"$f":"IF(OR($O$54=\"\",$O$54=\"use CD RW\"),\"\",IF($B$25<-180,\"Error\",IF($B$25<-90,$B$25+180,IF($B$25<0,-$B$25,IF($B$25<=90,$B$25,IF($B$25<=180,180-$B$25,IF($B$25<=270,$B$25-180,IF($B$25<=360,360-$B$25,\"Error\"))))))))","v":""},{"$f":"IF($O$54=\"use CD stem\",(1.1173-((5.28*10^-2)*$N$57)+((1.4385*10^-3)*$N$57^2)-((9.7668*10^-6)*$N$57^3)),\"\")","v":""},null,null,null,null,null,"xTS (ft)","Dist (ft)","Adjusted Dist (ft)","yTS (ft)","ysoil (ft)",null,null,null,null,null,null,null,null,null,12,1.92,"Left Bank",44.714328915714631,96.736238427424283,44.706405387290829,94.736314581295943,96.9388374480707,0,0.20259902064641722,0.20259902064641722,"",0.20259902064641722,0,2.2025228667747569,2.2025228667747569,0.16,0,0,0,6.4831686606853511E-2,1.9999238461283397,0.14527142821517461,0,0,"","","","","","","",0.16,0,0.16,1.92,1.92]
["Soil","Vdry (ft3)","Vsat (ft3)","Vsoil (ft3)","Fsoil (lbf)",null,null,"FW,V (lbf)",{"$f":"ABS($L$99)","v":7112.8893968738739},{"$f":"IF($L58=0,\"\",IF($L58>0,CHAR(233),CHAR(234)))","v":"ê"},null,{"$f":"$L$99","v":-7112.8893968738739},"Flex","1Applies Gippel et al (1996) Formula:",null,null,null,null,"At Left Bank Top",{"$f":"IF(OR($F$25=\"\",$G$25=\"\"),\"No\",IF(MIN($U$40:$U$41)>$B$14,\"No\",IF(MAX($U$40:$U$41)<$B$14,\"No\",\"Yes\")))","v":"No"},{"$f":"$B$14","v":33},{"$f":"IF(OR($B$25=0,$B$25=180,$B$25=360),0,IF($T$14>$T$13,$G$22+((($T$14-$B$14)/ABS($M$17))/$M$19),(($T$13-$B$14)/ABS($M$17))/$M$19))","v":55.866555346481825},{"$f":"IF(V58<0,0,IF(V58>$E$22,$E$22,V58))","v":32},{"$f":"IF($T$14>$T$13,$U$14+(($V$58-$G$22)*$M$20),$U$13-($V$58*$M$20))","v":94.96134187190782},{"$f":"$C$14","v":98.59},null,null,null,null,null,null,null,null,null,13,2.08,"Left Bank",44.786964629822222,96.73484218174454,44.77904110139842,94.7349183356162,96.928599271225053,0,0.1937570894805134,0.1937570894805134,"",0.1937570894805134,0,2.1936809356088531,2.1936809356088531,0.16,0,0,0,6.200226863376429E-2,1.9999238461283397,0.14527142821517461,0,0,"","","","","","","",0.16,0,0.16,2.08,2.08]
["Bed",{"$f":"IF(AND($H$28=\"\",$H$29=\"\"),0,$AZ$43)","v":0},{"$f":"IF(AND($H$28=\"\",$H$29=\"\"),0,$BA$43)","v":0},{"$f":"B59+C59","v":0},{"$f":"IF(OR($D$28=\"\",$E$28=\"\"),0,($B$59*$D$28)+($C$59*$E$28))","v":0},null,null,"FA,V (lbf)",{"$f":"ABS($L$59)+ABS($M$59)","v":0},{"$f":"IF(($L59+M59)=0,\"\",IF(($L59+M59)>0,CHAR(233),CHAR(234)))","v":""},null,{"$f":"$L$86","v":0},{"$f":"$L$92","v":0},"CDi = 1.1173 - (5.2800*10-2) q + (1.4385*10-3) q2 - (9.7668*10-6) q3",null,null,null,null,"At Left Bank Toe",{"$f":"IF(OR($F$25=\"\",$G$25=\"\"),\"No\",IF(MIN($U$40:$U$41)>$B$15,\"No\",IF(MAX($U$40:$U$41)<$B$15,\"No\",\"Yes\")))","v":"Yes"},{"$f":"$B$15","v":54},{"$f":"IF(OR($B$25=0,$B$25=180,$B$25=360),0,IF($T$14>$T$13,$G$22+((($T$14-$B$15)/ABS($M$17))/$M$19),(($T$13-$B$15)/ABS($M$17))/$M$19))","v":9.6083194183102272},9.6083194183102272,{"$f":"IF($T$14>$T$13,$U$14+(($V$59-$G$22)*$M$20),$U$13-($V$59*$M$20))","v":94.557667733988481},{"$f":"$C$15","v":95.63},null,null,null,null,null,null,null,null,null,14,2.2400000000000002,"Left Bank",44.859600343929806,96.733445936064797,44.851676815506003,94.733522089936457,96.918361094379421,0,0.1849151583146238,0.1849151583146238,"",0.1849151583146238,0,2.1848390044429635,2.1848390044429635,0.16,0,0,0,5.9172850660679614E-2,1.9999238461283397,0.14527142821517461,0,0,"","","","","","","",0.16,0,0.16,2.2400000000000002,2.2400000000000002]
["Bank",{"$f":"IF(AND($H$28=\"\",$H$29=\"\"),0,$BB$43)","v":0},{"$f":"IF(AND($H$28=\"\",$H$29=\"\"),0,$BC$43)","v":1.7245685348076183},{"$f":"B60+C60","v":1.7245685348076183},{"$f":"IF(OR($D$29=\"\",$E$29=\"\"),0,($B$60*$D$29)+($C$60*$E$29))","v":147.1089499219857},null,null,"S FV (lbf)",{"$f":"ABS($L$60)","v":3861.8970172048607},"ê","Additional resisting force (lbf) needed:",{"$f":"$L$54+$L$55+$L$56+$L$57+$L$58+$L$59+$M$59","v":-3861.8970172048607},null,null,null,null,null,null,"At Left Thalweg",{"$f":"IF(OR($F$25=\"\",$G$25=\"\"),\"No\",IF(AND(MAX($U$40:$U$41)>$B$16,MIN($U$40:$U$41)<$B$16),\"Yes\",\"No\"))","v":"No"},{"$f":"$B$16","v":79},{"$f":"IF(OR($B$25=0,$B$25=180,$B$25=360),0,IF($T$14>$T$13,$G$22+((($T$14-$B$16)/ABS($M$17))/$M$19),(($T$13-$B$16)/ABS($M$17))/$M$19))","v":-45.461009067608337},0,{"$f":"IF($T$14>$T$13,$U$14+(($V$60-$G$22)*$M$20),$U$13-($V$60*$M$20))","v":94.077103284084501},{"$f":"$C$16","v":92.8},null,null,null,null,null,null,null,null,null,15,2.4,"Left Bank",44.932236058037397,96.732049690385054,44.924312529613594,94.732125844256714,96.908122917533774,0,0.17607322714871998,0.17607322714871998,"",0.17607322714871998,0,2.1759970732770597,2.1759970732770597,0.16,0,0,0,5.6343432687590393E-2,1.9999238461283397,0.14527142821517461,0,0,"","","","","","","",0.16,0,0.16,2.4,2.4]
["Total",{"$f":"$B$59+$B$60","v":0},{"$f":"$C$59+$C$60","v":1.7245685348076183},{"$f":"$D$59+$D$60","v":1.7245685348076183},{"$f":"$E$59+$E$60","v":147.1089499219857},null,null,"FSV",{"$f":"IF(OR($E$22=\"\",$F$22=\"\",$F$25=\"\",$G$25=\"\"),0,IF($L$58>=0,($I$56+$I$57+$I$59)/($I$54+$I$55+$I$58),($I$56+$I$57+$I$58+$I$59)/($I$54+$I$55)))","v":1.5},{"$f":"$I$61-$L$61","v":0},{"$f":"IF(AND($F$25=\"\",$G$25=\"\"),\"\",IF($I$61>=$L$61,\"Structure is Vertically Stable\",IF(AND($I$61<$L$61,$L$58>=0),$L$61*($L$54+$L$55+$L$58)-(-$L$56-$L$57-$L$59-$M$59),IF(AND($I$61<$L$61,$L$58<0),$L$61*($L$54+$L$55)-(-$L$56-$L$57-$L$59-$M$59-$L$58),\"\"))))","v":"Structure is Vertically Stable"},{"$f":"'2-Constants'!$C$5","v":1.5},null,"CD Stem with Exposed RW Lookup Table",null,null,null,null,"At Right Thalweg",{"$f":"IF(OR($F$25=\"\",$G$25=\"\"),\"No\",IF(AND(MAX($U$40:$U$41)>$B$16,MIN($U$40:$U$41)<$B$16),\"Yes\",\"No\"))","v":"No"},{"$f":"$B$16","v":79},{"$f":"IF(OR($B$25=0,$B$25=180,$B$25=360),0,IF($T$14<$T$13,$G$22+((($B$16-$T$14)/ABS($M$17))/$M$19),(($B$16-$T$13)/ABS($M$17))/$M$19))","v":77.461009067608344},32,{"$f":"IF($T$14<$T$13,$U$14+(($V$61-$G$22)*$M$20),$U$13-($V$61*$M$20))","v":94.077103284084515},{"$f":"$C$16","v":92.8},null,null,null,null,null,null,null,null,null,16,2.56,"Left Bank",45.00487177214498,96.730653444705311,44.996948243721178,94.730729598576971,96.897884740688141,0,0.16723129598283037,0.16723129598283037,"",0.16723129598283037,0,2.1671551421111701,2.1671551421111701,0.16,0,0,0,5.3514014714505724E-2,1.9999238461283397,0.14527142821517461,0,0,"","","","","","","",0.16,0,0.16,2.56,2.56]
[null,null,null,null,null,null,null,null,null,null,{"$f":"IF($K$61<>\"Structure is Vertically Stable\",\"\",IF($K$61=\"Structure is Vertically Stable\",IF($L$58>=0,($I$56+$I$57+$I$59)-(($I$58+$I$54+$I$55)*$L$61),($I$56+$I$57+$I$58+$I$59)-(($I$54+$I$55)*$L$61))))","v":0},null,null,"Adjusted q (deg)","CDi Stem + RW",null,null,null,"At Right Bank Toe",{"$f":"IF(OR($F$25=\"\",$G$25=\"\"),\"No\",IF(MAX($U$40:$U$41)<$B$17,\"No\",IF(MIN($U$40:$U$41)>$B$17,\"No\",\"Yes\")))","v":"No"},{"$f":"$B$17","v":108},{"$f":"IF(OR($B$25=0,$B$25=180,$B$25=360),0,IF($T$14<$T$13,$G$22+((($B$17-$T$14)/ABS($M$17))/$M$19),(($B$17-$T$13)/ABS($M$17))/$M$19))","v":141.34143011127387},32,{"$f":"IF($T$14<$T$13,$U$14+(($V$62-$G$22)*$M$20),$U$13-($V$62*$M$20))","v":93.519648522195894},{"$f":"$C$17","v":94.94},null,null,null,null,null,null,null,null,null,17,2.72,"Left Bank",45.077507486252571,96.729257199025568,45.069583957828769,94.729333352897228,96.887646563842495,0,0.15838936481692656,0.15838936481692656,"",0.15838936481692656,0,2.1583132109452663,2.1583132109452663,0.16,0,0,0,5.0684596741416503E-2,1.9999238461283397,0.14527142821517461,0,0,"","","","","","","",0.16,0,0.16,2.72,2.72]
["Horizontal Force Analysis",null,null,null,null,null,null,null,null,null,null,null,null,{"$f":"IF(OR($O$54=\"\",$O$54=\"use CD stem\"),\"\",IF(OR($B$25<-180,$B$25>360),\"Error\",IF($B$25>180,360-$B$25,IF($B$25<0,-$B$25,$B$25))))","v":27},{"$f":"IF(OR($O$54=\"\",$O$54=\"use CD stem\"),\"\",IF($B$25<22.5,(($B$25/22.5)*($O$67-$O$66)+$O$66),IF($B$25<45,((($B$25-$N$67)/22.5)*($O$68-$O$67)+$O$67),IF($B$25<67.5,((($B$25-$N$68)/22.5)*($O$69-$O$68)+$O$68),IF($B$25<90,((($B$25-$N$69)/22.5)*($O$70-$O$69)+$O$69),IF($B$25<112.5,((($B$25-$N$70)/22.5)*($O$71-$O$70)+$O$70),IF($B$25<135,((($B$25-$N$71)/22.5)*($O$72-$O$71)+$O$71),IF($B$25<157.5,((($B$25-$N$72)/22.5)*($O$73-$O$72)+$O$72),IF($B$25<=180,((($B$25-$N$74)/22.5)*($O$74-$O$73)+$O$74),$O$74)))))))))","v":1.224},null,null,null,"At Right Bank Top",{"$f":"IF(OR($F$25=\"\",$G$25=\"\"),\"No\",IF(MAX($U$40:$U$41)<$B$18,\"No\",IF(MIN($U$40:$U$41)>$B$18,\"No\",\"Yes\")))","v":"No"},{"$f":"$B$18","v":127},{"$f":"IF(OR($B$25=0,$B$25=180,$B$25=360),0,IF($T$14<$T$13,$G$22+((($B$18-$T$14)/ABS($M$17))/$M$19),(($B$18-$T$13)/ABS($M$17))/$M$19))","v":183.19411976057197},32,{"$f":"IF($T$14<$T$13,$U$14+(($V$63-$G$22)*$M$20),$U$13-($V$63*$M$20))","v":93.154419540268862},{"$f":"$C$18","v":98.72},null,null,null,null,null,null,null,null,null,18,2.88,"Left Bank",45.150143200360155,96.727860953345825,45.142219671936353,94.727937107217485,96.877408386996848,0,0.14954743365102274,0.14954743365102274,"",0.14954743365102274,0,2.1494712797793625,2.1494712797793625,0.16,0,0,0,4.7855178768327282E-2,1.9999238461283397,0.14527142821517461,0,0,"","","","","","","",0.16,0,0.16,2.88,2.88]
["Drag Force",null,null,null,null,null,null,null,null,null,null,null,null,null,null,null,null,null,null,null,null,null,null,null,null,null,null,null,null,null,null,null,null,null,19,3.04,"Left Bank",45.222778914467746,96.726464707666082,45.214855386043943,94.726540861537742,96.867170210151215,0,0.14070550248513314,0.14070550248513314,"",0.14070550248513314,0,2.1406293486134729,2.1406293486134729,0.16,0,0,0,4.5025760795242606E-2,1.9999238461283397,0.14527142821517461,0,0,"","","","","","","",0.16,0,0.16,3.04,3.04]
["ATp / AW","FrL","CDi","Cw","CD*","FD (lbf)",null,"Horizontal Force Balance",null,null,null,"Formatting",null,"q (deg)","CDi Stem + RW",null,null,null,null,null,null,"Log Bottom and Soil Intercept",null,"Dist to Intercept","Intercept in Zone?","LW Buried?","Exposed Segment",null,null,null,null,null,null,null,20,3.2,"Left Bank",45.29541462857533,96.725068461986339,45.287491100151527,94.725144615857999,96.856932033305569,0,0.13186357131922932,0.13186357131922932,"",0.13186357131922932,0,2.1317874174475691,2.1317874174475691,0.16,0,0,0,4.2196342822153385E-2,1.9999238461283397,0.14527142821517461,0,0,"","","","","","","",0.16,0,0.16,3.2,3.2]
[{"$f":"IF(OR($A$6=\"\",$F$6=\"\"),0,$J$25/(VLOOKUP($A$6,SiteInfo,7,0)))","v":2.0030973257249108E-2},{"$f":"IF($A$6=\"\",0,$J$6/(($F$22*g)^0.5))","v":0.57752087841792843},{"$f":"IF($O$54=\"\",0,IF($O$54=\"use CD stem\",$O$57,$O$63))","v":1.224},{"$f":"IF(OR($BM$43=\"\",$B$25=\"\"),0,IF($BN$43>0.43,0.43,$BN$43))","v":0.11951967531889683},{"$f":"IF(OR($F$22=\"\",$B$25=\"\"),0,0.997*($C$66+$D$66)*((1-$A$66)^-2.06))","v":1.3965026024068663},{"$f":"IF(OR($E$66=\"\",$J$25=\"\"),0,$E$66*$J$25*SWWater*($J$6^2)/(2*g))","v":960.61134877218842},null,"FD (lbf)",{"$f":"IF(AND($F$66=0,$I$71>0),0.4999,$F$66)","v":960.61134877218842},{"$f":"IF($L$66=0,\"\",IF($L66>0,CHAR(232),CHAR(231)))","v":"è"},{"$f":"IF(AND($F$66=0,$I$71>0),\"NOTE - Tool has assumed the drag force = 0.49 lbf for FS calcs\",\"\")","v":""},{"$f":"$F$66","v":960.61134877218842},null,0,1.2,null,null,null,null,"Zone L (ft)","Log L (ft)","xbottom (ft)","ybottom (ft)",null,null,null,null,"Lem,bot (ft)",null,null,null,null,null,null,21,3.36,"Left Bank",45.36805034268292,96.723672216306596,45.360126814259118,94.723748370178257,96.846693856459936,0,0.12302164015333972,0.12302164015333972,"",0.12302164015333972,0,2.1229454862816795,2.1229454862816795,0.16,0,0,0,3.9366924849068709E-2,1.9999238461283397,0.14527142821517461,0,0,"","","","","","","",0.16,0,0.16,3.36,3.36]
[null,null,null,null,null,null,null,"FP (lbf)",{"$f":"$C$72","v":354.16121558384077},{"$f":"IF($L$67=0,\"\",IF($L67>=0,CHAR(232),CHAR(231)))","v":"ç"},{"$f":"IF(OR($M$59=0,$M$70=0),\"\",\"NOTE -- Mechanical soil anchors and deadman boulders provide equal resistance to vertical and horizontal forces.  The model first applies these anchor forces to resist the vertical forces, and then applies the balance to resist the horizontal forces.\")","v":""},{"$f":"-$C$72","v":-354.16121558384077},null,22.5,1.25,null,null,null,"LB Floodplain",{"$f":"($B$14-$B$13)/ABS($M$17)/ABS($M$19)","v":72.69151360141251},{"$f":"IF(MAX($U$40:$U$41)<=$B$14,$E$22,IF($T$58=\"No\",0,$E$22-$W$58))","v":0},{"$f":"IF($U$67=0,0,IF(OR($B$25=0,$B$25=180,$B$25=360),$U$40,$U$58+(($X$58-$C$14)/($AB$31-$AA$40))))","v":0},{"$f":"IF($U$67=0,0,IF(OR($B$25=0,$B$25=180,$B$25=360),(($U$40-$B$13)*$AB$31)+$C$13,$X$58+(($V$67-$U$58)*$AA$40)))","v":0},{"$f":"IF($U$67=0,0,IF(OR($B$25=0,$B$25=180,$B$25=360),$E$22-ABS(($X$41-$W$67)/$M$20),IF(AND($U$40<=$U$41,$X$40>=$Y$40),ABS(($X$40-$W$67)/($AA$40*$M$17*$M$19)),IF(AND($U$40<=$U$41,$X$40<$Y$40),ABS($E$22-(ABS(($X$40-$W$67)/($AA$40*$M$17*$M$19)))),IF(AND($U$40>$U$41,$X$41>=$Y$41),ABS(($X$41-$W$67)/($AA$40*$M$17*$M$19)),IF(AND($U$40>=$U$41,$X$41<$Y$41),ABS($E$22-(ABS(($X$40-$W$67)/($AA$40*$M$17*$M$19))))))))))","v":0},{"$f":"IF(AND($U$67=0,$W$67=0),\"No\",IF(AND($V$67<=$B$14,$V$67>=$B$13,$V$67>=MIN($U$40:$U$41),$V$67<=MAX($U$40:$U$41),$W$67<$C$13,$X$67<=$E$22),\"Yes\",\"No\"))","v":"No"},{"$f":"IF($U$67=0,\"No\",IF($Y$67=\"Yes\",\"Partial\",IF(AND($U$67<$E$22,$X$41<$Y$41,$Y$67=\"No\",$Y$68=\"No\",$Y$69=\"No\",$Y$70=\"No\",$Y$71=\"No\",$Y$72=\"No\"),\"Yes\",IF(AND($Y$67=\"No\",$X$58>$Y$58),\"No\",\"Yes\"))))","v":"No"},{"$f":"IF($Z$67=\"Yes\",\"None\",IF(AND($Z$67=\"No\",$U$67=0),\"None\",IF($Z$67=\"No\",\"All\",IF(AND($X$41>=$Y$41,$U$41<=$U$40),\"Left\",\"Right\"))))","v":"None"},{"$f":"IF($U$67=0,0,IF($Z$67=\"No\",0,IF($Z$67=\"Yes\",$U$67,IF(OR($AA$67=\"Left\",$U$67=$E$22),$U$67-(ABS(($U$41-$V$67)/($M$17*$M$19))),$U$67-(ABS(($V$67-$B$14)/($M$17*$M$19)))))))","v":0},null,null,null,null,null,null,22,3.52,"Left Bank",45.440686056790504,96.722275970626853,45.432762528366702,94.722352124498514,96.836455679614289,0,0.1141797089874359,0.1141797089874359,"",0.1141797089874359,0,2.1141035551157756,2.1141035551157756,0.16,0,0,0,3.6537506875979488E-2,1.9999238461283397,0.14527142821517461,0,0,"","","","","","","",0.16,0,0.16,3.52,3.52]
["Passive Soil Pressure",null,null,"Friction Force",null,null,null,"FF (lbf)",{"$f":"$F$72","v":3357.0958598682282},{"$f":"IF($L$68=0,\"\",IF($L68>=0,CHAR(232),CHAR(231)))","v":"ç"},null,{"$f":"-$F$72","v":-3357.0958598682282},null,45,1.1200000000000001,null,null,null,"Left Bank",{"$f":"($B$15-$B$14)/ABS($M$17)/ABS($M$19)","v":46.258235928171601},{"$f":"IF(AND(MIN($U$40:$U$41)>=$B$14,MAX($U$40:$U$41)<=$B$15),$E$22,IF(AND($T$59=\"No\",$T$58=\"No\"),0,$E$22-$W$59-$U$67))","v":22.391680581689773},{"$f":"IF($U$68=0,0,IF(OR($B$25=0,$B$25=180,$B$25=360),$U$40,$U$59+(($C$15-$X$59)/($AA$40-$AB$32))))","v":62.809118555766986},{"$f":"IF($U$68=0,0,IF(OR($B$25=0,$B$25=180,$B$25=360),(($U$40-$B$14)*$AB$32)+$C$14,$X$59+(($V$68-$U$59)*$AA$40)))","v":94.388333765472836},{"$f":"IF($U$68=0,0,IF(OR($B$25=0,$B$25=180,$B$25=360),$E$22-ABS(($X$41-$W$68)/$M$20),IF(AND($U$40<=$U$41,$X$40>=$Y$40),ABS(($X$40-$W$68)/($AA$40*$M$17*$M$19)),IF(AND($U$40<=$U$41,$X$40<$Y$40),ABS($E$22-(ABS(($X$40-$W$68)/($AA$40*$M$17*$M$19)))),IF(AND($U$40>$U$41,$X$41>=$Y$41),ABS(($X$41-$W$68)/($AA$40*$M$17*$M$19)),IF(AND($U$40>=$U$41,$X$41<$Y$41),ABS($E$22-(ABS(($X$40-$W$68)/($AA$40*$M$17*$M$19))))))))))","v":22.203829681553138},{"$f":"IF(AND($U$68=0,$W$68=0),\"No\",IF(AND($V$68<=$B$15,$V$68>=$B$14,$V$68>=MIN($U$40:$U$41),$V$68<=MAX($U$40:$U$41),$W$68<$C$14,$X$68<=$E$22),\"Yes\",\"No\"))","v":"No"},{"$f":"IF($U$68=0,\"No\",IF($Y$68=\"Yes\",\"Partial\",IF(AND($U$68<$E$22,$X$41<$Y$41,$Y$67=\"No\",$Y$68=\"No\",$Y$69=\"No\",$Y$70=\"No\",$Y$71=\"No\",$Y$72=\"No\"),\"Yes\",IF(AND($Y$68=\"No\",$X$59>$Y$59),\"No\",\"Yes\"))))","v":"Yes"},{"$f":"IF($Z$68=\"Yes\",\"None\",IF(AND($Z$68=\"No\",$U$68=0),\"None\",IF($Z$68=\"No\",\"All\",IF(AND($X$41>=$Y$41,$U$41<=$U$40,$AA$67<>\"Left\"),\"Left\",\"Right\"))))","v":"None"},{"$f":"IF($U$68=0,0,IF($Z$68=\"No\",0,IF($Z$68=\"Yes\",$U$68,IF(OR($U$68=$E$22,AND($AA$68=\"Left\",MIN($U$40:$U$41)>=$B$14,MAX($U$40:$U$41)>=$B$15)),$U$68-(ABS(($U$41-$V$68)/($M$17*$M$19))),IF($AA$68=\"Left\",$U$68-(ABS(($B$14-$V$68)/($M$17*$M$19))),IF(MAX($U$40:$U$41)>=$B$15,$U$68-(ABS(($V$68-$B$15)/($M$17*$M$19))),ABS(($V$68-$B$14)/($M$17*$M$19))))))))","v":22.391680581689773},null,null,null,null,null,null,23,3.68,"Left Bank",45.513321770898095,96.72087972494711,45.505398242474293,94.720955878818771,96.826217502768642,0,0.10533777782153209,0.10533777782153209,"",0.10533777782153209,0,2.1052616239498718,2.1052616239498718,0.16,0,0,0,3.3708088902890267E-2,1.9999238461283397,0.14527142821517461,0,0,"","","","","","","",0.16,0,0.16,3.68,3.68]
["Soil","KP","FP (lbf)","LTf (ft)","m","FF (lbf)",null,"FW,H (lbf)",{"$f":"ABS($M$99)","v":1086.7558075744419},{"$f":"IF($L$69=0,\"\",IF($L69>=0,CHAR(232),CHAR(231)))","v":"ç"},null,{"$f":"$M$99","v":-1086.7558075744419},"Flex",67.5,1.22,null,null,null,"Left Stream Bed",{"$f":"($B$16-$B$15)/ABS($M$17)/ABS($M$19)","v":55.069328485918568},{"$f":"IF(AND(MIN($U$40:$U$41)>=$B$15,MAX($U$40:$U$41)<=$B$16),$E$22,IF(AND($T$60=\"No\",$T$59=\"No\"),0,IF(AND($T$59=\"Yes\",$T$60=\"No\"),$E$22-$U$68-$U$67,IF(AND($T$59=\"Yes\",$T$60=\"Yes\",$T$62=\"No\"),$E$22-$U$70-$U$68-$U$67,IF(AND($T$59=\"Yes\",$T$60=\"Yes\",$T$62=\"Yes\"),$E$22-$U$72-$U$71-$U$70-$U$68-$U$67,$E$22-$U$72-$U$71-$U$70)))))","v":9.6083194183102272},{"$f":"IF($U$69=0,0,IF(OR($B$25=0,$B$25=180,$B$25=360),$U$40,$U$60+(($C$16-$X$60)/($AA$40-$AB$33))))","v":65.4105307758675},{"$f":"IF($U$69=0,0,IF(OR($B$25=0,$B$25=180,$B$25=360),(($U$40-$B$15)*$AB$33)+$C$15,$X$60+(($V$69-$U$60)*$AA$40)))","v":94.338327916171792},{"$f":"IF($U$69=0,0,IF(OR($B$25=0,$B$25=180,$B$25=360),$E$22-ABS(($X$41-$W$69)/$M$20),IF(AND($U$40<=$U$41,$X$40>=$Y$40),ABS(($X$40-$W$69)/($AA$40*$M$17*$M$19)),IF(AND($U$40<=$U$41,$X$40<$Y$40),ABS($E$22-(ABS(($X$40-$W$69)/($AA$40*$M$17*$M$19)))),IF(AND($U$40>$U$41,$X$41>=$Y$41),ABS(($X$41-$W$69)/($AA$40*$M$17*$M$19)),IF(AND($U$40>=$U$41,$X$41<$Y$41),ABS($E$22-(ABS(($X$40-$W$69)/($AA$40*$M$17*$M$19))))))))))","v":16.473508718513212},{"$f":"IF(AND($U$69=0,$W$69=0),\"No\",IF(AND($V$69<=$B$16,$V$69>=$B$15,$V$69>=MIN($U$40:$U$41),$V$69<=MAX($U$40:$U$41),$W$69<$C$15,$X$69<=$E$22),\"Yes\",\"No\"))","v":"No"},{"$f":"IF($U$69=0,\"No\",IF($Y$69=\"Yes\",\"Partial\",IF(AND($U$69<$E$22,$X$41<$Y$41,$Y$67=\"No\",$Y$68=\"No\",$Y$69=\"No\",$Y$70=\"No\",$Y$71=\"No\",$Y$72=\"No\"),\"Yes\",IF(AND($Y$69=\"No\",$X$60>$Y$60),\"No\",\"Yes\"))))","v":"Yes"},{"$f":"IF($Z$69=\"Yes\",\"None\",IF(AND($Z$69=\"No\",$U$69=0),\"None\",IF($Z$69=\"No\",\"All\",IF(AND($X$41>=$Y$41,$U$41<=$U$40,$AA$68<>\"Left\"),\"Left\",\"Right\"))))","v":"None"},{"$f":"IF($U$69=0,0,IF($Z$69=\"No\",0,IF($Z$69=\"Yes\",$U$69,IF(OR($U$69=$E$22,AND($AA$69=\"Left\",MIN($U$40:$U$41)>=$B$15,MAX($U$40:$U$41)>=$B$16)),$U$69-(ABS(($U$41-$V$69)/($M$17*$M$19))),IF($AA$69=\"Left\",$U$69-(ABS(($B$15-$V$69)/($M$17*$M$19))),IF(MAX($U$40:$U$41)>=$B$16,$U$69-(ABS(($V$69-$B$16)/($M$17*$M$19))),ABS(($V$69-$B$15)/($M$17*$M$19))))))))","v":9.6083194183102272},null,null,null,null,null,null,24,3.84,"Left Bank",45.585957485005679,96.719483479267367,45.578033956581876,94.719559633139028,96.81597932592301,0,9.6495846655642481E-2,9.6495846655642481E-2,"",9.6495846655642481E-2,0,2.0964196927839822,2.0964196927839822,0.16,0,0,0,3.0878670929805594E-2,1.9999238461283397,0.14527142821517461,0,0,"","","","","","","",0.16,0,0.16,3.84,3.84]
["Bed",{"$f":"IF(OR($A$6=\"\",$F$6=\"\",$F$25=\"\"),0,TAN((45+($F$28/2))*PI()/180)^2)","v":4.8149513101909616},{"$f":"IF($E$61=0,0,0.5*$B$70*$E$59)","v":0},{"$f":"IF($F$28=\"\",0,IF($U$15<$AF$47,$BP$43+2,$BP$43))","v":11.680000000000005},{"$f":"IF($F$28=\"\",0,TAN($F$28*PI()/180))","v":0.86928673781622645},{"$f":"IF(OR($L$60>=0,$D$70=0),0,$I$60*$E$70*($D$70/$D$72))","v":1153.2611659782617},null,"FA,H (lbf)",{"$f":"ABS($L$70)+ABS($M$70)","v":0},{"$f":"IF(($L$70+M70)=0,\"\",IF(($L$70+M70)>=0,CHAR(232),CHAR(231)))","v":""},null,{"$f":"$M$86","v":0},{"$f":"$M$92","v":0},90,0.97,null,null,null,"Right Stream Bed",{"$f":"($B$17-$B$16)/ABS($M$17)/ABS($M$19)","v":63.880421043665535},{"$f":"IF(AND(MIN($U$40:$U$41)>=$B$16,MAX($U$40:$U$41)<=$B$17),$E$22,IF(AND($T$61=\"No\",$T$62=\"No\"),0,IF(AND($T$62=\"Yes\",$T$61=\"No\"),$E$22-$U$71-$U$72,IF(AND($T$62=\"Yes\",$T$61=\"Yes\"),$E$22-$W$61-$U$71-$U$72,$E$22-$W$61))))","v":0},{"$f":"IF($U$70=0,0,IF(OR($B$25=0,$B$25=180,$B$25=360),$U$40,$U$61+(($X$61-$C$16)/($AB$34-$AA$40))))","v":0},{"$f":"IF($U$70=0,0,IF(OR($B$25=0,$B$25=180,$B$25=360),(($U$40-$B$16)*$AB$34)+$C$16,$X$61+(($V$70-$U$61)*$AA$40)))","v":0},{"$f":"IF($U$70=0,0,IF(OR($B$25=0,$B$25=180,$B$25=360),$E$22-ABS(($X$41-$W$70)/$M$20),IF(AND($U$40<=$U$41,$X$40>=$Y$40),ABS(($X$40-$W$70)/($AA$40*$M$17*$M$19)),IF(AND($U$40<=$U$41,$X$40<$Y$40),ABS($E$22-(ABS(($X$40-$W$70)/($AA$40*$M$17*$M$19)))),IF(AND($U$40>$U$41,$X$41>=$Y$41),ABS(($X$41-$W$70)/($AA$40*$M$17*$M$19)),IF(AND($U$40>=$U$41,$X$41<$Y$41),ABS($E$22-(ABS(($X$40-$W$70)/($AA$40*$M$17*$M$19))))))))))","v":0},{"$f":"IF(AND($U$70=0,$W$70=0),\"No\",IF(AND($V$70<=$B$17,$V$70>=$B$16,$V$70>=MIN($U$40:$U$41),$V$70<=MAX($U$40:$U$41),$W$70<$C$17,$X$70<=$E$22),\"Yes\",\"No\"))","v":"No"},{"$f":"IF($U$70=0,\"No\",IF($Y$70=\"Yes\",\"Partial\",IF(AND($U$70<$E$22,$X$41<$Y$41,$Y$67=\"No\",$Y$68=\"No\",$Y$69=\"No\",$Y$70=\"No\",$Y$71=\"No\",$Y$72=\"No\"),\"Yes\",IF(AND($Y$70=\"No\",$X$61>$Y$61),\"No\",\"Yes\"))))","v":"No"},{"$f":"IF($Z$70=\"Yes\",\"None\",IF(AND($Z$70=\"No\",$U$70=0),\"None\",IF($Z$70=\"No\",\"All\",IF(AND($X$41>=$Y$41,$U$41>=$U$40,$AA$71<>\"Right\"),\"Right\",\"Left\"))))","v":"None"},{"$f":"IF($U$70=0,0,IF($Z$70=\"No\",0,IF($Z$70=\"Yes\",$U$70,IF(OR($U$70=$E$22,AND($AA$70=\"Right\",MIN($U$40:$U$41)<=$B$16,MAX($U$40:$U$41)<=$B$17)),$U$70-(ABS(($U$41-$V$70)/($M$17*$M$19))),IF($AA$70=\"Right\",$U$70-(ABS(($B$17-$V$70)/($M$17*$M$19))),IF(MIN($U$40:$U$41)<=$B$16,$U$70-(ABS(($V$70-$B$16)/($M$17*$M$19))),ABS(($V$70-$B$17)/($M$17*$M$19))))))))","v":0},null,null,null,null,null,null,25,4,"Left Bank",45.65859319911327,96.718087233587624,45.650669670689467,94.718163387459285,96.805741149077363,0,8.7653915489738665E-2,8.7653915489738665E-2,"",8.7653915489738665E-2,0,2.0875777616180784,2.0875777616180784,0.16,0,0,0,2.8049252956716373E-2,1.9999238461283397,0.14527142821517461,0,0,"","","","","","","",0.16,0,0.16,4,4]
["Bank",{"$f":"IF(OR($A$6=\"\",$F$6=\"\",$F$25=\"\"),0,TAN((45+($F$29/2))*PI()/180)^2)","v":4.8149513101909616},{"$f":"IF($E$61=0,0,0.5*$B$71*$E$60)","v":354.16121558384077},{"$f":"IF($F$28=\"\",0,$BQ$43)","v":22.320000000000014},{"$f":"IF($F$28=\"\",0,TAN($F$29*PI()/180))","v":0.86928673781622645},{"$f":"IF(OR($L$60>=0,$D$71=0),0,$I$60*$E$71*($D$71/$D$72))","v":2203.8346938899667},null,"S FH (lbf)",{"$f":"ABS($L$71)","v":3837.4015342543225},{"$f":"IF($L$71=0,\"\",IF($L71>=0,CHAR(232),CHAR(231)))","v":"ç"},"Additional resisting force (lbf) needed:",{"$f":"$L$66+$L$67+$L$68+$L$69+$L$70+$M$70","v":-3837.4015342543225},null,112.5,1,null,null,null,"Right Bank",{"$f":"($B$18-$B$17)/ABS($M$17)/ABS($M$19)","v":41.852689649298107},{"$f":"IF(AND(MIN($U$40:$U$41)>=$B$17,MAX($U$40:$U$41)<=$B$18),$E$22,IF(AND($T$62=\"No\",$T$63=\"No\"),0,$E$22-$W$62-$U$72))","v":0},{"$f":"IF($U$71=0,0,IF(OR($B$25=0,$B$25=180,$B$25=360),$U$40,$U$62+(($X$62-$C$17)/($AB$35-$AA$40))))","v":0},{"$f":"IF($U$71=0,0,IF(OR($B$25=0,$B$25=180,$B$25=360),(($U$40-$B$17)*$AB$35)+$C$17,$X$62+(($V$71-$U$62)*$AA$40)))","v":0},{"$f":"IF($U$71=0,0,IF(OR($B$25=0,$B$25=180,$B$25=360),$E$22-ABS(($X$41-$W$71)/$M$20),IF(AND($U$40<=$U$41,$X$40>=$Y$40),ABS(($X$40-$W$71)/($AA$40*$M$17*$M$19)),IF(AND($U$40<=$U$41,$X$40<$Y$40),ABS($E$22-(ABS(($X$40-$W$71)/($AA$40*$M$17*$M$19)))),IF(AND($U$40>$U$41,$X$41>=$Y$41),ABS(($X$41-$W$71)/($AA$40*$M$17*$M$19)),IF(AND($U$40>=$U$41,$X$41<$Y$41),ABS($E$22-(ABS(($X$40-$W$71)/($AA$40*$M$17*$M$19))))))))))","v":0},{"$f":"IF(AND($U$71=0,$W$71=0),\"No\",IF(AND($V$71<=$B$18,$V$71>=$B$17,$V$71>=MIN($U$40:$U$41),$V$71<=MAX($U$40:$U$41),$W$71<$C$18,$X$71<=$E$22),\"Yes\",\"No\"))","v":"No"},{"$f":"IF($U$71=0,\"No\",IF($Y$71=\"Yes\",\"Partial\",IF(AND($U$71<$E$22,$X$41<$Y$41,$Y$67=\"No\",$Y$68=\"No\",$Y$69=\"No\",$Y$70=\"No\",$Y$71=\"No\",$Y$72=\"No\"),\"Yes\",IF(AND($Y$71=\"No\",$X$62>$Y$62),\"No\",\"Yes\"))))","v":"No"},{"$f":"IF($Z$71=\"Yes\",\"None\",IF(AND($Z$71=\"No\",$U$71=0),\"None\",IF($Z$71=\"No\",\"All\",IF(AND($X$41>=$Y$41,$U$41>=$U$40,$AA$72<>\"Right\"),\"Right\",\"Left\"))))","v":"None"},{"$f":"IF($U$71=0,0,IF($Z$71=\"No\",0,IF($Z$71=\"Yes\",$U$71,IF(OR($U$71=$E$22,AND($AA$71=\"Right\",MIN($U$40:$U$41)<=$B$17,MAX($U$40:$U$41)<=$B$18)),$U$71-(ABS(($U$41-$V$71)/($M$17*$M$19))),IF($AA$71=\"Right\",$U$71-(ABS(($B$18-$V$71)/($M$17*$M$19))),IF(MIN($U$40:$U$41)<=$B$17,$U$71-(ABS(($V$71-$B$17)/($M$17*$M$19))),ABS(($V$71-$B$18)/($M$17*$M$19))))))))","v":0},null,null,null,null,null,null,26,4.16,"Left Bank",45.731228913220853,96.716690987907882,45.723305384797051,94.716767141779542,96.795502972231731,0,7.881198432384906E-2,7.881198432384906E-2,"",7.881198432384906E-2,0,2.0787358304521888,2.0787358304521888,0.16,0,0,0,2.52198349836317E-2,1.9999238461283397,0.14527142821517461,0,0,"","","","","","","",0.16,0,0.16,4.16,4.16]
["Total","-",{"$f":"$C$70+$C$71","v":354.16121558384077},{"$f":"$D$70+$D$71","v":34.000000000000021},"-",{"$f":"$F$70+$F$71","v":3357.0958598682282},null,"FSH",{"$f":"IF(OR($E$22=\"\",$F$22=\"\",$F$25=\"\",$G$25=\"\"),0,IF($I$66=0,0,IF($L$69>=0,($I$67+$I$68+$I$70)/($I$66+$I$69),($I$67+$I$68+$I$69+$I$70)/$I$66)))","v":4.9947493220428036},{"$f":"$I$72-$L$72","v":3.4947493220428036},{"$f":"IF(AND($F$25=\"\",$G$25=\"\"),\"\",IF(OR($J$25=0,$I$72>=$L$72),\"Structure is Horizontally Stable\",IF(AND($I$72<$L$72,$L$69>=0),$L$72*($L$66+$L$69)-(-$L$67-$L$68-$L$70-$M$70),IF(AND($I$72<$L$72,$L$69<0),$L$72*($L$66)-(-$L$67-$L$68-$L$70-$M$70-$L$69),\"\"))))","v":"Structure is Horizontally Stable"},{"$f":"'2-Constants'!$C$6","v":1.5},null,135,0.81,null,null,null,"RB Floodplain",{"$f":"($B$19-$B$18)/ABS($M$17)/ABS($M$19)","v":50.663782207045081},{"$f":"IF(MIN($U$40:$U$41)>=$B$18,$E$22,IF($T$63=\"No\",0,$E$22-$W$63))","v":0},{"$f":"IF($U$72=0,0,IF(OR($B$25=0,$B$25=180,$B$25=360),$U$40,$U$63+(($X$63-$C$18)/($AB$36-$AA$40))))","v":0},{"$f":"IF($U$72=0,0,IF(OR($B$25=0,$B$25=180,$B$25=360),(($U$40-$B$18)*$AB$36)+$C$18,$X$63+(($V$72-$U$63)*$AA$40)))","v":0},{"$f":"IF($U$72=0,0,IF(OR($B$25=0,$B$25=180,$B$25=360),$E$22-ABS(($X$41-$W$72)/$M$20),IF(AND($U$40<=$U$41,$X$40>=$Y$40),ABS(($X$40-$W$72)/($AA$40*$M$17*$M$19)),IF(AND($U$40<=$U$41,$X$40<$Y$40),ABS($E$22-(ABS(($X$40-$W$72)/($AA$40*$M$17*$M$19)))),IF(AND($U$40>$U$41,$X$41>=$Y$41),ABS(($X$41-$W$72)/($AA$40*$M$17*$M$19)),IF(AND($U$40>=$U$41,$X$41<$Y$41),ABS($E$22-(ABS(($X$40-$W$72)/($AA$40*$M$17*$M$19))))))))))","v":0},{"$f":"IF(AND($U$72=0,$W$72=0),\"No\",IF(AND($V$72<=$B$19,$V$72>=$B$18,$V$72>=MIN($U$40:$U$41),$V$72<=MAX($U$40:$U$41),$W$72<$C$19,$X$72<=$E$22),\"Yes\",\"No\"))","v":"No"},{"$f":"IF($U$72=0,\"No\",IF($Y$72=\"Yes\",\"Partial\",IF(AND($U$72<$E$22,$X$41<$Y$41,$Y$67=\"No\",$Y$68=\"No\",$Y$69=\"No\",$Y$70=\"No\",$Y$71=\"No\",$Y$72=\"No\"),\"Yes\",IF(AND($Y$72=\"No\",$X$63>$Y$63),\"No\",\"Yes\"))))","v":"No"},{"$f":"IF($Z$72=\"Yes\",\"None\",IF(AND($Z$72=\"No\",$U$72=0),\"None\",IF($Z$72=\"No\",\"All\",IF(AND($X$41>=$Y$41,$U$41>=$U$40),\"Right\",\"Left\"))))","v":"None"},{"$f":"IF($U$72=0,0,IF($Z$72=\"No\",0,IF($Z$72=\"Yes\",$U$72,IF(OR($AA$72=\"Right\",$U$72=$E$22),$U$72-(ABS(($U$41-$V$72)/($M$17*$M$19))),$U$72-(ABS(($V$72-$B$18)/($M$17*$M$19)))))))","v":0},null,null,null,null,null,null,27,4.32,"Left Bank",45.803864627328444,96.715294742228139,45.795941098904642,94.715370896099799,96.785264795386084,0,6.9970053157945244E-2,6.9970053157945244E-2,"",6.9970053157945244E-2,0,2.069893899286285,2.069893899286285,0.16,0,0,0,2.2390417010542479E-2,1.9999238461283397,0.14527142821517461,0,0,"","","","","","","",0.16,0,0.16,4.32,4.32]
[null,null,null,null,null,null,null,null,null,null,{"$f":"IF($K$72<>\"Structure is Horizontally Stable\",\"\",IF($K$72=\"Structure is Horizontally Stable\",IF($L$69>=0,($I$67+$I$68+$I$70)-(($I$69+$I$66)*$L$72),($I$67+$I$68+$I$69+$I$70)-(($I$66)*$L$72))))","v":3357.0958598682287},null,null,157.5,0.75,null,null,null,null,"L check",{"$f":"SUM(U67:U72)","v":32},{"$f":"IF($U$53=$E$22,\"OK\",\"ERROR\")","v":"OK"},null,null,null,null,"Total",{"$f":"SUM(AB67:AB72)","v":32},null,null,null,null,null,null,28,4.4800000000000004,"Left Bank",45.876500341436028,96.713898496548396,45.868576813012226,94.713974650420056,96.775026618540437,0,6.1128121992041429E-2,6.1128121992041429E-2,"",6.1128121992041429E-2,0,2.0610519681203812,2.0610519681203812,0.16,0,0,0,1.9560999037453258E-2,1.9999238461283397,0.14527142821517461,0,0,"","","","","","","",0.16,0,0.16,4.4800000000000004,4.4800000000000004]
["Moment Force Balance",null,null,null,null,null,null,null,null,null,null,{"$f":"IF($D$22=\"Yes\",\"Rootwad\",\"Root Collar\")","v":"Rootwad"},null,180,1.1000000000000001,null,null,null,null,null,null,null,null,null,null,null,null,null,null,null,null,null,null,null,29,4.6399999999999997,"Left Bank",45.949136055543619,96.712502250868653,45.941212527119816,94.712578404740313,96.764788441694805,0,5.2286190826151824E-2,5.2286190826151824E-2,"",5.2286190826151824E-2,0,2.0522100369544916,2.0522100369544916,0.16,0,0,0,1.6731581064368586E-2,1.9999238461283397,0.14527142821517461,0,0,"","","","","","","",0.16,0,0.16,4.6399999999999997,4.6399999999999997]
["Driving Moment Centroids",null,null,"Resisting Moment Centroids",null,null,null,"Moment Force Balance",null,null,null,null,null,"Source:  Gippel (1992) plot of drag coefficients",null,null,null,null,"Projected Area of Log Calculation",null,null,null,"Projected Area of Rootwad Calculation",null,null,null,null,null,null,null,null,null,null,null,30,4.8,"Left Bank",46.02177176965121,96.71110600518891,46.013848241227407,94.71118215906057,96.754550264849158,0,4.3444259660248008E-2,4.3444259660248008E-2,"",4.3444259660248008E-2,0,2.0433681057885877,2.0433681057885877,0.16,0,0,0,1.3902163091279363E-2,1.9999238461283397,0.14527142821517461,0,0,"","","","","","","",0.16,0,0.16,4.8,4.8]
["cT,B (ft)","cL (ft)","cD (ft)","cT,W (ft)","csoil (ft)","cF&N (ft)","cP (ft)","Md (lbf)",{"$f":"IF(OR($C$19=\"\",$E$22=\"\",$D$22=\"\",$F$22=\"\",$F$25=\"\",$G$25=\"\"),0,IF($F$78=\"Stem Tip\",$L$77,$L$78))","v":163617.49638083667},null,null,"Md","Mr",null,null,"Centroid of Log",null,null,"DTS =",{"$f":"IF(OR($E$22=\"\",$F$22=\"\",$F$25=\"\",$G$25=\"\"),\"\",$F$22)","v":2},"ft",null,null,"a = DRW/2",{"$f":"$H$22/2","v":3},"ft","A =","a*b*((p/2)+arcsin(d/a)) + (b*d*(sqrt(a2-d2))/a)",null,null,null,null,null,null,31,4.96,"Left Bank",46.094407483758793,96.709709759509167,46.086483955334991,94.709785913380827,96.744312088003525,0,3.4602328494358403E-2,3.4602328494358403E-2,"",3.4602328494358403E-2,0,2.0345261746226981,2.0345261746226981,0.16,0,0,0,1.1072745118194689E-2,1.9999238461283397,0.14527142821517461,0,0,"","","","","","","",0.16,0,0.16,4.96,4.96]
[{"$f":"$Q$79","v":18.846208568686219},{"$f":"IF($I$52=0,0,IF($T$12>=$T$11,$E$22-$BL$43,$BL$43))","v":0},{"$f":"IF($F$66=0,0,IF($T$12>=$T$11,$E$22-$BI$43,$BI$43))","v":18.799999999999997},{"$f":"$Q$79","v":18.846208568686219},{"$f":"IF($E$61=0,0,IF($T$12>=$T$11,$E$22-$BS$43,$BS$43))","v":2.7199999999999998},{"$f":"IF($F$72=0,0,IF($T$12>=$T$11,$E$22-$BR$43,$BR$43))","v":16},{"$f":"IF($C$72=0,0,IF($T$12>=$T$11,$E$22-$BT$39,$BT$39))","v":3.6266666666666669},"Mr (lbf)",{"$f":"IF(OR($C$19=\"\",$E$22=\"\",$D$22=\"\",$F$22=\"\",$F$25=\"\",$G$25=\"\"),0,IF($F$78=\"Stem Tip\",$M$77,$M$78))","v":371299.74702984502},null,"Additional resisting moment force (lbf) needed:",{"$f":"(($I$54*$A$77)+($I$55*$B$77)+($I$66*$C$77)+(IF($L$95>0,$L$95*$D$95,0))+(IF($L$96>0,$L$96*$D$96,0))+(IF($L$97>0,$L$97*$D$97,0))+(IF($L$98>0,$L$98*$D$98,0))+(IF($M$95>0,$M$95*$D$95,0))+(IF($M$96>0,$M$96*$D$96,0))+(IF($M$97>0,$M$97*$D$97,0))+(IF($M$98>0,$M$98*$D$98,0)))*$M$19","v":163617.49638083667},{"$f":"(($I$56*$D$77)+(IF($L$60<0,$I$60*$F$77))+($I$57*$E$77)+($I$67*$G$77)+($I$68*$F$77)+(($D$83+$E$83)*$C$83)+($J$83*$H$83)+($J$84*$H$84)+(($I$87+$J$87)*$C$87)+(($I$88+$J$88)*$C$88)+(($I$89+$J$89)*$C$89)+(IF($L$95<=0,$G$95*$D$95,0))+(IF($L$96<=0,$G$96*$D$96,0))+(IF($L$97<=0,$G$97*$D$97,0))+(IF($L$98<=0,$G$98*$D$98,0))+(IF($M$95<=0,$I$95*$D$95,0))+(IF($M$96<=0,$I$96*$D$96,0))+(IF($M$97<=0,$I$97*$D$97,0))+(IF($M$98<=0,$I$98*$D$98,0)))*$M$19","v":371299.74702984502},"Stem Tip",null,"cRW",{"$f":"IF(OR($D$22=\"\",$D$22=\"No\",$F$22=\"\"),0,$E$22-((1/4)*$G$22*(($H$22^2)+(2*$H$22*$F$22)+(3*($F$22^2)))/(($H$22^2)+($H$22*$F$22)+($F$22^2))))","v":30.96153846153846},null,"ATSp,total =",{"$f":"IF($T$76=\"\",\"\",ABS(($U$42-$U$43)*$F$22/$M$19))","v":29.055391983330985},"ft2",null,null,"b= (DRW/2)*ABS(cos(q))",{"$f":"($H$22/2)*ABS(COS($B$25*PI()/180))","v":2.6730195725651038},"ft","ARW,total =",{"$f":"IF(OR($D$22=\"\",$D$22=\"No\"),0,PI()*$Y$76*$Y$77)","v":25.192615956216777},"ft2",null,null,null,null,null,32,5.12,"Left Bank",46.167043197866377,96.708313513829424,46.159119669442575,94.708389667701084,96.734073911157878,0,2.5760397328454587E-2,2.5760397328454587E-2,"",2.5760397328454587E-2,0,2.0256842434567943,2.0256842434567943,0.16,0,0,0,8.2433271451054675E-3,1.9999238461283397,0.14527142821517461,0,0,"","","","","","","",0.16,0,0.16,5.12,5.12]
["*Distances are from the stem tip",null,null,"Point of Rotation:",null,{"$f":"IF(OR($F$25=\"\",$G$25=\"\",$D$22=\"\"),\"\",IF(AND($T$11<$T$12,$AY$45>0),$L$74,IF(AND($T$11>$T$12,$AY$245>0),$L$74,IF(AND($AY$45>0,$AY$245>0),$L$74,IF(AND($AY$45=0,$AY$245=0),$L$74,\"Stem Tip\")))))","v":"Stem Tip"},null,"FSM",{"$f":"IF(OR($E$22=\"\",$F$22=\"\",$F$25=\"\",$G$25=\"\"),0,IF(OR($A$6=\"\",$F$25=\"\",$G$25=\"\"),\"\",$I$77/$I$76))","v":2.269315661484065},{"$f":"$I$78-$L$80","v":0.76931566148406505},{"$f":"IF(AND($F$25=\"\",$G$25=\"\"),\"\",IF($I$78>=$L$80,\"Structure is Stable with respect to Moment Forces\",($I$76*$L$80)-$I$77))","v":"Structure is Stable with respect to Moment Forces"},{"$f":"(($I$54*($E$22-$A$77))+($I$55*($E$22-$B$77))+($I$66*($E$22-$C$77))+(IF($L$95>0,$L$95*($E$22-$D$95),0))+(IF($L$96>0,$L$96*($E$22-$D$96),0))+(IF($L$97>0,$L$97*($E$22-$D$97),0))+(IF($L$98>0,$L$98*($E$22-$D$98),0))+(IF($M$95>0,$M$95*($E$22-$D$95),0))+(IF($M$96>0,$M$96*($E$22-$D$96),0))+(IF($M$97>0,$M$97*($E$22-$D$97),0))+(IF($M$98>0,$M$98*($E$22-$D$98),0)))*$M$19","v":114272.89426349696},{"$f":"(($I$56*($E$22-$D$77))+(IF($L$60<0,$I$60*($E$22-$F$77)))+($I$57*($E$22-$E$77))+($I$67*($E$22-$G$77))+($I$68*($E$22-$F$77))+(($D$83+$E$83)*($E$22-$C$83))+($J$83*($E$22-$H$83))+($J$84*($E$22-$H$84))+(($I$87+$J$87)*($E$22-$C$87))+(($I$88+$J$88)*($E$22-$C$88))+(($I$89+$J$89)*($E$22-$C$89))+(IF($L$95<=0,$G$95*($E$22-$D$95),0))+(IF($L$96<=0,$G$96*($E$22-$D$96),0))+(IF($L$97<=0,$G$97*($E$22-$D$97),0))+(IF($L$98<=0,$G$98*($E$22-$D$98),0))+(IF($M$95<=0,$I$95*($E$22-$D$95),0))+(IF($M$96<=0,$I$96*($E$22-$D$96),0))+(IF($M$97<=0,$I$97*($E$22-$D$97),0))+(IF($M$98<=0,$I$98*($E$22-$D$98),0)))*$M$19","v":276534.81493488135},"Root Collar or RW",null,"cTS",{"$f":"(($E$22-$G$22)/2)","v":14.5},null,"ATSp,dry =",{"$f":"IF($T$86=\"\",\"\",IF($T$86=\"Submerged\",0,IF($T$88=\"Dry\",$T$77,IF(AND($AC$86=\"Dry\",$T$86=\"Partial\"),ABS(($U$43-$W$87)*$F$22/$M$19),IF(AND($AC$86=\"Partial\",$AC$87=\"Partial\"),(ABS($U$39-$U$38))*(($AF$86+$AF$87)/2),IF($AC$86=\"Partial\",(ABS($U$39-$W$86))*$AF$86/2,(($U$41-$W$88)*$F$22)+(ABS($W$88-$U$40))*($AF$87+$F$22)/2))))))","v":0},"ft2",null,null,"d1 = (DRW/2) - (yRW,crown-WSE)",{"$f":"IF(OR($D$22=\"\",$F$22=\"\"),\"\",IF($AE$8>=$U$10,$Y$76,$Y$76-($U$10-$AE$8)))","v":3},"ft","ARW,↑WSE =",{"$f":"IF($D$22=\"No\",0,IF($U$15>$AE$8,$AB$77,IF($U$10<$AE$8,0,IF($D$22=\"\",0,$AB$77-(($Y$76*$Y$77*((PI()/2)+ASIN($Y$78/$Y$76)))+($Y$77*$Y$78*(SQRT(($Y$76^2)-($Y$78^2))/$Y$76)))))))","v":0},"ft2",null,null,null,null,null,33,5.28,"Left Bank",46.239678911973968,96.706917268149681,46.231755383550166,94.706993422021341,96.723835734312246,0,1.6918466162564982E-2,1.6918466162564982E-2,"",1.6918466162564982E-2,0,2.0168423122909047,2.0168423122909047,0.16,0,0,0,5.413909172020794E-3,1.9999238461283397,0.14527142821517461,0,0,"","","","","","","",0.16,0,0.16,5.28,5.28]
[null,null,null,null,null,null,null,null,null,null,null,"Formatting",null,null,null,"cT",{"$f":"IF(OR($D$22=\"\",$D$22=\"No\",$F$22=\"\"),$Q$78,((((($B$53+$B$52)*$I$22)+($B$54*$J$22))*$Q$78)+(((($C$53+$C$52)*$I$22)+($C$54*$J$22))*$Q$77))/$E$55)","v":18.846208568686219},null,"ATSp,em =",{"$f":"$BE$43","v":20.663914179373577},"ft2",null,null,"d2 = (DRW/2) - (ythalweg-yRW,bot)",{"$f":"IF(OR($D$22=\"\",$F$22=\"\"),\"\",IF($U$15>=$C$16,$Y$76,$Y$76-($C$16-$U$15)))","v":2.6738965473765433},"ft","ARW,↓bed =",{"$f":"IF($D$22=\"No\",0,IF($U$10<$C$16,$AB$77,IF($U$15>$C$16,0,IF($D$22=\"\",0,$AB$77-(($Y$76*$Y$77*((PI()/2)+ASIN($Y$79/$Y$76)))+($Y$77*$Y$79*(SQRT(($Y$76^2)-($Y$79^2))/$Y$76)))))))","v":0.53298788571315114},"ft2",null,null,null,null,null,34,5.44,"Left Bank",46.312314626081559,96.705521022469938,46.304391097657756,94.705597176341598,96.713597557466599,0,8.0765349966611666E-3,8.0765349966611666E-3,"",8.0765349966611666E-3,0,2.0080003811250009,2.0080003811250009,0.16,0,0,0,2.5844911989315734E-3,1.9999238461283397,0.14527142821517461,0,0,"","","","","","","",0.16,0,0.16,5.44,5.44]
["Anchor Forces",null,null,null,null,null,null,null,null,null,null,{"$f":"'2-Constants'!$C$7","v":1.5},null,null,null,null,null,null,"(-) ATSp,dry,em =",{"$f":"-$BG$43","v":0},"ft3",null,null,null,null,null,"ARWp =",{"$f":"IF($D$22=\"\",0,$AB$77-$AB$78-$AB$79)","v":24.659628070503626},"ft2",null,null,null,null,null,35,5.6,"Left Bank",46.384950340189143,96.704124776790195,46.37702681176534,94.704200930661855,96.703359380620952,0,0,0,"","",0,1.9991584499590971,1.9991584499590971,0,0,0,0,0,1.9991584499590971,0.1452158310008749,0,0,0.16,5.6,0,0,"",5.5459133015955473,0.13013409845822715,0.16,0,0.16,5.6,""]
["Additional Soil Ballast",null,null,null,null,null,null,"Mechanical Anchors",null,null,{"$f":"IF(OR($H$83<>\"\",$H$84<>\"\",$C$87<>\"\",$C$88<>\"\",$C$89<>\"\"),\"CHECK--Verify anchors are correctly located on X-Sect (above)\",\"\")","v":""},"Formatting",null,null,null,"Buried anchors","Number",null,"ATSp,wet =",{"$f":"IF($D$22=\"\",\"\",IF($T$88=\"Dry\",0,$T$77-$T$78-$T$79-$T$80))","v":8.3914778039574074},"ft2",null,null,null,null,null,null,null,null,null,null,null,null,null,36,5.76,"Left Bank",46.457586054296733,96.702728531110452,46.449662525872931,94.702804684982112,96.69312120377532,0,0,0,"","",0,1.9903165187932075,1.9903165187932075,0,0,0,0,0,1.9903165187932075,0.14457356656108852,0,0,0.16,5.76,0,0,"",5.5473095472752902,0.12999797582524003,0.16,0,0.16,5.76,""]
["VAdry (ft3)","VAwet (ft3)","cAsoil (ft)","FA,Vsoil (lbf)","FA,HP (lbf)",null,"Type","cAm (ft)","Soils","FAm (lbf)","Quick Design Reference:",{"$f":"IF($D$83=\"\",0,-$D$83)","v":0},{"$f":"IF($E$83=\"\",0,-$E$83)","v":0},null,"Total (lbf)",{"$f":"$J$83+$J$84+(IF($A$87=\"Deadman\",$F$87-$G$87,0))+(IF($A$88=\"Deadman\",$F$88-$G$88,0))+(IF($A$89=\"Deadman\",$F$89-$G$89,0))","v":0},{"$f":"(IF($J$83>0,1,0))+(IF($J$84>0,1,0))+(IF(AND($I$87>0,$A$87=\"Deadman\"),1,0))+(IF(AND($I$88>0,$A$88=\"Deadman\"),1,0))+(IF(AND($I$89>0,$A$89=\"Deadman\"),1,0))","v":0},null,null,null,null,null,null,null,null,null,null,null,null,null,null,null,null,null,37,5.92,"Left Bank",46.530221768404317,96.701332285430709,46.522298239980515,94.701408439302369,96.682883026929673,0,0,0,"","",0,1.9814745876273037,1.9814745876273037,0,0,0,0,0,1.9814745876273037,0.14393130212130109,0,0,0.16,5.92,0,0,"",5.5487057929550332,0.12986199557900197,0.16,0,0.16,5.92,""]
[null,null,null,{"$f":"IF(AND($A$83=\"\",$B$83=\"\"),0,($A$83*$D$29)+($B$83*$E$29))","v":0},{"$f":"IF($D$83=0,0,0.5*$B$71*$D$83)","v":0},null,null,null,{"$f":"$W$100","v":""},{"$f":"IF(OR($G83=\"\",$H83=\"\"),0,IF(AND($W100=\"Bed\",$G$28=4),HLOOKUP($G$83,AnchorRatings,3,0),IF(AND($W100=\"Bed\",$G$28=5),HLOOKUP($G$83,AnchorRatings,4,0),IF(AND($W100=\"Bed\",$G$28=6),HLOOKUP($G$83,AnchorRatings,5,0),IF(AND($W100=\"Bed\",$G$28=7),HLOOKUP($G$83,AnchorRatings,6,0),IF(AND($W100=\"Bank\",$G$29=4),HLOOKUP($G$83,AnchorRatings,3,0),IF(AND($W100=\"Bank\",$G$29=5),HLOOKUP($G$83,AnchorRatings,4,0),IF(AND($W100=\"Bank\",$G$29=6),HLOOKUP($G$83,AnchorRatings,5,0),IF(AND($W100=\"Bank\",$G$29=7),HLOOKUP($G$83,AnchorRatings,6,0))))))))))","v":0},{"$f":"$I$61","v":1.5},0,{"$f":"(IF($A87=\"Behind\",-$J87,0))","v":0},null,"Required Vertical Resistance (lbf)",{"$f":"($L$54+$L$55+(IF($L$58>0,$L$58,0)))*$L$61","v":11585.691051614584},null,null,null,null,null,null,null,null,null,null,null,null,null,null,null,null,null,null,38,6.08,"Left Bank",46.602857482511908,96.699936039750966,46.594933954088106,94.700012193622626,96.672644850084041,0,0,0,"","",0,1.9726326564614141,1.9726326564614141,0,0,0,0,0,1.9726326564614141,0.14328903768151471,0,0,0.16,6.08,0,0,"",5.5501020386347761,0.12972615757057365,0.16,0,0.16,6.08,""]
[null,null,null,null,null,null,null,null,{"$f":"$W$101","v":""},{"$f":"IF(OR($G84=\"\",$H84=\"\"),0,IF(AND($W101=\"Bed\",$G$28=4),HLOOKUP($G$84,AnchorRatings,3,0),IF(AND($W101=\"Bed\",$G$28=5),HLOOKUP($G$84,AnchorRatings,4,0),IF(AND($W101=\"Bed\",$G$28=6),HLOOKUP($G$84,AnchorRatings,5,0),IF(AND($W101=\"Bed\",$G$28=7),HLOOKUP($G$84,AnchorRatings,6,0),IF(AND($W101=\"Bank\",$G$29=4),HLOOKUP($G$84,AnchorRatings,3,0),IF(AND($W101=\"Bank\",$G$29=5),HLOOKUP($G$84,AnchorRatings,4,0),IF(AND($W101=\"Bank\",$G$29=6),HLOOKUP($G$84,AnchorRatings,5,0),IF(AND($W101=\"Bank\",$G$29=7),HLOOKUP($G$84,AnchorRatings,6,0))))))))))","v":0},{"$f":"'2-Constants'!$C$5","v":1.5},0,{"$f":"(IF($A88=\"Behind\",-$J88,0))","v":0},null,"Actual Vertical Resistance (lbf)",{"$f":"ABS($L$56+$L$57+(IF($L$58<0,$L$58,0))+$L$59)","v":11585.691051614584},null,null,"Log Position","Water and Log Intercept",null,null,null,null,"Soil","LW Buried at Intercept?",null,"Log Position","Water and Log Intercept at Face",null,null,null,null,null,39,6.24,"Left Bank",46.675493196619492,96.698539794071223,46.667569668195689,94.698615947942884,96.662406673238394,0,0,0,"","",0,1.9637907252955102,1.9637907252955102,0,0,0,0,0,1.9637907252955102,0.14264677324172731,0,0,0.16,6.24,0,0,"",5.5514982843145191,0.12959046165117186,0.16,0,0.16,6.24,""]
["Boulder Ballast",null,null,null,null,null,null,null,null,null,null,0,{"$f":"(IF($A89=\"Behind\",-$J89,0))","v":0},null,"Extra Needed Vertical Resistance (lbf)",{"$f":"$P$83-$P$84","v":0},null,null,null,"Condition","Intercept Zone",null,"xTS (ft)","yTS (ft)","ysoil (ft)",null,null,null,"Condition","xTS (ft)","yTS (ft)","hTS,dry (ft)",null,null,40,6.4,"Left Bank",46.748128910727083,96.69714354839148,46.74020538230328,94.697219702263141,96.652168496392747,0,0,0,"","",0,1.9549487941296064,1.9549487941296064,0,0,0,0,0,1.9549487941296064,0.14200450880193988,0,0,0.16,6.4,0,0,"",5.552894529994262,0.12945490767216888,0.16,0,0.16,6.4,""]
["Position","Dr (ft)","cAr (ft)","Vr,dry (ft3)","Vr,wet (ft3)","Wr (lbf)","FL,r (lbf)","FD,r (lbf)","FA,Vr (lbf)","FA,Hr (lbf)",{"$f":"$I$72","v":4.9947493220428036},{"$f":"$L$82+$L$83+$L$84+$L$85","v":0},{"$f":"$M$82+$M$83+$M$84+$M$85","v":0},null,"Required Horizontal Resistance (lbf)",{"$f":"($L$66+(IF($L$69>0,$L$69,0)))*$L$72","v":1440.9170231582825},null,null,"Crown",{"$f":"IF(OR($E$22=\"\",$F$22=\"\",$F$25=\"\",$G$25=\"\"),\"\",IF($X$39<=$AE$12,\"Submerged\",IF($X$38>$AE$12,\"Dry\",\"Partial\")))","v":"Submerged"},{"$f":"IF($X$86=\"\",\"None\",IF($W$86<$B$14,\"Left Floodplain\",IF($W$86<$B$15,\"Left Bank\",IF($W$86<$B$16,\"Left Stream Bed\",IF($W$86<$B$17,\"Right Stream Bed\",IF($W$86<$B$18,\"Right Bank\",\"Right Floodplain\"))))))","v":"None"},{"$f":"IF($U$47=0,0,IF(OR($B$25=0,$B$25=180,$B$25=360),$E$22-ABS(($X$39-$W$47)/$M$20),IF(AND($U$38<=$U$39,$X$38>=$Y$38),ABS(($X$38-$W$47)/($AA$40*$M$17*$M$19)),IF(AND($U$38<=$U$39,$X$38<$Y$38),ABS($E$22-(ABS(($X$38-$W$47)/($AA$40*$M$17*$M$19)))),IF(AND($U$38>$U$39,$X$39>=$Y$39),ABS(($X$39-$W$47)/($AA$40*$M$17*$M$19)),IF(AND($U$38>=$U$39,$X$39<$Y$39),ABS($E$22-(ABS(($X$38-$W$47)/($AA$40*$M$17*$M$19))))))))))","v":0},{"$f":"IF($X$86=\"\",\"\",$U$39-(($X$39-$AE$8)/$AA$40))","v":""},{"$f":"IF($T$86=\"Partial\",$AE$12,\"\")","v":""},{"$f":"IF($X$86=\"\",\"\",IF($W$86<$B$14,(($W$86-$B$13)*$AB$31)+$C$13,IF($W$86<$B$15,(($W$86-$B$14)*$AB$32)+$C$14,IF($W$86<$B$16,(($W$86-$B$15)*$AB$33)+$C$15,IF($W$86<$B$17,(($W$86-$B$16)*$AB$34)+$C$16,IF($W$86<$B$18,(($W$86-$B$17)*$AB$35)+$C$17,IF($W$86<$B$19,(($W$86-$B$18)*$AB$36)+$C$18)))))))","v":""},{"$f":"IF($X$86=\"\",\"\",IF($X$86<=$Y$86,\"Yes\",\"No\"))","v":""},null,"Upper Face",{"$f":"IF($T$86=\"\",\"\",IF($X$41>$AE$8,\"Dry\",IF($T$86=\"Submerged\",\"Submerged\",\"Partial\")))","v":"Submerged"},{"$f":"IF($AE$86=\"\",\"\",$U$39-(($X$39-$AE$8)/$AB$40))","v":""},{"$f":"IF($AC$86=\"Partial\",$AE$12,\"\")","v":""},{"$f":"IF($AC$86=\"Submerged\",0,IF($AC$86=\"Dry\",$F$22,($X$39-$AE$8)/$M$19))","v":0},null,null,41,6.56,"Left Bank",46.820764624834666,96.695747302711737,46.812841096410864,94.695823456583398,96.641930319547114,0,0,0,"","",0,1.9461068629637168,1.9461068629637168,0,0,0,0,0,1.9461068629637168,0.1413622443621535,0,0,0.16,6.56,0,0,"",5.554290775674005,0.12931949548509247,0.16,0,0.16,6.56,""]
[null,null,null,{"$f":"IF(OR($B87=\"\",$C87=\"\"),\"\",(PI()*($B87^3)/6)-$E87)","v":""},{"$f":"IF($B87=\"\",\"\",$U94)","v":""},{"$f":"IF(OR($B87=\"\",$C87=\"\"),\"\",($D87*DUWRock)+($E87*(DUWRock-SWWater)))","v":""},{"$f":"IF(OR($B87=\"\",$C87=\"\"),\"\",$Q99)","v":""},{"$f":"IF(OR($B87=\"\",$C87=\"\"),\"\",$P99)","v":""},{"$f":"IF(OR($B87=\"\",$C87=\"\"),0,IF($A87=\"Behind\",0,IF(AND($A87=\"Deadman\",$P$85<=0),0,IF(AND($A87=\"Deadman\",$P$82>=$P$85),($F87-$G87)*($P$85/$P$82),$F87-$G87))))","v":0},{"$f":"IF(OR($B87=\"\",$C87=\"\"),0,IF($A87=\"Above\",0,IF($A87=\"Deadman\",($F87-$G87)-$I87,IF(AND($A87=\"Behind\",OR($W94=\"Left Stream Bed\",$W94=\"Right Stream Bed\")),(($F87-$G87)*$E$70)-$H87,(($F87-$G87)*$E$71)-$H87))))","v":0},{"$f":"'2-Constants'!$C$6","v":1.5},{"$f":"IF($J83=0,0,IF($P$85<=0,0,IF($P$82>=$P$85,-J$83*($P$85/$P$82),-$J83)))","v":0},{"$f":"-($J83+$L87)","v":0},null,"Actual Horizontal Resistance (lbf)",{"$f":"ABS($L$67+$L$68+(IF($L$69<0,$L$69,0))+$L$70)","v":4798.0128830265112},null,null,"Centerline",{"$f":"IF(OR($E$22=\"\",$F$22=\"\",$F$25=\"\",$G$25=\"\"),\"\",IF($X$43<=$AE$12,\"Submerged\",IF($X$42>=$AE$12,\"Dry\",\"Partial\")))","v":"Submerged"},{"$f":"IF($X$87=\"\",\"None\",IF($W$87<$B$14,\"Left Floodplain\",IF($W$87<$B$15,\"Left Bank\",IF($W$87<$B$16,\"Left Stream Bed\",IF($W$87<$B$17,\"Right Stream Bed\",IF($W$87<$B$18,\"Right Bank\",\"Right Floodplain\"))))))","v":"None"},{"$f":"IF($U$47=0,0,IF(OR($B$25=0,$B$25=180,$B$25=360),$E$22-ABS(($X$39-$W$47)/$M$20),IF(AND($U$38<=$U$39,$X$38>=$Y$38),ABS(($X$38-$W$47)/($AA$40*$M$17*$M$19)),IF(AND($U$38<=$U$39,$X$38<$Y$38),ABS($E$22-(ABS(($X$38-$W$47)/($AA$40*$M$17*$M$19)))),IF(AND($U$38>$U$39,$X$39>=$Y$39),ABS(($X$39-$W$47)/($AA$40*$M$17*$M$19)),IF(AND($U$38>=$U$39,$X$39<$Y$39),ABS($E$22-(ABS(($X$38-$W$47)/($AA$40*$M$17*$M$19))))))))))","v":0},{"$f":"IF($X$87=\"\",\"\",$U$43-(($X$43-$AE$8)/$AA$40))","v":""},{"$f":"IF($T$87=\"Partial\",$AE$12,\"\")","v":""},{"$f":"IF($X$87=\"\",\"\",IF($W$87<$B$14,(($W$87-$B$13)*$AB$31)+$C$13,IF($W$87<$B$15,(($W$87-$B$14)*$AB$32)+$C$14,IF($W$87<$B$16,(($W$87-$B$15)*$AB$33)+$C$15,IF($W$87<$B$17,(($W$87-$B$16)*$AB$34)+$C$16,IF($W$87<$B$18,(($W$87-$B$17)*$AB$35)+$C$17,IF($W$87<$B$19,(($W$87-$B$18)*$AB$36)+$C$18)))))))","v":""},{"$f":"IF($X$87=\"\",\"\",IF($X$87<=$Y$87,\"Yes\",\"No\"))","v":""},null,"Lower Face",{"$f":"IF($T$88=\"\",\"\",IF($X$40>=$AE$8,\"Dry\",IF($X$38<=$AE$8,\"Submerged\",\"Partial\")))","v":"Submerged"},{"$f":"IF($AE$87=\"\",\"\",$U$38-(($X$38-$AE$8)/$AB$40))","v":""},{"$f":"IF($AC$87=\"Partial\",$AE$12,\"\")","v":""},{"$f":"IF($AC$87=\"Submerged\",0,IF($AC$87=\"Dry\",$F$22,($X$38-$AE$8)/$M$19))","v":0},null,null,42,6.72,"Left Bank",46.893400338942257,96.694351057031994,46.885476810518455,94.694427210903655,96.631692142701468,0,0,0,"","",0,1.937264931797813,1.937264931797813,0,0,0,0,0,1.937264931797813,0.1407199799223661,0,0,0.16,6.72,0,0,"",5.5556870213537479,0.12918422494162582,0.16,0,0.16,6.72,""]
[null,null,null,{"$f":"IF(OR($B88=\"\",$C88=\"\"),\"\",(PI()*($B88^3)/6)-$E88)","v":""},{"$f":"IF($B88=\"\",\"\",$U95)","v":""},{"$f":"IF(OR($B88=\"\",$C88=\"\"),\"\",($D88*DUWRock)+($E88*(DUWRock-SWWater)))","v":""},{"$f":"IF(OR($B88=\"\",$C88=\"\"),\"\",$Q100)","v":""},{"$f":"IF(OR($B88=\"\",$C88=\"\"),\"\",$P100)","v":""},{"$f":"IF(OR($B88=\"\",$C88=\"\"),0,IF($A88=\"Behind\",0,IF(AND($A88=\"Deadman\",$P$85<=0),0,IF(AND($A88=\"Deadman\",$P$82>=$P$85),($F88-$G88)*($P$85/$P$82),$F88-$G88))))","v":0},{"$f":"IF(OR($B88=\"\",$C88=\"\"),0,IF($A88=\"Above\",0,IF($A88=\"Deadman\",($F88-$G88)-$I88,IF(AND($A88=\"Behind\",OR($W95=\"Left Stream Bed\",$W95=\"Right Stream Bed\")),(($F88-$G88)*$E$70)-$H88,(($F88-$G88)*$E$71)-$H88))))","v":0},null,{"$f":"IF($J84=0,0,IF($P$85<=0,0,IF($P$82>=$P$85,-J$84*($P$85/$P$82),-$J84)))","v":0},{"$f":"-($J84+$L88)","v":0},null,"Extra needed Horizontal Resistance (lbf)",{"$f":"$P$86-$P$87","v":-3357.0958598682287},null,null,"Bottom",{"$f":"IF(OR($E$22=\"\",$F$22=\"\",$F$25=\"\",$G$25=\"\"),\"\",IF($X$41<=$AE$12,\"Submerged\",IF($X$40>=$AE$12,\"Dry\",\"Partial\")))","v":"Submerged"},{"$f":"IF($X$88=\"\",\"None\",IF($W$88<$B$14,\"Left Floodplain\",IF($W$88<$B$15,\"Left Bank\",IF($W$88<$B$16,\"Left Stream Bed\",IF($W$88<$B$17,\"Right Stream Bed\",IF($W$88<$B$18,\"Right Bank\",\"Right Floodplain\"))))))","v":"None"},{"$f":"IF($U$47=0,0,IF(OR($B$25=0,$B$25=180,$B$25=360),$E$22-ABS(($X$39-$W$47)/$M$20),IF(AND($U$38<=$U$39,$X$38>=$Y$38),ABS(($X$38-$W$47)/($AA$40*$M$17*$M$19)),IF(AND($U$38<=$U$39,$X$38<$Y$38),ABS($E$22-(ABS(($X$38-$W$47)/($AA$40*$M$17*$M$19)))),IF(AND($U$38>$U$39,$X$39>=$Y$39),ABS(($X$39-$W$47)/($AA$40*$M$17*$M$19)),IF(AND($U$38>=$U$39,$X$39<$Y$39),ABS($E$22-(ABS(($X$38-$W$47)/($AA$40*$M$17*$M$19))))))))))","v":0},{"$f":"IF($X$88=\"\",\"\",$U$41-(($X$41-$AE$8)/$AA$40))","v":""},{"$f":"IF($T$88=\"Partial\",$AE$12,\"\")","v":""},{"$f":"IF($X$88=\"\",\"\",IF($W$88<$B$14,(($W$88-$B$13)*$AB$31)+$C$13,IF($W$88<$B$15,(($W$88-$B$14)*$AB$32)+$C$14,IF($W$88<$B$16,(($W$88-$B$15)*$AB$33)+$C$15,IF($W$88<$B$17,(($W$88-$B$16)*$AB$34)+$C$16,IF($W$88<$B$18,(($W$88-$B$17)*$AB$35)+$C$17,IF($W$88<$B$19,(($W$88-$B$18)*$AB$36)+$C$18)))))))","v":""},{"$f":"IF($X$88=\"\",\"\",IF($X$88<=$Y$88,\"Yes\",\"No\"))","v":""},null,null,null,null,null,null,null,null,43,6.88,"Left Bank",46.966036053049841,96.692954811352251,46.958112524626038,94.693030965223912,96.621453965855835,0,0,0,"","",0,1.9284230006319234,1.9284230006319234,0,0,0,0,0,1.9284230006319234,0.14007771548257969,0,0,0.16,6.88,0,0,"",5.5570832670334909,0.12904909589360694,0.16,0,0.16,6.88,""]
[null,null,null,{"$f":"IF(OR($B89=\"\",$C89=\"\"),\"\",(PI()*($B89^3)/6)-$E89)","v":""},{"$f":"IF($B89=\"\",\"\",$U96)","v":""},{"$f":"IF(OR($B89=\"\",$C89=\"\"),\"\",($D89*DUWRock)+($E89*(DUWRock-SWWater)))","v":""},{"$f":"IF(OR($B89=\"\",$C89=\"\"),\"\",$Q101)","v":""},"",{"$f":"IF(OR($B89=\"\",$C89=\"\"),0,IF($A89=\"Behind\",0,IF(AND($A89=\"Deadman\",$P$85<=0),0,IF(AND($A89=\"Deadman\",$P$82>=$P$85),($F89-$G89)*($P$85/$P$82),$F89-$G89))))","v":0},{"$f":"IF(OR($B89=\"\",$C89=\"\"),0,IF($A89=\"Above\",0,IF($A89=\"Deadman\",($F89-$G89)-$I89,IF(AND($A89=\"Behind\",OR($W96=\"Left Stream Bed\",$W96=\"Right Stream Bed\")),(($F89-$G89)*$E$70)-$H89,(($F89-$G89)*$E$71)-$H89))))","v":0},{"$f":"I78","v":2.269315661484065},{"$f":"-$I87","v":0},{"$f":"IF($A87=\"Deadman\",-$J87,0)","v":0},null,null,null,null,null,null,null,null,null,null,null,null,null,null,null,null,null,null,null,null,null,44,7.04,"Left Bank",47.038671767157432,96.691558565672509,47.030748238733629,94.691634719544169,96.611215789010188,0,0,0,"","",0,1.9195810694660196,1.9195810694660196,0,0,0,0,0,1.9195810694660196,0.13943545104279226,0,0,0.16,7.04,0,0,"",5.5584795127132338,0.12891410819302906,0.16,0,0.16,7.04,""]
[null,null,null,null,null,null,null,null,null,null,{"$f":"'2-Constants'!$C$7","v":1.5},{"$f":"-$I88","v":0},{"$f":"IF($A88=\"Deadman\",-$J88,0)","v":0},null,null,null,null,null,null,null,null,null,null,null,null,null,null,null,null,null,null,null,null,null,45,7.2,"Left Bank",47.111307481265015,96.690162319992766,47.103383952841213,94.690238473864426,96.600977612164542,0,0,0,"","",0,1.9107391383001158,1.9107391383001158,0,0,0,0,0,1.9107391383001158,0.13879318660300485,0,0,0.16,7.2,0,0,"",5.5598757583929768,0.12877926169204026,0.16,0,0.16,7.2,""]
[{"$f":"IF($A$6=\"\",\"\",$A$6)","v":"Sample1"},{"$f":"IF($A$6=\"\",\"\",$B$6)","v":"Flow Deflection"},null,{"$f":"IF(OR($B$9=\"N/A\",$B$9=\"\"),\"\",$B$9)","v":"Stacked"},{"$f":"IF($D$48=\"\",\"\",\"Log ID\")","v":"Log ID"},{"$f":"IF($D$48=\"\",\"\",$C$9)","v":"Top#2"},null,null,null,"Page 3",null,{"$f":"-$I89","v":0},{"$f":"IF($A89=\"Deadman\",-$J89,0)","v":0},null,null,null,null,null,null,null,"A = [(R - ddry)*SQRT(2Rddry - ddry2)] - R2 arccos [(R - ddry)/R]",null,null,null,null,null,null,"Boulder #1",null,"Boulder #2",null,"Boulder #3",null,null,46,7.36,"Left Bank",47.183943195372606,96.688766074313023,47.176019666948804,94.688842228184683,96.590739435318909,0,0,0,"","",0,1.9018972071342262,1.9018972071342262,0,0,0,0,0,1.9018972071342262,0.13815092216321848,0,0,0.16,7.36,0,0,"",5.5612720040727197,0.12864455624294316,0.16,0,0.16,7.36,""]
["Interaction Forces with Adjacent Logs",null,null,null,null,null,null,null,null,null,null,{"$f":"$L$87+$L$88+$L$89+$L$90+$L$91","v":0},{"$f":"$M$87+$M$88+$M$89+$M$90+$M$91","v":0},"←Flex anchors","Ballast Boulder Calculations",null,null,null,null,null,null,null,null,null,null,null,null,"xTS (ft)","yTS (ft)","xTS (ft)","yTS (ft)","xTS (ft)","yTS (ft)",null,47,7.52,"Left Bank",47.25657890948019,96.68736982863328,47.248655381056388,94.68744598250494,96.580501258473262,0,0,0,"","",0,1.8930552759683223,1.8930552759683223,0,0,0,0,0,1.8930552759683223,0.13750865772343104,0,0,0.16,7.52,0,0,"",5.5626682497524627,0.12850999169819505,0.16,0,0.16,7.52,""]
[null,null,null,null,null,null,"Applied Forces from other Logs",null,null,null,{"$f":"IF(OR($B$95<>\"\",$B$96<>\"\",$B$97<>\"\",$B$98<>\"\"),\"NOTE -- The page is not formatted to print the Interaction Forces\",\"\")","v":"NOTE -- The page is not formatted to print the Interaction Forces"},null,null,null,null,"xr,bot (ft)","yr,bot (ft)","yTS,bot (ft)","ysoil (ft)","dr,dry (ft)","Vr,wet (ft3)","Ar↑WSE (ft2)","Zone","dr↓Thw (ft)","Ar↓Thw (ft2)","APr (ft2)","Point 1",{"$f":"IF($P$94=\"\",0,$P$94)","v":0},{"$f":"IF($Q$94=\"\",$C$13,$Q$94)","v":99.18},{"$f":"IF($P$95=\"\",0,$P$95)","v":0},{"$f":"IF($Q$95=\"\",$C$13,$Q$95)","v":99.18},{"$f":"IF($P$96=\"\",0,$P$96)","v":0},{"$f":"IF($Q$96=\"\",$C$13,$Q$96)","v":99.18},null,48,7.68,"Left Bank",47.329214623587781,96.685973582953537,47.321291095163978,94.686049736825197,96.57026308162763,0,0,0,"","",0,1.8842133448024327,1.8842133448024327,0,0,0,0,0,1.8842133448024327,0.13686639328364467,0,0,0.16,7.68,0,0,"",5.5640644954322056,0.12837556791040716,0.16,0,0.16,7.68,""]
["Log ID","Position","Link","cWI (ft)","FW,V (lbf)","FW,H (lbf)","FW,V (lbf)",null,"FW,H (lbf)",null,null,"Formatting",null,null,"Boulder 1",{"$f":"IF(OR($F$25=\"\",$C87=\"\"),\"\",$AE$49-(($C87*$M$19)*$M$17))","v":""},{"$f":"IF(OR($G$25=\"\",$C87=\"\"),\"\",IF($A87=\"Behind\",MIN($R94,$S94),IF($A87=\"Deadman\",(MIN($R94,$S94))-($F$22+1),$R94+$F$22)))","v":""},{"$f":"IF($P94=\"\",\"\",($AF$49+(($P94-$AE$49)*$AA$40))-($F$22/2))","v":""},{"$f":"IF($P94=\"\",\"\",IF($P94<$B$14,(($P94-$B$13)*$AB$31)+$C$13,IF($P94<$B$15,(($P94-$B$14)*$AB$32)+$C$14,IF($P94<$B$16,(($P94-$B$15)*$AB$33)+$C$15,IF($P94<$B$17,(($P94-$B$16)*$AB$34)+$C$16,IF($P94<$B$18,(($P94-$B$17)*$AB$35)+$C$17,IF($P94<$B$19,(($P94-$B$18)*$AB$36)+$C$18)))))))","v":""},{"$f":"IF($Q94=\"\",\"\",IF(($Q94+$B87-$AE$8)>=$B87,$B87,IF(($Q94+$B87)>$AE$8,($Q94+$B87)-$AE$8,0)))","v":""},{"$f":"IF($T94=\"\",\"\",IF($T94>=$B87,0,(PI()/3)*(($B87-$T94)^2)*((1.5*$B87)-($B87-$T94))))","v":""},{"$f":"IF($C87=\"\",\"\",IF($A87=\"Deadman\",0,IF($Q94>=$AE$8,PI()*(($B87/2)^2),((($B87/2)^2)*ACOS((($B87/2)-$T94)/($B87/2)))-((($B87/2)-$T94)*SQRT(2*($B87/2)*$T94-($T94^2))))))","v":""},{"$f":"IF($P94=\"\",\"\",IF(OR($C$19=\"\",$F$25=\"\",$G$25=\"\"),\"None\",IF($P94<$B$14,\"Left Floodplain\",IF($P94<$B$15,\"Left Bank\",IF($P94<$B$16,\"Left Stream Bed\",IF($P94<$B$17,\"Right Stream Bed\",IF($P94<$B$18,\"Right Bank\",\"Right Floodplain\")))))))","v":""},{"$f":"IF($Q94=\"\",\"\",IF(($Q94+$B87)<=$S94,$B87,IF($Q94>=$S94,0,$S94-$Q94)))","v":""},{"$f":"IF($C87=\"\",\"\",IF($A87=\"Deadman\",PI()*(($B87/2)^2),IF($Q94>$S94,0,((($B87/2)^2)*ACOS((($B87/2)-$X94)/($B87/2)))-((($B87/2)-$X94)*SQRT(2*($B87/2)*$X94-($X94^2))))))","v":""},{"$f":"IF($C87=\"\",\"\",IF(((PI()*(($B87/2)^2))-$V94-$Y94)<0,0,(PI()*(($B87/2)^2))-$V94-$Y94))","v":""},"Point 2",{"$f":"IF($AB$93=\"\",0,$AB$93-($B$87/4))","v":0},{"$f":"IF($AC$93=\"\",$C$13,$AC$93+($B$87/25))","v":99.18},{"$f":"IF($AD$93=\"\",0,$AD$93-($B$88/4))","v":0},{"$f":"IF($AE$93=\"\",$C$13,$AE$93+($B$88/25))","v":99.18},{"$f":"IF($AF$93=\"\",0,$AF$93-($B$89/4))","v":0},{"$f":"IF($AG$93=\"\",$C$13,$AG$93+($B$89/25))","v":99.18},null,49,7.84,"Left Bank",47.401850337695365,96.684577337273794,47.393926809271562,94.684653491145454,96.560024904781983,0,0,0,"","",0,1.8753714136365289,1.8753714136365289,0,0,0,0,0,1.8753714136365289,0.13622412884385726,0,0,0.16,7.84,0,0,"",5.5654607411119486,0.12824128473234531,0.16,0,0.16,7.84,""]
["Foot#1","Below","Pinned",25.9,{"$f":"-'Foot#1'!E96","v":-3556.444698436937},{"$f":"-'Foot#1'!F96","v":-543.37790378722093},{"$f":"IF(OR($E$95=\"\",$E$95=0),0,IF($C$95=\"Pinned\",ABS($E$95),IF(AND($C$95=\"Gravity\",$B$95=\"Below\",$E$95>=0),ABS($E$95),IF(AND($C$95=\"Gravity\",$B$95=\"Above\",$E$95<=0),ABS($E$95),0))))","v":3556.444698436937},{"$f":"IF($L$95=0,\"\",IF($L$95>0,CHAR(233),CHAR(234)))","v":"ê"},{"$f":"IF(OR($F$95=\"\",$F$95=0),0,IF($C$95=\"Pinned\",ABS($F$95),IF(AND($C$95=\"Gravity\",$B$95=\"Behind\",$F$95<0),ABS($F$95),IF(AND($C$95=\"Gravity\",$B$95=\"In front\",$F$95>0),ABS($F$95),0))))","v":543.37790378722093},{"$f":"IF($M$95=0,\"\",IF($M$95>=0,CHAR(232),CHAR(231)))","v":"ç"},null,{"$f":"IF($G$95=0,0,$E$95)","v":-3556.444698436937},{"$f":"IF($I$95=0,0,$F$95)","v":-543.37790378722093},null,"Boulder 2",{"$f":"IF(OR($F$25=\"\",$C88=\"\"),\"\",$AE$49-(($C88*$M$19)*$M$17))","v":""},{"$f":"IF(OR($G$25=\"\",$C88=\"\"),\"\",IF($A88=\"Behind\",MIN($R95,$S95),IF($A88=\"Deadman\",(MIN($R95,$S95))-($F$22+1),$R95+$F$22)))","v":""},{"$f":"IF($P95=\"\",\"\",($AF$49+(($P95-$AE$49)*$AA$40))-($F$22/2))","v":""},{"$f":"IF($P95=\"\",\"\",IF($P95<$B$14,(($P95-$B$13)*$AB$31)+$C$13,IF($P95<$B$15,(($P95-$B$14)*$AB$32)+$C$14,IF($P95<$B$16,(($P95-$B$15)*$AB$33)+$C$15,IF($P95<$B$17,(($P95-$B$16)*$AB$34)+$C$16,IF($P95<$B$18,(($P95-$B$17)*$AB$35)+$C$17,IF($P95<$B$19,(($P95-$B$18)*$AB$36)+$C$18)))))))","v":""},{"$f":"IF($Q95=\"\",\"\",IF(($Q95+$B88-$AE$8)>=$B88,$B88,IF(($Q95+$B88)>$AE$8,($Q95+$B88)-$AE$8,0)))","v":""},{"$f":"IF($T95=\"\",\"\",IF($T95>=$B88,0,(PI()/3)*(($B88-$T95)^2)*((1.5*$B88)-($B88-$T95))))","v":""},{"$f":"IF($C88=\"\",\"\",IF($A88=\"Deadman\",0,IF($Q95>=$AE$8,PI()*(($B88/2)^2),((($B88/2)^2)*ACOS((($B88/2)-$T95)/($B88/2)))-((($B88/2)-$T95)*SQRT(2*($B88/2)*$T95-($T95^2))))))","v":""},{"$f":"IF($P95=\"\",\"\",IF(OR($C$19=\"\",$F$25=\"\",$G$25=\"\"),\"None\",IF($P95<$B$14,\"Left Floodplain\",IF($P95<$B$15,\"Left Bank\",IF($P95<$B$16,\"Left Stream Bed\",IF($P95<$B$17,\"Right Stream Bed\",IF($P95<$B$18,\"Right Bank\",\"Right Floodplain\")))))))","v":""},{"$f":"IF($Q95=\"\",\"\",IF(($Q95+$B88)<=$S95,$B88,IF($Q95>=$S95,0,$S95-$Q95)))","v":""},{"$f":"IF($C88=\"\",\"\",IF($A88=\"Deadman\",PI()*(($B88/2)^2),IF($Q95>$S95,0,((($B88/2)^2)*ACOS((($B88/2)-$X95)/($B88/2)))-((($B88/2)-$X95)*SQRT(2*($B88/2)*$X95-($X95^2))))))","v":""},{"$f":"IF($C88=\"\",\"\",IF(((PI()*(($B88/2)^2))-$V95-$Y95)<0,0,(PI()*(($B88/2)^2))-$V95-$Y95))","v":""},"Point 3",{"$f":"IF($AB$93=\"\",0,$AB$93-($B$87/2))","v":0},{"$f":"IF($AC$93=\"\",$C$13,$AC$93+($B$87/2))","v":99.18},{"$f":"IF($AD$93=\"\",0,$AD$93-($B$88/2))","v":0},{"$f":"IF($AE$93=\"\",$C$13,$AE$93+($B$88/2))","v":99.18},{"$f":"IF($AF$93=\"\",0,$AF$93-($B$89/2))","v":0},{"$f":"IF($AG$93=\"\",$C$13,$AG$93+($B$89/2))","v":99.18},null,50,8,"Left Bank",47.474486051802955,96.683181091594051,47.466562523379153,94.683257245465711,96.54978672793635,0,0,0,"","",0,1.8665294824706393,1.8665294824706393,0,0,0,0,0,1.8665294824706393,0.13558186440407088,0,0,0.16,8,0,0,"",5.5668569867916915,0.12810714201692913,0.16,0,0.16,8,""]
["Foot#2","Below","Pinned",16.2,{"$f":"-'Foot#2'!E96","v":-3556.444698436937},{"$f":"-'Foot#2'!F96","v":-543.37790378722093},{"$f":"IF(OR($E$96=\"\",$E$96=0),0,IF($C$96=\"Pinned\",ABS($E$96),IF(AND($C$96=\"Gravity\",$B$96=\"Below\",$E$96>=0),ABS($E$96),IF(AND($C$96=\"Gravity\",$B$96=\"Above\",$E$96<=0),ABS($E$96),0))))","v":3556.444698436937},{"$f":"IF($L$96=0,\"\",IF($L$96>0,CHAR(233),CHAR(234)))","v":"ê"},{"$f":"IF(OR($F$96=\"\",$F$96=0),0,IF($C$96=\"Pinned\",ABS($F$96),IF(AND($C$96=\"Gravity\",$B$96=\"Behind\",$F$96<0),ABS($F$96),IF(AND($C$96=\"Gravity\",$B$96=\"In front\",$F$96>0),ABS($F$96),0))))","v":543.37790378722093},{"$f":"IF($M$96=0,\"\",IF($M$96>=0,CHAR(232),CHAR(231)))","v":"ç"},null,{"$f":"IF($G$96=0,0,$E$96)","v":-3556.444698436937},{"$f":"IF($I$96=0,0,$F$96)","v":-543.37790378722093},null,"Boulder 3",{"$f":"IF(OR($F$25=\"\",$C89=\"\"),\"\",$AE$49-(($C89*$M$19)*$M$17))","v":""},{"$f":"IF(OR($G$25=\"\",$C89=\"\"),\"\",IF($A89=\"Behind\",MIN($R96,$S96),IF($A89=\"Deadman\",(MIN($R96,$S96))-($F$22+1),$R96+$F$22)))","v":""},{"$f":"IF($P96=\"\",\"\",($AF$49+(($P96-$AE$49)*$AA$40))-($F$22/2))","v":""},{"$f":"IF($P96=\"\",\"\",IF($P96<$B$14,(($P96-$B$13)*$AB$31)+$C$13,IF($P96<$B$15,(($P96-$B$14)*$AB$32)+$C$14,IF($P96<$B$16,(($P96-$B$15)*$AB$33)+$C$15,IF($P96<$B$17,(($P96-$B$16)*$AB$34)+$C$16,IF($P96<$B$18,(($P96-$B$17)*$AB$35)+$C$17,IF($P96<$B$19,(($P96-$B$18)*$AB$36)+$C$18)))))))","v":""},{"$f":"IF($Q96=\"\",\"\",IF(($Q96+$B89-$AE$8)>=$B89,$B89,IF(($Q96+$B89)>$AE$8,($Q96+$B89)-$AE$8,0)))","v":""},{"$f":"IF($T96=\"\",\"\",IF($T96>=$B89,0,(PI()/3)*(($B89-$T96)^2)*((1.5*$B89)-($B89-$T96))))","v":""},{"$f":"IF($C89=\"\",\"\",IF($A89=\"Deadman\",0,IF($Q96>=$AE$8,PI()*(($B89/2)^2),((($B89/2)^2)*ACOS((($B89/2)-$T96)/($B89/2)))-((($B89/2)-$T96)*SQRT(2*($B89/2)*$T96-($T96^2))))))","v":""},{"$f":"IF($P96=\"\",\"\",IF(OR($C$19=\"\",$F$25=\"\",$G$25=\"\"),\"None\",IF($P96<$B$14,\"Left Floodplain\",IF($P96<$B$15,\"Left Bank\",IF($P96<$B$16,\"Left Stream Bed\",IF($P96<$B$17,\"Right Stream Bed\",IF($P96<$B$18,\"Right Bank\",\"Right Floodplain\")))))))","v":""},{"$f":"IF($Q96=\"\",\"\",IF(($Q96+$B89)<=$S96,$B89,IF($Q96>=$S96,0,$S96-$Q96)))","v":""},{"$f":"IF($C89=\"\",\"\",IF($A89=\"Deadman\",PI()*(($B89/2)^2),IF($Q96>$S96,0,((($B89/2)^2)*ACOS((($B89/2)-$X96)/($B89/2)))-((($B89/2)-$X96)*SQRT(2*($B89/2)*$X96-($X96^2))))))","v":""},{"$f":"IF($C89=\"\",\"\",IF(((PI()*(($B89/2)^2))-$V96-$Y96)<0,0,(PI()*(($B89/2)^2))-$V96-$Y96))","v":""},"Point 4",{"$f":"IF($AB$93=\"\",0,$AB$94)","v":0},{"$f":"IF($AC$97=\"\",$C$13,$AC$97-($B$87/25))","v":99.18},{"$f":"IF($AD$93=\"\",0,$AD$94)","v":0},{"$f":"IF($AE$97=\"\",$C$13,$AE$97-($B$88/25))","v":99.18},{"$f":"IF($AF$93=\"\",0,$AF$94)","v":0},{"$f":"IF($AG$97=\"\",$C$13,$AG$97-($B$89/25))","v":99.18},null,51,8.16,"Left Bank",47.547121765910539,96.681784845914308,47.539198237486737,94.681860999785968,96.539548551090704,0,0,0,"","",0,1.8576875513047355,1.8576875513047355,0,0,0,0,0,1.8576875513047355,0.13493959996428345,0,0,0.16,8.16,0,0,"",5.5682532324714344,0.12797313961723228,0.16,0,0.16,8.16,""]
[null,null,null,null,null,null,{"$f":"IF(OR($E$97=\"\",$E$97=0),0,IF($C$97=\"Pinned\",ABS($E$97),IF(AND($C$97=\"Gravity\",$B$97=\"Below\",$E$97>=0),ABS($E$97),IF(AND($C$97=\"Gravity\",$B$97=\"Above\",$E$97<=0),ABS($E$97),0))))","v":0},{"$f":"IF($L$97=0,\"\",IF($L$97>0,CHAR(233),CHAR(234)))","v":""},{"$f":"IF(OR($F$97=\"\",$F$97=0),0,IF($C$97=\"Pinned\",ABS($F$97),IF(AND($C$97=\"Gravity\",$B$97=\"Behind\",$F$97<0),ABS($F$97),IF(AND($C$97=\"Gravity\",$B$97=\"In front\",$F$97>0),ABS($F$97),0))))","v":0},{"$f":"IF($M$97=0,\"\",IF($M$97>=0,CHAR(232),CHAR(231)))","v":""},null,{"$f":"IF($G$97=0,0,$E$97)","v":0},{"$f":"IF($I$97=0,0,$F$97)","v":0},null,null,null,null,null,null,null,null,null,null,null,null,null,"Point 5",{"$f":"IF($AB$93=\"\",0,$AB$93)","v":0},{"$f":"IF($AC$93=\"\",$C$13,$AC$93+$B$87)","v":99.18},{"$f":"IF($AD$93=\"\",0,$AD$93)","v":0},{"$f":"IF($AE$93=\"\",$C$13,$AE$93+$B$88)","v":99.18},{"$f":"IF($AF$93=\"\",0,$AF$93)","v":0},{"$f":"IF($AG$93=\"\",$C$13,$AG$93+$B$89)","v":99.18},null,52,8.32,"Left Bank",47.61975748001813,96.680388600234565,47.611833951594328,94.680464754106225,96.529310374245057,0,0,0,"","",0,1.8488456201388317,1.8488456201388317,0,0,0,0,0,1.8488456201388317,0.13429733552449605,0,0,0.16,8.32,0,0,"",5.5696494781511774,0.12783927738648174,0.16,0,0.16,8.32,""]
[null,null,null,null,null,null,{"$f":"IF(OR($E$98=\"\",$E$98=0),0,IF($C$98=\"Pinned\",ABS($E$98),IF(AND($C$98=\"Gravity\",$B$98=\"Below\",$E$98>=0),ABS($E$98),IF(AND($C$98=\"Gravity\",$B$98=\"Above\",$E$98<=0),ABS($E$98),0))))","v":0},{"$f":"IF($L$98=0,\"\",IF($L$98>0,CHAR(233),CHAR(234)))","v":""},{"$f":"IF(OR($F$98=\"\",$F$98=0),0,IF($C$98=\"Pinned\",ABS($F$98),IF(AND($C$98=\"Gravity\",$B$98=\"Behind\",$F$98<0),ABS($F$98),IF(AND($C$98=\"Gravity\",$B$98=\"In front\",$F$98>0),ABS($F$98),0))))","v":0},{"$f":"IF($M$98=0,\"\",IF($M$98>=0,CHAR(232),CHAR(231)))","v":""},null,{"$f":"IF($G$98=0,0,$E$98)","v":0},{"$f":"IF($I$98=0,0,$F$98)","v":0},null,null,"FD,r (lbf)","FL,r (lbf)",null,null,null,"Soil Anchor Zone Calculation",null,null,null,null,null,"Point 6",{"$f":"IF($AB$93=\"\",0,$AB$93+($B$87/4))","v":0},{"$f":"IF($AC$93=\"\",$C$13,$AC$96)","v":99.18},{"$f":"IF($AD$93=\"\",\"\",$AD$93+($B$88/4))","v":0},{"$f":"IF($AE$93=\"\",$C$13,$AE$96)","v":99.18},{"$f":"IF($AF$93=\"\",0,$AF$93+($B$89/4))","v":0},{"$f":"IF($AG$93=\"\",$C$13,$AG$96)","v":99.18},null,53,8.48,"Left Bank",47.692393194125714,96.678992354554822,47.684469665701911,94.679068508426482,96.519072197399424,0,0,0,"","",0,1.8400036889729421,1.8400036889729421,0,0,0,0,0,1.8400036889729421,0.13365507108470967,0,0,0.16,8.48,0,0,"",5.5710457238309203,0.12770555517805834,0.16,0,0.16,8.48,""]
[null,null,null,null,null,null,null,null,null,null,null,{"$f":"$L$95+$L$96+$L$97+$L$98","v":-7112.8893968738739},{"$f":"$M$95+$M$96+$M$97+$M$98","v":-1086.7558075744419},null,"Boulder 1",{"$f":"IF(OR($F$25=\"\",$C87=\"\"),\"\",IF($A87=\"Behind\",0.5*CDrock*$Z94*SWWater*($J$6^2)/(2*g),CDrock*$Z94*SWWater*($J$6^2)/(2*g)))","v":""},{"$f":"IF(OR($F$25=\"\",$C87=\"\"),\"\",IF($A87=\"Behind\",0.5*CLrock*$Z94*SWWater*(($J$6^2)/(2*g)),CLrock*$Z94*SWWater*(($J$6^2)/(2*g))))","v":""},null,null,null,null,"xr,bot (ft)","Zone",null,null,null,"Point 7",{"$f":"IF($AB$93=\"\",0,$AB$93+($B$87/2))","v":0},{"$f":"IF($AC$93=\"\",$C$13,$AC$95)","v":99.18},{"$f":"IF($AD$93=\"\",0,$AD$93+($B$88/2))","v":0},{"$f":"IF($AE$93=\"\",$C$13,$AE$95)","v":99.18},{"$f":"IF($AF$93=\"\",\"\",$AF$93+($B$89/2))","v":0},{"$f":"IF($AG$93=\"\",$C$13,$AG$95)","v":99.18},null,54,8.64,"Left Bank",47.765028908233305,96.677596108875079,47.757105379809502,94.677672262746739,96.508834020553778,0,0,0,"","",0,1.8311617578070383,1.8311617578070383,0,0,0,0,0,1.8311617578070383,0.13301280664492224,0,0,0.16,8.64,0,0,"",5.5724419695106633,0.12757197284549618,0.16,0,0.16,8.64,""]
[null,null,null,null,null,null,null,null,null,null,null,null,null,null,"Boulder 2",{"$f":"IF(OR($F$25=\"\",$C88=\"\"),\"\",IF($A88=\"Behind\",0.5*CDrock*$Z95*SWWater*($J$6^2)/(2*g),CDrock*$Z95*SWWater*($J$6^2)/(2*g)))","v":""},{"$f":"IF(OR($F$25=\"\",$C88=\"\"),\"\",IF($A88=\"Behind\",0.5*CLrock*$Z95*SWWater*(($J$6^2)/(2*g)),CLrock*$Z95*SWWater*(($J$6^2)/(2*g))))","v":""},null,null,null,"Anchor 1",{"$f":"IF(OR($F$25=\"\",$H83=\"\"),\"\",$AE$49-(($H83*$M$19)*$M$17))","v":""},{"$f":"IF($V100=\"\",\"\",IF(OR($C$19=\"\",$F$25=\"\",$G$25=\"\"),\"None\",IF($V100<$B$14,\"Bank\",IF($V100<$B$15,\"Bank\",IF($V100<$B$16,\"Bed\",IF($V100<$B$17,\"Bed\",IF($V100<$B$18,\"Bank\",\"Bank\")))))))","v":""},null,null,null,"Point 8",{"$f":"IF($AB$93=\"\",0,$AB$98)","v":0},{"$f":"IF($AC$93=\"\",$C$13,$AC$94)","v":99.18},{"$f":"IF($AD$93=\"\",0,$AD$98)","v":0},{"$f":"IF($AE$93=\"\",$C$13,$AE$94)","v":99.18},{"$f":"IF($AF$93=\"\",0,$AF$98)","v":0},{"$f":"IF($AG$93=\"\",$C$13,$AG$94)","v":99.18},null,55,8.8000000000000007,"Left Bank",47.837664622340895,96.676199863195336,47.829741093917093,94.676276017066996,96.498595843708145,0,0,0,"","",0,1.8223198266411487,1.8223198266411487,0,0,0,0,0,1.8223198266411487,0.13237054220513586,0,0,0.16,8.8000000000000007,0,0,"",5.5738382151904062,0.12743853024248258,0.16,0,0.16,8.8000000000000007,""]
[null,null,null,null,null,null,null,null,null,null,null,null,null,null,"Boulder 3",{"$f":"IF(OR($F$25=\"\",$C89=\"\"),\"\",IF($A89=\"Behind\",0.5*CDrock*$Z96*SWWater*($J$6^2)/(2*g),CDrock*$Z96*SWWater*($J$6^2)/(2*g)))","v":""},{"$f":"IF(OR($F$25=\"\",$C89=\"\"),\"\",IF($A89=\"Behind\",0.5*CLrock*$Z96*SWWater*(($J$6^2)/(2*g)),CLrock*$Z96*SWWater*(($J$6^2)/(2*g))))","v":""},null,null,null,"Anchor 2",{"$f":"IF(OR($F$25=\"\",$H84=\"\"),\"\",$AE$49-(($H84*$M$19)*$M$17))","v":""},{"$f":"IF($V101=\"\",\"\",IF(OR($C$19=\"\",$F$25=\"\",$G$25=\"\"),\"None\",IF($V101<$B$14,\"Bank\",IF($V101<$B$15,\"Bank\",IF($V101<$B$16,\"Bed\",IF($V101<$B$17,\"Bed\",IF($V101<$B$18,\"Bank\",\"Bank\")))))))","v":""},null,null,null,"Point 9",{"$f":"IF($AB$93=\"\",0,$AB$93)","v":0},{"$f":"IF($AC$93=\"\",$C$13,$AC$93)","v":99.18},{"$f":"IF($AD$93=\"\",0,$AD$93)","v":0},{"$f":"IF($AE$93=\"\",$C$13,$AE$93)","v":99.18},{"$f":"IF($AF$93=\"\",0,$AF$93)","v":0},{"$f":"IF($AG$93=\"\",$C$13,$AG$93)","v":99.18},null,56,8.9600000000000009,"Left Bank",47.910300336448479,96.674803617515593,47.902376808024677,94.674879771387253,96.488357666862498,0,0,0,"","",0,1.8134778954752448,1.8134778954752448,0,0,0,0,0,1.8134778954752448,0.13172827776534846,0,0,0.16,8.9600000000000009,0,0,"",5.5752344608701492,0.12730522722285798,0.16,0,0.16,8.9600000000000009,""]
[null,null,null,null,null,null,null,null,null,null,null,null,null,null,null,null,null,null,null,null,null,null,null,null,null,null,null,null,null,null,null,null,null,null,57,9.1199999999999992,"Left Bank",47.982936050556063,96.67340737183585,47.975012522132261,94.67348352570751,96.478119490016852,0,0,0,"","",0,1.804635964309341,1.804635964309341,0,0,0,0,0,1.804635964309341,0.13108601332556102,0,0,0.16,9.1199999999999992,0,0,"",5.5766307065498921,0.12717206364061542,0.16,0,0.16,9.1199999999999992,""]
[null,null,null,null,null,null,null,null,null,null,null,null,null,null,null,null,null,null,null,null,null,null,null,null,null,null,null,"Anchor #1",null,null,null,"Soil Ballast #1",null,null,58,9.2799999999999994,"Left Bank",48.055571764663654,96.672011126156107,48.047648236239851,94.672087280027768,96.467881313171219,0,0,0,"","",0,1.7957940331434514,1.7957940331434514,0,0,0,0,0,1.7957940331434514,0.13044374888577465,0,0,0.16,9.2799999999999994,0,0,"",5.5780269522296351,0.12703903934990099,0.16,0,0.16,9.2799999999999994,""]
[null,null,null,null,null,null,null,null,null,null,null,null,null,null,null,null,null,null,null,null,null,null,null,null,null,null,null,"xTS (ft)","yTS (ft)",null,null,"xTS (ft)","yTS (ft)",null,59,9.44,"Left Bank",48.128207478771238,96.670614880476364,48.120283950347435,94.670691034348025,96.457643136325572,0,0,0,"","",0,1.7869521019775476,1.7869521019775476,0,0,0,0,0,1.7869521019775476,0.12980148444598724,0,0,0.16,9.44,0,0,"",5.579423197909378,0.12690615420501317,0.16,0,0.16,9.44,""]
[null,null,null,null,null,null,null,null,null,null,null,null,null,null,null,null,null,null,null,null,null,null,null,null,null,null,"Point 1",{"$f":"IF(OR($F$25=\"\",$H83=\"\"),0,$AE$49-(($H83*$M$19)*$M$17))","v":0},{"$f":"IF(OR($AB105=\"\",$AB$105=0),$C$13,($AF$49+(($AB105-$AE$49)*$AA$40))-($F$22/2))","v":99.18},null,"Point 1",{"$f":"IF(OR($F$25=\"\",$C83=\"\"),0,($AE$49-(($C83*$M$19)*$M$17))+(ABS(2*$M$17*$M$19)))","v":0},{"$f":"IF(OR($AF105=\"\",$AF$105=0),$C$13,($AF$49+(($AF105-$AE$49)*$AA$40))+($F$22/2))","v":99.18},null,60,9.6,"Left Bank",48.200843192878828,96.669218634796621,48.192919664455026,94.669294788668282,96.44740495947994,0,0,0,"","",0,1.778110170811658,1.778110170811658,0,0,0,0,0,1.778110170811658,0.12915922000620086,0,0,0.16,9.6,0,0,"",5.580819443589121,0.12677340806040291,0.16,0,0.16,9.6,""]
[null,null,null,null,null,null,null,null,null,null,null,null,null,null,null,null,null,null,null,null,null,null,null,null,null,null,"Point 2",{"$f":"IF($AB105=\"\",0,$AB105)","v":0},{"$f":"IF(OR($AC105=\"\",$AB$105=0),$C$13,$AC105-4)","v":99.18},null,"Point 2",{"$f":"IF($AF105=\"\",0,$AF105)","v":0},{"$f":"IF(OR($AG105=\"\",$AF$105=0),$C$13,IF($AG$105>$AG$108,$AG105+2.25,$AG$108+2.25))","v":99.18},null,61,9.76,"Left Bank",48.273478906986412,96.667822389116878,48.26555537856261,94.667898542988539,96.437166782634293,0,0,0,"","",0,1.7692682396457542,1.7692682396457542,0,0,0,0,0,1.7692682396457542,0.12851695556641343,0,0,0.16,9.76,0,0,"",5.5822156892688639,0.12664080077067355,0.16,0,0.16,9.76,""]
[null,null,null,null,null,null,null,null,null,null,null,null,null,null,null,null,null,null,null,null,null,null,null,null,null,null,null,null,null,null,"Point 3",{"$f":"IF(OR($F$25=\"\",$C83=\"\"),0,($AE$49-(($C83*$M$19)*$M$17))-(ABS(2*$M$17*$M$19)))","v":0},{"$f":"IF(OR($AG106=\"\",$AF$105=0),$C$13,$AG106)","v":99.18},null,62,9.92,"Left Bank",48.346114621094003,96.666426143437135,48.338191092670201,94.666502297308796,96.426928605788646,0,0,0,"","",0,1.7604263084798504,1.7604263084798504,0,0,0,0,0,1.7604263084798504,0.12787469112662603,0,0,0.16,9.92,0,0,"",5.5836119349486069,0.12650833219058008,0.16,0,0.16,9.92,""]
[null,null,null,null,null,null,null,null,null,null,null,null,null,null,null,null,null,null,null,null,null,null,null,null,null,null,null,"Anchor #2",null,null,"Point 4",{"$f":"IF($AF105=\"\",0,$AF107)","v":0},{"$f":"IF(OR($AG105=\"\",$AF$105=0),$C$13,$AG105-((ABS($AF$105-$AF$108))*$AA$40))","v":99.18},null,63,10.08,"Left Bank",48.418750335201594,96.665029897757393,48.410826806777791,94.665106051629053,96.416690428943014,0,0,0,"","",0,1.7515843773139608,1.7515843773139608,0,0,0,0,0,1.7515843773139608,0.12723242668683965,0,0,0.16,10.08,0,0,"",5.5850081806283498,0.12637600217502981,0.16,0,0.16,10.08,""]
[null,null,null,null,null,null,null,null,null,null,null,null,null,null,null,null,null,null,null,null,null,null,null,null,null,null,null,"xTS (ft)","yTS (ft)",null,null,null,null,null,64,10.24,{"$f":"IF(OR($C$19=\"\",$F$25=\"\",$G$25=\"\"),\"None\",IF(AL109<$B$14,\"Left Floodplain\",IF(AL109<$B$15,\"Left Bank\",IF(AL109<$B$16,\"Left Stream Bed\",IF(AL109<$B$17,\"Right Stream Bed\",IF(AL109<$B$18,\"Right Bank\",\"Right Floodplain\"))))))","v":"Left Bank"},48.491386049309178,96.66363365207765,48.483462520885375,94.66370980594931,96.406452252097367,{"$f":"IF(OR($AP109<$AE$12,$AP109<=$AM109),0,IF(OR($AP109>=$AE$12,$AM109>=$AE$12),$AP109-$AM109-$AR109,$AP109-$AE$12))","v":0},{"$f":"IF($AP109<=$AM109,0,IF($AM109>=$AE$12,0,IF($AP109<=$AE$12,$AP109-$AM109,$AE$12-$AM109)))","v":0},0,"","",0,{"$f":"IF($AP109<=$AO109,0,IF($AO109>=$AE$12,0,IF($AP109<=$AE$12,$AP109-$AO109,$AE$12-$AO109)))","v":1.742742446148057},{"$f":"IF(AP109<=AO109,0,AP109-AO109)","v":1.742742446148057},{"$f":"IF($AS109=0,0,IF(OR($AJ109=0,$AJ109=$E$22),$AJ$46/2,$AJ$46))","v":0},{"$f":"IF(OR($AK109=\"Left Stream Bed\",$AK109=\"Right Stream Bed\"),$F$22*$AQ109*$AY109,0)","v":0},{"$f":"IF(OR($AK109=\"Left Stream Bed\",$AK109=\"Right Stream Bed\"),$F$22*$AR109*$AY109,0)","v":0},{"$f":"IF(OR($AK109=\"Left Floodplain\",$AK109=\"Left Bank\",$AK109=\"Right Bank\",$AK109=\"Right Floodplain\"),$F$22*$AQ109*$AY109,0)","v":0},{"$f":"IF(OR($AK109=\"Left Floodplain\",$AK109=\"Left Bank\",$AK109=\"Right Bank\",$AK109=\"Right Floodplain\"),$F$22*$AR109*$AY109,0)","v":0},{"$f":"AX109-AS109","v":1.742742446148057},0.12659016224705222,0,{"$f":"IF(OR($AJ109=0,$AJ109=$E$22),($BF109*$AJ$46/2)*ABS($M$17),$BF109*$AJ$46*ABS($M$17))","v":0},{"$f":"IF(OR($AM109<$AP109,$AO109>$AE$8),\"\",IF(OR($AJ109=0,$AJ109=$E$22),$AJ$46/2,$AJ$46))","v":0.16},10.24,0,{"$f":"IF($BJ109=\"\",\"\",IF(OR($BJ109>($F$22/2),$BJ109=0),0,0.45-($BJ109*0.45/($F$22/2))))","v":0},{"$f":"IF($BK109=\"\",\"\",IF($BK109>0,$AJ109,\"\"))","v":""},5.5864044263080928,0.12624381057908177,{"$f":"IF($AO109=0,0,IF($AO109>$AP109,0,IF(OR($AJ109=0,$AJ109=$E$22),$AJ$46/2,$AJ$46)))","v":0.16},{"$f":"IF(AND($BO109>0,OR($AK109=\"Left Stream Bed\",$AK109=\"Right Stream Bed\")),$BO109,0)","v":0},{"$f":"IF(AND($BO109>0,OR($AK109=\"Left Floodplain\",$AK109=\"Left Bank\",$AK109=\"Right Bank\",$AK109=\"Right Floodplain\")),$BO109,0)","v":0.16},{"$f":"IF($BO109>0,$AJ109,\"\")","v":10.24},""]
[null,null,null,null,null,null,null,null,null,null,null,null,null,null,null,null,null,null,null,null,null,null,null,null,null,null,"Point 1",{"$f":"IF(OR($F$25=\"\",$H84=\"\"),0,$AE$49-(($H84*$M$19)*$M$17))","v":0},{"$f":"IF(OR($AB$110=0,$AB110=\"\"),$C$13,($AF$49+(($AB110-$AE$49)*$AA$40))-($F$22/2))","v":99.18},null,null,"Log Interactions",null,null,65,{"$f":"($AI110/$AI$245)*$AJ$245","v":10.4},"Left Bank",48.564021763416768,96.662237406397907,{"$f":"$AN$45+ABS(AJ110*$M$19*$M$17)","v":48.556098234992966},94.662313560269567,96.396214075251734,0,0,{"$f":"IF(AP110<=AM110,0,AP110-AM110)","v":0},{"$f":"IF(OR($AS110=\"\",$AS110=0),\"\",IF(OR($AK110=\"Left Stream Bed\",$AK110=\"Right Stream Bed\"),$AS110,\"\"))","v":""},{"$f":"IF(OR($AS110=\"\",$AS110=0),\"\",IF(OR($AK110=\"Left Floodplain\",$AK110=\"Left Bank\",$AK110=\"Right Bank\",$AK110=\"Right Floodplain\"),$AS110,\"\"))","v":""},{"$f":"IF(OR($AP110<$AE$12,$AP110<=$AO110),0,IF($AO110>=$AE$12,$AP110-$AO110,$AP110-$AE$12))","v":0},1.7339005149821674,1.7339005149821674,0,0,0,0,0,1.7339005149821674,{"$f":"$BD110*$AJ$46*ABS($M$17)","v":0.12594789780726584},{"$f":"AV110-AQ110","v":0},0,0.16,{"$f":"IF($BH110=\"\",\"\",IF($BH110>0,$AJ110,\"\"))","v":10.4},{"$f":"IF($BH110=\"\",\"\",IF(OR(($AO110-$AP110)<0,$AO$45>=$AE$8),0,($AO110-$AP110)))","v":0},0,"",{"$f":"IF($BH110=\"\",\"\",IF(OR(($AM110-$AP110)<0,$AM110>=$AE$8),\"\",($AE$8-($AM110-(($F$22/2)/$M$19)))))","v":5.5878006719878357},0.1261117572579466,0.16,0,0.16,10.4,{"$f":"IF($AY110>0,$AJ110,\"\")","v":""}]
[null,null,null,null,null,null,null,null,null,null,null,null,null,null,null,null,null,null,null,null,null,null,null,null,null,null,"Point 2",{"$f":"IF($AB110=\"\",0,$AB110)","v":0},{"$f":"IF(OR($AB$110=0,$AC110=\"\"),$C$13,$AC110-4)","v":99.18},null,null,"xTS (ft)","yTS (ft)",null,66,10.56,"Left Bank",48.636657477524352,{"$f":"AM110+((AL111-AL110)*$AA$40)","v":96.660841160718164},48.62873394910055,{"$f":"AO110+((AN111-AN110)*$AA$40)","v":94.660917314589824},{"$f":"IF($AL111<$B$14,(($AL111-$B$13)*$AB$31)+$C$13,IF($AL111<$B$15,(($AL111-$B$14)*$AB$32)+$C$14,IF($AL111<$B$16,(($AL111-$B$15)*$AB$33)+$C$15,IF($AL111<$B$17,(($AL111-$B$16)*$AB$34)+$C$16,IF($AL111<$B$18,(($AL111-$B$17)*$AB$35)+$C$17,IF($AL111<$B$19,(($AL111-$B$18)*$AB$36)+$C$18))))))","v":96.385975898406087},0,0,0,"","",0,1.7250585838162635,1.7250585838162635,0,0,0,0,0,1.7250585838162635,0.12530563336747844,0,0,0.16,10.56,0,0,"",5.5891969176675786,{"$f":"IF($BM111=\"\",\"\",(((PI()^2)/32)*($B$66^-6)*EXP(-($BM111/$F$22)/(2*($B$66^2)))))","v":0.12597984206698609},0.16,0,0.16,10.56,""]
[null,null,null,null,null,null,null,null,null,null,null,null,null,null,null,null,null,null,null,null,null,null,null,null,null,null,null,null,null,null,"Point 1",{"$f":"IF(OR($F$25=\"\",$C90=\"\"),0,($AE$49-(($C90*$M$19)*$M$17))+(ABS(2*$M$17*$M$19)))","v":0},{"$f":"IF(OR($AF112=\"\",$AF$105=0),$C$13,($AF$49+(($AF112-$AE$49)*$AA$40))+($F$22/2))","v":99.18},null,67,10.72,"Left Bank",{"$f":"$AL$45+ABS(AJ112*$M$19*$M$17)","v":48.709293191631943},96.659444915038421,48.701369663208141,94.659521068910081,96.375737721560441,0,0,0,"","",0,1.7162166526503597,1.7162166526503597,0,0,0,0,0,1.7162166526503597,0.12466336892769102,0,0,0.16,10.72,0,0,"",5.5905931633473216,0.12584806486171374,0.16,0,0.16,10.72,""]
[null,null,null,null,null,null,null,null,null,null,null,null,null,null,null,null,null,null,null,null,null,null,null,null,null,null,null,null,null,null,"Point 2",{"$f":"IF($AF112=\"\",0,$AF112)","v":0},{"$f":"IF(OR($AG112=\"\",$AF$105=0),$C$13,IF($AG$105>$AG$108,$AG112+2.25,$AG$108+2.25))","v":99.18},null,68,10.88,"Left Bank",48.781928905739527,96.658048669358678,48.774005377315724,94.658124823230338,96.365499544714808,0,0,0,"","",0,1.7073747214844701,1.7073747214844701,0,0,0,0,0,1.7073747214844701,0.12402110448790463,0,0,0.16,10.88,0,0,"",5.5919894090270645,0.12571642549779397,0.16,0,0.16,10.88,""]
[null,null,null,null,null,null,null,null,null,null,null,null,null,null,null,null,null,null,null,null,null,null,null,null,null,null,null,null,null,null,"Point 3",{"$f":"IF(OR($F$25=\"\",$C90=\"\"),0,($AE$49-(($C90*$M$19)*$M$17))-(ABS(2*$M$17*$M$19)))","v":0},{"$f":"IF(OR($AG113=\"\",$AF$105=0),$C$13,$AG113)","v":99.18},null,69,11.04,"Left Bank",48.854564619847118,96.656652423678935,48.846641091423315,94.656728577550595,96.355261367869161,0,0,0,"","",0,1.6985327903185663,1.6985327903185663,0,0,0,0,0,1.6985327903185663,0.12337884004811722,0,0,0.16,11.04,0,0,"",5.5933856547068075,0.12558492383104222,0.16,0,0.16,11.04,""]
[null,null,null,null,null,null,null,null,null,null,null,null,null,null,null,null,null,null,null,null,null,null,null,null,null,null,null,null,null,null,"Point 4",{"$f":"IF($AF112=\"\",0,$AF114)","v":0},{"$f":"IF(OR($AG112=\"\",$AF$105=0),$C$13,$AG112-((ABS($AF$105-$AF$108))*$AA$40))","v":99.18},null,70,11.2,"Left Bank",48.927200333954701,96.655256177999192,48.919276805530899,94.655332331870852,96.345023191023529,0,0,0,"","",0,1.6896908591526767,1.6896908591526767,0,0,0,0,0,1.6896908591526767,0.12273657560833083,0,0,0.16,11.2,0,0,"",5.5947819003865504,0.12545355971742486,0.16,0,0.16,11.2,""]
[null,null,null,null,null,null,null,null,null,null,null,null,null,null,null,null,null,null,null,null,null,null,null,null,null,null,null,null,null,null,null,null,null,null,71,11.36,"Left Bank",48.999836048062292,96.653859932319449,48.99191251963849,94.653936086191109,96.334785014177882,0,0,0,"","",0,1.6808489279867729,1.6808489279867729,0,0,0,0,0,1.6808489279867729,0.12209431116854341,0,0,0.16,11.36,0,0,"",5.5961781460662934,0.12532233301305862,0.16,0,0.16,11.36,""]
[null,null,null,null,null,null,null,null,null,null,null,null,null,null,null,null,null,null,null,null,null,null,null,null,null,null,null,null,null,null,null,null,null,null,72,11.52,"Left Bank",49.072471762169876,96.652463686639706,49.064548233746073,94.652539840511366,96.32454683733225,0,0,0,"","",0,1.6720069968208833,1.6720069968208833,0,0,0,0,0,1.6720069968208833,0.12145204672875703,0,0,0.16,11.52,0,0,"",5.5975743917460363,0.12519124357421099,0.16,0,0.16,11.52,""]
[null,null,null,null,null,null,null,null,null,null,null,null,null,null,null,null,null,null,null,null,null,null,null,null,null,null,null,null,null,null,null,null,null,null,73,11.68,"Left Bank",49.145107476277467,96.651067440959963,49.137183947853664,94.651143594831623,96.314308660486603,0,0,0,"","",0,1.6631650656549795,1.6631650656549795,0,0,0,0,0,1.6631650656549795,0.12080978228896962,0,0,0.16,11.68,0,0,"",5.5989706374257793,0.12506029125729978,0.16,0,0.16,11.68,""]
[null,null,null,null,null,null,null,null,null,null,null,null,null,null,null,null,null,null,null,null,null,null,null,null,null,null,null,null,null,null,null,null,null,null,74,11.84,"Left Bank",49.21774319038505,96.64967119528022,49.209819661961248,94.64974734915188,96.304070483640956,0,0,0,"","",0,1.6543231344890756,1.6543231344890756,0,0,0,0,0,1.6543231344890756,0.12016751784918221,0,0,0.16,11.84,0,0,"",5.6003668831055222,0.12492947591889292,0.16,0,0.16,11.84,""]
[null,null,null,null,null,null,null,null,null,null,null,null,null,null,null,null,null,null,null,null,null,null,null,null,null,null,null,null,null,null,null,null,null,null,75,12,"Left Bank",49.290378904492641,96.648274949600477,49.282455376068839,94.648351103472137,96.293832306795323,0,0,0,"","",0,1.645481203323186,1.645481203323186,0,0,0,0,0,1.645481203323186,0.11952525340939582,0,0,0.16,12,0,0,"",5.6017631287852652,0.12479879741570854,0.16,0,0.16,12,""]
[null,null,null,null,null,null,null,null,null,null,null,null,null,null,null,null,null,null,null,null,null,null,null,null,null,null,null,null,null,null,null,null,null,null,76,12.16,"Left Bank",49.363014618600225,96.646878703920734,49.355091090176423,94.646954857792394,96.283594129949677,0,0,0,"","",0,1.6366392721572822,1.6366392721572822,0,0,0,0,0,1.6366392721572822,0.1188829889696084,0,0,0.16,12.16,0,0,"",5.6031593744650081,0.12466825560461427,0.16,0,0.16,12.16,""]
[null,null,null,null,null,null,null,null,null,null,null,null,null,null,null,null,null,null,null,null,null,null,null,null,null,null,null,null,null,null,null,null,null,null,77,12.32,"Left Bank",49.435650332707816,96.645482458240991,49.427726804284013,94.645558612112652,96.273355953104044,0,0,0,"","",0,1.6277973409913926,1.6277973409913926,0,0,0,0,0,1.6277973409913926,0.11824072452982202,0,0,0.16,12.32,0,0,"",5.6045556201447511,0.12453785034262782,0.16,0,0.16,12.32,""]
[null,null,null,null,null,null,null,null,null,null,null,null,null,null,null,null,null,null,null,null,null,null,null,null,null,null,null,null,null,null,null,null,null,null,78,12.48,"Left Bank",49.5082860468154,96.644086212561248,49.500362518391597,94.644162366432909,96.263117776258397,0,0,0,"","",0,1.6189554098254888,1.6189554098254888,0,0,0,0,0,1.6189554098254888,0.11759846009003461,0,0,0.16,12.48,0,0,"",5.605951865824494,0.12440758148691636,0.16,0,0.16,12.48,""]
[null,null,null,null,null,null,null,null,null,null,null,null,null,null,null,null,null,null,null,null,null,null,null,null,null,null,null,null,null,null,null,null,null,null,79,12.64,"Left Bank",49.58092176092299,96.642689966881505,49.572998232499188,94.642766120753166,96.252879599412751,0,0,0,"","",0,1.610113478659585,1.610113478659585,0,0,0,0,0,1.610113478659585,0.11695619565024719,0,0,0.16,12.64,0,0,"",5.607348111504237,0.1242774488947964,0.16,0,0.16,12.64,""]
[null,null,null,null,null,null,null,null,null,null,null,null,null,null,null,null,null,null,null,null,null,null,null,null,null,null,null,null,null,null,null,null,null,null,80,12.8,"Left Bank",49.653557475030574,96.641293721201762,49.645633946606772,94.641369875073423,96.242641422567118,0,0,0,"","",0,1.6012715474936954,1.6012715474936954,0,0,0,0,0,1.6012715474936954,0.11631393121046081,0,0,0.16,12.8,0,0,"",5.6087443571839799,0.12414745242373389,0.16,0,0.16,12.8,""]
[null,null,null,null,null,null,null,null,null,null,null,null,null,null,null,null,null,null,null,null,null,null,null,null,null,null,null,null,null,null,null,null,null,null,81,12.96,"Left Bank",49.726193189138165,96.639897475522019,49.718269660714363,94.63997362939368,96.232403245721471,0,0,0,"","",0,1.5924296163277916,1.5924296163277916,0,0,0,0,0,1.5924296163277916,0.11567166677067339,0,0,0.16,12.96,0,0,"",5.6101406028637228,0.12401759193134348,0.16,0,0.16,12.96,""]
[null,null,null,null,null,null,null,null,null,null,null,null,null,null,null,null,null,null,null,null,null,null,null,null,null,null,null,null,null,null,null,null,null,null,82,13.12,"Left Bank",49.798828903245749,96.638501229842277,49.790905374821946,94.638577383713937,96.222165068875839,0,0,0,"","",0,1.583587685161902,1.583587685161902,0,0,0,0,0,1.583587685161902,0.11502940233088702,0,0,0.16,13.12,0,0,"",5.6115368485434658,0.12388786727538915,0.16,0,0.16,13.12,""]
[null,null,null,null,null,null,null,null,null,null,null,null,null,null,null,null,null,null,null,null,null,null,null,null,null,null,null,null,null,null,null,null,null,null,83,13.28,"Left Bank",49.87146461735334,96.637104984162534,49.863541088929537,94.637181138034194,96.211926892030192,0,0,0,"","",0,1.5747457539959981,1.5747457539959981,0,0,0,0,0,1.5747457539959981,0.1143871378910996,0,0,0.16,13.28,0,0,"",5.6129330942232087,0.1237582783137835,0.16,0,0.16,13.28,""]
[null,null,null,null,null,null,null,null,null,null,null,null,null,null,null,null,null,null,null,null,null,null,null,null,null,null,null,null,null,null,null,null,null,null,84,13.44,"Left Bank",49.944100331460923,96.635708738482791,49.936176803037121,94.635784892354451,96.201688715184559,0,0,0,"","",0,1.5659038228301085,1.5659038228301085,0,0,0,0,0,1.5659038228301085,0.11374487345131322,0,0,0.16,13.44,0,0,"",5.6143293399029517,0.1236288249045879,0.16,0,0.16,13.44,""]
[null,null,null,null,null,null,null,null,null,null,null,null,null,null,null,null,null,null,null,null,null,null,null,null,null,null,null,null,null,null,null,null,null,null,85,13.6,"Left Bank",50.016736045568514,96.634312492803048,50.008812517144712,94.634388646674708,96.191450538338913,0,0,0,"","",0,1.5570618916642047,1.5570618916642047,0,0,0,0,0,1.5570618916642047,0.1131026090115258,0,0,0.16,13.6,0,0,"",5.6157255855826946,0.12349950690601183,0.16,0,0.16,13.6,""]
[null,null,null,null,null,null,null,null,null,null,null,null,null,null,null,null,null,null,null,null,null,null,null,null,null,null,null,null,null,null,null,null,null,null,86,13.76,"Left Bank",50.089371759676098,96.632916247123305,50.081448231252295,94.632992400994965,96.181212361493266,0,0,0,"","",0,1.5482199604983009,1.5482199604983009,0,0,0,0,0,1.5482199604983009,0.11246034457173838,0,0,0.16,13.76,0,0,"",5.6171218312624376,0.12337032417641342,0.16,0,0.16,13.76,""]
[null,null,null,null,null,null,null,null,null,null,null,null,null,null,null,null,null,null,null,null,null,null,null,null,null,null,null,null,null,null,null,null,null,null,87,13.92,"Left Bank",50.162007473783689,96.631520001443562,50.154083945359886,94.631596155315222,96.170974184647633,0,0,0,"","",0,1.5393780293324113,1.5393780293324113,0,0,0,0,0,1.5393780293324113,0.11181808013195199,0,0,0.16,13.92,0,0,"",5.6185180769421805,0.12324127657429888,0.16,0,0.16,13.92,""]
[null,null,null,null,null,null,null,null,null,null,null,null,null,null,null,null,null,null,null,null,null,null,null,null,null,null,null,null,null,null,null,null,null,null,88,14.08,"Left Bank",50.234643187891272,96.630123755763819,50.22671965946747,94.630199909635479,96.160736007801987,0,0,0,"","",0,1.5305360981665075,1.5305360981665075,0,0,0,0,0,1.5305360981665075,0.11117581569216457,0,0,0.16,14.08,0,0,"",5.6199143226219235,0.1231123639583224,0.16,0,0.16,14.08,""]
[null,null,null,null,null,null,null,null,null,null,null,null,null,null,null,null,null,null,null,null,null,null,null,null,null,null,null,null,null,null,null,null,null,null,89,14.24,"Left Bank",50.307278901998863,96.628727510084076,50.299355373575061,94.628803663955736,96.150497830956354,0,0,0,"","",0,1.5216941670006179,1.5216941670006179,0,0,0,0,0,1.5216941670006179,0.1105335512523782,0,0,0.16,14.24,0,0,"",5.6213105683016664,0.12298358618728612,0.16,0,0.16,14.24,""]
[null,null,null,null,null,null,null,null,null,null,null,null,null,null,null,null,null,null,null,null,null,null,null,null,null,null,null,null,null,null,null,null,null,null,90,14.4,"Left Bank",50.379914616106447,96.627331264404333,50.371991087682645,94.627407418275993,96.140259654110707,0,0,0,"","",0,1.5128522358347141,1.5128522358347141,0,0,0,0,0,1.5128522358347141,0.10989128681259078,0,0,0.16,14.4,0,0,"",5.6227068139814094,0.12285494312013959,0.16,0,0.16,14.4,""]
[null,null,null,null,null,null,null,null,null,null,null,null,null,null,null,null,null,null,null,null,null,null,null,null,null,null,null,null,null,null,null,null,null,null,91,14.56,"Left Bank",50.452550330214038,96.62593501872459,50.444626801790236,94.62601117259625,96.130021477265061,0,0,0,"","",0,1.5040103046688102,1.5040103046688102,0,0,0,0,0,1.5040103046688102,0.10924902237280336,0,0,0.16,14.56,0,0,"",5.6241030596611523,0.12272643461598018,0.16,0,0.16,14.56,""]
[null,null,null,null,null,null,null,null,null,null,null,null,null,null,null,null,null,null,null,null,null,null,null,null,null,null,null,null,null,null,null,null,null,null,92,14.72,"Left Bank",50.525186044321629,96.624538773044847,50.517262515897826,94.624614926916507,96.119783300419428,0,0,0,"","",0,1.4951683735029206,1.4951683735029206,0,0,0,0,0,1.4951683735029206,0.10860675793301698,0,0,0.16,14.72,0,0,"",5.6254993053408953,0.12259806053405256,0.16,0,0.16,14.72,""]
[null,null,null,null,null,null,null,null,null,null,null,null,null,null,null,null,null,null,null,null,null,null,null,null,null,null,null,null,null,null,null,null,null,null,93,14.88,"Left Bank",50.597821758429212,96.623142527365104,50.58989823000541,94.623218681236764,96.109545123573781,0,0,0,"","",0,1.4863264423370168,1.4863264423370168,0,0,0,0,0,1.4863264423370168,0.10796449349322956,0,0,0.16,14.88,0,0,"",5.6268955510206382,0.12246982073374865,0.16,0,0.16,14.88,""]
[null,null,null,null,null,null,null,null,null,null,null,null,null,null,null,null,null,null,null,null,null,null,null,null,null,null,null,null,null,null,null,null,null,null,94,15.04,"Left Bank",50.670457472536796,96.621746281685361,50.662533944112994,94.621822435557021,96.099306946728149,0,0,0,"","",0,1.4774845111711272,1.4774845111711272,0,0,0,0,0,1.4774845111711272,0.10732222905344319,0,0,0.16,15.04,0,0,"",5.6282917967003812,0.12234171507460752,0.16,0,0.16,15.04,""]
[null,null,null,null,null,null,null,null,null,null,null,null,null,null,null,null,null,null,null,null,null,null,null,null,null,null,null,null,null,null,null,null,null,null,95,15.2,"Left Bank",50.743093186644387,96.620350036005618,50.735169658220585,94.620426189877278,96.089068769882502,0,0,0,"","",0,1.4686425800052234,1.4686425800052234,0,0,0,0,0,1.4686425800052234,0.10667996461365577,0,0,0.16,15.2,0,0,"",5.6296880423801241,0.12221374341631487,0.16,0,0.16,15.2,""]
[null,null,null,null,null,null,null,null,null,null,null,null,null,null,null,null,null,null,null,null,null,null,null,null,null,null,null,null,null,null,null,null,null,null,96,15.36,"Left Bank",50.815728900751978,96.618953790325875,50.807805372328176,94.619029944197536,96.078830593036855,0,0,0,"","",0,1.4598006488393196,1.4598006488393196,0,0,0,0,0,1.4598006488393196,0.10603770017386835,0,0,0.16,15.36,0,0,"",5.631084288059867,0.12208590561870346,0.16,0,0.16,15.36,""]
[null,null,null,null,null,null,null,null,null,null,null,null,null,null,null,null,null,null,null,null,null,null,null,null,null,null,null,null,null,null,null,null,null,null,97,15.52,"Left Bank",50.888364614859562,96.617557544646132,50.880441086435759,94.617633698517793,96.068592416191223,0,0,0,"","",0,1.45095871767343,1.45095871767343,0,0,0,0,0,1.45095871767343,0.10539543573408197,0,0,0.16,15.52,0,0,"",5.63248053373961,0.12195820154175262,0.16,0,0.16,15.52,""]
[null,null,null,null,null,null,null,null,null,null,null,null,null,null,null,null,null,null,null,null,null,null,null,null,null,null,null,null,null,null,null,null,null,null,98,15.68,"Left Bank",50.961000328967145,96.616161298966389,50.953076800543343,94.61623745283805,96.058354239345576,0,0,0,"","",0,1.4421167865075262,1.4421167865075262,0,0,0,0,0,1.4421167865075262,0.10475317129429455,0,0,0.16,15.68,0,0,"",5.6338767794193529,0.12183063104558818,0.16,0,0.16,15.68,""]
[null,null,null,null,null,null,null,null,null,null,null,null,null,null,null,null,null,null,null,null,null,null,null,null,null,null,null,null,null,null,null,null,null,null,99,15.84,"Left Bank",51.033636043074736,96.614765053286646,51.025712514650934,94.614841207158307,96.048116062499943,0,0,0,"","",0,1.4332748553416366,1.4332748553416366,0,0,0,0,0,1.4332748553416366,0.10411090685450818,0,0,0.16,15.84,0,0,"",5.6352730250990959,0.12170319399048202,0.16,0,0.16,15.84,""]
[null,null,null,null,null,null,null,null,null,null,null,null,null,null,null,null,null,null,null,null,null,null,null,null,null,null,null,null,null,null,null,null,null,null,100,16,"Left Bank",51.106271757182327,96.613368807606903,51.098348228758525,94.613444961478564,96.037877885654297,0,0,0,"","",0,1.4244329241757328,1.4244329241757328,0,0,0,0,0,1.4244329241757328,0.10346864241472076,0,0,0.16,16,0,0,"",5.6366692707788388,0.12157589023685247,0.16,0,0.16,16,""]
[null,null,null,null,null,null,null,null,null,null,null,null,null,null,null,null,null,null,null,null,null,null,null,null,null,null,null,null,null,null,null,null,null,null,101,16.16,"Left Bank",51.178907471289911,96.611972561927161,51.170983942866108,94.612048715798821,96.027639708808664,0,0,0,"","",0,1.4155909930098431,1.4155909930098431,0,0,0,0,0,1.4155909930098431,0.10282637797493438,0,0,0.16,16.16,0,0,"",5.6380655164585818,0.12144871964526376,0.16,0,0.16,16.16,""]
[null,null,null,null,null,null,null,null,null,null,null,null,null,null,null,null,null,null,null,null,null,null,null,null,null,null,null,null,null,null,null,null,null,null,102,16.32,"Left Bank",51.251543185397502,96.610576316247418,51.243619656973699,94.610652470119078,96.017401531963017,0,0,0,"","",0,1.4067490618439393,1.4067490618439393,0,0,0,0,0,1.4067490618439393,0.10218411353514696,0,0,0.16,16.32,0,0,"",5.6394617621383247,0.12132168207642595,0.16,0,0.16,16.32,""]
[null,null,null,null,null,null,null,null,null,null,null,null,null,null,null,null,null,null,null,null,null,null,null,null,null,null,null,null,null,null,null,null,null,null,103,16.48,"Left Bank",51.324178899505085,96.609180070567675,51.316255371081283,94.609256224439335,96.00716335511737,0,0,0,"","",0,1.3979071306780355,1.3979071306780355,0,0,0,0,0,1.3979071306780355,0.10154184909535954,0,0,0.16,16.48,0,0,"",5.6408580078180677,0.12119477739119497,0.16,0,0.16,16.48,""]
[null,null,null,null,null,null,null,null,null,null,null,null,null,null,null,null,null,null,null,null,null,null,null,null,null,null,null,null,null,null,null,null,null,null,104,16.64,"Left Bank",51.396814613612676,96.607783824887932,51.388891085188874,94.607859978759592,95.996925178271738,0,0,0,"","",0,1.3890651995121459,1.3890651995121459,0,0,0,0,0,1.3890651995121459,0.10089958465557317,0,0,0.16,16.64,0,0,"",5.6422542534978106,0.12106800545057191,0.16,0,0.16,16.64,""]
[null,null,null,null,null,null,null,null,null,null,null,null,null,null,null,null,null,null,null,null,null,null,null,null,null,null,null,null,null,null,null,null,null,null,105,16.8,"Left Bank",51.46945032772026,96.606387579208189,51.461526799296458,94.606463733079849,95.986687001426091,0,0,0,"","",0,1.3802232683462421,1.3802232683462421,0,0,0,0,0,1.3802232683462421,0.10025732021578575,0,0,0.16,16.8,0,0,"",5.6436504991775536,0.12094136611570362,0.16,0,0.16,16.8,""]
[null,null,null,null,null,null,null,null,null,null,null,null,null,null,null,null,null,null,null,null,null,null,null,null,null,null,null,null,null,null,null,null,null,null,106,16.96,"Left Bank",51.542086041827851,96.604991333528446,51.534162513404048,94.605067487400106,95.976448824580459,0,0,0,"","",0,1.3713813371803525,1.3713813371803525,0,0,0,0,0,1.3713813371803525,9.961505577599937E-2,0,0,0.16,16.96,0,0,"",5.6450467448572965,0.12081485924788206,0.16,0,0.16,16.96,""]
[null,null,null,null,null,null,null,null,null,null,null,null,null,null,null,null,null,null,null,null,null,null,null,null,null,null,null,null,null,null,null,null,null,null,107,17.12,"Left Bank",51.614721755935435,96.603595087848703,51.606798227511632,94.603671241720363,95.966210647734812,0,0,0,"","",0,1.3625394060144487,1.3625394060144487,0,0,0,0,0,1.3625394060144487,9.8972791336211952E-2,0,0,0.16,17.12,0,0,"",5.6464429905370395,0.12068848470854431,0.16,0,0.16,17.12,""]
[null,null,null,null,null,null,null,null,null,null,null,null,null,null,null,null,null,null,null,null,null,null,null,null,null,null,null,null,null,null,null,null,null,null,108,17.28,"Left Bank",51.687357470043025,96.60219884216896,51.679433941619223,94.60227499604062,95.955972470889165,0,0,0,"","",0,1.3536974748485449,1.3536974748485449,0,0,0,0,0,1.3536974748485449,9.8330526896424533E-2,0,0,0.16,17.28,0,0,"",5.6478392362167824,0.12056224235927243,0.16,0,0.16,17.28,""]
[null,null,null,null,null,null,null,null,null,null,null,null,null,null,null,null,null,null,null,null,null,null,null,null,null,null,null,null,null,null,null,null,null,null,109,17.440000000000001,"Left Bank",51.759993184150609,96.600802596489217,51.752069655726807,94.600878750360877,95.945734294043532,0,0,0,"","",0,1.3448555436826553,1.3448555436826553,0,0,0,0,0,1.3448555436826553,9.7688262456638156E-2,0,0,0.16,17.440000000000001,0,0,"",5.6492354818965254,0.12043613206179304,0.16,0,0.16,17.440000000000001,""]
[null,null,null,null,null,null,null,null,null,null,null,null,null,null,null,null,null,null,null,null,null,null,null,null,null,null,null,null,null,null,null,null,null,null,110,17.600000000000001,"Left Bank",51.8326288982582,96.599406350809474,51.824705369834398,94.599482504681134,95.935496117197886,0,0,0,"","",0,1.3360136125167514,1.3360136125167514,0,0,0,0,0,1.3360136125167514,9.7045998016850737E-2,0,0,0.16,17.600000000000001,0,0,"",5.6506317275762683,0.12031015367797765,0.16,0,0.16,17.600000000000001,""]
[null,null,null,null,null,null,null,null,null,null,null,null,null,null,null,null,null,null,null,null,null,null,null,null,null,null,null,null,null,null,null,null,null,null,111,17.760000000000002,"Left Bank",51.905264612365784,96.598010105129731,51.897341083941981,94.598086259001391,95.925257940352253,0,0,0,"","",0,1.3271716813508618,1.3271716813508618,0,0,0,0,0,1.3271716813508618,9.640373357706436E-2,0,0,0.16,17.760000000000002,0,0,"",5.6520279732560113,0.12018430706984219,0.16,0,0.16,17.760000000000002,""]
[null,null,null,null,null,null,null,null,null,null,null,null,null,null,null,null,null,null,null,null,null,null,null,null,null,null,null,null,null,null,null,null,null,null,112,17.920000000000002,"Left Bank",51.977900326473375,96.596613859449988,51.969976798049572,94.596690013321648,95.915019763506606,0,0,0,"","",0,1.318329750184958,1.318329750184958,0,0,0,0,0,1.318329750184958,9.5761469137276942E-2,0,0,0.16,17.920000000000002,0,0,"",5.6534242189357542,0.12005859209954688,0.16,0,0.16,17.920000000000002,""]
[null,null,null,null,null,null,null,null,null,null,null,null,null,null,null,null,null,null,null,null,null,null,null,null,null,null,null,null,null,null,null,null,null,null,113,18.079999999999998,"Left Bank",52.050536040580958,96.595217613770245,52.042612512157156,94.595293767641905,95.90478158666096,0,0,0,"","",0,1.3094878190190542,1.3094878190190542,0,0,0,0,0,1.3094878190190542,9.5119204697489523E-2,0,0,0.16,18.079999999999998,0,0,"",5.6548204646154971,0.11993300862939626,0.16,0,0.16,18.079999999999998,""]
[null,null,null,null,null,null,null,null,null,null,null,null,null,null,null,null,null,null,null,null,null,null,null,null,null,null,null,null,null,null,null,null,null,null,114,18.239999999999998,"Left Bank",52.123171754688549,96.593821368090502,52.115248226264747,94.593897521962163,95.894543409815327,0,0,0,"","",0,1.3006458878531646,1.3006458878531646,0,0,0,0,0,1.3006458878531646,9.4476940257703146E-2,0,0,0.16,18.239999999999998,0,0,"",5.6562167102952401,0.11980755652183857,0.16,0,0.16,18.239999999999998,""]
[null,null,null,null,null,null,null,null,null,null,null,null,null,null,null,null,null,null,null,null,null,null,null,null,null,null,null,null,null,null,null,null,null,null,115,18.399999999999999,"Left Bank",52.195807468796133,96.592425122410759,52.18788394037233,94.59250127628242,95.88430523296968,0,0,0,"","",0,1.2918039566872608,1.2918039566872608,0,0,0,0,0,1.2918039566872608,9.3834675817915728E-2,0,0,0.16,18.399999999999999,0,0,"",5.657612955974983,0.11968223563946627,0.16,0,0.16,18.399999999999999,""]
[null,null,null,null,null,null,null,null,null,null,null,null,null,null,null,null,null,null,null,null,null,null,null,null,null,null,null,null,null,null,null,null,null,null,116,18.559999999999999,"Left Bank",52.268443182903724,96.591028876731016,52.260519654479921,94.591105030602677,95.874067056124048,0,0,0,"","",0,1.2829620255213712,1.2829620255213712,0,0,0,0,0,1.2829620255213712,9.3192411378129336E-2,0,0,0.16,18.559999999999999,0,0,"",5.659009201654726,0.11955704584501542,0.16,0,0.16,18.559999999999999,""]
[null,null,null,null,null,null,null,null,null,null,null,null,null,null,null,null,null,null,null,null,null,null,null,null,null,null,null,null,null,null,null,null,null,null,117,18.72,"Left Bank",52.341078897011307,96.589632631051273,52.333155368587505,94.589708784922934,95.863828879278401,0,0,0,"","",0,1.2741200943554674,1.2741200943554674,0,0,0,0,0,1.2741200943554674,9.2550146938341918E-2,0,0,0.16,18.72,0,0,"",5.6604054473344689,0.11943198700136576,0.16,0,0.16,18.72,""]
[null,null,null,null,null,null,null,null,null,null,null,null,null,null,null,null,null,null,null,null,null,null,null,null,null,null,null,null,null,null,null,null,null,null,118,18.88,"Left Bank",52.413714611118898,96.58823638537153,52.405791082695096,94.588312539243191,95.853590702432754,0,0,0,"","",0,1.2652781631895635,1.2652781631895635,0,0,0,0,0,1.2652781631895635,9.19078824985545E-2,0,0,0.16,18.88,0,0,"",5.6618016930142119,0.1193070589715402,0.16,0,0.16,18.88,""]
[null,null,null,null,null,null,null,null,null,null,null,null,null,null,null,null,null,null,null,null,null,null,null,null,null,null,null,null,null,null,null,null,null,null,119,19.04,"Left Bank",52.486350325226482,96.586840139691787,52.47842679680268,94.586916293563448,95.843352525587122,0,0,0,"","",0,1.2564362320236739,1.2564362320236739,0,0,0,0,0,1.2564362320236739,9.1265618058768122E-2,0,0,0.16,19.04,0,0,"",5.6631979386939548,0.11918226161870517,0.16,0,0.16,19.04,""]
[null,null,null,null,null,null,null,null,null,null,null,null,null,null,null,null,null,null,null,null,null,null,null,null,null,null,null,null,null,null,null,null,null,null,120,19.2,"Left Bank",52.558986039334073,96.585443894012045,52.55106251091027,94.585520047883705,95.833114348741475,0,0,0,"","",0,1.2475943008577701,1.2475943008577701,0,0,0,0,0,1.2475943008577701,9.0623353618980704E-2,0,0,0.16,19.2,0,0,"",5.6645941843736978,0.11905759480617017,0.16,0,0.16,19.2,""]
[null,null,null,null,null,null,null,null,null,null,null,null,null,null,null,null,null,null,null,null,null,null,null,null,null,null,null,null,null,null,null,null,null,null,121,19.36,"Left Bank",52.631621753441664,96.584047648332302,52.623698225017861,94.584123802203962,95.822876171895842,0,0,0,"","",0,1.2387523696918805,1.2387523696918805,0,0,0,0,0,1.2387523696918805,8.9981089179194326E-2,0,0,0.16,19.36,0,0,"",5.6659904300534407,0.1189330583973877,0.16,0,0.16,19.36,""]
[null,null,null,null,null,null,null,null,null,null,null,null,null,null,null,null,null,null,null,null,null,null,null,null,null,null,null,null,null,null,null,null,null,null,122,19.52,"Left Bank",52.704257467549247,96.582651402652559,52.696333939125445,94.582727556524219,95.812637995050196,0,0,0,"","",0,1.2299104385259767,1.2299104385259767,0,0,0,0,0,1.2299104385259767,8.9338824739406908E-2,0,0,0.16,19.52,0,0,"",5.6673866757331837,0.11880865225595313,0.16,0,0.16,19.52,""]
[null,null,null,null,null,null,null,null,null,null,null,null,null,null,null,null,null,null,null,null,null,null,null,null,null,null,null,null,null,null,null,null,null,null,123,19.68,"Left Bank",52.776893181656831,96.581255156972816,52.768969653233029,94.581331310844476,95.802399818204563,0,0,0,"","",0,1.2210685073600871,1.2210685073600871,0,0,0,0,0,1.2210685073600871,8.869656029962053E-2,0,0,0.16,19.68,0,0,"",5.6687829214129266,0.11868437624560428,0.16,0,0.16,19.68,""]
[null,null,null,null,null,null,null,null,null,null,null,null,null,null,null,null,null,null,null,null,null,null,null,null,null,null,null,null,null,null,null,null,null,null,124,19.84,"Left Bank",52.849528895764422,96.579858911293073,52.84160536734062,94.579935065164733,95.792161641358916,0,0,0,"","",0,1.2122265761941833,1.2122265761941833,0,0,0,0,0,1.2122265761941833,8.8054295859833112E-2,0,0,0.16,19.84,0,0,"",5.6701791670926696,0.11856023023022172,0.16,0,0.16,19.84,""]
[null,null,null,null,null,null,null,null,null,null,null,null,null,null,null,null,null,null,null,null,null,null,null,null,null,null,null,null,null,null,null,null,null,null,125,20,"Left Bank",52.922164609872013,96.57846266561333,52.91424108144821,94.57853881948499,95.78192346451327,0,0,0,"","",0,1.2033846450282795,1.2033846450282795,0,0,0,0,0,1.2033846450282795,8.7412031420045694E-2,0,0,0.16,20,0,0,"",5.6715754127724125,0.11843621407382839,0.16,0,0.16,20,""]
[null,null,null,null,null,null,null,null,null,null,null,null,null,null,null,null,null,null,null,null,null,null,null,null,null,null,null,null,null,null,null,null,null,null,126,20.16,"Left Bank",52.994800323979597,96.577066419933587,52.986876795555794,94.577142573805247,95.771685287667637,0,0,0,"","",0,1.1945427138623899,1.1945427138623899,0,0,0,0,0,1.1945427138623899,8.6769766980259316E-2,0,0,0.16,20.16,0,0,"",5.6729716584521555,0.11831232764058942,0.16,0,0.16,20.16,""]
[null,null,null,null,null,null,null,null,null,null,null,null,null,null,null,null,null,null,null,null,null,null,null,null,null,null,null,null,null,null,null,null,null,null,127,20.32,"Left Bank",53.06743603808718,96.575670174253844,53.059512509663378,94.575746328125504,95.76144711082199,0,0,0,"","",0,1.185700782696486,1.185700782696486,0,0,0,0,0,1.185700782696486,8.6127502540471898E-2,0,0,0.16,20.32,0,0,"",5.6743679041318984,0.11818857079481211,0.16,0,0.16,20.32,""]
[null,null,null,null,null,null,null,null,null,null,null,null,null,null,null,null,null,null,null,null,null,null,null,null,null,null,null,null,null,null,null,null,null,null,128,20.48,{"$f":"IF(OR($C$19=\"\",$F$25=\"\",$G$25=\"\"),\"None\",IF(AL173<$B$14,\"Left Floodplain\",IF(AL173<$B$15,\"Left Bank\",IF(AL173<$B$16,\"Left Stream Bed\",IF(AL173<$B$17,\"Right Stream Bed\",IF(AL173<$B$18,\"Right Bank\",\"Right Floodplain\"))))))","v":"Left Bank"},53.140071752194771,96.574273928574101,53.132148223770969,94.574350082445761,95.751208933976358,{"$f":"IF(OR($AP173<$AE$12,$AP173<=$AM173),0,IF(OR($AP173>=$AE$12,$AM173>=$AE$12),$AP173-$AM173-$AR173,$AP173-$AE$12))","v":0},{"$f":"IF($AP173<=$AM173,0,IF($AM173>=$AE$12,0,IF($AP173<=$AE$12,$AP173-$AM173,$AE$12-$AM173)))","v":0},0,"","",0,{"$f":"IF($AP173<=$AO173,0,IF($AO173>=$AE$12,0,IF($AP173<=$AE$12,$AP173-$AO173,$AE$12-$AO173)))","v":1.1768588515305964},{"$f":"IF(AP173<=AO173,0,AP173-AO173)","v":1.1768588515305964},{"$f":"IF($AS173=0,0,IF(OR($AJ173=0,$AJ173=$E$22),$AJ$46/2,$AJ$46))","v":0},{"$f":"IF(OR($AK173=\"Left Stream Bed\",$AK173=\"Right Stream Bed\"),$F$22*$AQ173*$AY173,0)","v":0},{"$f":"IF(OR($AK173=\"Left Stream Bed\",$AK173=\"Right Stream Bed\"),$F$22*$AR173*$AY173,0)","v":0},{"$f":"IF(OR($AK173=\"Left Floodplain\",$AK173=\"Left Bank\",$AK173=\"Right Bank\",$AK173=\"Right Floodplain\"),$F$22*$AQ173*$AY173,0)","v":0},{"$f":"IF(OR($AK173=\"Left Floodplain\",$AK173=\"Left Bank\",$AK173=\"Right Bank\",$AK173=\"Right Floodplain\"),$F$22*$AR173*$AY173,0)","v":0},{"$f":"AX173-AS173","v":1.1768588515305964},8.5485238100685521E-2,0,{"$f":"IF(OR($AJ173=0,$AJ173=$E$22),($BF173*$AJ$46/2)*ABS($M$17),$BF173*$AJ$46*ABS($M$17))","v":0},{"$f":"IF(OR($AM173<$AP173,$AO173>$AE$8),\"\",IF(OR($AJ173=0,$AJ173=$E$22),$AJ$46/2,$AJ$46))","v":0.16},20.48,0,{"$f":"IF($BJ173=\"\",\"\",IF(OR($BJ173>($F$22/2),$BJ173=0),0,0.45-($BJ173*0.45/($F$22/2))))","v":0},{"$f":"IF($BK173=\"\",\"\",IF($BK173>0,$AJ173,\"\"))","v":""},5.6757641498116413,0.11806494340094546,{"$f":"IF($AO173=0,0,IF($AO173>$AP173,0,IF(OR($AJ173=0,$AJ173=$E$22),$AJ$46/2,$AJ$46)))","v":0.16},{"$f":"IF(AND($BO173>0,OR($AK173=\"Left Stream Bed\",$AK173=\"Right Stream Bed\")),$BO173,0)","v":0},{"$f":"IF(AND($BO173>0,OR($AK173=\"Left Floodplain\",$AK173=\"Left Bank\",$AK173=\"Right Bank\",$AK173=\"Right Floodplain\")),$BO173,0)","v":0.16},{"$f":"IF($BO173>0,$AJ173,\"\")","v":20.48},""]
[null,null,null,null,null,null,null,null,null,null,null,null,null,null,null,null,null,null,null,null,null,null,null,null,null,null,null,null,null,null,null,null,null,null,129,{"$f":"($AI174/$AI$245)*$AJ$245","v":20.64},"Left Bank",53.212707466302362,96.572877682894358,{"$f":"$AN$45+ABS(AJ174*$M$19*$M$17)","v":53.20478393787856},94.572953836766018,95.740970757130711,0,0,{"$f":"IF(AP174<=AM174,0,AP174-AM174)","v":0},{"$f":"IF(OR($AS174=\"\",$AS174=0),\"\",IF(OR($AK174=\"Left Stream Bed\",$AK174=\"Right Stream Bed\"),$AS174,\"\"))","v":""},{"$f":"IF(OR($AS174=\"\",$AS174=0),\"\",IF(OR($AK174=\"Left Floodplain\",$AK174=\"Left Bank\",$AK174=\"Right Bank\",$AK174=\"Right Floodplain\"),$AS174,\"\"))","v":""},{"$f":"IF(OR($AP174<$AE$12,$AP174<=$AO174),0,IF($AO174>=$AE$12,$AP174-$AO174,$AP174-$AE$12))","v":0},1.1680169203646926,1.1680169203646926,0,0,0,0,0,1.1680169203646926,{"$f":"$BD174*$AJ$46*ABS($M$17)","v":8.4842973660898102E-2},{"$f":"AV174-AQ174","v":0},0,0.16,{"$f":"IF($BH174=\"\",\"\",IF($BH174>0,$AJ174,\"\"))","v":20.64},{"$f":"IF($BH174=\"\",\"\",IF(OR(($AO174-$AP174)<0,$AO$45>=$AE$8),0,($AO174-$AP174)))","v":0},0,"",{"$f":"IF($BH174=\"\",\"\",IF(OR(($AM174-$AP174)<0,$AM174>=$AE$8),\"\",($AE$8-($AM174-(($F$22/2)/$M$19)))))","v":5.6771603954913843},0.11794144532358049,0.16,0,0.16,20.64,{"$f":"IF($AY174>0,$AJ174,\"\")","v":""}]
[null,null,null,null,null,null,null,null,null,null,null,null,null,null,null,null,null,null,null,null,null,null,null,null,null,null,null,null,null,null,null,null,null,null,130,20.8,"Left Bank",53.285343180409946,{"$f":"AM174+((AL175-AL174)*$AA$40)","v":96.571481437214615},53.277419651986143,{"$f":"AO174+((AN175-AN174)*$AA$40)","v":94.571557591086275},{"$f":"IF($AL175<$B$14,(($AL175-$B$13)*$AB$31)+$C$13,IF($AL175<$B$15,(($AL175-$B$14)*$AB$32)+$C$14,IF($AL175<$B$16,(($AL175-$B$15)*$AB$33)+$C$15,IF($AL175<$B$17,(($AL175-$B$16)*$AB$34)+$C$16,IF($AL175<$B$18,(($AL175-$B$17)*$AB$35)+$C$17,IF($AL175<$B$19,(($AL175-$B$18)*$AB$36)+$C$18))))))","v":95.730732580285064},0,0,0,"","",0,1.1591749891987888,1.1591749891987888,0,0,0,0,0,1.1591749891987888,8.4200709221110684E-2,0,0,0.16,20.8,0,0,"",5.6785566411711272,{"$f":"IF($BM175=\"\",\"\",(((PI()^2)/32)*($B$66^-6)*EXP(-($BM175/$F$22)/(2*($B$66^2)))))","v":0.11781807642744978},0.16,0,0.16,20.8,""]
[null,null,null,null,null,null,null,null,null,null,null,null,null,null,null,null,null,null,null,null,null,null,null,null,null,null,null,null,null,null,null,null,null,null,131,20.96,"Left Bank",{"$f":"$AL$45+ABS(AJ176*$M$19*$M$17)","v":53.357978894517537},96.570085191534872,53.350055366093734,94.570161345406532,95.720494403439432,0,0,0,"","",0,1.1503330580328992,1.1503330580328992,0,0,0,0,0,1.1503330580328992,8.3558444781324306E-2,0,0,0.16,20.96,0,0,"",5.6799528868508702,0.11769483657742753,0.16,0,0.16,20.96,""]
[null,null,null,null,null,null,null,null,null,null,null,null,null,null,null,null,null,null,null,null,null,null,null,null,null,null,null,null,null,null,null,null,null,null,132,21.12,"Left Bank",53.43061460862512,96.568688945855129,53.422691080201318,94.568765099726789,95.710256226593785,0,0,0,"","",0,1.1414911268669954,1.1414911268669954,0,0,0,0,0,1.1414911268669954,8.2916180341536888E-2,0,0,0.16,21.12,0,0,"",5.6813491325306131,0.11757172563852895,0.16,0,0.16,21.12,""]
[null,null,null,null,null,null,null,null,null,null,null,null,null,null,null,null,null,null,null,null,null,null,null,null,null,null,null,null,null,null,null,null,null,null,133,21.28,"Left Bank",53.503250322732711,96.567292700175386,53.495326794308909,94.567368854047047,95.700018049748152,0,0,0,"","",0,1.1326491957011058,1.1326491957011058,0,0,0,0,0,1.1326491957011058,8.2273915901750511E-2,0,0,0.16,21.28,0,0,"",5.6827453782103561,0.11744874347591078,0.16,0,0.16,21.28,""]
[null,null,null,null,null,null,null,null,null,null,null,null,null,null,null,null,null,null,null,null,null,null,null,null,null,null,null,null,null,null,null,null,null,null,134,21.44,"Left Bank",53.575886036840295,96.565896454495643,53.567962508416493,94.565972608367304,95.689779872902506,0,0,0,"","",0,1.123807264535202,1.123807264535202,0,0,0,0,0,1.123807264535202,8.1631651461963092E-2,0,0,0.16,21.44,0,0,"",5.684141623890099,0.11732588995487067,0.16,0,0.16,21.44,""]
[null,null,null,null,null,null,null,null,null,null,null,null,null,null,null,null,null,null,null,null,null,null,null,null,null,null,null,null,null,null,null,null,null,null,135,21.6,"Left Bank",53.648521750947886,96.5645002088159,53.640598222524083,94.564576362687561,95.679541696056859,0,0,0,"","",0,1.1149653333692982,1.1149653333692982,0,0,0,0,0,1.1149653333692982,8.0989387022175674E-2,0,0,0.16,21.6,0,0,"",5.685537869569842,0.1172031649408472,0.16,0,0.16,21.6,""]
[null,null,null,null,null,null,null,null,null,null,null,null,null,null,null,null,null,null,null,null,null,null,null,null,null,null,null,null,null,null,null,null,null,null,136,21.76,"Left Bank",53.72115746505547,96.563103963136157,53.713233936631667,94.563180117007818,95.669303519211226,0,0,0,"","",0,1.1061234022034085,1.1061234022034085,0,0,0,0,0,1.1061234022034085,8.0347122582389296E-2,0,0,0.16,21.76,0,0,"",5.6869341152495849,0.11708056829941979,0.16,0,0.16,21.76,""]
[null,null,null,null,null,null,null,null,null,null,null,null,null,null,null,null,null,null,null,null,null,null,null,null,null,null,null,null,null,null,null,null,null,null,137,21.92,"Left Bank",53.79379317916306,96.561707717456414,53.785869650739258,94.561783871328075,95.659065342365579,0,0,0,"","",0,1.0972814710375047,1.0972814710375047,0,0,0,0,0,1.0972814710375047,7.9704858142601878E-2,0,0,0.16,21.92,0,0,"",5.6883303609293279,0.11695809989630818,0.16,0,0.16,21.92,""]
[null,null,null,null,null,null,null,null,null,null,null,null,null,null,null,null,null,null,null,null,null,null,null,null,null,null,null,null,null,null,null,null,null,null,138,22.08,"Left Bank",53.866428893270644,96.560311471776672,53.858505364846842,94.560387625648332,95.648827165519947,0,0,0,"","",0,1.0884395398716151,1.0884395398716151,0,0,0,0,0,1.0884395398716151,7.9062593702815501E-2,0,0,0.16,22.08,0,0,"",5.6897266066090708,0.11683575959737284,0.16,0,0.16,22.08,""]
[null,null,null,null,null,null,null,null,null,null,null,null,null,null,null,null,null,null,null,null,null,null,null,null,null,null,null,null,null,null,null,null,null,null,139,22.24,"Left Bank",53.939064607378235,96.558915226096929,53.931141078954433,94.558991379968589,95.6385889886743,0,0,0,"","",0,1.0795976087057113,1.0795976087057113,0,0,0,0,0,1.0795976087057113,7.8420329263028082E-2,0,0,0.16,22.24,0,0,"",5.6911228522888138,0.11671354726861451,0.16,0,0.16,22.24,""]
[null,null,null,null,null,null,null,null,null,null,null,null,null,null,null,null,null,null,null,null,null,null,null,null,null,null,null,null,null,null,null,null,null,null,140,22.4,"Left Stream Bed",54.011700321485819,96.557518980417186,54.003776793062016,94.557595134288846,95.628675523607797,0,0,0,"","",0,1.0710803893189507,1.0710803893189507,0,0,0,0,0,1.0710803893189507,7.7801651393302182E-2,0,0,0.16,22.4,0,0,"",5.6925190979685567,0.11659146277617401,0.16,0.16,0,22.4,""]
[null,null,null,null,null,null,null,null,null,null,null,null,null,null,null,null,null,null,null,null,null,null,null,null,null,null,null,null,null,null,null,null,null,null,141,22.56,"Left Stream Bed",54.08433603559341,96.556122734737443,54.076412507169607,94.556198888609103,95.620453160770822,0,0,0,"","",0,1.064254272161719,1.064254272161719,0,0,0,0,0,1.064254272161719,7.7305812618983408E-2,0,0,0.16,22.56,0,0,"",5.6939153436482997,0.11646950598633235,0.16,0.16,0,22.56,""]
[null,null,null,null,null,null,null,null,null,null,null,null,null,null,null,null,null,null,null,null,null,null,null,null,null,null,null,null,null,null,null,null,null,null,142,22.72,"Left Stream Bed",54.156971749700993,96.5547264890577,54.149048221277191,94.55480264292936,95.612230797933847,0,0,0,"","",0,1.0574281550044873,1.0574281550044873,0,0,0,0,0,1.0574281550044873,7.6809973844664647E-2,0,0,0.16,22.72,0,0,"",5.6953115893280426,0.1163476767655101,0.16,0.16,0,22.72,""]
[null,null,null,null,null,null,null,null,null,null,null,null,null,null,null,null,null,null,null,null,null,null,null,null,null,null,null,null,null,null,null,null,null,null,143,22.88,"Left Stream Bed",54.229607463808584,96.553330243377957,54.221683935384782,94.553406397249617,95.604008435096858,0,0,0,"","",0,1.0506020378472414,1.0506020378472414,0,0,0,0,0,1.0506020378472414,7.6314135070344846E-2,0,0,0.16,22.88,0,0,"",5.6967078350077855,0.11622597498026783,0.16,0.16,0,22.88,""]
[null,null,null,null,null,null,null,null,null,null,null,null,null,null,null,null,null,null,null,null,null,null,null,null,null,null,null,null,null,null,null,null,null,null,144,23.04,"Left Stream Bed",54.302243177916168,96.551933997698214,54.294319649492365,94.552010151569874,95.595786072259884,0,0,0,"","",0,1.0437759206900097,1.0437759206900097,0,0,0,0,0,1.0437759206900097,7.5818296296026072E-2,0,0,0.16,23.04,0,0,"",5.6981040806875285,0.11610440049730562,0.16,0.16,0,23.04,""]
[null,null,null,null,null,null,null,null,null,null,null,null,null,null,null,null,null,null,null,null,null,null,null,null,null,null,null,null,null,null,null,null,null,null,145,23.2,"Left Stream Bed",54.374878892023759,96.550537752018471,54.366955363599956,94.550613905890131,95.587563709422909,0,0,0,"","",0,1.036949803532778,1.036949803532778,0,0,0,0,0,1.036949803532778,7.5322457521707298E-2,0,0,0.16,23.2,0,0,"",5.6995003263672714,0.11598295318346297,0.16,0.16,0,23.2,""]
[null,null,null,null,null,null,null,null,null,null,null,null,null,null,null,null,null,null,null,null,null,null,null,null,null,null,null,null,null,null,null,null,null,null,146,23.36,"Left Stream Bed",54.447514606131342,96.549141506338728,54.43959107770754,94.549217660210388,95.579341346585935,0,0,0,"","",0,1.0301236863755463,1.0301236863755463,0,0,0,0,0,1.0301236863755463,7.4826618747388537E-2,0,0,0.16,23.36,0,0,"",5.7008965720470144,0.11586163290571874,0.16,0.16,0,23.36,""]
[null,null,null,null,null,null,null,null,null,null,null,null,null,null,null,null,null,null,null,null,null,null,null,null,null,null,null,null,null,null,null,null,null,null,147,23.52,"Left Stream Bed",54.520150320238933,96.547745260658985,54.512226791815131,94.547821414530645,95.571118983748946,0,0,0,"","",0,1.0232975692183004,1.0232975692183004,0,0,0,0,0,1.0232975692183004,7.4330779973068722E-2,0,0,0.16,23.52,0,0,"",5.7022928177267573,0.1157404395311907,0.16,0.16,0,23.52,""]
[null,null,null,null,null,null,null,null,null,null,null,null,null,null,null,null,null,null,null,null,null,null,null,null,null,null,null,null,null,null,null,null,null,null,148,23.68,"Left Stream Bed",54.592786034346517,96.546349014979242,54.584862505922715,94.546425168850902,95.562896620911971,0,0,0,"","",0,1.0164714520610687,1.0164714520610687,0,0,0,0,0,1.0164714520610687,7.3834941198749962E-2,0,0,0.16,23.68,0,0,"",5.7036890634065003,0.11561937292713585,0.16,0.16,0,23.68,""]
[null,null,null,null,null,null,null,null,null,null,null,null,null,null,null,null,null,null,null,null,null,null,null,null,null,null,null,null,null,null,null,null,null,null,149,23.84,"Left Stream Bed",54.665421748454108,96.544952769299499,54.657498220030305,94.545028923171159,95.554674258074996,0,0,0,"","",0,1.009645334903837,1.009645334903837,0,0,0,0,0,1.009645334903837,7.3339102424431202E-2,0,0,0.16,23.84,0,0,"",5.7050853090862432,0.11549843296095,0.16,0.16,0,23.84,""]
[null,null,null,null,null,null,null,null,null,null,null,null,null,null,null,null,null,null,null,null,null,null,null,null,null,null,null,null,null,null,null,null,null,null,150,24,"Left Stream Bed",54.738057462561699,96.543556523619756,54.730133934137896,94.543632677491416,95.546451895238008,0,0,0,"","",0,1.0028192177465911,1.0028192177465911,0,0,0,0,0,1.0028192177465911,7.2843263650111401E-2,0,0,0.16,24,0,0,"",5.7064815547659862,0.11537761950016773,0.16,0.16,0,24,""]
[null,null,null,null,null,null,null,null,null,null,null,null,null,null,null,null,null,null,null,null,null,null,null,null,null,null,null,null,null,null,null,null,null,null,151,24.16,"Left Stream Bed",54.810693176669282,96.542160277940013,54.80276964824548,94.542236431811673,95.538229532401033,0,0,0,"","",0,0.99599310058935941,0.99599310058935941,0,0,0,0,0,0.99599310058935941,7.2347424875792626E-2,0,0,0.16,24.16,0,0,"",5.7078778004457291,0.11525693241246183,0.16,0.16,0,24.16,""]
[null,null,null,null,null,null,null,null,null,null,null,null,null,null,null,null,null,null,null,null,null,null,null,null,null,null,null,null,null,null,null,null,null,null,152,24.32,"Left Stream Bed",54.883328890776866,96.54076403226027,54.875405362353064,94.540840186131931,95.530007169564058,0,0,0,"","",0,0.98916698343212772,0.98916698343212772,0,0,0,0,0,0.98916698343212772,7.1851586101473852E-2,0,0,0.16,24.32,0,0,"",5.7092740461254721,0.11513637156564396,0.16,0.16,0,24.32,""]
[null,null,null,null,null,null,null,null,null,null,null,null,null,null,null,null,null,null,null,null,null,null,null,null,null,null,null,null,null,null,null,null,null,null,153,24.48,"Left Stream Bed",54.955964604884457,96.539367786580527,54.948041076460655,94.539443940452188,95.521784806727069,0,0,0,"","",0,0.98234086627488182,0.98234086627488182,0,0,0,0,0,0.98234086627488182,7.1355747327154051E-2,0,0,0.16,24.48,0,0,"",5.710670291805215,0.1150159368276638,0.16,0.16,0,24.48,""]
[null,null,null,null,null,null,null,null,null,null,null,null,null,null,null,null,null,null,null,null,null,null,null,null,null,null,null,null,null,null,null,null,null,null,154,24.64,"Left Stream Bed",55.028600318992048,96.537971540900784,55.020676790568245,94.538047694772445,95.513562443890095,0,0,0,"","",0,0.97551474911765013,0.97551474911765013,0,0,0,0,0,0.97551474911765013,7.0859908552835277E-2,0,0,0.16,24.64,0,0,"",5.712066537484958,0.11489562806660919,0.16,0.16,0,24.64,""]
[null,null,null,null,null,null,null,null,null,null,null,null,null,null,null,null,null,null,null,null,null,null,null,null,null,null,null,null,null,null,null,null,null,null,155,24.8,"Left Stream Bed",55.101236033099632,96.536575295221041,55.093312504675829,94.536651449092702,95.50534008105312,0,0,0,"","",0,0.96868863196041843,0.96868863196041843,0,0,0,0,0,0.96868863196041843,7.0364069778516503E-2,0,0,0.16,24.8,0,0,"",5.7134627831647009,0.11477544515070615,0.16,0.16,0,24.8,""]
[null,null,null,null,null,null,null,null,null,null,null,null,null,null,null,null,null,null,null,null,null,null,null,null,null,null,null,null,null,null,null,null,null,null,156,24.96,"Left Stream Bed",55.173871747207215,96.535179049541298,55.165948218783413,94.535255203412959,95.497117718216145,0,0,0,"","",0,0.96186251480318674,0.96186251480318674,0,0,0,0,0,0.96186251480318674,6.9868231004197742E-2,0,0,0.16,24.96,0,0,"",5.7148590288444439,0.11465538794831807,0.16,0.16,0,24.96,""]
[null,null,null,null,null,null,null,null,null,null,null,null,null,null,null,null,null,null,null,null,null,null,null,null,null,null,null,null,null,null,null,null,null,null,157,25.12,"Left Stream Bed",55.246507461314806,96.533782803861556,55.238583932891004,94.533858957733216,95.488895355379157,0,0,0,"","",0,0.95503639764594084,0.95503639764594084,0,0,0,0,0,0.95503639764594084,6.9372392229877941E-2,0,0,0.16,25.12,0,0,"",5.7162552745241868,0.11453545632794651,0.16,0.16,0,25.12,""]
[null,null,null,null,null,null,null,null,null,null,null,null,null,null,null,null,null,null,null,null,null,null,null,null,null,null,null,null,null,null,null,null,null,null,158,25.28,"Left Stream Bed",55.319143175422397,96.532386558181813,55.311219646998595,94.532462712053473,95.480672992542182,0,0,0,"","",0,0.94821028048870915,0.94821028048870915,0,0,0,0,0,0.94821028048870915,6.8876553455559167E-2,0,0,0.16,25.28,0,0,"",5.7176515202039297,0.11441565015823035,0.16,0.16,0,25.28,""]
[null,null,null,null,null,null,null,null,null,null,null,null,null,null,null,null,null,null,null,null,null,null,null,null,null,null,null,null,null,null,null,null,null,null,159,25.44,"Left Stream Bed",55.391778889529981,96.53099031250207,55.383855361106178,94.53106646637373,95.472450629705207,0,0,0,"","",0,0.94138416333147745,0.94138416333147745,0,0,0,0,0,0.94138416333147745,6.8380714681240407E-2,0,0,0.16,25.44,0,0,"",5.7190477658836727,0.11429596930794596,0.16,0.16,0,25.44,""]
[null,null,null,null,null,null,null,null,null,null,null,null,null,null,null,null,null,null,null,null,null,null,null,null,null,null,null,null,null,null,null,null,null,null,160,25.6,"Left Stream Bed",55.464414603637572,96.529594066822327,55.456491075213769,94.529670220693987,95.464228266868218,0,0,0,"","",0,0.93455804617423155,0.93455804617423155,0,0,0,0,0,0.93455804617423155,6.7884875906920591E-2,0,0,0.16,25.6,0,0,"",5.7204440115634156,0.11417641364600699,0.16,0.16,0,25.6,""]
[null,null,null,null,null,null,null,null,null,null,null,null,null,null,null,null,null,null,null,null,null,null,null,null,null,null,null,null,null,null,null,null,null,null,161,25.76,"Left Stream Bed",55.537050317745155,96.528197821142584,55.529126789321353,94.528273975014244,95.456005904031244,0,0,0,"","",0,0.92773192901699986,0.92773192901699986,0,0,0,0,0,0.92773192901699986,6.7389037132601831E-2,0,0,0.16,25.76,0,0,"",5.7218402572431586,0.114056983041464,0.16,0.16,0,25.76,""]
[null,null,null,null,null,null,null,null,null,null,null,null,null,null,null,null,null,null,null,null,null,null,null,null,null,null,null,null,null,null,null,null,null,null,162,25.92,"Left Stream Bed",55.609686031852746,96.526801575462841,55.601762503428944,94.526877729334501,95.447783541194269,0,0,0,"","",0,0.92090581185976816,0.92090581185976816,0,0,0,0,0,0.92090581185976816,6.6893198358283057E-2,0,0,0.16,25.92,0,0,"",5.7232365029229015,0.11393767736350474,0.16,0.16,0,25.92,""]
[null,null,null,null,null,null,null,null,null,null,null,null,null,null,null,null,null,null,null,null,null,null,null,null,null,null,null,null,null,null,null,null,null,null,163,26.08,"Left Stream Bed",55.68232174596033,96.525405329783098,55.674398217536528,94.525481483654758,95.43956117835728,0,0,0,"","",0,0.91407969470252226,0.91407969470252226,0,0,0,0,0,0.91407969470252226,6.639735958396327E-2,0,0,0.16,26.08,0,0,"",5.7246327486026445,0.11381849648145376,0.16,0.16,0,26.08,""]
[null,null,null,null,null,null,null,null,null,null,null,null,null,null,null,null,null,null,null,null,null,null,null,null,null,null,null,null,null,null,null,null,null,null,164,26.24,"Left Stream Bed",55.754957460067914,96.524009084103355,55.747033931644111,94.524085237975015,95.431338815520306,0,0,0,"","",0,0.90725357754529057,0.90725357754529057,0,0,0,0,0,0.90725357754529057,6.5901520809644495E-2,0,0,0.16,26.24,0,0,"",5.7260289942823874,0.11369944026477237,0.16,0.16,0,26.24,""]
[null,null,null,null,null,null,null,null,null,null,null,null,null,null,null,null,null,null,null,null,null,null,null,null,null,null,null,null,null,null,null,null,null,null,165,26.4,"Left Stream Bed",55.827593174175504,96.522612838423612,55.819669645751702,94.522688992295272,95.423116452683331,0,0,0,"","",0,0.90042746038805888,0.90042746038805888,0,0,0,0,0,0.90042746038805888,6.5405682035325721E-2,0,0,0.16,26.4,0,0,"",5.7274252399621304,0.1135805085830581,0.16,0.16,0,26.4,""]
[null,null,null,null,null,null,null,null,null,null,null,null,null,null,null,null,null,null,null,null,null,null,null,null,null,null,null,null,null,null,null,null,null,null,166,26.56,"Left Stream Bed",55.900228888283095,96.521216592743869,55.892305359859293,94.521292746615529,95.414894089846342,0,0,0,"","",0,0.89360134323081297,0.89360134323081297,0,0,0,0,0,0.89360134323081297,6.490984326100592E-2,0,0,0.16,26.56,0,0,"",5.7288214856418733,0.11346170130604524,0.16,0.16,0,26.56,""]
[null,null,null,null,null,null,null,null,null,null,null,null,null,null,null,null,null,null,null,null,null,null,null,null,null,null,null,null,null,null,null,null,null,null,167,26.72,"Left Stream Bed",55.972864602390679,96.519820347064126,55.964941073966877,94.519896500935786,95.406671727009368,0,0,0,"","",0,0.88677522607358128,0.88677522607358128,0,0,0,0,0,0.88677522607358128,6.4414004486687146E-2,0,0,0.16,26.72,0,0,"",5.7302177313216163,0.11334301830360419,0.16,0.16,0,26.72,""]
[null,null,null,null,null,null,null,null,null,null,null,null,null,null,null,null,null,null,null,null,null,null,null,null,null,null,null,null,null,null,null,null,null,null,168,26.88,"Left Stream Bed",56.045500316498263,96.518424101384383,56.03757678807446,94.518500255256043,95.398449364172393,0,0,0,"","",0,0.87994910891634959,0.87994910891634959,0,0,0,0,0,0.87994910891634959,6.3918165712368372E-2,0,0,0.16,26.88,0,0,"",5.7316139770013592,0.11322445944574151,0.16,0.16,0,26.88,""]
[null,null,null,null,null,null,null,null,null,null,null,null,null,null,null,null,null,null,null,null,null,null,null,null,null,null,null,null,null,null,null,null,null,null,169,27.04,"Left Stream Bed",56.118136030605854,96.51702785570464,56.110212502182051,94.5171040095763,95.390227001335418,0,0,0,"","",0,0.87312299175911789,0.87312299175911789,0,0,0,0,0,0.87312299175911789,6.3422326938049597E-2,0,0,0.16,27.04,0,0,"",5.7330102226811022,0.1131060246025998,0.16,0.16,0,27.04,""]
[null,null,null,null,null,null,null,null,null,null,null,null,null,null,null,null,null,null,null,null,null,null,null,null,null,null,null,null,null,null,null,null,null,null,170,27.2,"Left Stream Bed",56.190771744713444,96.515631610024897,56.182848216289642,94.515707763896557,95.382004638498429,0,0,0,"","",0,0.86629687460187199,0.86629687460187199,0,0,0,0,0,0.86629687460187199,6.292648816372981E-2,0,0,0.16,27.2,0,0,"",5.7344064683608451,0.11298771364445721,0.16,0.16,0,27.2,""]
[null,null,null,null,null,null,null,null,null,null,null,null,null,null,null,null,null,null,null,null,null,null,null,null,null,null,null,null,null,null,null,null,null,null,171,27.36,"Left Stream Bed",56.263407458821028,96.514235364345154,56.255483930397226,94.514311518216815,95.373782275661455,0,0,0,"","",0,0.8594707574446403,0.8594707574446403,0,0,0,0,0,0.8594707574446403,6.2430649389411043E-2,0,0,0.16,27.36,0,0,"",5.7358027140405881,0.11286952644172789,0.16,0.16,0,27.36,""]
[null,null,null,null,null,null,null,null,null,null,null,null,null,null,null,null,null,null,null,null,null,null,null,null,null,null,null,null,null,null,null,null,null,null,172,27.52,"Left Stream Bed",56.336043172928619,96.512839118665411,56.328119644504817,94.512915272537072,95.36555991282448,0,0,0,"","",0,0.85264464028740861,0.85264464028740861,0,0,0,0,0,0.85264464028740861,6.1934810615092269E-2,0,0,0.16,27.52,0,0,"",5.737198959720331,0.11275146286496139,0.16,0.16,0,27.52,""]
[null,null,null,null,null,null,null,null,null,null,null,null,null,null,null,null,null,null,null,null,null,null,null,null,null,null,null,null,null,null,null,null,null,null,173,27.68,"Left Stream Bed",56.408678887036203,96.511442872985668,56.4007553586124,94.511519026857329,95.357337549987491,0,0,0,"","",0,0.8458185231301627,0.8458185231301627,0,0,0,0,0,0.8458185231301627,6.1438971840772467E-2,0,0,0.16,27.68,0,0,"",5.738595205400074,0.11263352278484275,0.16,0.16,0,27.68,""]
[null,null,null,null,null,null,null,null,null,null,null,null,null,null,null,null,null,null,null,null,null,null,null,null,null,null,null,null,null,null,null,null,null,null,174,27.84,"Left Stream Bed",56.481314601143794,96.510046627305925,56.473391072719991,94.510122781177586,95.349115187150517,0,0,0,"","",0,0.83899240597293101,0.83899240597293101,0,0,0,0,0,0.83899240597293101,6.0943133066453693E-2,0,0,0.16,27.84,0,0,"",5.7399914510798169,0.11251570607219229,0.16,0.16,0,27.84,""]
[null,null,null,null,null,null,null,null,null,null,null,null,null,null,null,null,null,null,null,null,null,null,null,null,null,null,null,null,null,null,null,null,null,null,175,28,"Left Stream Bed",56.553950315251377,96.508650381626182,56.546026786827575,94.508726535497843,95.340892824313542,0,0,0,"","",0,0.83216628881569932,0.83216628881569932,0,0,0,0,0,0.83216628881569932,6.0447294292134926E-2,0,0,0.16,28,0,0,"",5.7413876967595598,0.11239801259796524,0.16,0.16,0,28,""]
[null,null,null,null,null,null,null,null,null,null,null,null,null,null,null,null,null,null,null,null,null,null,null,null,null,null,null,null,null,null,null,null,null,null,176,28.16,"Left Stream Bed",56.626586029358968,96.50725413594644,56.618662500935166,94.5073302898181,95.332670461476567,0,0,0,"","",0,0.82534017165846763,0.82534017165846763,0,0,0,0,0,0.82534017165846763,5.9951455517816152E-2,0,0,0.16,28.16,0,0,"",5.7427839424393028,0.11228044223325202,0.16,0.16,0,28.16,""]
[null,null,null,null,null,null,null,null,null,null,null,null,null,null,null,null,null,null,null,null,null,null,null,null,null,null,null,null,null,null,null,null,null,null,177,28.32,"Left Stream Bed",56.699221743466552,96.505857890266697,56.69129821504275,94.505934044138357,95.324448098639579,0,0,0,"","",0,0.81851405450122172,0.81851405450122172,0,0,0,0,0,0.81851405450122172,5.9455616743496358E-2,0,0,0.16,28.32,0,0,"",5.7441801881190457,0.11216299484927787,0.16,0.16,0,28.32,""]
[null,null,null,null,null,null,null,null,null,null,null,null,null,null,null,null,null,null,null,null,null,null,null,null,null,null,null,null,null,null,null,null,null,null,178,28.48,"Left Stream Bed",56.771857457574143,96.504461644586954,56.76393392915034,94.504537798458614,95.316225735802604,0,0,0,"","",0,0.81168793734399003,0.81168793734399003,0,0,0,0,0,0.81168793734399003,5.895977796917759E-2,0,0,0.16,28.48,0,0,"",5.7455764337987887,0.11204567031740272,0.16,0.16,0,28.48,""]
[null,null,null,null,null,null,null,null,null,null,null,null,null,null,null,null,null,null,null,null,null,null,null,null,null,null,null,null,null,null,null,null,null,null,179,28.64,"Left Stream Bed",56.844493171681734,96.503065398907211,56.836569643257931,94.503141552778871,95.308003372965629,0,0,0,"","",0,0.80486182018675834,0.80486182018675834,0,0,0,0,0,0.80486182018675834,5.8463939194858816E-2,0,0,0.16,28.64,0,0,"",5.7469726794785316,0.11192846850912111,0.16,0.16,0,28.64,""]
[null,null,null,null,null,null,null,null,null,null,null,null,null,null,null,null,null,null,null,null,null,null,null,null,null,null,null,null,null,null,null,null,null,null,180,28.8,"Left Stream Bed",56.917128885789317,96.501669153227468,56.909205357365515,94.501745307099128,95.29978101012864,0,0,0,"","",0,0.79803570302951243,0.79803570302951243,0,0,0,0,0,0.79803570302951243,5.7968100420539015E-2,0,0,0.16,28.8,0,0,"",5.7483689251582746,0.11181138929606173,0.16,0.16,0,28.8,""]
[null,null,null,null,null,null,null,null,null,null,null,null,null,null,null,null,null,null,null,null,null,null,null,null,null,null,null,null,null,null,null,null,null,null,181,28.96,"Left Stream Bed",56.989764599896901,96.500272907547725,56.981841071473099,94.500349061419385,95.291558647291666,0,0,0,"","",0,0.79120958587228074,0.79120958587228074,0,0,0,0,0,0.79120958587228074,5.7472261646220241E-2,0,0,0.16,28.96,0,0,"",5.7497651708380175,0.11169443254998784,0.16,0.16,0,28.96,""]
[null,null,null,null,null,null,null,null,null,null,null,null,null,null,null,null,null,null,null,null,null,null,null,null,null,null,null,null,null,null,null,null,null,null,182,29.12,"Left Stream Bed",57.062400314004492,96.498876661867982,57.05447678558069,94.498952815739642,95.283336284454691,0,0,0,"","",0,0.78438346871504905,0.78438346871504905,0,0,0,0,0,0.78438346871504905,5.6976422871901473E-2,0,0,0.16,29.12,0,0,"",5.7511614165177605,0.11157759814279679,0.16,0.16,0,29.12,""]
[null,null,null,null,null,null,null,null,null,null,null,null,null,null,null,null,null,null,null,null,null,null,null,null,null,null,null,null,null,null,null,null,null,null,183,29.28,"Left Stream Bed",57.135036028112083,96.497480416188239,57.12711249968828,94.497556570059899,95.275113921617702,0,0,0,"","",0,0.77755735155780314,0.77755735155780314,0,0,0,0,0,0.77755735155780314,5.6480584097581672E-2,0,0,0.16,29.28,0,0,"",5.7525576621975034,0.11146088594651994,0.16,0.16,0,29.28,""]
[null,null,null,null,null,null,null,null,null,null,null,null,null,null,null,null,null,null,null,null,null,null,null,null,null,null,null,null,null,null,null,null,null,null,184,29.44,"Left Stream Bed",57.207671742219667,96.496084170508496,57.199748213795864,94.496160324380156,95.266891558780728,0,0,0,"","",0,0.77073123440057145,0.77073123440057145,0,0,0,0,0,0.77073123440057145,5.5984745323262905E-2,0,0,0.16,29.44,0,0,"",5.7539539078772464,0.11134429583332228,0.16,0.16,0,29.44,""]
[null,null,null,null,null,null,null,null,null,null,null,null,null,null,null,null,null,null,null,null,null,null,null,null,null,null,null,null,null,null,null,null,null,null,185,29.6,"Left Stream Bed",57.28030745632725,96.494687924828753,57.272383927903448,94.494764078700413,95.258669195943753,0,0,0,"","",0,0.76390511724333976,0.76390511724333976,0,0,0,0,0,0.76390511724333976,5.5488906548944131E-2,0,0,0.16,29.6,0,0,"",5.7553501535569893,0.11122782767550278,0.16,0.16,0,29.6,""]
[null,null,null,null,null,null,null,null,null,null,null,null,null,null,null,null,null,null,null,null,null,null,null,null,null,null,null,null,null,null,null,null,null,null,186,29.76,"Left Stream Bed",57.352943170434841,96.49329167914901,57.345019642011039,94.49336783302067,95.250446833106778,0,0,0,"","",0,0.75707900008610807,0.75707900008610807,0,0,0,0,0,0.75707900008610807,5.4993067774625363E-2,0,0,0.16,29.76,0,0,"",5.7567463992367323,0.11111148134549388,0.16,0.16,0,29.76,""]
[null,null,null,null,null,null,null,null,null,null,null,null,null,null,null,null,null,null,null,null,null,null,null,null,null,null,null,null,null,null,null,null,null,null,187,29.92,"Left Stream Bed",57.425578884542432,96.491895433469267,57.41765535611863,94.491971587340927,95.24222447026979,0,0,0,"","",0,0.75025288292886216,0.75025288292886216,0,0,0,0,0,0.75025288292886216,5.4497229000305562E-2,0,0,0.16,29.92,0,0,"",5.7581426449164752,0.1109952567158615,0.16,0.16,0,29.92,""]
[null,null,null,null,null,null,null,null,null,null,null,null,null,null,null,null,null,null,null,null,null,null,null,null,null,null,null,null,null,null,null,null,null,null,188,30.08,"Left Stream Bed",57.498214598650016,96.490499187789524,57.490291070226213,94.490575341661184,95.234002107432815,0,0,0,"","",0,0.74342676577163047,0.74342676577163047,0,0,0,0,0,0.74342676577163047,5.4001390225986788E-2,0,0,0.16,30.08,0,0,"",5.7595388905962182,0.11087915365930491,0.16,0.16,0,30.08,""]
[null,null,null,null,null,null,null,null,null,null,null,null,null,null,null,null,null,null,null,null,null,null,null,null,null,null,null,null,null,null,null,null,null,null,189,30.24,"Left Stream Bed",57.570850312757599,96.489102942109781,57.562926784333797,94.489179095981441,95.22577974459584,0,0,0,"","",0,0.73660064861439878,0.73660064861439878,0,0,0,0,0,0.73660064861439878,5.3505551451668021E-2,0,0,0.16,30.24,0,0,"",5.7609351362759611,0.11076317204865629,0.16,0.16,0,30.24,""]
[null,null,null,null,null,null,null,null,null,null,null,null,null,null,null,null,null,null,null,null,null,null,null,null,null,null,null,null,null,null,null,null,null,null,190,30.4,"Left Stream Bed",57.64348602686519,96.487706696430038,57.635562498441388,94.487782850301699,95.217557381758851,0,0,0,"","",0,0.72977453145715288,0.72977453145715288,0,0,0,0,0,0.72977453145715288,5.300971267734822E-2,0,0,0.16,30.4,0,0,"",5.762331381955704,0.1106473117568811,0.16,0.16,0,30.4,""]
[null,null,null,null,null,null,null,null,null,null,null,null,null,null,null,null,null,null,null,null,null,null,null,null,null,null,null,null,null,null,null,null,null,null,191,30.56,"Left Stream Bed",57.716121740972781,96.486310450750295,57.708198212548979,94.486386604621956,95.209335018921877,0,0,0,"","",0,0.72294841429992118,0.72294841429992118,0,0,0,0,0,0.72294841429992118,5.2513873903029452E-2,0,0,0.16,30.56,0,0,"",5.763727627635447,0.1105315726570776,0.16,0.16,0,30.56,""]
[null,null,null,null,null,null,null,null,null,null,null,null,null,null,null,null,null,null,null,null,null,null,null,null,null,null,null,null,null,null,null,null,null,null,192,30.72,{"$f":"IF(OR($C$19=\"\",$F$25=\"\",$G$25=\"\"),\"None\",IF(AL237<$B$14,\"Left Floodplain\",IF(AL237<$B$15,\"Left Bank\",IF(AL237<$B$16,\"Left Stream Bed\",IF(AL237<$B$17,\"Right Stream Bed\",IF(AL237<$B$18,\"Right Bank\",\"Right Floodplain\"))))))","v":"Left Stream Bed"},57.788757455080365,96.484914205070552,57.780833926656562,94.484990358942213,95.201112656084902,{"$f":"IF(OR($AP237<$AE$12,$AP237<=$AM237),0,IF(OR($AP237>=$AE$12,$AM237>=$AE$12),$AP237-$AM237-$AR237,$AP237-$AE$12))","v":0},{"$f":"IF($AP237<=$AM237,0,IF($AM237>=$AE$12,0,IF($AP237<=$AE$12,$AP237-$AM237,$AE$12-$AM237)))","v":0},0,"","",0,{"$f":"IF($AP237<=$AO237,0,IF($AO237>=$AE$12,0,IF($AP237<=$AE$12,$AP237-$AO237,$AE$12-$AO237)))","v":0.71612229714268949},{"$f":"IF(AP237<=AO237,0,AP237-AO237)","v":0.71612229714268949},{"$f":"IF($AS237=0,0,IF(OR($AJ237=0,$AJ237=$E$22),$AJ$46/2,$AJ$46))","v":0},{"$f":"IF(OR($AK237=\"Left Stream Bed\",$AK237=\"Right Stream Bed\"),$F$22*$AQ237*$AY237,0)","v":0},{"$f":"IF(OR($AK237=\"Left Stream Bed\",$AK237=\"Right Stream Bed\"),$F$22*$AR237*$AY237,0)","v":0},{"$f":"IF(OR($AK237=\"Left Floodplain\",$AK237=\"Left Bank\",$AK237=\"Right Bank\",$AK237=\"Right Floodplain\"),$F$22*$AQ237*$AY237,0)","v":0},{"$f":"IF(OR($AK237=\"Left Floodplain\",$AK237=\"Left Bank\",$AK237=\"Right Bank\",$AK237=\"Right Floodplain\"),$F$22*$AR237*$AY237,0)","v":0},{"$f":"AX237-AS237","v":0.71612229714268949},5.2018035128710678E-2,0,{"$f":"IF(OR($AJ237=0,$AJ237=$E$22),($BF237*$AJ$46/2)*ABS($M$17),$BF237*$AJ$46*ABS($M$17))","v":0},{"$f":"IF(OR($AM237<$AP237,$AO237>$AE$8),\"\",IF(OR($AJ237=0,$AJ237=$E$22),$AJ$46/2,$AJ$46))","v":0.16},30.72,0,{"$f":"IF($BJ237=\"\",\"\",IF(OR($BJ237>($F$22/2),$BJ237=0),0,0.45-($BJ237*0.45/($F$22/2))))","v":0},{"$f":"IF($BK237=\"\",\"\",IF($BK237>0,$AJ237,\"\"))","v":""},5.7651238733151899,0.11041595462247675,{"$f":"IF($AO237=0,0,IF($AO237>$AP237,0,IF(OR($AJ237=0,$AJ237=$E$22),$AJ$46/2,$AJ$46)))","v":0.16},{"$f":"IF(AND($BO237>0,OR($AK237=\"Left Stream Bed\",$AK237=\"Right Stream Bed\")),$BO237,0)","v":0.16},{"$f":"IF(AND($BO237>0,OR($AK237=\"Left Floodplain\",$AK237=\"Left Bank\",$AK237=\"Right Bank\",$AK237=\"Right Floodplain\")),$BO237,0)","v":0},{"$f":"IF($BO237>0,$AJ237,\"\")","v":30.72},""]
[null,null,null,null,null,null,null,null,null,null,null,null,null,null,null,null,null,null,null,null,null,null,null,null,null,null,null,null,null,null,null,null,null,null,193,{"$f":"($AI238/$AI$245)*$AJ$245","v":30.88},"Left Stream Bed",57.861393169187949,96.483517959390809,{"$f":"$AN$45+ABS(AJ238*$M$19*$M$17)","v":57.853469640764146},94.48359411326247,95.192890293247913,0,0,{"$f":"IF(AP238<=AM238,0,AP238-AM238)","v":0},{"$f":"IF(OR($AS238=\"\",$AS238=0),\"\",IF(OR($AK238=\"Left Stream Bed\",$AK238=\"Right Stream Bed\"),$AS238,\"\"))","v":""},{"$f":"IF(OR($AS238=\"\",$AS238=0),\"\",IF(OR($AK238=\"Left Floodplain\",$AK238=\"Left Bank\",$AK238=\"Right Bank\",$AK238=\"Right Floodplain\"),$AS238,\"\"))","v":""},{"$f":"IF(OR($AP238<$AE$12,$AP238<=$AO238),0,IF($AO238>=$AE$12,$AP238-$AO238,$AP238-$AE$12))","v":0},0.70929617998544359,0.70929617998544359,0,0,0,0,0,0.70929617998544359,{"$f":"$BD238*$AJ$46*ABS($M$17)","v":5.1522196354390884E-2},{"$f":"AV238-AQ238","v":0},0,0.16,{"$f":"IF($BH238=\"\",\"\",IF($BH238>0,$AJ238,\"\"))","v":30.88},{"$f":"IF($BH238=\"\",\"\",IF(OR(($AO238-$AP238)<0,$AO$45>=$AE$8),0,($AO238-$AP238)))","v":0},0,"",{"$f":"IF($BH238=\"\",\"\",IF(OR(($AM238-$AP238)<0,$AM238>=$AE$8),\"\",($AE$8-($AM238-(($F$22/2)/$M$19)))))","v":5.7665201189949329},0.1103004575264423,0.16,0.16,0,30.88,{"$f":"IF($AY238>0,$AJ238,\"\")","v":""}]
[null,null,null,null,null,null,null,null,null,null,null,null,null,null,null,null,null,null,null,null,null,null,null,null,null,null,null,null,null,null,null,null,null,null,194,31.04,"Left Stream Bed",57.934028883295539,{"$f":"AM238+((AL239-AL238)*$AA$40)","v":96.482121713711066},57.926105354871737,{"$f":"AO238+((AN239-AN238)*$AA$40)","v":94.482197867582727},{"$f":"IF($AL239<$B$14,(($AL239-$B$13)*$AB$31)+$C$13,IF($AL239<$B$15,(($AL239-$B$14)*$AB$32)+$C$14,IF($AL239<$B$16,(($AL239-$B$15)*$AB$33)+$C$15,IF($AL239<$B$17,(($AL239-$B$16)*$AB$34)+$C$16,IF($AL239<$B$18,(($AL239-$B$17)*$AB$35)+$C$17,IF($AL239<$B$19,(($AL239-$B$18)*$AB$36)+$C$18))))))","v":95.184667930410939},0,0,0,"","",0,0.70247006282821189,0.70247006282821189,0,0,0,0,0,0.70247006282821189,5.102635758007211E-2,0,0,0.16,31.04,0,0,"",5.7679163646746758,{"$f":"IF($BM239=\"\",\"\",(((PI()^2)/32)*($B$66^-6)*EXP(-($BM239/$F$22)/(2*($B$66^2)))))","v":0.11018508124247006},0.16,0.16,0,31.04,""]
[null,null,null,null,null,null,null,null,null,null,null,null,null,null,null,null,null,null,null,null,null,null,null,null,null,null,null,null,null,null,null,null,null,null,195,31.2,"Left Stream Bed",{"$f":"$AL$45+ABS(AJ240*$M$19*$M$17)","v":58.00666459740313},96.480725468031324,57.998741068979328,94.480801621902984,95.176445567573964,0,0,0,"","",0,0.6956439456709802,0.6956439456709802,0,0,0,0,0,0.6956439456709802,5.0530518805753336E-2,0,0,0.16,31.2,0,0,"",5.7693126103544188,0.11006982564418855,0.16,0.16,0,31.2,""]
[null,null,null,null,null,null,null,null,null,null,null,null,null,null,null,null,null,null,null,null,null,null,null,null,null,null,null,null,null,null,null,null,null,null,196,31.36,"Left Stream Bed",58.079300311510714,96.479329222351581,58.071376783086912,94.479405376223241,95.168223204736989,0,0,0,"","",0,0.68881782851374851,0.68881782851374851,0,0,0,0,0,0.68881782851374851,5.0034680031434568E-2,0,0,0.16,31.36,0,0,"",5.7707088560341617,0.10995469060535833,0.16,0.16,0,31.36,""]
[null,null,null,null,null,null,null,null,null,null,null,null,null,null,null,null,null,null,null,null,null,null,null,null,null,null,null,null,null,null,null,null,null,null,197,31.52,"Left Stream Bed",58.151936025618298,96.477932976671838,58.144012497194495,94.478009130543498,95.160000841900001,0,0,0,"","",0,0.68199171135650261,0.68199171135650261,0,0,0,0,0,0.68199171135650261,4.9538841257114767E-2,0,0,0.16,31.52,0,0,"",5.7721051017139047,0.10983967599987213,0.16,0.16,0,31.52,""]
[null,null,null,null,null,null,null,null,null,null,null,null,null,null,null,null,null,null,null,null,null,null,null,null,null,null,null,null,null,null,null,null,null,null,198,31.68,"Left Stream Bed",58.224571739725889,96.476536730992095,58.216648211302086,94.476612884863755,95.151778479063026,0,0,0,"","",0,0.67516559419927091,0.67516559419927091,0,0,0,0,0,0.67516559419927091,4.9043002482796E-2,0,0,0.16,31.68,0,0,"",5.7735013473936476,0.10972478170175427,0.16,0.16,0,31.68,""]
[null,null,null,null,null,null,null,null,null,null,null,null,null,null,null,null,null,null,null,null,null,null,null,null,null,null,null,null,null,null,null,null,null,null,199,{"$f":"($AI244/$AI$245)*$AJ$245","v":31.84},"Left Stream Bed",58.297207453833479,96.475140485312352,58.289283925409677,94.475216639184012,95.143556116226051,0,0,0,"","",0,0.66833947704203922,0.66833947704203922,0,0,0,0,0,0.66833947704203922,4.8547163708477226E-2,0,0,0.16,31.84,0,0,"",5.7748975930733906,0.10961000758516115,0.16,0.16,0,31.84,""]
[null,null,null,null,null,null,null,null,null,null,null,null,null,null,null,null,null,null,null,null,null,null,null,null,null,null,null,null,null,null,null,null,null,null,200,{"$f":"$E$22","v":32},"Left Stream Bed",58.369843167941063,96.473744239632609,58.361919639517261,94.473820393504269,95.135333753389062,0,0,0,"","",0,0.66151335988479332,0.66151335988479332,0,0,0,0,0,0.66151335988479332,4.8051324934157431E-2,0,0,0.08,32,0,0,"",5.7762938387531335,0.10949535352438074,0.08,0.08,0,32,""]

{"sheet":"Final-Top#3","index":13,"n_rows":245,"n_cols":72,"rows_kept":245,"cut":false,"hidden":false,"merged":[[107,27,107,28],[109,31,109,32],[90,29,90,30],[90,31,90,32],[91,0,91,9],[91,14,91,25],[97,20,97,22],[102,27,102,28],[102,31,102,32],[85,20,85,21],[86,20,86,21],[87,20,87,21],[90,1,90,2],[90,20,90,24],[90,27,90,28],[83,19,83,23],[83,25,84,25],[83,27,84,27],[83,28,83,31],[84,0,84,9],[84,20,84,21],[75,15,75,16],[77,3,77,4],[79,0,79,9],[80,0,80,4],[80,7,80,9],[83,18,84,18],[64,26,65,26],[66,10,69,10],[67,0,67,2],[67,3,67,5],[73,0,73,9],[74,0,74,2],[74,3,74,6],[74,7,74,9],[74,18,74,20],[74,22,74,30],[63,0,63,5],[64,7,64,9],[64,21,64,22],[64,23,65,23],[64,24,65,24],[64,25,65,25],[52,7,52,9],[54,18,54,22],[55,19,56,19],[55,20,55,23],[56,0,56,4],[62,0,62,9],[47,1,47,2],[48,0,48,9],[49,0,49,5],[49,7,49,8],[50,13,50,14],[51,13,51,14],[38,45,38,48],[41,34,41,38],[42,34,42,40],[42,41,42,49],[44,21,44,22],[44,23,45,23],[44,24,45,24],[44,25,45,25],[44,26,45,26],[44,29,44,31],[29,19,30,19],[29,20,29,23],[33,32,33,33],[33,43,33,44],[37,26,38,26],[37,27,38,27],[38,34,38,37],[26,1,26,2],[27,1,27,2],[27,32,27,33],[27,43,27,44],[28,1,28,2],[28,18,28,22],[22,10,23,10],[22,32,22,33],[22,43,22,44],[23,0,24,0],[23,3,23,4],[24,3,24,4],[16,18,16,20],[17,22,17,27],[17,32,17,33],[17,43,17,44],[20,0,20,2],[21,0,21,2],[10,28,10,30],[11,11,11,12],[11,13,11,16],[12,11,12,12],[12,13,12,16],[13,11,13,12],[13,13,13,16],[13,28,13,30],[7,22,7,24],[8,11,8,12],[8,13,8,16],[9,11,9,12],[9,13,9,16],[10,0,10,2],[10,11,10,12],[10,13,10,16],[6,11,6,12],[6,13,6,16],[7,0,8,0],[7,11,7,12],[7,13,7,16],[7,18,7,20],[0,8,1,9],[2,0,2,9],[4,1,4,2],[4,3,4,4],[4,11,4,12],[4,32,5,35],[4,43,5,46],[4,54,4,59],[4,60,4,63],[5,1,5,2],[5,3,5,4],[5,11,5,12],[5,13,5,16],[5,28,5,30],[5,54,5,55]]}
[{"$f":"'1-Cover'!A1","v":"Sample Multi-Log Structure"},null,null,null,null,null,null,null,"Spreadsheet developed by Michael Rafferty, P.E."]
[]
["Single Log Stability Analysis Model Inputs",null,null,null,null,null,null,null,null,null,"ERROR CHECKS"]
[]
["Site ID","Structure Type",null,"Structure Position",null,"Meander","Station","dw (ft)","Rc/WBF","udes (ft/s)",null,"Type Lookup Table",null,null,null,null,null,null,null,null,null,null,null,null,null,null,null,null,null,null,null,null,"Tilted Cylindrical (Stem) \"Below Water Surface\" Volume Calculation (Below High Flow)",null,null,null,null,null,null,null,null,null,null,"Tilted Cylindrical (Stem) Wet Volume Calculation (Below Channel Thalweg)",null,null,null,null,null,null,null,null,null,null,"Tilted Frustum (RW) Volume Calculation (Slice Method)",null,null,null,null,null,"A = R2 arccos [(R - h)/R] - [(R - h)*SQRT(2Rh - h2)]"]
["Sample1","Flow Deflection",null,"Left bank",null,"Outside",{"$f":"IF($A6=\"\",\"\",VLOOKUP($A6,SiteInfo,2,0))","v":1000},{"$f":"IF($A6=\"\",\"\",VLOOKUP($A6,SiteInfo,4,0))","v":8.4499999999999993},{"$f":"IF($A6=\"\",\"\",VLOOKUP($A6,SiteInfo,9,0))","v":5.3191489361702127},{"$f":"IF(OR($A$6=\"\",$F$6=\"\"),\"\",IF($F$6=\"Outside\",VLOOKUP($A$6,SiteInfo,10,0),VLOOKUP($A$6,SiteInfo,5,0)))","v":4.6327110774981861},{"$f":"IF($F$6=\"\",\"\",IF(AND($I$6<26,$F$6=\"Straight\"),\"CHECK - Structure is located on a meander (Rc/WBF < 26)\",\"\"))","v":""},"Structure Types",null,"Description",null,null,null,null,null,null,null,null,null,null,null,null,null,null,"Water Surface",null,null,null,null,null,null,null,null,null,null,null,null,null,null,null,null,null,null,null,null,null,null,null,null,null,"Slice thickness (ft) =",null,{"$f":"IF($G$22=\"\",\"\",$G$22/$BC$39)","v":0.1},"WSE (ft) =",{"$f":"IF($AE$8=\"\",\"\",$AE$8)","v":101.25},"RRW (ft) =",{"$f":"IF($H$22=\"\",\"\",$H$22/2)","v":3},"yRW,crown (ft) =",{"$f":"IF($U$10=\"\",\"\",$U$10)","v":98.473668085761574},"yRW,bot (ft) =",{"$f":"IF($U$15=\"\",\"\",$U$15)","v":92.47389654737654}]
[null,null,null,null,null,null,null,null,null,null,{"$f":"IF(OR($F$6=\"\",$I$6=\"\"),\"\",IF(AND($I$6>26,$F$6<>\"Straight\"),\"CHECK - Structure is not on a meander (Rc/WBF > 26)\",\"\"))","v":""},"Rootwad",null,"Logs buried in bank with rootwads protruding into channel",null,null,null,null,null,null,null,null,null,null,null,null,null,null,null,"x (ft)","y (ft)",null,null,"R = DTS/2",{"$f":"$F$22/2","v":1},"ft",null,null,null,null,null,null,null,null,"R = DTS/2",{"$f":"$F$22/2","v":1},"ft",null,null,null,null,null,null,null,null,null,null,"Thalweg Elevation (ft) =",{"$f":"$C$16","v":92.8},"RTS (ft) =",{"$f":"IF($F$22=\"\",\"\",$F$22/2)","v":1},"yRC,crown (ft) =",{"$f":"IF($U$11=\"\",\"\",$U$11)","v":96.499923846128354},"yRC,bot (ft) =",{"$f":"IF($U$14=\"\",\"\",$U$14)","v":94.5}]
["Multi-Log Structures","Layer","Log ID",null,null,null,null,null,null,null,null,"Log Vane",null,"Logs protruding from bank and angled either up- or downstream",null,null,null,null,"Large Wood Coordinates",null,null,null,null,null,null,null,null,null,"WSE",{"$f":"IF(OR($A$6=\"\",$C$16=\"\"),0,IF(($H$6+$C$16)>=$C$13,$B$13,IF(AND(($H$6+$C$16)<$C$13,($H$6+$C$16)>=$C$14),((($C$13-($H$6+$C$16))/($C$13-$C$14))*($B$14-$B$13))+$B$13,IF(AND(($H$6+$C$16)<$C$14,($H$6+$C$16)>=$C$15),((($C$14-($H$6+$C$16))/($C$14-$C$15))*($B$15-$B$14))+$B$14,IF(AND(($H$6+$C$16)<$C$15,($H$6+$C$16)>=$C$16),((($C$15-($H$6+$C$16))/($C$15-$C$16))*($B$16-$B$15))+$B$15,\"\")))))","v":0},{"$f":"IF(OR($A$6=\"\",$C$16=\"\"),$C$13,$H$6+$C$16)","v":101.25},null,null,"b (rad)",{"$f":"ABS($C$25)*PI()/180","v":8.7266462599716477E-3},"rad",null,null,null,null,null,null,null,null,"b (rad)",{"$f":"ABS($C$25)*PI()/180","v":8.7266462599716477E-3},"rad"]
[null,"Stacked","Top#3",null,null,null,null,null,null,null,null,"Log Weir",null,"Weirs spanning small streams comprised of one or more large logs",null,null,null,null,null,"x (ft)","y (ft)",null,"Large wood check","x (ft)",null,"y (ft)",null,null,"WSE",{"$f":"IF(OR($A$6=\"\",$C$16=\"\"),0,IF(($H$6+$C$16)>=$C$19,$B$19,IF(AND(($H$6+$C$16)<$C$19,($H$6+$C$16)>=$C$18),(((($H$6+$C$16)-$C$18)/($C$19-$C$18))*($B$19-$B$18))+$B$18,IF(AND(($H$6+$C$16)<$C$18,($H$6+$C$16)>=$C$17),(((($H$6+$C$16)-$C$17)/($C$18-$C$17))*($B$18-$B$17))+$B$17,IF(AND(($H$6+$C$16)<$C$17,($H$6+$C$16)>=$C$16),(((($H$6+$C$16)-$C$16)/($C$17-$C$16))*($B$17-$B$16))+$B$16,\"\")))))","v":150},{"$f":"IF(OR($A$6=\"\",$C$16=\"\"),$C$13,$H$6+$C$16)","v":101.25},null,null,"dwet,max",{"$f":"IF($AB$23>$AB$24,$AB$23,IF($AB$23<$AB$24,$AB$24,\"\"))","v":6.75},"ft",null,null,null,null,null,null,null,null,"dwet,max",{"$f":"IF($Z$23>$Z$24,$Z$23,IF($Z$23<$Z$24,$Z$24,\"\"))","v":""},"ft",null,null,null,null,null,null,null,"Slice #","xRW,avg (ft)","RRW,slice (ft)","Aslice,avg (ft)","Vslice (ft3)","ycrown,avg (ft)","ybot,avg (ft)","hRW,cr,↑WSE (ft)","ARW,↑WSE (ft2)","VRW,↑WSE (ft3)","hRW,bot,↓thw (ft)","ARW,↓thw (ft2)","VRW,↓thw (ft3)"]
[null,null,null,null,null,null,null,null,null,null,{"$f":"IF(OR($C$14=\"\",$C$15=\"\"),\"\",IF($C$15>=$C$14,\"ERROR - LB top elevation must be > LB toe elevation\",\"\"))","v":""},"Tree Revetment",null,"Row of logs secured along the bank and placed parallel to flow",null,null,null,"Pt 1","Rootwad: Crown",{"$f":"IF($F$25=\"\",0,IF($D$25=\"Rootwad: Crown\",$F$25,IF($D$22=\"No\",$T$15+(($F$22*-$M$20)*$M$17),$T$15+(($H$22*-$M$20)*$M$17))))","v":54.652866137979757},{"$f":"IF($G$25=\"\",$C$13,IF($D$25=\"Rootwad: Crown\",$G$25,IF($D$22=\"No\",$U$15+($F$22*$M$19),$U$15+($H$22*$M$19))))","v":98.473668085761574},null,"Rootwad: Crown",{"$f":"IF($D$22=\"No\",$T$15+(($F$22*-$M$20)*$M$17),$T$15+(($H$22*-$M$20)*$M$17))","v":54.652866137979757},{"$f":"IF(X10=T10,\"OK\",\"ERROR\")","v":"OK"},{"$f":"IF($D$22=\"No\",$U$15+($F$22*$M$19),$U$15+($H$22*$M$19))","v":98.473668085761574},{"$f":"IF(Z10=U10,\"OK\",\"ERROR\")","v":"OK"},null,null,null,null,null,null,"dwet,avgH",{"$f":"IF(AND($AB$23>0,$AB$24>0),(($AB$23/COS($AI$8))+($AB$24/COS($AI$8)))/2,\"\")","v":6.6237174461377144},"ft",null,null,null,null,null,null,null,null,"dwet,avgH",{"$f":"IF(AND($Z$23>0,$Z$24>0),(($Z$23/COS($AT$8))+($Z$24/COS($AT$8)))/2,\"\")","v":""},"ft",null,null,null,null,null,null,null,1,{"$f":"($BE$6/2)+(($BC10-1)*$BE$6)","v":0.05},{"$f":"(($G$22-$BD10)/$G$22)*($BI$6-$BI$7)+$BI$7","v":2.9666666666666668},{"$f":"PI()*($BE10^2)","v":27.649506010094171},{"$f":"$BF10*$BE$6","v":2.7649506010094171},{"$f":"(($G$22-$BD10)/$G$22)*($BK$6-$BK$7)+$BK$7","v":98.440772348434351},{"$f":"(($G$22-$BD10)/$G$22)*($BM$6-$BM$7)+$BM$7","v":92.507664938253598},{"$f":"IF($BH10<=$BG$6,0,IF((($BH10-$BG$6)*$M$19)>=($BE10*2),$BE10*2,($BH10-$BG$6)*$M$19))","v":0},{"$f":"(($BE10^2)*ACOS(($BE10-$BJ10)/$BE10))-(($BE10-$BJ10)*SQRT(2*$BE10*$BJ10-($BJ10^2)))","v":0},{"$f":"$BK10*$BE$6","v":0},{"$f":"IF($BI10>=$BG$7,0,IF((($BG$7-$BI10)*$M$19)>=($BE10*2),$BE10*2,($BG$7-$BI10)*$M$19))","v":0.29232393052301298},{"$f":"(($BE10^2)*ACOS(($BE10-$BM10)/$BE10))-(($BE10-$BM10)*SQRT(2*$BE10*$BM10-($BM10^2)))","v":0.50566075111979059},{"$f":"$BN10*$BE$6","v":5.056607511197906E-2}]
["Channel Geometry Coordinates",null,null,null,null,null,null,null,null,null,{"$f":"IF(OR($C$15=\"\",$C$16=\"\",$C$17=\"\"),\"\",IF(OR($C$15<$C$16,$C$17<$C$16),\"ERROR - Toe elevation must be >= thalweg elevation\",\"\"))","v":""},"Flow Deflection",null,"Partially spanning multiple log structure along the bank",null,null,null,"Pt 2","Root collar: Crown",{"$f":"IF($F$25=\"\",0,IF($D$25=\"Root collar: Crown\",$F$25,IF($D$22=\"No\",$T$10,$T$10+(($G$22*$M$19)*$M$17)-(((($H$22-$F$22)/2)*-$M$20)*$M$17))))","v":53.009505623745717},{"$f":"IF($G$25=\"\",$C$13,IF($D$25=\"Root collar: Crown\",$G$25,IF($D$22=\"No\",$U$10,$U$10-($G$22*-$M$20)-((($H$22-$F$22)/2)*$M$19))))","v":96.499923846128354},null,"Root collar: Crown",{"$f":"IF($D$22=\"No\",$X$10,$T$10+(($G$22*$M$19)*$M$17)-(((($H$22-$F$22)/2)*-$M$20)*$M$17))","v":53.009505623745717},"OK",{"$f":"IF($D$22=\"No\",$Z$10,$U$10-($G$22*-$M$20)-((($H$22-$F$22)/2)*$M$19))","v":96.499923846128354},"OK",null,"Water Surface Label",null,null,null,null,"hmax,lower",{"$f":"IF($AI$9/COS($AI$8)>$F$22,$F$22,$AI$9/COS($AI$8))","v":2},"ft",null,null,null,null,null,null,null,null,"hmax,lower",{"$f":"IF($AT$9/COS($AT$8)>$F$22,$F$22,$AT$9/COS($AT$8))","v":{"$error":"#VALUE!"}},"ft",null,null,null,null,null,null,null,2,{"$f":"($BE$6/2)+(($BC11-1)*$BE$6)","v":0.15000000000000002},2.9000000000000004,{"$f":"PI()*($BE11^2)","v":26.420794216690165},{"$f":"$BF11*$BE$6","v":2.6420794216690169},98.374980873779919,92.575201720007712,{"$f":"IF($BH11<=$BG$6,0,IF((($BH11-$BG$6)*$M$19)>=($BE11*2),$BE11*2,($BH11-$BG$6)*$M$19))","v":0},{"$f":"(($BE11^2)*ACOS(($BE11-$BJ11)/$BE11))-(($BE11-$BJ11)*SQRT(2*$BE11*$BJ11-($BJ11^2)))","v":0},{"$f":"$BK11*$BE$6","v":0},{"$f":"IF($BI11>=$BG$7,0,IF((($BG$7-$BI11)*$M$19)>=($BE11*2),$BE11*2,($BG$7-$BI11)*$M$19))","v":0.22478972036260353},{"$f":"(($BE11^2)*ACOS(($BE11-$BM11)/$BE11))-(($BE11-$BM11)*SQRT(2*$BE11*$BM11-($BM11^2)))","v":0.33822238628601076},{"$f":"$BN11*$BE$6","v":3.3822238628601078E-2}]
["Proposed","x (ft)","y (ft)",null,null,null,null,null,null,null,{"$f":"IF(OR($C$18=\"\",$C$17=\"\"),\"\",IF($C$17>=$C$18,\"ERROR - RB top elevation must be > RB toe elevation\",\"\"))","v":""},"Mid-Channel",null,"Logs placed at the head of an island or bar",null,null,null,"Pt 3","Stem tip: Crown",{"$f":"IF($F$25=\"\",0,IF($D$25=\"Stem tip: Crown\",$F$25,$T$11+((($E$22-$G$22)*$M$19)*$M$17)))","v":37.215575015691925},{"$f":"IF($G$25=\"\",$C$13,IF($D$25=\"Stem tip: Crown\",$G$25,$U$11-(($E$22-$G$22)*-$M$20)))","v":96.752993375581198},null,"Stem tip: Crown",{"$f":"$T$11+((($E$22-$G$22)*$M$19)*$M$17)","v":37.215575015691925},"OK",{"$f":"$U$11-(($E$22-$G$22)*-$M$20)","v":96.752993375581198},"OK",null,"WSE",{"$f":"IF($AD$8=\"\",\"\",AVERAGE(AD8:AD9))","v":75},{"$f":"IF($AE$8=\"\",\"\",AVERAGE(AE8:AE9))","v":101.25},null,null,"hmax,up,dry",{"$f":"IF(AND($AB$23>$F$22,$AB$24>$F$22),0,IF(AND($AB$23>=$F$22,(($F$22-$AB$24)/(COS($AI$8)))>$F$22),$F$22,IF($AB$23>=$F$22,($F$22-$AB$24)/(COS($AI$8)),IF(AND($AB$24>=$F$22,(($F$22-$AB$23)/(COS($AI$8))>$F$22)),$F$22,IF($AB$24>=$F$22,($F$22-$AB$23)/(COS($AI$8)),\"\")))))","v":0},"ft",null,null,null,null,null,null,null,null,"hmax,up,dry",{"$f":"IF(AND($Z$23>$F$22,$Z$24>$F$22),0,IF(AND($Z$23>=$F$22,(($F$22-$Z$24)/(COS($AT$8)))>$F$22),$F$22,IF($Z$23>=$F$22,($F$22-$Z$24)/(COS($AT$8)),IF(AND($Z$24>=$F$22,(($F$22-$Z$23)/(COS($AT$8))>$F$22)),$F$22,IF($Z$24>=$F$22,($F$22-$Z$23)/(COS($AT$8)),\"\")))))","v":""},"ft",null,null,null,null,null,null,null,3,0.25,2.833333333333333,25.22000769131806,2.522000769131806,98.309189399125472,92.642738501761826,0,0,0,0.15725551020219408,0.19627380824632512,1.9627380824632515E-2]
["Fldpln LB",{"$f":"'Prelim-Top#1'!B13","v":0},{"$f":"'Prelim-Top#1'!C13","v":99.18},null,null,null,null,null,null,null,{"$f":"IF(OR($B$14<$B$13,$B$15<$B$14,$B$16<$B$15,$B$17<$B$16,$B$18<$B$17,$B$19<$B$18),\"ERROR - Each 'x' distance must be >= previous point\",\"\")","v":""},"Full-Span",null,"Multiple logs constricting a large portion of the cross-sectional area",null,null,null,"Pt 4","Stem tip: Bottom",{"$f":"IF($F$25=\"\",0,IF($D$25=\"Stem tip: Bottom\",$F$25,$T$12-(($F$22*-$M$20)*$M$17)))","v":37.206069391946208},{"$f":"IF($G$25=\"\",$C$13,IF($D$25=\"Stem tip: Bottom\",$G$25,$U$12-($F$22*$M$19)))","v":94.753069529452858},null,"Stem tip: Bottom",{"$f":"$T$12-(($F$22*-$M$20)*$M$17)","v":37.206069391946208},"OK",{"$f":"$U$12-($F$22*$M$19)","v":94.753069529452858},"OK",null,null,null,null,null,null,"LTS,bot,wet",{"$f":"IF(($AI$9/SIN($AI$8))>($E$22-$G$22),($E$22-$G$22-$AI$14),($AI$9/SIN($AI$8))-$AI$14)","v":-515.32554073226038},"ft",null,null,null,null,null,null,null,null,"LTS,bot,wet",{"$f":"IF(($AT$9/SIN($AT$8))>($E$22-$G$22),($E$22-$G$22-$AT$14),($AT$9/SIN($AT$8))-$AT$14)","v":{"$error":"#VALUE!"}},"ft",null,null,null,null,null,null,null,4,0.35000000000000003,2.7666666666666666,24.047146433977868,2.4047146433977868,98.243397924471026,92.710275283515941,0,0,0,8.9721300041784635E-2,8.3878675399100766E-2,8.387867539910077E-3]
["Top LB",{"$f":"'Prelim-Top#1'!B14","v":33},{"$f":"'Prelim-Top#1'!C14","v":98.59},null,null,null,null,null,null,null,null,"Floodplain",null,"Logs placed outside of the bankfull channel",null,null,null,"Pt 5","Root collar: Bottom",{"$f":"IF($F$25=\"\",0,IF($D$25=\"Root collar: Bottom\",$F$25,$T$13-((($E$22-$G$22)*$M$19)*$M$17)))","v":53},{"$f":"IF($G$25=\"\",$C$13,IF($D$25=\"Root collar: Bottom\",$G$25,$U$13+(($E$22-$G$22)*-$M$20)))","v":94.5},null,"Root collar: Bottom",{"$f":"$T$13-((($E$22-$G$22)*$M$19)*$M$17)","v":53},"OK",{"$f":"$U$13+(($E$22-$G$22)*-$M$20)","v":94.500000000000014},"OK",null,"Bank Labels",null,null,null,null,"LTS,top,wet",{"$f":"IF($AI$11>=$F$22,(($AI$9-($AI$11/(COS($AI$8))))/SIN($AI$8))+($AI$11*TAN($AI$8)),0)","v":544.32554073226038},"ft",null,null,null,null,null,null,null,null,"LTS,top,wet",{"$f":"IF($AT$11>=$F$22,(($AT$9-($AT$11/(COS($AT$8))))/SIN($AT$8))+($AT$11*TAN($AT$8)),0)","v":{"$error":"#VALUE!"}},"ft",null,null,null,null,null,null,null,5,0.45,2.7,22.902210444669596,2.2902210444669597,98.177606449816594,92.777812065270055,0,0,0,2.2187089881375188E-2,1.022704314628442E-2,1.0227043146284422E-3]
["Toe LB",{"$f":"'Prelim-Top#1'!B15","v":54},{"$f":"'Prelim-Top#1'!C15","v":95.63},null,null,null,null,null,null,null,{"$f":"IF(AND($B$6=\"Rootwad\",$D$22=\"No\"),\"ERROR - Rootwad structure type should have a rootwad\",\"\")","v":""},null,null,null,null,null,null,"Pt 6","Rootwad: Bottom",{"$f":"IF($F$25=\"\",0,IF($D$25=\"Rootwad: Bottom\",$F$25,IF($D$22=\"No\",$T$14,$T$14-(($G$22*$M$19)*$M$17)-(((($H$22-$F$22)/2)*-$M$20)*$M$17))))","v":54.624349266742605},{"$f":"IF($G$25=\"\",$C$13,IF($D$25=\"Rootwad: Bottom\",$G$25,IF($D$22=\"No\",$U$14,$U$14+($G$22*-$M$20)-((($H$22-$F$22)/2)*$M$19))))","v":92.47389654737654},null,"Rootwad: Bottom",{"$f":"IF($D$22=\"No\",$T$14,$T$14-(($G$22*$M$19)*$M$17)-(((($H$22-$F$22)/2)*-$M$20)*$M$17))","v":54.624349266742605},"OK",{"$f":"IF($D$22=\"No\",$U$14,$U$14+($G$22*-$M$20)-((($H$22-$F$22)/2)*$M$19))","v":92.47389654737654},"OK",null,"LB",{"$f":"IF(OR($B$13=\"\",$B$14=\"\"),\"\",AVERAGE($B$13:$B$14))","v":16.5},{"$f":"IF(OR($C$13=\"\",$C$14=\"\"),\"\",AVERAGE($C$13:$C$14))","v":98.885000000000005},null,null,"K1",{"$f":"IF(AND(($AI$11-$AI$7)=1,$AH$17=\"Case 1\"),PI(),ACOS(1-($AI$11/$AI$7)))","v":3.1415926535897931},"rad",null,null,null,null,null,null,null,null,"K1",{"$f":"ACOS(1-($AT$11/$AT$7))","v":{"$error":"#VALUE!"}},"rad",null,null,null,null,null,null,null,6,0.55000000000000004,2.6333333333333337,21.785199723393227,2.1785199723393229,98.111814975162147,92.845348847024169,0,0,0,0,0,0]
["Thalweg",{"$f":"'Prelim-Top#1'!B16","v":79},{"$f":"'Prelim-Top#1'!C16","v":92.8},null,null,null,null,null,null,null,{"$f":"IF(OR($N$52=\"\",$F$25=\"\",$G$25=\"\"),\"\",IF(AND($B$6=\"Rootwad\",$N$52<>\"Exposed in stream\"),\"CHECK - Rootwad structure typically has exposed rootwad\",\"\"))","v":""},null,null,null,null,null,null,null,null,null,null,null,null,null,null,null,null,null,"RB",{"$f":"IF(OR($B$18=\"\",$B$19=\"\"),\"\",AVERAGE($B$18:$B$19))","v":138.5},{"$f":"IF(OR($C$18=\"\",$C$19=\"\"),\"\",AVERAGE($C$18:$C$19))","v":98.8},null,null,"K2",{"$f":"IF($AI$12=\"\",\"\",ACOS(1-($AI$12/$AI$7)))","v":0},"rad",null,null,null,null,null,null,null,null,"K2",{"$f":"IF($AT$12=\"\",\"\",ACOS(1-($AT$12/$AT$7)))","v":""},"rad",null,null,null,null,null,null,null,7,0.65000000000000013,2.5666666666666664,20.696114270148755,2.0696114270148755,98.046023500507715,92.912885628778284,0,0,0,0,0,0]
["Toe RB",{"$f":"'Prelim-Top#1'!B17","v":108},{"$f":"'Prelim-Top#1'!C17","v":94.94},null,null,null,null,null,null,null,null,"cos (q+90) =",{"$f":"IF($B$25=\"\",0,COS(($B$25+90)*PI()/180))","v":-0.54463903501502708},null,null,null,null,null,"Rootwad Coordinates",null,null,null,null,null,null,null,null,null,null,null,null,null,"check:",{"$f":"IF(AND($AA$21=\"Wet\",$AA$22=\"Wet\",$AA$23=\"Wet\",$AA$24=\"Wet\"),\"Log is completely submerged\",IF(AND($AA$21=\"Dry\",$AA$22=\"Dry\",OR(AND($AA$23=\"Dry\",$AA$24=\"Wet\"),AND($AA$24=\"Dry\",$AA$23=\"Wet\"))),\"Case 1\",IF(OR(AND($AA$21=\"Wet\",$AA$24=\"Wet\",$AA$22=\"Dry\",$AA$23=\"Dry\"),AND($AA$22=\"Wet\",$AA$23=\"Wet\",$AA$21=\"Dry\",$AA$24=\"Dry\")),\"Case 2\",IF(AND($AA$22=\"Dry\",$AA$23=\"Wet\",$AA$21=\"Dry\",$AA$24=\"Wet\"),\"Case 3\",IF(OR(AND($AA$21=\"Dry\",$AA$22=\"Wet\",$AA$23=\"Wet\",$AA$24=\"Wet\"),AND($AA$21=\"Wet\",$AA$22=\"Dry\",$AA$23=\"Wet\",$AA$24=\"Wet\")),\"Case 4\",\"Stem is Dry\")))))","v":"Log is completely submerged"},null,null,"VTS =",{"$f":"PI()*(($F$22/2)^2)*($E$22-$G$22)","v":91.106186954104004},"ft3",null,null,null,null,"check:",{"$f":"IF(AND($Y$21=\"Wet\",$Y$22=\"Wet\",$Y$23=\"Wet\",$Y$24=\"Wet\"),\"Log is completely submerged\",IF(AND($Y$21=\"Dry\",$Y$22=\"Dry\",OR(AND($Y$23=\"Dry\",$Y$24=\"Wet\"),AND($Y$24=\"Dry\",$Y$23=\"Wet\"))),\"Case 1\",IF(OR(AND($Y$21=\"Wet\",$Y$24=\"Wet\",$Y$22=\"Dry\",$Y$23=\"Dry\"),AND($Y$22=\"Wet\",$Y$23=\"Wet\",$Y$21=\"Dry\",$Y$24=\"Dry\")),\"Case 2\",IF(AND($Y$22=\"Dry\",$Y$23=\"Wet\",$Y$21=\"Dry\",$Y$24=\"Wet\"),\"Case 3\",IF(OR(AND($Y$21=\"Dry\",$Y$22=\"Wet\",$Y$23=\"Wet\",$Y$24=\"Wet\"),AND($Y$21=\"Wet\",$Y$22=\"Dry\",$Y$23=\"Wet\",$Y$24=\"Wet\")),\"Case 4\",\"Stem is Dry\")))))","v":"Stem is Dry"},null,null,"VTS =",{"$f":"PI()*(($F$22/2)^2)*($E$22-$G$22)","v":91.106186954104004},"ft3",null,null,null,null,8,0.75000000000000011,2.5,19.634954084936208,1.9634954084936209,97.980232025853269,92.980422410532412,0,0,0,0,0,0]
["Top RB",{"$f":"'Prelim-Top#1'!B18","v":127},{"$f":"'Prelim-Top#1'!C18","v":98.72},null,null,null,null,null,null,null,null,"sin (q+90) =",{"$f":"IF($B$25=\"\",0,SIN(($B$25+90)*PI()/180))","v":0.83867056794542394},null,null,null,null,null,null,"x (ft)","y (ft)",null,"Large Wood \"Below Thalweg\" and \"Below Water Surface\" Depths",null,null,null,null,null,null,null,null,null,"Case 1",null,null,null,null,null,null,null,null,null,null,"Case 1",null,null,null,null,null,null,null,null,null,null,9,0.85000000000000009,2.4333333333333336,18.601719167755569,1.860171916775557,97.914440551198823,93.047959192286527,0,0,0,0,0,0]
["Fldpln RB",{"$f":"'Prelim-Top#1'!B19","v":150},{"$f":"'Prelim-Top#1'!C19","v":98.88},null,null,null,null,null,null,null,{"$f":"IF($C$25=\"\",\"\", IF($C$25=0,\"ERROR - Angle of tilt can not be exactly 0 deg, change to 0.01\", IF(OR($C$25>=90,$C$25<=-90),\"ERROR - Angle of tilt must be between (-)89.9 and (+)89.9 deg\",\"\")))","v":""},"cos b =",{"$f":"IF($C$25=\"\",0,COS($C$25*PI()/180))","v":0.99996192306417131},null,null,null,null,null,"RW bottom1",{"$f":"IF($T$15=\"\",\"\",$T$15)","v":54.624349266742605},{"$f":"IF($U$15=\"\",$C$13,$U$15)","v":92.47389654737654},null,null,"Point","↓twCondition","dT,wet","↓WSECondition","dT↓dw",null,null,null,null,null,null,"V =","LTS,bot,wet/hmax,lower*R3*(sin K1 – K1*cos K1 – 1/3*(sin K1)3)",null,null,null,null,null,null,null,null,null,"V =","LTS,bot,wet/hmax,lower*R3*(sin K1 – K1*cos K1 – 1/3*(sin K1)3)",null,null,null,null,null,null,null,10,0.95000000000000007,2.3666666666666663,17.596409518606823,1.7596409518606824,97.84864907654439,93.115495974040641,0,0,0,0,0,0]
[null,null,null,null,null,null,null,null,null,null,{"$f":"IF(OR($B$25=\"\",$A$6=\"\"),\"\",IF(OR($B$25>360,$B$25<-180),\"ERROR - Orientation angle must be (-)180 to (+)360 deg\",\"\"))","v":""},"sin b =",{"$f":"IF($C$25=\"\",0,SIN($C$25*PI()/180))","v":8.7265354983739347E-3},null,null,null,null,null,"RW sid1",{"$f":"IF($T$19=\"\",\"\",IF($D$22=\"No\",$T$19+((SIN(45*PI()/180))*$M$18),(($T$19+$T$21)/2)+((SIN(45*PI()/180))*$M$18)))","v":56.482513982245813},{"$f":"IF($U$15=\"\",$C$13,($U$21+$U$19)/2)","v":93.973839431972806},null,"Rootwad: Crown","Pt 1",{"$f":"IF($U10<$C$16,\"Wet\",\"Dry\")","v":"Dry"},{"$f":"IF($C$16<U10,0,$C$16-U10)","v":0},{"$f":"IF($U10<$AE$8,\"Wet\",\"Dry\")","v":"Wet"},{"$f":"IF(U10>$AE$8,0,$AE$8-U10)","v":2.7763319142384262},null,null,null,null,null,null,"where:","K1 = arccos(1-hmax,lower/R)",null,null,null,null,null,null,null,null,null,"where:","K1 = arccos(1-hmax,lower/R)",null,null,null,null,null,null,null,11,1.05,2.2999999999999998,16.619025137490002,1.6619025137490002,97.782857601889944,93.183032755794756,0,0,0,0,0,0]
["Wood Species",null,null,"Rootwad","LT (ft)","DTS (ft)","LRW (ft)","DRW (ft)","gTd (lb/ft3)","gTgr (lb/ft3)",{"$f":"IF(AND($D$22=\"No\",OR($D$25=\"Rootwad: Crown\",$D$25=\"Rootwad: Bottom\")),\"ERROR - No rootwad, define a different starting point\",\"\")","v":""},"typ RW b =",{"$f":"IF($E$22=\"\",0,ROUND((-ATAN(((($H$22-$F$22)/2))/$E$22)*180/PI()),1))","v":-3.6},null,null,null,null,null,"RW sid2",{"$f":"IF($T$19=\"\",\"\",IF($D$22=\"No\",(($T$19+$T$23)/2)+($F$22/2*$M$18),(($T$19+$T$23)/2)+($H$22/2*$M$18)))","v":57.154619406197455},{"$f":"IF($U$15=\"\",$C$13,($U$19+$U$23)/2)","v":95.473782316569057},null,"Root collar: Crown","Pt 2","Dry",0,"Wet",4.7500761538716461,null,null,null,null,null,null,"VTS,wet,C1",{"$f":"($AI$13/$AI$11)*($AI$7^3)*(SIN($AI$15)-($AI$15*COS($AI$15))-((1/3)*(SIN($AI$15))^3))","v":-809.4714664858285},"ft3",null,null,null,null,null,null,null,null,"VTS,wet,C1",{"$f":"($AT$13/$AT$11)*($AT$7^3)*(SIN($AT$15)-($AT$15*COS($AT$15))-((1/3)*(SIN($AT$15))^3))","v":{"$error":"#VALUE!"}},"ft3",null,null,null,null,null,null,12,1.1500000000000001,2.2333333333333334,15.669566024405089,1.566956602440509,97.717066127235512,93.25056953754887,0,0,0,0,0,0]
["Douglas-fir, Interior west",null,null,"Yes",32,2,{"$f":"IF(OR($D$22=\"No\",$D$22=\"\"),0,IF($F$22=\"\",0,$F$22*LFRW))","v":3},{"$f":"IF(OR($D$22=\"No\",$D$22=\"\"),0,IF($F$22=\"\",0,$F$22*DFRW))","v":6},{"$f":"IF($A$22=\"\",\"\",VLOOKUP($A$22,'5-Wood'!$B$8:$E$17,3,0))","v":34.944000000000003},{"$f":"IF($A$22=\"\",\"\",VLOOKUP($A$22,'5-Wood'!$B$8:$E$17,4,0))","v":39},null,null,null,null,null,null,null,null,"RW sid3",{"$f":"IF($T$19=\"\",\"\",IF($D$22=\"No\",$T$23+((SIN(45*PI()/180))*$M$18),(($T$23+$T$21)/2)+((SIN(45*PI()/180))*$M$18)))","v":56.496772417864385},{"$f":"IF($U$15=\"\",$C$13,($U$21+$U$23)/2)","v":96.973725201165308},null,"Stem tip: Crown","Pt 3","Dry",0,"Wet",4.4970066244188018,null,null,null,null,null,null,null,null,null,null,null,null,null,null,null,null,null,null,null,null,null,null,null,null,null,null,13,1.2500000000000002,2.1666666666666665,14.748032179352082,1.4748032179352082,97.651274652581066,93.318106319302984,0,0,0,0,0,0]
[null,null,null,null,null,null,null,null,null,null,{"$f":"IF(OR($B$25=\"\",$A$6=\"\"),\"\",IF(OR($B$25=360,$B$25=270,$B$25=180,$B$25=90,$B$25=0,$B$25=-90,$B$25=-180),\"ERROR - Orientation angle can not EXACTLY equal 0, 90, 180, 270, or 360 deg. Change input value to 0.01, 89.99 (or similar)\",\"\"))","v":""},null,null,null,null,null,null,null,"RW crown",{"$f":"IF($T$19=\"\",\"\",$T$10)","v":54.652866137979757},{"$f":"IF($U$15=\"\",$C$13,$U$10)","v":98.473668085761574},null,"Stem tip: Bottom","Pt 4","Dry",0,"Wet",6.4969304705471416,null,null,null,null,"Case 2",null,null,null,null,null,null,null,null,null,null,"Case 2",null,null,null,null,null,null,null,null,null,null,14,1.35,2.0999999999999996,13.854423602330982,1.3854423602330983,97.585483177926619,93.385643101057099,0,0,0,0,0,0]
["Structure Geometry","q (deg)","b (deg)","Define Fixed Point",null,"xT (ft)","yT (ft)","yT,min (ft)","yT,max (ft)","ATp (ft2)",null,null,null,null,null,null,null,null,"RW sid4",{"$f":"IF($T$19=\"\",\"\",IF($D$22=\"No\",$T$23-((SIN(45*PI()/180))*$M$18),(($T$23+$T$25)/2)-((SIN(45*PI()/180))*$M$18)))","v":52.794701422476557},{"$f":"IF($U$15=\"\",$C$13,($U$25+$U$23)/2)","v":96.973725201165308},null,"Root collar: Bottom","Pt 5","Dry",0,"Wet",6.75,null,null,null,null,null,null,"V =","(p*R2*LTS,top,wet) + (LTS,bot,wet/hmax,lower*R3*(sin K1 – K1*cos K1 – 1/3*(sin K1)3)",null,null,null,null,null,null,null,null,null,"V =","(p*R2*LTS,top,wet) + (LTS,bot,wet/hmax,lower*R3*(sin K1 – K1*cos K1 – 1/3*(sin K1)3)",null,null,null,null,null,null,null,15,1.4500000000000002,2.0333333333333332,12.988740293341799,1.2988740293341801,97.519691703272187,93.453179882811213,0,0,0,0,0,0]
[null,33,0.5,"Root collar: Bottom",null,53,94.5,{"$f":"IF(OR($E$22=\"\",$F$22=\"\",$F$25=\"\",$G$25=\"\"),\"\",MIN($U$10:$U$15))","v":92.47389654737654},{"$f":"IF(OR($E$22=\"\",$F$22=\"\",$F$25=\"\",$G$25=\"\"),\"\",MAX($U$10:$U$15))","v":98.473668085761574},{"$f":"IF(OR($E$22=\"\",$F$22=\"\",$F$25=\"\",$G$25=\"\"),\"\",IF($T$81<0,$AB$80,IF($T$81>$T$77,$T$77+$AB$80,IF(OR(AND($C$25=0,$D$22=\"No\",$B$25=0),AND($C$25=0,$D$22=\"No\",$B$25=360),AND($C$25=0,$D$22=\"No\",$B$25=180)),PI()*(($F$22/2)^2),$T$81+$AB$80))))","v":26.567184147398734},{"$f":"IF(OR($B$13=\"\",$B$19=\"\",$U$38=0,$U$39=0),\"\",IF(OR(MAX($U$38:$U$39)>$B$19,MIN($U$38:$U$39)<$B$13),\"ERROR - Log extends beyond limits of floodplain\",\"\"))","v":""},null,null,null,null,null,null,null,"RW sid5",{"$f":"IF($T$19=\"\",\"\",IF($D$22=\"No\",(($T$27+$T$23)/2)-($F$22/2*$M$18),(($T$27+$T$23)/2)-($H$22/2*$M$18)))","v":52.122595998524915},{"$f":"IF($U$15=\"\",$C$13,($U$27+$U$23)/2)","v":95.473782316569057},null,"Rootwad: Bottom","Pt 6","Wet",0.32610345262345675,"Wet",8.7761034526234596,null,null,null,null,null,null,"where:","K1 = arccos(1-hmax,lower/R)",null,null,null,null,null,null,null,null,null,"where:","K1 = arccos(1-hmax,lower/R)",null,null,null,null,null,null,null,16,1.55,1.9666666666666668,12.150982252384525,1.2150982252384526,97.453900228617741,93.520716664565327,0,0,0,0,0,0]
[null,null,null,null,null,null,null,null,null,null,null,null,null,null,null,null,null,null,"RW sid6",{"$f":"IF($T$19=\"\",\"\",IF($D$22=\"No\",$T$27-((SIN(45*PI()/180))*$M$18),(($T$27+$T$25)/2)-((SIN(45*PI()/180))*$M$18)))","v":52.780442986857985},{"$f":"IF($U$15=\"\",$C$13,($U$25+$U$27)/2)","v":93.973839431972806},null,null,null,null,null,null,null,null,null,null,null,null,null,"VTS,wet,C2",{"$f":"(PI()*(($AI$7)^2)*($AI$14))+($AI$13/$AI$11)*($AI$7^3)*(SIN($AI$15)-($AI$15*COS($AI$15))-((1/3)*(SIN($AI$15))^3))","v":900.57765343993231},"ft3",null,null,null,null,null,null,null,null,"VTS,wet,C2",{"$f":"(PI()*(($AT$7)^2)*($AT$14))+($AT$13/$AT$11)*($AT$7^3)*(SIN($AT$15)-($AT$15*COS($AT$15))-((1/3)*(SIN($AT$15))^3))","v":{"$error":"#VALUE!"}},"ft3",null,null,null,null,null,null,17,1.6500000000000001,1.9,11.341149479459153,1.1341149479459154,97.388108753963309,93.588253446319442,0,0,0,0,0,0]
["Soils","Material",null,"gs (lb/ft3)","g's (lb/ft3)","f (deg)","Soil Class","LT,em (ft)","db,max (ft)","db,avg (ft)",null,null,null,null,null,null,null,null,"RW bottom2",{"$f":"IF($T$19=\"\",\"\",$T$15)","v":54.624349266742605},{"$f":"IF($U$15=\"\",$C$13,$U$15)","v":92.47389654737654},null,null,null,null,null,null,null,null,null,null,null,null,null,null,null,null,null,null,null,null,null,null,null,null,null,null,null,null,null,null,null,null,null,18,1.7500000000000002,1.833333333333333,10.559241974565689,1.055924197456569,97.322317279308862,93.655790228073556,0,0,0,0,0,0]
["Stream Bed",{"$f":"IF($A$6=\"\",\"\",VLOOKUP($A$6,Soil,4,0))","v":"Small Cobble"},null,{"$f":"IF($A$6=\"\",\"\",VLOOKUP($A$6,Soil,6,0))","v":136.37545738828794},{"$f":"IF($A$6=\"\",\"\",VLOOKUP($A$6,Soil,7,0))","v":84.913020637990599},{"$f":"IF($A$6=\"\",\"\",VLOOKUP($A$6,Soil,8,0))","v":41},{"$f":"IF($A$6=\"\",\"\",VLOOKUP($A$6,Soil,5,0))","v":4},{"$f":"IF(OR($E$22=\"\",$F$22=\"\",$F$25=\"\",$G$25=\"\"),\"\",IF(AND($F$25<=$B$17,$F$25>=$B$15,OR($B$25=0,$B$25=180,$B$25=360)),SUM($X$49:$X$50),$AB$49+$AB$50))","v":0},{"$f":"IF(OR($E$22=\"\",$F$22=\"\",$F$25=\"\",$G$25=\"\"),\"\",$AT$42)","v":0},{"$f":"IF(OR($E$22=\"\",$F$22=\"\",$F$25=\"\",$G$25=\"\"),\"\",$AT$41)","v":0},null,null,null,null,null,null,null,null,null,null,null,null,null,null,null,null,null,null,null,null,null,null,"Case 3",null,null,null,null,null,null,null,null,null,null,"Case 3",null,null,null,null,null,null,null,null,null,null,19,1.85,1.7666666666666666,9.8052597377041426,0.98052597377041428,97.256525804654416,93.723327009827671,0,0,0,0,0,0]
["Bank",{"$f":"IF($A$6=\"\",\"\",VLOOKUP($A$6,Soil,9,0))","v":"Gravel/cobble"},null,{"$f":"IF($A$6=\"\",\"\",VLOOKUP($A$6,Soil,11,0))","v":137},{"$f":"IF($A$6=\"\",\"\",VLOOKUP($A$6,Soil,12,0))","v":85.301886792452819},{"$f":"IF($A$6=\"\",\"\",VLOOKUP($A$6,Soil,13,0))","v":41},{"$f":"IF($A$6=\"\",\"\",VLOOKUP($A$6,Soil,10,0))","v":4},{"$f":"IF(OR($E$22=\"\",$F$22=\"\",$F$25=\"\",$G$25=\"\"),\"\",IF(AND(OR($F$25>$B$17,$F$25<$B$15),OR($B$25=0,$B$25=180,$B$25=360)),$X$47+$X$48+$X$51+$X$52,$AB$47+$AB$48+$AB$51+$AB$52))","v":18.266238236062033},{"$f":"IF(OR($E$22=\"\",$F$22=\"\",$F$25=\"\",$G$25=\"\"),\"\",$AU$42)","v":1.2428112888736536},{"$f":"IF(OR($E$22=\"\",$F$22=\"\",$F$25=\"\",$G$25=\"\"),\"\",$AU$41)","v":0.62229825230613933},{"$f":"IF(OR($E$22=\"\",$F$22=\"\",$F$25=\"\",$G$25=\"\"),\"\",IF(($H$28+$H$29)>$E$22,\"ERROR - Embedded length of log exceeds total length of log\",\"\"))","v":""},null,null,null,null,null,null,null,"Coordinates of Large Wood Crown at Key Points",null,null,null,null,null,null,null,null,null,null,null,null,null,null,null,"V =","LTS*(R2*arccos((R-dwet,avgH)/R)-(R-dwet,avgH)*((2*R*dwet,avgH)-dwet,avgH2)0.5)",null,null,null,null,null,null,null,null,null,"V =","LTS*(R2*arccos((R-dwet,avgH)/R)-(R-dwet,avgH)*((2*R*dwet,avgH)-dwet,avgH2)0.5)",null,null,null,null,null,null,null,20,1.9500000000000002,1.6999999999999997,9.0792027688745005,0.90792027688745014,97.190734329999984,93.790863791581785,0,0,0,0,0,0]
[null,null,null,null,null,null,null,null,null,null,null,null,null,null,null,null,null,null,null,"Wood Present?","Large Wood Parameters",null,null,null,"Soil",null,"Slope","Bank (ft/ft)",null,null,null,null,null,null,"VTS,wet,C3",{"$f":"IF($AI$10=\"\",\"\",($E$22-$G$22)*((($AI$7^2)*ACOS(($AI$7-$AI$10)/$AI$7))-(($AI$7-$AI$10)*((2*$AI$7*$AI$10)-($AI$10^2))^0.5)))","v":{"$error":"#NUM!"}},"ft3",null,null,null,null,null,null,null,null,"VTS,wet,C3",{"$f":"IF($AT$10=\"\",\"\",($E$22-$G$22)*((($AT$7^2)*ACOS(($AT$7-$AT$10)/$AT$7))-(($AT$7-$AT$10)*((2*$AT$7*$AT$10)-($AT$10^2))^0.5)))","v":""},"ft3",null,null,null,null,null,null,21,2.0499999999999998,1.6333333333333333,8.3810710680767713,0.83810710680767719,97.124942855345537,93.858400573335899,0,{"$f":"(($BE30^2)*ACOS(($BE30-$BJ30)/$BE30))-(($BE30-$BJ30)*SQRT(2*$BE30*$BJ30-($BJ30^2)))","v":0},{"$f":"$BK30*$BE$6","v":0},0,0,0]
[null,null,null,null,null,null,null,null,null,null,null,null,null,null,null,null,null,null,null,null,"xTS (ft)","Dist (ft)","Adjusted Dist (ft)","yTS (ft)","ysoil (ft)",null,"Fldpln LB",{"$f":"IF(OR($B$13=\"\",$B$14=\"\",$C$13=\"\",$C$14=\"\"),\"\",($C$14-$C$13)/($B$14-$B$13))","v":-1.7878787878787984E-2},null,null,null,null,null,null,null,null,null,null,null,null,null,null,null,null,null,null,null,null,null,null,null,null,null,null,22,2.15,1.5666666666666669,7.7108646353109487,0.77108646353109489,97.059151380691105,93.925937355090014,0,0,0,0,0,0]
[null,null,null,null,null,null,null,null,null,null,null,null,null,null,null,null,null,null,"At Left Bank Top",{"$f":"IF(OR($F$25=\"\",$G$25=\"\"),\"No\",IF(MIN($U$38:$U$39)>$B$14,\"No\",IF(MAX($U$38:$U$39)<$B$14,\"No\",\"Yes\")))","v":"No"},{"$f":"$B$14","v":33},{"$f":"IF(OR($B$25=0,$B$25=180,$B$25=360),0,IF($T$11>$T$12,$G$22+((($T$11-$B$14)/ABS($M$17))/$M$19),(($T$12-$B$14)/ABS($M$17))/$M$19))","v":39.740421209190714},{"$f":"IF(V32<0,0,IF(V32>$E$22,$E$22,V32))","v":32},{"$f":"IF($T$11>$T$12,$U$11+(($V$32-$G$22)*$M$20),$U$12-($V$32*$M$20))","v":96.820540436035571},{"$f":"$C$14","v":98.59},null,"LB",{"$f":"IF(OR($B$14=\"\",$B$15=\"\",$C$14=\"\",$C$15=\"\"),\"\",($C$15-$C$14)/($B$15-$B$14))","v":-0.14095238095238133},null,null,null,null,null,null,null,null,null,null,null,null,null,null,null,null,null,null,null,null,null,null,null,null,null,null,23,2.25,1.5,7.0685834705770345,0.70685834705770345,96.993359906036659,93.993474136844128,0,0,0,0,0,0]
[null,null,null,null,null,null,null,null,null,null,null,null,null,null,null,null,null,null,"At Left Bank Toe",{"$f":"IF(OR($F$25=\"\",$G$25=\"\"),\"No\",IF(MIN($U$38:$U$39)>$B$15,\"No\",IF(MAX($U$38:$U$39)<$B$15,\"No\",\"Yes\")))","v":"Yes"},{"$f":"$B$15","v":54},{"$f":"IF(OR($B$25=0,$B$25=180,$B$25=360),0,IF($T$11>$T$12,$G$22+((($T$11-$B$15)/ABS($M$17))/$M$19),(($T$12-$B$15)/ABS($M$17))/$M$19))","v":1.1813053619010572},1.1813053619010572,{"$f":"IF($T$11>$T$12,$U$11+(($V$33-$G$22)*$M$20),$U$12-($V$33*$M$20))","v":96.484052942808276},{"$f":"$C$15","v":95.63},null,"Stream L",{"$f":"IF(OR($B$15=\"\",$B$16=\"\",$C$15=\"\",$C$16=\"\"),\"\",($C$16-$C$15)/($B$16-$B$15))","v":-0.11319999999999993},null,null,null,null,null,null,null,null,null,null,null,null,null,null,null,null,null,null,null,null,null,null,null,null,null,null,24,2.35,1.4333333333333333,6.4542275738750305,0.6454227573875031,96.927568431382213,94.061010918598257,0,0,0,0,0,0]
[null,null,null,null,null,null,null,null,null,null,null,null,null,null,null,null,null,null,"At Left Thalweg",{"$f":"IF(OR($F$25=\"\",$G$25=\"\"),\"No\",IF(AND(MAX($U$38:$U$39)>$B$16,MIN($U$38:$U$39)<$B$16),\"Yes\",\"No\"))","v":"No"},{"$f":"$B$16","v":79},{"$f":"IF(OR($B$25=0,$B$25=180,$B$25=360),0,IF($T$11>$T$12,$G$22+((($T$11-$B$16)/ABS($M$17))/$M$19),(($T$12-$B$16)/ABS($M$17))/$M$19))","v":-44.722403980110435},0,{"$f":"IF($T$11>$T$12,$U$11+(($V$34-$G$22)*$M$20),$U$12-($V$34*$M$20))","v":96.083472593728175},{"$f":"$C$16","v":92.8},null,"Stream R",{"$f":"IF(OR($B$17=\"\",$B$16=\"\",$C$17=\"\",$C$16=\"\"),\"\",($C$16-$C$17)/($B$16-$B$17))","v":7.3793103448275887E-2},null,null,null,null,"Case 4",null,null,null,null,null,null,null,null,null,null,"Case 4",null,null,null,null,null,null,null,null,null,null,25,2.4500000000000002,1.3666666666666665,5.8677969452049341,0.58677969452049339,96.86177695672778,94.128547700352371,0,0,0,0,0,0]
[null,null,null,null,null,null,null,null,null,null,null,null,null,null,null,null,null,null,"At Right Thalweg",{"$f":"IF(OR($F$25=\"\",$G$25=\"\"),\"No\",IF(AND(MAX($U$38:$U$39)>$B$16,MIN($U$38:$U$39)<$B$16),\"Yes\",\"No\"))","v":"No"},{"$f":"$B$16","v":79},{"$f":"IF(OR($B$25=0,$B$25=180,$B$25=360),0,IF($T$11<$T$12,$G$22+((($B$16-$T$11)/ABS($M$17))/$M$19),(($B$16-$T$12)/ABS($M$17))/$M$19))","v":76.722403980110442},32,{"$f":"IF($T$11<$T$12,$U$11+(($V$35-$G$22)*$M$20),$U$12-($V$35*$M$20))","v":96.083472593728175},{"$f":"$C$16","v":92.8},null,"RB",{"$f":"IF(OR($B$18=\"\",$B$17=\"\",$C$18=\"\",$C$17=\"\"),\"\",($C$18-$C$17)/($B$18-$B$17))","v":0.19894736842105268},null,null,null,null,null,null,"V =","VTS - (LTS,wet/hmax,up,dry*R3*(sin K2 – K2*cos K2 – 1/3*(sin K2)3)",null,null,null,null,null,null,null,null,null,"V =","VTS - (LTS,wet/hmax,up,dry*R3*(sin K2 – K2*cos K2 – 1/3*(sin K2)3)",null,null,null,null,null,null,null,26,2.5499999999999998,1.3,5.3092915845667505,0.5309291584566751,96.795985482073334,94.196084482106485,0,0,0,0,0,0]
[null,null,null,null,null,null,null,null,null,null,null,null,null,null,null,null,null,null,"At Right Bank Toe",{"$f":"IF(OR($F$25=\"\",$G$25=\"\"),\"No\",IF(MAX($U$38:$U$39)<$B$17,\"No\",IF(MIN($U$38:$U$39)>$B$17,\"No\",\"Yes\")))","v":"No"},{"$f":"$B$17","v":108},{"$f":"IF(OR($B$25=0,$B$25=180,$B$25=360),0,IF($T$11<$T$12,$G$22+((($B$17-$T$11)/ABS($M$17))/$M$19),(($B$17-$T$12)/ABS($M$17))/$M$19))","v":129.97070681684377},32,{"$f":"IF($T$11<$T$12,$U$11+(($V$36-$G$22)*$M$20),$U$12-($V$36*$M$20))","v":95.618799388795253},{"$f":"$C$17","v":94.94},null,"Fldpln RB",{"$f":"IF(OR($B$19=\"\",$B$18=\"\",$C$19=\"\",$C$18=\"\"),\"\",($C$19-$C$18)/($B$19-$B$18))","v":6.9565217391302867E-3},null,null,null,null,null,null,null,"K2 = arccos(1-hmax,up,dry/R)",null,null,null,null,null,null,null,null,null,null,"K2 = arccos(1-hmax,up,dry/R)",null,null,null,null,null,null,null,27,2.65,1.2333333333333334,4.7787114919604745,0.47787114919604745,96.730194007418902,94.2636212638606,0,0,0,0,0,0]
[null,null,null,null,null,null,null,null,null,null,null,null,null,null,null,null,null,null,"At Right Bank Top",{"$f":"IF(OR($F$25=\"\",$G$25=\"\"),\"No\",IF(MAX($U$38:$U$39)<$B$18,\"No\",IF(MIN($U$38:$U$39)>$B$18,\"No\",\"Yes\")))","v":"No"},{"$f":"$B$18","v":127},{"$f":"IF(OR($B$25=0,$B$25=180,$B$25=360),0,IF($T$11<$T$12,$G$22+((($B$18-$T$11)/ABS($M$17))/$M$19),(($B$18-$T$12)/ABS($M$17))/$M$19))","v":164.85752591677249},32,{"$f":"IF($T$11<$T$12,$U$11+(($V$37-$G$22)*$M$20),$U$12-($V$37*$M$20))","v":95.314358323494389},{"$f":"$C$18","v":98.72},null,null,null,null,null,null,null,null,null,"VTS,wet,C4",{"$f":"IF($AI$16=\"\",\"\",$AW$17-(($AI$13/$AI$12)*($AI$7^3)*(SIN($AI$16)-($AI$16*COS($AI$16))-((1/3)*(SIN($AI$16))^3))))","v":{"$error":"#DIV/0!"}},"ft3",null,null,null,null,null,null,null,null,"VTS,wet,C4",{"$f":"IF($AT$16=\"\",\"\",$AW$17-(($AT$13/$AT$12)*($AT$7^3)*(SIN($AT$16)-($AT$16*COS($AT$16))-((1/3)*(SIN($AT$16))^3))))","v":""},"ft3",null,null,null,null,null,null,28,2.75,1.1666666666666667,4.2760566673861078,0.42760566673861078,96.664402532764456,94.331158045614714,0,0,0,0,0,0]
[null,null,null,null,null,null,null,null,null,null,null,null,null,null,null,null,null,null,"Low Pt on Crown",{"$f":"IF(OR($F$25=\"\",$G$25=\"\"),\"No\",\"Yes\")","v":"Yes"},{"$f":"IF($T$38=\"No\",0,IF($U$12<=$U$11,$T$12,$T$11-($G$22*$M$19*$M$17)))","v":54.64336051423404},0,0,{"$f":"IF($T$38=\"No\",0,IF($U$12<=$U$11,$U$12,$U$11-($G$22*$M$20)))","v":96.473744239633234},{"$f":"IF($T$38=\"\",\"\",IF($U$38<$B$14,(($U$38-$B$13)*$AB$31)+$C$13,IF($U$38<$B$15,(($U$38-$B$14)*$AB$32)+$C$14,IF($U$38<$B$16,(($U$38-$B$15)*$AB$33)+$C$15,IF($U$38<$B$17,(($U$38-$B$16)*$AB$34)+$C$16,IF($U$38<$B$18,(($U$38-$B$17)*$AB$35)+$C$17,IF($U$38<$B$19,(($U$38-$B$18)*$AB$36)+$C$18)))))))","v":95.557171589788709},null,"Slope Log (ft/ft)","Slope Log Face (ft/ft)",null,null,null,null,null,null,null,null,null,null,null,null,null,null,null,null,null,null,null,null,null,null,null,null,null,null,29,2.85,1.0999999999999999,3.801327110843649,0.38013271108436492,96.598611058110009,94.398694827368828,0,0,0,0,0,0,null,null,"Max","Min","cP (ft)"]
[null,null,null,null,null,null,null,null,null,null,null,null,null,null,null,null,null,null,"High Pt on Crown","Yes",{"$f":"IF($T$39=\"No\",0,IF($U$12>$U$11,$T$12,$T$11-($G$22*$M$19*$M$17)))","v":37.215575015691925},{"$f":"IF($T$39=\"No\",0,$E$22)","v":32},32,{"$f":"IF($T$39=\"No\",0,IF($U$12>=$U$11,$U$12,$U$11-($G$22*$M$20)))","v":96.752993375581198},{"$f":"IF($T$39=\"\",\"\",IF($U$39<$B$14,(($U$39-$B$13)*$AB$31)+$C$13,IF($U$39<$B$15,(($U$39-$B$14)*$AB$32)+$C$14,IF($U$39<$B$16,(($U$39-$B$15)*$AB$33)+$C$15,IF($U$39<$B$17,(($U$39-$B$16)*$AB$34)+$C$16,IF($U$39<$B$18,(($U$39-$B$17)*$AB$35)+$C$17,IF($U$39<$B$19,(($U$39-$B$18)*$AB$36)+$C$18)))))))","v":97.995804664454852},null,null,null,null,null,null,null,null,null,"Free internet tilted cylinder calculator:",null,null,null,"http://planetcalc.com/1442/",null,null,null,null,null,null,"Free internet tilted cylinder calculator:",null,null,null,"http://planetcalc.com/1442/",null,null,null,null,30,2.95,1.0333333333333332,3.3545228223331005,0.33545228223331008,96.532819583455577,94.466231609122943,0,0,0,0,0,0,null,null,{"$f":"MAX($BS$45:$BS$245)","v":18.239999999999998},{"$f":"MIN($BS$45:$BS$245)","v":0},{"$f":"IF($BS$43=0,0,IF(AND($BS$39=0,$BR$39=$E$22),($BR$39+$BS$39)/2,IF($BS$39=0,$BR$39-((1/3)*($BR$39-$BS$39)),IF($BR$39=$E$22,$BR$39-((2/3)*($BR$39-$BS$39)),($BR$39+$BS$39)/2))))","v":12.16}]
[null,null,null,null,null,null,null,null,null,null,null,null,null,null,null,null,null,null,"Low Pt on Bottom","Yes",{"$f":"IF($T$40=\"No\",0,IF($U$13<=$U$14,$T$13,$T$14-($G$22*$M$19*$M$17)))","v":54.633854890488323},0,0,{"$f":"IF($T$40=\"No\",0,IF($U$13<=$U$14,$U$13,$U$14-($G$22*$M$20)))","v":94.47382039350488},{"$f":"IF($T$40=\"\",\"\",IF($U$40<$B$14,(($U$40-$B$13)*$AB$31)+$C$13,IF($U$40<$B$15,(($U$40-$B$14)*$AB$32)+$C$14,IF($U$40<$B$16,(($U$40-$B$15)*$AB$33)+$C$15,IF($U$40<$B$17,(($U$40-$B$16)*$AB$34)+$C$16,IF($U$40<$B$18,(($U$40-$B$17)*$AB$35)+$C$17,IF($U$40<$B$19,(($U$40-$B$18)*$AB$36)+$C$18)))))))","v":95.558247626396721},null,{"$f":"IF(OR($B$25=0,$B$25=180,$B$25=360),($U$11-$U$12)/0.001,IF($X$38=$X$39,1E-25,($U$11-$U$12)/($T$11-$T$12)))","v":-1.6023213963204105E-2},{"$f":"IF(OR($B$25=0,$B$25=180,$B$25=360),9999,IF($X$38=$X$39,1E-25,($U$12-$U$13)/($T$12-$T$13)))","v":210.39375212272836},null,null,null,null,null,null,null,null,null,null,null,null,null,null,null,null,null,null,null,null,null,null,null,null,null,null,"Total",null,null,null,{"$f":"SUM(BG10:BG39)","v":40.837213838163322},null,null,null,null,{"$f":"SUM($BL$10:$BL$39)","v":0},null,null,{"$f":"SUM($BO$10:$BO$39)","v":0.11342626641975119}]
[null,null,null,null,null,null,null,null,null,null,null,null,null,null,null,null,null,null,"High Pt on Bottom","Yes",{"$f":"IF($T$41=\"No\",0,IF($U$13>$U$14,$T$13,$T$14-($G$22*$M$19*$M$17)))","v":37.206069391946208},{"$f":"IF($T$41=\"No\",0,$E$22)","v":32},32,{"$f":"IF($T$41=\"No\",0,IF($U$13>=$U$14,$U$13,$U$14-($G$22*$M$20)))","v":94.753069529452858},{"$f":"IF($T$41=\"\",\"\",IF($U$41<$B$14,(($U$41-$B$13)*$AB$31)+$C$13,IF($U$41<$B$15,(($U$41-$B$14)*$AB$32)+$C$14,IF($U$41<$B$16,(($U$41-$B$15)*$AB$33)+$C$15,IF($U$41<$B$17,(($U$41-$B$16)*$AB$34)+$C$16,IF($U$41<$B$18,(($U$41-$B$17)*$AB$35)+$C$17,IF($U$41<$B$19,(($U$41-$B$18)*$AB$36)+$C$18)))))))","v":97.997144504754246},null,null,null,null,null,null,null,null,null,null,null,null,null,null,null,null,null,null,null,"Average",{"$f":"IF(AT42=0,0,AVERAGE(AT45:AT245))","v":0},{"$f":"IF(AU42=0,0,AVERAGE(AU45:AU245))","v":0.62229825230613933}]
[null,null,null,null,null,null,null,null,null,null,null,null,null,null,null,null,null,null,"Low Pt on Centerline","Yes",{"$f":"IF($T$42=\"No\",0,AVERAGE($U$38,$U$40))","v":54.638607702361185},0,0,{"$f":"IF($T$42=\"No\",0,AVERAGE($X$38,$X$40))","v":95.473782316569057},{"$f":"IF($T$42=\"\",\"\",IF($U$42<$B$14,(($U$42-$B$13)*$AB$31)+$C$13,IF($U$42<$B$15,(($U$42-$B$14)*$AB$32)+$C$14,IF($U$42<$B$16,(($U$42-$B$15)*$AB$33)+$C$15,IF($U$42<$B$17,(($U$42-$B$16)*$AB$34)+$C$16,IF($U$42<$B$18,(($U$42-$B$17)*$AB$35)+$C$17,IF($U$42<$B$19,(($U$42-$B$18)*$AB$36)+$C$18)))))))","v":95.557709608092708},null,null,null,null,null,null,null,null,null,"Log Partial Area Calculations",null,null,null,null,null,null,null,null,null,"Max",{"$f":"MAX(AT45:AT245)","v":0},{"$f":"MAX(AU45:AU245)","v":1.2428112888736536},null,null,null,"Total","Total","Total","Total","Total",null,"Total",null,"Total","Total","Average",null,"Average","Average","Average","Average","Total","Total","Total","Average","Average"]
[null,null,null,null,null,null,null,null,null,null,null,null,null,null,null,null,null,null,"High Pt on Centerline","Yes",{"$f":"IF($T$42=\"No\",0,AVERAGE($U$39,$U$41))","v":37.210822203819063},{"$f":"IF($T$43=\"No\",0,$E$22)","v":32},32,{"$f":"IF($T$42=\"No\",0,AVERAGE($X$39,$X$41))","v":95.753031452517035},{"$f":"IF($T$43=\"\",\"\",IF($U$43<$B$14,(($U$43-$B$13)*$AB$31)+$C$13,IF($U$43<$B$15,(($U$43-$B$14)*$AB$32)+$C$14,IF($U$43<$B$16,(($U$43-$B$15)*$AB$33)+$C$15,IF($U$43<$B$17,(($U$43-$B$16)*$AB$34)+$C$16,IF($U$43<$B$18,(($U$43-$B$17)*$AB$35)+$C$17,IF($U$43<$B$19,(($U$43-$B$18)*$AB$36)+$C$18)))))))","v":97.996474584604556},null,null,null,null,null,null,null,null,null,"Log Parameters",null,null,null,null,null,null,"Soil Parameters",null,null,null,null,null,null,null,null,{"$f":"SUM(AY45:AY245)","v":18.320000000000011},{"$f":"SUM($AZ$45:$AZ$245)","v":0},{"$f":"SUM($BA$45:$BA$245)","v":0},{"$f":"SUM($BB$45:$BB$245)","v":0},{"$f":"SUM($BC$45:$BC$245)","v":22.701725878646144},null,{"$f":"SUM($BE$45:$BE$245)","v":31.500884514622648},null,{"$f":"SUM($BG$45:$BG$245)","v":0},{"$f":"SUM($BH$45:$BH$245)","v":13.680000000000009},{"$f":"IF(SUM($BI$45:$BI$245)=0,0,AVERAGE($BI$45:$BI$245))","v":25.200000000000003},null,{"$f":"IF(SUM($BK$45:$BK$245)=0,0,AVERAGE($BK$45:$BK$245))","v":0},{"$f":"IF(SUM($BL$45:$BL$245)=0,0,AVERAGE($BL$45:$BL$245))","v":0},{"$f":"IF(SUM($BM$45:$BM$245)=0,0,AVERAGE($BM$45:$BM$245))","v":5.7169533973640627},{"$f":"IF(SUM($BN$45:$BN$245)=0,0,AVERAGE($BN$45:$BN$245))","v":0.11451417573877558},{"$f":"SUM(BO45:BO245)","v":32.000000000000021},{"$f":"SUM($BP$45:$BP$245)","v":1.2000000000000002},{"$f":"SUM($BQ$45:$BQ$245)","v":30.800000000000022},{"$f":"IF(SUM($BR$45:$BR$245)=0,0,AVERAGE($BR$45:$BR$245))","v":16},{"$f":"IF(SUM($BS$45:$BS$245)=0,0,AVERAGE($BS$45:$BS$245))","v":9.1199999999999992}]
[null,null,null,null,null,null,null,null,null,null,null,null,null,null,null,null,null,null,null,null,null,null,null,null,null,null,null,null,null,null,null,null,null,null,"Point","Distance","Zone","xcrown (ft)","ycrown (ft)","xbottom (ft)","ybottom (ft)","ysoil (ft)","db,dry,crown (ft)","db,sat,crown (ft)","db,crown (ft)","db,crown,bed (ft)","db,crown,bank (ft)","db,dry,bottom (ft)","db,sat,bottom (ft)","db,bottom (ft)","LT,em (ft)","Vbed,dry (ft3)","Vbed,sat (ft3)","Vbank,dry (ft3)","Vbank,sat (ft3)","hb,TS (ft)","ATSp,em (ft2)","dTSp,dry,em (ft)","ATSp,dry,em (ft2)","LT,ex (ft)","cD (ft)","hT↑bed,ex,wet (ft)","CL (ft)","cL (ft)","zT,CL↓WSE","CW","LTf,tot (ft)","LTf,bed (ft)","LTf,banks (ft)","cF (ft)","csoil (ft)"]
[null,null,null,null,null,null,null,null,null,null,null,null,null,null,null,null,null,null,null,null,null,"Log Crown and Soil Intercept",null,"Dist to Intercept","Intercept in Zone?","LW Buried?","Exposed Segment",null,null,"Large Wood Centerline",null,null,null,null,0,{"$f":"($AI45/$AI$245)*$AJ$245","v":0},{"$f":"IF(OR($C$19=\"\",$F$25=\"\",$G$25=\"\"),\"None\",IF(AL45<$B$14,\"Left Floodplain\",IF(AL45<$B$15,\"Left Bank\",IF(AL45<$B$16,\"Left Stream Bed\",IF(AL45<$B$17,\"Right Stream Bed\",IF(AL45<$B$18,\"Right Bank\",\"Right Floodplain\"))))))","v":"Left Bank"},{"$f":"MIN($U$38:$U$39)","v":37.215575015691925},{"$f":"IF($U$38<=$U$39,$X$38,$X$39)","v":96.752993375581198},{"$f":"MIN($U$40:$U$41)","v":37.206069391946208},{"$f":"IF($U$40<=$U$41,$X$40,$X$41)","v":94.753069529452858},{"$f":"IF($AL45<$B$14,(($AL45-$B$13)*$AB$31)+$C$13,IF($AL45<$B$15,(($AL45-$B$14)*$AB$32)+$C$14,IF($AL45<$B$16,(($AL45-$B$15)*$AB$33)+$C$15,IF($AL45<$B$17,(($AL45-$B$16)*$AB$34)+$C$16,IF($AL45<$B$18,(($AL45-$B$17)*$AB$35)+$C$17,IF($AL45<$B$19,(($AL45-$B$18)*$AB$36)+$C$18))))))","v":97.995804664454852},{"$f":"IF(OR($AP45<$AE$12,$AP45<=$AM45),0,IF(OR($AP45>=$AE$12,$AM45>=$AE$12),$AP45-$AM45-$AR45,$AP45-$AE$12))","v":0},{"$f":"IF($AP45<=$AM45,0,IF($AM45>=$AE$12,0,IF($AP45<=$AE$12,$AP45-$AM45,$AE$12-$AM45)))","v":1.2428112888736536},{"$f":"IF(AP45<=AM45,0,AP45-AM45)","v":1.2428112888736536},{"$f":"IF(OR($AS45=\"\",$AS45=0),\"\",IF(OR($AK45=\"Left Stream Bed\",$AK45=\"Right Stream Bed\"),$AS45,\"\"))","v":""},{"$f":"IF(OR($AS45=\"\",$AS45=0),\"\",IF(OR($AK45=\"Left Floodplain\",$AK45=\"Left Bank\",$AK45=\"Right Bank\",$AK45=\"Right Floodplain\"),$AS45,\"\"))","v":1.2428112888736536},{"$f":"IF(OR($AP45<$AE$12,$AP45<=$AO45),0,IF($AO45>=$AE$12,$AP45-$AO45,$AP45-$AE$12))","v":0},{"$f":"IF($AP45<=$AO45,0,IF($AO45>=$AE$12,0,IF($AP45<=$AE$12,$AP45-$AO45,$AE$12-$AO45)))","v":3.2427351350019933},{"$f":"IF(AP45<=AO45,0,AP45-AO45)","v":3.2427351350019933},{"$f":"IF($AS45=0,0,IF(OR($AJ45=0,$AJ45=$E$22),$AJ$46/2,$AJ$46))","v":0.08},{"$f":"IF(OR($AK45=\"Left Stream Bed\",$AK45=\"Right Stream Bed\"),$F$22*$AQ45*$AY45,0)","v":0},{"$f":"IF(OR($AK45=\"Left Stream Bed\",$AK45=\"Right Stream Bed\"),$F$22*$AR45*$AY45,0)","v":0},{"$f":"IF(OR($AK45=\"Left Floodplain\",$AK45=\"Left Bank\",$AK45=\"Right Bank\",$AK45=\"Right Floodplain\"),$F$22*$AQ45*$AY45,0)","v":0},{"$f":"IF(OR($AK45=\"Left Floodplain\",$AK45=\"Left Bank\",$AK45=\"Right Bank\",$AK45=\"Right Floodplain\"),$F$22*$AR45*$AY45,0)","v":0.19884980621978457},{"$f":"AX45-AS45","v":1.9999238461283397},{"$f":"$BD45*$AJ$46*ABS($M$17)","v":0.17427785498542089},{"$f":"AV45-AQ45","v":0},{"$f":"IF(OR($AJ45=0,$AJ45=$E$22),($BF45*$AJ$46/2)*ABS($M$17),$BF45*$AJ$46*ABS($M$17))","v":0},{"$f":"IF(OR($AM45<$AP45,$AO45>$AE$8),\"\",IF(OR($AJ45=0,$AJ45=$E$22),$AJ$46/2,$AJ$46))","v":""},{"$f":"IF($BH45=\"\",\"\",IF($BH45>0,$AJ45,\"\"))","v":""},{"$f":"IF($BH45=\"\",\"\",IF(OR(($AO45-$AP45)<0,$AO$45>=$AE$8),0,($AO45-$AP45)))","v":""},{"$f":"IF($BJ45=\"\",\"\",IF(OR($BJ45>($F$22/2),$BJ45=0),0,0.45-($BJ45*0.45/($F$22/2))))","v":""},{"$f":"IF($BK45=\"\",\"\",IF($BK45>0,$AJ45,\"\"))","v":""},{"$f":"IF($BH45=\"\",\"\",IF(OR(($AM45-$AP45)<0,$AM45>=$AE$8),\"\",($AE$8-($AM45-(($F$22/2)/$M$19)))))","v":""},{"$f":"IF($BM45=\"\",\"\",(((PI()^2)/32)*($B$66^-6)*EXP(-($BM45/$F$22)/(2*($B$66^2)))))","v":""},{"$f":"IF($AO45=0,0,IF($AO45>$AP45,0,IF(OR($AJ45=0,$AJ45=$E$22),$AJ$46/2,$AJ$46)))","v":0.08},{"$f":"IF(AND($BO45>0,OR($AK45=\"Left Stream Bed\",$AK45=\"Right Stream Bed\")),$BO45,0)","v":0},{"$f":"IF(AND($BO45>0,OR($AK45=\"Left Floodplain\",$AK45=\"Left Bank\",$AK45=\"Right Bank\",$AK45=\"Right Floodplain\")),$BO45,0)","v":0.08},{"$f":"IF($BO45>0,$AJ45,\"\")","v":0},{"$f":"IF($AY45>0,$AJ45,\"\")","v":0}]
[null,null,null,null,null,null,null,null,null,null,null,null,null,null,null,null,null,null,null,"Zone L (ft)","Log L (ft)","xcrown (ft)","ycrown (ft)",null,null,null,null,"Lem,crown (ft)",null,null,"x (ft)","y (ft)",null,null,1,{"$f":"($AI46/$AI$245)*$AJ$245","v":0.16},"Left Bank",{"$f":"$AL$45+ABS(AJ46*$M$19*$M$17)","v":37.302713943184635},{"$f":"AM45+((AL46-AL45)*$AA$40)","v":96.751597129901455},{"$f":"$AN$45+ABS(AJ46*$M$19*$M$17)","v":37.293208319438918},{"$f":"AO45+((AN46-AN45)*$AA$40)","v":94.751673283773115},{"$f":"IF($AL46<$B$14,(($AL46-$B$13)*$AB$31)+$C$13,IF($AL46<$B$15,(($AL46-$B$14)*$AB$32)+$C$14,IF($AL46<$B$16,(($AL46-$B$15)*$AB$33)+$C$15,IF($AL46<$B$17,(($AL46-$B$16)*$AB$34)+$C$16,IF($AL46<$B$18,(($AL46-$B$17)*$AB$35)+$C$17,IF($AL46<$B$19,(($AL46-$B$18)*$AB$36)+$C$18))))))","v":97.98352222515112},0,1.2319250952496645,{"$f":"IF(AP46<=AM46,0,AP46-AM46)","v":1.2319250952496645},{"$f":"IF(OR($AS46=\"\",$AS46=0),\"\",IF(OR($AK46=\"Left Stream Bed\",$AK46=\"Right Stream Bed\"),$AS46,\"\"))","v":""},{"$f":"IF(OR($AS46=\"\",$AS46=0),\"\",IF(OR($AK46=\"Left Floodplain\",$AK46=\"Left Bank\",$AK46=\"Right Bank\",$AK46=\"Right Floodplain\"),$AS46,\"\"))","v":1.2319250952496645},{"$f":"IF(OR($AP46<$AE$12,$AP46<=$AO46),0,IF($AO46>=$AE$12,$AP46-$AO46,$AP46-$AE$12))","v":0},3.2318489413780043,3.2318489413780043,0.16,0,0,0,0.39421603047989268,1.9999238461283397,{"$f":"$BD46*$AJ$46*ABS($M$17)","v":0.17427785498542089},{"$f":"AV46-AQ46","v":0},0,"",{"$f":"IF($BH46=\"\",\"\",IF($BH46>0,$AJ46,\"\"))","v":""},{"$f":"IF($BH46=\"\",\"\",IF(OR(($AO46-$AP46)<0,$AO$45>=$AE$8),0,($AO46-$AP46)))","v":""},"","",{"$f":"IF($BH46=\"\",\"\",IF(OR(($AM46-$AP46)<0,$AM46>=$AE$8),\"\",($AE$8-($AM46-(($F$22/2)/$M$19)))))","v":""},{"$f":"IF($BM46=\"\",\"\",(((PI()^2)/32)*($B$66^-6)*EXP(-($BM46/$F$22)/(2*($B$66^2)))))","v":""},0.16,0,0.16,0.16,{"$f":"IF($AY46>0,$AJ46,\"\")","v":0.16}]
[null,null,null,null,null,null,null,null,null,null,null,null,null,null,null,null,null,null,"LB Floodplain",{"$f":"($B$14-$B$13)/ABS($M$17)/ABS($M$19)","v":60.592896331455172},{"$f":"IF(MAX($U$38:$U$39)<=$B$14,$E$22,IF($T$32=\"No\",0,$E$22-$W$32))","v":0},{"$f":"IF($U$47=0,0,IF(OR($B$25=0,$B$25=180,$B$25=360),$U$38,$U$32+(($X$32-$C$14)/($AB$31-$AA$40))))","v":0},{"$f":"IF($U$47=0,0,IF(OR($B$25=0,$B$25=180,$B$25=360),(($U$38-$B$13)*$AB$31)+$C$13,$X$32+(($V$47-$U$32)*$AA$40)))","v":0},{"$f":"IF($U$47=0,0,IF(OR($B$25=0,$B$25=180,$B$25=360),$E$22-ABS(($X$39-$W$47)/$M$20),IF(AND($U$38<=$U$39,$X$38>=$Y$38),ABS(($X$38-$W$47)/($AA$40*$M$17*$M$19)),IF(AND($U$38<=$U$39,$X$38<$Y$38),ABS($E$22-(ABS(($X$38-$W$47)/($AA$40*$M$17*$M$19)))),IF(AND($U$38>$U$39,$X$39>=$Y$39),ABS(($X$39-$W$47)/($AA$40*$M$17*$M$19)),IF(AND($U$38>=$U$39,$X$39<$Y$39),ABS($E$22-(ABS(($X$38-$W$47)/($AA$40*$M$17*$M$19))))))))))","v":0},{"$f":"IF(AND($U$47=0,$W$47=0),\"No\",IF(AND($V$47<=$B$14,$V$47>=$B$13,$V$47>=MIN($U$38:$U$39),$V$47<=MAX($U$38:$U$39),$W$47<$C$13,$X$47<=$E$22),\"Yes\",\"No\"))","v":"No"},{"$f":"IF($U$47=0,\"No\",IF($Y$47=\"Yes\",\"Partial\",IF(AND($U$47<$E$22,$X$39<$Y$39,$Y$47=\"No\",$Y$48=\"No\",$Y$49=\"No\",$Y$50=\"No\",$Y$51=\"No\",$Y$52=\"No\"),\"Yes\",IF(AND($Y$47=\"No\",$X$32>$Y$32),\"No\",\"Yes\"))))","v":"No"},{"$f":"IF($Z$47=\"Yes\",\"None\",IF(AND($Z$47=\"No\",$U$47=0),\"None\",IF($Z$47=\"No\",\"All\",IF(AND($X$39>=$Y$39,$U$39<=$U$38),\"Left\",\"Right\"))))","v":"None"},{"$f":"IF($U$47=0,0,IF($Z$47=\"No\",0,IF($Z$47=\"Yes\",$U$47,IF(OR($AA$47=\"Left\",$U$47=$E$22),$U$47-(ABS(($U$39-$V$47)/($M$17*$M$19))),$U$47-(ABS(($V$47-$B$14)/($M$17*$M$19)))))))","v":0},null,"Rootwad",{"$f":"AVERAGE(T10,T15)","v":54.638607702361185},{"$f":"AVERAGE(U10,U15)","v":95.473782316569057},null,null,2,0.32,"Left Bank",{"$f":"$AL$45+ABS(AJ47*$M$19*$M$17)","v":37.389852870677345},{"$f":"AM46+((AL47-AL46)*$AA$40)","v":96.750200884221712},37.380347246931628,{"$f":"AO46+((AN47-AN46)*$AA$40)","v":94.750277038093373},{"$f":"IF($AL47<$B$14,(($AL47-$B$13)*$AB$31)+$C$13,IF($AL47<$B$15,(($AL47-$B$14)*$AB$32)+$C$14,IF($AL47<$B$16,(($AL47-$B$15)*$AB$33)+$C$15,IF($AL47<$B$17,(($AL47-$B$16)*$AB$34)+$C$16,IF($AL47<$B$18,(($AL47-$B$17)*$AB$35)+$C$17,IF($AL47<$B$19,(($AL47-$B$18)*$AB$36)+$C$18))))))","v":97.971239785847388},0,1.2210389016256755,1.2210389016256755,"",1.2210389016256755,0,3.2209627477540153,3.2209627477540153,0.16,0,0,0,0.39073244852021616,1.9999238461283397,0.17427785498542089,0,0,"","","","","","",{"$f":"IF($BM47=\"\",\"\",(((PI()^2)/32)*($B$66^-6)*EXP(-($BM47/$F$22)/(2*($B$66^2)))))","v":""},0.16,0,0.16,0.32,0.32]
[{"$f":"IF($A$6=\"\",\"\",$A$6)","v":"Sample1"},{"$f":"IF($A$6=\"\",\"\",$B$6)","v":"Flow Deflection"},null,{"$f":"IF(OR($B$9=\"N/A\",$B$9=\"\"),\"\",$B$9)","v":"Stacked"},{"$f":"IF($D$48=\"\",\"\",\"Log ID\")","v":"Log ID"},{"$f":"IF($D$48=\"\",\"\",$C$9)","v":"Top#3"},null,null,null,"Page 2",null,null,null,null,null,null,null,null,"Left Bank",{"$f":"($B$15-$B$14)/ABS($M$17)/ABS($M$19)","v":38.559115847289654},{"$f":"IF(AND(MIN($U$38:$U$39)>=$B$14,MAX($U$38:$U$39)<=$B$15),$E$22,IF(AND($T$33=\"No\",$T$32=\"No\"),0,$E$22-$W$33-$U$47))","v":30.818694638098943},{"$f":"IF($U$48=0,0,IF(OR($B$25=0,$B$25=180,$B$25=360),$U$38,$U$33+(($C$15-$X$33)/($AA$40-$AB$32))))","v":47.163702573296845},{"$f":"IF($U$48=0,0,IF(OR($B$25=0,$B$25=180,$B$25=360),(($U$38-$B$14)*$AB$32)+$C$14,$X$33+(($V$48-$U$33)*$AA$40)))","v":96.593592399192445},{"$f":"IF($U$48=0,0,IF(OR($B$25=0,$B$25=180,$B$25=360),$E$22-ABS(($X$39-$W$48)/$M$20),IF(AND($U$38<=$U$39,$X$38>=$Y$38),ABS(($X$38-$W$48)/($AA$40*$M$17*$M$19)),IF(AND($U$38<=$U$39,$X$38<$Y$38),ABS($E$22-(ABS(($X$38-$W$48)/($AA$40*$M$17*$M$19)))),IF(AND($U$38>$U$39,$X$39>=$Y$39),ABS(($X$39-$W$48)/($AA$40*$M$17*$M$19)),IF(AND($U$38>=$U$39,$X$39<$Y$39),ABS($E$22-(ABS(($X$38-$W$48)/($AA$40*$M$17*$M$19))))))))))","v":18.266238236062488},{"$f":"IF(AND($U$48=0,$W$48=0),\"No\",IF(AND($V$48<=$B$15,$V$48>=$B$14,$V$48>=MIN($U$38:$U$39),$V$48<=MAX($U$38:$U$39),$W$48<$C$14,$X$48<=$E$22),\"Yes\",\"No\"))","v":"Yes"},{"$f":"IF($U$48=0,\"No\",IF($Y$48=\"Yes\",\"Partial\",IF(AND($U$48<$E$22,$X$39<$Y$39,$Y$47=\"No\",$Y$48=\"No\",$Y$49=\"No\",$Y$50=\"No\",$Y$51=\"No\",$Y$52=\"No\"),\"Yes\",IF(AND($Y$48=\"No\",$X$33>$Y$33),\"No\",\"Yes\"))))","v":"Partial"},{"$f":"IF($Z$48=\"Yes\",\"None\",IF(AND($Z$48=\"No\",$U$48=0),\"None\",IF($Z$48=\"No\",\"All\",IF(AND($X$39>=$Y$39,$U$39<=$U$38,$AA$47<>\"Left\"),\"Left\",\"Right\"))))","v":"Right"},{"$f":"IF($U$48=0,0,IF($Z$48=\"No\",0,IF($Z$48=\"Yes\",$U$48,IF(OR($U$48=$E$22,AND($AA$48=\"Left\",MIN($U$38:$U$39)>=$B$14,MAX($U$38:$U$39)>=$B$15)),$U$48-(ABS(($U$39-$V$48)/($M$17*$M$19))),IF($AA$48=\"Left\",$U$48-(ABS(($B$14-$V$48)/($M$17*$M$19))),IF(MAX($U$38:$U$39)>=$B$15,$U$48-(ABS(($V$48-$B$15)/($M$17*$M$19))),ABS(($V$48-$B$14)/($M$17*$M$19))))))))","v":18.266238236062033},null,"Root collar",{"$f":"AVERAGE(T11,T14)","v":53.004752811872862},{"$f":"AVERAGE(U11,U14)","v":95.499961923064177},null,null,3,0.48,"Left Bank",{"$f":"$AL$45+ABS(AJ48*$M$19*$M$17)","v":37.476991798170054},96.748804638541969,37.467486174424337,94.74888079241363,97.958957346543656,0,1.2101527080016865,1.2101527080016865,"",1.2101527080016865,0,3.2100765541300262,3.2100765541300262,0.16,0,0,0,0.3872488665605397,1.9999238461283397,0.17427785498542089,0,0,"","","","","","","",0.16,0,0.16,0.48,0.48]
["Vertical Force Analysis",null,null,null,null,null,null,null,null,null,null,null,null,null,null,null,null,null,"Left Stream Bed",{"$f":"($B$16-$B$15)/ABS($M$17)/ABS($M$19)","v":45.903709342011489},{"$f":"IF(AND(MIN($U$38:$U$39)>=$B$15,MAX($U$38:$U$39)<=$B$16),$E$22,IF(AND($T$34=\"No\",$T$33=\"No\"),0,IF(AND($T$33=\"Yes\",$T$34=\"No\"),$E$22-$U$48-$U$47,IF(AND($T$33=\"Yes\",$T$34=\"Yes\",$T$36=\"No\"),$E$22-$U$50-$U$48-$U$47,IF(AND($T$33=\"Yes\",$T$34=\"Yes\",$T$36=\"Yes\"),$E$22-$U$52-$U$51-$U$50-$U$48-$U$47,$E$22-$U$52-$U$51-$U$50)))))","v":1.1813053619010567},{"$f":"IF($U$49=0,0,IF(OR($B$25=0,$B$25=180,$B$25=360),$U$38,$U$34+(($C$16-$X$34)/($AA$40-$AB$33))))","v":45.211348125004911},{"$f":"IF($U$49=0,0,IF(OR($B$25=0,$B$25=180,$B$25=360),(($U$38-$B$15)*$AB$33)+$C$15,$X$34+(($V$49-$U$34)*$AA$40)))","v":96.624875392249436},{"$f":"IF(OR($U$49=0,AND($C$25=0,$B$25=0),AND($C$25=0,$B$25=360),AND($C$25=0,$B$25=180)),0,IF(OR($B$25=0,$B$25=180,$B$25=360),$E$22-ABS(($X$39-$W$49)/$M$20),IF(AND($U$38<=$U$39,$X$38>=$Y$38),ABS(($X$38-$W$49)/($AA$40*$M$17*$M$19)),IF(AND($U$38<=$U$39,$X$38<$Y$38),ABS($E$22-(ABS(($X$38-$W$49)/($AA$40*$M$17*$M$19)))),IF(AND($U$38>$U$39,$X$39>=$Y$39),ABS(($X$39-$W$49)/($AA$40*$M$17*$M$19)),IF(AND($U$38>=$U$39,$X$39<$Y$39),ABS($E$22-(ABS(($X$38-$W$49)/($AA$40*$M$17*$M$19))))))))))","v":14.681425790983958},{"$f":"IF(AND($U$49=0,$W$49=0),\"No\",IF(AND($V$49<=$B$16,$V$49>=$B$15,$V$49>=MIN($U$38:$U$39),$V$49<=MAX($U$38:$U$39),$W$49<$C$15,$X$49<=$E$22),\"Yes\",\"No\"))","v":"No"},{"$f":"IF($U$49=0,\"No\",IF($Y$49=\"Yes\",\"Partial\",IF(AND($U$49<$E$22,$X$39<$Y$39,$Y$47=\"No\",$Y$48=\"No\",$Y$49=\"No\",$Y$50=\"No\",$Y$51=\"No\",$Y$52=\"No\"),\"Yes\",IF(AND($Y$49=\"No\",$X$34>$Y$34),\"No\",\"Yes\"))))","v":"No"},{"$f":"IF($Z$49=\"Yes\",\"None\",IF(AND($Z$49=\"No\",$U$49=0),\"None\",IF($Z$49=\"No\",\"All\",IF(AND($X$39>=$Y$39,$U$39<=$U$38,$AA$48<>\"Left\"),\"Left\",\"Right\"))))","v":"All"},{"$f":"IF($U$49=0,0,IF($Z$49=\"No\",0,IF($Z$49=\"Yes\",$U$49,IF(OR($U$49=$E$22,AND($AA$49=\"Left\",MIN($U$38:$U$39)>=$B$15,MAX($U$38:$U$39)>=$B$16)),$U$49-(ABS(($U$39-$V$49)/($M$17*$M$19))),IF($AA$49=\"Left\",$U$49-(ABS(($B$15-$V$49)/($M$17*$M$19))),IF(MAX($U$38:$U$39)>=$B$16,$U$49-(ABS(($V$49-$B$16)/($M$17*$M$19))),ABS(($V$49-$B$15)/($M$17*$M$19))))))))","v":0},null,"Stem tip",{"$f":"AVERAGE(T12,T13)","v":37.210822203819063},{"$f":"AVERAGE(U12,U13)","v":95.753031452517035},null,null,4,0.64,"Left Bank",37.564130725662764,96.747408392862226,37.554625101917054,94.747484546733887,97.946674907239924,0,1.1992665143776975,1.1992665143776975,"",1.1992665143776975,0,3.1991903605060372,3.1991903605060372,0.16,0,0,0,0.38376528460086323,1.9999238461283397,0.17427785498542089,0,0,"","","","","","","",0.16,0,0.16,0.64,0.64]
["Net Buoyancy Force",null,null,null,null,null,null,"Lift Force",null,null,null,null,null,null,null,null,null,null,"Right Stream Bed",{"$f":"($B$17-$B$16)/ABS($M$17)/ABS($M$19)","v":53.24830283673333},{"$f":"IF(AND(MIN($U$38:$U$39)>=$B$16,MAX($U$38:$U$39)<=$B$17),$E$22,IF(AND($T$35=\"No\",$T$36=\"No\"),0,IF(AND($T$36=\"Yes\",$T$35=\"No\"),$E$22-$U$51-$U$52,IF(AND($T$36=\"Yes\",$T$35=\"Yes\"),$E$22-$W$35-$U$51-$U$52,$E$22-$W$35))))","v":0},{"$f":"IF($U$50=0,0,IF(OR($B$25=0,$B$25=180,$B$25=360),$U$38,$U$35+(($X$35-$C$16)/($AB$34-$AA$40))))","v":0},{"$f":"IF($U$50=0,0,IF(OR($B$25=0,$B$25=180,$B$25=360),(($U$38-$B$16)*$AB$34)+$C$16,$X$35+(($V$50-$U$35)*$AA$40)))","v":0},{"$f":"IF(OR($U$50=0,AND($C$25=0,$B$25=0),AND($C$25=0,$B$25=360),AND($C$25=0,$B$25=180)),0,IF(OR($B$25=0,$B$25=180,$B$25=360),$E$22-ABS(($X$39-$W$50)/$M$20),IF(AND($U$38<=$U$39,$X$38>=$Y$38),ABS(($X$38-$W$50)/($AA$40*$M$17*$M$19)),IF(AND($U$38<=$U$39,$X$38<$Y$38),ABS($E$22-(ABS(($X$38-$W$50)/($AA$40*$M$17*$M$19)))),IF(AND($U$38>$U$39,$X$39>=$Y$39),ABS(($X$39-$W$50)/($AA$40*$M$17*$M$19)),IF(AND($U$38>=$U$39,$X$39<$Y$39),ABS($E$22-(ABS(($X$38-$W$50)/($AA$40*$M$17*$M$19))))))))))","v":0},{"$f":"IF(AND($U$50=0,$W$50=0),\"No\",IF(AND($V$50<=$B$17,$V$50>=$B$16,$V$50>=MIN($U$38:$U$39),$V$50<=MAX($U$38:$U$39),$W$50<$C$17,$X$50<=$E$22),\"Yes\",\"No\"))","v":"No"},{"$f":"IF($U$50=0,\"No\",IF($Y$50=\"Yes\",\"Partial\",IF(AND($U$50<$E$22,$X$39<$Y$39,$Y$47=\"No\",$Y$48=\"No\",$Y$49=\"No\",$Y$50=\"No\",$Y$51=\"No\",$Y$52=\"No\"),\"Yes\",IF(AND($Y$50=\"No\",$X$35>$Y$35),\"No\",\"Yes\"))))","v":"No"},{"$f":"IF($Z$50=\"Yes\",\"None\",IF(AND($Z$50=\"No\",$U$50=0),\"None\",IF($Z$50=\"No\",\"All\",IF(AND($X$39>=$Y$39,$U$39>=$U$38,$AA$51<>\"Right\"),\"Right\",\"Left\"))))","v":"None"},{"$f":"IF($U$50=0,0,IF($Z$50=\"No\",0,IF($Z$50=\"Yes\",$U$50,IF(OR($U$50=$E$22,AND($AA$50=\"Right\",MIN($U$38:$U$39)<=$B$16,MAX($U$38:$U$39)<=$B$17)),$U$50-(ABS(($U$39-$V$50)/($M$17*$M$19))),IF($AA$50=\"Right\",$U$50-(ABS(($B$17-$V$50)/($M$17*$M$19))),IF(MIN($U$38:$U$39)<=$B$16,$U$50-(ABS(($V$50-$B$16)/($M$17*$M$19))),ABS(($V$50-$B$17)/($M$17*$M$19))))))))","v":0},null,null,null,null,null,null,5,0.8,"Left Bank",37.651269653155481,96.746012147182483,37.641764029409764,94.746088301054144,97.934392467936178,0,1.1883803207536943,1.1883803207536943,"",1.1883803207536943,0,3.188304166882034,3.188304166882034,0.16,0,0,0,0.38028170264118216,1.9999238461283397,0.17427785498542089,0,0,"","","","","","","",0.16,0,0.16,0.8,0.8]
["Wood","VTS (ft3)","VRW (ft3)","VT (ft3)","WT (lbf)","FB (lbf)",null,"CLT",{"$f":"$BK$43","v":0},null,null,null,null,{"$f":"IF(OR($D$22=\"\",$D$22=\"No\"),\"\",\"Rootwad Position\")","v":"Rootwad Position"},null,null,null,null,"Right Bank",{"$f":"($B$18-$B$17)/ABS($M$17)/ABS($M$19)","v":34.886819099928736},{"$f":"IF(AND(MIN($U$38:$U$39)>=$B$17,MAX($U$38:$U$39)<=$B$18),$E$22,IF(AND($T$36=\"No\",$T$37=\"No\"),0,$E$22-$W$36-$U$52))","v":0},{"$f":"IF($U$51=0,0,IF(OR($B$25=0,$B$25=180,$B$25=360),$U$38,$U$36+(($X$36-$C$17)/($AB$35-$AA$40))))","v":0},{"$f":"IF($U$51=0,0,IF(OR($B$25=0,$B$25=180,$B$25=360),(($U$38-$B$17)*$AB$35)+$C$17,$X$36+(($V$51-$U$36)*$AA$40)))","v":0},{"$f":"IF($U$51=0,0,IF(OR($B$25=0,$B$25=180,$B$25=360),$E$22-ABS(($X$39-$W$51)/$M$20),IF(AND($U$38<=$U$39,$X$38>=$Y$38),ABS(($X$38-$W$51)/($AA$40*$M$17*$M$19)),IF(AND($U$38<=$U$39,$X$38<$Y$38),ABS($E$22-(ABS(($X$38-$W$51)/($AA$40*$M$17*$M$19)))),IF(AND($U$38>$U$39,$X$39>=$Y$39),ABS(($X$39-$W$51)/($AA$40*$M$17*$M$19)),IF(AND($U$38>=$U$39,$X$39<$Y$39),ABS($E$22-(ABS(($X$38-$W$51)/($AA$40*$M$17*$M$19))))))))))","v":0},{"$f":"IF(AND($U$51=0,$W$51=0),\"No\",IF(AND($V$51<=$B$18,$V$51>=$B$17,$V$51>=MIN($U$38:$U$39),$V$51<=MAX($U$38:$U$39),$W$51<$C$18,$X$51<=$E$22),\"Yes\",\"No\"))","v":"No"},{"$f":"IF($U$51=0,\"No\",IF($Y$51=\"Yes\",\"Partial\",IF(AND($U$51<$E$22,$X$39<$Y$39,$Y$47=\"No\",$Y$48=\"No\",$Y$49=\"No\",$Y$50=\"No\",$Y$51=\"No\",$Y$52=\"No\"),\"Yes\",IF(AND($Y$51=\"No\",$X$36>$Y$36),\"No\",\"Yes\"))))","v":"No"},{"$f":"IF($Z$51=\"Yes\",\"None\",IF(AND($Z$51=\"No\",$U$51=0),\"None\",IF($Z$51=\"No\",\"All\",IF(AND($X$39>=$Y$39,$U$39>=$U$38,$AA$52<>\"Right\"),\"Right\",\"Left\"))))","v":"None"},{"$f":"IF($U$51=0,0,IF($Z$51=\"No\",0,IF($Z$51=\"Yes\",$U$51,IF(OR($U$51=$E$22,AND($AA$51=\"Right\",MIN($U$38:$U$39)<=$B$17,MAX($U$38:$U$39)<=$B$18)),$U$51-(ABS(($U$39-$V$51)/($M$17*$M$19))),IF($AA$51=\"Right\",$U$51-(ABS(($B$18-$V$51)/($M$17*$M$19))),IF(MIN($U$38:$U$39)<=$B$17,$U$51-(ABS(($V$51-$B$17)/($M$17*$M$19))),ABS(($V$51-$B$18)/($M$17*$M$19))))))))","v":0},null,null,null,null,null,null,6,0.96,"Left Bank",37.738408580648191,96.74461590150274,37.728902956902473,94.744692055374401,97.922110028632446,0,1.1774941271297052,1.1774941271297052,"",1.1774941271297052,0,3.177417973258045,3.177417973258045,0.16,0,0,0,0.3767981206815057,1.9999238461283397,0.17427785498542089,0,0,"","","","","","","",0.16,0,0.16,0.96,0.96]
["↑WSE",{"$f":"IF(OR($E$22=\"\",$F$22=\"\"),0,IF($AH$17=\"Case 1\",$AL$17-$AJ$21,IF($AH$17=\"Case 2\",$AL$17-$AJ$26,IF($AH$17=\"Case 3\",$AL$17-$AJ$30,IF($AH$17=\"Case 4\",$AL$17-$AJ$37,IF($AH$17=\"Log is completely submerged\",0,IF($AH$17=\"Stem is dry\",PI()*(($F$22/2)^2)*($E$22-$G$22),\"\")))))))","v":0},{"$f":"IF(OR($E$22=\"\",$F$22=\"\",$D$22=\"No\",$D$22=\"\"),0,$BL$40*(1-RWporosity))","v":0},{"$f":"B52+C52","v":0},{"$f":"IF($I$22=\"\",0,($B$52*$I$22)+($C$52*$I$22))","v":0},0,null,"FL (lbf)",{"$f":"IF($J$6=\"\",0,$I$51*$J$25*SWWater*(($J$6^2)/(2*g)))","v":0},null,null,null,null,{"$f":"IF($D$22=\"\",\"\",IF($D$22=\"No\",\"No Rootwad\",IF($U$15>=$AE$8,\"Above high water\",IF($U$10<=$C$16,\"Buried in bed\",IF(OR($AE$48<=$B$14,$AE$48>=$B$18),\"On bank/buried in bank\",\"Exposed in stream\")))))","v":"Exposed in stream"},null,null,null,null,"RB Floodplain",{"$f":"($B$19-$B$18)/ABS($M$17)/ABS($M$19)","v":42.231412594650578},{"$f":"IF(MIN($U$38:$U$39)>=$B$18,$E$22,IF($T$37=\"No\",0,$E$22-$W$37))","v":0},{"$f":"IF($U$52=0,0,IF(OR($B$25=0,$B$25=180,$B$25=360),$U$38,$U$37+(($X$37-$C$18)/($AB$36-$AA$40))))","v":0},{"$f":"IF($U$52=0,0,IF(OR($B$25=0,$B$25=180,$B$25=360),(($U$38-$B$18)*$AB$36)+$C$18,$X$37+(($V$52-$U$37)*$AA$40)))","v":0},{"$f":"IF($U$52=0,0,IF(OR($B$25=0,$B$25=180,$B$25=360),$E$22-ABS(($X$39-$W$52)/$M$20),IF(AND($U$38<=$U$39,$X$38>=$Y$38),ABS(($X$38-$W$52)/($AA$40*$M$17*$M$19)),IF(AND($U$38<=$U$39,$X$38<$Y$38),ABS($E$22-(ABS(($X$38-$W$52)/($AA$40*$M$17*$M$19)))),IF(AND($U$38>$U$39,$X$39>=$Y$39),ABS(($X$39-$W$52)/($AA$40*$M$17*$M$19)),IF(AND($U$38>=$U$39,$X$39<$Y$39),ABS($E$22-(ABS(($X$38-$W$52)/($AA$40*$M$17*$M$19))))))))))","v":0},{"$f":"IF(AND($U$52=0,$W$52=0),\"No\",IF(AND($V$52<=$B$19,$V$52>=$B$18,$V$52>=MIN($U$38:$U$39),$V$52<=MAX($U$38:$U$39),$W$52<$C$19,$X$52<=$E$22),\"Yes\",\"No\"))","v":"No"},{"$f":"IF($U$52=0,\"No\",IF($Y$52=\"Yes\",\"Partial\",IF(AND($U$52<$E$22,$X$39<$Y$39,$Y$47=\"No\",$Y$48=\"No\",$Y$49=\"No\",$Y$50=\"No\",$Y$51=\"No\",$Y$52=\"No\"),\"Yes\",IF(AND($Y$52=\"No\",$X$37>$Y$37),\"No\",\"Yes\"))))","v":"No"},{"$f":"IF($Z$52=\"Yes\",\"None\",IF(AND($Z$52=\"No\",$U$52=0),\"None\",IF($Z$52=\"No\",\"All\",IF(AND($X$39>=$Y$39,$U$39>=$U$38),\"Right\",\"Left\"))))","v":"None"},{"$f":"IF($U$52=0,0,IF($Z$52=\"No\",0,IF($Z$52=\"Yes\",$U$52,IF(OR($AA$52=\"Right\",$U$52=$E$22),$U$52-(ABS(($U$39-$V$52)/($M$17*$M$19))),$U$52-(ABS(($V$52-$B$18)/($M$17*$M$19)))))))","v":0},null,null,null,null,null,null,7,1.1200000000000001,"Left Bank",37.8255475081409,96.743219655822998,37.816041884395183,94.743295809694658,97.909827589328714,0,1.1666079335057162,1.1666079335057162,"",1.1666079335057162,0,3.166531779634056,3.166531779634056,0.16,0,0,0,0.37331453872182918,1.9999238461283397,0.17427785498542089,0,0,"","","","","","","",0.16,0,0.16,1.1200000000000001,1.1200000000000001]
["↓WS↑Thw",{"$f":"IF(OR($E$22=\"\",$F$22=\"\"),0,IF(AND(MIN($U$10:$U$15)>=$C$16,MAX($U$10:$U$15)<=$AE$8),PI()*(($F$22/2)^2)*($E$22-$G$22),(PI()*(($F$22/2)^2)*($E$22-$G$22))-$B$52-$B$54))","v":91.106186954104004},{"$f":"IF(OR($F$22=\"\",$D$22=\"No\"),0,((1/3)*PI()*(($H$22/2)^2+($F$22/2)^2+(($H$22/2)*($F$22/2)))*$G$22*(1-RWporosity))-$C$52-$C$54)","v":32.581822584198051},{"$f":"B53+C53","v":123.68800953830205},{"$f":"IF($I$22=\"\",0,($B$53*$I$22)+($C$53*$I$22))","v":4322.1538053064269},{"$f":"($D$53*SWWater)","v":7718.1317951900483},null,"Vertical Force Balance",null,null,null,"Formatting",null,null,null,null,null,null,null,"L check",{"$f":"SUM(U47:U52)","v":32},{"$f":"IF($U$53=$E$22,\"OK\",\"ERROR\")","v":"OK"},null,null,null,null,"Total",{"$f":"SUM(AB47:AB52)","v":18.266238236062033},null,null,null,null,null,null,8,1.28,"Left Bank",37.91268643563361,96.741823410143255,37.903180811887893,94.741899564014915,97.897545150024982,0,1.1557217398817272,1.1557217398817272,"",1.1557217398817272,0,3.1556455860100669,3.1556455860100669,0.16,0,0,0,0.36983095676215272,1.9999238461283397,0.17427785498542089,0,0,"","","","","","","",0.16,0,0.16,1.28,1.28]
["↓Thalweg",{"$f":"IF(OR($E$22=\"\",$F$22=\"\"),0,IF($AS$17=\"Case 1\",$AU$21,IF($AS$17=\"Case 2\",$AU$26,IF($AS$17=\"Case 3\",$AU$30,IF($AS$17=\"Case 4\",$AU$37,IF($AS$17=\"Log is completely submerged\",PI()*(($F$22/2)^2)*($E$22-$G$22),IF($AS$17=\"Stem is dry\",0,\"\")))))))","v":0},{"$f":"IF(OR($E$22=\"\",$F$22=\"\",$D$22=\"No\",$D$22=\"\"),0,$BO$40*(1-RWporosity))","v":9.0741013135800963E-2},{"$f":"B54+C54","v":9.0741013135800963E-2},{"$f":"IF($J$22=\"\",0,($B$54*$J$22)+($C$54*$J$22))","v":3.5388995122962377},{"$f":"($D$54*SWWater)","v":5.6622392196739799},null,"FB (lbf)",{"$f":"$F$55","v":7723.7940344097224},{"$f":"IF($L54=0,\"\",IF($L54>0,CHAR(233),CHAR(234)))","v":"é"},null,{"$f":"$F$55","v":7723.7940344097224},null,"check:",{"$f":"IF(OR($D$22=\"\",$B$25=\"\",$N$52=\"\"),\"\",IF($D$22=\"No\",\"use CD stem\",IF(AND($D$22=\"Yes\",$N$52=\"Exposed in stream\"),\"use CD RW\",\"use CD stem\")))","v":"use CD RW"},null,null,null,null,null,null,null,null,null,null,null,null,null,null,null,null,null,null,null,9,1.44,"Left Bank",37.99982536312632,96.740427164463512,37.990319739380602,94.740503318335172,97.88526271072125,0,1.1448355462577382,1.1448355462577382,"",1.1448355462577382,0,3.1447593923860779,3.1447593923860779,0.16,0,0,0,0.36634737480247626,1.9999238461283397,0.17427785498542089,0,0,"","","","","","","",0.16,0,0.16,1.44,1.44]
["Total",{"$f":"$B$52+$B$53+$B$54","v":91.106186954104004},{"$f":"$C$52+$C$53+$C$54","v":32.672563597333848},{"$f":"$D$52+$D$53+$D$54","v":123.77875055143785},{"$f":"$E$52+$E$53+$E$54","v":4325.6927048187235},{"$f":"$F$53+$F$54+$F$52","v":7723.7940344097224},null,"FL (lbf)",{"$f":"$I$52","v":0},"",null,{"$f":"$I$52","v":0},null,"CDi for Stem Only (i.e., RW is not in contact with streamflow)",null,null,null,null,"Coordinates of Large Wood Bottom at Key Points",null,null,null,null,null,null,null,null,null,null,null,null,null,null,null,10,1.6,"Left Bank",38.086964290619029,96.739030918783769,38.077458666873312,94.739107072655429,97.872980271417504,0,1.133949352633735,1.133949352633735,"",1.133949352633735,0,3.1338731987620747,3.1338731987620747,0.16,0,0,0,0.36286379284279519,1.9999238461283397,0.17427785498542089,0,0,"","","","","","","",0.16,0,0.16,1.6,1.6]
[null,null,null,null,null,null,null,"WT (lbf)",{"$f":"$E$55","v":4325.6927048187235},"ê",null,{"$f":"-$E$55","v":-4325.6927048187235},null,"Adjusted q (deg)","CDi Stem only1",null,null,null,null,"Wood Present?","Large Wood Parameters",null,null,null,"Soil",null,null,null,null,null,null,null,null,null,11,1.76,"Left Bank",38.174103218111739,96.737634673104026,38.164597594366022,94.737710826975686,97.860697832113772,0,1.123063159009746,1.123063159009746,"",1.123063159009746,0,3.1229870051380857,3.1229870051380857,0.16,0,0,0,0.35938021088311872,1.9999238461283397,0.17427785498542089,0,0,"","","","","","","",0.16,0,0.16,1.76,1.76]
["Soil Ballast Force",null,null,null,null,null,null,"Fsoil (lbf)",{"$f":"$E$61","v":1936.5000508935698},"ê",null,{"$f":"-$E$61","v":-1936.5000508935698},null,{"$f":"IF(OR($O$54=\"\",$O$54=\"use CD RW\"),\"\",IF($B$25<-180,\"Error\",IF($B$25<-90,$B$25+180,IF($B$25<0,-$B$25,IF($B$25<=90,$B$25,IF($B$25<=180,180-$B$25,IF($B$25<=270,$B$25-180,IF($B$25<=360,360-$B$25,\"Error\"))))))))","v":""},{"$f":"IF($O$54=\"use CD stem\",(1.1173-((5.28*10^-2)*$N$57)+((1.4385*10^-3)*$N$57^2)-((9.7668*10^-6)*$N$57^3)),\"\")","v":""},null,null,null,null,null,"xTS (ft)","Dist (ft)","Adjusted Dist (ft)","yTS (ft)","ysoil (ft)",null,null,null,null,null,null,null,null,null,12,1.92,"Left Bank",38.261242145604449,96.736238427424283,38.251736521858732,94.736314581295943,97.84841539281004,0,1.1121769653857569,1.1121769653857569,"",1.1121769653857569,0,3.1121008115140967,3.1121008115140967,0.16,0,0,0,0.3558966289234422,1.9999238461283397,0.17427785498542089,0,0,"","","","","","","",0.16,0,0.16,1.92,1.92]
["Soil","Vdry (ft3)","Vsat (ft3)","Vsoil (ft3)","Fsoil (lbf)",null,null,"FW,V (lbf)",{"$f":"ABS($L$99)","v":5323.49829590229},{"$f":"IF($L58=0,\"\",IF($L58>0,CHAR(233),CHAR(234)))","v":"ê"},null,{"$f":"$L$99","v":-5323.49829590229},"Flex","1Applies Gippel et al (1996) Formula:",null,null,null,null,"At Left Bank Top",{"$f":"IF(OR($F$25=\"\",$G$25=\"\"),\"No\",IF(MIN($U$40:$U$41)>$B$14,\"No\",IF(MAX($U$40:$U$41)<$B$14,\"No\",\"Yes\")))","v":"No"},{"$f":"$B$14","v":33},{"$f":"IF(OR($B$25=0,$B$25=180,$B$25=360),0,IF($T$14>$T$13,$G$22+((($T$14-$B$14)/ABS($M$17))/$M$19),(($T$13-$B$14)/ABS($M$17))/$M$19))","v":39.722967473609195},{"$f":"IF(V58<0,0,IF(V58>$E$22,$E$22,V58))","v":32},{"$f":"IF($T$14>$T$13,$U$14+(($V$58-$G$22)*$M$20),$U$13-($V$58*$M$20))","v":94.820464279264087},{"$f":"$C$14","v":98.59},null,null,null,null,null,null,null,null,null,13,2.08,"Left Bank",38.348381073097165,96.73484218174454,38.338875449351448,94.7349183356162,97.836132953506308,0,1.1012907717617679,1.1012907717617679,"",1.1012907717617679,0,3.1012146178901077,3.1012146178901077,0.16,0,0,0,0.35241304696376574,1.9999238461283397,0.17427785498542089,0,0,"","","","","","","",0.16,0,0.16,2.08,2.08]
["Bed",{"$f":"IF(AND($H$28=\"\",$H$29=\"\"),0,$AZ$43)","v":0},{"$f":"IF(AND($H$28=\"\",$H$29=\"\"),0,$BA$43)","v":0},{"$f":"B59+C59","v":0},{"$f":"IF(OR($D$28=\"\",$E$28=\"\"),0,($B$59*$D$28)+($C$59*$E$28))","v":0},null,null,"FA,V (lbf)",{"$f":"ABS($L$59)+ABS($M$59)","v":0},{"$f":"IF(($L59+M59)=0,\"\",IF(($L59+M59)>0,CHAR(233),CHAR(234)))","v":""},null,{"$f":"$L$86","v":0},{"$f":"$L$92","v":0},"CDi = 1.1173 - (5.2800*10-2) q + (1.4385*10-3) q2 - (9.7668*10-6) q3",null,null,null,null,"At Left Bank Toe",{"$f":"IF(OR($F$25=\"\",$G$25=\"\"),\"No\",IF(MIN($U$40:$U$41)>$B$15,\"No\",IF(MAX($U$40:$U$41)<$B$15,\"No\",\"Yes\")))","v":"Yes"},{"$f":"$B$15","v":54},{"$f":"IF(OR($B$25=0,$B$25=180,$B$25=360),0,IF($T$14>$T$13,$G$22+((($T$14-$B$15)/ABS($M$17))/$M$19),(($T$13-$B$15)/ABS($M$17))/$M$19))","v":1.1638516263195402},1.1638516263195402,{"$f":"IF($T$14>$T$13,$U$14+(($V$59-$G$22)*$M$20),$U$13-($V$59*$M$20))","v":94.483976786036791},{"$f":"$C$15","v":95.63},null,null,null,null,null,null,null,null,null,14,2.2400000000000002,"Left Bank",38.435520000589875,96.733445936064797,38.426014376844158,94.733522089936457,97.823850514202576,0,1.0904045781377789,1.0904045781377789,"",1.0904045781377789,0,3.0903284242661186,3.0903284242661186,0.16,0,0,0,0.34892946500408928,1.9999238461283397,0.17427785498542089,0,0,"","","","","","","",0.16,0,0.16,2.2400000000000002,2.2400000000000002]
["Bank",{"$f":"IF(AND($H$28=\"\",$H$29=\"\"),0,$BB$43)","v":0},{"$f":"IF(AND($H$28=\"\",$H$29=\"\"),0,$BC$43)","v":22.701725878646144},{"$f":"B60+C60","v":22.701725878646144},{"$f":"IF(OR($D$29=\"\",$E$29=\"\"),0,($B$60*$D$29)+($C$60*$E$29))","v":1936.5000508935698},null,null,"S FV (lbf)",{"$f":"ABS($L$60)","v":3861.8970172048612},"ê","Additional resisting force (lbf) needed:",{"$f":"$L$54+$L$55+$L$56+$L$57+$L$58+$L$59+$M$59","v":-3861.8970172048612},null,null,null,null,null,null,"At Left Thalweg",{"$f":"IF(OR($F$25=\"\",$G$25=\"\"),\"No\",IF(AND(MAX($U$40:$U$41)>$B$16,MIN($U$40:$U$41)<$B$16),\"Yes\",\"No\"))","v":"No"},{"$f":"$B$16","v":79},{"$f":"IF(OR($B$25=0,$B$25=180,$B$25=360),0,IF($T$14>$T$13,$G$22+((($T$14-$B$16)/ABS($M$17))/$M$19),(($T$13-$B$16)/ABS($M$17))/$M$19))","v":-44.739857715691947},0,{"$f":"IF($T$14>$T$13,$U$14+(($V$60-$G$22)*$M$20),$U$13-($V$60*$M$20))","v":94.08339643695669},{"$f":"$C$16","v":92.8},null,null,null,null,null,null,null,null,null,15,2.4,"Left Bank",38.522658928082585,96.732049690385054,38.513153304336868,94.732125844256714,97.811568074898844,0,1.0795183845137899,1.0795183845137899,"",1.0795183845137899,0,3.0794422306421296,3.0794422306421296,0.16,0,0,0,0.34544588304441276,1.9999238461283397,0.17427785498542089,0,0,"","","","","","","",0.16,0,0.16,2.4,2.4]
["Total",{"$f":"$B$59+$B$60","v":0},{"$f":"$C$59+$C$60","v":22.701725878646144},{"$f":"$D$59+$D$60","v":22.701725878646144},{"$f":"$E$59+$E$60","v":1936.5000508935698},null,null,"FSV",{"$f":"IF(OR($E$22=\"\",$F$22=\"\",$F$25=\"\",$G$25=\"\"),0,IF($L$58>=0,($I$56+$I$57+$I$59)/($I$54+$I$55+$I$58),($I$56+$I$57+$I$58+$I$59)/($I$54+$I$55)))","v":1.5},{"$f":"$I$61-$L$61","v":0},{"$f":"IF(AND($F$25=\"\",$G$25=\"\"),\"\",IF($I$61>=$L$61,\"Structure is Vertically Stable\",IF(AND($I$61<$L$61,$L$58>=0),$L$61*($L$54+$L$55+$L$58)-(-$L$56-$L$57-$L$59-$M$59),IF(AND($I$61<$L$61,$L$58<0),$L$61*($L$54+$L$55)-(-$L$56-$L$57-$L$59-$M$59-$L$58),\"\"))))","v":"Structure is Vertically Stable"},{"$f":"'2-Constants'!$C$5","v":1.5},null,"CD Stem with Exposed RW Lookup Table",null,null,null,null,"At Right Thalweg",{"$f":"IF(OR($F$25=\"\",$G$25=\"\"),\"No\",IF(AND(MAX($U$40:$U$41)>$B$16,MIN($U$40:$U$41)<$B$16),\"Yes\",\"No\"))","v":"No"},{"$f":"$B$16","v":79},{"$f":"IF(OR($B$25=0,$B$25=180,$B$25=360),0,IF($T$14<$T$13,$G$22+((($B$16-$T$14)/ABS($M$17))/$M$19),(($B$16-$T$13)/ABS($M$17))/$M$19))","v":76.739857715691954},32,{"$f":"IF($T$14<$T$13,$U$14+(($V$61-$G$22)*$M$20),$U$13-($V$61*$M$20))","v":94.083396436956704},{"$f":"$C$16","v":92.8},null,null,null,null,null,null,null,null,null,16,2.56,"Left Bank",38.609797855575295,96.730653444705311,38.600292231829577,94.730729598576971,97.799285635595098,0,1.0686321908897867,1.0686321908897867,"",1.0686321908897867,0,3.0685560370181264,3.0685560370181264,0.16,0,0,0,0.34196230108473175,1.9999238461283397,0.17427785498542089,0,0,"","","","","","","",0.16,0,0.16,2.56,2.56]
[null,null,null,null,null,null,null,null,null,null,{"$f":"IF($K$61<>\"Structure is Vertically Stable\",\"\",IF($K$61=\"Structure is Vertically Stable\",IF($L$58>=0,($I$56+$I$57+$I$59)-(($I$58+$I$54+$I$55)*$L$61),($I$56+$I$57+$I$58+$I$59)-(($I$54+$I$55)*$L$61))))","v":0},null,null,"Adjusted q (deg)","CDi Stem + RW",null,null,null,"At Right Bank Toe",{"$f":"IF(OR($F$25=\"\",$G$25=\"\"),\"No\",IF(MAX($U$40:$U$41)<$B$17,\"No\",IF(MIN($U$40:$U$41)>$B$17,\"No\",\"Yes\")))","v":"No"},{"$f":"$B$17","v":108},{"$f":"IF(OR($B$25=0,$B$25=180,$B$25=360),0,IF($T$14<$T$13,$G$22+((($B$17-$T$14)/ABS($M$17))/$M$19),(($B$17-$T$13)/ABS($M$17))/$M$19))","v":129.98816055242528},32,{"$f":"IF($T$14<$T$13,$U$14+(($V$62-$G$22)*$M$20),$U$13-($V$62*$M$20))","v":93.618723232023783},{"$f":"$C$17","v":94.94},null,null,null,null,null,null,null,null,null,17,2.72,"Left Bank",38.696936783068004,96.729257199025568,38.687431159322287,94.729333352897228,97.787003196291366,0,1.0577459972657977,1.0577459972657977,"",1.0577459972657977,0,3.0576698433941374,3.0576698433941374,0.16,0,0,0,0.33847871912505528,1.9999238461283397,0.17427785498542089,0,0,"","","","","","","",0.16,0,0.16,2.72,2.72]
["Horizontal Force Analysis",null,null,null,null,null,null,null,null,null,null,null,null,{"$f":"IF(OR($O$54=\"\",$O$54=\"use CD stem\"),\"\",IF(OR($B$25<-180,$B$25>360),\"Error\",IF($B$25>180,360-$B$25,IF($B$25<0,-$B$25,$B$25))))","v":33},{"$f":"IF(OR($O$54=\"\",$O$54=\"use CD stem\"),\"\",IF($B$25<22.5,(($B$25/22.5)*($O$67-$O$66)+$O$66),IF($B$25<45,((($B$25-$N$67)/22.5)*($O$68-$O$67)+$O$67),IF($B$25<67.5,((($B$25-$N$68)/22.5)*($O$69-$O$68)+$O$68),IF($B$25<90,((($B$25-$N$69)/22.5)*($O$70-$O$69)+$O$69),IF($B$25<112.5,((($B$25-$N$70)/22.5)*($O$71-$O$70)+$O$70),IF($B$25<135,((($B$25-$N$71)/22.5)*($O$72-$O$71)+$O$71),IF($B$25<157.5,((($B$25-$N$72)/22.5)*($O$73-$O$72)+$O$72),IF($B$25<=180,((($B$25-$N$74)/22.5)*($O$74-$O$73)+$O$74),$O$74)))))))))","v":1.1893333333333334},null,null,null,"At Right Bank Top",{"$f":"IF(OR($F$25=\"\",$G$25=\"\"),\"No\",IF(MAX($U$40:$U$41)<$B$18,\"No\",IF(MIN($U$40:$U$41)>$B$18,\"No\",\"Yes\")))","v":"No"},{"$f":"$B$18","v":127},{"$f":"IF(OR($B$25=0,$B$25=180,$B$25=360),0,IF($T$14<$T$13,$G$22+((($B$18-$T$14)/ABS($M$17))/$M$19),(($B$18-$T$13)/ABS($M$17))/$M$19))","v":164.874979652354},32,{"$f":"IF($T$14<$T$13,$U$14+(($V$63-$G$22)*$M$20),$U$13-($V$63*$M$20))","v":93.314282166722904},{"$f":"$C$18","v":98.72},null,null,null,null,null,null,null,null,null,18,2.88,"Left Bank",38.784075710560714,96.727860953345825,38.774570086814997,94.727937107217485,97.774720756987634,0,1.0468598036418086,1.0468598036418086,"",1.0468598036418086,0,3.0467836497701484,3.0467836497701484,0.16,0,0,0,0.33499513716537876,1.9999238461283397,0.17427785498542089,0,0,"","","","","","","",0.16,0,0.16,2.88,2.88]
["Drag Force",null,null,null,null,null,null,null,null,null,null,null,null,null,null,null,null,null,null,null,null,null,null,null,null,null,null,null,null,null,null,null,null,null,19,3.04,"Left Bank",38.871214638053424,96.726464707666082,38.861709014307706,94.726540861537742,97.762438317683902,0,1.0359736100178196,1.0359736100178196,"",1.0359736100178196,0,3.0358974561461594,3.0358974561461594,0.16,0,0,0,0.3315115552057023,1.9999238461283397,0.17427785498542089,0,0,"","","","","","","",0.16,0,0.16,3.04,3.04]
["ATp / AW","FrL","CDi","Cw","CD*","FD (lbf)",null,"Horizontal Force Balance",null,null,null,"Formatting",null,"q (deg)","CDi Stem + RW",null,null,null,null,null,null,"Log Bottom and Soil Intercept",null,"Dist to Intercept","Intercept in Zone?","LW Buried?","Exposed Segment",null,null,null,null,null,null,null,20,3.2,"Left Bank",38.958353565546133,96.725068461986339,38.948847941800423,94.725144615857999,97.75015587838017,0,1.0250874163938306,1.0250874163938306,"",1.0250874163938306,0,3.0250112625221703,3.0250112625221703,0.16,0,0,0,0.32802797324602578,1.9999238461283397,0.17427785498542089,0,0,"","","","","","","",0.16,0,0.16,3.2,3.2]
[{"$f":"IF(OR($A$6=\"\",$F$6=\"\"),0,$J$25/(VLOOKUP($A$6,SiteInfo,7,0)))","v":1.6101323725696202E-2},{"$f":"IF($A$6=\"\",0,$J$6/(($F$22*g)^0.5))","v":0.57752087841792843},{"$f":"IF($O$54=\"\",0,IF($O$54=\"use CD stem\",$O$57,$O$63))","v":1.1893333333333334},{"$f":"IF(OR($BM$43=\"\",$B$25=\"\"),0,IF($BN$43>0.43,0.43,$BN$43))","v":0.11451417573877558},{"$f":"IF(OR($F$22=\"\",$B$25=\"\"),0,0.997*($C$66+$D$66)*((1-$A$66)^-2.06))","v":1.3441390079082551},{"$f":"IF(OR($E$66=\"\",$J$25=\"\"),0,$E$66*$J$25*SWWater*($J$6^2)/(2*g))","v":743.20680801954438},null,"FD (lbf)",{"$f":"IF(AND($F$66=0,$I$71>0),0.4999,$F$66)","v":743.20680801954438},{"$f":"IF($L$66=0,\"\",IF($L66>0,CHAR(232),CHAR(231)))","v":"è"},{"$f":"IF(AND($F$66=0,$I$71>0),\"NOTE - Tool has assumed the drag force = 0.49 lbf for FS calcs\",\"\")","v":""},{"$f":"$F$66","v":743.20680801954438},null,0,1.2,null,null,null,null,"Zone L (ft)","Log L (ft)","xbottom (ft)","ybottom (ft)",null,null,null,null,"Lem,bot (ft)",null,null,null,null,null,null,21,3.36,"Left Bank",39.04549249303885,96.723672216306596,39.035986869293133,94.723748370178257,97.737873439076424,0,1.0142012227698274,1.0142012227698274,"",1.0142012227698274,0,3.0141250688981671,3.0141250688981671,0.16,0,0,0,0.32454439128634477,1.9999238461283397,0.17427785498542089,0,0,"","","","","","","",0.16,0,0.16,3.36,3.36]
[null,null,null,null,null,null,null,"FP (lbf)",{"$f":"$C$72","v":4662.0767286174287},{"$f":"IF($L$67=0,\"\",IF($L67>=0,CHAR(232),CHAR(231)))","v":"ç"},{"$f":"IF(OR($M$59=0,$M$70=0),\"\",\"NOTE -- Mechanical soil anchors and deadman boulders provide equal resistance to vertical and horizontal forces.  The model first applies these anchor forces to resist the vertical forces, and then applies the balance to resist the horizontal forces.\")","v":""},{"$f":"-$C$72","v":-4662.0767286174287},null,22.5,1.25,null,null,null,"LB Floodplain",{"$f":"($B$14-$B$13)/ABS($M$17)/ABS($M$19)","v":60.592896331455172},{"$f":"IF(MAX($U$40:$U$41)<=$B$14,$E$22,IF($T$58=\"No\",0,$E$22-$W$58))","v":0},{"$f":"IF($U$67=0,0,IF(OR($B$25=0,$B$25=180,$B$25=360),$U$40,$U$58+(($X$58-$C$14)/($AB$31-$AA$40))))","v":0},{"$f":"IF($U$67=0,0,IF(OR($B$25=0,$B$25=180,$B$25=360),(($U$40-$B$13)*$AB$31)+$C$13,$X$58+(($V$67-$U$58)*$AA$40)))","v":0},{"$f":"IF($U$67=0,0,IF(OR($B$25=0,$B$25=180,$B$25=360),$E$22-ABS(($X$41-$W$67)/$M$20),IF(AND($U$40<=$U$41,$X$40>=$Y$40),ABS(($X$40-$W$67)/($AA$40*$M$17*$M$19)),IF(AND($U$40<=$U$41,$X$40<$Y$40),ABS($E$22-(ABS(($X$40-$W$67)/($AA$40*$M$17*$M$19)))),IF(AND($U$40>$U$41,$X$41>=$Y$41),ABS(($X$41-$W$67)/($AA$40*$M$17*$M$19)),IF(AND($U$40>=$U$41,$X$41<$Y$41),ABS($E$22-(ABS(($X$40-$W$67)/($AA$40*$M$17*$M$19))))))))))","v":0},{"$f":"IF(AND($U$67=0,$W$67=0),\"No\",IF(AND($V$67<=$B$14,$V$67>=$B$13,$V$67>=MIN($U$40:$U$41),$V$67<=MAX($U$40:$U$41),$W$67<$C$13,$X$67<=$E$22),\"Yes\",\"No\"))","v":"No"},{"$f":"IF($U$67=0,\"No\",IF($Y$67=\"Yes\",\"Partial\",IF(AND($U$67<$E$22,$X$41<$Y$41,$Y$67=\"No\",$Y$68=\"No\",$Y$69=\"No\",$Y$70=\"No\",$Y$71=\"No\",$Y$72=\"No\"),\"Yes\",IF(AND($Y$67=\"No\",$X$58>$Y$58),\"No\",\"Yes\"))))","v":"No"},{"$f":"IF($Z$67=\"Yes\",\"None\",IF(AND($Z$67=\"No\",$U$67=0),\"None\",IF($Z$67=\"No\",\"All\",IF(AND($X$41>=$Y$41,$U$41<=$U$40),\"Left\",\"Right\"))))","v":"None"},{"$f":"IF($U$67=0,0,IF($Z$67=\"No\",0,IF($Z$67=\"Yes\",$U$67,IF(OR($AA$67=\"Left\",$U$67=$E$22),$U$67-(ABS(($U$41-$V$67)/($M$17*$M$19))),$U$67-(ABS(($V$67-$B$14)/($M$17*$M$19)))))))","v":0},null,null,null,null,null,null,22,3.52,"Left Bank",39.13263142053156,96.722275970626853,39.123125796785843,94.722352124498514,97.725590999772692,0,1.0033150291458384,1.0033150291458384,"",1.0033150291458384,0,3.0032388752741781,3.0032388752741781,0.16,0,0,0,0.32106080932666831,1.9999238461283397,0.17427785498542089,0,0,"","","","","","","",0.16,0,0.16,3.52,3.52]
["Passive Soil Pressure",null,null,"Friction Force",null,null,null,"FF (lbf)",{"$f":"$F$72","v":3357.0958598682291},{"$f":"IF($L$68=0,\"\",IF($L68>=0,CHAR(232),CHAR(231)))","v":"ç"},null,{"$f":"-$F$72","v":-3357.0958598682291},null,45,1.1200000000000001,null,null,null,"Left Bank",{"$f":"($B$15-$B$14)/ABS($M$17)/ABS($M$19)","v":38.559115847289654},{"$f":"IF(AND(MIN($U$40:$U$41)>=$B$14,MAX($U$40:$U$41)<=$B$15),$E$22,IF(AND($T$59=\"No\",$T$58=\"No\"),0,$E$22-$W$59-$U$67))","v":30.836148373680459},{"$f":"IF($U$68=0,0,IF(OR($B$25=0,$B$25=180,$B$25=360),$U$40,$U$59+(($C$15-$X$59)/($AA$40-$AB$32))))","v":63.173383938936254},{"$f":"IF($U$68=0,0,IF(OR($B$25=0,$B$25=180,$B$25=360),(($U$40-$B$14)*$AB$32)+$C$14,$X$59+(($V$68-$U$59)*$AA$40)))","v":94.336989692416594},{"$f":"IF($U$68=0,0,IF(OR($B$25=0,$B$25=180,$B$25=360),$E$22-ABS(($X$41-$W$68)/$M$20),IF(AND($U$40<=$U$41,$X$40>=$Y$40),ABS(($X$40-$W$68)/($AA$40*$M$17*$M$19)),IF(AND($U$40<=$U$41,$X$40<$Y$40),ABS($E$22-(ABS(($X$40-$W$68)/($AA$40*$M$17*$M$19)))),IF(AND($U$40>$U$41,$X$41>=$Y$41),ABS(($X$41-$W$68)/($AA$40*$M$17*$M$19)),IF(AND($U$40>=$U$41,$X$41<$Y$41),ABS($E$22-(ABS(($X$40-$W$68)/($AA$40*$M$17*$M$19))))))))))","v":16.320157625694378},{"$f":"IF(AND($U$68=0,$W$68=0),\"No\",IF(AND($V$68<=$B$15,$V$68>=$B$14,$V$68>=MIN($U$40:$U$41),$V$68<=MAX($U$40:$U$41),$W$68<$C$14,$X$68<=$E$22),\"Yes\",\"No\"))","v":"No"},{"$f":"IF($U$68=0,\"No\",IF($Y$68=\"Yes\",\"Partial\",IF(AND($U$68<$E$22,$X$41<$Y$41,$Y$67=\"No\",$Y$68=\"No\",$Y$69=\"No\",$Y$70=\"No\",$Y$71=\"No\",$Y$72=\"No\"),\"Yes\",IF(AND($Y$68=\"No\",$X$59>$Y$59),\"No\",\"Yes\"))))","v":"Yes"},{"$f":"IF($Z$68=\"Yes\",\"None\",IF(AND($Z$68=\"No\",$U$68=0),\"None\",IF($Z$68=\"No\",\"All\",IF(AND($X$41>=$Y$41,$U$41<=$U$40,$AA$67<>\"Left\"),\"Left\",\"Right\"))))","v":"None"},{"$f":"IF($U$68=0,0,IF($Z$68=\"No\",0,IF($Z$68=\"Yes\",$U$68,IF(OR($U$68=$E$22,AND($AA$68=\"Left\",MIN($U$40:$U$41)>=$B$14,MAX($U$40:$U$41)>=$B$15)),$U$68-(ABS(($U$41-$V$68)/($M$17*$M$19))),IF($AA$68=\"Left\",$U$68-(ABS(($B$14-$V$68)/($M$17*$M$19))),IF(MAX($U$40:$U$41)>=$B$15,$U$68-(ABS(($V$68-$B$15)/($M$17*$M$19))),ABS(($V$68-$B$14)/($M$17*$M$19))))))))","v":30.836148373680459},null,null,null,null,null,null,23,3.68,"Left Bank",39.219770348024269,96.72087972494711,39.210264724278552,94.720955878818771,97.71330856046896,0,0.99242883552184935,0.99242883552184935,"",0.99242883552184935,0,2.9923526816501891,2.9923526816501891,0.16,0,0,0,0.31757722736699179,1.9999238461283397,0.17427785498542089,0,0,"","","","","","","",0.16,0,0.16,3.68,3.68]
["Soil","KP","FP (lbf)","LTf (ft)","m","FF (lbf)",null,"FW,H (lbf)",{"$f":"ABS($M$99)","v":0},{"$f":"IF($L$69=0,\"\",IF($L69>=0,CHAR(232),CHAR(231)))","v":""},null,{"$f":"$M$99","v":0},"Flex",67.5,1.22,null,null,null,"Left Stream Bed",{"$f":"($B$16-$B$15)/ABS($M$17)/ABS($M$19)","v":45.903709342011489},{"$f":"IF(AND(MIN($U$40:$U$41)>=$B$15,MAX($U$40:$U$41)<=$B$16),$E$22,IF(AND($T$60=\"No\",$T$59=\"No\"),0,IF(AND($T$59=\"Yes\",$T$60=\"No\"),$E$22-$U$68-$U$67,IF(AND($T$59=\"Yes\",$T$60=\"Yes\",$T$62=\"No\"),$E$22-$U$70-$U$68-$U$67,IF(AND($T$59=\"Yes\",$T$60=\"Yes\",$T$62=\"Yes\"),$E$22-$U$72-$U$71-$U$70-$U$68-$U$67,$E$22-$U$72-$U$71-$U$70)))))","v":1.1638516263195413},{"$f":"IF($U$69=0,0,IF(OR($B$25=0,$B$25=180,$B$25=360),$U$40,$U$60+(($C$16-$X$60)/($AA$40-$AB$33))))","v":65.793178810516153},{"$f":"IF($U$69=0,0,IF(OR($B$25=0,$B$25=180,$B$25=360),(($U$40-$B$15)*$AB$33)+$C$15,$X$60+(($V$69-$U$60)*$AA$40)))","v":94.29501215864957},{"$f":"IF($U$69=0,0,IF(OR($B$25=0,$B$25=180,$B$25=360),$E$22-ABS(($X$41-$W$69)/$M$20),IF(AND($U$40<=$U$41,$X$40>=$Y$40),ABS(($X$40-$W$69)/($AA$40*$M$17*$M$19)),IF(AND($U$40<=$U$41,$X$40<$Y$40),ABS($E$22-(ABS(($X$40-$W$69)/($AA$40*$M$17*$M$19)))),IF(AND($U$40>$U$41,$X$41>=$Y$41),ABS(($X$41-$W$69)/($AA$40*$M$17*$M$19)),IF(AND($U$40>=$U$41,$X$41<$Y$41),ABS($E$22-(ABS(($X$40-$W$69)/($AA$40*$M$17*$M$19))))))))))","v":11.509825532867115},{"$f":"IF(AND($U$69=0,$W$69=0),\"No\",IF(AND($V$69<=$B$16,$V$69>=$B$15,$V$69>=MIN($U$40:$U$41),$V$69<=MAX($U$40:$U$41),$W$69<$C$15,$X$69<=$E$22),\"Yes\",\"No\"))","v":"No"},{"$f":"IF($U$69=0,\"No\",IF($Y$69=\"Yes\",\"Partial\",IF(AND($U$69<$E$22,$X$41<$Y$41,$Y$67=\"No\",$Y$68=\"No\",$Y$69=\"No\",$Y$70=\"No\",$Y$71=\"No\",$Y$72=\"No\"),\"Yes\",IF(AND($Y$69=\"No\",$X$60>$Y$60),\"No\",\"Yes\"))))","v":"Yes"},{"$f":"IF($Z$69=\"Yes\",\"None\",IF(AND($Z$69=\"No\",$U$69=0),\"None\",IF($Z$69=\"No\",\"All\",IF(AND($X$41>=$Y$41,$U$41<=$U$40,$AA$68<>\"Left\"),\"Left\",\"Right\"))))","v":"None"},{"$f":"IF($U$69=0,0,IF($Z$69=\"No\",0,IF($Z$69=\"Yes\",$U$69,IF(OR($U$69=$E$22,AND($AA$69=\"Left\",MIN($U$40:$U$41)>=$B$15,MAX($U$40:$U$41)>=$B$16)),$U$69-(ABS(($U$41-$V$69)/($M$17*$M$19))),IF($AA$69=\"Left\",$U$69-(ABS(($B$15-$V$69)/($M$17*$M$19))),IF(MAX($U$40:$U$41)>=$B$16,$U$69-(ABS(($V$69-$B$16)/($M$17*$M$19))),ABS(($V$69-$B$15)/($M$17*$M$19))))))))","v":1.1638516263195413},null,null,null,null,null,null,24,3.84,"Left Bank",39.306909275516979,96.719483479267367,39.297403651771262,94.719559633139028,97.701026121165228,0,0.98154264189786034,0.98154264189786034,"",0.98154264189786034,0,2.9814664880262001,2.9814664880262001,0.16,0,0,0,0.31409364540731533,1.9999238461283397,0.17427785498542089,0,0,"","","","","","","",0.16,0,0.16,3.84,3.84]
["Bed",{"$f":"IF(OR($A$6=\"\",$F$6=\"\",$F$25=\"\"),0,TAN((45+($F$28/2))*PI()/180)^2)","v":4.8149513101909616},{"$f":"IF($E$61=0,0,0.5*$B$70*$E$59)","v":0},{"$f":"IF($F$28=\"\",0,IF($U$15<$AF$47,$BP$43+2,$BP$43))","v":3.2},{"$f":"IF($F$28=\"\",0,TAN($F$28*PI()/180))","v":0.86928673781622645},{"$f":"IF(OR($L$60>=0,$D$70=0),0,$I$60*$E$70*($D$70/$D$72))","v":315.9619632817155},null,"FA,H (lbf)",{"$f":"ABS($L$70)+ABS($M$70)","v":0},{"$f":"IF(($L$70+M70)=0,\"\",IF(($L$70+M70)>=0,CHAR(232),CHAR(231)))","v":""},null,{"$f":"$M$86","v":0},{"$f":"$M$92","v":0},90,0.97,null,null,null,"Right Stream Bed",{"$f":"($B$17-$B$16)/ABS($M$17)/ABS($M$19)","v":53.24830283673333},{"$f":"IF(AND(MIN($U$40:$U$41)>=$B$16,MAX($U$40:$U$41)<=$B$17),$E$22,IF(AND($T$61=\"No\",$T$62=\"No\"),0,IF(AND($T$62=\"Yes\",$T$61=\"No\"),$E$22-$U$71-$U$72,IF(AND($T$62=\"Yes\",$T$61=\"Yes\"),$E$22-$W$61-$U$71-$U$72,$E$22-$W$61))))","v":0},{"$f":"IF($U$70=0,0,IF(OR($B$25=0,$B$25=180,$B$25=360),$U$40,$U$61+(($X$61-$C$16)/($AB$34-$AA$40))))","v":0},{"$f":"IF($U$70=0,0,IF(OR($B$25=0,$B$25=180,$B$25=360),(($U$40-$B$16)*$AB$34)+$C$16,$X$61+(($V$70-$U$61)*$AA$40)))","v":0},{"$f":"IF($U$70=0,0,IF(OR($B$25=0,$B$25=180,$B$25=360),$E$22-ABS(($X$41-$W$70)/$M$20),IF(AND($U$40<=$U$41,$X$40>=$Y$40),ABS(($X$40-$W$70)/($AA$40*$M$17*$M$19)),IF(AND($U$40<=$U$41,$X$40<$Y$40),ABS($E$22-(ABS(($X$40-$W$70)/($AA$40*$M$17*$M$19)))),IF(AND($U$40>$U$41,$X$41>=$Y$41),ABS(($X$41-$W$70)/($AA$40*$M$17*$M$19)),IF(AND($U$40>=$U$41,$X$41<$Y$41),ABS($E$22-(ABS(($X$40-$W$70)/($AA$40*$M$17*$M$19))))))))))","v":0},{"$f":"IF(AND($U$70=0,$W$70=0),\"No\",IF(AND($V$70<=$B$17,$V$70>=$B$16,$V$70>=MIN($U$40:$U$41),$V$70<=MAX($U$40:$U$41),$W$70<$C$17,$X$70<=$E$22),\"Yes\",\"No\"))","v":"No"},{"$f":"IF($U$70=0,\"No\",IF($Y$70=\"Yes\",\"Partial\",IF(AND($U$70<$E$22,$X$41<$Y$41,$Y$67=\"No\",$Y$68=\"No\",$Y$69=\"No\",$Y$70=\"No\",$Y$71=\"No\",$Y$72=\"No\"),\"Yes\",IF(AND($Y$70=\"No\",$X$61>$Y$61),\"No\",\"Yes\"))))","v":"No"},{"$f":"IF($Z$70=\"Yes\",\"None\",IF(AND($Z$70=\"No\",$U$70=0),\"None\",IF($Z$70=\"No\",\"All\",IF(AND($X$41>=$Y$41,$U$41>=$U$40,$AA$71<>\"Right\"),\"Right\",\"Left\"))))","v":"None"},{"$f":"IF($U$70=0,0,IF($Z$70=\"No\",0,IF($Z$70=\"Yes\",$U$70,IF(OR($U$70=$E$22,AND($AA$70=\"Right\",MIN($U$40:$U$41)<=$B$16,MAX($U$40:$U$41)<=$B$17)),$U$70-(ABS(($U$41-$V$70)/($M$17*$M$19))),IF($AA$70=\"Right\",$U$70-(ABS(($B$17-$V$70)/($M$17*$M$19))),IF(MIN($U$40:$U$41)<=$B$16,$U$70-(ABS(($V$70-$B$16)/($M$17*$M$19))),ABS(($V$70-$B$17)/($M$17*$M$19))))))))","v":0},null,null,null,null,null,null,25,4,"Left Bank",39.394048203009689,96.718087233587624,39.384542579263972,94.718163387459285,97.688743681861496,0,0.97065644827387132,0.97065644827387132,"",0.97065644827387132,0,2.9705802944022111,2.9705802944022111,0.16,0,0,0,0.31061006344763881,1.9999238461283397,0.17427785498542089,0,0,"","","","","","","",0.16,0,0.16,4,4]
["Bank",{"$f":"IF(OR($A$6=\"\",$F$6=\"\",$F$25=\"\"),0,TAN((45+($F$29/2))*PI()/180)^2)","v":4.8149513101909616},{"$f":"IF($E$61=0,0,0.5*$B$71*$E$60)","v":4662.0767286174287},{"$f":"IF($F$28=\"\",0,$BQ$43)","v":30.800000000000022},{"$f":"IF($F$28=\"\",0,TAN($F$29*PI()/180))","v":0.86928673781622645},{"$f":"IF(OR($L$60>=0,$D$71=0),0,$I$60*$E$71*($D$71/$D$72))","v":3041.1338965865139},null,"S FH (lbf)",{"$f":"ABS($L$71)","v":7275.9657804661128},{"$f":"IF($L$71=0,\"\",IF($L71>=0,CHAR(232),CHAR(231)))","v":"ç"},"Additional resisting force (lbf) needed:",{"$f":"$L$66+$L$67+$L$68+$L$69+$L$70+$M$70","v":-7275.9657804661128},null,112.5,1,null,null,null,"Right Bank",{"$f":"($B$18-$B$17)/ABS($M$17)/ABS($M$19)","v":34.886819099928736},{"$f":"IF(AND(MIN($U$40:$U$41)>=$B$17,MAX($U$40:$U$41)<=$B$18),$E$22,IF(AND($T$62=\"No\",$T$63=\"No\"),0,$E$22-$W$62-$U$72))","v":0},{"$f":"IF($U$71=0,0,IF(OR($B$25=0,$B$25=180,$B$25=360),$U$40,$U$62+(($X$62-$C$17)/($AB$35-$AA$40))))","v":0},{"$f":"IF($U$71=0,0,IF(OR($B$25=0,$B$25=180,$B$25=360),(($U$40-$B$17)*$AB$35)+$C$17,$X$62+(($V$71-$U$62)*$AA$40)))","v":0},{"$f":"IF($U$71=0,0,IF(OR($B$25=0,$B$25=180,$B$25=360),$E$22-ABS(($X$41-$W$71)/$M$20),IF(AND($U$40<=$U$41,$X$40>=$Y$40),ABS(($X$40-$W$71)/($AA$40*$M$17*$M$19)),IF(AND($U$40<=$U$41,$X$40<$Y$40),ABS($E$22-(ABS(($X$40-$W$71)/($AA$40*$M$17*$M$19)))),IF(AND($U$40>$U$41,$X$41>=$Y$41),ABS(($X$41-$W$71)/($AA$40*$M$17*$M$19)),IF(AND($U$40>=$U$41,$X$41<$Y$41),ABS($E$22-(ABS(($X$40-$W$71)/($AA$40*$M$17*$M$19))))))))))","v":0},{"$f":"IF(AND($U$71=0,$W$71=0),\"No\",IF(AND($V$71<=$B$18,$V$71>=$B$17,$V$71>=MIN($U$40:$U$41),$V$71<=MAX($U$40:$U$41),$W$71<$C$18,$X$71<=$E$22),\"Yes\",\"No\"))","v":"No"},{"$f":"IF($U$71=0,\"No\",IF($Y$71=\"Yes\",\"Partial\",IF(AND($U$71<$E$22,$X$41<$Y$41,$Y$67=\"No\",$Y$68=\"No\",$Y$69=\"No\",$Y$70=\"No\",$Y$71=\"No\",$Y$72=\"No\"),\"Yes\",IF(AND($Y$71=\"No\",$X$62>$Y$62),\"No\",\"Yes\"))))","v":"No"},{"$f":"IF($Z$71=\"Yes\",\"None\",IF(AND($Z$71=\"No\",$U$71=0),\"None\",IF($Z$71=\"No\",\"All\",IF(AND($X$41>=$Y$41,$U$41>=$U$40,$AA$72<>\"Right\"),\"Right\",\"Left\"))))","v":"None"},{"$f":"IF($U$71=0,0,IF($Z$71=\"No\",0,IF($Z$71=\"Yes\",$U$71,IF(OR($U$71=$E$22,AND($AA$71=\"Right\",MIN($U$40:$U$41)<=$B$17,MAX($U$40:$U$41)<=$B$18)),$U$71-(ABS(($U$41-$V$71)/($M$17*$M$19))),IF($AA$71=\"Right\",$U$71-(ABS(($B$18-$V$71)/($M$17*$M$19))),IF(MIN($U$40:$U$41)<=$B$17,$U$71-(ABS(($V$71-$B$17)/($M$17*$M$19))),ABS(($V$71-$B$18)/($M$17*$M$19))))))))","v":0},null,null,null,null,null,null,26,4.16,"Left Bank",39.481187130502398,96.716690987907882,39.471681506756681,94.716767141779542,97.676461242557764,0,0.9597702546498823,0.9597702546498823,"",0.9597702546498823,0,2.959694100778222,2.959694100778222,0.16,0,0,0,0.30712648148796234,1.9999238461283397,0.17427785498542089,0,0,"","","","","","","",0.16,0,0.16,4.16,4.16]
["Total","-",{"$f":"$C$70+$C$71","v":4662.0767286174287},{"$f":"$D$70+$D$71","v":34.000000000000021},"-",{"$f":"$F$70+$F$71","v":3357.0958598682291},null,"FSH",{"$f":"IF(OR($E$22=\"\",$F$22=\"\",$F$25=\"\",$G$25=\"\"),0,IF($I$66=0,0,IF($L$69>=0,($I$67+$I$68+$I$70)/($I$66+$I$69),($I$67+$I$68+$I$69+$I$70)/$I$66)))","v":10.789961154762155},{"$f":"$I$72-$L$72","v":9.289961154762155},{"$f":"IF(AND($F$25=\"\",$G$25=\"\"),\"\",IF(OR($J$25=0,$I$72>=$L$72),\"Structure is Horizontally Stable\",IF(AND($I$72<$L$72,$L$69>=0),$L$72*($L$66+$L$69)-(-$L$67-$L$68-$L$70-$M$70),IF(AND($I$72<$L$72,$L$69<0),$L$72*($L$66)-(-$L$67-$L$68-$L$70-$M$70-$L$69),\"\"))))","v":"Structure is Horizontally Stable"},{"$f":"'2-Constants'!$C$6","v":1.5},null,135,0.81,null,null,null,"RB Floodplain",{"$f":"($B$19-$B$18)/ABS($M$17)/ABS($M$19)","v":42.231412594650578},{"$f":"IF(MIN($U$40:$U$41)>=$B$18,$E$22,IF($T$63=\"No\",0,$E$22-$W$63))","v":0},{"$f":"IF($U$72=0,0,IF(OR($B$25=0,$B$25=180,$B$25=360),$U$40,$U$63+(($X$63-$C$18)/($AB$36-$AA$40))))","v":0},{"$f":"IF($U$72=0,0,IF(OR($B$25=0,$B$25=180,$B$25=360),(($U$40-$B$18)*$AB$36)+$C$18,$X$63+(($V$72-$U$63)*$AA$40)))","v":0},{"$f":"IF($U$72=0,0,IF(OR($B$25=0,$B$25=180,$B$25=360),$E$22-ABS(($X$41-$W$72)/$M$20),IF(AND($U$40<=$U$41,$X$40>=$Y$40),ABS(($X$40-$W$72)/($AA$40*$M$17*$M$19)),IF(AND($U$40<=$U$41,$X$40<$Y$40),ABS($E$22-(ABS(($X$40-$W$72)/($AA$40*$M$17*$M$19)))),IF(AND($U$40>$U$41,$X$41>=$Y$41),ABS(($X$41-$W$72)/($AA$40*$M$17*$M$19)),IF(AND($U$40>=$U$41,$X$41<$Y$41),ABS($E$22-(ABS(($X$40-$W$72)/($AA$40*$M$17*$M$19))))))))))","v":0},{"$f":"IF(AND($U$72=0,$W$72=0),\"No\",IF(AND($V$72<=$B$19,$V$72>=$B$18,$V$72>=MIN($U$40:$U$41),$V$72<=MAX($U$40:$U$41),$W$72<$C$19,$X$72<=$E$22),\"Yes\",\"No\"))","v":"No"},{"$f":"IF($U$72=0,\"No\",IF($Y$72=\"Yes\",\"Partial\",IF(AND($U$72<$E$22,$X$41<$Y$41,$Y$67=\"No\",$Y$68=\"No\",$Y$69=\"No\",$Y$70=\"No\",$Y$71=\"No\",$Y$72=\"No\"),\"Yes\",IF(AND($Y$72=\"No\",$X$63>$Y$63),\"No\",\"Yes\"))))","v":"No"},{"$f":"IF($Z$72=\"Yes\",\"None\",IF(AND($Z$72=\"No\",$U$72=0),\"None\",IF($Z$72=\"No\",\"All\",IF(AND($X$41>=$Y$41,$U$41>=$U$40),\"Right\",\"Left\"))))","v":"None"},{"$f":"IF($U$72=0,0,IF($Z$72=\"No\",0,IF($Z$72=\"Yes\",$U$72,IF(OR($AA$72=\"Right\",$U$72=$E$22),$U$72-(ABS(($U$41-$V$72)/($M$17*$M$19))),$U$72-(ABS(($V$72-$B$18)/($M$17*$M$19)))))))","v":0},null,null,null,null,null,null,27,4.32,"Left Bank",39.568326057995108,96.715294742228139,39.558820434249391,94.715370896099799,97.664178803254018,0,0.94888406102587908,0.94888406102587908,"",0.94888406102587908,0,2.9488079071542188,2.9488079071542188,0.16,0,0,0,0.30364289952828133,1.9999238461283397,0.17427785498542089,0,0,"","","","","","","",0.16,0,0.16,4.32,4.32]
[null,null,null,null,null,null,null,null,null,null,{"$f":"IF($K$72<>\"Structure is Horizontally Stable\",\"\",IF($K$72=\"Structure is Horizontally Stable\",IF($L$69>=0,($I$67+$I$68+$I$70)-(($I$69+$I$66)*$L$72),($I$67+$I$68+$I$69+$I$70)-(($I$66)*$L$72))))","v":6904.3623764563417},null,null,157.5,0.75,null,null,null,null,"L check",{"$f":"SUM(U67:U72)","v":32},{"$f":"IF($U$53=$E$22,\"OK\",\"ERROR\")","v":"OK"},null,null,null,null,"Total",{"$f":"SUM(AB67:AB72)","v":32},null,null,null,null,null,null,28,4.4800000000000004,"Left Bank",39.655464985487825,96.713898496548396,39.645959361742101,94.713974650420056,97.651896363950286,0,0.93799786740189006,0.93799786740189006,"",0.93799786740189006,0,2.9379217135302298,2.9379217135302298,0.16,0,0,0,0.30015931756860481,1.9999238461283397,0.17427785498542089,0,0,"","","","","","","",0.16,0,0.16,4.4800000000000004,4.4800000000000004]
["Moment Force Balance",null,null,null,null,null,null,null,null,null,null,{"$f":"IF($D$22=\"Yes\",\"Rootwad\",\"Root Collar\")","v":"Rootwad"},null,180,1.1000000000000001,null,null,null,null,null,null,null,null,null,null,null,null,null,null,null,null,null,null,null,29,4.6399999999999997,"Left Bank",39.742603912980535,96.712502250868653,39.733098289234817,94.712578404740313,97.639613924646554,0,0.92711167377790105,0.92711167377790105,"",0.92711167377790105,0,2.9270355199062408,2.9270355199062408,0.16,0,0,0,0.29667573560892835,1.9999238461283397,0.17427785498542089,0,0,"","","","","","","",0.16,0,0.16,4.6399999999999997,4.6399999999999997]
["Driving Moment Centroids",null,null,"Resisting Moment Centroids",null,null,null,"Moment Force Balance",null,null,null,null,null,"Source:  Gippel (1992) plot of drag coefficients",null,null,null,null,"Projected Area of Log Calculation",null,null,null,"Projected Area of Rootwad Calculation",null,null,null,null,null,null,null,null,null,null,null,30,4.8,"Left Bank",39.829742840473244,96.71110600518891,39.820237216727527,94.71118215906057,97.627331485342822,0,0.91622548015391203,0.91622548015391203,"",0.91622548015391203,0,2.9161493262822518,2.9161493262822518,0.16,0,0,0,0.29319215364925183,1.9999238461283397,0.17427785498542089,0,0,"","","","","","","",0.16,0,0.16,4.8,4.8]
["cT,B (ft)","cL (ft)","cD (ft)","cT,W (ft)","csoil (ft)","cF&N (ft)","cP (ft)","Md (lbf)",{"$f":"IF(OR($C$19=\"\",$E$22=\"\",$D$22=\"\",$F$22=\"\",$F$25=\"\",$G$25=\"\"),0,IF($F$78=\"Stem Tip\",$L$77,$L$78))","v":164286.7891004257},null,null,"Md","Mr",null,null,"Centroid of Log",null,null,"DTS =",{"$f":"IF(OR($E$22=\"\",$F$22=\"\",$F$25=\"\",$G$25=\"\"),\"\",$F$22)","v":2},"ft",null,null,"a = DRW/2",{"$f":"$H$22/2","v":3},"ft","A =","a*b*((p/2)+arcsin(d/a)) + (b*d*(sqrt(a2-d2))/a)",null,null,null,null,null,null,31,4.96,"Left Bank",39.916881767965954,96.709709759509167,39.907376144220237,94.709785913380827,97.61504904603909,0,0.90533928652992302,0.90533928652992302,"",0.90533928652992302,0,2.9052631326582627,2.9052631326582627,0.16,0,0,0,0.28970857168957537,1.9999238461283397,0.17427785498542089,0,0,"","","","","","","",0.16,0,0.16,4.96,4.96]
[{"$f":"$Q$79","v":18.846208568686219},{"$f":"IF($I$52=0,0,IF($T$12>=$T$11,$E$22-$BL$43,$BL$43))","v":0},{"$f":"IF($F$66=0,0,IF($T$12>=$T$11,$E$22-$BI$43,$BI$43))","v":25.200000000000003},{"$f":"$Q$79","v":18.846208568686219},{"$f":"IF($E$61=0,0,IF($T$12>=$T$11,$E$22-$BS$43,$BS$43))","v":9.1199999999999992},{"$f":"IF($F$72=0,0,IF($T$12>=$T$11,$E$22-$BR$43,$BR$43))","v":16},{"$f":"IF($C$72=0,0,IF($T$12>=$T$11,$E$22-$BT$39,$BT$39))","v":12.16},"Mr (lbf)",{"$f":"IF(OR($C$19=\"\",$E$22=\"\",$D$22=\"\",$F$22=\"\",$F$25=\"\",$G$25=\"\"),0,IF($F$78=\"Stem Tip\",$M$77,$M$78))","v":371179.98554986512},null,"Additional resisting moment force (lbf) needed:",{"$f":"(($I$54*$A$77)+($I$55*$B$77)+($I$66*$C$77)+(IF($L$95>0,$L$95*$D$95,0))+(IF($L$96>0,$L$96*$D$96,0))+(IF($L$97>0,$L$97*$D$97,0))+(IF($L$98>0,$L$98*$D$98,0))+(IF($M$95>0,$M$95*$D$95,0))+(IF($M$96>0,$M$96*$D$96,0))+(IF($M$97>0,$M$97*$D$97,0))+(IF($M$98>0,$M$98*$D$98,0)))*$M$19","v":164286.7891004257},{"$f":"(($I$56*$D$77)+(IF($L$60<0,$I$60*$F$77))+($I$57*$E$77)+($I$67*$G$77)+($I$68*$F$77)+(($D$83+$E$83)*$C$83)+($J$83*$H$83)+($J$84*$H$84)+(($I$87+$J$87)*$C$87)+(($I$88+$J$88)*$C$88)+(($I$89+$J$89)*$C$89)+(IF($L$95<=0,$G$95*$D$95,0))+(IF($L$96<=0,$G$96*$D$96,0))+(IF($L$97<=0,$G$97*$D$97,0))+(IF($L$98<=0,$G$98*$D$98,0))+(IF($M$95<=0,$I$95*$D$95,0))+(IF($M$96<=0,$I$96*$D$96,0))+(IF($M$97<=0,$I$97*$D$97,0))+(IF($M$98<=0,$I$98*$D$98,0)))*$M$19","v":371179.98554986512},"Stem Tip",null,"cRW",{"$f":"IF(OR($D$22=\"\",$D$22=\"No\",$F$22=\"\"),0,$E$22-((1/4)*$G$22*(($H$22^2)+(2*$H$22*$F$22)+(3*($F$22^2)))/(($H$22^2)+($H$22*$F$22)+($F$22^2))))","v":30.96153846153846},null,"ATSp,total =",{"$f":"IF($T$76=\"\",\"\",ABS(($U$42-$U$43)*$F$22/$M$19))","v":34.856898240961755},"ft2",null,null,"b= (DRW/2)*ABS(cos(q))",{"$f":"($H$22/2)*ABS(COS($B$25*PI()/180))","v":2.5160117038362722},"ft","ARW,total =",{"$f":"IF(OR($D$22=\"\",$D$22=\"No\"),0,PI()*$Y$76*$Y$77)","v":23.712851655353912},"ft2",null,null,null,null,null,32,5.12,"Left Bank",40.004020695458664,96.708313513829424,39.994515071712947,94.708389667701084,97.602766606735358,0,0.894453092905934,0.894453092905934,"",0.894453092905934,0,2.8943769390342737,2.8943769390342737,0.16,0,0,0,0.2862249897298989,1.9999238461283397,0.17427785498542089,0,0,"","","","","","","",0.16,0,0.16,5.12,5.12]
["*Distances are from the stem tip",null,null,"Point of Rotation:",null,{"$f":"IF(OR($F$25=\"\",$G$25=\"\",$D$22=\"\"),\"\",IF(AND($T$11<$T$12,$AY$45>0),$L$74,IF(AND($T$11>$T$12,$AY$245>0),$L$74,IF(AND($AY$45>0,$AY$245>0),$L$74,IF(AND($AY$45=0,$AY$245=0),$L$74,\"Stem Tip\")))))","v":"Stem Tip"},null,"FSM",{"$f":"IF(OR($E$22=\"\",$F$22=\"\",$F$25=\"\",$G$25=\"\"),0,IF(OR($A$6=\"\",$F$25=\"\",$G$25=\"\"),\"\",$I$77/$I$76))","v":2.2593416523769854},{"$f":"$I$78-$L$80","v":0.75934165237698537},{"$f":"IF(AND($F$25=\"\",$G$25=\"\"),\"\",IF($I$78>=$L$80,\"Structure is Stable with respect to Moment Forces\",($I$76*$L$80)-$I$77))","v":"Structure is Stable with respect to Moment Forces"},{"$f":"(($I$54*($E$22-$A$77))+($I$55*($E$22-$B$77))+($I$66*($E$22-$C$77))+(IF($L$95>0,$L$95*($E$22-$D$95),0))+(IF($L$96>0,$L$96*($E$22-$D$96),0))+(IF($L$97>0,$L$97*($E$22-$D$97),0))+(IF($L$98>0,$L$98*($E$22-$D$98),0))+(IF($M$95>0,$M$95*($E$22-$D$95),0))+(IF($M$96>0,$M$96*($E$22-$D$96),0))+(IF($M$97>0,$M$97*($E$22-$D$97),0))+(IF($M$98>0,$M$98*($E$22-$D$98),0)))*$M$19","v":106646.92113898322},{"$f":"(($I$56*($E$22-$D$77))+(IF($L$60<0,$I$60*($E$22-$F$77)))+($I$57*($E$22-$E$77))+($I$67*($E$22-$G$77))+($I$68*($E$22-$F$77))+(($D$83+$E$83)*($E$22-$C$83))+($J$83*($E$22-$H$83))+($J$84*($E$22-$H$84))+(($I$87+$J$87)*($E$22-$C$87))+(($I$88+$J$88)*($E$22-$C$88))+(($I$89+$J$89)*($E$22-$C$89))+(IF($L$95<=0,$G$95*($E$22-$D$95),0))+(IF($L$96<=0,$G$96*($E$22-$D$96),0))+(IF($L$97<=0,$G$97*($E$22-$D$97),0))+(IF($L$98<=0,$G$98*($E$22-$D$98),0))+(IF($M$95<=0,$I$95*($E$22-$D$95),0))+(IF($M$96<=0,$I$96*($E$22-$D$96),0))+(IF($M$97<=0,$I$97*($E$22-$D$97),0))+(IF($M$98<=0,$I$98*($E$22-$D$98),0)))*$M$19","v":379727.7621290292},"Root Collar or RW",null,"cTS",{"$f":"(($E$22-$G$22)/2)","v":14.5},null,"ATSp,dry =",{"$f":"IF($T$86=\"\",\"\",IF($T$86=\"Submerged\",0,IF($T$88=\"Dry\",$T$77,IF(AND($AC$86=\"Dry\",$T$86=\"Partial\"),ABS(($U$43-$W$87)*$F$22/$M$19),IF(AND($AC$86=\"Partial\",$AC$87=\"Partial\"),(ABS($U$39-$U$38))*(($AF$86+$AF$87)/2),IF($AC$86=\"Partial\",(ABS($U$39-$W$86))*$AF$86/2,(($U$41-$W$88)*$F$22)+(ABS($W$88-$U$40))*($AF$87+$F$22)/2))))))","v":0},"ft2",null,null,"d1 = (DRW/2) - (yRW,crown-WSE)",{"$f":"IF(OR($D$22=\"\",$F$22=\"\"),\"\",IF($AE$8>=$U$10,$Y$76,$Y$76-($U$10-$AE$8)))","v":3},"ft","ARW,↑WSE =",{"$f":"IF($D$22=\"No\",0,IF($U$15>$AE$8,$AB$77,IF($U$10<$AE$8,0,IF($D$22=\"\",0,$AB$77-(($Y$76*$Y$77*((PI()/2)+ASIN($Y$78/$Y$76)))+($Y$77*$Y$78*(SQRT(($Y$76^2)-($Y$78^2))/$Y$76)))))))","v":0},"ft2",null,null,null,null,null,33,5.28,"Left Bank",40.091159622951373,96.706917268149681,40.081653999205656,94.706993422021341,97.590484167431612,0,0.88356689928193077,0.88356689928193077,"",0.88356689928193077,0,2.8834907454102705,2.8834907454102705,0.16,0,0,0,0.28274140777021783,1.9999238461283397,0.17427785498542089,0,0,"","","","","","","",0.16,0,0.16,5.28,5.28]
[null,null,null,null,null,null,null,null,null,null,null,"Formatting",null,null,null,"cT",{"$f":"IF(OR($D$22=\"\",$D$22=\"No\",$F$22=\"\"),$Q$78,((((($B$53+$B$52)*$I$22)+($B$54*$J$22))*$Q$78)+(((($C$53+$C$52)*$I$22)+($C$54*$J$22))*$Q$77))/$E$55)","v":18.846208568686219},null,"ATSp,em =",{"$f":"$BE$43","v":31.500884514622648},"ft2",null,null,"d2 = (DRW/2) - (ythalweg-yRW,bot)",{"$f":"IF(OR($D$22=\"\",$F$22=\"\"),\"\",IF($U$15>=$C$16,$Y$76,$Y$76-($C$16-$U$15)))","v":2.6738965473765433},"ft","ARW,↓bed =",{"$f":"IF($D$22=\"No\",0,IF($U$10<$C$16,$AB$77,IF($U$15>$C$16,0,IF($D$22=\"\",0,$AB$77-(($Y$76*$Y$77*((PI()/2)+ASIN($Y$79/$Y$76)))+($Y$77*$Y$79*(SQRT(($Y$76^2)-($Y$79^2))/$Y$76)))))))","v":0.50168123429428491},"ft2",null,null,null,null,null,34,5.44,"Left Bank",40.178298550444083,96.705521022469938,40.168792926698366,94.705597176341598,97.57820172812788,0,0.87268070565794176,0.87268070565794176,"",0.87268070565794176,0,2.8726045517862815,2.8726045517862815,0.16,0,0,0,0.27925782581054137,1.9999238461283397,0.17427785498542089,0,0,"","","","","","","",0.16,0,0.16,5.44,5.44]
["Anchor Forces",null,null,null,null,null,null,null,null,null,null,{"$f":"'2-Constants'!$C$7","v":1.5},null,null,null,null,null,null,"(-) ATSp,dry,em =",{"$f":"-$BG$43","v":0},"ft3",null,null,null,null,null,"ARWp =",{"$f":"IF($D$22=\"\",0,$AB$77-$AB$78-$AB$79)","v":23.211170421059627},"ft2",null,null,null,null,null,35,5.6,"Left Bank",40.265437477936793,96.704124776790195,40.255931854191076,94.704200930661855,97.565919288824148,0,0.86179451203395274,0.86179451203395274,"",0.86179451203395274,0,2.8617183581622925,2.8617183581622925,0.16,0,0,0,0.27577424385086491,1.9999238461283397,0.17427785498542089,0,0,"","","","","","","",0.16,0,0.16,5.6,5.6]
["Additional Soil Ballast",null,null,null,null,null,null,"Mechanical Anchors",null,null,{"$f":"IF(OR($H$83<>\"\",$H$84<>\"\",$C$87<>\"\",$C$88<>\"\",$C$89<>\"\"),\"CHECK--Verify anchors are correctly located on X-Sect (above)\",\"\")","v":""},"Formatting",null,null,null,"Buried anchors","Number",null,"ATSp,wet =",{"$f":"IF($D$22=\"\",\"\",IF($T$88=\"Dry\",0,$T$77-$T$78-$T$79-$T$80))","v":3.356013726339107},"ft2",null,null,null,null,null,null,null,null,null,null,null,null,null,36,5.76,"Left Bank",40.352576405429502,96.702728531110452,40.343070781683785,94.702804684982112,97.553636849520416,0,0.85090831840996373,0.85090831840996373,"",0.85090831840996373,0,2.8508321645383035,2.8508321645383035,0.16,0,0,0,0.27229066189118839,1.9999238461283397,0.17427785498542089,0,0,"","","","","","","",0.16,0,0.16,5.76,5.76]
["VAdry (ft3)","VAwet (ft3)","cAsoil (ft)","FA,Vsoil (lbf)","FA,HP (lbf)",null,"Type","cAm (ft)","Soils","FAm (lbf)","Quick Design Reference:",{"$f":"IF($D$83=\"\",0,-$D$83)","v":0},{"$f":"IF($E$83=\"\",0,-$E$83)","v":0},null,"Total (lbf)",{"$f":"$J$83+$J$84+(IF($A$87=\"Deadman\",$F$87-$G$87,0))+(IF($A$88=\"Deadman\",$F$88-$G$88,0))+(IF($A$89=\"Deadman\",$F$89-$G$89,0))","v":0},{"$f":"(IF($J$83>0,1,0))+(IF($J$84>0,1,0))+(IF(AND($I$87>0,$A$87=\"Deadman\"),1,0))+(IF(AND($I$88>0,$A$88=\"Deadman\"),1,0))+(IF(AND($I$89>0,$A$89=\"Deadman\"),1,0))","v":0},null,null,null,null,null,null,null,null,null,null,null,null,null,null,null,null,null,37,5.92,"Left Bank",40.439715332922219,96.701332285430709,40.430209709176502,94.701408439302369,97.541354410216684,0,0.84002212478597471,0.84002212478597471,"",0.84002212478597471,0,2.8399459709143144,2.8399459709143144,0.16,0,0,0,0.26880707993151193,1.9999238461283397,0.17427785498542089,0,0,"","","","","","","",0.16,0,0.16,5.92,5.92]
[null,null,null,{"$f":"IF(AND($A$83=\"\",$B$83=\"\"),0,($A$83*$D$29)+($B$83*$E$29))","v":0},{"$f":"IF($D$83=0,0,0.5*$B$71*$D$83)","v":0},null,null,null,{"$f":"$W$100","v":""},{"$f":"IF(OR($G83=\"\",$H83=\"\"),0,IF(AND($W100=\"Bed\",$G$28=4),HLOOKUP($G$83,AnchorRatings,3,0),IF(AND($W100=\"Bed\",$G$28=5),HLOOKUP($G$83,AnchorRatings,4,0),IF(AND($W100=\"Bed\",$G$28=6),HLOOKUP($G$83,AnchorRatings,5,0),IF(AND($W100=\"Bed\",$G$28=7),HLOOKUP($G$83,AnchorRatings,6,0),IF(AND($W100=\"Bank\",$G$29=4),HLOOKUP($G$83,AnchorRatings,3,0),IF(AND($W100=\"Bank\",$G$29=5),HLOOKUP($G$83,AnchorRatings,4,0),IF(AND($W100=\"Bank\",$G$29=6),HLOOKUP($G$83,AnchorRatings,5,0),IF(AND($W100=\"Bank\",$G$29=7),HLOOKUP($G$83,AnchorRatings,6,0))))))))))","v":0},{"$f":"$I$61","v":1.5},0,{"$f":"(IF($A87=\"Behind\",-$J87,0))","v":0},null,"Required Vertical Resistance (lbf)",{"$f":"($L$54+$L$55+(IF($L$58>0,$L$58,0)))*$L$61","v":11585.691051614584},null,null,null,null,null,null,null,null,null,null,null,null,null,null,null,null,null,null,38,6.08,"Left Bank",40.526854260414929,96.699936039750966,40.517348636669212,94.700012193622626,97.529071970912938,0,0.82913593116197148,0.82913593116197148,"",0.82913593116197148,0,2.8290597772903112,2.8290597772903112,0.16,0,0,0,0.26532349797183086,1.9999238461283397,0.17427785498542089,0,0,"","","","","","","",0.16,0,0.16,6.08,6.08]
[null,null,null,null,null,null,null,null,{"$f":"$W$101","v":""},{"$f":"IF(OR($G84=\"\",$H84=\"\"),0,IF(AND($W101=\"Bed\",$G$28=4),HLOOKUP($G$84,AnchorRatings,3,0),IF(AND($W101=\"Bed\",$G$28=5),HLOOKUP($G$84,AnchorRatings,4,0),IF(AND($W101=\"Bed\",$G$28=6),HLOOKUP($G$84,AnchorRatings,5,0),IF(AND($W101=\"Bed\",$G$28=7),HLOOKUP($G$84,AnchorRatings,6,0),IF(AND($W101=\"Bank\",$G$29=4),HLOOKUP($G$84,AnchorRatings,3,0),IF(AND($W101=\"Bank\",$G$29=5),HLOOKUP($G$84,AnchorRatings,4,0),IF(AND($W101=\"Bank\",$G$29=6),HLOOKUP($G$84,AnchorRatings,5,0),IF(AND($W101=\"Bank\",$G$29=7),HLOOKUP($G$84,AnchorRatings,6,0))))))))))","v":0},{"$f":"'2-Constants'!$C$5","v":1.5},0,{"$f":"(IF($A88=\"Behind\",-$J88,0))","v":0},null,"Actual Vertical Resistance (lbf)",{"$f":"ABS($L$56+$L$57+(IF($L$58<0,$L$58,0))+$L$59)","v":11585.691051614584},null,null,"Log Position","Water and Log Intercept",null,null,null,null,"Soil","LW Buried at Intercept?",null,"Log Position","Water and Log Intercept at Face",null,null,null,null,null,39,6.24,"Left Bank",40.613993187907639,96.698539794071223,40.604487564161921,94.698615947942884,97.516789531609206,0,0.81824973753798247,0.81824973753798247,"",0.81824973753798247,0,2.8181735836663222,2.8181735836663222,0.16,0,0,0,0.26183991601215439,1.9999238461283397,0.17427785498542089,0,0,"","","","","","","",0.16,0,0.16,6.24,6.24]
["Boulder Ballast",null,null,null,null,null,null,null,null,null,null,0,{"$f":"(IF($A89=\"Behind\",-$J89,0))","v":0},null,"Extra Needed Vertical Resistance (lbf)",{"$f":"$P$83-$P$84","v":0},null,null,null,"Condition","Intercept Zone",null,"xTS (ft)","yTS (ft)","ysoil (ft)",null,null,null,"Condition","xTS (ft)","yTS (ft)","hTS,dry (ft)",null,null,40,6.4,"Left Bank",40.701132115400348,96.69714354839148,40.691626491654631,94.697219702263141,97.504507092305474,0,0.80736354391399345,0.80736354391399345,"",0.80736354391399345,0,2.8072873900423332,2.8072873900423332,0.16,0,0,0,0.25835633405247793,1.9999238461283397,0.17427785498542089,0,0,"","","","","","","",0.16,0,0.16,6.4,6.4]
["Position","Dr (ft)","cAr (ft)","Vr,dry (ft3)","Vr,wet (ft3)","Wr (lbf)","FL,r (lbf)","FD,r (lbf)","FA,Vr (lbf)","FA,Hr (lbf)",{"$f":"$I$72","v":10.789961154762155},{"$f":"$L$82+$L$83+$L$84+$L$85","v":0},{"$f":"$M$82+$M$83+$M$84+$M$85","v":0},null,"Required Horizontal Resistance (lbf)",{"$f":"($L$66+(IF($L$69>0,$L$69,0)))*$L$72","v":1114.8102120293165},null,null,"Crown",{"$f":"IF(OR($E$22=\"\",$F$22=\"\",$F$25=\"\",$G$25=\"\"),\"\",IF($X$39<=$AE$12,\"Submerged\",IF($X$38>$AE$12,\"Dry\",\"Partial\")))","v":"Submerged"},{"$f":"IF($X$86=\"\",\"None\",IF($W$86<$B$14,\"Left Floodplain\",IF($W$86<$B$15,\"Left Bank\",IF($W$86<$B$16,\"Left Stream Bed\",IF($W$86<$B$17,\"Right Stream Bed\",IF($W$86<$B$18,\"Right Bank\",\"Right Floodplain\"))))))","v":"None"},{"$f":"IF($U$47=0,0,IF(OR($B$25=0,$B$25=180,$B$25=360),$E$22-ABS(($X$39-$W$47)/$M$20),IF(AND($U$38<=$U$39,$X$38>=$Y$38),ABS(($X$38-$W$47)/($AA$40*$M$17*$M$19)),IF(AND($U$38<=$U$39,$X$38<$Y$38),ABS($E$22-(ABS(($X$38-$W$47)/($AA$40*$M$17*$M$19)))),IF(AND($U$38>$U$39,$X$39>=$Y$39),ABS(($X$39-$W$47)/($AA$40*$M$17*$M$19)),IF(AND($U$38>=$U$39,$X$39<$Y$39),ABS($E$22-(ABS(($X$38-$W$47)/($AA$40*$M$17*$M$19))))))))))","v":0},{"$f":"IF($X$86=\"\",\"\",$U$39-(($X$39-$AE$8)/$AA$40))","v":""},{"$f":"IF($T$86=\"Partial\",$AE$12,\"\")","v":""},{"$f":"IF($X$86=\"\",\"\",IF($W$86<$B$14,(($W$86-$B$13)*$AB$31)+$C$13,IF($W$86<$B$15,(($W$86-$B$14)*$AB$32)+$C$14,IF($W$86<$B$16,(($W$86-$B$15)*$AB$33)+$C$15,IF($W$86<$B$17,(($W$86-$B$16)*$AB$34)+$C$16,IF($W$86<$B$18,(($W$86-$B$17)*$AB$35)+$C$17,IF($W$86<$B$19,(($W$86-$B$18)*$AB$36)+$C$18)))))))","v":""},{"$f":"IF($X$86=\"\",\"\",IF($X$86<=$Y$86,\"Yes\",\"No\"))","v":""},null,"Upper Face",{"$f":"IF($T$86=\"\",\"\",IF($X$41>$AE$8,\"Dry\",IF($T$86=\"Submerged\",\"Submerged\",\"Partial\")))","v":"Submerged"},{"$f":"IF($AE$86=\"\",\"\",$U$39-(($X$39-$AE$8)/$AB$40))","v":""},{"$f":"IF($AC$86=\"Partial\",$AE$12,\"\")","v":""},{"$f":"IF($AC$86=\"Submerged\",0,IF($AC$86=\"Dry\",$F$22,($X$39-$AE$8)/$M$19))","v":0},null,null,41,6.56,"Left Bank",40.788271042893058,96.695747302711737,40.778765419147341,94.695823456583398,97.492224653001742,0,0.79647735029000444,0.79647735029000444,"",0.79647735029000444,0,2.7964011964183442,2.7964011964183442,0.16,0,0,0,0.25487275209280141,1.9999238461283397,0.17427785498542089,0,0,"","","","","","","",0.16,0,0.16,6.56,6.56]
[null,null,null,{"$f":"IF(OR($B87=\"\",$C87=\"\"),\"\",(PI()*($B87^3)/6)-$E87)","v":""},{"$f":"IF($B87=\"\",\"\",$U94)","v":""},{"$f":"IF(OR($B87=\"\",$C87=\"\"),\"\",($D87*DUWRock)+($E87*(DUWRock-SWWater)))","v":""},{"$f":"IF(OR($B87=\"\",$C87=\"\"),\"\",$Q99)","v":""},{"$f":"IF(OR($B87=\"\",$C87=\"\"),\"\",$P99)","v":""},{"$f":"IF(OR($B87=\"\",$C87=\"\"),0,IF($A87=\"Behind\",0,IF(AND($A87=\"Deadman\",$P$85<=0),0,IF(AND($A87=\"Deadman\",$P$82>=$P$85),($F87-$G87)*($P$85/$P$82),$F87-$G87))))","v":0},{"$f":"IF(OR($B87=\"\",$C87=\"\"),0,IF($A87=\"Above\",0,IF($A87=\"Deadman\",($F87-$G87)-$I87,IF(AND($A87=\"Behind\",OR($W94=\"Left Stream Bed\",$W94=\"Right Stream Bed\")),(($F87-$G87)*$E$70)-$H87,(($F87-$G87)*$E$71)-$H87))))","v":0},{"$f":"'2-Constants'!$C$6","v":1.5},{"$f":"IF($J83=0,0,IF($P$85<=0,0,IF($P$82>=$P$85,-J$83*($P$85/$P$82),-$J83)))","v":0},{"$f":"-($J83+$L87)","v":0},null,"Actual Horizontal Resistance (lbf)",{"$f":"ABS($L$67+$L$68+(IF($L$69<0,$L$69,0))+$L$70)","v":8019.1725884856578},null,null,"Centerline",{"$f":"IF(OR($E$22=\"\",$F$22=\"\",$F$25=\"\",$G$25=\"\"),\"\",IF($X$43<=$AE$12,\"Submerged\",IF($X$42>=$AE$12,\"Dry\",\"Partial\")))","v":"Submerged"},{"$f":"IF($X$87=\"\",\"None\",IF($W$87<$B$14,\"Left Floodplain\",IF($W$87<$B$15,\"Left Bank\",IF($W$87<$B$16,\"Left Stream Bed\",IF($W$87<$B$17,\"Right Stream Bed\",IF($W$87<$B$18,\"Right Bank\",\"Right Floodplain\"))))))","v":"None"},{"$f":"IF($U$47=0,0,IF(OR($B$25=0,$B$25=180,$B$25=360),$E$22-ABS(($X$39-$W$47)/$M$20),IF(AND($U$38<=$U$39,$X$38>=$Y$38),ABS(($X$38-$W$47)/($AA$40*$M$17*$M$19)),IF(AND($U$38<=$U$39,$X$38<$Y$38),ABS($E$22-(ABS(($X$38-$W$47)/($AA$40*$M$17*$M$19)))),IF(AND($U$38>$U$39,$X$39>=$Y$39),ABS(($X$39-$W$47)/($AA$40*$M$17*$M$19)),IF(AND($U$38>=$U$39,$X$39<$Y$39),ABS($E$22-(ABS(($X$38-$W$47)/($AA$40*$M$17*$M$19))))))))))","v":0},{"$f":"IF($X$87=\"\",\"\",$U$43-(($X$43-$AE$8)/$AA$40))","v":""},{"$f":"IF($T$87=\"Partial\",$AE$12,\"\")","v":""},{"$f":"IF($X$87=\"\",\"\",IF($W$87<$B$14,(($W$87-$B$13)*$AB$31)+$C$13,IF($W$87<$B$15,(($W$87-$B$14)*$AB$32)+$C$14,IF($W$87<$B$16,(($W$87-$B$15)*$AB$33)+$C$15,IF($W$87<$B$17,(($W$87-$B$16)*$AB$34)+$C$16,IF($W$87<$B$18,(($W$87-$B$17)*$AB$35)+$C$17,IF($W$87<$B$19,(($W$87-$B$18)*$AB$36)+$C$18)))))))","v":""},{"$f":"IF($X$87=\"\",\"\",IF($X$87<=$Y$87,\"Yes\",\"No\"))","v":""},null,"Lower Face",{"$f":"IF($T$88=\"\",\"\",IF($X$40>=$AE$8,\"Dry\",IF($X$38<=$AE$8,\"Submerged\",\"Partial\")))","v":"Submerged"},{"$f":"IF($AE$87=\"\",\"\",$U$38-(($X$38-$AE$8)/$AB$40))","v":""},{"$f":"IF($AC$87=\"Partial\",$AE$12,\"\")","v":""},{"$f":"IF($AC$87=\"Submerged\",0,IF($AC$87=\"Dry\",$F$22,($X$38-$AE$8)/$M$19))","v":0},null,null,42,6.72,"Left Bank",40.875409970385768,96.694351057031994,40.86590434664005,94.694427210903655,97.47994221369801,0,0.78559115666601542,0.78559115666601542,"",0.78559115666601542,0,2.7855150027943552,2.7855150027943552,0.16,0,0,0,0.25138917013312495,1.9999238461283397,0.17427785498542089,0,0,"","","","","","","",0.16,0,0.16,6.72,6.72]
[null,null,null,{"$f":"IF(OR($B88=\"\",$C88=\"\"),\"\",(PI()*($B88^3)/6)-$E88)","v":""},{"$f":"IF($B88=\"\",\"\",$U95)","v":""},{"$f":"IF(OR($B88=\"\",$C88=\"\"),\"\",($D88*DUWRock)+($E88*(DUWRock-SWWater)))","v":""},{"$f":"IF(OR($B88=\"\",$C88=\"\"),\"\",$Q100)","v":""},{"$f":"IF(OR($B88=\"\",$C88=\"\"),\"\",$P100)","v":""},{"$f":"IF(OR($B88=\"\",$C88=\"\"),0,IF($A88=\"Behind\",0,IF(AND($A88=\"Deadman\",$P$85<=0),0,IF(AND($A88=\"Deadman\",$P$82>=$P$85),($F88-$G88)*($P$85/$P$82),$F88-$G88))))","v":0},{"$f":"IF(OR($B88=\"\",$C88=\"\"),0,IF($A88=\"Above\",0,IF($A88=\"Deadman\",($F88-$G88)-$I88,IF(AND($A88=\"Behind\",OR($W95=\"Left Stream Bed\",$W95=\"Right Stream Bed\")),(($F88-$G88)*$E$70)-$H88,(($F88-$G88)*$E$71)-$H88))))","v":0},null,{"$f":"IF($J84=0,0,IF($P$85<=0,0,IF($P$82>=$P$85,-J$84*($P$85/$P$82),-$J84)))","v":0},{"$f":"-($J84+$L88)","v":0},null,"Extra needed Horizontal Resistance (lbf)",{"$f":"$P$86-$P$87","v":-6904.3623764563417},null,null,"Bottom",{"$f":"IF(OR($E$22=\"\",$F$22=\"\",$F$25=\"\",$G$25=\"\"),\"\",IF($X$41<=$AE$12,\"Submerged\",IF($X$40>=$AE$12,\"Dry\",\"Partial\")))","v":"Submerged"},{"$f":"IF($X$88=\"\",\"None\",IF($W$88<$B$14,\"Left Floodplain\",IF($W$88<$B$15,\"Left Bank\",IF($W$88<$B$16,\"Left Stream Bed\",IF($W$88<$B$17,\"Right Stream Bed\",IF($W$88<$B$18,\"Right Bank\",\"Right Floodplain\"))))))","v":"None"},{"$f":"IF($U$47=0,0,IF(OR($B$25=0,$B$25=180,$B$25=360),$E$22-ABS(($X$39-$W$47)/$M$20),IF(AND($U$38<=$U$39,$X$38>=$Y$38),ABS(($X$38-$W$47)/($AA$40*$M$17*$M$19)),IF(AND($U$38<=$U$39,$X$38<$Y$38),ABS($E$22-(ABS(($X$38-$W$47)/($AA$40*$M$17*$M$19)))),IF(AND($U$38>$U$39,$X$39>=$Y$39),ABS(($X$39-$W$47)/($AA$40*$M$17*$M$19)),IF(AND($U$38>=$U$39,$X$39<$Y$39),ABS($E$22-(ABS(($X$38-$W$47)/($AA$40*$M$17*$M$19))))))))))","v":0},{"$f":"IF($X$88=\"\",\"\",$U$41-(($X$41-$AE$8)/$AA$40))","v":""},{"$f":"IF($T$88=\"Partial\",$AE$12,\"\")","v":""},{"$f":"IF($X$88=\"\",\"\",IF($W$88<$B$14,(($W$88-$B$13)*$AB$31)+$C$13,IF($W$88<$B$15,(($W$88-$B$14)*$AB$32)+$C$14,IF($W$88<$B$16,(($W$88-$B$15)*$AB$33)+$C$15,IF($W$88<$B$17,(($W$88-$B$16)*$AB$34)+$C$16,IF($W$88<$B$18,(($W$88-$B$17)*$AB$35)+$C$17,IF($W$88<$B$19,(($W$88-$B$18)*$AB$36)+$C$18)))))))","v":""},{"$f":"IF($X$88=\"\",\"\",IF($X$88<=$Y$88,\"Yes\",\"No\"))","v":""},null,null,null,null,null,null,null,null,43,6.88,"Left Bank",40.962548897878477,96.692954811352251,40.95304327413276,94.693030965223912,97.467659774394278,0,0.77470496304202641,0.77470496304202641,"",0.77470496304202641,0,2.7746288091703661,2.7746288091703661,0.16,0,0,0,0.24790558817344846,1.9999238461283397,0.17427785498542089,0,0,"","","","","","","",0.16,0,0.16,6.88,6.88]
[null,null,null,{"$f":"IF(OR($B89=\"\",$C89=\"\"),\"\",(PI()*($B89^3)/6)-$E89)","v":""},{"$f":"IF($B89=\"\",\"\",$U96)","v":""},{"$f":"IF(OR($B89=\"\",$C89=\"\"),\"\",($D89*DUWRock)+($E89*(DUWRock-SWWater)))","v":""},{"$f":"IF(OR($B89=\"\",$C89=\"\"),\"\",$Q101)","v":""},"",{"$f":"IF(OR($B89=\"\",$C89=\"\"),0,IF($A89=\"Behind\",0,IF(AND($A89=\"Deadman\",$P$85<=0),0,IF(AND($A89=\"Deadman\",$P$82>=$P$85),($F89-$G89)*($P$85/$P$82),$F89-$G89))))","v":0},{"$f":"IF(OR($B89=\"\",$C89=\"\"),0,IF($A89=\"Above\",0,IF($A89=\"Deadman\",($F89-$G89)-$I89,IF(AND($A89=\"Behind\",OR($W96=\"Left Stream Bed\",$W96=\"Right Stream Bed\")),(($F89-$G89)*$E$70)-$H89,(($F89-$G89)*$E$71)-$H89))))","v":0},{"$f":"I78","v":2.2593416523769854},{"$f":"-$I87","v":0},{"$f":"IF($A87=\"Deadman\",-$J87,0)","v":0},null,null,null,null,null,null,null,null,null,null,null,null,null,null,null,null,null,null,null,null,null,44,7.04,"Left Bank",41.049687825371187,96.691558565672509,41.04018220162547,94.691634719544169,97.455377335090532,0,0.76381876941802318,0.76381876941802318,"",0.76381876941802318,0,2.7637426155463629,2.7637426155463629,0.16,0,0,0,0.24442200621376742,1.9999238461283397,0.17427785498542089,0,0,"","","","","","","",0.16,0,0.16,7.04,7.04]
[null,null,null,null,null,null,null,null,null,null,{"$f":"'2-Constants'!$C$7","v":1.5},{"$f":"-$I88","v":0},{"$f":"IF($A88=\"Deadman\",-$J88,0)","v":0},null,null,null,null,null,null,null,null,null,null,null,null,null,null,null,null,null,null,null,null,null,45,7.2,"Left Bank",41.136826752863904,96.690162319992766,41.127321129118187,94.690238473864426,97.4430948957868,0,0.75293257579403416,0.75293257579403416,"",0.75293257579403416,0,2.7528564219223739,2.7528564219223739,0.16,0,0,0,0.24093842425409093,1.9999238461283397,0.17427785498542089,0,0,"","","","","","","",0.16,0,0.16,7.2,7.2]
[{"$f":"IF($A$6=\"\",\"\",$A$6)","v":"Sample1"},{"$f":"IF($A$6=\"\",\"\",$B$6)","v":"Flow Deflection"},null,{"$f":"IF(OR($B$9=\"N/A\",$B$9=\"\"),\"\",$B$9)","v":"Stacked"},{"$f":"IF($D$48=\"\",\"\",\"Log ID\")","v":"Log ID"},{"$f":"IF($D$48=\"\",\"\",$C$9)","v":"Top#3"},null,null,null,"Page 3",null,{"$f":"-$I89","v":0},{"$f":"IF($A89=\"Deadman\",-$J89,0)","v":0},null,null,null,null,null,null,null,"A = [(R - ddry)*SQRT(2Rddry - ddry2)] - R2 arccos [(R - ddry)/R]",null,null,null,null,null,null,"Boulder #1",null,"Boulder #2",null,"Boulder #3",null,null,46,7.36,"Left Bank",41.223965680356613,96.688766074313023,41.214460056610896,94.688842228184683,97.430812456483068,0,0.74204638217004515,0.74204638217004515,"",0.74204638217004515,0,2.7419702282983849,2.7419702282983849,0.16,0,0,0,0.23745484229441446,1.9999238461283397,0.17427785498542089,0,0,"","","","","","","",0.16,0,0.16,7.36,7.36]
["Interaction Forces with Adjacent Logs",null,null,null,null,null,null,null,null,null,null,{"$f":"$L$87+$L$88+$L$89+$L$90+$L$91","v":0},{"$f":"$M$87+$M$88+$M$89+$M$90+$M$91","v":0},"←Flex anchors","Ballast Boulder Calculations",null,null,null,null,null,null,null,null,null,null,null,null,"xTS (ft)","yTS (ft)","xTS (ft)","yTS (ft)","xTS (ft)","yTS (ft)",null,47,7.52,"Left Bank",41.311104607849323,96.68736982863328,41.301598984103606,94.68744598250494,97.418530017179336,0,0.73116018854605613,0.73116018854605613,"",0.73116018854605613,0,2.7310840346743959,2.7310840346743959,0.16,0,0,0,0.23397126033473797,1.9999238461283397,0.17427785498542089,0,0,"","","","","","","",0.16,0,0.16,7.52,7.52]
[null,null,null,null,null,null,"Applied Forces from other Logs",null,null,null,{"$f":"IF(OR($B$95<>\"\",$B$96<>\"\",$B$97<>\"\",$B$98<>\"\"),\"NOTE -- The page is not formatted to print the Interaction Forces\",\"\")","v":"NOTE -- The page is not formatted to print the Interaction Forces"},null,null,null,null,"xr,bot (ft)","yr,bot (ft)","yTS,bot (ft)","ysoil (ft)","dr,dry (ft)","Vr,wet (ft3)","Ar↑WSE (ft2)","Zone","dr↓Thw (ft)","Ar↓Thw (ft2)","APr (ft2)","Point 1",{"$f":"IF($P$94=\"\",0,$P$94)","v":0},{"$f":"IF($Q$94=\"\",$C$13,$Q$94)","v":99.18},{"$f":"IF($P$95=\"\",0,$P$95)","v":0},{"$f":"IF($Q$95=\"\",$C$13,$Q$95)","v":99.18},{"$f":"IF($P$96=\"\",0,$P$96)","v":0},{"$f":"IF($Q$96=\"\",$C$13,$Q$96)","v":99.18},null,48,7.68,"Left Bank",41.398243535342033,96.685973582953537,41.388737911596316,94.686049736825197,97.406247577875604,0,0.72027399492206712,0.72027399492206712,"",0.72027399492206712,0,2.7201978410504069,2.7201978410504069,0.16,0,0,0,0.23048767837506148,1.9999238461283397,0.17427785498542089,0,0,"","","","","","","",0.16,0,0.16,7.68,7.68]
["Log ID","Position","Link","cWI (ft)","FW,V (lbf)","FW,H (lbf)","FW,V (lbf)",null,"FW,H (lbf)",null,null,"Formatting",null,null,"Boulder 1",{"$f":"IF(OR($F$25=\"\",$C87=\"\"),\"\",$AE$49-(($C87*$M$19)*$M$17))","v":""},{"$f":"IF(OR($G$25=\"\",$C87=\"\"),\"\",IF($A87=\"Behind\",MIN($R94,$S94),IF($A87=\"Deadman\",(MIN($R94,$S94))-($F$22+1),$R94+$F$22)))","v":""},{"$f":"IF($P94=\"\",\"\",($AF$49+(($P94-$AE$49)*$AA$40))-($F$22/2))","v":""},{"$f":"IF($P94=\"\",\"\",IF($P94<$B$14,(($P94-$B$13)*$AB$31)+$C$13,IF($P94<$B$15,(($P94-$B$14)*$AB$32)+$C$14,IF($P94<$B$16,(($P94-$B$15)*$AB$33)+$C$15,IF($P94<$B$17,(($P94-$B$16)*$AB$34)+$C$16,IF($P94<$B$18,(($P94-$B$17)*$AB$35)+$C$17,IF($P94<$B$19,(($P94-$B$18)*$AB$36)+$C$18)))))))","v":""},{"$f":"IF($Q94=\"\",\"\",IF(($Q94+$B87-$AE$8)>=$B87,$B87,IF(($Q94+$B87)>$AE$8,($Q94+$B87)-$AE$8,0)))","v":""},{"$f":"IF($T94=\"\",\"\",IF($T94>=$B87,0,(PI()/3)*(($B87-$T94)^2)*((1.5*$B87)-($B87-$T94))))","v":""},{"$f":"IF($C87=\"\",\"\",IF($A87=\"Deadman\",0,IF($Q94>=$AE$8,PI()*(($B87/2)^2),((($B87/2)^2)*ACOS((($B87/2)-$T94)/($B87/2)))-((($B87/2)-$T94)*SQRT(2*($B87/2)*$T94-($T94^2))))))","v":""},{"$f":"IF($P94=\"\",\"\",IF(OR($C$19=\"\",$F$25=\"\",$G$25=\"\"),\"None\",IF($P94<$B$14,\"Left Floodplain\",IF($P94<$B$15,\"Left Bank\",IF($P94<$B$16,\"Left Stream Bed\",IF($P94<$B$17,\"Right Stream Bed\",IF($P94<$B$18,\"Right Bank\",\"Right Floodplain\")))))))","v":""},{"$f":"IF($Q94=\"\",\"\",IF(($Q94+$B87)<=$S94,$B87,IF($Q94>=$S94,0,$S94-$Q94)))","v":""},{"$f":"IF($C87=\"\",\"\",IF($A87=\"Deadman\",PI()*(($B87/2)^2),IF($Q94>$S94,0,((($B87/2)^2)*ACOS((($B87/2)-$X94)/($B87/2)))-((($B87/2)-$X94)*SQRT(2*($B87/2)*$X94-($X94^2))))))","v":""},{"$f":"IF($C87=\"\",\"\",IF(((PI()*(($B87/2)^2))-$V94-$Y94)<0,0,(PI()*(($B87/2)^2))-$V94-$Y94))","v":""},"Point 2",{"$f":"IF($AB$93=\"\",0,$AB$93-($B$87/4))","v":0},{"$f":"IF($AC$93=\"\",$C$13,$AC$93+($B$87/25))","v":99.18},{"$f":"IF($AD$93=\"\",0,$AD$93-($B$88/4))","v":0},{"$f":"IF($AE$93=\"\",$C$13,$AE$93+($B$88/25))","v":99.18},{"$f":"IF($AF$93=\"\",0,$AF$93-($B$89/4))","v":0},{"$f":"IF($AG$93=\"\",$C$13,$AG$93+($B$89/25))","v":99.18},null,49,7.84,"Left Bank",41.485382462834743,96.684577337273794,41.475876839089025,94.684653491145454,97.393965138571872,0,0.7093878012980781,0.7093878012980781,"",0.7093878012980781,0,2.7093116474264178,2.7093116474264178,0.16,0,0,0,0.22700409641538499,1.9999238461283397,0.17427785498542089,0,0,"","","","","","","",0.16,0,0.16,7.84,7.84]
["Foot#1","Below","Pinned",26.3,{"$f":"-'Foot#1'!E97","v":-2661.749147951145},0,{"$f":"IF(OR($E$95=\"\",$E$95=0),0,IF($C$95=\"Pinned\",ABS($E$95),IF(AND($C$95=\"Gravity\",$B$95=\"Below\",$E$95>=0),ABS($E$95),IF(AND($C$95=\"Gravity\",$B$95=\"Above\",$E$95<=0),ABS($E$95),0))))","v":2661.749147951145},{"$f":"IF($L$95=0,\"\",IF($L$95>0,CHAR(233),CHAR(234)))","v":"ê"},{"$f":"IF(OR($F$95=\"\",$F$95=0),0,IF($C$95=\"Pinned\",ABS($F$95),IF(AND($C$95=\"Gravity\",$B$95=\"Behind\",$F$95<0),ABS($F$95),IF(AND($C$95=\"Gravity\",$B$95=\"In front\",$F$95>0),ABS($F$95),0))))","v":0},{"$f":"IF($M$95=0,\"\",IF($M$95>=0,CHAR(232),CHAR(231)))","v":""},null,{"$f":"IF($G$95=0,0,$E$95)","v":-2661.749147951145},{"$f":"IF($I$95=0,0,$F$95)","v":0},null,"Boulder 2",{"$f":"IF(OR($F$25=\"\",$C88=\"\"),\"\",$AE$49-(($C88*$M$19)*$M$17))","v":""},{"$f":"IF(OR($G$25=\"\",$C88=\"\"),\"\",IF($A88=\"Behind\",MIN($R95,$S95),IF($A88=\"Deadman\",(MIN($R95,$S95))-($F$22+1),$R95+$F$22)))","v":""},{"$f":"IF($P95=\"\",\"\",($AF$49+(($P95-$AE$49)*$AA$40))-($F$22/2))","v":""},{"$f":"IF($P95=\"\",\"\",IF($P95<$B$14,(($P95-$B$13)*$AB$31)+$C$13,IF($P95<$B$15,(($P95-$B$14)*$AB$32)+$C$14,IF($P95<$B$16,(($P95-$B$15)*$AB$33)+$C$15,IF($P95<$B$17,(($P95-$B$16)*$AB$34)+$C$16,IF($P95<$B$18,(($P95-$B$17)*$AB$35)+$C$17,IF($P95<$B$19,(($P95-$B$18)*$AB$36)+$C$18)))))))","v":""},{"$f":"IF($Q95=\"\",\"\",IF(($Q95+$B88-$AE$8)>=$B88,$B88,IF(($Q95+$B88)>$AE$8,($Q95+$B88)-$AE$8,0)))","v":""},{"$f":"IF($T95=\"\",\"\",IF($T95>=$B88,0,(PI()/3)*(($B88-$T95)^2)*((1.5*$B88)-($B88-$T95))))","v":""},{"$f":"IF($C88=\"\",\"\",IF($A88=\"Deadman\",0,IF($Q95>=$AE$8,PI()*(($B88/2)^2),((($B88/2)^2)*ACOS((($B88/2)-$T95)/($B88/2)))-((($B88/2)-$T95)*SQRT(2*($B88/2)*$T95-($T95^2))))))","v":""},{"$f":"IF($P95=\"\",\"\",IF(OR($C$19=\"\",$F$25=\"\",$G$25=\"\"),\"None\",IF($P95<$B$14,\"Left Floodplain\",IF($P95<$B$15,\"Left Bank\",IF($P95<$B$16,\"Left Stream Bed\",IF($P95<$B$17,\"Right Stream Bed\",IF($P95<$B$18,\"Right Bank\",\"Right Floodplain\")))))))","v":""},{"$f":"IF($Q95=\"\",\"\",IF(($Q95+$B88)<=$S95,$B88,IF($Q95>=$S95,0,$S95-$Q95)))","v":""},{"$f":"IF($C88=\"\",\"\",IF($A88=\"Deadman\",PI()*(($B88/2)^2),IF($Q95>$S95,0,((($B88/2)^2)*ACOS((($B88/2)-$X95)/($B88/2)))-((($B88/2)-$X95)*SQRT(2*($B88/2)*$X95-($X95^2))))))","v":""},{"$f":"IF($C88=\"\",\"\",IF(((PI()*(($B88/2)^2))-$V95-$Y95)<0,0,(PI()*(($B88/2)^2))-$V95-$Y95))","v":""},"Point 3",{"$f":"IF($AB$93=\"\",0,$AB$93-($B$87/2))","v":0},{"$f":"IF($AC$93=\"\",$C$13,$AC$93+($B$87/2))","v":99.18},{"$f":"IF($AD$93=\"\",0,$AD$93-($B$88/2))","v":0},{"$f":"IF($AE$93=\"\",$C$13,$AE$93+($B$88/2))","v":99.18},{"$f":"IF($AF$93=\"\",0,$AF$93-($B$89/2))","v":0},{"$f":"IF($AG$93=\"\",$C$13,$AG$93+($B$89/2))","v":99.18},null,50,8,"Left Bank",41.572521390327452,96.683181091594051,41.563015766581735,94.683257245465711,97.381682699268126,0,0.69850160767407488,0.69850160767407488,"",0.69850160767407488,0,2.6984254538024146,2.6984254538024146,0.16,0,0,0,0.22352051445570398,1.9999238461283397,0.17427785498542089,0,0,"","","","","","","",0.16,0,0.16,8,8]
["Foot#2","Below","Pinned",11.2,{"$f":"-'Foot#2'!E97","v":-2661.749147951145},0,{"$f":"IF(OR($E$96=\"\",$E$96=0),0,IF($C$96=\"Pinned\",ABS($E$96),IF(AND($C$96=\"Gravity\",$B$96=\"Below\",$E$96>=0),ABS($E$96),IF(AND($C$96=\"Gravity\",$B$96=\"Above\",$E$96<=0),ABS($E$96),0))))","v":2661.749147951145},{"$f":"IF($L$96=0,\"\",IF($L$96>0,CHAR(233),CHAR(234)))","v":"ê"},{"$f":"IF(OR($F$96=\"\",$F$96=0),0,IF($C$96=\"Pinned\",ABS($F$96),IF(AND($C$96=\"Gravity\",$B$96=\"Behind\",$F$96<0),ABS($F$96),IF(AND($C$96=\"Gravity\",$B$96=\"In front\",$F$96>0),ABS($F$96),0))))","v":0},{"$f":"IF($M$96=0,\"\",IF($M$96>=0,CHAR(232),CHAR(231)))","v":""},null,{"$f":"IF($G$96=0,0,$E$96)","v":-2661.749147951145},{"$f":"IF($I$96=0,0,$F$96)","v":0},null,"Boulder 3",{"$f":"IF(OR($F$25=\"\",$C89=\"\"),\"\",$AE$49-(($C89*$M$19)*$M$17))","v":""},{"$f":"IF(OR($G$25=\"\",$C89=\"\"),\"\",IF($A89=\"Behind\",MIN($R96,$S96),IF($A89=\"Deadman\",(MIN($R96,$S96))-($F$22+1),$R96+$F$22)))","v":""},{"$f":"IF($P96=\"\",\"\",($AF$49+(($P96-$AE$49)*$AA$40))-($F$22/2))","v":""},{"$f":"IF($P96=\"\",\"\",IF($P96<$B$14,(($P96-$B$13)*$AB$31)+$C$13,IF($P96<$B$15,(($P96-$B$14)*$AB$32)+$C$14,IF($P96<$B$16,(($P96-$B$15)*$AB$33)+$C$15,IF($P96<$B$17,(($P96-$B$16)*$AB$34)+$C$16,IF($P96<$B$18,(($P96-$B$17)*$AB$35)+$C$17,IF($P96<$B$19,(($P96-$B$18)*$AB$36)+$C$18)))))))","v":""},{"$f":"IF($Q96=\"\",\"\",IF(($Q96+$B89-$AE$8)>=$B89,$B89,IF(($Q96+$B89)>$AE$8,($Q96+$B89)-$AE$8,0)))","v":""},{"$f":"IF($T96=\"\",\"\",IF($T96>=$B89,0,(PI()/3)*(($B89-$T96)^2)*((1.5*$B89)-($B89-$T96))))","v":""},{"$f":"IF($C89=\"\",\"\",IF($A89=\"Deadman\",0,IF($Q96>=$AE$8,PI()*(($B89/2)^2),((($B89/2)^2)*ACOS((($B89/2)-$T96)/($B89/2)))-((($B89/2)-$T96)*SQRT(2*($B89/2)*$T96-($T96^2))))))","v":""},{"$f":"IF($P96=\"\",\"\",IF(OR($C$19=\"\",$F$25=\"\",$G$25=\"\"),\"None\",IF($P96<$B$14,\"Left Floodplain\",IF($P96<$B$15,\"Left Bank\",IF($P96<$B$16,\"Left Stream Bed\",IF($P96<$B$17,\"Right Stream Bed\",IF($P96<$B$18,\"Right Bank\",\"Right Floodplain\")))))))","v":""},{"$f":"IF($Q96=\"\",\"\",IF(($Q96+$B89)<=$S96,$B89,IF($Q96>=$S96,0,$S96-$Q96)))","v":""},{"$f":"IF($C89=\"\",\"\",IF($A89=\"Deadman\",PI()*(($B89/2)^2),IF($Q96>$S96,0,((($B89/2)^2)*ACOS((($B89/2)-$X96)/($B89/2)))-((($B89/2)-$X96)*SQRT(2*($B89/2)*$X96-($X96^2))))))","v":""},{"$f":"IF($C89=\"\",\"\",IF(((PI()*(($B89/2)^2))-$V96-$Y96)<0,0,(PI()*(($B89/2)^2))-$V96-$Y96))","v":""},"Point 4",{"$f":"IF($AB$93=\"\",0,$AB$94)","v":0},{"$f":"IF($AC$97=\"\",$C$13,$AC$97-($B$87/25))","v":99.18},{"$f":"IF($AD$93=\"\",0,$AD$94)","v":0},{"$f":"IF($AE$97=\"\",$C$13,$AE$97-($B$88/25))","v":99.18},{"$f":"IF($AF$93=\"\",0,$AF$94)","v":0},{"$f":"IF($AG$97=\"\",$C$13,$AG$97-($B$89/25))","v":99.18},null,51,8.16,"Left Bank",41.659660317820162,96.681784845914308,41.650154694074445,94.681860999785968,97.369400259964394,0,0.68761541405008586,0.68761541405008586,"",0.68761541405008586,0,2.6875392601784256,2.6875392601784256,0.16,0,0,0,0.22003693249602749,1.9999238461283397,0.17427785498542089,0,0,"","","","","","","",0.16,0,0.16,8.16,8.16]
[null,null,null,null,null,null,{"$f":"IF(OR($E$97=\"\",$E$97=0),0,IF($C$97=\"Pinned\",ABS($E$97),IF(AND($C$97=\"Gravity\",$B$97=\"Below\",$E$97>=0),ABS($E$97),IF(AND($C$97=\"Gravity\",$B$97=\"Above\",$E$97<=0),ABS($E$97),0))))","v":0},{"$f":"IF($L$97=0,\"\",IF($L$97>0,CHAR(233),CHAR(234)))","v":""},{"$f":"IF(OR($F$97=\"\",$F$97=0),0,IF($C$97=\"Pinned\",ABS($F$97),IF(AND($C$97=\"Gravity\",$B$97=\"Behind\",$F$97<0),ABS($F$97),IF(AND($C$97=\"Gravity\",$B$97=\"In front\",$F$97>0),ABS($F$97),0))))","v":0},{"$f":"IF($M$97=0,\"\",IF($M$97>=0,CHAR(232),CHAR(231)))","v":""},null,{"$f":"IF($G$97=0,0,$E$97)","v":0},{"$f":"IF($I$97=0,0,$F$97)","v":0},null,null,null,null,null,null,null,null,null,null,null,null,null,"Point 5",{"$f":"IF($AB$93=\"\",0,$AB$93)","v":0},{"$f":"IF($AC$93=\"\",$C$13,$AC$93+$B$87)","v":99.18},{"$f":"IF($AD$93=\"\",0,$AD$93)","v":0},{"$f":"IF($AE$93=\"\",$C$13,$AE$93+$B$88)","v":99.18},{"$f":"IF($AF$93=\"\",0,$AF$93)","v":0},{"$f":"IF($AG$93=\"\",$C$13,$AG$93+$B$89)","v":99.18},null,52,8.32,"Left Bank",41.746799245312872,96.680388600234565,41.737293621567161,94.680464754106225,97.357117820660662,0,0.67672922042609684,0.67672922042609684,"",0.67672922042609684,0,2.6766530665544366,2.6766530665544366,0.16,0,0,0,0.216553350536351,1.9999238461283397,0.17427785498542089,0,0,"","","","","","","",0.16,0,0.16,8.32,8.32]
[null,null,null,null,null,null,{"$f":"IF(OR($E$98=\"\",$E$98=0),0,IF($C$98=\"Pinned\",ABS($E$98),IF(AND($C$98=\"Gravity\",$B$98=\"Below\",$E$98>=0),ABS($E$98),IF(AND($C$98=\"Gravity\",$B$98=\"Above\",$E$98<=0),ABS($E$98),0))))","v":0},{"$f":"IF($L$98=0,\"\",IF($L$98>0,CHAR(233),CHAR(234)))","v":""},{"$f":"IF(OR($F$98=\"\",$F$98=0),0,IF($C$98=\"Pinned\",ABS($F$98),IF(AND($C$98=\"Gravity\",$B$98=\"Behind\",$F$98<0),ABS($F$98),IF(AND($C$98=\"Gravity\",$B$98=\"In front\",$F$98>0),ABS($F$98),0))))","v":0},{"$f":"IF($M$98=0,\"\",IF($M$98>=0,CHAR(232),CHAR(231)))","v":""},null,{"$f":"IF($G$98=0,0,$E$98)","v":0},{"$f":"IF($I$98=0,0,$F$98)","v":0},null,null,"FD,r (lbf)","FL,r (lbf)",null,null,null,"Soil Anchor Zone Calculation",null,null,null,null,null,"Point 6",{"$f":"IF($AB$93=\"\",0,$AB$93+($B$87/4))","v":0},{"$f":"IF($AC$93=\"\",$C$13,$AC$96)","v":99.18},{"$f":"IF($AD$93=\"\",\"\",$AD$93+($B$88/4))","v":0},{"$f":"IF($AE$93=\"\",$C$13,$AE$96)","v":99.18},{"$f":"IF($AF$93=\"\",0,$AF$93+($B$89/4))","v":0},{"$f":"IF($AG$93=\"\",$C$13,$AG$96)","v":99.18},null,53,8.48,"Left Bank",41.833938172805588,96.678992354554822,41.824432549059871,94.679068508426482,97.34483538135693,0,0.66584302680210783,0.66584302680210783,"",0.66584302680210783,0,2.6657668729304476,2.6657668729304476,0.16,0,0,0,0.21306976857667451,1.9999238461283397,0.17427785498542089,0,0,"","","","","","","",0.16,0,0.16,8.48,8.48]
[null,null,null,null,null,null,null,null,null,null,null,{"$f":"$L$95+$L$96+$L$97+$L$98","v":-5323.49829590229},{"$f":"$M$95+$M$96+$M$97+$M$98","v":0},null,"Boulder 1",{"$f":"IF(OR($F$25=\"\",$C87=\"\"),\"\",IF($A87=\"Behind\",0.5*CDrock*$Z94*SWWater*($J$6^2)/(2*g),CDrock*$Z94*SWWater*($J$6^2)/(2*g)))","v":""},{"$f":"IF(OR($F$25=\"\",$C87=\"\"),\"\",IF($A87=\"Behind\",0.5*CLrock*$Z94*SWWater*(($J$6^2)/(2*g)),CLrock*$Z94*SWWater*(($J$6^2)/(2*g))))","v":""},null,null,null,null,"xr,bot (ft)","Zone",null,null,null,"Point 7",{"$f":"IF($AB$93=\"\",0,$AB$93+($B$87/2))","v":0},{"$f":"IF($AC$93=\"\",$C$13,$AC$95)","v":99.18},{"$f":"IF($AD$93=\"\",0,$AD$93+($B$88/2))","v":0},{"$f":"IF($AE$93=\"\",$C$13,$AE$95)","v":99.18},{"$f":"IF($AF$93=\"\",\"\",$AF$93+($B$89/2))","v":0},{"$f":"IF($AG$93=\"\",$C$13,$AG$95)","v":99.18},null,54,8.64,"Left Bank",41.921077100298298,96.677596108875079,41.911571476552581,94.677672262746739,97.332552942053198,0,0.65495683317811881,0.65495683317811881,"",0.65495683317811881,0,2.6548806793064585,2.6548806793064585,0.16,0,0,0,0.20958618661699802,1.9999238461283397,0.17427785498542089,0,0,"","","","","","","",0.16,0,0.16,8.64,8.64]
[null,null,null,null,null,null,null,null,null,null,null,null,null,null,"Boulder 2",{"$f":"IF(OR($F$25=\"\",$C88=\"\"),\"\",IF($A88=\"Behind\",0.5*CDrock*$Z95*SWWater*($J$6^2)/(2*g),CDrock*$Z95*SWWater*($J$6^2)/(2*g)))","v":""},{"$f":"IF(OR($F$25=\"\",$C88=\"\"),\"\",IF($A88=\"Behind\",0.5*CLrock*$Z95*SWWater*(($J$6^2)/(2*g)),CLrock*$Z95*SWWater*(($J$6^2)/(2*g))))","v":""},null,null,null,"Anchor 1",{"$f":"IF(OR($F$25=\"\",$H83=\"\"),\"\",$AE$49-(($H83*$M$19)*$M$17))","v":""},{"$f":"IF($V100=\"\",\"\",IF(OR($C$19=\"\",$F$25=\"\",$G$25=\"\"),\"None\",IF($V100<$B$14,\"Bank\",IF($V100<$B$15,\"Bank\",IF($V100<$B$16,\"Bed\",IF($V100<$B$17,\"Bed\",IF($V100<$B$18,\"Bank\",\"Bank\")))))))","v":""},null,null,null,"Point 8",{"$f":"IF($AB$93=\"\",0,$AB$98)","v":0},{"$f":"IF($AC$93=\"\",$C$13,$AC$94)","v":99.18},{"$f":"IF($AD$93=\"\",0,$AD$98)","v":0},{"$f":"IF($AE$93=\"\",$C$13,$AE$94)","v":99.18},{"$f":"IF($AF$93=\"\",0,$AF$98)","v":0},{"$f":"IF($AG$93=\"\",$C$13,$AG$94)","v":99.18},null,55,8.8000000000000007,"Left Bank",42.008216027791008,96.676199863195336,41.998710404045291,94.676276017066996,97.320270502749452,0,0.64407063955411559,0.64407063955411559,"",0.64407063955411559,0,2.6439944856824553,2.6439944856824553,0.16,0,0,0,0.206102604657317,1.9999238461283397,0.17427785498542089,0,0,"","","","","","","",0.16,0,0.16,8.8000000000000007,8.8000000000000007]
[null,null,null,null,null,null,null,null,null,null,null,null,null,null,"Boulder 3",{"$f":"IF(OR($F$25=\"\",$C89=\"\"),\"\",IF($A89=\"Behind\",0.5*CDrock*$Z96*SWWater*($J$6^2)/(2*g),CDrock*$Z96*SWWater*($J$6^2)/(2*g)))","v":""},{"$f":"IF(OR($F$25=\"\",$C89=\"\"),\"\",IF($A89=\"Behind\",0.5*CLrock*$Z96*SWWater*(($J$6^2)/(2*g)),CLrock*$Z96*SWWater*(($J$6^2)/(2*g))))","v":""},null,null,null,"Anchor 2",{"$f":"IF(OR($F$25=\"\",$H84=\"\"),\"\",$AE$49-(($H84*$M$19)*$M$17))","v":""},{"$f":"IF($V101=\"\",\"\",IF(OR($C$19=\"\",$F$25=\"\",$G$25=\"\"),\"None\",IF($V101<$B$14,\"Bank\",IF($V101<$B$15,\"Bank\",IF($V101<$B$16,\"Bed\",IF($V101<$B$17,\"Bed\",IF($V101<$B$18,\"Bank\",\"Bank\")))))))","v":""},null,null,null,"Point 9",{"$f":"IF($AB$93=\"\",0,$AB$93)","v":0},{"$f":"IF($AC$93=\"\",$C$13,$AC$93)","v":99.18},{"$f":"IF($AD$93=\"\",0,$AD$93)","v":0},{"$f":"IF($AE$93=\"\",$C$13,$AE$93)","v":99.18},{"$f":"IF($AF$93=\"\",0,$AF$93)","v":0},{"$f":"IF($AG$93=\"\",$C$13,$AG$93)","v":99.18},null,56,8.9600000000000009,"Left Bank",42.095354955283717,96.674803617515593,42.085849331538,94.674879771387253,97.30798806344572,0,0.63318444593012657,0.63318444593012657,"",0.63318444593012657,0,2.6331082920584663,2.6331082920584663,0.16,0,0,0,0.20261902269764051,1.9999238461283397,0.17427785498542089,0,0,"","","","","","","",0.16,0,0.16,8.9600000000000009,8.9600000000000009]
[null,null,null,null,null,null,null,null,null,null,null,null,null,null,null,null,null,null,null,null,null,null,null,null,null,null,null,null,null,null,null,null,null,null,57,9.1199999999999992,"Left Bank",42.182493882776427,96.67340737183585,42.17298825903071,94.67348352570751,97.295705624141988,0,0.62229825230613756,0.62229825230613756,"",0.62229825230613756,0,2.6222220984344773,2.6222220984344773,0.16,0,0,0,0.19913544073796402,1.9999238461283397,0.17427785498542089,0,0,"","","","","","","",0.16,0,0.16,9.1199999999999992,9.1199999999999992]
[null,null,null,null,null,null,null,null,null,null,null,null,null,null,null,null,null,null,null,null,null,null,null,null,null,null,null,"Anchor #1",null,null,null,"Soil Ballast #1",null,null,58,9.2799999999999994,"Left Bank",42.269632810269137,96.672011126156107,42.26012718652342,94.672087280027768,97.283423184838256,0,0.61141205868214854,0.61141205868214854,"",0.61141205868214854,0,2.6113359048104883,2.6113359048104883,0.16,0,0,0,0.19565185877828753,1.9999238461283397,0.17427785498542089,0,0,"","","","","","","",0.16,0,0.16,9.2799999999999994,9.2799999999999994]
[null,null,null,null,null,null,null,null,null,null,null,null,null,null,null,null,null,null,null,null,null,null,null,null,null,null,null,"xTS (ft)","yTS (ft)",null,null,"xTS (ft)","yTS (ft)",null,59,9.44,"Left Bank",42.356771737761846,96.670614880476364,42.347266114016129,94.670691034348025,97.271140745534524,0,0.60052586505815952,0.60052586505815952,"",0.60052586505815952,0,2.6004497111864993,2.6004497111864993,0.16,0,0,0,0.19216827681861104,1.9999238461283397,0.17427785498542089,0,0,"","","","","","","",0.16,0,0.16,9.44,9.44]
[null,null,null,null,null,null,null,null,null,null,null,null,null,null,null,null,null,null,null,null,null,null,null,null,null,null,"Point 1",{"$f":"IF(OR($F$25=\"\",$H83=\"\"),0,$AE$49-(($H83*$M$19)*$M$17))","v":0},{"$f":"IF(OR($AB105=\"\",$AB$105=0),$C$13,($AF$49+(($AB105-$AE$49)*$AA$40))-($F$22/2))","v":99.18},null,"Point 1",{"$f":"IF(OR($F$25=\"\",$C83=\"\"),0,($AE$49-(($C83*$M$19)*$M$17))+(ABS(2*$M$17*$M$19)))","v":0},{"$f":"IF(OR($AF105=\"\",$AF$105=0),$C$13,($AF$49+(($AF105-$AE$49)*$AA$40))+($F$22/2))","v":99.18},null,60,9.6,"Left Bank",42.443910665254563,96.669218634796621,42.434405041508839,94.669294788668282,97.258858306230792,0,0.58963967143417051,0.58963967143417051,"",0.58963967143417051,0,2.5895635175625102,2.5895635175625102,0.16,0,0,0,0.18868469485893458,1.9999238461283397,0.17427785498542089,0,0,"","","","","","","",0.16,0,0.16,9.6,9.6]
[null,null,null,null,null,null,null,null,null,null,null,null,null,null,null,null,null,null,null,null,null,null,null,null,null,null,"Point 2",{"$f":"IF($AB105=\"\",0,$AB105)","v":0},{"$f":"IF(OR($AC105=\"\",$AB$105=0),$C$13,$AC105-4)","v":99.18},null,"Point 2",{"$f":"IF($AF105=\"\",0,$AF105)","v":0},{"$f":"IF(OR($AG105=\"\",$AF$105=0),$C$13,IF($AG$105>$AG$108,$AG105+2.25,$AG$108+2.25))","v":99.18},null,61,9.76,"Left Bank",42.531049592747266,96.667822389116878,42.521543969001556,94.667898542988539,97.246575866927046,0,0.57875347781016728,0.57875347781016728,"",0.57875347781016728,0,2.578677323938507,2.578677323938507,0.16,0,0,0,0.18520111289925353,1.9999238461283397,0.17427785498542089,0,0,"","","","","","","",0.16,0,0.16,9.76,9.76]
[null,null,null,null,null,null,null,null,null,null,null,null,null,null,null,null,null,null,null,null,null,null,null,null,null,null,null,null,null,null,"Point 3",{"$f":"IF(OR($F$25=\"\",$C83=\"\"),0,($AE$49-(($C83*$M$19)*$M$17))-(ABS(2*$M$17*$M$19)))","v":0},{"$f":"IF(OR($AG106=\"\",$AF$105=0),$C$13,$AG106)","v":99.18},null,62,9.92,"Left Bank",42.618188520239983,96.666426143437135,42.608682896494265,94.666502297308796,97.234293427623314,0,0.56786728418617827,0.56786728418617827,"",0.56786728418617827,0,2.567791130314518,2.567791130314518,0.16,0,0,0,0.18171753093957704,1.9999238461283397,0.17427785498542089,0,0,"","","","","","","",0.16,0,0.16,9.92,9.92]
[null,null,null,null,null,null,null,null,null,null,null,null,null,null,null,null,null,null,null,null,null,null,null,null,null,null,null,"Anchor #2",null,null,"Point 4",{"$f":"IF($AF105=\"\",0,$AF107)","v":0},{"$f":"IF(OR($AG105=\"\",$AF$105=0),$C$13,$AG105-((ABS($AF$105-$AF$108))*$AA$40))","v":99.18},null,63,10.08,"Left Bank",42.705327447732692,96.665029897757393,42.695821823986975,94.665106051629053,97.222010988319582,0,0.55698109056218925,0.55698109056218925,"",0.55698109056218925,0,2.556904936690529,2.556904936690529,0.16,0,0,0,0.17823394897990055,1.9999238461283397,0.17427785498542089,0,0,"","","","","","","",0.16,0,0.16,10.08,10.08]
[null,null,null,null,null,null,null,null,null,null,null,null,null,null,null,null,null,null,null,null,null,null,null,null,null,null,null,"xTS (ft)","yTS (ft)",null,null,null,null,null,64,10.24,{"$f":"IF(OR($C$19=\"\",$F$25=\"\",$G$25=\"\"),\"None\",IF(AL109<$B$14,\"Left Floodplain\",IF(AL109<$B$15,\"Left Bank\",IF(AL109<$B$16,\"Left Stream Bed\",IF(AL109<$B$17,\"Right Stream Bed\",IF(AL109<$B$18,\"Right Bank\",\"Right Floodplain\"))))))","v":"Left Bank"},42.792466375225402,96.66363365207765,42.782960751479685,94.66370980594931,97.20972854901585,{"$f":"IF(OR($AP109<$AE$12,$AP109<=$AM109),0,IF(OR($AP109>=$AE$12,$AM109>=$AE$12),$AP109-$AM109-$AR109,$AP109-$AE$12))","v":0},{"$f":"IF($AP109<=$AM109,0,IF($AM109>=$AE$12,0,IF($AP109<=$AE$12,$AP109-$AM109,$AE$12-$AM109)))","v":0.54609489693820024},0.54609489693820024,"",0.54609489693820024,0,{"$f":"IF($AP109<=$AO109,0,IF($AO109>=$AE$12,0,IF($AP109<=$AE$12,$AP109-$AO109,$AE$12-$AO109)))","v":2.54601874306654},{"$f":"IF(AP109<=AO109,0,AP109-AO109)","v":2.54601874306654},{"$f":"IF($AS109=0,0,IF(OR($AJ109=0,$AJ109=$E$22),$AJ$46/2,$AJ$46))","v":0.16},{"$f":"IF(OR($AK109=\"Left Stream Bed\",$AK109=\"Right Stream Bed\"),$F$22*$AQ109*$AY109,0)","v":0},{"$f":"IF(OR($AK109=\"Left Stream Bed\",$AK109=\"Right Stream Bed\"),$F$22*$AR109*$AY109,0)","v":0},{"$f":"IF(OR($AK109=\"Left Floodplain\",$AK109=\"Left Bank\",$AK109=\"Right Bank\",$AK109=\"Right Floodplain\"),$F$22*$AQ109*$AY109,0)","v":0},{"$f":"IF(OR($AK109=\"Left Floodplain\",$AK109=\"Left Bank\",$AK109=\"Right Bank\",$AK109=\"Right Floodplain\"),$F$22*$AR109*$AY109,0)","v":0.17475036702022409},{"$f":"AX109-AS109","v":1.9999238461283397},0.17427785498542089,0,{"$f":"IF(OR($AJ109=0,$AJ109=$E$22),($BF109*$AJ$46/2)*ABS($M$17),$BF109*$AJ$46*ABS($M$17))","v":0},{"$f":"IF(OR($AM109<$AP109,$AO109>$AE$8),\"\",IF(OR($AJ109=0,$AJ109=$E$22),$AJ$46/2,$AJ$46))","v":""},"","",{"$f":"IF($BJ109=\"\",\"\",IF(OR($BJ109>($F$22/2),$BJ109=0),0,0.45-($BJ109*0.45/($F$22/2))))","v":""},{"$f":"IF($BK109=\"\",\"\",IF($BK109>0,$AJ109,\"\"))","v":""},"","",{"$f":"IF($AO109=0,0,IF($AO109>$AP109,0,IF(OR($AJ109=0,$AJ109=$E$22),$AJ$46/2,$AJ$46)))","v":0.16},{"$f":"IF(AND($BO109>0,OR($AK109=\"Left Stream Bed\",$AK109=\"Right Stream Bed\")),$BO109,0)","v":0},{"$f":"IF(AND($BO109>0,OR($AK109=\"Left Floodplain\",$AK109=\"Left Bank\",$AK109=\"Right Bank\",$AK109=\"Right Floodplain\")),$BO109,0)","v":0.16},{"$f":"IF($BO109>0,$AJ109,\"\")","v":10.24},10.24]
[null,null,null,null,null,null,null,null,null,null,null,null,null,null,null,null,null,null,null,null,null,null,null,null,null,null,"Point 1",{"$f":"IF(OR($F$25=\"\",$H84=\"\"),0,$AE$49-(($H84*$M$19)*$M$17))","v":0},{"$f":"IF(OR($AB$110=0,$AB110=\"\"),$C$13,($AF$49+(($AB110-$AE$49)*$AA$40))-($F$22/2))","v":99.18},null,null,"Log Interactions",null,null,65,{"$f":"($AI110/$AI$245)*$AJ$245","v":10.4},"Left Bank",42.879605302718112,96.662237406397907,{"$f":"$AN$45+ABS(AJ110*$M$19*$M$17)","v":42.870099678972394},94.662313560269567,97.197446109712118,0,0.53520870331421122,{"$f":"IF(AP110<=AM110,0,AP110-AM110)","v":0.53520870331421122},{"$f":"IF(OR($AS110=\"\",$AS110=0),\"\",IF(OR($AK110=\"Left Stream Bed\",$AK110=\"Right Stream Bed\"),$AS110,\"\"))","v":""},{"$f":"IF(OR($AS110=\"\",$AS110=0),\"\",IF(OR($AK110=\"Left Floodplain\",$AK110=\"Left Bank\",$AK110=\"Right Bank\",$AK110=\"Right Floodplain\"),$AS110,\"\"))","v":0.53520870331421122},{"$f":"IF(OR($AP110<$AE$12,$AP110<=$AO110),0,IF($AO110>=$AE$12,$AP110-$AO110,$AP110-$AE$12))","v":0},2.535132549442551,2.535132549442551,0.16,0,0,0,0.1712667850605476,1.9999238461283397,{"$f":"$BD110*$AJ$46*ABS($M$17)","v":0.17427785498542089},{"$f":"AV110-AQ110","v":0},0,"",{"$f":"IF($BH110=\"\",\"\",IF($BH110>0,$AJ110,\"\"))","v":""},{"$f":"IF($BH110=\"\",\"\",IF(OR(($AO110-$AP110)<0,$AO$45>=$AE$8),0,($AO110-$AP110)))","v":""},"","",{"$f":"IF($BH110=\"\",\"\",IF(OR(($AM110-$AP110)<0,$AM110>=$AE$8),\"\",($AE$8-($AM110-(($F$22/2)/$M$19)))))","v":""},"",0.16,0,0.16,10.4,{"$f":"IF($AY110>0,$AJ110,\"\")","v":10.4}]
[null,null,null,null,null,null,null,null,null,null,null,null,null,null,null,null,null,null,null,null,null,null,null,null,null,null,"Point 2",{"$f":"IF($AB110=\"\",0,$AB110)","v":0},{"$f":"IF(OR($AB$110=0,$AC110=\"\"),$C$13,$AC110-4)","v":99.18},null,null,"xTS (ft)","yTS (ft)",null,66,10.56,"Left Bank",42.966744230210821,{"$f":"AM110+((AL111-AL110)*$AA$40)","v":96.660841160718164},42.957238606465104,{"$f":"AO110+((AN111-AN110)*$AA$40)","v":94.660917314589824},{"$f":"IF($AL111<$B$14,(($AL111-$B$13)*$AB$31)+$C$13,IF($AL111<$B$15,(($AL111-$B$14)*$AB$32)+$C$14,IF($AL111<$B$16,(($AL111-$B$15)*$AB$33)+$C$15,IF($AL111<$B$17,(($AL111-$B$16)*$AB$34)+$C$16,IF($AL111<$B$18,(($AL111-$B$17)*$AB$35)+$C$17,IF($AL111<$B$19,(($AL111-$B$18)*$AB$36)+$C$18))))))","v":97.185163670408386},0,0.5243225096902222,0.5243225096902222,"",0.5243225096902222,0,2.5242463558185619,2.5242463558185619,0.16,0,0,0,0.16778320310087111,1.9999238461283397,0.17427785498542089,0,0,"","","","","","",{"$f":"IF($BM111=\"\",\"\",(((PI()^2)/32)*($B$66^-6)*EXP(-($BM111/$F$22)/(2*($B$66^2)))))","v":""},0.16,0,0.16,10.56,10.56]
[null,null,null,null,null,null,null,null,null,null,null,null,null,null,null,null,null,null,null,null,null,null,null,null,null,null,null,null,null,null,"Point 1",{"$f":"IF(OR($F$25=\"\",$C90=\"\"),0,($AE$49-(($C90*$M$19)*$M$17))+(ABS(2*$M$17*$M$19)))","v":0},{"$f":"IF(OR($AF112=\"\",$AF$105=0),$C$13,($AF$49+(($AF112-$AE$49)*$AA$40))+($F$22/2))","v":99.18},null,67,10.72,"Left Bank",{"$f":"$AL$45+ABS(AJ112*$M$19*$M$17)","v":43.053883157703531},96.659444915038421,43.044377533957814,94.659521068910081,97.17288123110464,0,0.51343631606621898,0.51343631606621898,"",0.51343631606621898,0,2.5133601621945587,2.5133601621945587,0.16,0,0,0,0.16429962114119007,1.9999238461283397,0.17427785498542089,0,0,"","","","","","","",0.16,0,0.16,10.72,10.72]
[null,null,null,null,null,null,null,null,null,null,null,null,null,null,null,null,null,null,null,null,null,null,null,null,null,null,null,null,null,null,"Point 2",{"$f":"IF($AF112=\"\",0,$AF112)","v":0},{"$f":"IF(OR($AG112=\"\",$AF$105=0),$C$13,IF($AG$105>$AG$108,$AG112+2.25,$AG$108+2.25))","v":99.18},null,68,10.88,"Left Bank",43.141022085196241,96.658048669358678,43.131516461450531,94.658124823230338,97.160598791800908,0,0.50255012244222996,0.50255012244222996,"",0.50255012244222996,0,2.5024739685705697,2.5024739685705697,0.16,0,0,0,0.1608160391815136,1.9999238461283397,0.17427785498542089,0,0,"","","","","","","",0.16,0,0.16,10.88,10.88]
[null,null,null,null,null,null,null,null,null,null,null,null,null,null,null,null,null,null,null,null,null,null,null,null,null,null,null,null,null,null,"Point 3",{"$f":"IF(OR($F$25=\"\",$C90=\"\"),0,($AE$49-(($C90*$M$19)*$M$17))-(ABS(2*$M$17*$M$19)))","v":0},{"$f":"IF(OR($AG113=\"\",$AF$105=0),$C$13,$AG113)","v":99.18},null,69,11.04,"Left Bank",43.228161012688957,96.656652423678935,43.218655388943233,94.656728577550595,97.148316352497176,0,0.49166392881824095,0.49166392881824095,"",0.49166392881824095,0,2.4915877749465807,2.4915877749465807,0.16,0,0,0,0.15733245722183711,1.9999238461283397,0.17427785498542089,0,0,"","","","","","","",0.16,0,0.16,11.04,11.04]
[null,null,null,null,null,null,null,null,null,null,null,null,null,null,null,null,null,null,null,null,null,null,null,null,null,null,null,null,null,null,"Point 4",{"$f":"IF($AF112=\"\",0,$AF114)","v":0},{"$f":"IF(OR($AG112=\"\",$AF$105=0),$C$13,$AG112-((ABS($AF$105-$AF$108))*$AA$40))","v":99.18},null,70,11.2,"Left Bank",43.315299940181667,96.655256177999192,43.30579431643595,94.655332331870852,97.136033913193444,0,0.48077773519425193,0.48077773519425193,"",0.48077773519425193,0,2.4807015813225917,2.4807015813225917,0.16,0,0,0,0.15384887526216062,1.9999238461283397,0.17427785498542089,0,0,"","","","","","","",0.16,0,0.16,11.2,11.2]
[null,null,null,null,null,null,null,null,null,null,null,null,null,null,null,null,null,null,null,null,null,null,null,null,null,null,null,null,null,null,null,null,null,null,71,11.36,"Left Bank",43.402438867674377,96.653859932319449,43.39293324392866,94.653936086191109,97.123751473889712,0,0.46989154157026292,0.46989154157026292,"",0.46989154157026292,0,2.4698153876986026,2.4698153876986026,0.16,0,0,0,0.15036529330248413,1.9999238461283397,0.17427785498542089,0,0,"","","","","","","",0.16,0,0.16,11.36,11.36]
[null,null,null,null,null,null,null,null,null,null,null,null,null,null,null,null,null,null,null,null,null,null,null,null,null,null,null,null,null,null,null,null,null,null,72,11.52,"Left Bank",43.489577795167087,96.652463686639706,43.480072171421369,94.652539840511366,97.111469034585966,0,0.45900534794625969,0.45900534794625969,"",0.45900534794625969,0,2.4589291940745994,2.4589291940745994,0.16,0,0,0,0.14688171134280312,1.9999238461283397,0.17427785498542089,0,0,"","","","","","","",0.16,0,0.16,11.52,11.52]
[null,null,null,null,null,null,null,null,null,null,null,null,null,null,null,null,null,null,null,null,null,null,null,null,null,null,null,null,null,null,null,null,null,null,73,11.68,"Left Bank",43.576716722659796,96.651067440959963,43.567211098914079,94.651143594831623,97.099186595282234,0,0.44811915432227067,0.44811915432227067,"",0.44811915432227067,0,2.4480430004506104,2.4480430004506104,0.16,0,0,0,0.14339812938312663,1.9999238461283397,0.17427785498542089,0,0,"","","","","","","",0.16,0,0.16,11.68,11.68]
[null,null,null,null,null,null,null,null,null,null,null,null,null,null,null,null,null,null,null,null,null,null,null,null,null,null,null,null,null,null,null,null,null,null,74,11.84,"Left Bank",43.663855650152506,96.64967119528022,43.654350026406789,94.64974734915188,97.086904155978502,0,0.43723296069828166,0.43723296069828166,"",0.43723296069828166,0,2.4371568068266214,2.4371568068266214,0.16,0,0,0,0.13991454742345014,1.9999238461283397,0.17427785498542089,0,0,"","","","","","","",0.16,0,0.16,11.84,11.84]
[null,null,null,null,null,null,null,null,null,null,null,null,null,null,null,null,null,null,null,null,null,null,null,null,null,null,null,null,null,null,null,null,null,null,75,12,"Left Bank",43.750994577645216,96.648274949600477,43.741488953899498,94.648351103472137,97.07462171667477,0,0.42634676707429264,0.42634676707429264,"",0.42634676707429264,0,2.4262706132026324,2.4262706132026324,0.16,0,0,0,0.13643096546377365,1.9999238461283397,0.17427785498542089,0,0,"","","","","","","",0.16,0,0.16,12,12]
[null,null,null,null,null,null,null,null,null,null,null,null,null,null,null,null,null,null,null,null,null,null,null,null,null,null,null,null,null,null,null,null,null,null,76,12.16,"Left Bank",43.838133505137932,96.646878703920734,43.828627881392208,94.646954857792394,97.062339277371038,0,0.41546057345030363,0.41546057345030363,"",0.41546057345030363,0,2.4153844195786434,2.4153844195786434,0.16,0,0,0,0.13294738350409716,1.9999238461283397,0.17427785498542089,0,0,"","","","","","","",0.16,0,0.16,12.16,12.16]
[null,null,null,null,null,null,null,null,null,null,null,null,null,null,null,null,null,null,null,null,null,null,null,null,null,null,null,null,null,null,null,null,null,null,77,12.32,"Left Bank",43.925272432630635,96.645482458240991,43.915766808884925,94.645558612112652,97.050056838067306,0,0.40457437982631461,0.40457437982631461,"",0.40457437982631461,0,2.4044982259546543,2.4044982259546543,0.16,0,0,0,0.12946380154442066,1.9999238461283397,0.17427785498542089,0,0,"","","","","","","",0.16,0,0.16,12.32,12.32]
[null,null,null,null,null,null,null,null,null,null,null,null,null,null,null,null,null,null,null,null,null,null,null,null,null,null,null,null,null,null,null,null,null,null,78,12.48,"Left Bank",44.012411360123352,96.644086212561248,44.002905736377635,94.644162366432909,97.03777439876356,0,0.39368818620231139,0.39368818620231139,"",0.39368818620231139,0,2.3936120323306511,2.3936120323306511,0.16,0,0,0,0.12598021958473965,1.9999238461283397,0.17427785498542089,0,0,"","","","","","","",0.16,0,0.16,12.48,12.48]
[null,null,null,null,null,null,null,null,null,null,null,null,null,null,null,null,null,null,null,null,null,null,null,null,null,null,null,null,null,null,null,null,null,null,79,12.64,"Left Bank",44.099550287616061,96.642689966881505,44.090044663870344,94.642766120753166,97.025491959459828,0,0.38280199257832237,0.38280199257832237,"",0.38280199257832237,0,2.3827258387066621,2.3827258387066621,0.16,0,0,0,0.12249663762506316,1.9999238461283397,0.17427785498542089,0,0,"","","","","","","",0.16,0,0.16,12.64,12.64]
[null,null,null,null,null,null,null,null,null,null,null,null,null,null,null,null,null,null,null,null,null,null,null,null,null,null,null,null,null,null,null,null,null,null,80,12.8,"Left Bank",44.186689215108771,96.641293721201762,44.177183591363054,94.641369875073423,97.013209520156096,0,0.37191579895433335,0.37191579895433335,"",0.37191579895433335,0,2.3718396450826731,2.3718396450826731,0.16,0,0,0,0.11901305566538667,1.9999238461283397,0.17427785498542089,0,0,"","","","","","","",0.16,0,0.16,12.8,12.8]
[null,null,null,null,null,null,null,null,null,null,null,null,null,null,null,null,null,null,null,null,null,null,null,null,null,null,null,null,null,null,null,null,null,null,81,12.96,"Left Bank",44.273828142601481,96.639897475522019,44.264322518855764,94.63997362939368,97.000927080852364,0,0.36102960533034434,0.36102960533034434,"",0.36102960533034434,0,2.3609534514586841,2.3609534514586841,0.16,0,0,0,0.11552947370571019,1.9999238461283397,0.17427785498542089,0,0,"","","","","","","",0.16,0,0.16,12.96,12.96]
[null,null,null,null,null,null,null,null,null,null,null,null,null,null,null,null,null,null,null,null,null,null,null,null,null,null,null,null,null,null,null,null,null,null,82,13.12,"Left Bank",44.36096707009419,96.638501229842277,44.351461446348473,94.638577383713937,96.988644641548632,0,0.35014341170635532,0.35014341170635532,"",0.35014341170635532,0,2.3500672578346951,2.3500672578346951,0.16,0,0,0,0.1120458917460337,1.9999238461283397,0.17427785498542089,0,0,"","","","","","","",0.16,0,0.16,13.12,13.12]
[null,null,null,null,null,null,null,null,null,null,null,null,null,null,null,null,null,null,null,null,null,null,null,null,null,null,null,null,null,null,null,null,null,null,83,13.28,"Left Bank",44.4481059975869,96.637104984162534,44.438600373841183,94.637181138034194,96.9763622022449,0,0.33925721808236631,0.33925721808236631,"",0.33925721808236631,0,2.339181064210706,2.339181064210706,0.16,0,0,0,0.10856230978635723,1.9999238461283397,0.17427785498542089,0,0,"","","","","","","",0.16,0,0.16,13.28,13.28]
[null,null,null,null,null,null,null,null,null,null,null,null,null,null,null,null,null,null,null,null,null,null,null,null,null,null,null,null,null,null,null,null,null,null,84,13.44,"Left Bank",44.53524492507961,96.635708738482791,44.525739301333893,94.635784892354451,96.964079762941154,0,0.32837102445836308,0.32837102445836308,"",0.32837102445836308,0,2.3282948705867028,2.3282948705867028,0.16,0,0,0,0.10507872782667618,1.9999238461283397,0.17427785498542089,0,0,"","","","","","","",0.16,0,0.16,13.44,13.44]
[null,null,null,null,null,null,null,null,null,null,null,null,null,null,null,null,null,null,null,null,null,null,null,null,null,null,null,null,null,null,null,null,null,null,85,13.6,"Left Bank",44.622383852572327,96.634312492803048,44.612878228826602,94.634388646674708,96.951797323637422,0,0.31748483083437407,0.31748483083437407,"",0.31748483083437407,0,2.3174086769627138,2.3174086769627138,0.16,0,0,0,0.10159514586699971,1.9999238461283397,0.17427785498542089,0,0,"","","","","","","",0.16,0,0.16,13.6,13.6]
[null,null,null,null,null,null,null,null,null,null,null,null,null,null,null,null,null,null,null,null,null,null,null,null,null,null,null,null,null,null,null,null,null,null,86,13.76,"Left Bank",44.709522780065036,96.632916247123305,44.700017156319319,94.632992400994965,96.93951488433369,0,0.30659863721038505,0.30659863721038505,"",0.30659863721038505,0,2.3065224833387248,2.3065224833387248,0.16,0,0,0,9.8111563907323215E-2,1.9999238461283397,0.17427785498542089,0,0,"","","","","","","",0.16,0,0.16,13.76,13.76]
[null,null,null,null,null,null,null,null,null,null,null,null,null,null,null,null,null,null,null,null,null,null,null,null,null,null,null,null,null,null,null,null,null,null,87,13.92,"Left Bank",44.796661707557746,96.631520001443562,44.787156083812029,94.631596155315222,96.927232445029958,0,0.29571244358639603,0.29571244358639603,"",0.29571244358639603,0,2.2956362897147358,2.2956362897147358,0.16,0,0,0,9.4627981947646739E-2,1.9999238461283397,0.17427785498542089,0,0,"","","","","","","",0.16,0,0.16,13.92,13.92]
[null,null,null,null,null,null,null,null,null,null,null,null,null,null,null,null,null,null,null,null,null,null,null,null,null,null,null,null,null,null,null,null,null,null,88,14.08,"Left Bank",44.883800635050456,96.630123755763819,44.874295011304739,94.630199909635479,96.914950005726226,0,0.28482624996240702,0.28482624996240702,"",0.28482624996240702,0,2.2847500960907468,2.2847500960907468,0.16,0,0,0,9.1144399987970248E-2,1.9999238461283397,0.17427785498542089,0,0,"","","","","","","",0.16,0,0.16,14.08,14.08]
[null,null,null,null,null,null,null,null,null,null,null,null,null,null,null,null,null,null,null,null,null,null,null,null,null,null,null,null,null,null,null,null,null,null,89,14.24,"Left Bank",44.970939562543165,96.628727510084076,44.961433938797448,94.628803663955736,96.90266756642248,0,0.27394005633840379,0.27394005633840379,"",0.27394005633840379,0,2.2738639024667435,2.2738639024667435,0.16,0,0,0,8.766081802828922E-2,1.9999238461283397,0.17427785498542089,0,0,"","","","","","","",0.16,0,0.16,14.24,14.24]
[null,null,null,null,null,null,null,null,null,null,null,null,null,null,null,null,null,null,null,null,null,null,null,null,null,null,null,null,null,null,null,null,null,null,90,14.4,"Left Bank",45.058078490035875,96.627331264404333,45.048572866290158,94.627407418275993,96.890385127118748,0,0.26305386271441478,0.26305386271441478,"",0.26305386271441478,0,2.2629777088427545,2.2629777088427545,0.16,0,0,0,8.4177236068612729E-2,1.9999238461283397,0.17427785498542089,0,0,"","","","","","","",0.16,0,0.16,14.4,14.4]
[null,null,null,null,null,null,null,null,null,null,null,null,null,null,null,null,null,null,null,null,null,null,null,null,null,null,null,null,null,null,null,null,null,null,91,14.56,"Left Bank",45.145217417528585,96.62593501872459,45.135711793782868,94.62601117259625,96.878102687815016,0,0.25216766909042576,0.25216766909042576,"",0.25216766909042576,0,2.2520915152187655,2.2520915152187655,0.16,0,0,0,8.0693654108936239E-2,1.9999238461283397,0.17427785498542089,0,0,"","","","","","","",0.16,0,0.16,14.56,14.56]
[null,null,null,null,null,null,null,null,null,null,null,null,null,null,null,null,null,null,null,null,null,null,null,null,null,null,null,null,null,null,null,null,null,null,92,14.72,"Left Bank",45.232356345021302,96.624538773044847,45.222850721275577,94.624614926916507,96.865820248511284,0,0.24128147546643675,0.24128147546643675,"",0.24128147546643675,0,2.2412053215947765,2.2412053215947765,0.16,0,0,0,7.7210072149259762E-2,1.9999238461283397,0.17427785498542089,0,0,"","","","","","","",0.16,0,0.16,14.72,14.72]
[null,null,null,null,null,null,null,null,null,null,null,null,null,null,null,null,null,null,null,null,null,null,null,null,null,null,null,null,null,null,null,null,null,null,93,14.88,"Left Bank",45.319495272514004,96.623142527365104,45.309989648768294,94.623218681236764,96.853537809207552,0,0.23039528184244773,0.23039528184244773,"",0.23039528184244773,0,2.2303191279707875,2.2303191279707875,0.16,0,0,0,7.3726490189583271E-2,1.9999238461283397,0.17427785498542089,0,0,"","","","","","","",0.16,0,0.16,14.88,14.88]
[null,null,null,null,null,null,null,null,null,null,null,null,null,null,null,null,null,null,null,null,null,null,null,null,null,null,null,null,null,null,null,null,null,null,94,15.04,"Left Bank",45.406634200006721,96.621746281685361,45.397128576260997,94.621822435557021,96.84125536990382,0,0.21950908821845871,0.21950908821845871,"",0.21950908821845871,0,2.2194329343467984,2.2194329343467984,0.16,0,0,0,7.0242908229906795E-2,1.9999238461283397,0.17427785498542089,0,0,"","","","","","","",0.16,0,0.16,15.04,15.04]
[null,null,null,null,null,null,null,null,null,null,null,null,null,null,null,null,null,null,null,null,null,null,null,null,null,null,null,null,null,null,null,null,null,null,95,15.2,"Left Bank",45.493773127499431,96.620350036005618,45.484267503753713,94.620426189877278,96.828972930600074,0,0.20862289459445549,0.20862289459445549,"",0.20862289459445549,0,2.2085467407227952,2.2085467407227952,0.16,0,0,0,6.6759326270225752E-2,1.9999238461283397,0.17427785498542089,0,0,"","","","","","","",0.16,0,0.16,15.2,15.2]
[null,null,null,null,null,null,null,null,null,null,null,null,null,null,null,null,null,null,null,null,null,null,null,null,null,null,null,null,null,null,null,null,null,null,96,15.36,"Left Bank",45.58091205499214,96.618953790325875,45.571406431246423,94.619029944197536,96.816690491296342,0,0.19773670097046647,0.19773670097046647,"",0.19773670097046647,0,2.1976605470988062,2.1976605470988062,0.16,0,0,0,6.3275744310549276E-2,1.9999238461283397,0.17427785498542089,0,0,"","","","","","","",0.16,0,0.16,15.36,15.36]
[null,null,null,null,null,null,null,null,null,null,null,null,null,null,null,null,null,null,null,null,null,null,null,null,null,null,null,null,null,null,null,null,null,null,97,15.52,"Left Bank",45.66805098248485,96.617557544646132,45.658545358739133,94.617633698517793,96.80440805199261,0,0.18685050734647746,0.18685050734647746,"",0.18685050734647746,0,2.1867743534748172,2.1867743534748172,0.16,0,0,0,5.9792162350872785E-2,1.9999238461283397,0.17427785498542089,0,0,"","","","","","","",0.16,0,0.16,15.52,15.52]
[null,null,null,null,null,null,null,null,null,null,null,null,null,null,null,null,null,null,null,null,null,null,null,null,null,null,null,null,null,null,null,null,null,null,98,15.68,"Left Bank",45.75518990997756,96.616161298966389,45.745684286231842,94.61623745283805,96.792125612688878,0,0.17596431372248844,0.17596431372248844,"",0.17596431372248844,0,2.1758881598508282,2.1758881598508282,0.16,0,0,0,5.6308580391196301E-2,1.9999238461283397,0.17427785498542089,0,0,"","","","","","","",0.16,0,0.16,15.68,15.68]
[null,null,null,null,null,null,null,null,null,null,null,null,null,null,null,null,null,null,null,null,null,null,null,null,null,null,null,null,null,null,null,null,null,null,99,15.84,"Left Bank",45.842328837470269,96.614765053286646,45.832823213724552,94.614841207158307,96.779843173385146,0,0.16507812009849943,0.16507812009849943,"",0.16507812009849943,0,2.1650019662268392,2.1650019662268392,0.16,0,0,0,5.2824998431519818E-2,1.9999238461283397,0.17427785498542089,0,0,"","","","","","","",0.16,0,0.16,15.84,15.84]
[null,null,null,null,null,null,null,null,null,null,null,null,null,null,null,null,null,null,null,null,null,null,null,null,null,null,null,null,null,null,null,null,null,null,100,16,"Left Bank",45.929467764962979,96.613368807606903,45.919962141217262,94.613444961478564,96.767560734081414,0,0.15419192647451041,0.15419192647451041,"",0.15419192647451041,0,2.1541157726028501,2.1541157726028501,0.16,0,0,0,4.9341416471843334E-2,1.9999238461283397,0.17427785498542089,0,0,"","","","","","","",0.16,0,0.16,16,16]
[null,null,null,null,null,null,null,null,null,null,null,null,null,null,null,null,null,null,null,null,null,null,null,null,null,null,null,null,null,null,null,null,null,null,101,16.16,"Left Bank",46.016606692455696,96.611972561927161,46.007101068709972,94.612048715798821,96.755278294777668,0,0.14330573285050718,0.14330573285050718,"",0.14330573285050718,0,2.1432295789788469,2.1432295789788469,0.16,0,0,0,4.5857834512162299E-2,1.9999238461283397,0.17427785498542089,0,0,"","","","","","","",0.16,0,0.16,16.16,16.16]
[null,null,null,null,null,null,null,null,null,null,null,null,null,null,null,null,null,null,null,null,null,null,null,null,null,null,null,null,null,null,null,null,null,null,102,16.32,"Left Bank",46.103745619948398,96.610576316247418,46.094239996202688,94.610652470119078,96.742995855473936,0,0.13241953922651817,0.13241953922651817,"",0.13241953922651817,0,2.1323433853548579,2.1323433853548579,0.16,0,0,0,4.2374252552485815E-2,1.9999238461283397,0.17427785498542089,0,0,"","","","","","","",0.16,0,0.16,16.32,16.32]
[null,null,null,null,null,null,null,null,null,null,null,null,null,null,null,null,null,null,null,null,null,null,null,null,null,null,null,null,null,null,null,null,null,null,103,16.48,"Left Bank",46.190884547441115,96.609180070567675,46.181378923695398,94.609256224439335,96.730713416170204,0,0.12153334560252915,0.12153334560252915,"",0.12153334560252915,0,2.1214571917308689,2.1214571917308689,0.16,0,0,0,3.8890670592809332E-2,1.9999238461283397,0.17427785498542089,0,0,"","","","","","","",0.16,0,0.16,16.48,16.48]
[null,null,null,null,null,null,null,null,null,null,null,null,null,null,null,null,null,null,null,null,null,null,null,null,null,null,null,null,null,null,null,null,null,null,104,16.64,"Left Bank",46.278023474933825,96.607783824887932,46.268517851188108,94.607859978759592,96.718430976866472,0,0.11064715197854014,0.11064715197854014,"",0.11064715197854014,0,2.1105709981068799,2.1105709981068799,0.16,0,0,0,3.5407088633132848E-2,1.9999238461283397,0.17427785498542089,0,0,"","","","","","","",0.16,0,0.16,16.64,16.64]
[null,null,null,null,null,null,null,null,null,null,null,null,null,null,null,null,null,null,null,null,null,null,null,null,null,null,null,null,null,null,null,null,null,null,105,16.8,"Left Bank",46.365162402426535,96.606387579208189,46.355656778680817,94.606463733079849,96.70614853756274,0,9.9760958354551121E-2,9.9760958354551121E-2,"",9.9760958354551121E-2,0,2.0996848044828909,2.0996848044828909,0.16,0,0,0,3.1923506673456357E-2,1.9999238461283397,0.17427785498542089,0,0,"","","","","","","",0.16,0,0.16,16.8,16.8]
[null,null,null,null,null,null,null,null,null,null,null,null,null,null,null,null,null,null,null,null,null,null,null,null,null,null,null,null,null,null,null,null,null,null,106,16.96,"Left Bank",46.452301329919244,96.604991333528446,46.442795706173527,94.605067487400106,96.693866098258994,0,8.8874764730547895E-2,8.8874764730547895E-2,"",8.8874764730547895E-2,0,2.0887986108588876,2.0887986108588876,0.16,0,0,0,2.8439924713775325E-2,1.9999238461283397,0.17427785498542089,0,0,"","","","","","","",0.16,0,0.16,16.96,16.96]
[null,null,null,null,null,null,null,null,null,null,null,null,null,null,null,null,null,null,null,null,null,null,null,null,null,null,null,null,null,null,null,null,null,null,107,17.12,"Left Bank",46.539440257411954,96.603595087848703,46.529934633666237,94.603671241720363,96.681583658955262,0,7.7988571106558879E-2,7.7988571106558879E-2,"",7.7988571106558879E-2,0,2.0779124172348986,2.0779124172348986,0.16,0,0,0,2.4956342754098842E-2,1.9999238461283397,0.17427785498542089,0,0,"","","","","","","",0.16,0,0.16,17.12,17.12]
[null,null,null,null,null,null,null,null,null,null,null,null,null,null,null,null,null,null,null,null,null,null,null,null,null,null,null,null,null,null,null,null,null,null,108,17.28,"Left Bank",46.626579184904671,96.60219884216896,46.617073561158946,94.60227499604062,96.66930121965153,0,6.7102377482569864E-2,6.7102377482569864E-2,"",6.7102377482569864E-2,0,2.0670262236109096,2.0670262236109096,0.16,0,0,0,2.1472760794422358E-2,1.9999238461283397,0.17427785498542089,0,0,"","","","","","","",0.16,0,0.16,17.28,17.28]
[null,null,null,null,null,null,null,null,null,null,null,null,null,null,null,null,null,null,null,null,null,null,null,null,null,null,null,null,null,null,null,null,null,null,109,17.440000000000001,"Left Bank",46.71371811239738,96.600802596489217,46.704212488651663,94.600878750360877,96.657018780347798,0,5.6216183858580848E-2,5.6216183858580848E-2,"",5.6216183858580848E-2,0,2.0561400299869206,2.0561400299869206,0.16,0,0,0,1.7989178834745871E-2,1.9999238461283397,0.17427785498542089,0,0,"","","","","","","",0.16,0,0.16,17.440000000000001,17.440000000000001]
[null,null,null,null,null,null,null,null,null,null,null,null,null,null,null,null,null,null,null,null,null,null,null,null,null,null,null,null,null,null,null,null,null,null,110,17.600000000000001,"Left Bank",46.80085703989009,96.599406350809474,46.791351416144373,94.599482504681134,96.644736341044066,0,4.5329990234591833E-2,4.5329990234591833E-2,"",4.5329990234591833E-2,0,2.0452538363629316,2.0452538363629316,0.16,0,0,0,1.4505596875069388E-2,1.9999238461283397,0.17427785498542089,0,0,"","","","","","","",0.16,0,0.16,17.600000000000001,17.600000000000001]
[null,null,null,null,null,null,null,null,null,null,null,null,null,null,null,null,null,null,null,null,null,null,null,null,null,null,null,null,null,null,null,null,null,null,111,17.760000000000002,"Left Bank",46.8879959673828,96.598010105129731,46.878490343637083,94.598086259001391,96.632453901740334,0,3.4443796610602817E-2,3.4443796610602817E-2,"",3.4443796610602817E-2,0,2.0343676427389425,2.0343676427389425,0.16,0,0,0,1.1022014915392902E-2,1.9999238461283397,0.17427785498542089,0,0,"","","","","","","",0.16,0,0.16,17.760000000000002,17.760000000000002]
[null,null,null,null,null,null,null,null,null,null,null,null,null,null,null,null,null,null,null,null,null,null,null,null,null,null,null,null,null,null,null,null,null,null,112,17.920000000000002,"Left Bank",46.975134894875509,96.596613859449988,46.965629271129792,94.596690013321648,96.620171462436588,0,2.3557602986599591E-2,2.3557602986599591E-2,"",2.3557602986599591E-2,0,2.0234814491149393,2.0234814491149393,0.16,0,0,0,7.5384329557118693E-3,1.9999238461283397,0.17427785498542089,0,0,"","","","","","","",0.16,0,0.16,17.920000000000002,17.920000000000002]
[null,null,null,null,null,null,null,null,null,null,null,null,null,null,null,null,null,null,null,null,null,null,null,null,null,null,null,null,null,null,null,null,null,null,113,18.079999999999998,"Left Bank",47.062273822368219,96.595217613770245,47.052768198622502,94.595293767641905,96.607889023132856,0,1.2671409362610575E-2,1.2671409362610575E-2,"",1.2671409362610575E-2,0,2.0125952554909503,2.0125952554909503,0.16,0,0,0,4.054850996035384E-3,1.9999238461283397,0.17427785498542089,0,0,"","","","","","","",0.16,0,0.16,18.079999999999998,18.079999999999998]
[null,null,null,null,null,null,null,null,null,null,null,null,null,null,null,null,null,null,null,null,null,null,null,null,null,null,null,null,null,null,null,null,null,null,114,18.239999999999998,"Left Bank",47.149412749860929,96.593821368090502,47.139907126115212,94.593897521962163,96.595606583829124,0,1.7852157386215595E-3,1.7852157386215595E-3,"",1.7852157386215595E-3,0,2.0017090618669613,2.0017090618669613,0.16,0,0,0,5.7126903635889908E-4,1.9999238461283397,0.17427785498542089,0,0,"","","","","","","",0.16,0,0.16,18.239999999999998,18.239999999999998]
[null,null,null,null,null,null,null,null,null,null,null,null,null,null,null,null,null,null,null,null,null,null,null,null,null,null,null,null,null,null,null,null,null,null,115,18.399999999999999,"Left Bank",47.236551677353638,96.592425122410759,47.227046053607921,94.59250127628242,96.583324144525392,0,0,0,"","",0,1.9908228682429723,1.9908228682429723,0,0,0,0,0,1.9908228682429723,0.17348477533531215,0,0,0.16,18.399999999999999,0,0,"",5.657612955974983,0.11968223563946627,0.16,0,0.16,18.399999999999999,""]
[null,null,null,null,null,null,null,null,null,null,null,null,null,null,null,null,null,null,null,null,null,null,null,null,null,null,null,null,null,null,null,null,null,null,116,18.559999999999999,"Left Bank",47.323690604846348,96.591028876731016,47.314184981100631,94.591105030602677,96.57104170522166,0,0,0,"","",0,1.9799366746189833,1.9799366746189833,0,0,0,0,0,1.9799366746189833,0.17253612797685516,0,0,0.16,18.559999999999999,0,0,"",5.659009201654726,0.11955704584501542,0.16,0,0.16,18.559999999999999,""]
[null,null,null,null,null,null,null,null,null,null,null,null,null,null,null,null,null,null,null,null,null,null,null,null,null,null,null,null,null,null,null,null,null,null,117,18.72,"Left Bank",47.410829532339065,96.589632631051273,47.401323908593341,94.589708784922934,96.558759265917914,0,0,0,"","",0,1.96905048099498,1.96905048099498,0,0,0,0,0,1.96905048099498,0.17158748061839693,0,0,0.16,18.72,0,0,"",5.6604054473344689,0.11943198700136576,0.16,0,0.16,18.72,""]
[null,null,null,null,null,null,null,null,null,null,null,null,null,null,null,null,null,null,null,null,null,null,null,null,null,null,null,null,null,null,null,null,null,null,118,18.88,"Left Bank",47.497968459831768,96.58823638537153,47.488462836086057,94.588312539243191,96.546476826614182,0,0,0,"","",0,1.958164287370991,1.958164287370991,0,0,0,0,0,1.958164287370991,0.17063883325993995,0,0,0.16,18.88,0,0,"",5.6618016930142119,0.1193070589715402,0.16,0,0.16,18.88,""]
[null,null,null,null,null,null,null,null,null,null,null,null,null,null,null,null,null,null,null,null,null,null,null,null,null,null,null,null,null,null,null,null,null,null,119,19.04,"Left Bank",47.585107387324484,96.586840139691787,47.575601763578767,94.586916293563448,96.53419438731045,0,0,0,"","",0,1.947278093747002,1.947278093747002,0,0,0,0,0,1.947278093747002,0.16969018590148299,0,0,0.16,19.04,0,0,"",5.6631979386939548,0.11918226161870517,0.16,0,0.16,19.04,""]
[null,null,null,null,null,null,null,null,null,null,null,null,null,null,null,null,null,null,null,null,null,null,null,null,null,null,null,null,null,null,null,null,null,null,120,19.2,"Left Bank",47.672246314817194,96.585443894012045,47.662740691071477,94.585520047883705,96.521911948006718,0,0,0,"","",0,1.936391900123013,1.936391900123013,0,0,0,0,0,1.936391900123013,0.16874153854302601,0,0,0.16,19.2,0,0,"",5.6645941843736978,0.11905759480617017,0.16,0,0.16,19.2,""]
[null,null,null,null,null,null,null,null,null,null,null,null,null,null,null,null,null,null,null,null,null,null,null,null,null,null,null,null,null,null,null,null,null,null,121,19.36,"Left Bank",47.759385242309904,96.584047648332302,47.749879618564187,94.584123802203962,96.509629508702986,0,0,0,"","",0,1.925505706499024,1.925505706499024,0,0,0,0,0,1.925505706499024,0.16779289118456903,0,0,0.16,19.36,0,0,"",5.6659904300534407,0.1189330583973877,0.16,0,0.16,19.36,""]
[null,null,null,null,null,null,null,null,null,null,null,null,null,null,null,null,null,null,null,null,null,null,null,null,null,null,null,null,null,null,null,null,null,null,122,19.52,"Left Bank",47.846524169802613,96.582651402652559,47.837018546056896,94.582727556524219,96.497347069399254,0,0,0,"","",0,1.914619512875035,1.914619512875035,0,0,0,0,0,1.914619512875035,0.16684424382611204,0,0,0.16,19.52,0,0,"",5.6673866757331837,0.11880865225595313,0.16,0,0.16,19.52,""]
[null,null,null,null,null,null,null,null,null,null,null,null,null,null,null,null,null,null,null,null,null,null,null,null,null,null,null,null,null,null,null,null,null,null,123,19.68,"Left Bank",47.933663097295323,96.581255156972816,47.924157473549606,94.581331310844476,96.485064630095508,0,0,0,"","",0,1.9037333192510317,1.9037333192510317,0,0,0,0,0,1.9037333192510317,0.16589559646765381,0,0,0.16,19.68,0,0,"",5.6687829214129266,0.11868437624560428,0.16,0,0.16,19.68,""]
[null,null,null,null,null,null,null,null,null,null,null,null,null,null,null,null,null,null,null,null,null,null,null,null,null,null,null,null,null,null,null,null,null,null,124,19.84,"Left Bank",48.020802024788033,96.579858911293073,48.011296401042316,94.579935065164733,96.472782190791776,0,0,0,"","",0,1.8928471256270427,1.8928471256270427,0,0,0,0,0,1.8928471256270427,0.16494694910919686,0,0,0.16,19.84,0,0,"",5.6701791670926696,0.11856023023022172,0.16,0,0.16,19.84,""]
[null,null,null,null,null,null,null,null,null,null,null,null,null,null,null,null,null,null,null,null,null,null,null,null,null,null,null,null,null,null,null,null,null,null,125,20,"Left Bank",48.107940952280742,96.57846266561333,48.098435328535032,94.57853881948499,96.460499751488044,0,0,0,"","",0,1.8819609320030537,1.8819609320030537,0,0,0,0,0,1.8819609320030537,0.16399830175073987,0,0,0.16,20,0,0,"",5.6715754127724125,0.11843621407382839,0.16,0,0.16,20,""]
[null,null,null,null,null,null,null,null,null,null,null,null,null,null,null,null,null,null,null,null,null,null,null,null,null,null,null,null,null,null,null,null,null,null,126,20.16,"Left Bank",48.195079879773459,96.577066419933587,48.185574256027735,94.577142573805247,96.448217312184312,0,0,0,"","",0,1.8710747383790647,1.8710747383790647,0,0,0,0,0,1.8710747383790647,0.16304965439228289,0,0,0.16,20.16,0,0,"",5.6729716584521555,0.11831232764058942,0.16,0,0.16,20.16,""]
[null,null,null,null,null,null,null,null,null,null,null,null,null,null,null,null,null,null,null,null,null,null,null,null,null,null,null,null,null,null,null,null,null,null,127,20.32,"Left Bank",48.282218807266169,96.575670174253844,48.272713183520452,94.575746328125504,96.43593487288058,0,0,0,"","",0,1.8601885447550757,1.8601885447550757,0,0,0,0,0,1.8601885447550757,0.16210100703382591,0,0,0.16,20.32,0,0,"",5.6743679041318984,0.11818857079481211,0.16,0,0.16,20.32,""]
[null,null,null,null,null,null,null,null,null,null,null,null,null,null,null,null,null,null,null,null,null,null,null,null,null,null,null,null,null,null,null,null,null,null,128,20.48,{"$f":"IF(OR($C$19=\"\",$F$25=\"\",$G$25=\"\"),\"None\",IF(AL173<$B$14,\"Left Floodplain\",IF(AL173<$B$15,\"Left Bank\",IF(AL173<$B$16,\"Left Stream Bed\",IF(AL173<$B$17,\"Right Stream Bed\",IF(AL173<$B$18,\"Right Bank\",\"Right Floodplain\"))))))","v":"Left Bank"},48.369357734758879,96.574273928574101,48.359852111013161,94.574350082445761,96.423652433576848,{"$f":"IF(OR($AP173<$AE$12,$AP173<=$AM173),0,IF(OR($AP173>=$AE$12,$AM173>=$AE$12),$AP173-$AM173-$AR173,$AP173-$AE$12))","v":0},{"$f":"IF($AP173<=$AM173,0,IF($AM173>=$AE$12,0,IF($AP173<=$AE$12,$AP173-$AM173,$AE$12-$AM173)))","v":0},0,"","",0,{"$f":"IF($AP173<=$AO173,0,IF($AO173>=$AE$12,0,IF($AP173<=$AE$12,$AP173-$AO173,$AE$12-$AO173)))","v":1.8493023511310867},{"$f":"IF(AP173<=AO173,0,AP173-AO173)","v":1.8493023511310867},{"$f":"IF($AS173=0,0,IF(OR($AJ173=0,$AJ173=$E$22),$AJ$46/2,$AJ$46))","v":0},{"$f":"IF(OR($AK173=\"Left Stream Bed\",$AK173=\"Right Stream Bed\"),$F$22*$AQ173*$AY173,0)","v":0},{"$f":"IF(OR($AK173=\"Left Stream Bed\",$AK173=\"Right Stream Bed\"),$F$22*$AR173*$AY173,0)","v":0},{"$f":"IF(OR($AK173=\"Left Floodplain\",$AK173=\"Left Bank\",$AK173=\"Right Bank\",$AK173=\"Right Floodplain\"),$F$22*$AQ173*$AY173,0)","v":0},{"$f":"IF(OR($AK173=\"Left Floodplain\",$AK173=\"Left Bank\",$AK173=\"Right Bank\",$AK173=\"Right Floodplain\"),$F$22*$AR173*$AY173,0)","v":0},{"$f":"AX173-AS173","v":1.8493023511310867},0.16115235967536892,0,{"$f":"IF(OR($AJ173=0,$AJ173=$E$22),($BF173*$AJ$46/2)*ABS($M$17),$BF173*$AJ$46*ABS($M$17))","v":0},{"$f":"IF(OR($AM173<$AP173,$AO173>$AE$8),\"\",IF(OR($AJ173=0,$AJ173=$E$22),$AJ$46/2,$AJ$46))","v":0.16},20.48,0,{"$f":"IF($BJ173=\"\",\"\",IF(OR($BJ173>($F$22/2),$BJ173=0),0,0.45-($BJ173*0.45/($F$22/2))))","v":0},{"$f":"IF($BK173=\"\",\"\",IF($BK173>0,$AJ173,\"\"))","v":""},5.6757641498116413,0.11806494340094546,{"$f":"IF($AO173=0,0,IF($AO173>$AP173,0,IF(OR($AJ173=0,$AJ173=$E$22),$AJ$46/2,$AJ$46)))","v":0.16},{"$f":"IF(AND($BO173>0,OR($AK173=\"Left Stream Bed\",$AK173=\"Right Stream Bed\")),$BO173,0)","v":0},{"$f":"IF(AND($BO173>0,OR($AK173=\"Left Floodplain\",$AK173=\"Left Bank\",$AK173=\"Right Bank\",$AK173=\"Right Floodplain\")),$BO173,0)","v":0.16},{"$f":"IF($BO173>0,$AJ173,\"\")","v":20.48},""]
[null,null,null,null,null,null,null,null,null,null,null,null,null,null,null,null,null,null,null,null,null,null,null,null,null,null,null,null,null,null,null,null,null,null,129,{"$f":"($AI174/$AI$245)*$AJ$245","v":20.64},"Left Bank",48.456496662251588,96.572877682894358,{"$f":"$AN$45+ABS(AJ174*$M$19*$M$17)","v":48.446991038505871},94.572953836766018,96.411369994273102,0,0,{"$f":"IF(AP174<=AM174,0,AP174-AM174)","v":0},{"$f":"IF(OR($AS174=\"\",$AS174=0),\"\",IF(OR($AK174=\"Left Stream Bed\",$AK174=\"Right Stream Bed\"),$AS174,\"\"))","v":""},{"$f":"IF(OR($AS174=\"\",$AS174=0),\"\",IF(OR($AK174=\"Left Floodplain\",$AK174=\"Left Bank\",$AK174=\"Right Bank\",$AK174=\"Right Floodplain\"),$AS174,\"\"))","v":""},{"$f":"IF(OR($AP174<$AE$12,$AP174<=$AO174),0,IF($AO174>=$AE$12,$AP174-$AO174,$AP174-$AE$12))","v":0},1.8384161575070834,1.8384161575070834,0,0,0,0,0,1.8384161575070834,{"$f":"$BD174*$AJ$46*ABS($M$17)","v":0.16020371231691072},{"$f":"AV174-AQ174","v":0},0,0.16,{"$f":"IF($BH174=\"\",\"\",IF($BH174>0,$AJ174,\"\"))","v":20.64},{"$f":"IF($BH174=\"\",\"\",IF(OR(($AO174-$AP174)<0,$AO$45>=$AE$8),0,($AO174-$AP174)))","v":0},0,"",{"$f":"IF($BH174=\"\",\"\",IF(OR(($AM174-$AP174)<0,$AM174>=$AE$8),\"\",($AE$8-($AM174-(($F$22/2)/$M$19)))))","v":5.6771603954913843},0.11794144532358049,0.16,0,0.16,20.64,{"$f":"IF($AY174>0,$AJ174,\"\")","v":""}]
[null,null,null,null,null,null,null,null,null,null,null,null,null,null,null,null,null,null,null,null,null,null,null,null,null,null,null,null,null,null,null,null,null,null,130,20.8,"Left Bank",48.543635589744298,{"$f":"AM174+((AL175-AL174)*$AA$40)","v":96.571481437214615},48.534129965998581,{"$f":"AO174+((AN175-AN174)*$AA$40)","v":94.571557591086275},{"$f":"IF($AL175<$B$14,(($AL175-$B$13)*$AB$31)+$C$13,IF($AL175<$B$15,(($AL175-$B$14)*$AB$32)+$C$14,IF($AL175<$B$16,(($AL175-$B$15)*$AB$33)+$C$15,IF($AL175<$B$17,(($AL175-$B$16)*$AB$34)+$C$16,IF($AL175<$B$18,(($AL175-$B$17)*$AB$35)+$C$17,IF($AL175<$B$19,(($AL175-$B$18)*$AB$36)+$C$18))))))","v":96.39908755496937},0,0,0,"","",0,1.8275299638830944,1.8275299638830944,0,0,0,0,0,1.8275299638830944,0.15925506495845373,0,0,0.16,20.8,0,0,"",5.6785566411711272,{"$f":"IF($BM175=\"\",\"\",(((PI()^2)/32)*($B$66^-6)*EXP(-($BM175/$F$22)/(2*($B$66^2)))))","v":0.11781807642744978},0.16,0,0.16,20.8,""]
[null,null,null,null,null,null,null,null,null,null,null,null,null,null,null,null,null,null,null,null,null,null,null,null,null,null,null,null,null,null,null,null,null,null,131,20.96,"Left Bank",{"$f":"$AL$45+ABS(AJ176*$M$19*$M$17)","v":48.630774517237015},96.570085191534872,48.62126889349129,94.570161345406532,96.386805115665638,0,0,0,"","",0,1.8166437702591054,1.8166437702591054,0,0,0,0,0,1.8166437702591054,0.15830641759999678,0,0,0.16,20.96,0,0,"",5.6799528868508702,0.11769483657742753,0.16,0,0.16,20.96,""]
[null,null,null,null,null,null,null,null,null,null,null,null,null,null,null,null,null,null,null,null,null,null,null,null,null,null,null,null,null,null,null,null,null,null,132,21.12,"Left Bank",48.717913444729717,96.568688945855129,48.708407820984,94.568765099726789,96.374522676361906,0,0,0,"","",0,1.8057575766351164,1.8057575766351164,0,0,0,0,0,1.8057575766351164,0.1573577702415398,0,0,0.16,21.12,0,0,"",5.6813491325306131,0.11757172563852895,0.16,0,0.16,21.12,""]
[null,null,null,null,null,null,null,null,null,null,null,null,null,null,null,null,null,null,null,null,null,null,null,null,null,null,null,null,null,null,null,null,null,null,133,21.28,"Left Bank",48.805052372222434,96.567292700175386,48.79554674847671,94.567368854047047,96.362240237058174,0,0,0,"","",0,1.7948713830111274,1.7948713830111274,0,0,0,0,0,1.7948713830111274,0.15640912288308279,0,0,0.16,21.28,0,0,"",5.6827453782103561,0.11744874347591078,0.16,0,0.16,21.28,""]
[null,null,null,null,null,null,null,null,null,null,null,null,null,null,null,null,null,null,null,null,null,null,null,null,null,null,null,null,null,null,null,null,null,null,134,21.44,"Left Bank",48.892191299715137,96.565896454495643,48.882685675969427,94.565972608367304,96.349957797754442,0,0,0,"","",0,1.7839851893871383,1.7839851893871383,0,0,0,0,0,1.7839851893871383,0.15546047552462583,0,0,0.16,21.44,0,0,"",5.684141623890099,0.11732588995487067,0.16,0,0.16,21.44,""]
[null,null,null,null,null,null,null,null,null,null,null,null,null,null,null,null,null,null,null,null,null,null,null,null,null,null,null,null,null,null,null,null,null,null,135,21.6,"Left Bank",48.979330227207853,96.5645002088159,48.969824603462136,94.564576362687561,96.337675358450696,0,0,0,"","",0,1.7730989957631351,1.7730989957631351,0,0,0,0,0,1.7730989957631351,0.1545118281661676,0,0,0.16,21.6,0,0,"",5.685537869569842,0.1172031649408472,0.16,0,0.16,21.6,""]
[null,null,null,null,null,null,null,null,null,null,null,null,null,null,null,null,null,null,null,null,null,null,null,null,null,null,null,null,null,null,null,null,null,null,136,21.76,"Left Bank",49.066469154700563,96.563103963136157,49.056963530954846,94.563180117007818,96.325392919146964,0,0,0,"","",0,1.7622128021391461,1.7622128021391461,0,0,0,0,0,1.7622128021391461,0.15356318080771064,0,0,0.16,21.76,0,0,"",5.6869341152495849,0.11708056829941979,0.16,0,0.16,21.76,""]
[null,null,null,null,null,null,null,null,null,null,null,null,null,null,null,null,null,null,null,null,null,null,null,null,null,null,null,null,null,null,null,null,null,null,137,21.92,"Left Bank",49.153608082193273,96.561707717456414,49.144102458447556,94.561783871328075,96.313110479843232,0,0,0,"","",0,1.7513266085151571,1.7513266085151571,0,0,0,0,0,1.7513266085151571,0.15261453344925366,0,0,0.16,21.92,0,0,"",5.6883303609293279,0.11695809989630818,0.16,0,0.16,21.92,""]
[null,null,null,null,null,null,null,null,null,null,null,null,null,null,null,null,null,null,null,null,null,null,null,null,null,null,null,null,null,null,null,null,null,null,138,22.08,"Left Bank",49.240747009685983,96.560311471776672,49.231241385940265,94.560387625648332,96.3008280405395,0,0,0,"","",0,1.7404404148911681,1.7404404148911681,0,0,0,0,0,1.7404404148911681,0.15166588609079665,0,0,0.16,22.08,0,0,"",5.6897266066090708,0.11683575959737284,0.16,0,0.16,22.08,""]
[null,null,null,null,null,null,null,null,null,null,null,null,null,null,null,null,null,null,null,null,null,null,null,null,null,null,null,null,null,null,null,null,null,null,139,22.24,"Left Bank",49.327885937178692,96.558915226096929,49.318380313432975,94.558991379968589,96.288545601235768,0,0,0,"","",0,1.7295542212671791,1.7295542212671791,0,0,0,0,0,1.7295542212671791,0.15071723873233969,0,0,0.16,22.24,0,0,"",5.6911228522888138,0.11671354726861451,0.16,0,0.16,22.24,""]
[null,null,null,null,null,null,null,null,null,null,null,null,null,null,null,null,null,null,null,null,null,null,null,null,null,null,null,null,null,null,null,null,null,null,140,22.4,"Left Bank",49.415024864671402,96.557518980417186,49.405519240925685,94.557595134288846,96.276263161932022,0,0,0,"","",0,1.7186680276431758,1.7186680276431758,0,0,0,0,0,1.7186680276431758,0.14976859137388146,0,0,0.16,22.4,0,0,"",5.6925190979685567,0.11659146277617401,0.16,0,0.16,22.4,""]
[null,null,null,null,null,null,null,null,null,null,null,null,null,null,null,null,null,null,null,null,null,null,null,null,null,null,null,null,null,null,null,null,null,null,141,22.56,"Left Bank",49.502163792164112,96.556122734737443,49.492658168418401,94.556198888609103,96.26398072262829,0,0,0,"","",0,1.7077818340191868,1.7077818340191868,0,0,0,0,0,1.7077818340191868,0.1488199440154245,0,0,0.16,22.56,0,0,"",5.6939153436482997,0.11646950598633235,0.16,0,0.16,22.56,""]
[null,null,null,null,null,null,null,null,null,null,null,null,null,null,null,null,null,null,null,null,null,null,null,null,null,null,null,null,null,null,null,null,null,null,142,22.72,"Left Bank",49.589302719656828,96.5547264890577,49.579797095911104,94.55480264292936,96.251698283324558,0,0,0,"","",0,1.6968956403951978,1.6968956403951978,0,0,0,0,0,1.6968956403951978,0.14787129665696752,0,0,0.16,22.72,0,0,"",5.6953115893280426,0.1163476767655101,0.16,0,0.16,22.72,""]
[null,null,null,null,null,null,null,null,null,null,null,null,null,null,null,null,null,null,null,null,null,null,null,null,null,null,null,null,null,null,null,null,null,null,143,22.88,"Left Bank",49.676441647149531,96.553330243377957,49.666936023403821,94.553406397249617,96.239415844020826,0,0,0,"","",0,1.6860094467712088,1.6860094467712088,0,0,0,0,0,1.6860094467712088,0.14692264929851051,0,0,0.16,22.88,0,0,"",5.6967078350077855,0.11622597498026783,0.16,0,0.16,22.88,""]
[null,null,null,null,null,null,null,null,null,null,null,null,null,null,null,null,null,null,null,null,null,null,null,null,null,null,null,null,null,null,null,null,null,null,144,23.04,"Left Bank",49.763580574642248,96.551933997698214,49.754074950896531,94.552010151569874,96.227133404717094,0,0,0,"","",0,1.6751232531472198,1.6751232531472198,0,0,0,0,0,1.6751232531472198,0.14597400194005355,0,0,0.16,23.04,0,0,"",5.6981040806875285,0.11610440049730562,0.16,0,0.16,23.04,""]
[null,null,null,null,null,null,null,null,null,null,null,null,null,null,null,null,null,null,null,null,null,null,null,null,null,null,null,null,null,null,null,null,null,null,145,23.2,"Left Bank",49.850719502134957,96.550537752018471,49.84121387838924,94.550613905890131,96.214850965413362,0,0,0,"","",0,1.6642370595232308,1.6642370595232308,0,0,0,0,0,1.6642370595232308,0.14502535458159657,0,0,0.16,23.2,0,0,"",5.6995003263672714,0.11598295318346297,0.16,0,0.16,23.2,""]
[null,null,null,null,null,null,null,null,null,null,null,null,null,null,null,null,null,null,null,null,null,null,null,null,null,null,null,null,null,null,null,null,null,null,146,23.36,"Left Bank",49.937858429627667,96.549141506338728,49.92835280588195,94.549217660210388,96.202568526109616,0,0,0,"","",0,1.6533508658992275,1.6533508658992275,0,0,0,0,0,1.6533508658992275,0.14407670722313837,0,0,0.16,23.36,0,0,"",5.7008965720470144,0.11586163290571874,0.16,0,0.16,23.36,""]
[null,null,null,null,null,null,null,null,null,null,null,null,null,null,null,null,null,null,null,null,null,null,null,null,null,null,null,null,null,null,null,null,null,null,147,23.52,"Left Bank",50.024997357120377,96.547745260658985,50.01549173337466,94.547821414530645,96.190286086805884,0,0,0,"","",0,1.6424646722752385,1.6424646722752385,0,0,0,0,0,1.6424646722752385,0.14312805986468138,0,0,0.16,23.52,0,0,"",5.7022928177267573,0.1157404395311907,0.16,0,0.16,23.52,""]
[null,null,null,null,null,null,null,null,null,null,null,null,null,null,null,null,null,null,null,null,null,null,null,null,null,null,null,null,null,null,null,null,null,null,148,23.68,"Left Bank",50.112136284613086,96.546349014979242,50.102630660867369,94.546425168850902,96.178003647502152,0,0,0,"","",0,1.6315784786512495,1.6315784786512495,0,0,0,0,0,1.6315784786512495,0.1421794125062244,0,0,0.16,23.68,0,0,"",5.7036890634065003,0.11561937292713585,0.16,0,0.16,23.68,""]
[null,null,null,null,null,null,null,null,null,null,null,null,null,null,null,null,null,null,null,null,null,null,null,null,null,null,null,null,null,null,null,null,null,null,149,23.84,"Left Bank",50.199275212105803,96.544952769299499,50.189769588360079,94.545028923171159,96.16572120819842,0,0,0,"","",0,1.6206922850272605,1.6206922850272605,0,0,0,0,0,1.6206922850272605,0.14123076514776742,0,0,0.16,23.84,0,0,"",5.7050853090862432,0.11549843296095,0.16,0,0.16,23.84,""]
[null,null,null,null,null,null,null,null,null,null,null,null,null,null,null,null,null,null,null,null,null,null,null,null,null,null,null,null,null,null,null,null,null,null,150,24,"Left Bank",50.286414139598513,96.543556523619756,50.276908515852796,94.543632677491416,96.153438768894688,0,0,0,"","",0,1.6098060914032715,1.6098060914032715,0,0,0,0,0,1.6098060914032715,0.14028211778931043,0,0,0.16,24,0,0,"",5.7064815547659862,0.11537761950016773,0.16,0,0.16,24,""]
[null,null,null,null,null,null,null,null,null,null,null,null,null,null,null,null,null,null,null,null,null,null,null,null,null,null,null,null,null,null,null,null,null,null,151,24.16,"Left Bank",50.373553067091223,96.542160277940013,50.364047443345505,94.542236431811673,96.141156329590942,0,0,0,"","",0,1.5989198977792682,1.5989198977792682,0,0,0,0,0,1.5989198977792682,0.13933347043085223,0,0,0.16,24.16,0,0,"",5.7078778004457291,0.11525693241246183,0.16,0,0.16,24.16,""]
[null,null,null,null,null,null,null,null,null,null,null,null,null,null,null,null,null,null,null,null,null,null,null,null,null,null,null,null,null,null,null,null,null,null,152,24.32,"Left Bank",50.460691994583932,96.54076403226027,50.451186370838215,94.540840186131931,96.12887389028721,0,0,0,"","",0,1.5880337041552792,1.5880337041552792,0,0,0,0,0,1.5880337041552792,0.13838482307239525,0,0,0.16,24.32,0,0,"",5.7092740461254721,0.11513637156564396,0.16,0,0.16,24.32,""]
[null,null,null,null,null,null,null,null,null,null,null,null,null,null,null,null,null,null,null,null,null,null,null,null,null,null,null,null,null,null,null,null,null,null,153,24.48,"Left Bank",50.547830922076642,96.539367786580527,50.538325298330925,94.539443940452188,96.116591450983478,0,0,0,"","",0,1.5771475105312902,1.5771475105312902,0,0,0,0,0,1.5771475105312902,0.13743617571393826,0,0,0.16,24.48,0,0,"",5.710670291805215,0.1150159368276638,0.16,0,0.16,24.48,""]
[null,null,null,null,null,null,null,null,null,null,null,null,null,null,null,null,null,null,null,null,null,null,null,null,null,null,null,null,null,null,null,null,null,null,154,24.64,"Left Bank",50.634969849569352,96.537971540900784,50.625464225823634,94.538047694772445,96.104309011679746,0,0,0,"","",0,1.5662613169073012,1.5662613169073012,0,0,0,0,0,1.5662613169073012,0.13648752835548128,0,0,0.16,24.64,0,0,"",5.712066537484958,0.11489562806660919,0.16,0,0.16,24.64,""]
[null,null,null,null,null,null,null,null,null,null,null,null,null,null,null,null,null,null,null,null,null,null,null,null,null,null,null,null,null,null,null,null,null,null,155,24.8,"Left Bank",50.722108777062061,96.536575295221041,50.712603153316344,94.536651449092702,96.092026572376014,0,0,0,"","",0,1.5553751232833122,1.5553751232833122,0,0,0,0,0,1.5553751232833122,0.1355388809970243,0,0,0.16,24.8,0,0,"",5.7134627831647009,0.11477544515070615,0.16,0,0.16,24.8,""]
[null,null,null,null,null,null,null,null,null,null,null,null,null,null,null,null,null,null,null,null,null,null,null,null,null,null,null,null,null,null,null,null,null,null,156,24.96,"Left Bank",50.809247704554771,96.535179049541298,50.799742080809054,94.535255203412959,96.079744133072282,0,0,0,"","",0,1.5444889296593232,1.5444889296593232,0,0,0,0,0,1.5444889296593232,0.13459023363856734,0,0,0.16,24.96,0,0,"",5.7148590288444439,0.11465538794831807,0.16,0,0.16,24.96,""]
[null,null,null,null,null,null,null,null,null,null,null,null,null,null,null,null,null,null,null,null,null,null,null,null,null,null,null,null,null,null,null,null,null,null,157,25.12,"Left Bank",50.896386632047481,96.533782803861556,50.886881008301771,94.533858957733216,96.067461693768536,0,0,0,"","",0,1.5336027360353199,1.5336027360353199,0,0,0,0,0,1.5336027360353199,0.13364158628010911,0,0,0.16,25.12,0,0,"",5.7162552745241868,0.11453545632794651,0.16,0,0.16,25.12,""]
[null,null,null,null,null,null,null,null,null,null,null,null,null,null,null,null,null,null,null,null,null,null,null,null,null,null,null,null,null,null,null,null,null,null,158,25.28,"Left Bank",50.983525559540197,96.532386558181813,50.97401993579448,94.532462712053473,96.055179254464804,0,0,0,"","",0,1.5227165424113309,1.5227165424113309,0,0,0,0,0,1.5227165424113309,0.13269293892165213,0,0,0.16,25.28,0,0,"",5.7176515202039297,0.11441565015823035,0.16,0,0.16,25.28,""]
[null,null,null,null,null,null,null,null,null,null,null,null,null,null,null,null,null,null,null,null,null,null,null,null,null,null,null,null,null,null,null,null,null,null,159,25.44,"Left Bank",51.070664487032907,96.53099031250207,51.06115886328719,94.53106646637373,96.042896815161072,0,0,0,"","",0,1.5118303487873419,1.5118303487873419,0,0,0,0,0,1.5118303487873419,0.13174429156319517,0,0,0.16,25.44,0,0,"",5.7190477658836727,0.11429596930794596,0.16,0,0.16,25.44,""]
[null,null,null,null,null,null,null,null,null,null,null,null,null,null,null,null,null,null,null,null,null,null,null,null,null,null,null,null,null,null,null,null,null,null,160,25.6,"Left Bank",51.157803414525617,96.529594066822327,51.1482977907799,94.529670220693987,96.03061437585734,0,0,0,"","",0,1.5009441551633529,1.5009441551633529,0,0,0,0,0,1.5009441551633529,0.13079564420473819,0,0,0.16,25.6,0,0,"",5.7204440115634156,0.11417641364600699,0.16,0,0.16,25.6,""]
[null,null,null,null,null,null,null,null,null,null,null,null,null,null,null,null,null,null,null,null,null,null,null,null,null,null,null,null,null,null,null,null,null,null,161,25.76,"Left Bank",51.244942342018327,96.528197821142584,51.235436718272609,94.528273975014244,96.018331936553608,0,0,0,"","",0,1.4900579615393639,1.4900579615393639,0,0,0,0,0,1.4900579615393639,0.1298469968462812,0,0,0.16,25.76,0,0,"",5.7218402572431586,0.114056983041464,0.16,0,0.16,25.76,""]
[null,null,null,null,null,null,null,null,null,null,null,null,null,null,null,null,null,null,null,null,null,null,null,null,null,null,null,null,null,null,null,null,null,null,162,25.92,"Left Bank",51.332081269511036,96.526801575462841,51.322575645765319,94.526877729334501,96.006049497249876,0,0,0,"","",0,1.4791717679153749,1.4791717679153749,0,0,0,0,0,1.4791717679153749,0.12889834948782422,0,0,0.16,25.92,0,0,"",5.7232365029229015,0.11393767736350474,0.16,0,0.16,25.92,""]
[null,null,null,null,null,null,null,null,null,null,null,null,null,null,null,null,null,null,null,null,null,null,null,null,null,null,null,null,null,null,null,null,null,null,163,26.08,"Left Bank",51.419220197003746,96.525405329783098,51.409714573258029,94.525481483654758,95.99376705794613,0,0,0,"","",0,1.4682855742913716,1.4682855742913716,0,0,0,0,0,1.4682855742913716,0.12794970212936602,0,0,0.16,26.08,0,0,"",5.7246327486026445,0.11381849648145376,0.16,0,0.16,26.08,""]
[null,null,null,null,null,null,null,null,null,null,null,null,null,null,null,null,null,null,null,null,null,null,null,null,null,null,null,null,null,null,null,null,null,null,164,26.24,"Left Bank",51.506359124496456,96.524009084103355,51.496853500750738,94.524085237975015,95.981484618642398,0,0,0,"","",0,1.4573993806673826,1.4573993806673826,0,0,0,0,0,1.4573993806673826,0.12700105477090903,0,0,0.16,26.24,0,0,"",5.7260289942823874,0.11369944026477237,0.16,0,0.16,26.24,""]
[null,null,null,null,null,null,null,null,null,null,null,null,null,null,null,null,null,null,null,null,null,null,null,null,null,null,null,null,null,null,null,null,null,null,165,26.4,"Left Bank",51.593498051989165,96.522612838423612,51.583992428243448,94.522688992295272,95.969202179338666,0,0,0,"","",0,1.4465131870433936,1.4465131870433936,0,0,0,0,0,1.4465131870433936,0.12605240741245205,0,0,0.16,26.4,0,0,"",5.7274252399621304,0.1135805085830581,0.16,0,0.16,26.4,""]
[null,null,null,null,null,null,null,null,null,null,null,null,null,null,null,null,null,null,null,null,null,null,null,null,null,null,null,null,null,null,null,null,null,null,166,26.56,"Left Bank",51.680636979481875,96.521216592743869,51.671131355736165,94.521292746615529,95.956919740034934,0,0,0,"","",0,1.4356269934194046,1.4356269934194046,0,0,0,0,0,1.4356269934194046,0.12510376005399507,0,0,0.16,26.56,0,0,"",5.7288214856418733,0.11346170130604524,0.16,0,0.16,26.56,""]
[null,null,null,null,null,null,null,null,null,null,null,null,null,null,null,null,null,null,null,null,null,null,null,null,null,null,null,null,null,null,null,null,null,null,167,26.72,"Left Bank",51.767775906974592,96.519820347064126,51.758270283228867,94.519896500935786,95.944637300731202,0,0,0,"","",0,1.4247407997954156,1.4247407997954156,0,0,0,0,0,1.4247407997954156,0.12415511269553808,0,0,0.16,26.72,0,0,"",5.7302177313216163,0.11334301830360419,0.16,0,0.16,26.72,""]
[null,null,null,null,null,null,null,null,null,null,null,null,null,null,null,null,null,null,null,null,null,null,null,null,null,null,null,null,null,null,null,null,null,null,168,26.88,"Left Bank",51.854914834467301,96.518424101384383,51.845409210721584,94.518500255256043,95.932354861427456,0,0,0,"","",0,1.4138546061714123,1.4138546061714123,0,0,0,0,0,1.4138546061714123,0.12320646533707987,0,0,0.16,26.88,0,0,"",5.7316139770013592,0.11322445944574151,0.16,0,0.16,26.88,""]
[null,null,null,null,null,null,null,null,null,null,null,null,null,null,null,null,null,null,null,null,null,null,null,null,null,null,null,null,null,null,null,null,null,null,169,27.04,"Left Bank",51.942053761960011,96.51702785570464,51.932548138214294,94.5171040095763,95.920072422123724,0,0,0,"","",0,1.4029684125474233,1.4029684125474233,0,0,0,0,0,1.4029684125474233,0.1222578179786229,0,0,0.16,27.04,0,0,"",5.7330102226811022,0.1131060246025998,0.16,0,0.16,27.04,""]
[null,null,null,null,null,null,null,null,null,null,null,null,null,null,null,null,null,null,null,null,null,null,null,null,null,null,null,null,null,null,null,null,null,null,170,27.2,"Left Bank",52.029192689452721,96.515631610024897,52.019687065707004,94.515707763896557,95.907789982819992,0,0,0,"","",0,1.3920822189234343,1.3920822189234343,0,0,0,0,0,1.3920822189234343,0.12130917062016591,0,0,0.16,27.2,0,0,"",5.7344064683608451,0.11298771364445721,0.16,0,0.16,27.2,""]
[null,null,null,null,null,null,null,null,null,null,null,null,null,null,null,null,null,null,null,null,null,null,null,null,null,null,null,null,null,null,null,null,null,null,171,27.36,"Left Bank",52.11633161694543,96.514235364345154,52.106825993199713,94.514311518216815,95.89550754351626,0,0,0,"","",0,1.3811960252994453,1.3811960252994453,0,0,0,0,0,1.3811960252994453,0.12036052326170893,0,0,0.16,27.36,0,0,"",5.7358027140405881,0.11286952644172789,0.16,0,0.16,27.36,""]
[null,null,null,null,null,null,null,null,null,null,null,null,null,null,null,null,null,null,null,null,null,null,null,null,null,null,null,null,null,null,null,null,null,null,172,27.52,"Left Bank",52.20347054443814,96.512839118665411,52.193964920692423,94.512915272537072,95.883225104212528,0,0,0,"","",0,1.3703098316754563,1.3703098316754563,0,0,0,0,0,1.3703098316754563,0.11941187590325196,0,0,0.16,27.52,0,0,"",5.737198959720331,0.11275146286496139,0.16,0,0.16,27.52,""]
[null,null,null,null,null,null,null,null,null,null,null,null,null,null,null,null,null,null,null,null,null,null,null,null,null,null,null,null,null,null,null,null,null,null,173,27.68,"Left Bank",52.29060947193085,96.511442872985668,52.28110384818514,94.511519026857329,95.870942664908796,0,0,0,"","",0,1.3594236380514673,1.3594236380514673,0,0,0,0,0,1.3594236380514673,0.11846322854479498,0,0,0.16,27.68,0,0,"",5.738595205400074,0.11263352278484275,0.16,0,0.16,27.68,""]
[null,null,null,null,null,null,null,null,null,null,null,null,null,null,null,null,null,null,null,null,null,null,null,null,null,null,null,null,null,null,null,null,null,null,174,27.84,"Left Bank",52.377748399423567,96.510046627305925,52.368242775677842,94.510122781177586,95.85866022560505,0,0,0,"","",0,1.348537444427464,1.348537444427464,0,0,0,0,0,1.348537444427464,0.11751458118633676,0,0,0.16,27.84,0,0,"",5.7399914510798169,0.11251570607219229,0.16,0,0.16,27.84,""]
[null,null,null,null,null,null,null,null,null,null,null,null,null,null,null,null,null,null,null,null,null,null,null,null,null,null,null,null,null,null,null,null,null,null,175,28,"Left Bank",52.464887326916269,96.508650381626182,52.455381703170559,94.508726535497843,95.846377786301318,0,0,0,"","",0,1.337651250803475,1.337651250803475,0,0,0,0,0,1.337651250803475,0.11656593382787978,0,0,0.16,28,0,0,"",5.7413876967595598,0.11239801259796524,0.16,0,0.16,28,""]
[null,null,null,null,null,null,null,null,null,null,null,null,null,null,null,null,null,null,null,null,null,null,null,null,null,null,null,null,null,null,null,null,null,null,176,28.16,"Left Bank",52.552026254408986,96.50725413594644,52.542520630663269,94.5073302898181,95.834095346997586,0,0,0,"","",0,1.326765057179486,1.326765057179486,0,0,0,0,0,1.326765057179486,0.11561728646942281,0,0,0.16,28.16,0,0,"",5.7427839424393028,0.11228044223325202,0.16,0,0.16,28.16,""]
[null,null,null,null,null,null,null,null,null,null,null,null,null,null,null,null,null,null,null,null,null,null,null,null,null,null,null,null,null,null,null,null,null,null,177,28.32,"Left Bank",52.639165181901696,96.505857890266697,52.629659558155979,94.505934044138357,95.821812907693854,0,0,0,"","",0,1.315878863555497,1.315878863555497,0,0,0,0,0,1.315878863555497,0.11466863911096582,0,0,0.16,28.32,0,0,"",5.7441801881190457,0.11216299484927787,0.16,0,0.16,28.32,""]
[null,null,null,null,null,null,null,null,null,null,null,null,null,null,null,null,null,null,null,null,null,null,null,null,null,null,null,null,null,null,null,null,null,null,178,28.48,"Left Bank",52.726304109394405,96.504461644586954,52.716798485648688,94.504537798458614,95.809530468390122,0,0,0,"","",0,1.304992669931508,1.304992669931508,0,0,0,0,0,1.304992669931508,0.11371999175250884,0,0,0.16,28.48,0,0,"",5.7455764337987887,0.11204567031740272,0.16,0,0.16,28.48,""]
[null,null,null,null,null,null,null,null,null,null,null,null,null,null,null,null,null,null,null,null,null,null,null,null,null,null,null,null,null,null,null,null,null,null,179,28.64,"Left Bank",52.813443036887115,96.503065398907211,52.803937413141398,94.503141552778871,95.79724802908639,0,0,0,"","",0,1.294106476307519,1.294106476307519,0,0,0,0,0,1.294106476307519,0.11277134439405187,0,0,0.16,28.64,0,0,"",5.7469726794785316,0.11192846850912111,0.16,0,0.16,28.64,""]
[null,null,null,null,null,null,null,null,null,null,null,null,null,null,null,null,null,null,null,null,null,null,null,null,null,null,null,null,null,null,null,null,null,null,180,28.8,"Left Bank",52.900581964379825,96.501669153227468,52.891076340634108,94.501745307099128,95.784965589782644,0,0,0,"","",0,1.2832202826835157,1.2832202826835157,0,0,0,0,0,1.2832202826835157,0.11182269703559364,0,0,0.16,28.8,0,0,"",5.7483689251582746,0.11181138929606173,0.16,0,0.16,28.8,""]
[null,null,null,null,null,null,null,null,null,null,null,null,null,null,null,null,null,null,null,null,null,null,null,null,null,null,null,null,null,null,null,null,null,null,181,28.96,"Left Bank",52.987720891872542,96.500272907547725,52.978215268126817,94.500349061419385,95.772683150478912,0,0,0,"","",0,1.2723340890595267,1.2723340890595267,0,0,0,0,0,1.2723340890595267,0.11087404967713667,0,0,0.16,28.96,0,0,"",5.7497651708380175,0.11169443254998784,0.16,0,0.16,28.96,""]
[null,null,null,null,null,null,null,null,null,null,null,null,null,null,null,null,null,null,null,null,null,null,null,null,null,null,null,null,null,null,null,null,null,null,182,29.12,"Left Bank",53.074859819365251,96.498876661867982,53.065354195619534,94.498952815739642,95.76040071117518,0,0,0,"","",0,1.2614478954355377,1.2614478954355377,0,0,0,0,0,1.2614478954355377,0.1099254023186797,0,0,0.16,29.12,0,0,"",5.7511614165177605,0.11157759814279679,0.16,0,0.16,29.12,""]
[null,null,null,null,null,null,null,null,null,null,null,null,null,null,null,null,null,null,null,null,null,null,null,null,null,null,null,null,null,null,null,null,null,null,183,29.28,"Left Bank",53.161998746857961,96.497480416188239,53.152493123112244,94.497556570059899,95.748118271871448,0,0,0,"","",0,1.2505617018115487,1.2505617018115487,0,0,0,0,0,1.2505617018115487,0.1089767549602227,0,0,0.16,29.28,0,0,"",5.7525576621975034,0.11146088594651994,0.16,0,0.16,29.28,""]
[null,null,null,null,null,null,null,null,null,null,null,null,null,null,null,null,null,null,null,null,null,null,null,null,null,null,null,null,null,null,null,null,null,null,184,29.44,"Left Bank",53.249137674350671,96.496084170508496,53.239632050604953,94.496160324380156,95.735835832567716,0,0,0,"","",0,1.2396755081875597,1.2396755081875597,0,0,0,0,0,1.2396755081875597,0.10802810760176573,0,0,0.16,29.44,0,0,"",5.7539539078772464,0.11134429583332228,0.16,0,0.16,29.44,""]
[null,null,null,null,null,null,null,null,null,null,null,null,null,null,null,null,null,null,null,null,null,null,null,null,null,null,null,null,null,null,null,null,null,null,185,29.6,"Left Bank",53.33627660184338,96.494687924828753,53.326770978097663,94.494764078700413,95.72355339326397,0,0,0,"","",0,1.2287893145635564,1.2287893145635564,0,0,0,0,0,1.2287893145635564,0.10707946024330751,0,0,0.16,29.6,0,0,"",5.7553501535569893,0.11122782767550278,0.16,0,0.16,29.6,""]
[null,null,null,null,null,null,null,null,null,null,null,null,null,null,null,null,null,null,null,null,null,null,null,null,null,null,null,null,null,null,null,null,null,null,186,29.76,"Left Bank",53.42341552933609,96.49329167914901,53.413909905590373,94.49336783302067,95.711270953960238,0,0,0,"","",0,1.2179031209395674,1.2179031209395674,0,0,0,0,0,1.2179031209395674,0.10613081288485053,0,0,0.16,29.76,0,0,"",5.7567463992367323,0.11111148134549388,0.16,0,0.16,29.76,""]
[null,null,null,null,null,null,null,null,null,null,null,null,null,null,null,null,null,null,null,null,null,null,null,null,null,null,null,null,null,null,null,null,null,null,187,29.92,"Left Bank",53.5105544568288,96.491895433469267,53.501048833083082,94.491971587340927,95.698988514656506,0,0,0,"","",0,1.2070169273155784,1.2070169273155784,0,0,0,0,0,1.2070169273155784,0.10518216552639356,0,0,0.16,29.92,0,0,"",5.7581426449164752,0.1109952567158615,0.16,0,0.16,29.92,""]
[null,null,null,null,null,null,null,null,null,null,null,null,null,null,null,null,null,null,null,null,null,null,null,null,null,null,null,null,null,null,null,null,null,null,188,30.08,"Left Bank",53.597693384321509,96.490499187789524,53.588187760575792,94.490575341661184,95.686706075352774,0,0,0,"","",0,1.1961307336915894,1.1961307336915894,0,0,0,0,0,1.1961307336915894,0.10423351816793658,0,0,0.16,30.08,0,0,"",5.7595388905962182,0.11087915365930491,0.16,0,0.16,30.08,""]
[null,null,null,null,null,null,null,null,null,null,null,null,null,null,null,null,null,null,null,null,null,null,null,null,null,null,null,null,null,null,null,null,null,null,189,30.24,"Left Bank",53.684832311814219,96.489102942109781,53.675326688068509,94.489179095981441,95.674423636049042,0,0,0,"","",0,1.1852445400676004,1.1852445400676004,0,0,0,0,0,1.1852445400676004,0.1032848708094796,0,0,0.16,30.24,0,0,"",5.7609351362759611,0.11076317204865629,0.16,0,0.16,30.24,""]
[null,null,null,null,null,null,null,null,null,null,null,null,null,null,null,null,null,null,null,null,null,null,null,null,null,null,null,null,null,null,null,null,null,null,190,30.4,"Left Bank",53.771971239306936,96.487706696430038,53.762465615561212,94.487782850301699,95.66214119674531,0,0,0,"","",0,1.1743583464436114,1.1743583464436114,0,0,0,0,0,1.1743583464436114,0.10233622345102263,0,0,0.16,30.4,0,0,"",5.762331381955704,0.1106473117568811,0.16,0,0.16,30.4,""]
[null,null,null,null,null,null,null,null,null,null,null,null,null,null,null,null,null,null,null,null,null,null,null,null,null,null,null,null,null,null,null,null,null,null,191,30.56,"Left Bank",53.859110166799638,96.486310450750295,53.849604543053928,94.486386604621956,95.649858757441564,0,0,0,"","",0,1.1634721528196081,1.1634721528196081,0,0,0,0,0,1.1634721528196081,0.10138757609256439,0,0,0.16,30.56,0,0,"",5.763727627635447,0.1105315726570776,0.16,0,0.16,30.56,""]
[null,null,null,null,null,null,null,null,null,null,null,null,null,null,null,null,null,null,null,null,null,null,null,null,null,null,null,null,null,null,null,null,null,null,192,30.72,{"$f":"IF(OR($C$19=\"\",$F$25=\"\",$G$25=\"\"),\"None\",IF(AL237<$B$14,\"Left Floodplain\",IF(AL237<$B$15,\"Left Bank\",IF(AL237<$B$16,\"Left Stream Bed\",IF(AL237<$B$17,\"Right Stream Bed\",IF(AL237<$B$18,\"Right Bank\",\"Right Floodplain\"))))))","v":"Left Bank"},53.946249094292355,96.484914205070552,53.936743470546631,94.484990358942213,95.637576318137832,{"$f":"IF(OR($AP237<$AE$12,$AP237<=$AM237),0,IF(OR($AP237>=$AE$12,$AM237>=$AE$12),$AP237-$AM237-$AR237,$AP237-$AE$12))","v":0},{"$f":"IF($AP237<=$AM237,0,IF($AM237>=$AE$12,0,IF($AP237<=$AE$12,$AP237-$AM237,$AE$12-$AM237)))","v":0},0,"","",0,{"$f":"IF($AP237<=$AO237,0,IF($AO237>=$AE$12,0,IF($AP237<=$AE$12,$AP237-$AO237,$AE$12-$AO237)))","v":1.1525859591956191},{"$f":"IF(AP237<=AO237,0,AP237-AO237)","v":1.1525859591956191},{"$f":"IF($AS237=0,0,IF(OR($AJ237=0,$AJ237=$E$22),$AJ$46/2,$AJ$46))","v":0},{"$f":"IF(OR($AK237=\"Left Stream Bed\",$AK237=\"Right Stream Bed\"),$F$22*$AQ237*$AY237,0)","v":0},{"$f":"IF(OR($AK237=\"Left Stream Bed\",$AK237=\"Right Stream Bed\"),$F$22*$AR237*$AY237,0)","v":0},{"$f":"IF(OR($AK237=\"Left Floodplain\",$AK237=\"Left Bank\",$AK237=\"Right Bank\",$AK237=\"Right Floodplain\"),$F$22*$AQ237*$AY237,0)","v":0},{"$f":"IF(OR($AK237=\"Left Floodplain\",$AK237=\"Left Bank\",$AK237=\"Right Bank\",$AK237=\"Right Floodplain\"),$F$22*$AR237*$AY237,0)","v":0},{"$f":"AX237-AS237","v":1.1525859591956191},0.10043892873410742,0,{"$f":"IF(OR($AJ237=0,$AJ237=$E$22),($BF237*$AJ$46/2)*ABS($M$17),$BF237*$AJ$46*ABS($M$17))","v":0},{"$f":"IF(OR($AM237<$AP237,$AO237>$AE$8),\"\",IF(OR($AJ237=0,$AJ237=$E$22),$AJ$46/2,$AJ$46))","v":0.16},30.72,0,{"$f":"IF($BJ237=\"\",\"\",IF(OR($BJ237>($F$22/2),$BJ237=0),0,0.45-($BJ237*0.45/($F$22/2))))","v":0},{"$f":"IF($BK237=\"\",\"\",IF($BK237>0,$AJ237,\"\"))","v":""},5.7651238733151899,0.11041595462247675,{"$f":"IF($AO237=0,0,IF($AO237>$AP237,0,IF(OR($AJ237=0,$AJ237=$E$22),$AJ$46/2,$AJ$46)))","v":0.16},{"$f":"IF(AND($BO237>0,OR($AK237=\"Left Stream Bed\",$AK237=\"Right Stream Bed\")),$BO237,0)","v":0},{"$f":"IF(AND($BO237>0,OR($AK237=\"Left Floodplain\",$AK237=\"Left Bank\",$AK237=\"Right Bank\",$AK237=\"Right Floodplain\")),$BO237,0)","v":0.16},{"$f":"IF($BO237>0,$AJ237,\"\")","v":30.72},""]
[null,null,null,null,null,null,null,null,null,null,null,null,null,null,null,null,null,null,null,null,null,null,null,null,null,null,null,null,null,null,null,null,null,null,193,{"$f":"($AI238/$AI$245)*$AJ$245","v":30.88},"Left Stream Bed",54.033388021785065,96.483517959390809,{"$f":"$AN$45+ABS(AJ238*$M$19*$M$17)","v":54.023882398039348},94.48359411326247,95.62622047593392,0,0,{"$f":"IF(AP238<=AM238,0,AP238-AM238)","v":0},{"$f":"IF(OR($AS238=\"\",$AS238=0),\"\",IF(OR($AK238=\"Left Stream Bed\",$AK238=\"Right Stream Bed\"),$AS238,\"\"))","v":""},{"$f":"IF(OR($AS238=\"\",$AS238=0),\"\",IF(OR($AK238=\"Left Floodplain\",$AK238=\"Left Bank\",$AK238=\"Right Bank\",$AK238=\"Right Floodplain\"),$AS238,\"\"))","v":""},{"$f":"IF(OR($AP238<$AE$12,$AP238<=$AO238),0,IF($AO238>=$AE$12,$AP238-$AO238,$AP238-$AE$12))","v":0},1.1426263626714501,1.1426263626714501,0,0,0,0,0,1.1426263626714501,{"$f":"$BD238*$AJ$46*ABS($M$17)","v":9.9571027127697442E-2},{"$f":"AV238-AQ238","v":0},0,0.16,{"$f":"IF($BH238=\"\",\"\",IF($BH238>0,$AJ238,\"\"))","v":30.88},{"$f":"IF($BH238=\"\",\"\",IF(OR(($AO238-$AP238)<0,$AO$45>=$AE$8),0,($AO238-$AP238)))","v":0},0,"",{"$f":"IF($BH238=\"\",\"\",IF(OR(($AM238-$AP238)<0,$AM238>=$AE$8),\"\",($AE$8-($AM238-(($F$22/2)/$M$19)))))","v":5.7665201189949329},0.1103004575264423,0.16,0.16,0,30.88,{"$f":"IF($AY238>0,$AJ238,\"\")","v":""}]
[null,null,null,null,null,null,null,null,null,null,null,null,null,null,null,null,null,null,null,null,null,null,null,null,null,null,null,null,null,null,null,null,null,null,194,31.04,"Left Stream Bed",54.120526949277775,{"$f":"AM238+((AL239-AL238)*$AA$40)","v":96.482121713711066},54.111021325532057,{"$f":"AO238+((AN239-AN238)*$AA$40)","v":94.482197867582727},{"$f":"IF($AL239<$B$14,(($AL239-$B$13)*$AB$31)+$C$13,IF($AL239<$B$15,(($AL239-$B$14)*$AB$32)+$C$14,IF($AL239<$B$16,(($AL239-$B$15)*$AB$33)+$C$15,IF($AL239<$B$17,(($AL239-$B$16)*$AB$34)+$C$16,IF($AL239<$B$18,(($AL239-$B$17)*$AB$35)+$C$17,IF($AL239<$B$19,(($AL239-$B$18)*$AB$36)+$C$18))))))","v":95.616356349341757},0,0,0,"","",0,1.1341584817590302,1.1341584817590302,0,0,0,0,0,1.1341584817590302,9.8833116969495427E-2,0,0,0.16,31.04,0,0,"",5.7679163646746758,{"$f":"IF($BM239=\"\",\"\",(((PI()^2)/32)*($B$66^-6)*EXP(-($BM239/$F$22)/(2*($B$66^2)))))","v":0.11018508124247006},0.16,0.16,0,31.04,""]
[null,null,null,null,null,null,null,null,null,null,null,null,null,null,null,null,null,null,null,null,null,null,null,null,null,null,null,null,null,null,null,null,null,null,195,31.2,"Left Stream Bed",{"$f":"$AL$45+ABS(AJ240*$M$19*$M$17)","v":54.207665876770484},96.480725468031324,54.198160253024767,94.480801621902984,95.60649222274958,0,0,0,"","",0,1.1256906008465961,1.1256906008465961,0,0,0,0,0,1.1256906008465961,9.8095206811292177E-2,0,0,0.16,31.2,0,0,"",5.7693126103544188,0.11006982564418855,0.16,0.16,0,31.2,""]
[null,null,null,null,null,null,null,null,null,null,null,null,null,null,null,null,null,null,null,null,null,null,null,null,null,null,null,null,null,null,null,null,null,null,196,31.36,"Left Stream Bed",54.294804804263194,96.479329222351581,54.285299180517477,94.479405376223241,95.596628096157403,0,0,0,"","",0,1.117222719934162,1.117222719934162,0,0,0,0,0,1.117222719934162,9.7357296653088926E-2,0,0,0.16,31.36,0,0,"",5.7707088560341617,0.10995469060535833,0.16,0.16,0,31.36,""]
[null,null,null,null,null,null,null,null,null,null,null,null,null,null,null,null,null,null,null,null,null,null,null,null,null,null,null,null,null,null,null,null,null,null,197,31.52,"Left Stream Bed",54.381943731755911,96.477932976671838,54.372438108010186,94.478009130543498,95.586763969565226,0,0,0,"","",0,1.1087548390217279,1.1087548390217279,0,0,0,0,0,1.1087548390217279,9.6619386494885703E-2,0,0,0.16,31.52,0,0,"",5.7721051017139047,0.10983967599987213,0.16,0.16,0,31.52,""]
[null,null,null,null,null,null,null,null,null,null,null,null,null,null,null,null,null,null,null,null,null,null,null,null,null,null,null,null,null,null,null,null,null,null,198,31.68,"Left Stream Bed",54.469082659248613,96.476536730992095,54.459577035502903,94.476612884863755,95.576899842973049,0,0,0,"","",0,1.1002869581092938,1.1002869581092938,0,0,0,0,0,1.1002869581092938,9.5881476336682453E-2,0,0,0.16,31.68,0,0,"",5.7735013473936476,0.10972478170175427,0.16,0.16,0,31.68,""]
[null,null,null,null,null,null,null,null,null,null,null,null,null,null,null,null,null,null,null,null,null,null,null,null,null,null,null,null,null,null,null,null,null,null,199,{"$f":"($AI244/$AI$245)*$AJ$245","v":31.84},"Left Stream Bed",54.55622158674133,96.475140485312352,54.546715962995606,94.475216639184012,95.567035716380872,0,0,0,"","",0,1.0918190771968597,1.0918190771968597,0,0,0,0,0,1.0918190771968597,9.5143566178479202E-2,0,0,0.16,31.84,0,0,"",5.7748975930733906,0.10961000758516115,0.16,0.16,0,31.84,""]
[null,null,null,null,null,null,null,null,null,null,null,null,null,null,null,null,null,null,null,null,null,null,null,null,null,null,null,null,null,null,null,null,null,null,200,{"$f":"$E$22","v":32},"Left Stream Bed",54.643360514234033,96.473744239632609,54.633854890488323,94.473820393504269,95.557171589788709,0,0,0,"","",0,1.0833511962844398,1.0833511962844398,0,0,0,0,0,1.0833511962844398,9.4405656020277201E-2,0,0,0.08,32,0,0,"",5.7762938387531335,0.10949535352438074,0.08,0.08,0,32,""]

{"sheet":"7-Notation","index":14,"n_rows":88,"n_cols":7,"rows_kept":88,"cut":false,"hidden":false,"merged":[[0,5,1,6]]}
[{"$f":"'1-Cover'!A1","v":"Sample Multi-Log Structure"}]
["Notation, Units, and List of Symbols"]
[]
["Notation",null,null,null,"Notation (continued)"]
["Symbol","Description","Unit",null,"Symbol","Description","Unit"]
["AW","Wetted area of channel at design discharge ","ft2",null,"FV","Resultant vertical force applied to log","lbf"]
["ATp","Projected area of wood in plane perpendicular to flow","ft2",null,"FrL","Log Froude number","-"]
["cD","Centroid of the drag force along log axis","ft",null,"FSV","Factor of Safety for Vertical Force Balance","-"]
["cAm","Centroid of a mechanical anchor along log axis","ft",null,"FSH","Factor of Safety for Horizontal Force Balance","-"]
["cAr","Centroid of a ballast boulder along log axis","ft",null,"FSM","Factor of Safety for Moment Force Balance","-"]
["cAsoil","Centroid of the added ballast soil along log axis","ft",null,"g","Gravitational acceleration constant","ft/s2"]
["cF&N","Centroid of friction and normal forces along log axis","ft",null,"KP","Coefficient of Passive Earth Pressure","-"]
["cL","Centroid of the lift force along log axis","ft",null,"LT,em","Total embedded length of log","ft"]
["cP","Centroid of the passive soil force along log axis","ft",null,"LRW","Assumed length of rootwad","ft"]
["csoil","Centroid of the vertical soil forces along log axis","ft",null,"LT","Total length of tree (including rootwad)","ft"]
["cT,B","Centroid of the buoyancy force along log axis","ft",null,"LTf","Length of log in contact with bed or banks","ft"]
["cT,W","Centroid of the log volume along log axis","ft",null,"LTS","Length of tree stem (not including rootwad)","ft"]
["cWI","Centroid of a wood interaction force along log axis","ft",null,"LTS,ex","Exposed length of tree stem","ft"]
["CLrock","Coefficient of lift for submerged boulder","-",null,"LFRW","Length factor for rootwad (LFRW = LRW/DTS)","-"]
["CLT","Effective coefficient of lift for submerged tree","-",null,"Md","Driving moment about embedded tip","lbf"]
["CDi","Base coefficient of drag for tree, before adjustments","-",null,"Mr","Driving moment about embedded tip","lbf"]
["CD*","Effective coefficient of drag for submerged tree","-",null,"N","Blow count of standard penetration test","-"]
["CDi","Base coefficient of drag for tree, before adjustments","-",null,"po","Porosity of soil volume","-"]
["CW","Wave drag coefficient of submerged tree","-",null,"Qdes","Design discharge","cfs"]
["db,avg","Average buried depth of log","ft",null,"R","Radius","ft"]
["db,max","Maximum buried depth of log","ft",null,"Rc","Radius of curvature at channel centerline","ft"]
["dw","Maximum flow depth at design discharge in reach","ft",null,"SGr","Specific gravity of quartz particles","-"]
["D50","Median grain size in millimeters (SI units)","mm",null,"SGT","Specific gravity of tree","-"]
["Dr","Equivalent diameter of boulder","ft",null,"uavg","Average velocity of cross section in reach","ft/s"]
["DRW","Assumed diameter of rootwad","ft",null,"udes","Design velocity","ft/s"]
["DTS","Nominal diameter of tree stem (DBH)","ft",null,"um","Adjusted velocity at outer meander bend","ft/s"]
["DFRW","Diameter factor for rootwad (DFRW = DRW/DTS)","-",null,"Vdry","Volume of soils above stage level of design flow","ft3"]
["e","Void ratio of soils","-",null,"Vsat","Volume of soils below stage level of design flow","ft3"]
["FA,H","Total horizontal load capacity of anchor techniques","lbf",null,"Vsoil","Total volume of soils over log","ft3"]
["FA,HP","Passive soil pressure applied to log from soil ballast","lbf",null,"VRW","Volume of rootwad","ft3"]
["FA,Hr","Horizontal resisting force on log from boulder","lbf",null,"VS","Volume of solids in soil (void ratio calculation)","ft3"]
["FAm","Load capacity of mechanical anchor","lbf",null,"VT","Total volume of log","ft3"]
["FA,V","Total vertical load capacity of anchor techniques","lbf",null,"VTS","Total volume of tree","ft3"]
["FA,Vr","Vertical resisting force on log from boulder","lbf",null,"VV","Volume of voids in soil","ft3"]
["FA,Vsoil","Vertical soil loading on log from added ballast soil","lbf",null,"VAdry","Volume of ballast above stage of design flow","ft3"]
["FB","Buoyant force applied to log","lbf",null,"VAwet","Volume of ballast below stage of design flow","ft3"]
["FD","Drag forces applied to log","lbf",null,"Vr,dry","Volume of boulder above stage of design flow","ft3"]
["FD,r","Drag forces applied to boulder","lbf",null,"Vr,wet","Volume of boulder below stage of design flow","ft3"]
["FF","Friction force applied to log","lbf",null,"WBF","Bankfull width at structure site","ft"]
["FH","Resultant horizontal force applied to log","lbf",null,"Wr","Effective weight of boulder","lbf"]
["FL","Lift force applied to log","lbf",null,"WT","Total log weight","lbf"]
["FL,r","Lift force applied to boulder","lbf",null,"x","Horizontal coordinate (distance)","ft"]
["FP","Passive soil pressure force applied to log","lbf",null,"y","Vertical coordinate (elevation)","ft"]
["Fsoil","Vertical soil loading on log","lbf",null,"yT,max","Minimum elevation of log","ft"]
["FW,H","Horizontal forces from interactions with other logs","lbf",null,"yT,min","Maximum elevation of log","ft"]
["FW,V","Vertical forces from interactions with other logs","lbf"]
[]
["Greek Symbols",null,null,null,"Abbreviations"]
["Symbol","Description","Unit",null,"Notation","Description"]
["b","Tilt angle from stem tip to vertical","deg",null,"ARI","Average return interval"]
["gbank","Dry specific weight of bank soils","lb/ft3",null,"Avg","Average"]
["gbank,sat","Saturated unit weight of bank soils","lb/ft3",null,"DBH","Diameter at breast height"]
["g'bank","Effective buoyant unit weight of bank soils","lb/ft3",null,"deg","Degrees"]
["gbed","Dry specific weight of stream bed substrate","lb/ft3",null,"Dia","Diameter"]
["g'bed","Effective buoyant unit weight of stream bed substrate","lb/ft3",null,"Dist","Distance"]
["grock","Dry unit weight of boulders","lb/ft3",null,"D/S","Downstream"]
["gs","Dry specific weight of soil","lb/ft3",null,"ELJ","Engineered log jam"]
["g's","Effective buoyant unit weight of soil","lb/ft3",null,"Ex","Example"]
["gTd","Air-dried unit weight of tree (12% MC basis)","lb/ft3",null,"Fldpln","Floodplain"]
["gTgr","Green unit weight of tree","lb/ft3",null,"H&H","Hydrologic and hydraulic"]
["gw","Specific weight of water at 50⁰F","lb/ft3",null,"ID","Identification"]
["h","Rootwad porosity","-",null,"i.e.","That is"]
["q","Rootwad (or large end of log) orientation to flow","deg",null,"LB","Left bank"]
["m","Coefficient of friction","-",null,"LW","Large wood"]
["n","Kinematic viscosity of water at 50⁰F","ft/s2",null,"Max","Maximum"]
["S","Sum of forces","-",null,"MC","Moisture content"]
["fbank","Internal friction angle of bank soils","deg",null,"Min","Minimum"]
["fbed","Internal friction angle of stream bed substrate","deg",null,"ML","Multi-log"]
[null,null,null,null,"SL","Single log"]
[null,null,null,null,"N/A","Not applicable"]
[null,null,null,null,"no","Number"]
["Units",null,null,null,"Pt","Point"]
["Notation","Description",null,null,"rad","Radians"]
["cfs","Cubic feet per second",null,null,"RB","Right bank"]
["ft","Feet",null,null,"RW","Rootwad"]
["lb","Pound",null,null,"SL","Single log"]
["lbf","Pounds force",null,null,"Thw","Thalweg (lowest elevation in channel bed)"]
["kg","Kilograms",null,null,"Typ","Typical"]
["m","Meters",null,null,"U.S.","United States"]
["mm","Millimeters",null,null,"WS","Water surface"]
["s","Seconds",null,null,"WSE","Water surface elevation"]
["yr","Year",null,null,"↑","Above"]
[null,null,null,null,"↓","Below"]

{"sheet":"Anchors","index":15,"n_rows":43,"n_cols":25,"rows_kept":43,"cut":false,"hidden":false,"merged":[[37,0,38,1],[39,0,40,1],[41,0,41,1],[28,0,29,0],[28,1,29,1],[26,0,27,0],[26,1,27,1],[33,0,34,1],[35,0,36,1],[2,17,2,21],[3,0,4,0],[30,0,31,0],[30,1,31,1],[2,22,2,24],[9,1,10,6],[15,1,17,6],[18,1,20,6],[2,3,2,5],[2,6,2,8],[2,9,2,12],[2,13,2,16],[3,1,4,1],[3,2,4,2]]}
["Reference Sheet - Anchoring Techniques"]
[]
["Anchor Technique Lookup Table (average holding capacities)",null,null,"Manta Ray",null,null,"Stingray",null,null,"Duckbill",null,null,null,"Platipus Stealth",null,null,null,"Platipus Bat",null,null,null,null,"Custom (User Selection)"]
["Soil Class","Soil Description","Blow Count (N)","MR-1","MR-2","MR-SR","SR-1","SR-2","SR-3","DB-40","DB-68","DB-88","DB-138","P-S02","P-S04","P-S06","P-S08","P-B04T","P-B06T","P-B08T","P-B10T","P-B12T","Custom#1","Custom#2","Custom#3"]
[null,null,null,"Capacity (lb)","Capacity (lb)","Capacity (lb)","Capacity (lb)","Capacity (lb)","Capacity (lb)","Capacity (lb)","Capacity (lb)","Capacity (lb)","Capacity (lb)","Capacity (lb)","Capacity (lb)","Capacity (lb)","Capacity (lb)","Capacity (lb)","Capacity (lb)","Capacity (lb)","Capacity (lb)","Capacity (lb)","Capacity (lb)","Capacity (lb)","Capacity (lb)"]
[4,"Dense gravels; gravel/cobble; very hard silts and clays","40-100+",24000,15000,32000,39000,62000,85000,"user input","user input","user input","user input",300,1000,3500,4500,6000,11000,16500,22000,33000,"(user input)","(user input)","(user input)"]
[5,"Dense coarse sand; gravel/sand; loose gravels; stiff slits and clays","14-40",15000,9000,18000,24000,31000,48000,300,1100,3000,5000,150,600,2000,2500,3500,6500,9000,14000,20000,"(user input)","(user input)","(user input)"]
[6,"Loose coarse sand; dense fine sand; firm silts and clays","7-14",10000,7000,14000,16000,27000,37000,"user input","user input","user input","user input",50,300,800,1500,2500,4000,6500,11000,16000,"(user input)","(user input)","(user input)"]
[7,"Loose fine sand; alluvium; soft silts and clays; silty sand","4-8",8000,5000,9000,13000,19000,24000,"user input","user input","user input","user input","N/A",200,400,1000,2000,3500,5500,9000,13000,"(user input)","(user input)","(user input)"]
["Notes:","1. All types -- Use this chart for estimation only. Values shown reflect the manufacturer's minimum expected holding capacity for a given condition. User is responsible for verifying load capacities. The true capacity must be tested by proof-loading. Minimum 2:1 Safety Factor is recommended. "]
[]
[null,"2. Installation may be difficult. Pilot hole may be required."]
[null,"3. Holding capacity limited by working load of anchors."]
[null,"4. Holding capacity limited by soil failure."]
[null,"5. Wide variation in soil properties reduces prediction accuracy. Pre-constructed field test recommended."]
[null,"6. Duckbill anchors are rated in an average (class 5) soil condition. Proof-loading is the only way to insure the exact capacity of each installation. Anchor holding capacity will vary in different soils. Increased capacities can be expected in harder soil classes (numerically higher blow count classifications) and lower capacity can be expected in the softer soil classes (numerically lower blow count). "]
[]
[]
[null,"7. Platipus Stealth and Bat anchors are given a wide range for holding capacities. The high manufacturer's rating was applied to class 4 soils, while the low value was assigned to class 7 soils. Holding capacities for class 5 and 6 soils were interpolated as a guide only. User is responsible for verifying all rating capacities."]
[]
[]
[]
[]
["Anchor/Ballast Technique Lookup Table"]
["Technique","Description"]
["Added Soil Ballast","Add coarse material soil lifts on top of structure to increase burial depth"]
["Boulder Ballast","Place boulder on top of structure.  Alternatively, secure structure to boulder located beside or beneath structure."]
[]
["Wood Pile               (In development)","Drive or bury vertical wood piles into the bed or banks to brace structure.  Alternatively, brace structure against existing large tree."]
[]
["Mechanical Anchor","Secure structure to soil anchor which uses overlying soil to resist pullout.  Alternatively, secure the structure to bedrock using a rock anchor."]
[]
[]
["Four common alternatives exist for securing or stabilizing placements of large wood in water. In order of preference for habitat formation, they are: "]
[]
["1. No added stability -- where wood is supplied to the stream and allowed to be stable without manipulation or, as conditions develop, moved by the flow. "]
[]
["2. Passive stability -- where the weight and shape of the structure is the anchor, and movement at some flow level is acceptable (includes ballast)."]
[]
["3. Flexible stability -- such as tethering the structure so some degree of movement is allowed with varying flows."]
[]
["4. Rigid stability -- holding the logs permanently in place with no movement allowed."]
["(Source: 2012 WA Stream Habitat Restoration Guidelines)"]

{"sheet":"Interactions","index":16,"n_rows":9,"n_cols":5,"rows_kept":9,"cut":false,"hidden":false,"merged":[[3,0,4,0],[3,1,4,1],[3,2,4,2],[3,3,4,3],[3,4,4,4]]}
["Interaction Force Matrix"]
[]
["Required Resisting Forces for Non-Key Members (to be supplied by Key Members)"]
["Log ID","FV (lbf)","FV (per key member)","FH (lbf)","FH (per key member)"]
[]
["Top #1",{"$f":"'Prelim-Top#1'!$K$61","v":7277.7090783212361},{"$f":"B6/2","v":3638.8545391606181},{"$f":"'Prelim-Top#1'!$K$72","v":1872.2930531413381},{"$f":"D6/2","v":936.14652657066904}]
["Top #2",{"$f":"'Prelim-Top#2'!$K$61","v":7112.8893968738739},{"$f":"B7/2","v":3556.444698436937},{"$f":"'Prelim-Top#2'!$K$72","v":1086.7558075744419},543.37790378722093]
["Top #3",{"$f":"'Prelim-Top#3'!$K$61","v":5323.49829590229},2661.749147951145,{"$f":"-'Prelim-Top#3'!$K$73","v":-3547.2665165881122},-1773.6332582940561]
["Total",{"$f":"SUM(B6:B8)","v":19714.0967710974},9857.0483855487,{"$f":"SUM(D6:D8)","v":-588.21765587233222},-294.10882793616611]