{"text_format":"1","workbook":"xlsx","n_sheets":80,"sheets":["Title Page","Note","TOC","Dermal Abs","Cessna and Grover 2002","Chester et al. 1987","Cowell et al. 1991","Cruz Marquez et al. 2001","Dubelman and Cowell 1989-1","Dubelman and Cowell 1989-2","Dubelman and Cowell 1989-3","Dubelman and Cowell 1989-4","Dubelman and Cowell 1989-5","Franklin et al. 1981","Grover et al. 1986-1","Grover et al. 1986-2","Lavy et al. 1982-1","Lavy et al. 1982-2","Lavy et al. 1982-3","Lavy et al. 1987-1","Lavy et al. 1987-2","Lavy et al. 1987-1&2","Lavy et al. 1987-3","Lavy et al. 1987-4","Lavy et al. 1987-3&4","Lavy et al. 1987-5","Lavy et al. 1987-6a","Lavy et al. 1987-6b","Lavy et al. 1987-7","Lavy et al. 1987-8","Lavy et al. 1987-9","Lavy et al. 1987-10","Libich et al. 1984-1","Libich et al. 1984-2","Lunchick et al. 2005-1","Lunchick et al. 2005-2","Middendorf 1992a-1","Middendorf 1992a-2","Middendorf 1992a-3","Middendorf 1992a-4","Middendorf 1992a-5","Middendorf 1992b-1","Middendorf 1992b-2","Middendorf 1992b-3","Middendorf 1992b-4","Middendorf 1992b-5","Middendorf 1992b-6","Middendorf 1993","Nash et al. 1982-1","Nash et al. 1982-2","Nash et al. 1982-3","Nash et al. 1982-4","Nash et al. 1982-5","Nash et al. 1982-6","Nigg and Stamper 1983a","Spenser et al. 2000-1","Spenser et al. 2000-2","Zhang et al. 2011-1","Zhang et al. 2011-2 Triclopyr","Zhang et al. 2011-3 2,4-D","Zhang et al. 2011-4","BkPkComposite","2,4-D GrndPool","GrndComposite","PilotComposite","MxLdAerialComp","RelRatesMixData","RelRatesMixAnal","BackpackTypFolDerm1a-1","BackpackTypFolDerm1a-2","BackpackTypFolDerm1b1","BackpackTypFolDerm1b2","BackpackTypFolDerm1c","BackpackTypFolDerm1d","RelRatesComposite","BroadcastAnal-1a","BroadcastAnal-1b","BroadcastAnal-1c","Template","t-values"],"not_rendered":{"charts":20,"images":2,"macros":1,"external_links":0,"defined_names":2,"comments":0,"pivot_tables":0},"unopened":[],"bounds":{"document_bytes":16777216,"sheet_cells":100000,"rows_first":2000,"rows_last":500,"rows_between":2000,"halvings":0,"cell_chars":16384,"cell_head_chars":4096},"cells_cut":0,"cells_raw":0,"read":"whole","date_system":"1900"}

{"sheet":"Title Page","index":0,"n_rows":1,"n_cols":7,"rows_kept":1,"cut":false,"hidden":false,"merged":[]}
[null,null,null,null,null,null,"SERA TR 056-06-02b-ATT1"]

{"sheet":"Note","index":1,"n_rows":0,"n_cols":0,"rows_kept":0,"cut":false,"hidden":false,"merged":[]}

{"sheet":"TOC","index":2,"n_rows":76,"n_cols":4,"rows_kept":76,"cut":false,"hidden":false,"merged":[]}
[]
["N","Worksheet Name","Study","Subgroup"]
[4,"Dermal Abs","Dermal Absorption Rates","Table, Figure and Statistics"]
[5,"Cessna and Grover 2002","Cessna and Grover 2002","Bromoxynil, ground broadcast"]
[6,"Chester et al. 1987","Chester et al. 1987","Mixer-loaders for aerial application of cypermethrin"]
[7,"Cowell et al. 1991","Cowell et al. 1991","Lawn care applications, three cities combined."]
[8,"Cruz Marquez et al. 2001","Cruz Marquez et al. 2001","Malation, greenhouse foliar spray"]
[9,"Dubelman and Cowell 1989-1","Dubelman and Cowell 1989","Canada, Open-cab, surface application, mixer/loader/applicator. Table VI, p. 247"]
[10,"Dubelman and Cowell 1989-2","Dubelman and Cowell 1989","Indiana, Closed-cab, soil incorporation, mixer/loader/applicator. Table VI, p. 247"]
[11,"Dubelman and Cowell 1989-3","Dubelman and Cowell 1989","Missouri, Closed-cab, ground broadcast, mixer/loader/applicator. Table VI, p. 247"]
[12,"Dubelman and Cowell 1989-4","Dubelman and Cowell 1989","ANOVA of 3 Groups"]
[13,"Dubelman and Cowell 1989-5","Dubelman and Cowell 1989","All data combinded"]
[14,"Franklin et al. 1981","Franklin et al. 1981","All workers"]
[15,"Grover et al. 1986-1","Grover et al. 1986","Ground broadcast, no day adjustment"]
[16,"Grover et al. 1986-2","Grover et al. 1986","Ground broadcast, with day adjustment"]
[17,"Lavy et al. 1982-1","Lavy et al. 1982","Aerial, pilots, T1 and T2 combined"]
[18,"Lavy et al. 1982-2","Lavy et al. 1982","Aerial, pilots, T1"]
[19,"Lavy et al. 1982-3","Lavy et al. 1982","Mixer/Loaders and pilots, T1 and T2 combined"]
[20,"Lavy et al. 1987-1","Lavy et al. 1987","Backpack, dichlorprop, T1"]
[21,"Lavy et al. 1987-2","Lavy et al. 1987","Backpack, dichlorprop, T2"]
[22,"Lavy et al. 1987-1&2","Lavy et al. 1987","Backpack, dichlorprop, T1 and T2 Combined"]
[23,"Lavy et al. 1987-3","Lavy et al. 1987","Backpack, 2,4-D, T1"]
[24,"Lavy et al. 1987-4","Lavy et al. 1987","Backpack, 2,4-D, T2"]
[25,"Lavy et al. 1987-3&4","Lavy et al. 1987","Backpack, 2,4-D, T1 and T2 combined"]
[26,"Lavy et al. 1987-5","Lavy et al. 1987","Hack-and-Squirt, 2,4-D, T1"]
[27,"Lavy et al. 1987-6a","Lavy et al. 1987","Hack-and-Squirt, 2,4-D, T2 (using 1/2 min. for non-detects)"]
[28,"Lavy et al. 1987-6b","Lavy et al. 1987","Hack-and-Squirt, 2,4-D, T2 (using trimmed mean)."]
[29,"Lavy et al. 1987-7","Lavy et al. 1987","Hack-and-Squirt T1 vs T2."]
[30,"Lavy et al. 1987-8","Lavy et al. 1987","Comparisions based on Margins of Safety"]
[31,"Lavy et al. 1987-9","Lavy et al. 1987","Analysis of Variance for 2,4-D and Dichlorprop, T1 and T2 combined"]
[32,"Lavy et al. 1987-10","Lavy et al. 1987","Correlation of Workers in  2,4-D and Dichlorprop, T1 vs T2"]
[33,"Libich et al. 1984-1","Libich et al. 1984","Comparisions of 2,4-D/Picloram mixture spray"]
[34,"Libich et al. 1984-2","Libich et al. 1984","Analysis of ratios"]
[35,"Lunchick et al. 2005-1","Lunchick et al. 2005","All applicator groups in Table 1 of study"]
[36,"Lunchick et al. 2005-2","Lunchick et al. 2005","Censoring extreme outlier. "]
[37,"Middendorf 1992a-1","Middendorf 1992a","Basal bark, All"]
[38,"Middendorf 1992a-2","Middendorf 1992a","Basal bark, gloves"]
[39,"Middendorf 1992a-3","Middendorf 1992a","Basal bark, no gloves"]
[40,"Middendorf 1992a-4","Middendorf 1992a","Gloves vs No Gloves"]
[41,"Middendorf 1992a-5","Middendorf 1992a","Compasion Basal Bark (with gloves) to Middendorf 1992b foliar study"]
[42,"Middendorf 1992b-1","Middendorf 1992b","All workers, all sites"]
[43,"Middendorf 1992b-2","Middendorf 1992b","Sites 1, 2, and 4 (medium to low brush height)"]
[44,"Middendorf 1992b-3","Middendorf 1992b","Site 3, high bush height and poor PPE"]
[45,"Middendorf 1992b-4","Middendorf 1992b","Site 1, low to medium bush, leather gloves"]
[46,"Middendorf 1992b-5","Middendorf 1992b","Sites 2 and 4, low to medium bush height, latex or nitrile gloves"]
[47,"Middendorf 1992b-6","Middendorf 1992b","ANOVA on groups with leather, nitrile, and latex gloves"]
[48,"Middendorf 1993","Middendorf 1993","All groups combined"]
[49,"Nash et al. 1982-1","Nash et al. 1982","Mixer/loaders in aerial application of 2,4-D"]
[50,"Nash et al. 1982-2","Nash et al. 1982","Pilots in aerial application of 2,4-D"]
[51,"Nash et al. 1982-3","Nash et al. 1982","Ground broadcast application of 2,4-D, Applicators only"]
[52,"Nash et al. 1982-4","Nash et al. 1982","Ground broadcast application of 2,4-D, Mixer/Loader/Applicators only"]
[53,"Nash et al. 1982-5","Nash et al. 1982","Ground broadcast application of 2,4-D, Applicators & M/L/A combined"]
[54,"Nash et al. 1982-6","Nash et al. 1982","Ground broadcast application of 2,4-D, Mixer/Loaders only"]
[55,"Nigg and Stamper 1983a","Nigg and Stamper 1983a","Aquatic applications of 2,4-D amine"]
[56,"Spenser et al. 2000-1","Spenser et al. 2000","Backpack, directed foliar, triclopyr BEE.  Day 1 and 2 combined.  See plot."]
[57,"Spenser et al. 2000-2","Spenser et al. 2000","Check of Table IX in report for mg/kg dose (not rate) Day 2 only."]
[59,"Zhang et al. 2011-2 Triclopyr","Zhang et al. 2011","Applicators, Triclopyr"]
[60,"Zhang et al. 2011-3 2,4-D","Zhang et al. 2011","Applicators, 2,4-D"]
[61,"Zhang et al. 2011-4","Zhang et al. 2011","Comparison of Exposure Rates for 2,4-D and Triclopyr"]
[62,"BkPkComposite","Composite Middendorf, Spenser, and Zhang","Triclopyr BEE Middendorf low to medium bush, Spenser, and Zhang individaul measurements."]
[63,"2,4-D GrndPool","t-test for 2,4-2  Ground Broadcast","Grover et al. 1986 and Nashet al. 1982, Applicators & MLA"]
[64,"GrndComposite","Composite","Grover et al. 1986 and Nash et al. 1982"]
[65,"PilotComposite","All pilot data","Lavy et al. 1982 (T1&T2) and Nash et al. 1982"]
[66,"MxLdAerialComp","All aerial mixer/loaders","Chester, Lavy et al. 1982 and Nash et al. 1982"]
[67,"RelRatesMixData","Relative Exposure Rates, Mixture Data","Data on relative exposure rates from mixture studies"]
[68,"RelRatesMixAnal","Relative Exposure Rates, Mixture Data","Analysis of Mixture Data (linear)"]
[69,"BackpackTypFolDerm1a-1","Backpack Foliar","Dermal Abs Rate vs Worker Exposure Rate (untransformed, constrained regression)"]
[70,"BackpackTypFolDerm1a-2","Backpack Foliar","Dermal Abs Rate vs Worker Exposure Rate (untransformed, unconstrained regression)"]
[71,"BackpackTypFolDerm1b1","Backpack Foliar","Relative Dermal Abs Rate vs Worker Exposure Rate (constrained regression) - Eq. 3 in report"]
[72,"BackpackTypFolDerm1b2","Backpack Foliar","Relative Dermal Abs Rate vs Worker Exposure Rate (constrained regression) - Eq. 3 in report - censoring Middendorf 1992b"]
[73,"BackpackTypFolDerm1c","Backpack Foliar","Relative Dermal Abs Rate vs Relative Worker Exposure Rate (constrained regression) - Eq. 4 in report"]
[74,"BackpackTypFolDerm1d","Relative Directed Foliar","As in 1c but adding Lavy et al. 1987 Dicloprop Backpack, T1 and T2 (from RelRatesMixData)"]
[75,"RelRatesComposite","Relative Directed Foliar","As in 1c but adding Lavy et al. 1987 Dicloprop Backpack, T1 and T2 and Picloram Libich 1984 geo. mean (from RelRatesMixData)"]
[76,"BroadcastAnal-1a","Broadcast Applications","Correlation with Best Available Dermal Absorption Rates"]
[77,"BroadcastAnal-1b","Broadcast Applications","As in 1a but censoring the data on azinphos-methyl (orchard air blast)"]
[78,"BroadcastAnal-1c","Broadcast Applications","As in 1b but using log transformation"]

{"sheet":"Dermal Abs","index":3,"n_rows":44,"n_cols":22,"rows_kept":44,"cut":false,"hidden":false,"merged":[[0,1,0,8],[1,1,1,8],[4,0,5,0],[4,5,5,5],[4,4,5,4],[4,1,4,3]]}
[null,"Dermal Absorption Rates"]
["Subgroup:","Table, Figure and Statistics",null,null,null,null,null,null,null,null,null,null,null,"All data"]
["This is simply an illustration of the measured and estimated first-order dermal absorption rate coefficients",null,null,null,null,null,null,null,null,null,null,null,null,"SUMMARY OUTPUT"]
[]
["Chemical","ka",null,null,"Prop. Dev.","Reference for Measured ka",null,null,"Log regression with all (link below fig)",null,null,null,null,"Regression Statistics"]
[null,"Measured","Estimated","Species",null,null,null,null,"Obs (x)","Pred (y)",null,null,null,"Multiple R",0.57135251288629851]
["2,4-D acid",6.6E-4,1.1999999999999999E-3,"Humans",{"$f":"1/(B7/C7)","v":1.8181818181818181},"Feldmann and Maibach 1974 /SERA (2006a)",null,null,{"$f":"LOG10(B7)","v":-3.1804560644581312},{"$f":"LOG10(C7)","v":-2.9208187539523753},null,null,null,"R Square",0.32644369398148787]
["Alachlor",2.29E-2,6.2899999999999996E-3,"Monkeys",{"$f":"B8/C8","v":3.6406995230524646},"U.S. EPA/OPP 1998b",null,null,{"$f":"LOG10(B8)","v":-1.6401645176601121},{"$f":"LOG10(C8)","v":-2.2013493545547309},null,null,null,"Adjusted R Square",0.24224915572917383]
["Azinphos-methyl",2.2700000000000001E-2,1.99E-3,"Rats",{"$f":"B9/C9","v":11.407035175879397},"U.S. EPA/OPP 2001",null,null,-1.6439741428068773,-2.7011469235902932,null,null,null,"Standard Error",0.25702317562291965]
["Bromoxynil (alcohol)",1.9E-3,5.4000000000000003E-3,"Rats",{"$f":"1/(B10/C10)","v":2.8421052631578947},"U.S. EPA/OPP 1998a",null,null,-2.7212463990471711,-2.2676062401770314,null,null,null,"Observations",10]
["Bromoxynil octanoate",1.0999999999999999E-2,3.0400000000000002E-3,"Rats",3.6184210526315783,"U.S. EPA/OPP 1998a",null,null,-1.9586073148417751,-2.5171264163912461]
["Cypermethrin",1.1000000000000001E-3,3.5999999999999999E-3,"Rats",{"$f":"1/(B12/C12)","v":3.2727272727272725},"U.S. EPA/OPP 2006b",null,null,-2.9586073148417751,-2.4436974992327127,null,null,null,"ANOVA"]
["Glyphosate",4.0999999999999999E-4,7.3999999999999999E-4,"Monkeys",{"$f":"1/(B13/C13)","v":1.8048780487804879},"Wester et al. 1991/SERA (2010a)",null,null,-3.3872161432802645,-3.1307682802690238,null,null,null,null,"df","SS","MS","F","Significance F"]
["Malathion",3.5999999999999999E-3,1.9E-3,"Humans",1.8947368421052631,"Feldmann and Maibach 1974 /SERA 2008a",null,null,-2.4436974992327127,-2.7212463990471711,null,null,null,"Regression",1,0.25613500414925183,0.25613500414925183,3.8772549948929238,8.4464456413009578E-2]
["Picloram acid",5.0000000000000002E-5,1.34E-3,"Humans",{"$f":"1/(B15/C15)","v":26.799999999999997},"Nolan et al. 1984/SERA 2011a",null,null,-4.3010299956639813,-2.8728952016351923,null,null,null,"Residual",8,0.52848730245832154,6.6060912807290192E-2]
["Triclopyr BEE",2.0999999999999999E-3,3.0899999999999999E-3,"Humans",{"$f":"1/(B16/C16)","v":1.4714285714285713},"Carmichael et al. 1989/SERA 2011d",null,null,-2.6777807052660809,-2.5100415205751654,null,null,null,"Total",9,0.78462230660757337]
[]
[null,null,null,null,null,null,null,null,null,null,null,null,null,null,"Coefficients","Standard Error","t Stat","P-value","Lower 95%","Upper 95%","Lower 95.0%","Upper 95.0%"]
[null,null,null,null,null,null,null,null,null,null,null,null,null,"Intercept",-2.081094325781879,0.28972198654708947,-7.1830735063789568,9.3993705049972838E-5,-2.7491944242670985,-1.4129942272966596,-2.7491944242670985,-1.4129942272966596]
[null,null,null,null,null,null,null,null,null,null,null,null,null,"Obs (x)",0.20346293886585215,0.10332921527557648,1.9690746544742597,8.4464456413009537E-2,-3.481465865018149E-2,0.44174053638188582,-3.481465865018149E-2,0.44174053638188582]
[]
[null,null,null,null,null,null,null,null,"Log regression without picloram and azinphos",null,null,null,null,"No picloram and azinphos"]
[null,null,null,null,null,null,null,null,{"$f":"I6","v":"Obs (x)"},"Pred (y)",null,null,null,"SUMMARY OUTPUT"]
[null,null,null,null,null,null,null,"2,4-D acid",{"$f":"I7","v":-3.1804560644581312},-2.9208187539523753]
[null,null,null,null,null,null,null,"Alachlor",-1.6401645176601121,-2.2013493545547309,null,null,null,"Regression Statistics"]
[null,null,null,null,null,null,null,"Bromoxynil (alcohol)",{"$f":"I10","v":-2.7212463990471711},-2.2676062401770314,null,null,null,"Multiple R",0.6971022316579506]
[null,null,null,null,null,null,null,"Bromoxynil octanoate",-1.9586073148417751,-2.5171264163912461,null,null,null,"R Square",0.48595152138249509]
[null,null,null,null,null,null,null,"Cypermethrin",-2.9586073148417751,-2.4436974992327127,null,null,null,"Adjusted R Square",0.40027677494624431]
[null,null,null,null,null,null,null,"Glyphosate",-3.3872161432802645,-3.1307682802690238,null,null,null,"Standard Error",0.24614619953637046]
[null,null,null,null,null,null,null,"Malathion",-2.4436974992327127,-2.7212463990471711,null,null,null,"Observations",8]
[null,null,null,null,null,null,null,"Triclopyr BEE",{"$f":"I16","v":-2.6777807052660809},{"$f":"J16","v":-2.5100415205751654}]
[null,null,null,null,null,null,null,null,null,null,null,null,null,"ANOVA"]
[null,null,null,null,null,null,null,null,null,null,null,null,null,null,"df","SS","MS","F","Significance F"]
[null,null,null,null,null,null,null,null,null,null,null,null,null,"Regression",1,0.34365794421384216,0.34365794421384216,5.6720508854272911,5.4648211147205611E-2]
[null,null,null,null,null,null,null,null,null,null,null,null,null,"Residual",6,0.36352770927719219,6.0587951546198698E-2]
[null,1.0000000000000001E-5,1.0000000000000001E-5,null,null,null,null,null,null,null,null,null,null,"Total",7,0.70718565349103435]
[null,0.1,0.1]
[null,null,null,null,null,null,null,null,null,null,null,null,null,null,"Coefficients","Standard Error","t Stat","P-value","Lower 95%","Upper 95%","Lower 95.0%","Upper 95.0%"]
[null,null,null,null,null,null,null,null,null,null,null,null,null,"Intercept",-1.6093750959974917,0.42046835000582866,-3.8275772622961566,8.6836411760947661E-3,-2.6382240826767571,-0.58052610931822612,-2.6382240826767571,-0.58052610931822612]
[null,null,null,null,null,null,null,null,null,null,null,null,null,"Obs (x)",0.37379518512999022,0.15695083976553831,2.3816067864841357,5.4648211147205555E-2,-1.0249683999863146E-2,0.75784005425984358,-1.0249683999863146E-2,0.75784005425984358]
[]
[]
[null,1.0000000000000001E-5,1.0000000000000001E-5]
[null,0.1,0.1]

{"sheet":"Cessna and Grover 2002","index":4,"n_rows":18,"n_cols":18,"rows_kept":18,"cut":false,"hidden":false,"merged":[[0,1,0,8],[1,1,1,8]]}
[null,"Cessna and Grover 2002"]
["Subgroup:","Bromoxynil, ground broadcast"]
[null,"See study  notes"]
[null,"Cannot get individual measurements but can get medians and range."]
[null,"See Table 8 of paper",null,null,null,null,null,"Calculated"]
[null,"Estimate","ug p.e.","ug/g creatine","ng p.e./g creatinine/kg BW","ng/g creatinine/kg (p.e.)","ng/g creatinine/kg BW /kg (p.e.)",null,"g creatine \n(ug p.e./g creatine to ug  p.e.)","ng p.e./kg bw","ng p.e./kg bw per kg p.e.","ng p.e./kg bw per lb p.e.","ug p.e./kg bw per lb p.e.","mg p.e./kg bw per lb p.e.","Urinary correction factor","Corrected \nmg p.e./kg bw per lb p.e.",null,"n"]
[null,"With Gloves",null,null,null,null,null,null,null,null,null,null,null,null,null,null,null,5]
[null,"Minimum",1.62,0.16700000000000001,2.5299999999999998,18.600000000000001,0.28000000000000003,null,{"$f":"C8/D8","v":9.7005988023952092},{"$f":"E8*I8","v":24.542514970059877},{"$f":"G8*I8","v":2.716167664670659},{"$f":"K8*$K$18","v":1.2320536526946109},{"$f":"L8/1000","v":1.2320536526946109E-3},{"$f":"M8/1000","v":1.2320536526946109E-6},0.9,{"$f":"N8/O8","v":1.3689485029940121E-6},"Minimum"]
[null,"Maximum",38,2.68,27.4,305,3.04,null,{"$f":"C9/D9","v":14.17910447761194},{"$f":"E9*I9","v":388.50746268656712},{"$f":"G9*I9","v":43.104477611940297},{"$f":"K9*$K$18","v":19.552191044776119},{"$f":"L9/1000","v":1.955219104477612E-2},1.9552191044776121E-5,0.75,{"$f":"N9/O9","v":2.6069588059701493E-5},"Maximum"]
[null,"Median",4.99,0.38800000000000001,5.24,53,0.62,null,12.860824742268042,67.390721649484547,7.9737113402061857,3.616875463917526,3.6168754639175262E-3,3.6168754639175261E-6,0.8,4.521094329896907E-6,"Median"]
[null,"Withour Gloves",null,null,null,null,null,null,null,null,null,null,null,null,null,null,null,8]
[null,"Minimum",13.5,0.73899999999999999,8.4,82.1,0.93,null,{"$f":"C12/D12","v":18.267929634641408},{"$f":"E12*I12","v":153.45060893098784},{"$f":"G12*I12","v":16.989174560216512},{"$f":"K12*$K$18","v":7.70628958051421},{"$f":"L12/1000","v":7.7062895805142103E-3},{"$f":"M12/1000","v":7.706289580514211E-6},0.9,{"$f":"N12/O12","v":8.5625439783491231E-6}]
[null,"Maximum",187,9.98,119,1110,13.2,null,18.737474949899799,{"$f":"E13*I13","v":2229.7595190380762},{"$f":"G13*I13","v":247.33466933867732},{"$f":"K13*$K$18","v":112.19100601202403},{"$f":"L13/1000","v":0.11219100601202403},1.1219100601202403E-4,0.75,{"$f":"N13/O13","v":1.4958800801603204E-4}]
[null,"Median",55.7,3.15,28.9,350,3.51,null,17.682539682539684,511.02539682539685,62.065714285714286,28.153008,2.8153008E-2,2.8153008000000002E-5,0.8,3.519126E-5,"Median"]
[]
[null,null,null,null,null,null,null,null,null,null,null,null,null,null,null,"Weighted ave.",{"$f":"((P8*$R$7) + (P12*$R$11))/($R$7+$R$11)","v":5.7957764878279268E-6},"Minimum"]
[null,null,null,null,null,null,null,null,null,null,null,null,null,null,null,null,{"$f":"((P9*$R$7) + (P13*$R$11))/($R$7+$R$11)","v":1.0208092341744338E-4},"Maximum"]
[null,null,null,null,null,null,null,null,null,"lb/kg",0.4536,null,null,null,null,null,2.3395042434575733E-5,"Median"]

{"sheet":"Chester et al. 1987","index":5,"n_rows":46,"n_cols":13,"rows_kept":46,"cut":false,"hidden":false,"merged":[[9,2,9,4],[9,6,9,8],[15,3,15,4],[15,7,15,8],[21,0,21,8],[8,2,8,8],[0,1,0,8],[1,1,1,8],[2,2,2,8],[3,2,3,4],[3,6,3,8]]}
[null,"Chester et al. 1987"]
["Subgroup:","Mixer-loaders for aerial application of cypermethrin"]
[null,null,"Confidence Intervals"]
[null,null,"Arithmetic",null,null,null,"Geometric (Log10)"]
[null,null,"Mean","Lower Limit","Upper Limit",null,"Mean","Lower Limit","Upper Limit"]
[null,null,{"$f":"IF(C15>0,AVERAGE(B24:B29), \"\")","v":2.4206349206349209E-5},{"$f":"IF(C15>1, C6-C20, \"\")","v":8.3406191803995708E-6},{"$f":"IF(C15>1, C6+C20, \"\")","v":4.0072079232298848E-5},"Inverse log",{"$f":"IF(C15>0, 10^G7, \"\")","v":2.3650170420153594E-5},{"$f":"IF(C15>1,10^H7, \"\")","v":1.2268831503554966E-5},{"$f":"IF(C15>1, 10^I7, \"\")","v":4.5589554371191646E-5}]
[null,null,null,null,null,"Log",{"$f":"IF(C15>0, AVERAGE(G24:G29), \"\")","v":-4.626165725443478},{"$f":"IF(C15>1, G7-G20, \"\")","v":-4.9111967979676567},{"$f":"IF(C15>1, G7+G20, \"\")","v":-4.3411346529192993}]
[]
[null,null,"Prediction Intervals"]
[null,null,"Arithmetic",null,null,null,"Geometric (Log10)"]
[null,null,"Mean","Lower Limit","Upper Limit",null,"Mean","Lower Limit","Upper Limit"]
[null,null,{"$f":"IF(C15>0,AVERAGE(B24:B29), \"\")","v":2.4206349206349209E-5},{"$f":"IF(C15>1, C12-C21, \"\")","v":-7.5251108455500611E-6},{"$f":"IF(C15>1, C12+C21, \"\")","v":5.5937809258248483E-5},"Inverse log",{"$f":"IF($C$15>0, 10^G13, \"\")","v":2.3650170420153594E-5},{"$f":"IF($C$15>0, 10^H13, \"\")","v":6.3646148754324695E-6},8.7881289260931296E-5]
[null,null,null,null,null,"Log",{"$f":"IF(C15>0, AVERAGE(G24:G29), \"\")","v":-4.626165725443478},{"$f":"IF(C15>1, G13-G21, \"\")","v":-5.1962278704918363},{"$f":"IF(C15>1, G13+G21, \"\")","v":-4.0561035803951198},null,null,{"$f":"'t-values'!A3","v":"95% Confidence Interval"}]
[]
[null,"n:",{"$f":"COUNTA(B24:B29)","v":3},null,null,null,null,null,null,null,null,{"$f":"'t-values'!A4","v":"alpha = 0.025"}]
[null,"SSE:",{"$f":"IF(C15>0, SUM(C24:C29), \"\")","v":8.1569664902998251E-11},"Check",null,"SSE:",{"$f":"IF(C15>0, SUM(H24:H29), \"\")","v":2.6326490720751286E-2},"Check",null,null,null,{"$f":"'t-values'!A5","v":"n"},{"$f":"'t-values'!B5","v":"t-value"}]
[null,"Variance (s2):",{"$f":"IF(C15>1, C16/(C15-1), \"\")","v":4.0784832451499126E-11},{"$f":"IF(C15>1, VAR(B24:B29), \"\")","v":4.0784832451499126E-11},{"$f":"IF(C15>1, C17-D17, \"\")","v":0},"Variance (s2):",{"$f":"IF(C15>1, G16/(C15-1), \"\")","v":1.3163245360375643E-2},{"$f":"IF(C15>1, VAR(G24:G29), \"\")","v":1.3163245360375643E-2},{"$f":"IF(C15>1, G17-H17, \"\")","v":0},null,null,{"$f":"'t-values'!A6","v":2},{"$f":"'t-values'!B6","v":12.706}]
[null,"Std Dev (s):",{"$f":"IF(C15>1, C17^0.5, \"\")","v":6.3863003727901126E-6},{"$f":"IF(C15>1, STDEV(B24:B29), \"\")","v":6.3863003727901126E-6},{"$f":"IF(C15>1, C18-D18, \"\")","v":0},"Std Dev (s):",{"$f":"IF(C15>1, G17^0.5, \"\")","v":0.11473118739198877},{"$f":"IF(C15>1, STDEV(G24:G26), \"\")","v":0.11473118739198877},{"$f":"IF(C15>1, G18-H18, \"\")","v":0},null,null,{"$f":"'t-values'!A7","v":3},{"$f":"'t-values'!B7","v":4.3029999999999999}]
[null,"t-value:",{"$f":"IF(C15>1, IF(C15<31, OFFSET(M16, C15-1, 0), 1.96), \"\")","v":4.3029999999999999},null,null,"t-value:",{"$f":"C19","v":4.3029999999999999},null,null,null,null,{"$f":"'t-values'!A8","v":4},{"$f":"'t-values'!B8","v":3.1819999999999999}]
[null,"Conf. Interval Factor:",{"$f":"IF(C15>1, C19*C18/(C15^0.5), \"\")","v":1.5865730025949639E-5},"t x s / n0.5",null,"Conf. Interval Factor:",{"$f":"IF(C15>1, G19*G18/(C15^0.5), \"\")","v":0.28503107252417914},"t x s / n0.5",null,null,null,{"$f":"'t-values'!A9","v":5},{"$f":"'t-values'!B9","v":2.7759999999999998}]
[null,"Pred. Interal Factor:",{"$f":"IF(C15>1, C19*C18*(1+(1/C15))^0.5, \"\")","v":3.1731460051899271E-5},"t x s x (1+ 1/n)0.5",null,"Pred. Interal Factor:",{"$f":"IF(C15>1, G19*G18*((1+(1/C15))^0.5), \"\")","v":0.57006214504835817},"t x s x (1+ 1/n)0.5",null,null,null,{"$f":"'t-values'!A10","v":6},{"$f":"'t-values'!B10","v":2.5710000000000002}]
["RAW DATA (only enter data under Identifier and Rate.  Everything else is a link.)",null,null,null,null,null,null,null,null,null,null,{"$f":"'t-values'!A11","v":7},{"$f":"'t-values'!B11","v":2.4470000000000001}]
["Identifier","Rate","(x - xbar)2","n",null,null,"Log Rate","(x - xbar)2",null,null,null,{"$f":"'t-values'!A12","v":8},{"$f":"'t-values'!B12","v":2.3650000000000002}]
["Worker 1",{"$f":"F40","v":1.8253968253968254E-5},{"$f":"IF(ISBLANK(B24)=FALSE, ($C$6-B24)^2, \"\")","v":3.5430839002267606E-11},1,null,null,{"$f":"IF(ISBLANK(B24)=FALSE,LOG10(B24), \"\")","v":-4.7386427090999703},{"$f":"IF(ISBLANK(B24)=FALSE, ($G$7-G24)^2, \"\")","v":1.2651071852462831E-2},null,null,null,{"$f":"'t-values'!A13","v":9},{"$f":"'t-values'!B13","v":2.306}]
["Worker 2",2.3412698412698411E-5,{"$f":"IF(ISBLANK(B25)=FALSE, ($C$6-B25)^2, \"\")","v":6.2988158226254242E-13},{"$f":"D24+1","v":2},null,null,{"$f":"IF(ISBLANK(B25)=FALSE,LOG10(B25), \"\")","v":-4.6305485291394},{"$f":"IF(ISBLANK(B25)=FALSE, ($G$7-G25)^2, \"\")","v":1.9208968236986857E-5},null,null,null,{"$f":"'t-values'!A14","v":10},{"$f":"'t-values'!B14","v":2.262}]
["Worker 3",3.0952380952380953E-5,4.5508944318468094E-11,{"$f":"D25+1","v":3},null,null,-4.5093059380910638,1.3656209900051466E-2,null,null,null,{"$f":"'t-values'!A15","v":11},{"$f":"'t-values'!B15","v":2.2280000000000002}]
[null,null,"",4,null,null,"","",null,null,null,{"$f":"'t-values'!A16","v":12},{"$f":"'t-values'!B16","v":2.2010000000000001}]
[null,null,"",5,null,null,"","",null,null,null,{"$f":"'t-values'!A17","v":13},{"$f":"'t-values'!B17","v":2.1789999999999998}]
[null,null,"",6,null,null,"","",null,null,null,{"$f":"'t-values'!A18","v":14},{"$f":"'t-values'!B18","v":2.16}]
["NOTE: If there are more than 45 items, insert additional cellss in the middle of the data area.  The formulae should update correctly but check.",null,null,null,null,null,null,null,null,null,null,{"$f":"'t-values'!A19","v":15},{"$f":"'t-values'!B19","v":2.145}]
[null,null,null,null,null,null,null,null,null,null,null,{"$f":"'t-values'!A20","v":16},{"$f":"'t-values'!B20","v":2.1309999999999998}]
[null,null,null,null,null,null,null,null,null,null,null,{"$f":"'t-values'!A21","v":17},{"$f":"'t-values'!B21","v":2.12}]
[null,null,null,null,null,null,null,null,null,null,null,{"$f":"'t-values'!A22","v":18},{"$f":"'t-values'!B22","v":2.11}]
[null,null,null,null,null,null,null,null,null,null,null,{"$f":"'t-values'!A23","v":19},{"$f":"'t-values'!B23","v":2.101}]
[null,null,null,null,null,null,null,null,null,null,null,{"$f":"'t-values'!A24","v":20},{"$f":"'t-values'!B24","v":2.093}]
[null,null,null,null,null,null,null,null,null,null,null,{"$f":"'t-values'!A25","v":21},{"$f":"'t-values'!B25","v":2.0859999999999999}]
[null,null,null,null,null,null,null,null,null,null,null,{"$f":"'t-values'!A26","v":22},{"$f":"'t-values'!B26","v":2.08}]
[null,null,null,null,null,null,null,null,null,null,null,{"$f":"'t-values'!A27","v":23},{"$f":"'t-values'!B27","v":2.0739999999999998}]
[null,"ug/day","mg/day","Amount Handled (lb)","BW (kg)","Rate",null,null,null,null,null,{"$f":"'t-values'!A28","v":24},{"$f":"'t-values'!B28","v":2.069}]
[null,46,{"$f":"B40/1000","v":4.5999999999999999E-2},36,70,{"$f":"(C40/E40)/D40","v":1.8253968253968254E-5},null,null,null,null,null,{"$f":"'t-values'!A29","v":25},{"$f":"'t-values'!B29","v":2.0640000000000001}]
[null,59,{"$f":"B41/1000","v":5.8999999999999997E-2},36,70,{"$f":"(C41/E41)/D41","v":2.3412698412698411E-5},null,null,null,null,null,{"$f":"'t-values'!A30","v":26},{"$f":"'t-values'!B30","v":2.06}]
[null,78,7.8E-2,36,70,3.0952380952380953E-5,null,null,null,null,null,{"$f":"'t-values'!A31","v":27},{"$f":"'t-values'!B31","v":2.056}]
[null,null,null,null,null,null,null,null,null,null,null,{"$f":"'t-values'!A32","v":28},{"$f":"'t-values'!B32","v":2.052}]
[null,null,null,null,null,null,null,null,null,null,null,{"$f":"'t-values'!A33","v":29},{"$f":"'t-values'!B33","v":2.048}]
[null,null,null,null,null,null,null,null,null,null,null,{"$f":"'t-values'!A34","v":30},{"$f":"'t-values'!B34","v":2.0449999999999999}]
[null,null,null,null,null,null,null,null,null,null,null,{"$f":"'t-values'!A35","v":"∞"},{"$f":"'t-values'!B35","v":1.96}]

{"sheet":"Cowell et al. 1991","index":6,"n_rows":69,"n_cols":13,"rows_kept":69,"cut":false,"hidden":false,"merged":[[9,2,9,4],[9,6,9,8],[15,3,15,4],[15,7,15,8],[21,0,21,8],[8,2,8,8],[0,1,0,8],[1,1,1,8],[2,2,2,8],[3,2,3,4],[3,6,3,8]]}
[null,"Cowell et al. 1991"]
["Subgroup:","Lawn care applications, three cities combined."]
[null,null,"Confidence Intervals"]
[null,null,"Arithmetic",null,null,null,"Geometric (Log10)"]
[null,null,"Mean","Lower Limit","Upper Limit",null,"Mean","Lower Limit","Upper Limit"]
[null,null,{"$f":"IF(C15>0,AVERAGE(B24:B68), \"\")","v":5.0638888888888885E-5},{"$f":"IF(C15>1, C6-C20, \"\")","v":3.8546943137735431E-5},{"$f":"IF(C15>1, C6+C20, \"\")","v":6.2730834640042332E-5},"Inverse log",{"$f":"IF(C15>0, 10^G7, \"\")","v":4.3435974677221243E-5},{"$f":"IF(C15>1,10^H7, \"\")","v":3.1741368057064874E-5},{"$f":"IF(C15>1, 10^I7, \"\")","v":5.9439274727173375E-5}]
[null,null,null,null,null,"Log",{"$f":"IF(C15>0, AVERAGE(G24:G68), \"\")","v":-4.362150428733945},{"$f":"IF(C15>1, G7-G20, \"\")","v":-4.4983743590294916},{"$f":"IF(C15>1, G7+G20, \"\")","v":-4.2259264984383984}]
[]
[null,null,"Prediction Intervals"]
[null,null,"Arithmetic",null,null,null,"Geometric (Log10)"]
[null,null,"Mean","Lower Limit","Upper Limit",null,"Mean","Lower Limit","Upper Limit"]
[null,null,{"$f":"IF(C15>0,AVERAGE(B24:B68), \"\")","v":5.0638888888888885E-5},{"$f":"IF(C15>1, C12-C21, \"\")","v":-2.068680671165036E-6},{"$f":"IF(C15>1, C12+C21, \"\")","v":1.033464584489428E-4},"Inverse log",{"$f":"IF($C$15>0, 10^G13, \"\")","v":4.3435974677221243E-5},{"$f":"IF($C$15>0, 10^H13, \"\")","v":1.1067849000982384E-5},1.7046527251977711E-4]
[null,null,null,null,null,"Log",{"$f":"IF(C15>0, AVERAGE(G24:G68), \"\")","v":-4.362150428733945},{"$f":"IF(C15>1, G13-G21, \"\")","v":-4.9559367745841625},{"$f":"IF(C15>1, G13+G21, \"\")","v":-3.7683640828837275},null,null,{"$f":"'t-values'!A3","v":"95% Confidence Interval"}]
[]
[null,"n:",{"$f":"COUNTA(B24:B68)","v":18},null,null,null,null,null,null,null,null,{"$f":"'t-values'!A4","v":"alpha = 0.025"}]
[null,"SSE:",{"$f":"IF(C15>0, SUM(C24:C68), \"\")","v":1.0049602777777778E-8},"Check",null,"SSE:",{"$f":"IF(C15>0, SUM(H24:H68), \"\")","v":1.2754496778286197},"Check",null,null,null,{"$f":"'t-values'!A5","v":"n"},{"$f":"'t-values'!B5","v":"t-value"}]
[null,"Variance (s2):",{"$f":"IF(C15>1, C16/(C15-1), \"\")","v":5.911531045751634E-10},{"$f":"IF(C15>1, VAR(B24:B68), \"\")","v":5.911531045751634E-10},{"$f":"IF(C15>1, C17-D17, \"\")","v":0},"Variance (s2):",{"$f":"IF(C15>1, G16/(C15-1), \"\")","v":7.5026451636977631E-2},{"$f":"IF(C15>1, VAR(G24:G68), \"\")","v":7.5026451636977631E-2},{"$f":"IF(C15>1, G17-H17, \"\")","v":0},null,null,{"$f":"'t-values'!A6","v":2},{"$f":"'t-values'!B6","v":12.706}]
[null,"Std Dev (s):",{"$f":"IF(C15>1, C17^0.5, \"\")","v":2.431364029871223E-5},{"$f":"IF(C15>1, STDEV(B24:B68), \"\")","v":2.431364029871223E-5},{"$f":"IF(C15>1, C18-D18, \"\")","v":0},"Std Dev (s):",{"$f":"IF(C15>1, G17^0.5, \"\")","v":0.27390956835601349},{"$f":"IF(C15>1, STDEV(G24:G31), \"\")","v":0.20458876612404636},{"$f":"IF(C15>1, G18-H18, \"\")","v":6.9320802231967127E-2},null,null,{"$f":"'t-values'!A7","v":3},{"$f":"'t-values'!B7","v":4.3029999999999999}]
[null,"t-value:",{"$f":"IF(C15>1, IF(C15<31, OFFSET(M16, C15-1, 0), 1.96), \"\")","v":2.11},null,null,"t-value:",{"$f":"C19","v":2.11},null,null,null,null,{"$f":"'t-values'!A8","v":4},{"$f":"'t-values'!B8","v":3.1819999999999999}]
[null,"Conf. Interval Factor:",{"$f":"IF(C15>1, C19*C18/(C15^0.5), \"\")","v":1.2091945751153453E-5},"t x s / n0.5",null,"Conf. Interval Factor:",{"$f":"IF(C15>1, G19*G18/(C15^0.5), \"\")","v":0.13622393029554686},"t x s / n0.5",null,null,null,{"$f":"'t-values'!A9","v":5},{"$f":"'t-values'!B9","v":2.7759999999999998}]
[null,"Pred. Interal Factor:",{"$f":"IF(C15>1, C19*C18*(1+(1/C15))^0.5, \"\")","v":5.2707569560053921E-5},"t x s x (1+ 1/n)0.5",null,"Pred. Interal Factor:",{"$f":"IF(C15>1, G19*G18*((1+(1/C15))^0.5), \"\")","v":0.5937863458502175},"t x s x (1+ 1/n)0.5",null,null,null,{"$f":"'t-values'!A10","v":6},{"$f":"'t-values'!B10","v":2.5710000000000002}]
["RAW DATA (only enter data under Identifier and Rate.  Everything else is a link.)",null,null,null,null,null,null,null,null,null,null,{"$f":"'t-values'!A11","v":7},{"$f":"'t-values'!B11","v":2.4470000000000001}]
["Identifier","Rate","(x - xbar)2","n",null,null,"Log Rate","(x - xbar)2",null,null,null,{"$f":"'t-values'!A12","v":8},{"$f":"'t-values'!B12","v":2.3650000000000002}]
["Atlanta #1",4.2500000000000003E-5,{"$f":"IF(ISBLANK(B24)=FALSE, ($C$6-B24)^2, \"\")","v":6.6241512345678897E-11},1,null,null,{"$f":"IF(ISBLANK(B24)=FALSE,LOG10(B24), \"\")","v":-4.3716110699496884},{"$f":"IF(ISBLANK(B24)=FALSE, ($G$7-G24)^2, \"\")","v":8.9503732213023042E-5},null,null,null,{"$f":"'t-values'!A13","v":9},{"$f":"'t-values'!B13","v":2.306}]
["Atlanta #2",2.4199999999999999E-5,{"$f":"IF(ISBLANK(B25)=FALSE, ($C$6-B25)^2, \"\")","v":6.9901484567901222E-10},{"$f":"D24+1","v":2},null,null,{"$f":"IF(ISBLANK(B25)=FALSE,LOG10(B25), \"\")","v":-4.6161846340195689},{"$f":"IF(ISBLANK(B25)=FALSE, ($G$7-G25)^2, \"\")","v":6.4533377455098517E-2},null,null,null,{"$f":"'t-values'!A14","v":10},{"$f":"'t-values'!B14","v":2.262}]
["Atlanta #3",5.0000000000000002E-5,4.0817901234567096E-13,{"$f":"D25+1","v":3},null,null,-4.3010299956639813,3.7357073386599161E-3,null,null,null,{"$f":"'t-values'!A15","v":11},{"$f":"'t-values'!B15","v":2.2280000000000002}]
["Atlanta #4",8.1299999999999997E-5,9.4010373456790141E-10,4,null,null,-4.089909454405932,7.4115148103065825E-2,null,null,null,{"$f":"'t-values'!A16","v":12},{"$f":"'t-values'!B16","v":2.2010000000000001}]
["Atlanta #5",7.6699999999999994E-5,6.791815123456789E-10,5,null,null,-4.1152046360510193,6.0982224523798527E-2,null,null,null,{"$f":"'t-values'!A17","v":13},{"$f":"'t-values'!B17","v":2.1789999999999998}]
["Atlanta #6",4.21E-5,7.2912623456790052E-11,6,null,null,-4.3757179041643317,1.8407638955414735E-4,null,null,null,{"$f":"'t-values'!A18","v":14},{"$f":"'t-values'!B18","v":2.16}]
["Cincinati #7",6.3100000000000002E-5,1.5527929012345694E-10,7,null,null,-4.1999706407558657,2.6302283628614757E-2,null,null,null,{"$f":"'t-values'!A19","v":15},{"$f":"'t-values'!B19","v":2.145}]
["Cincinati #8",2.3799999999999999E-5,7.2032595679012328E-10,8,null,null,-4.6234230429434877,6.8263378935888547E-2,null,null,null,{"$f":"'t-values'!A20","v":16},{"$f":"'t-values'!B20","v":2.1309999999999998}]
["Cincinati #9",6.0600000000000003E-5,9.9223734567901358E-11,9,null,null,-4.217527375833714,2.0915827430183023E-2,null,null,null,{"$f":"'t-values'!A21","v":17},{"$f":"'t-values'!B21","v":2.12}]
["Cincinati #10",4.8900000000000003E-5,3.0237345679012114E-12,10,null,null,-4.3106911408763802,2.6480583068077177E-3,null,null,null,{"$f":"'t-values'!A22","v":18},{"$f":"'t-values'!B22","v":2.11}]
["Cincinati #12",7.5900000000000002E-5,6.3812373456790148E-10,11,null,null,-4.1197582241045199,5.8753980865113103E-2,null,null,null,{"$f":"'t-values'!A23","v":19},{"$f":"'t-values'!B23","v":2.101}]
["Clevland #13",6.7299999999999996E-5,2.7759262345679011E-10,12,null,null,-4.171984935776023,3.6162914711929464E-2,null,null,null,{"$f":"'t-values'!A24","v":20},{"$f":"'t-values'!B24","v":2.093}]
["Clevland #14",2.26E-5,7.8617929012345651E-10,13,null,null,-4.6458915608525988,8.0509030055975359E-2,null,null,null,{"$f":"'t-values'!A25","v":21},{"$f":"'t-values'!B25","v":2.0859999999999999}]
["Clevland #15",1.27E-5,1.4393592901234567E-9,14,null,null,-4.8961962790440428,0.28520497023343533,null,null,null,{"$f":"'t-values'!A26","v":22},{"$f":"'t-values'!B26","v":2.08}]
["Clevland #16",1.11E-5,1.563323734567901E-9,15,null,null,-4.9546770212133424,0.35108776279524589,null,null,null,{"$f":"'t-values'!A27","v":23},{"$f":"'t-values'!B27","v":2.0739999999999998}]
["Clevland #17",9.2200000000000005E-5,1.7273259567901243E-9,16,null,null,-4.0352690789463708,0.10685141683894644,null,null,null,{"$f":"'t-values'!A28","v":24},{"$f":"'t-values'!B28","v":2.069}]
["Clevland #18",5.2500000000000002E-5,3.4637345679012572E-12,17,null,null,-4.279840696594043,6.7748920049424165E-3,null,null,null,{"$f":"'t-values'!A29","v":25},{"$f":"'t-values'!B29","v":2.0640000000000001}]
["Clevland #19",6.3999999999999997E-5,1.7851929012345682E-10,18,null,null,-4.1938200260161125,2.8335124479147673E-2,null,null,null,{"$f":"'t-values'!A30","v":26},{"$f":"'t-values'!B30","v":2.06}]
[null,null,"",19,null,null,"","",null,null,null,{"$f":"'t-values'!A31","v":27},{"$f":"'t-values'!B31","v":2.056}]
[null,null,"",20,null,null,"","",null,null,null,{"$f":"'t-values'!A32","v":28},{"$f":"'t-values'!B32","v":2.052}]
[null,null,"",21,null,null,"","",null,null,null,{"$f":"'t-values'!A33","v":29},{"$f":"'t-values'!B33","v":2.048}]
[null,null,"",22,null,null,"","",null,null,null,{"$f":"'t-values'!A34","v":30},{"$f":"'t-values'!B34","v":2.0449999999999999}]
[null,null,"",23,null,null,"","",null,null,null,{"$f":"'t-values'!A35","v":"∞"},{"$f":"'t-values'!B35","v":1.96}]
[null,null,"",24,null,null,"",""]
[null,null,"",25,null,null,"",""]
[null,null,"",26,null,null,"",""]
[null,null,"",27,null,null,"",""]
[null,null,"",28,null,null,"",""]
[null,null,"",29,null,null,"",""]
[null,null,"",30,null,null,"",""]
[null,null,"",31,null,null,"",""]
[null,null,"",32,null,null,"",""]
[null,null,"",33,null,null,"",""]
[null,null,"",34,null,null,"",""]
[null,null,"",35,null,null,"",""]
[null,null,"",36,null,null,"",""]
[null,null,"",37,null,null,"",""]
[null,null,"",38,null,null,"",""]
[null,null,"",39,null,null,"",""]
[null,null,"",40,null,null,"",""]
[null,null,"",41,null,null,"",""]
[null,null,"",42,null,null,"",""]
[null,null,"",43,null,null,"",""]
[null,null,"",44,null,null,"",""]
[null,null,"",45,null,null,"",""]
["NOTE: If there are more than 45 items, insert additional cellss in the middle of the data area.  The formulae should update correctly but check."]

{"sheet":"Cruz Marquez et al. 2001","index":7,"n_rows":11,"n_cols":8,"rows_kept":11,"cut":false,"hidden":false,"merged":[[0,1,0,8],[1,1,1,8]]}
[null,"Cruz Marquez et al. 2001"]
["Subgroup:","Malation, greenhouse foliar spray"]
[]
[null,"See discussion of study in Appendix 2 and Section 3.2.3.4.2 of report."]
[null,null,"ug MMA per worker","mg MMA per worker","mg MMA/kg bw","mg Malation equivalent","Rate: mg/kg bw per lb a.i."]
[null,"PPE",133.75,{"$f":"C6/1000","v":0.13375000000000001},{"$f":"D6/$D$9","v":1.9107142857142858E-3},{"$f":"E6/$D$10","v":5.3075396825396828E-3},{"$f":"F6/$D$11","v":4.7388747165532877E-3}]
[null,"No PPE",671.42,{"$f":"C7/1000","v":0.67141999999999991},{"$f":"D7/$D$9","v":9.591714285714285E-3},{"$f":"E7/$D$10","v":2.6643650793650792E-2},{"$f":"F7/$D$11","v":2.3788973922902492E-2}]
[null,null,null,null,null,null,{"$f":"G7/G6","v":5.0199626168224301},"No PPE/PPD"]
[null,null,"Assumed BW:",70,"kg"]
[null,null,"MMA Correction Factor:",0.36,null,"see discussion of Krieger and Dinoff (2000) in text."]
[null,null,"Amount a.i. handled:",1.1200000000000001,"lb"]

{"sheet":"Dubelman and Cowell 1989-1","index":8,"n_rows":69,"n_cols":13,"rows_kept":69,"cut":false,"hidden":false,"merged":[[8,2,8,8],[0,1,0,8],[1,1,1,8],[2,2,2,8],[3,2,3,4],[3,6,3,8],[9,2,9,4],[9,6,9,8],[15,3,15,4],[15,7,15,8],[21,0,21,8]]}
[null,"Dubelman and Cowell 1989"]
["Subgroup:","Canada, Open-cab, surface application, mixer/loader/applicator. Table VI, p. 247"]
[null,null,"Confidence Intervals"]
[null,null,"Arithmetic",null,null,null,"Geometric (Log10)"]
[null,null,"Mean","Lower Limit","Upper Limit",null,"Mean","Lower Limit","Upper Limit"]
[null,null,{"$f":"IF(C15>0,AVERAGE(B24:B68), \"\")","v":4.9850000000000006E-5},{"$f":"IF(C15>1, C6-C20, \"\")","v":-1.7457448836836274E-5},{"$f":"IF(C15>1, C6+C20, \"\")","v":1.1715744883683629E-4},"Inverse log",{"$f":"IF(C15>0, 10^G7, \"\")","v":3.9511404856849761E-5},{"$f":"IF(C15>1,10^H7, \"\")","v":1.192185338803941E-5},{"$f":"IF(C15>1, 10^I7, \"\")","v":1.3094869253535001E-4}]
[null,null,null,null,null,"Log",{"$f":"IF(C15>0, AVERAGE(G24:G68), \"\")","v":-4.4032775283866137},{"$f":"IF(C15>1, G7-G20, \"\")","v":-4.9236562233182317},{"$f":"IF(C15>1, G7+G20, \"\")","v":-3.8828988334549956}]
[]
[null,null,"Prediction Intervals"]
[null,null,"Arithmetic",null,null,null,"Geometric (Log10)"]
[null,null,"Mean","Lower Limit","Upper Limit",null,"Mean","Lower Limit","Upper Limit"]
[null,null,{"$f":"IF(C15>0,AVERAGE(B24:B68), \"\")","v":4.9850000000000006E-5},{"$f":"IF(C15>1, C12-C21, \"\")","v":-1.0065403099125508E-4},{"$f":"IF(C15>1, C12+C21, \"\")","v":2.0035403099125511E-4},"Inverse log",{"$f":"IF($C$15>0, 10^G13, \"\")","v":3.9511404856849761E-5},{"$f":"IF($C$15>0, 10^H13, \"\")","v":2.710942684501017E-6},5.7587020289558068E-4]
[null,null,null,null,null,"Log",{"$f":"IF(C15>0, AVERAGE(G24:G68), \"\")","v":-4.4032775283866137},{"$f":"IF(C15>1, G13-G21, \"\")","v":-5.5668796642963372},{"$f":"IF(C15>1, G13+G21, \"\")","v":-3.2396753924768902},null,null,{"$f":"'t-values'!A3","v":"95% Confidence Interval"}]
[]
[null,"n:",{"$f":"COUNTA(B24:B68)","v":4},null,null,null,null,null,null,null,null,{"$f":"'t-values'!A4","v":"alpha = 0.025"}]
[null,"SSE:",{"$f":"IF(C15>0, SUM(C24:C68), \"\")","v":5.3691699999999996E-9},"Check",null,"SSE:",{"$f":"IF(C15>0, SUM(H24:H68), \"\")","v":0.32093709012006266},"Check",null,null,null,{"$f":"'t-values'!A5","v":"n"},{"$f":"'t-values'!B5","v":"t-value"}]
[null,"Variance (s2):",{"$f":"IF(C15>1, C16/(C15-1), \"\")","v":1.7897233333333332E-9},{"$f":"IF(C15>1, VAR(B24:B68), \"\")","v":1.7897233333333332E-9},{"$f":"IF(C15>1, C17-D17, \"\")","v":0},"Variance (s2):",{"$f":"IF(C15>1, G16/(C15-1), \"\")","v":0.10697903004002089},{"$f":"IF(C15>1, VAR(G24:G68), \"\")","v":0.10697903004002089},{"$f":"IF(C15>1, G17-H17, \"\")","v":0},null,null,{"$f":"'t-values'!A6","v":2},{"$f":"'t-values'!B6","v":12.706}]
[null,"Std Dev (s):",{"$f":"IF(C15>1, C17^0.5, \"\")","v":4.2305121833335184E-5},{"$f":"IF(C15>1, STDEV(B24:B68), \"\")","v":4.2305121833335184E-5},{"$f":"IF(C15>1, C18-D18, \"\")","v":0},"Std Dev (s):",{"$f":"IF(C15>1, G17^0.5, \"\")","v":0.32707648958618363},{"$f":"IF(C15>1, STDEV(G24:G31), \"\")","v":0.32707648958618363},{"$f":"IF(C15>1, G18-H18, \"\")","v":0},null,null,{"$f":"'t-values'!A7","v":3},{"$f":"'t-values'!B7","v":4.3029999999999999}]
[null,"t-value:",{"$f":"IF(C15>1, IF(C15<31, OFFSET(M16, C15-1, 0), 1.96), \"\")","v":3.1819999999999999},null,null,"t-value:",{"$f":"C19","v":3.1819999999999999},null,null,null,null,{"$f":"'t-values'!A8","v":4},{"$f":"'t-values'!B8","v":3.1819999999999999}]
[null,"Conf. Interval Factor:",{"$f":"IF(C15>1, C19*C18/(C15^0.5), \"\")","v":6.730744883683628E-5},"t x s / n0.5",null,"Conf. Interval Factor:",{"$f":"IF(C15>1, G19*G18/(C15^0.5), \"\")","v":0.52037869493161815},"t x s / n0.5",null,null,null,{"$f":"'t-values'!A9","v":5},{"$f":"'t-values'!B9","v":2.7759999999999998}]
[null,"Pred. Interal Factor:",{"$f":"IF(C15>1, C19*C18*(1+(1/C15))^0.5, \"\")","v":1.5050403099125509E-4},"t x s x (1+ 1/n)0.5",null,"Pred. Interal Factor:",{"$f":"IF(C15>1, G19*G18*((1+(1/C15))^0.5), \"\")","v":1.1636021359097235},"t x s x (1+ 1/n)0.5",null,null,null,{"$f":"'t-values'!A10","v":6},{"$f":"'t-values'!B10","v":2.5710000000000002}]
["RAW DATA (only enter data under Identifier and Rate.  Everything else is a link.)",null,null,null,null,null,null,null,null,null,null,{"$f":"'t-values'!A11","v":7},{"$f":"'t-values'!B11","v":2.4470000000000001}]
["Identifier","Rate","(x - xbar)2","n",null,null,"Log Rate","(x - xbar)2",null,null,null,{"$f":"'t-values'!A12","v":8},{"$f":"'t-values'!B12","v":2.3650000000000002}]
["CAN 01",2.6999999999999999E-5,{"$f":"IF(ISBLANK(B24)=FALSE, ($C$6-B24)^2, \"\")","v":5.2212250000000033E-10},1,null,null,{"$f":"IF(ISBLANK(B24)=FALSE,LOG10(B24), \"\")","v":-4.5686362358410131},{"$f":"IF(ISBLANK(B24)=FALSE, ($G$7-G24)^2, \"\")","v":2.7343502130989645E-2},null,null,null,{"$f":"'t-values'!A13","v":9},{"$f":"'t-values'!B13","v":2.306}]
["CAN 05",1.9899999999999999E-5,{"$f":"IF(ISBLANK(B25)=FALSE, ($C$6-B25)^2, \"\")","v":8.9700250000000039E-10},{"$f":"D24+1","v":2},null,null,{"$f":"IF(ISBLANK(B25)=FALSE,LOG10(B25), \"\")","v":-4.7011469235902936},{"$f":"IF(ISBLANK(B25)=FALSE, ($G$7-G25)^2, \"\")","v":8.8726176599006071E-2},null,null,null,{"$f":"'t-values'!A14","v":10},{"$f":"'t-values'!B14","v":2.262}]
["CAN 03",1.12E-4,3.8626224999999992E-9,{"$f":"D25+1","v":3},null,null,-3.9507819773298185,0.20475222372619273,null,null,null,{"$f":"'t-values'!A15","v":11},{"$f":"'t-values'!B15","v":2.2280000000000002}]
["CAN 04",4.0500000000000002E-5,8.7422500000000067E-11,4,null,null,-4.3925449767853317,1.151876638741797E-4,null,null,null,{"$f":"'t-values'!A16","v":12},{"$f":"'t-values'!B16","v":2.2010000000000001}]
[null,null,"",5,null,null,"","",null,null,null,{"$f":"'t-values'!A17","v":13},{"$f":"'t-values'!B17","v":2.1789999999999998}]
[null,null,"",6,null,null,"","",null,null,null,{"$f":"'t-values'!A18","v":14},{"$f":"'t-values'!B18","v":2.16}]
[null,null,"",7,null,null,"","",null,null,null,{"$f":"'t-values'!A19","v":15},{"$f":"'t-values'!B19","v":2.145}]
[null,null,"",8,null,null,"","",null,null,null,{"$f":"'t-values'!A20","v":16},{"$f":"'t-values'!B20","v":2.1309999999999998}]
[null,null,"",9,null,null,"","",null,null,null,{"$f":"'t-values'!A21","v":17},{"$f":"'t-values'!B21","v":2.12}]
[null,null,"",10,null,null,"","",null,null,null,{"$f":"'t-values'!A22","v":18},{"$f":"'t-values'!B22","v":2.11}]
[null,null,"",11,null,null,"","",null,null,null,{"$f":"'t-values'!A23","v":19},{"$f":"'t-values'!B23","v":2.101}]
[null,null,"",12,null,null,"","",null,null,null,{"$f":"'t-values'!A24","v":20},{"$f":"'t-values'!B24","v":2.093}]
[null,null,"",13,null,null,"","",null,null,null,{"$f":"'t-values'!A25","v":21},{"$f":"'t-values'!B25","v":2.0859999999999999}]
[null,null,"",14,null,null,"","",null,null,null,{"$f":"'t-values'!A26","v":22},{"$f":"'t-values'!B26","v":2.08}]
[null,null,"",15,null,null,"","",null,null,null,{"$f":"'t-values'!A27","v":23},{"$f":"'t-values'!B27","v":2.0739999999999998}]
[null,null,"",16,null,null,"","",null,null,null,{"$f":"'t-values'!A28","v":24},{"$f":"'t-values'!B28","v":2.069}]
[null,null,"",17,null,null,"","",null,null,null,{"$f":"'t-values'!A29","v":25},{"$f":"'t-values'!B29","v":2.0640000000000001}]
[null,null,"",18,null,null,"","",null,null,null,{"$f":"'t-values'!A30","v":26},{"$f":"'t-values'!B30","v":2.06}]
[null,null,"",19,null,null,"","",null,null,null,{"$f":"'t-values'!A31","v":27},{"$f":"'t-values'!B31","v":2.056}]
[null,null,"",20,null,null,"","",null,null,null,{"$f":"'t-values'!A32","v":28},{"$f":"'t-values'!B32","v":2.052}]
[null,null,"",21,null,null,"","",null,null,null,{"$f":"'t-values'!A33","v":29},{"$f":"'t-values'!B33","v":2.048}]
[null,null,"",22,null,null,"","",null,null,null,{"$f":"'t-values'!A34","v":30},{"$f":"'t-values'!B34","v":2.0449999999999999}]
[null,null,"",23,null,null,"","",null,null,null,{"$f":"'t-values'!A35","v":"∞"},{"$f":"'t-values'!B35","v":1.96}]
[null,null,"",24,null,null,"",""]
[null,null,"",25,null,null,"",""]
[null,null,"",26,null,null,"",""]
[null,null,"",27,null,null,"",""]
[null,null,"",28,null,null,"",""]
[null,null,"",29,null,null,"",""]
[null,null,"",30,null,null,"",""]
[null,null,"",31,null,null,"",""]
[null,null,"",32,null,null,"",""]
[null,null,"",33,null,null,"",""]
[null,null,"",34,null,null,"",""]
[null,null,"",35,null,null,"",""]
[null,null,"",36,null,null,"",""]
[null,null,"",37,null,null,"",""]
[null,null,"",38,null,null,"",""]
[null,null,"",39,null,null,"",""]
[null,null,"",40,null,null,"",""]
[null,null,"",41,null,null,"",""]
[null,null,"",42,null,null,"",""]
[null,null,"",43,null,null,"",""]
[null,null,"",44,null,null,"",""]
[null,null,"",45,null,null,"",""]
["NOTE: If there are more than 45 items, insert additional cellss in the middle of the data area.  The formulae should update correctly but check."]

{"sheet":"Dubelman and Cowell 1989-2","index":9,"n_rows":69,"n_cols":13,"rows_kept":69,"cut":false,"hidden":false,"merged":[[8,2,8,8],[0,1,0,8],[1,1,1,8],[2,2,2,8],[3,2,3,4],[3,6,3,8],[9,2,9,4],[9,6,9,8],[15,3,15,4],[15,7,15,8],[21,0,21,8]]}
[null,"Dubelman and Cowell 1989"]
["Subgroup:","Indiana, Closed-cab, soil incorporation, mixer/loader/applicator. Table VI, p. 247"]
[null,null,"Confidence Intervals"]
[null,null,"Arithmetic",null,null,null,"Geometric (Log10)"]
[null,null,"Mean","Lower Limit","Upper Limit",null,"Mean","Lower Limit","Upper Limit"]
[null,null,{"$f":"IF(C15>0,AVERAGE(B24:B68), \"\")","v":8.988000000000001E-6},{"$f":"IF(C15>1, C6-C20, \"\")","v":4.5789558343885461E-7},{"$f":"IF(C15>1, C6+C20, \"\")","v":1.7518104416561149E-5},"Inverse log",{"$f":"IF(C15>0, 10^G7, \"\")","v":5.2289732839085419E-6},{"$f":"IF(C15>1,10^H7, \"\")","v":1.686509739725979E-6},{"$f":"IF(C15>1, 10^I7, \"\")","v":1.6212276134421718E-5}]
[null,null,null,null,null,"Log",{"$f":"IF(C15>0, AVERAGE(G24:G68), \"\")","v":-5.2815835770804105},{"$f":"IF(C15>1, G7-G20, \"\")","v":-5.7730111463828528},{"$f":"IF(C15>1, G7+G20, \"\")","v":-4.7901560077779681}]
[]
[null,null,"Prediction Intervals"]
[null,null,"Arithmetic",null,null,null,"Geometric (Log10)"]
[null,null,"Mean","Lower Limit","Upper Limit",null,"Mean","Lower Limit","Upper Limit"]
[null,null,{"$f":"IF(C15>0,AVERAGE(B24:B68), \"\")","v":8.988000000000001E-6},{"$f":"IF(C15>1, C12-C21, \"\")","v":-1.5138778708718823E-5},{"$f":"IF(C15>1, C12+C21, \"\")","v":3.3114778708718826E-5},"Inverse log",{"$f":"IF($C$15>0, 10^G13, \"\")","v":5.2289732839085419E-6},{"$f":"IF($C$15>0, 10^H13, \"\")","v":2.1303421296237083E-7},1.2834634035359776E-4]
[null,null,null,null,null,"Log",{"$f":"IF(C15>0, AVERAGE(G24:G68), \"\")","v":-5.2815835770804105},{"$f":"IF(C15>1, G13-G21, \"\")","v":-6.6715506439435277},{"$f":"IF(C15>1, G13+G21, \"\")","v":-3.8916165102172933},null,null,{"$f":"'t-values'!A3","v":"95% Confidence Interval"}]
[]
[null,"n:",{"$f":"COUNTA(B24:B68)","v":7},null,null,null,null,null,null,null,null,{"$f":"'t-values'!A4","v":"alpha = 0.025"}]
[null,"SSE:",{"$f":"IF(C15>0, SUM(C24:C68), \"\")","v":5.1037576799999993E-10},"Check",null,"SSE:",{"$f":"IF(C15>0, SUM(H24:H68), \"\")","v":1.6939492135706558},"Check",null,null,null,{"$f":"'t-values'!A5","v":"n"},{"$f":"'t-values'!B5","v":"t-value"}]
[null,"Variance (s2):",{"$f":"IF(C15>1, C16/(C15-1), \"\")","v":8.5062627999999993E-11},{"$f":"IF(C15>1, VAR(B24:B68), \"\")","v":8.5062627999999993E-11},{"$f":"IF(C15>1, C17-D17, \"\")","v":0},"Variance (s2):",{"$f":"IF(C15>1, G16/(C15-1), \"\")","v":0.28232486892844261},{"$f":"IF(C15>1, VAR(G24:G68), \"\")","v":0.28232486892844261},{"$f":"IF(C15>1, G17-H17, \"\")","v":0},null,null,{"$f":"'t-values'!A6","v":2},{"$f":"'t-values'!B6","v":12.706}]
[null,"Std Dev (s):",{"$f":"IF(C15>1, C17^0.5, \"\")","v":9.2229403120696811E-6},{"$f":"IF(C15>1, STDEV(B24:B68), \"\")","v":9.2229403120696811E-6},{"$f":"IF(C15>1, C18-D18, \"\")","v":0},"Std Dev (s):",{"$f":"IF(C15>1, G17^0.5, \"\")","v":0.53134251564169288},{"$f":"IF(C15>1, STDEV(G24:G31), \"\")","v":0.53134251564169288},{"$f":"IF(C15>1, G18-H18, \"\")","v":0},null,null,{"$f":"'t-values'!A7","v":3},{"$f":"'t-values'!B7","v":4.3029999999999999}]
[null,"t-value:",{"$f":"IF(C15>1, IF(C15<31, OFFSET(M16, C15-1, 0), 1.96), \"\")","v":2.4470000000000001},null,null,"t-value:",{"$f":"C19","v":2.4470000000000001},null,null,null,null,{"$f":"'t-values'!A8","v":4},{"$f":"'t-values'!B8","v":3.1819999999999999}]
[null,"Conf. Interval Factor:",{"$f":"IF(C15>1, C19*C18/(C15^0.5), \"\")","v":8.5301044165611464E-6},"t x s / n0.5",null,"Conf. Interval Factor:",{"$f":"IF(C15>1, G19*G18/(C15^0.5), \"\")","v":0.49142756930244264},"t x s / n0.5",null,null,null,{"$f":"'t-values'!A9","v":5},{"$f":"'t-values'!B9","v":2.7759999999999998}]
[null,"Pred. Interal Factor:",{"$f":"IF(C15>1, C19*C18*(1+(1/C15))^0.5, \"\")","v":2.4126778708718824E-5},"t x s x (1+ 1/n)0.5",null,"Pred. Interal Factor:",{"$f":"IF(C15>1, G19*G18*((1+(1/C15))^0.5), \"\")","v":1.389967066863117},"t x s x (1+ 1/n)0.5",null,null,null,{"$f":"'t-values'!A10","v":6},{"$f":"'t-values'!B10","v":2.5710000000000002}]
["RAW DATA (only enter data under Identifier and Rate.  Everything else is a link.)",null,null,null,null,null,null,null,null,null,null,{"$f":"'t-values'!A11","v":7},{"$f":"'t-values'!B11","v":2.4470000000000001}]
["Identifier","Rate","(x - xbar)2","n",null,null,"Log Rate","(x - xbar)2",null,null,null,{"$f":"'t-values'!A12","v":8},{"$f":"'t-values'!B12","v":2.3650000000000002}]
["IND 01",5.2599999999999996E-6,{"$f":"IF(ISBLANK(B24)=FALSE, ($C$6-B24)^2, \"\")","v":1.3897984000000011E-11},1,null,null,{"$f":"IF(ISBLANK(B24)=FALSE,LOG10(B24), \"\")","v":-5.2790142558462607},{"$f":"IF(ISBLANK(B24)=FALSE, ($G$7-G24)^2, \"\")","v":6.6014116042528895E-6},null,null,null,{"$f":"'t-values'!A13","v":9},{"$f":"'t-values'!B13","v":2.306}]
["IND02",5.7400000000000001E-6,{"$f":"IF(ISBLANK(B25)=FALSE, ($C$6-B25)^2, \"\")","v":1.0549504000000006E-11},{"$f":"D24+1","v":2},null,null,{"$f":"IF(ISBLANK(B25)=FALSE,LOG10(B25), \"\")","v":-5.2410881076020264},{"$f":"IF(ISBLANK(B25)=FALSE, ($G$7-G25)^2, \"\")","v":1.6398830482747394E-3},null,null,null,{"$f":"'t-values'!A14","v":10},{"$f":"'t-values'!B14","v":2.262}]
["IND07",6.7599999999999997E-7,6.9089344000000013E-11,{"$f":"D25+1","v":3},null,null,-6.1700533040583645,0.78937845575628018,null,null,null,{"$f":"'t-values'!A15","v":11},{"$f":"'t-values'!B15","v":2.2280000000000002}]
["IND02",2.1800000000000001E-5,1.6414734400000001E-10,4,null,null,-4.6615435063953949,0.38444968925507905,null,null,null,{"$f":"'t-values'!A16","v":12},{"$f":"'t-values'!B16","v":2.2010000000000001}]
["IND 04",2.27E-5,1.8801894399999995E-10,5,null,null,-4.6439741428068775,0.40654579067461483,null,null,null,{"$f":"'t-values'!A17","v":13},{"$f":"'t-values'!B17","v":2.1789999999999998}]
["IND 06",4.25E-6,2.244864400000001E-11,6,null,null,-5.3716110699496884,8.1049494723278853E-3,null,null,null,{"$f":"'t-values'!A18","v":14},{"$f":"'t-values'!B18","v":2.16}]
["IND 08",2.4899999999999999E-6,4.2224004000000015E-11,7,null,null,-5.6038006529042637,0.10382384395247475,null,null,null,{"$f":"'t-values'!A19","v":15},{"$f":"'t-values'!B19","v":2.145}]
[null,null,"",8,null,null,"","",null,null,null,{"$f":"'t-values'!A20","v":16},{"$f":"'t-values'!B20","v":2.1309999999999998}]
[null,null,"",9,null,null,"","",null,null,null,{"$f":"'t-values'!A21","v":17},{"$f":"'t-values'!B21","v":2.12}]
[null,null,"",10,null,null,"","",null,null,null,{"$f":"'t-values'!A22","v":18},{"$f":"'t-values'!B22","v":2.11}]
[null,null,"",11,null,null,"","",null,null,null,{"$f":"'t-values'!A23","v":19},{"$f":"'t-values'!B23","v":2.101}]
[null,null,"",12,null,null,"","",null,null,null,{"$f":"'t-values'!A24","v":20},{"$f":"'t-values'!B24","v":2.093}]
[null,null,"",13,null,null,"","",null,null,null,{"$f":"'t-values'!A25","v":21},{"$f":"'t-values'!B25","v":2.0859999999999999}]
[null,null,"",14,null,null,"","",null,null,null,{"$f":"'t-values'!A26","v":22},{"$f":"'t-values'!B26","v":2.08}]
[null,null,"",15,null,null,"","",null,null,null,{"$f":"'t-values'!A27","v":23},{"$f":"'t-values'!B27","v":2.0739999999999998}]
[null,null,"",16,null,null,"","",null,null,null,{"$f":"'t-values'!A28","v":24},{"$f":"'t-values'!B28","v":2.069}]
[null,null,"",17,null,null,"","",null,null,null,{"$f":"'t-values'!A29","v":25},{"$f":"'t-values'!B29","v":2.0640000000000001}]
[null,null,"",18,null,null,"","",null,null,null,{"$f":"'t-values'!A30","v":26},{"$f":"'t-values'!B30","v":2.06}]
[null,null,"",19,null,null,"","",null,null,null,{"$f":"'t-values'!A31","v":27},{"$f":"'t-values'!B31","v":2.056}]
[null,null,"",20,null,null,"","",null,null,null,{"$f":"'t-values'!A32","v":28},{"$f":"'t-values'!B32","v":2.052}]
[null,null,"",21,null,null,"","",null,null,null,{"$f":"'t-values'!A33","v":29},{"$f":"'t-values'!B33","v":2.048}]
[null,null,"",22,null,null,"","",null,null,null,{"$f":"'t-values'!A34","v":30},{"$f":"'t-values'!B34","v":2.0449999999999999}]
[null,null,"",23,null,null,"","",null,null,null,{"$f":"'t-values'!A35","v":"∞"},{"$f":"'t-values'!B35","v":1.96}]
[null,null,"",24,null,null,"",""]
[null,null,"",25,null,null,"",""]
[null,null,"",26,null,null,"",""]
[null,null,"",27,null,null,"",""]
[null,null,"",28,null,null,"",""]
[null,null,"",29,null,null,"",""]
[null,null,"",30,null,null,"",""]
[null,null,"",31,null,null,"",""]
[null,null,"",32,null,null,"",""]
[null,null,"",33,null,null,"",""]
[null,null,"",34,null,null,"",""]
[null,null,"",35,null,null,"",""]
[null,null,"",36,null,null,"",""]
[null,null,"",37,null,null,"",""]
[null,null,"",38,null,null,"",""]
[null,null,"",39,null,null,"",""]
[null,null,"",40,null,null,"",""]
[null,null,"",41,null,null,"",""]
[null,null,"",42,null,null,"",""]
[null,null,"",43,null,null,"",""]
[null,null,"",44,null,null,"",""]
[null,null,"",45,null,null,"",""]
["NOTE: If there are more than 45 items, insert additional cellss in the middle of the data area.  The formulae should update correctly but check."]

{"sheet":"Dubelman and Cowell 1989-3","index":10,"n_rows":69,"n_cols":13,"rows_kept":69,"cut":false,"hidden":false,"merged":[[8,2,8,8],[0,1,0,8],[1,1,1,8],[2,2,2,8],[3,2,3,4],[3,6,3,8],[9,2,9,4],[9,6,9,8],[15,3,15,4],[15,7,15,8],[21,0,21,8]]}
[null,"Dubelman and Cowell 1989"]
["Subgroup:","Missouri, Closed-cab, ground broadcast, mixer/loader/applicator. Table VI, p. 247"]
[null,null,"Confidence Intervals"]
[null,null,"Arithmetic",null,null,null,"Geometric (Log10)"]
[null,null,"Mean","Lower Limit","Upper Limit",null,"Mean","Lower Limit","Upper Limit"]
[null,null,{"$f":"IF(C15>0,AVERAGE(B24:B68), \"\")","v":1.1162E-6},{"$f":"IF(C15>1, C6-C20, \"\")","v":5.4944276803499031E-7},{"$f":"IF(C15>1, C6+C20, \"\")","v":1.6829572319650096E-6},"Inverse log",{"$f":"IF(C15>0, 10^G7, \"\")","v":1.031666894277524E-6},{"$f":"IF(C15>1,10^H7, \"\")","v":5.8197948705221801E-7},{"$f":"IF(C15>1, 10^I7, \"\")","v":1.8288214695318573E-6}]
[null,null,null,null,null,"Log",{"$f":"IF(C15>0, AVERAGE(G24:G68), \"\")","v":-5.9864605055475684},{"$f":"IF(C15>1, G7-G20, \"\")","v":-6.2350923225958645},{"$f":"IF(C15>1, G7+G20, \"\")","v":-5.7378286884992722}]
[]
[null,null,"Prediction Intervals"]
[null,null,"Arithmetic",null,null,null,"Geometric (Log10)"]
[null,null,"Mean","Lower Limit","Upper Limit",null,"Mean","Lower Limit","Upper Limit"]
[null,null,{"$f":"IF(C15>0,AVERAGE(B24:B68), \"\")","v":1.1162E-6},{"$f":"IF(C15>1, C12-C21, \"\")","v":-2.7206602634647767E-7},{"$f":"IF(C15>1, C12+C21, \"\")","v":2.5044660263464777E-6},"Inverse log",{"$f":"IF($C$15>0, 10^G13, \"\")","v":1.031666894277524E-6},{"$f":"IF($C$15>0, 10^H13, \"\")","v":2.5381565709976412E-7},4.193344858666022E-6]
[null,null,null,null,null,"Log",{"$f":"IF(C15>0, AVERAGE(G24:G68), \"\")","v":-5.9864605055475684},{"$f":"IF(C15>1, G13-G21, \"\")","v":-6.5954815911369131},{"$f":"IF(C15>1, G13+G21, \"\")","v":-5.3774394199582236},null,null,{"$f":"'t-values'!A3","v":"95% Confidence Interval"}]
[]
[null,"n:",{"$f":"COUNTA(B24:B68)","v":5},null,null,null,null,null,null,null,null,{"$f":"'t-values'!A4","v":"alpha = 0.025"}]
[null,"SSE:",{"$f":"IF(C15>0, SUM(C24:C68), \"\")","v":8.3365279999999989E-13},"Check",null,"SSE:",{"$f":"IF(C15>0, SUM(H24:H68), \"\")","v":0.16043698054323516},"Check",null,null,null,{"$f":"'t-values'!A5","v":"n"},{"$f":"'t-values'!B5","v":"t-value"}]
[null,"Variance (s2):",{"$f":"IF(C15>1, C16/(C15-1), \"\")","v":2.0841319999999997E-13},{"$f":"IF(C15>1, VAR(B24:B68), \"\")","v":2.0841319999999997E-13},{"$f":"IF(C15>1, C17-D17, \"\")","v":0},"Variance (s2):",{"$f":"IF(C15>1, G16/(C15-1), \"\")","v":4.010924513580879E-2},{"$f":"IF(C15>1, VAR(G24:G68), \"\")","v":4.010924513580879E-2},{"$f":"IF(C15>1, G17-H17, \"\")","v":0},null,null,{"$f":"'t-values'!A6","v":2},{"$f":"'t-values'!B6","v":12.706}]
[null,"Std Dev (s):",{"$f":"IF(C15>1, C17^0.5, \"\")","v":4.5652294575409893E-7},{"$f":"IF(C15>1, STDEV(B24:B68), \"\")","v":4.5652294575409893E-7},{"$f":"IF(C15>1, C18-D18, \"\")","v":0},"Std Dev (s):",{"$f":"IF(C15>1, G17^0.5, \"\")","v":0.20027292661717608},{"$f":"IF(C15>1, STDEV(G24:G31), \"\")","v":0.20027292661717608},{"$f":"IF(C15>1, G18-H18, \"\")","v":0},null,null,{"$f":"'t-values'!A7","v":3},{"$f":"'t-values'!B7","v":4.3029999999999999}]
[null,"t-value:",{"$f":"IF(C15>1, IF(C15<31, OFFSET(M16, C15-1, 0), 1.96), \"\")","v":2.7759999999999998},null,null,"t-value:",{"$f":"C19","v":2.7759999999999998},null,null,null,null,{"$f":"'t-values'!A8","v":4},{"$f":"'t-values'!B8","v":3.1819999999999999}]
[null,"Conf. Interval Factor:",{"$f":"IF(C15>1, C19*C18/(C15^0.5), \"\")","v":5.667572319650097E-7},"t x s / n0.5",null,"Conf. Interval Factor:",{"$f":"IF(C15>1, G19*G18/(C15^0.5), \"\")","v":0.24863181704829587},"t x s / n0.5",null,null,null,{"$f":"'t-values'!A9","v":5},{"$f":"'t-values'!B9","v":2.7759999999999998}]
[null,"Pred. Interal Factor:",{"$f":"IF(C15>1, C19*C18*(1+(1/C15))^0.5, \"\")","v":1.3882660263464777E-6},"t x s x (1+ 1/n)0.5",null,"Pred. Interal Factor:",{"$f":"IF(C15>1, G19*G18*((1+(1/C15))^0.5), \"\")","v":0.60902108558934442},"t x s x (1+ 1/n)0.5",null,null,null,{"$f":"'t-values'!A10","v":6},{"$f":"'t-values'!B10","v":2.5710000000000002}]
["RAW DATA (only enter data under Identifier and Rate.  Everything else is a link.)",null,null,null,null,null,null,null,null,null,null,{"$f":"'t-values'!A11","v":7},{"$f":"'t-values'!B11","v":2.4470000000000001}]
["Identifier","Rate","(x - xbar)2","n",null,null,"Log Rate","(x - xbar)2",null,null,null,{"$f":"'t-values'!A12","v":8},{"$f":"'t-values'!B12","v":2.3650000000000002}]
["MO 05",7.2200000000000003E-7,{"$f":"IF(ISBLANK(B24)=FALSE, ($C$6-B24)^2, \"\")","v":1.5539363999999998E-13},1,null,null,{"$f":"IF(ISBLANK(B24)=FALSE,LOG10(B24), \"\")","v":-6.141462802430361},{"$f":"IF(ISBLANK(B24)=FALSE, ($G$7-G24)^2, \"\")","v":2.4025712038941393E-2},null,null,null,{"$f":"'t-values'!A13","v":9},{"$f":"'t-values'!B13","v":2.306}]
["MO 07",1.2300000000000001E-6,1.2950440000000018E-14,{"$f":"D24+1","v":2},null,null,{"$f":"IF(ISBLANK(B25)=FALSE,LOG10(B25), \"\")","v":-5.9100948885606019},{"$f":"IF(ISBLANK(B25)=FALSE, ($G$7-G25)^2, \"\")","v":5.831707457800055E-3},null,null,null,{"$f":"'t-values'!A14","v":10},{"$f":"'t-values'!B14","v":2.262}]
["MO 10",1.4899999999999999E-6,1.3972643999999994E-13,{"$f":"D25+1","v":3},null,null,-5.826813731587726,2.5487092435785012E-2,null,null,null,{"$f":"'t-values'!A15","v":11},{"$f":"'t-values'!B15","v":2.2280000000000002}]
["MN 06",1.5799999999999999E-6,2.151104399999999E-13,4,null,null,-5.8013429130455778,3.4268523053733034E-2,null,null,null,{"$f":"'t-values'!A16","v":12},{"$f":"'t-values'!B16","v":2.2010000000000001}]
["MN 08",5.5899999999999996E-7,3.1047184000000006E-13,5,null,null,-6.2525881921135769,7.0823945556975659E-2,null,null,null,{"$f":"'t-values'!A17","v":13},{"$f":"'t-values'!B17","v":2.1789999999999998}]
[null,null,"",6,null,null,"","",null,null,null,{"$f":"'t-values'!A18","v":14},{"$f":"'t-values'!B18","v":2.16}]
[null,null,"",7,null,null,"","",null,null,null,{"$f":"'t-values'!A19","v":15},{"$f":"'t-values'!B19","v":2.145}]
[null,null,"",8,null,null,"","",null,null,null,{"$f":"'t-values'!A20","v":16},{"$f":"'t-values'!B20","v":2.1309999999999998}]
[null,null,"",9,null,null,"","",null,null,null,{"$f":"'t-values'!A21","v":17},{"$f":"'t-values'!B21","v":2.12}]
[null,null,"",10,null,null,"","",null,null,null,{"$f":"'t-values'!A22","v":18},{"$f":"'t-values'!B22","v":2.11}]
[null,null,"",11,null,null,"","",null,null,null,{"$f":"'t-values'!A23","v":19},{"$f":"'t-values'!B23","v":2.101}]
[null,null,"",12,null,null,"","",null,null,null,{"$f":"'t-values'!A24","v":20},{"$f":"'t-values'!B24","v":2.093}]
[null,null,"",13,null,null,"","",null,null,null,{"$f":"'t-values'!A25","v":21},{"$f":"'t-values'!B25","v":2.0859999999999999}]
[null,null,"",14,null,null,"","",null,null,null,{"$f":"'t-values'!A26","v":22},{"$f":"'t-values'!B26","v":2.08}]
[null,null,"",15,null,null,"","",null,null,null,{"$f":"'t-values'!A27","v":23},{"$f":"'t-values'!B27","v":2.0739999999999998}]
[null,null,"",16,null,null,"","",null,null,null,{"$f":"'t-values'!A28","v":24},{"$f":"'t-values'!B28","v":2.069}]
[null,null,"",17,null,null,"","",null,null,null,{"$f":"'t-values'!A29","v":25},{"$f":"'t-values'!B29","v":2.0640000000000001}]
[null,null,"",18,null,null,"","",null,null,null,{"$f":"'t-values'!A30","v":26},{"$f":"'t-values'!B30","v":2.06}]
[null,null,"",19,null,null,"","",null,null,null,{"$f":"'t-values'!A31","v":27},{"$f":"'t-values'!B31","v":2.056}]
[null,null,"",20,null,null,"","",null,null,null,{"$f":"'t-values'!A32","v":28},{"$f":"'t-values'!B32","v":2.052}]
[null,null,"",21,null,null,"","",null,null,null,{"$f":"'t-values'!A33","v":29},{"$f":"'t-values'!B33","v":2.048}]
[null,null,"",22,null,null,"","",null,null,null,{"$f":"'t-values'!A34","v":30},{"$f":"'t-values'!B34","v":2.0449999999999999}]
[null,null,"",23,null,null,"","",null,null,null,{"$f":"'t-values'!A35","v":"∞"},{"$f":"'t-values'!B35","v":1.96}]
[null,null,"",24,null,null,"",""]
[null,null,"",25,null,null,"",""]
[null,null,"",26,null,null,"",""]
[null,null,"",27,null,null,"",""]
[null,null,"",28,null,null,"",""]
[null,null,"",29,null,null,"",""]
[null,null,"",30,null,null,"",""]
[null,null,"",31,null,null,"",""]
[null,null,"",32,null,null,"",""]
[null,null,"",33,null,null,"",""]
[null,null,"",34,null,null,"",""]
[null,null,"",35,null,null,"",""]
[null,null,"",36,null,null,"",""]
[null,null,"",37,null,null,"",""]
[null,null,"",38,null,null,"",""]
[null,null,"",39,null,null,"",""]
[null,null,"",40,null,null,"",""]
[null,null,"",41,null,null,"",""]
[null,null,"",42,null,null,"",""]
[null,null,"",43,null,null,"",""]
[null,null,"",44,null,null,"",""]
[null,null,"",45,null,null,"",""]
["NOTE: If there are more than 45 items, insert additional cellss in the middle of the data area.  The formulae should update correctly but check."]

{"sheet":"Dubelman and Cowell 1989-4","index":11,"n_rows":27,"n_cols":8,"rows_kept":27,"cut":false,"hidden":false,"merged":[[0,1,0,8],[1,1,1,8]]}
[null,"Dubelman and Cowell 1989"]
["Subgroup:","ANOVA of 3 Groups"]
[]
[null,"Closed Cab","Open Cab surface appl.","Closed Cab Ground Broadcast"]
[null,{"$f":"'Dubelman and Cowell 1989-2'!B24","v":5.2599999999999996E-6},{"$f":"'Dubelman and Cowell 1989-1'!B24","v":2.6999999999999999E-5},{"$f":"'Dubelman and Cowell 1989-3'!B24","v":7.2200000000000003E-7}]
[null,{"$f":"'Dubelman and Cowell 1989-2'!B25","v":5.7400000000000001E-6},{"$f":"'Dubelman and Cowell 1989-1'!B25","v":1.9899999999999999E-5},{"$f":"'Dubelman and Cowell 1989-3'!B25","v":1.2300000000000001E-6}]
[null,{"$f":"'Dubelman and Cowell 1989-2'!B26","v":6.7599999999999997E-7},{"$f":"'Dubelman and Cowell 1989-1'!B26","v":1.12E-4},{"$f":"'Dubelman and Cowell 1989-3'!B26","v":1.4899999999999999E-6}]
[null,{"$f":"'Dubelman and Cowell 1989-2'!B27","v":2.1800000000000001E-5},{"$f":"'Dubelman and Cowell 1989-1'!B27","v":4.0500000000000002E-5},{"$f":"'Dubelman and Cowell 1989-3'!B27","v":1.5799999999999999E-6}]
[null,{"$f":"'Dubelman and Cowell 1989-2'!B28","v":2.27E-5},null,{"$f":"'Dubelman and Cowell 1989-3'!B28","v":5.5899999999999996E-7}]
[null,{"$f":"'Dubelman and Cowell 1989-2'!B29","v":4.25E-6}]
[null,{"$f":"'Dubelman and Cowell 1989-2'!B30","v":2.4899999999999999E-6}]
[]
[null,"Anova: Single Factor"]
[]
[null,"SUMMARY"]
[null,"Groups","Count","Sum","Average","Variance"]
[null,"Closed Cab",7,6.2916000000000005E-5,8.988000000000001E-6,8.5062627999999993E-11]
[null,"Open Cab surface appl.",4,1.9940000000000002E-4,4.9850000000000006E-5,1.7897233333333332E-9]
[null,"Closed Cab Ground Broadcast",5,5.5810000000000004E-6,1.1162E-6,2.0841319999999997E-13]
[]
[]
[null,"ANOVA"]
[null,"Source of Variation","SS","df","MS","F","P-value","F crit"]
[null,"Between Groups",6.0262583571375009E-9,2,3.0131291785687505E-9,6.6612503238889236,1.0197773158763235E-2,3.8055652530294042]
[null,"Within Groups",5.8803794207999997E-9,13,4.5233687852307689E-10]
[]
[null,"Total",1.1906637777937501E-8,15]

{"sheet":"Dubelman and Cowell 1989-5","index":12,"n_rows":69,"n_cols":13,"rows_kept":69,"cut":false,"hidden":false,"merged":[[9,2,9,4],[9,6,9,8],[15,3,15,4],[15,7,15,8],[21,0,21,8],[8,2,8,8],[0,1,0,8],[1,1,1,8],[2,2,2,8],[3,2,3,4],[3,6,3,8]]}
[null,"Dubelman and Cowell 1989"]
["Subgroup:","All data combinded"]
[null,null,"Confidence Intervals"]
[null,null,"Arithmetic",null,null,null,"Geometric (Log10)"]
[null,null,"Mean","Lower Limit","Upper Limit",null,"Mean","Lower Limit","Upper Limit"]
[null,null,{"$f":"IF(C15>0,AVERAGE(B24:B68), \"\")","v":1.6743562500000004E-5},{"$f":"IF(C15>1, C6-C20, \"\")","v":1.7338491007963017E-6},{"$f":"IF(C15>1, C6+C20, \"\")","v":3.1753275899203703E-5},"Inverse log",{"$f":"IF(C15>0, 10^G7, \"\")","v":5.2205816791056714E-6},{"$f":"IF(C15>1,10^H7, \"\")","v":2.162209907896782E-6},{"$f":"IF(C15>1, 10^I7, \"\")","v":1.2604915447235498E-5}]
[null,null,null,null,null,"Log",{"$f":"IF(C15>0, AVERAGE(G24:G68), \"\")","v":-5.2822811050529479},{"$f":"IF(C15>1, G7-G20, \"\")","v":-5.6651021469154879},{"$f":"IF(C15>1, G7+G20, \"\")","v":-4.8994600631904079}]
[]
[null,null,"Prediction Intervals"]
[null,null,"Arithmetic",null,null,null,"Geometric (Log10)"]
[null,null,"Mean","Lower Limit","Upper Limit",null,"Mean","Lower Limit","Upper Limit"]
[null,null,{"$f":"IF(C15>0,AVERAGE(B24:B68), \"\")","v":1.6743562500000004E-5},{"$f":"IF(C15>1, C12-C21, \"\")","v":-4.5143071255165571E-5},{"$f":"IF(C15>1, C12+C21, \"\")","v":7.8630196255165572E-5},"Inverse log",{"$f":"IF($C$15>0, 10^G13, \"\")","v":5.2205816791056714E-6},{"$f":"IF($C$15>0, 10^H13, \"\")","v":1.37818431722469E-7},1.9775637211644716E-4]
[null,null,null,null,null,"Log",{"$f":"IF(C15>0, AVERAGE(G24:G68), \"\")","v":-5.2822811050529479},{"$f":"IF(C15>1, G13-G21, \"\")","v":-6.8606926963612},{"$f":"IF(C15>1, G13+G21, \"\")","v":-3.7038695137446958},null,null,{"$f":"'t-values'!A3","v":"95% Confidence Interval"}]
[]
[null,"n:",{"$f":"COUNTA(B24:B68)","v":16},null,null,null,null,null,null,null,null,{"$f":"'t-values'!A4","v":"alpha = 0.025"}]
[null,"SSE:",{"$f":"IF(C15>0, SUM(C24:C68), \"\")","v":1.1906637777937501E-8},"Check",null,"SSE:",{"$f":"IF(C15>0, SUM(H24:H68), \"\")","v":7.7452589816245077},"Check",null,null,null,{"$f":"'t-values'!A5","v":"n"},{"$f":"'t-values'!B5","v":"t-value"}]
[null,"Variance (s2):",{"$f":"IF(C15>1, C16/(C15-1), \"\")","v":7.9377585186250007E-10},{"$f":"IF(C15>1, VAR(B24:B68), \"\")","v":7.9377585186250007E-10},{"$f":"IF(C15>1, C17-D17, \"\")","v":0},"Variance (s2):",{"$f":"IF(C15>1, G16/(C15-1), \"\")","v":0.51635059877496714},{"$f":"IF(C15>1, VAR(G24:G68), \"\")","v":0.51635059877498479},{"$f":"IF(C15>1, G17-H17, \"\")","v":-1.7652546091539989E-14},null,null,{"$f":"'t-values'!A6","v":2},{"$f":"'t-values'!B6","v":12.706}]
[null,"Std Dev (s):",{"$f":"IF(C15>1, C17^0.5, \"\")","v":2.8174027966595407E-5},{"$f":"IF(C15>1, STDEV(B24:B68), \"\")","v":2.8174027966595407E-5},{"$f":"IF(C15>1, C18-D18, \"\")","v":0},"Std Dev (s):",{"$f":"IF(C15>1, G17^0.5, \"\")","v":0.71857539533090553},{"$f":"IF(C15>1, STDEV(G24:G31), \"\")","v":0.67937422984139739},{"$f":"IF(C15>1, G18-H18, \"\")","v":3.9201165489508139E-2},null,null,{"$f":"'t-values'!A7","v":3},{"$f":"'t-values'!B7","v":4.3029999999999999}]
[null,"t-value:",{"$f":"IF(C15>1, IF(C15<31, OFFSET(M16, C15-1, 0), 1.96), \"\")","v":2.1309999999999998},null,null,"t-value:",{"$f":"C19","v":2.1309999999999998},null,null,null,null,{"$f":"'t-values'!A8","v":4},{"$f":"'t-values'!B8","v":3.1819999999999999}]
[null,"Conf. Interval Factor:",{"$f":"IF(C15>1, C19*C18/(C15^0.5), \"\")","v":1.5009713399203703E-5},"t x s / n0.5",null,"Conf. Interval Factor:",{"$f":"IF(C15>1, G19*G18/(C15^0.5), \"\")","v":0.3828210418625399},"t x s / n0.5",null,null,null,{"$f":"'t-values'!A9","v":5},{"$f":"'t-values'!B9","v":2.7759999999999998}]
[null,"Pred. Interal Factor:",{"$f":"IF(C15>1, C19*C18*(1+(1/C15))^0.5, \"\")","v":6.1886633755165571E-5},"t x s x (1+ 1/n)0.5",null,"Pred. Interal Factor:",{"$f":"IF(C15>1, G19*G18*((1+(1/C15))^0.5), \"\")","v":1.5784115913082521},"t x s x (1+ 1/n)0.5",null,null,null,{"$f":"'t-values'!A10","v":6},{"$f":"'t-values'!B10","v":2.5710000000000002}]
["RAW DATA (only enter data under Identifier and Rate.  Everything else is a link.)",null,null,null,null,null,null,null,null,null,null,{"$f":"'t-values'!A11","v":7},{"$f":"'t-values'!B11","v":2.4470000000000001}]
["Identifier","Rate","(x - xbar)2","n",null,null,"Log Rate","(x - xbar)2",null,null,null,{"$f":"'t-values'!A12","v":8},{"$f":"'t-values'!B12","v":2.3650000000000002}]
["CAN 01",2.6999999999999999E-5,{"$f":"IF(ISBLANK(B24)=FALSE, ($C$6-B24)^2, \"\")","v":1.0519451019140614E-10},1,null,null,{"$f":"IF(ISBLANK(B24)=FALSE,LOG10(B24), \"\")","v":-4.5686362358410131},{"$f":"IF(ISBLANK(B24)=FALSE, ($G$7-G24)^2, \"\")","v":0.50928899935251959},null,null,null,{"$f":"'t-values'!A13","v":9},{"$f":"'t-values'!B13","v":2.306}]
["CAN 05",1.9899999999999999E-5,{"$f":"IF(ISBLANK(B25)=FALSE, ($C$6-B25)^2, \"\")","v":9.9630976914062188E-12},{"$f":"D24+1","v":2},null,null,{"$f":"IF(ISBLANK(B25)=FALSE,LOG10(B25), \"\")","v":-4.7011469235902936},{"$f":"IF(ISBLANK(B25)=FALSE, ($G$7-G25)^2, \"\")","v":0.33771693686426918},null,null,null,{"$f":"'t-values'!A14","v":10},{"$f":"'t-values'!B14","v":2.262}]
["CAN 03",1.12E-4,9.0737888851914053E-9,{"$f":"D25+1","v":3},null,null,-3.9507819773298185,1.7728899271274545,null,null,null,{"$f":"'t-values'!A15","v":11},{"$f":"'t-values'!B15","v":2.2280000000000002}]
["CAN 04",4.0500000000000002E-5,5.6436832269140609E-10,4,null,null,-4.3925449767853317,0.79163037794464797,null,null,null,{"$f":"'t-values'!A16","v":12},{"$f":"'t-values'!B16","v":2.2010000000000001}]
[{"$f":"'Dubelman and Cowell 1989-2'!A24","v":"IND 01"},{"$f":"'Dubelman and Cowell 1989-2'!B24","v":5.2599999999999996E-6},1.3187220769140633E-10,5,null,null,-5.2790142558462607,1.067230373923268E-5,null,null,null,{"$f":"'t-values'!A17","v":13},{"$f":"'t-values'!B17","v":2.1789999999999998}]
[{"$f":"'Dubelman and Cowell 1989-2'!A25","v":"IND02"},{"$f":"'Dubelman and Cowell 1989-2'!B25","v":5.7400000000000001E-6},1.2107838769140635E-10,6,null,null,-5.2410881076020264,1.6968630389916277E-3,null,null,null,{"$f":"'t-values'!A18","v":14},{"$f":"'t-values'!B18","v":2.16}]
[{"$f":"'Dubelman and Cowell 1989-2'!A26","v":"IND07"},{"$f":"'Dubelman and Cowell 1989-2'!B26","v":6.7599999999999997E-7},2.5816656469140631E-10,7,null,null,-6.1700533040583645,0.78813947732691303,null,null,null,{"$f":"'t-values'!A19","v":15},{"$f":"'t-values'!B19","v":2.145}]
[{"$f":"'Dubelman and Cowell 1989-2'!A27","v":"IND02"},{"$f":"'Dubelman and Cowell 1989-2'!B27","v":2.1800000000000001E-5},2.5567560191406219E-11,8,null,null,-4.6615435063953949,0.3853151663871453,null,null,null,{"$f":"'t-values'!A20","v":16},{"$f":"'t-values'!B20","v":2.1309999999999998}]
[{"$f":"'Dubelman and Cowell 1989-2'!A28","v":"IND 04"},{"$f":"'Dubelman and Cowell 1989-2'!B28","v":2.27E-5},3.5479147691406193E-11,9,null,null,-4.6439741428068775,0.40743577805180636,null,null,null,{"$f":"'t-values'!A21","v":17},{"$f":"'t-values'!B21","v":2.12}]
[{"$f":"'Dubelman and Cowell 1989-2'!A29","v":"IND 06"},{"$f":"'Dubelman and Cowell 1989-2'!B29","v":4.25E-6},1.5608910394140635E-10,10,null,null,-5.3716110699496884,7.9798426284528896E-3,null,null,null,{"$f":"'t-values'!A22","v":18},{"$f":"'t-values'!B22","v":2.11}]
[{"$f":"'Dubelman and Cowell 1989-2'!A30","v":"IND 08"},{"$f":"'Dubelman and Cowell 1989-2'!B30","v":2.4899999999999999E-6},2.0316404394140638E-10,11,null,null,-5.6038006529042637,0.10337481965051452,null,null,null,{"$f":"'t-values'!A23","v":19},{"$f":"'t-values'!B23","v":2.101}]
[{"$f":"'Dubelman and Cowell 1989-3'!A24","v":"MO 05"},{"$f":"'Dubelman and Cowell 1989-3'!B24","v":7.2200000000000003E-7},2.5669046494140637E-10,12,null,null,-6.141462802430361,0.73819318910833276,null,null,null,{"$f":"'t-values'!A24","v":20},{"$f":"'t-values'!B24","v":2.093}]
[{"$f":"'Dubelman and Cowell 1989-3'!A25","v":"MO 07"},{"$f":"'Dubelman and Cowell 1989-3'!B25","v":1.2300000000000001E-6},2.406706214414064E-10,13,null,null,-5.9100948885606019,0.39415014676219551,null,null,null,{"$f":"'t-values'!A25","v":21},{"$f":"'t-values'!B25","v":2.0859999999999999}]
[{"$f":"'Dubelman and Cowell 1989-3'!A26","v":"MO 10"},{"$f":"'Dubelman and Cowell 1989-3'!B26","v":1.4899999999999999E-6},2.3267116894140641E-10,14,null,null,-5.826813731587726,0.29651578136086409,null,null,null,{"$f":"'t-values'!A26","v":22},{"$f":"'t-values'!B26","v":2.08}]
[{"$f":"'Dubelman and Cowell 1989-3'!A27","v":"MN 06"},{"$f":"'Dubelman and Cowell 1989-3'!B27","v":1.5799999999999999E-6},2.2993362769140637E-10,15,null,null,-5.8013429130455778,0.26942516051657778,null,null,null,{"$f":"'t-values'!A27","v":23},{"$f":"'t-values'!B27","v":2.0739999999999998}]
[{"$f":"'Dubelman and Cowell 1989-3'!A28","v":"MN 08"},{"$f":"'Dubelman and Cowell 1989-3'!B28","v":5.5899999999999996E-7},2.6194006331640643E-10,16,null,null,-6.2525881921135769,0.94149584320008295,null,null,null,{"$f":"'t-values'!A28","v":24},{"$f":"'t-values'!B28","v":2.069}]
[null,null,"",17,null,null,"","",null,null,null,{"$f":"'t-values'!A29","v":25},{"$f":"'t-values'!B29","v":2.0640000000000001}]
[null,null,"",18,null,null,"","",null,null,null,{"$f":"'t-values'!A30","v":26},{"$f":"'t-values'!B30","v":2.06}]
[null,null,"",19,null,null,"","",null,null,null,{"$f":"'t-values'!A31","v":27},{"$f":"'t-values'!B31","v":2.056}]
[null,null,"",20,null,null,"","",null,null,null,{"$f":"'t-values'!A32","v":28},{"$f":"'t-values'!B32","v":2.052}]
[null,null,"",21,null,null,"","",null,null,null,{"$f":"'t-values'!A33","v":29},{"$f":"'t-values'!B33","v":2.048}]
[null,null,"",22,null,null,"","",null,null,null,{"$f":"'t-values'!A34","v":30},{"$f":"'t-values'!B34","v":2.0449999999999999}]
[null,null,"",23,null,null,"","",null,null,null,{"$f":"'t-values'!A35","v":"∞"},{"$f":"'t-values'!B35","v":1.96}]
[null,null,"",24,null,null,"",""]
[null,null,"",25,null,null,"",""]
[null,null,"",26,null,null,"",""]
[null,null,"",27,null,null,"",""]
[null,null,"",28,null,null,"",""]
[null,null,"",29,null,null,"",""]
[null,null,"",30,null,null,"",""]
[null,null,"",31,null,null,"",""]
[null,null,"",32,null,null,"",""]
[null,null,"",33,null,null,"",""]
[null,null,"",34,null,null,"",""]
[null,null,"",35,null,null,"",""]
[null,null,"",36,null,null,"",""]
[null,null,"",37,null,null,"",""]
[null,null,"",38,null,null,"",""]
[null,null,"",39,null,null,"",""]
[null,null,"",40,null,null,"",""]
[null,null,"",41,null,null,"",""]
[null,null,"",42,null,null,"",""]
[null,null,"",43,null,null,"",""]
[null,null,"",44,null,null,"",""]
[null,null,"",45,null,null,"",""]
["NOTE: If there are more than 45 items, insert additional cellss in the middle of the data area.  The formulae should update correctly but check."]

{"sheet":"Franklin et al. 1981","index":13,"n_rows":69,"n_cols":39,"rows_kept":69,"cut":false,"hidden":false,"merged":[[9,2,9,4],[9,6,9,8],[15,3,15,4],[15,7,15,8],[21,0,21,8],[8,2,8,8],[0,1,0,8],[1,1,1,8],[2,2,2,8],[3,2,3,4],[3,6,3,8]]}
[null,"Franklin et al. 1981"]
["Subgroup:","All workers"]
[null,null,"Confidence Intervals"]
[null,null,"Arithmetic",null,null,null,"Geometric (Log10)"]
[null,null,"Mean","Lower Limit","Upper Limit",null,"Mean","Lower Limit","Upper Limit"]
[null,null,{"$f":"IF(C15>0,AVERAGE(B24:B68), \"\")","v":9.897671140842533E-2},{"$f":"IF(C15>1, C6-C20, \"\")","v":4.5822648127740728E-2},{"$f":"IF(C15>1, C6+C20, \"\")","v":0.15213077468910993},"Inverse log",{"$f":"IF(C15>0, 10^G7, \"\")","v":7.8637521303777838E-2},{"$f":"IF(C15>1,10^H7, \"\")","v":5.6136720505769455E-2},{"$f":"IF(C15>1, 10^I7, \"\")","v":0.11015712533771121}]
[null,null,null,null,null,"Log",{"$f":"IF(C15>0, AVERAGE(G24:G68), \"\")","v":-1.1043701841517231},{"$f":"IF(C15>1, G7-G20, \"\")","v":-1.250752962343717},{"$f":"IF(C15>1, G7+G20, \"\")","v":-0.9579874059597292}]
[]
[null,null,"Prediction Intervals"]
[null,null,"Arithmetic",null,null,null,"Geometric (Log10)"]
[null,null,"Mean","Lower Limit","Upper Limit",null,"Mean","Lower Limit","Upper Limit"]
[null,null,{"$f":"IF(C15>0,AVERAGE(B24:B68), \"\")","v":9.897671140842533E-2},{"$f":"IF(C15>1, C12-C21, \"\")","v":-0.11363954171431305},{"$f":"IF(C15>1, C12+C21, \"\")","v":0.3115929645311637},"Inverse log",{"$f":"IF($C$15>0, 10^G13, \"\")","v":7.8637521303777838E-2},{"$f":"IF($C$15>0, 10^H13, \"\")","v":2.0422020277630373E-2},0.30280352642562569,null,null,null,null,null,null,null,null,null,null,null,null,null,null,null,"Links to PPE groups below",null,null,null,null,null,null,null,"Log transformed"]
[null,null,null,null,null,"Log",{"$f":"IF(C15>0, AVERAGE(G24:G68), \"\")","v":-1.1043701841517231},{"$f":"IF(C15>1, G13-G21, \"\")","v":-1.6899012969196985},{"$f":"IF(C15>1, G13+G21, \"\")","v":-0.51883907138374763},null,null,{"$f":"'t-values'!A3","v":"95% Confidence Interval"},null,null,null,null,null,null,null,null,null,null,null,null,"RbCtPt","RbCt","None",null,null,null,null,null,"RbCtPt","RbCt","None"]
[null,null,null,null,null,null,null,null,null,null,null,null,null,null,null,null,null,null,null,null,null,null,null,null,{"$f":"V24","v":5.3248346343021911E-2},{"$f":"V28","v":0.13118025945749795},{"$f":"V32","v":5.0621427923432827E-2},null,null,null,null,null,{"$f":"LOG10(Y14)","v":-1.2736938749362121},{"$f":"LOG10(Z14)","v":-0.8821315144551134},-1.2956656084760465]
[null,"n:",{"$f":"COUNTA(B24:B68)","v":15},null,null,null,null,null,null,null,null,{"$f":"'t-values'!A4","v":"alpha = 0.025"},null,null,null,null,null,null,null,null,null,null,null,null,6.0545341952991577E-2,5.1528621972239862E-2,0.16021046901932323,null,null,null,null,null,{"$f":"LOG10(Y15)","v":-1.2179192636180129},{"$f":"LOG10(Z15)","v":-1.2879514717026064},{"$f":"LOG10(AA15)","v":-0.79530910817207556}]
[null,"SSE:",{"$f":"IF(C15>0, SUM(C24:C68), \"\")","v":0.12895483790717824},"Check",null,"SSE:",{"$f":"IF(C15>0, SUM(H24:H68), \"\")","v":0.978013100940195},"Check",null,null,null,{"$f":"'t-values'!A5","v":"n"},{"$f":"'t-values'!B5","v":"t-value"},null,null,null,null,null,null,null,null,null,null,null,6.9617282441061967E-2,4.5359702440351993E-2,8.8723577973328499E-2,null,null,null,null,null,-1.1572829337073769,-1.3433298030776064,-1.0519609526260238]
[null,"Variance (s2):",{"$f":"IF(C15>1, C16/(C15-1), \"\")","v":9.211059850512732E-3},{"$f":"IF(C15>1, VAR(B24:B68), \"\")","v":9.2110598505127268E-3},{"$f":"IF(C15>1, C17-D17, \"\")","v":5.2041704279304213E-18},"Variance (s2):",{"$f":"IF(C15>1, G16/(C15-1), \"\")","v":6.9858078638585355E-2},{"$f":"IF(C15>1, VAR(G24:G68), \"\")","v":6.9858078638585147E-2},{"$f":"IF(C15>1, G17-H17, \"\")","v":2.0816681711721685E-16},null,null,{"$f":"'t-values'!A6","v":2},{"$f":"'t-values'!B6","v":12.706},null,null,null,null,null,null,null,null,null,null,null,0.42362017757337428,9.0900843690465388E-2,0.10287580513471831,null,null,null,null,null,-0.37302336206768139,-1.0414320858823984,-0.98768675285673757]
[null,"Std Dev (s):",{"$f":"IF(C15>1, C17^0.5, \"\")","v":9.5974266605756003E-2},{"$f":"IF(C15>1, STDEV(B24:B68), \"\")","v":9.5974266605755976E-2},{"$f":"IF(C15>1, C18-D18, \"\")","v":2.7755575615628914E-17},"Std Dev (s):",{"$f":"IF(C15>1, G17^0.5, \"\")","v":0.26430678886208231},{"$f":"IF(C15>1, STDEV(G24:G31), \"\")","v":0.31960994892494943},{"$f":"IF(C15>1, G18-H18, \"\")","v":-5.5303160062867118E-2},null,null,{"$f":"'t-values'!A7","v":3},{"$f":"'t-values'!B7","v":4.3029999999999999},null,null,null,null,null,null,"Constants",null,null,null,null,null,null,4.4271069581783541E-2,null,null,null,null,null,null,null,-1.3538799854109147]
[null,"t-value:",{"$f":"IF(C15>1, IF(C15<31, OFFSET(M16, C15-1, 0), 1.96), \"\")","v":2.145},null,null,"t-value:",{"$f":"C19","v":2.145},null,null,null,null,{"$f":"'t-values'!A8","v":4},{"$f":"'t-values'!B8","v":3.1819999999999999},null,null,null,null,null,null,"kg to lb",2.2046000000000001,null,null,null,null,null,5.7334663884604918E-2,null,null,null,null,null,null,null,-1.2415827291312402]
[null,"Conf. Interval Factor:",{"$f":"IF(C15>1, C19*C18/(C15^0.5), \"\")","v":5.3154063280684602E-2},"t x s / n0.5",null,"Conf. Interval Factor:",{"$f":"IF(C15>1, G19*G18/(C15^0.5), \"\")","v":0.14638277819199386},"t x s / n0.5",null,null,null,{"$f":"'t-values'!A9","v":5},{"$f":"'t-values'!B9","v":2.7759999999999998},null,null,null,null,null,null,null,null,null,null,null,null,null,5.46130817381838E-2,null,null,null,null,null,null,null,-1.2627033161558008]
[null,"Pred. Interal Factor:",{"$f":"IF(C15>1, C19*C18*(1+(1/C15))^0.5, \"\")","v":0.21261625312273838},"t x s x (1+ 1/n)0.5",null,"Pred. Interal Factor:",{"$f":"IF(C15>1, G19*G18*((1+(1/C15))^0.5), \"\")","v":0.58553111276797543},"t x s x (1+ 1/n)0.5",null,null,null,{"$f":"'t-values'!A10","v":6},{"$f":"'t-values'!B10","v":2.5710000000000002}]
["RAW DATA (only enter data under Identifier and Rate.  Everything else is a link.)",null,null,null,null,null,null,null,null,null,null,{"$f":"'t-values'!A11","v":7},{"$f":"'t-values'!B11","v":2.4470000000000001},null,null,null,null,null,"Dose (ug)",null,"Total",null,null,null,"Anova: Single Factor",null,null,null,null,null,null,null,"Anova: Single Factor"]
["Identifier","Rate","(x - xbar)2","n",null,null,"Log Rate","(x - xbar)2",null,null,null,{"$f":"'t-values'!A12","v":8},{"$f":"'t-values'!B12","v":2.3650000000000002},null,"PPE","Worker","Amnt kg","Amnt lb","Day 1","Day 2","Dose (mg)","Rate"]
[{"$f":"P24","v":1},{"$f":"V24","v":5.3248346343021911E-2},{"$f":"IF(ISBLANK(B24)=FALSE, ($C$6-B24)^2, \"\")","v":2.0910833715548078E-3},1,null,null,{"$f":"IF(ISBLANK(B24)=FALSE,LOG10(B24), \"\")","v":-1.2736938749362121},{"$f":"IF(ISBLANK(B24)=FALSE, ($G$7-G24)^2, \"\")","v":2.8670512260881263E-2},null,null,null,{"$f":"'t-values'!A13","v":9},{"$f":"'t-values'!B13","v":2.306},null,"RbCtPt",1,2.2999999999999998,{"$f":"Q24*$U$19","v":5.0705799999999996},119,151,{"$f":"(S24+T24)/1000","v":0.27},{"$f":"U24/R24","v":5.3248346343021911E-2},null,null,"SUMMARY",null,null,null,null,null,null,null,"SUMMARY"]
[2,6.0545341952991577E-2,{"$f":"IF(ISBLANK(B25)=FALSE, ($C$6-B25)^2, \"\")","v":1.4769701582200464E-3},{"$f":"D24+1","v":2},null,null,{"$f":"IF(ISBLANK(B25)=FALSE,LOG10(B25), \"\")","v":-1.2179192636180129},{"$f":"IF(ISBLANK(B25)=FALSE, ($G$7-G25)^2, \"\")","v":1.2893393447641817E-2},null,null,null,{"$f":"'t-values'!A14","v":10},{"$f":"'t-values'!B14","v":2.262},null,null,{"$f":"1+P24","v":2},2.2999999999999998,{"$f":"Q25*$U$19","v":5.0705799999999996},218,89,{"$f":"(S25+T25)/1000","v":0.307},{"$f":"U25/R25","v":6.0545341952991577E-2},null,null,"Groups","Count","Sum","Average","Variance",null,null,null,"Groups","Count","Sum","Average","Variance"]
[3,6.9617282441061967E-2,8.6197606928965493E-4,{"$f":"D25+1","v":3},null,null,-1.1572829337073769,2.7997590655393454E-3,null,null,null,{"$f":"'t-values'!A15","v":11},{"$f":"'t-values'!B15","v":2.2280000000000002},null,null,{"$f":"1+P25","v":3},2.2999999999999998,5.0705799999999996,168,185,0.35299999999999998,6.9617282441061967E-2,null,null,"RbCtPt",4,0.6070311483104498,0.15175778707761245,3.2893347309157002E-2,null,null,null,"RbCtPt",4,-4.0219194343292832,-1.0054798585823208,0.18003821766053316]
[4,0.42362017757337428,0.10539338012359234,4,null,null,-0.37302336206768139,0.53486817417242694,null,null,null,{"$f":"'t-values'!A16","v":12},{"$f":"'t-values'!B16","v":2.2010000000000001},null,null,4,2.2999999999999998,5.0705799999999996,1754,394,2.1480000000000001,0.42362017757337428,null,null,"RbCt",4,0.31896942756055524,7.974235689013881E-2,1.5828504710777003E-3,null,null,null,"RbCt",4,-4.5548448751177251,-1.1387112187794313,4.6479264167038181E-2]
[5,0.13118025945749795,1.0370685069489289E-3,5,null,null,-0.8821315144551134,4.939002630851877E-2,null,null,null,{"$f":"'t-values'!A17","v":13},{"$f":"'t-values'!B17","v":2.1789999999999998},null,"RbCt",5,2.5,5.5114999999999998,378,345,0.72299999999999998,0.13118025945749795,null,null,"None",7,0.55865009525537512,7.9807156465053583E-2,1.7217887232098574E-3,null,null,null,"None",7,-7.9887884528288389,-1.1412554932612626,4.0850426776440095E-2]
[6,5.1528621972239862E-2,2.2513211911442551E-3,6,null,null,-1.2879514717026064,3.3702089138840111E-2,null,null,null,{"$f":"'t-values'!A18","v":14},{"$f":"'t-values'!B18","v":2.16},null,null,6,2.5,5.5114999999999998,183,101,0.28399999999999997,5.1528621972239862E-2]
[7,4.5359702440351993E-2,2.8747836506824568E-3,7,null,null,-1.3433298030776064,5.7101699477203394E-2,null,null,null,{"$f":"'t-values'!A19","v":15},{"$f":"'t-values'!B19","v":2.145},null,null,7,2.5,5.5114999999999998,117,133,0.25,4.5359702440351993E-2]
[8,9.0900843690465388E-2,6.5219639397987519E-5,8,null,null,-1.0414320858823984,3.9612042137591626E-3,null,null,null,{"$f":"'t-values'!A20","v":16},{"$f":"'t-values'!B20","v":2.1309999999999998},null,null,8,2.5,5.5114999999999998,184,317,0.501,9.0900843690465388E-2,null,null,"ANOVA",null,null,null,null,null,null,null,"ANOVA"]
[9,5.0621427923432827E-2,2.3382334409139888E-3,9,null,null,-1.2956656084760465,3.6593939367422959E-2,null,null,null,{"$f":"'t-values'!A21","v":17},{"$f":"'t-values'!B21","v":2.12},null,"None",9,2.5,5.5114999999999998,279,0,0.27900000000000003,5.0621427923432827E-2,"See note",null,"Source of Variation","SS","df","MS","F","P-value","F crit",null,"Source of Variation","SS","df","MS","F","P-value","F crit"]
[10,0.16021046901932323,3.7495730711501968E-3,10,null,null,-0.79530910817207556,9.5518748685697444E-2,null,null,null,{"$f":"'t-values'!A22","v":18},{"$f":"'t-values'!B22","v":2.11},null,null,10,2.5,5.5114999999999998,528,355,0.88300000000000001,0.16021046901932323,null,null,"Between Groups",1.519551222721495E-2,2,7.5977561136074748E-3,0.80145581751939166,0.47129867089233957,3.8852938347033836,null,"Between Groups",5.3358094798839351E-2,2,2.6679047399419675E-2,0.34623569511512886,0.71418433057446218,3.8852938347033836]
[12,8.8723577973328499E-2,1.0512674523790055E-4,11,null,null,-1.0519609526260238,2.7467275491143434E-3,null,null,null,{"$f":"'t-values'!A23","v":19},{"$f":"'t-values'!B23","v":2.101},null,null,{"$f":"2+P33","v":12},2.5,5.5114999999999998,384,105,0.48899999999999999,8.8723577973328499E-2,null,null,"Within Groups",0.11375932567996329,12,9.4799438066636068E-3,null,null,null,null,"Within Groups",0.92465500614135587,12,7.7054583845112989E-2]
[13,0.10287580513471831,1.5202931886417248E-5,12,null,null,-0.98768675285673757,1.3615023138771599E-2,null,null,null,{"$f":"'t-values'!A24","v":20},{"$f":"'t-values'!B24","v":2.093},null,null,13,2.5,5.5114999999999998,263,304,0.56699999999999995,0.10287580513471831]
[14,4.4271069581783541E-2,2.9927072476648195E-3,13,null,null,-1.3538799854109147,6.2255140924401313E-2,null,null,null,{"$f":"'t-values'!A25","v":21},{"$f":"'t-values'!B25","v":2.0859999999999999},null,null,14,2.5,5.5114999999999998,175,69,0.24399999999999999,4.4271069581783541E-2,null,null,"Total",0.12895483790717824,14,null,null,null,null,null,"Total",0.97801310094019522,14]
[15,5.7334663884604918E-2,1.7340601219761177E-3,14,null,null,-1.2415827291312402,1.8827282499756025E-2,null,null,null,{"$f":"'t-values'!A26","v":22},{"$f":"'t-values'!B26","v":2.08},null,null,15,2.5,5.5114999999999998,233,83,0.316,5.7334663884604918E-2]
[16,5.46130817381838E-2,1.9681316375183347E-3,15,null,null,-1.2627033161558008,2.5069380690220702E-2,null,null,null,{"$f":"'t-values'!A27","v":23},{"$f":"'t-values'!B27","v":2.0739999999999998},null,null,16,2.5,5.5114999999999998,189,112,0.30099999999999999,5.46130817381838E-2]
[null,null,"",16,null,null,"","",null,null,null,{"$f":"'t-values'!A28","v":24},{"$f":"'t-values'!B28","v":2.069}]
[null,null,"",17,null,null,"","",null,null,null,{"$f":"'t-values'!A29","v":25},{"$f":"'t-values'!B29","v":2.0640000000000001}]
[null,null,"",18,null,null,"","",null,null,null,{"$f":"'t-values'!A30","v":26},{"$f":"'t-values'!B30","v":2.06}]
[null,null,"",19,null,null,"","",null,null,null,{"$f":"'t-values'!A31","v":27},{"$f":"'t-values'!B31","v":2.056}]
[null,null,"",20,null,null,"","",null,null,null,{"$f":"'t-values'!A32","v":28},{"$f":"'t-values'!B32","v":2.052}]
[null,null,"",21,null,null,"","",null,null,null,{"$f":"'t-values'!A33","v":29},{"$f":"'t-values'!B33","v":2.048}]
[null,null,"",22,null,null,"","",null,null,null,{"$f":"'t-values'!A34","v":30},{"$f":"'t-values'!B34","v":2.0449999999999999}]
[null,null,"",23,null,null,"","",null,null,null,{"$f":"'t-values'!A35","v":"∞"},{"$f":"'t-values'!B35","v":1.96}]
[null,null,"",24,null,null,"",""]
[null,null,"",25,null,null,"",""]
[null,null,"",26,null,null,"",""]
[null,null,"",27,null,null,"",""]
[null,null,"",28,null,null,"",""]
[null,null,"",29,null,null,"",""]
[null,null,"",30,null,null,"",""]
[null,null,"",31,null,null,"",""]
[null,null,"",32,null,null,"",""]
[null,null,"",33,null,null,"",""]
[null,null,"",34,null,null,"",""]
[null,null,"",35,null,null,"",""]
[null,null,"",36,null,null,"",""]
[null,null,"",37,null,null,"",""]
[null,null,"",38,null,null,"",""]
[null,null,"",39,null,null,"",""]
[null,null,"",40,null,null,"",""]
[null,null,"",41,null,null,"",""]
[null,null,"",42,null,null,"",""]
[null,null,"",43,null,null,"",""]
[null,null,"",44,null,null,"",""]
[null,null,"",45,null,null,"",""]
["NOTE: If there are more than 45 items, insert additional cellss in the middle of the data area.  The formulae should update correctly but check."]

{"sheet":"Grover et al. 1986-1","index":14,"n_rows":69,"n_cols":21,"rows_kept":69,"cut":false,"hidden":false,"merged":[[8,2,8,8],[0,1,0,8],[1,1,1,8],[2,2,2,8],[3,2,3,4],[3,6,3,8],[9,2,9,4],[9,6,9,8],[15,3,15,4],[15,7,15,8],[21,0,21,8]]}
[null,"Grover et al. 1986"]
["Subgroup:","Ground broadcast, no day adjustment"]
[null,null,"Confidence Intervals"]
[null,null,"Arithmetic",null,null,null,"Geometric (Log10)"]
[null,null,"Mean","Lower Limit","Upper Limit",null,"Mean","Lower Limit","Upper Limit"]
[null,null,{"$f":"IF(C15>0,AVERAGE(B24:B68), \"\")","v":2.3309464126634166E-4},{"$f":"IF(C15>1, C6-C20, \"\")","v":-1.8925678915179323E-5},{"$f":"IF(C15>1, C6+C20, \"\")","v":4.8511496144786265E-4},"Inverse log",{"$f":"IF(C15>0, 10^G7, \"\")","v":1.2985364116922004E-4},{"$f":"IF(C15>1,10^H7, \"\")","v":5.6520066051807308E-5},{"$f":"IF(C15>1, 10^I7, \"\")","v":2.9833595929361866E-4}]
[null,null,null,null,null,"Log",{"$f":"IF(C15>0, AVERAGE(G24:G68), \"\")","v":-3.8865458680021101},{"$f":"IF(C15>1, G7-G20, \"\")","v":-4.2477973392877626},{"$f":"IF(C15>1, G7+G20, \"\")","v":-3.5252943967164572}]
[]
[null,null,"Prediction Intervals"]
[null,null,"Arithmetic",null,null,null,"Geometric (Log10)"]
[null,null,"Mean","Lower Limit","Upper Limit",null,"Mean","Lower Limit","Upper Limit"]
[null,null,{"$f":"IF(C15>0,AVERAGE(B24:B68), \"\")","v":2.3309464126634166E-4},{"$f":"IF(C15>1, C12-C21, \"\")","v":-5.638635871521644E-4},{"$f":"IF(C15>1, C12+C21, \"\")","v":1.0300528696848476E-3},"Inverse log",{"$f":"IF($C$15>0, 10^G13, \"\")","v":1.2985364116922004E-4},{"$f":"IF($C$15>0, 10^H13, \"\")","v":9.3557083450694264E-6},1.802318702441279E-3]
[null,null,null,null,null,"Log",{"$f":"IF(C15>0, AVERAGE(G24:G68), \"\")","v":-3.8865458680021101},{"$f":"IF(C15>1, G13-G21, \"\")","v":-5.0289233253516894},{"$f":"IF(C15>1, G13+G21, \"\")","v":-2.7441684106525313},null,null,{"$f":"'t-values'!A3","v":"95% Confidence Interval"}]
[]
[null,"n:",{"$f":"COUNTA(B24:B68)","v":9},null,null,null,null,null,null,null,null,{"$f":"'t-values'!A4","v":"alpha = 0.025"}]
[null,"SSE:",{"$f":"IF(C15>0, SUM(C24:C68), \"\")","v":8.5997338074222027E-7},"Check",null,"SSE:",{"$f":"IF(C15>0, SUM(H24:H68), \"\")","v":1.7669861262477382},"Check",null,null,null,{"$f":"'t-values'!A5","v":"n"},{"$f":"'t-values'!B5","v":"t-value"}]
[null,"Variance (s2):",{"$f":"IF(C15>1, C16/(C15-1), \"\")","v":1.0749667259277753E-7},{"$f":"IF(C15>1, VAR(B24:B68), \"\")","v":1.0749667259277753E-7},{"$f":"IF(C15>1, C17-D17, \"\")","v":0},"Variance (s2):",{"$f":"IF(C15>1, G16/(C15-1), \"\")","v":0.22087326578096728},{"$f":"IF(C15>1, VAR(G24:G68), \"\")","v":0.22087326578096622},{"$f":"IF(C15>1, G17-H17, \"\")","v":1.0547118733938987E-15},null,null,{"$f":"'t-values'!A6","v":2},{"$f":"'t-values'!B6","v":12.706}]
[null,"Std Dev (s):",{"$f":"IF(C15>1, C17^0.5, \"\")","v":3.2786685192739067E-4},{"$f":"IF(C15>1, STDEV(B24:B68), \"\")","v":3.2786685192739067E-4},{"$f":"IF(C15>1, C18-D18, \"\")","v":0},"Std Dev (s):",{"$f":"IF(C15>1, G17^0.5, \"\")","v":0.46997155848090133},{"$f":"IF(C15>1, STDEV(G24:G31), \"\")","v":0.50002066500336373},{"$f":"IF(C15>1, G18-H18, \"\")","v":-3.0049106522462399E-2},null,null,{"$f":"'t-values'!A7","v":3},{"$f":"'t-values'!B7","v":4.3029999999999999}]
[null,"t-value:",{"$f":"IF(C15>1, IF(C15<31, OFFSET(M16, C15-1, 0), 1.96), \"\")","v":2.306},null,null,"t-value:",{"$f":"C19","v":2.306},null,null,null,null,{"$f":"'t-values'!A8","v":4},{"$f":"'t-values'!B8","v":3.1819999999999999}]
[null,"Conf. Interval Factor:",{"$f":"IF(C15>1, C19*C18/(C15^0.5), \"\")","v":2.5202032018152099E-4},"t x s / n0.5",null,"Conf. Interval Factor:",{"$f":"IF(C15>1, G19*G18/(C15^0.5), \"\")","v":0.36125147128565288},"t x s / n0.5",null,null,null,{"$f":"'t-values'!A9","v":5},{"$f":"'t-values'!B9","v":2.7759999999999998}]
[null,"Pred. Interal Factor:",{"$f":"IF(C15>1, C19*C18*(1+(1/C15))^0.5, \"\")","v":7.9695822841850607E-4},"t x s x (1+ 1/n)0.5",null,"Pred. Interal Factor:",{"$f":"IF(C15>1, G19*G18*((1+(1/C15))^0.5), \"\")","v":1.1423774573495789},"t x s x (1+ 1/n)0.5",null,null,null,{"$f":"'t-values'!A10","v":6},{"$f":"'t-values'!B10","v":2.5710000000000002}]
["RAW DATA (only enter data under Identifier and Rate.  Everything else is a link.)",null,null,null,null,null,null,null,null,null,null,{"$f":"'t-values'!A11","v":7},{"$f":"'t-values'!B11","v":2.4470000000000001},null,null,null,"See Table 4 and 5 of paper",null,null,null,"Uncorrected"]
["Identifier","Rate","(x - xbar)2","n",null,null,"Log Rate","(x - xbar)2",null,null,null,{"$f":"'t-values'!A12","v":8},{"$f":"'t-values'!B12","v":2.3650000000000002},null,null,null,"Subject","ug/kg bw","Applied kg","Applied lb","Rates"]
[{"$f":"Q24","v":"C(81)"},{"$f":"U24","v":1.0742088527715158E-3},{"$f":"IF(ISBLANK(B24)=FALSE, ($C$6-B24)^2, \"\")","v":7.0747311679597083E-7},1,null,null,{"$f":"IF(ISBLANK(B24)=FALSE,LOG10(B24), \"\")","v":-2.9689112728374729},{"$f":"IF(ISBLANK(B24)=FALSE, ($G$7-G24)^2, \"\")","v":0.84205325024296762},null,null,null,{"$f":"'t-values'!A13","v":9},{"$f":"'t-values'!B13","v":2.306},null,null,null,"C(81)",56.6,23.9,{"$f":"S24*2.2046","v":52.68994},{"$f":"((R24/1000)/T24)","v":1.0742088527715158E-3}]
["B(82)",9.0167359820578002E-5,{"$f":"IF(ISBLANK(B25)=FALSE, ($C$6-B25)^2, \"\")","v":2.0428207781476537E-8},{"$f":"D24+1","v":2},null,null,{"$f":"IF(ISBLANK(B25)=FALSE,LOG10(B25), \"\")","v":-4.0449506466623415},{"$f":"IF(ISBLANK(B25)=FALSE, ($G$7-G25)^2, \"\")","v":2.50920739023969E-2},null,null,null,{"$f":"'t-values'!A14","v":10},{"$f":"'t-values'!B14","v":2.262},null,null,null,"B(82)",9.8000000000000007,49.3,{"$f":"S25*2.2046","v":108.68678},{"$f":"((R25/1000)/T25)","v":9.0167359820578002E-5}]
["C(82)",3.2770886344571479E-4,8.9518510386077818E-9,{"$f":"D25+1","v":3},null,null,-3.4845118122230314,0.16163138200617536,null,null,null,{"$f":"'t-values'!A15","v":11},{"$f":"'t-values'!B15","v":2.2280000000000002},null,null,null,"C(82)",16.399999999999999,22.7,50.044420000000002,3.2770886344571479E-4]
["F(81)",2.5534781670878368E-5,4.3081095315288435E-8,4,null,null,-4.5928678511249919,0.49889074384264043,null,null,null,{"$f":"'t-values'!A16","v":12},{"$f":"'t-values'!B16","v":2.2010000000000001},null,null,null,"F(81)",7.2,127.9,281.96834000000001,2.5534781670878368E-5]
["A(82)",1.4987270104560745E-4,6.9258913341034593E-9,5,null,null,-3.8242774656503218,3.8773539314441974E-3,null,null,null,{"$f":"'t-values'!A17","v":13},{"$f":"'t-values'!B17","v":2.1789999999999998},null,null,null,"A(82)",22.6,68.400000000000006,150.79464000000002,1.4987270104560745E-4]
["B(81)",4.9401656123155634E-5,3.3743112790814764E-8,6,null,null,-4.3062584917020237,0.17615868649306526,null,null,null,{"$f":"'t-values'!A18","v":14},{"$f":"'t-values'!B18","v":2.16},null,null,null,"B(81)",6.6,60.6,133.59876,4.9401656123155634E-5]
["D(82)",9.4962405999846037E-5,1.9080514419718501E-8,7,null,null,-4.0224482904812309,1.8469468435693429E-2,null,null,null,{"$f":"'t-values'!A19","v":15},{"$f":"'t-values'!B19","v":2.145},null,null,null,"D(82)",18.8,89.8,197.97308000000001,9.4962405999846037E-5]
["G(82)",1.8802328269629774E-4,2.031427363349472E-9,8,null,null,-3.7257883692445661,2.5842973406781752E-2,null,null,null,{"$f":"'t-values'!A20","v":16},{"$f":"'t-values'!B20","v":2.1309999999999998},null,null,null,"G(82)",77.099999999999994,186,410.05560000000003,1.8802328269629774E-4]
["E(81)",9.7971867823481155E-5,1.8258163902890611E-8,9,null,null,-4.0088986120930095,1.4970193986573108E-2,null,null,null,{"$f":"'t-values'!A21","v":17},{"$f":"'t-values'!B21","v":2.12},null,null,null,"E(81)",15.4,71.3,157.18798000000001,9.7971867823481155E-5]
[null,null,"",10,null,null,"","",null,null,null,{"$f":"'t-values'!A22","v":18},{"$f":"'t-values'!B22","v":2.11}]
[null,null,"",11,null,null,"","",null,null,null,{"$f":"'t-values'!A23","v":19},{"$f":"'t-values'!B23","v":2.101}]
[null,null,"",12,null,null,"","",null,null,null,{"$f":"'t-values'!A24","v":20},{"$f":"'t-values'!B24","v":2.093}]
[null,null,"",13,null,null,"","",null,null,null,{"$f":"'t-values'!A25","v":21},{"$f":"'t-values'!B25","v":2.0859999999999999}]
[null,null,"",14,null,null,"","",null,null,null,{"$f":"'t-values'!A26","v":22},{"$f":"'t-values'!B26","v":2.08}]
[null,null,"",15,null,null,"","",null,null,null,{"$f":"'t-values'!A27","v":23},{"$f":"'t-values'!B27","v":2.0739999999999998}]
[null,null,"",16,null,null,"","",null,null,null,{"$f":"'t-values'!A28","v":24},{"$f":"'t-values'!B28","v":2.069}]
[null,null,"",17,null,null,"","",null,null,null,{"$f":"'t-values'!A29","v":25},{"$f":"'t-values'!B29","v":2.0640000000000001}]
[null,null,"",18,null,null,"","",null,null,null,{"$f":"'t-values'!A30","v":26},{"$f":"'t-values'!B30","v":2.06}]
[null,null,"",19,null,null,"","",null,null,null,{"$f":"'t-values'!A31","v":27},{"$f":"'t-values'!B31","v":2.056}]
[null,null,"",20,null,null,"","",null,null,null,{"$f":"'t-values'!A32","v":28},{"$f":"'t-values'!B32","v":2.052}]
[null,null,"",21,null,null,"","",null,null,null,{"$f":"'t-values'!A33","v":29},{"$f":"'t-values'!B33","v":2.048}]
[null,null,"",22,null,null,"","",null,null,null,{"$f":"'t-values'!A34","v":30},{"$f":"'t-values'!B34","v":2.0449999999999999}]
[null,null,"",23,null,null,"","",null,null,null,{"$f":"'t-values'!A35","v":"∞"},{"$f":"'t-values'!B35","v":1.96}]
[null,null,"",24,null,null,"",""]
[null,null,"",25,null,null,"",""]
[null,null,"",26,null,null,"",""]
[null,null,"",27,null,null,"",""]
[null,null,"",28,null,null,"",""]
[null,null,"",29,null,null,"",""]
[null,null,"",30,null,null,"",""]
[null,null,"",31,null,null,"",""]
[null,null,"",32,null,null,"",""]
[null,null,"",33,null,null,"",""]
[null,null,"",34,null,null,"",""]
[null,null,"",35,null,null,"",""]
[null,null,"",36,null,null,"",""]
[null,null,"",37,null,null,"",""]
[null,null,"",38,null,null,"",""]
[null,null,"",39,null,null,"",""]
[null,null,"",40,null,null,"",""]
[null,null,"",41,null,null,"",""]
[null,null,"",42,null,null,"",""]
[null,null,"",43,null,null,"",""]
[null,null,"",44,null,null,"",""]
[null,null,"",45,null,null,"",""]
["NOTE: If there are more than 45 items, insert additional cellss in the middle of the data area.  The formulae should update correctly but check."]

{"sheet":"Grover et al. 1986-2","index":15,"n_rows":69,"n_cols":23,"rows_kept":69,"cut":false,"hidden":false,"merged":[[8,2,8,8],[0,1,0,8],[1,1,1,8],[2,2,2,8],[3,2,3,4],[3,6,3,8],[9,2,9,4],[9,6,9,8],[15,3,15,4],[15,7,15,8],[21,0,21,8]]}
[null,"Grover et al. 1986"]
["Subgroup:","Ground broadcast, with day adjustment"]
[null,null,"Confidence Intervals"]
[null,null,"Arithmetic",null,null,null,"Geometric (Log10)"]
[null,null,"Mean","Lower Limit","Upper Limit",null,"Mean","Lower Limit","Upper Limit"]
[null,null,{"$f":"IF(C15>0,AVERAGE(B24:B68), \"\")","v":8.7634191792229621E-5},{"$f":"IF(C15>1, C6-C20, \"\")","v":6.0302323161467834E-7},{"$f":"IF(C15>1, C6+C20, \"\")","v":1.7466536035284458E-4},"Inverse log",{"$f":"IF(C15>0, 10^G7, \"\")","v":4.569064277646292E-5},{"$f":"IF(C15>1,10^H7, \"\")","v":1.8257166186779766E-5},{"$f":"IF(C15>1, 10^I7, \"\")","v":1.143460499821722E-4}]
[null,null,null,null,null,"Log",{"$f":"IF(C15>0, AVERAGE(G24:G68), \"\")","v":-4.3401727322417916},{"$f":"IF(C15>1, G7-G20, \"\")","v":-4.7385666312350461},{"$f":"IF(C15>1, G7+G20, \"\")","v":-3.9417788332485371}]
[]
[null,null,"Prediction Intervals"]
[null,null,"Arithmetic",null,null,null,"Geometric (Log10)"]
[null,null,"Mean","Lower Limit","Upper Limit",null,"Mean","Lower Limit","Upper Limit"]
[null,null,{"$f":"IF(C15>0,AVERAGE(B24:B68), \"\")","v":8.7634191792229621E-5},{"$f":"IF(C15>1, C12-C21, \"\")","v":-2.604904824502301E-4},{"$f":"IF(C15>1, C12+C21, \"\")","v":4.3575886603468934E-4},"Inverse log",{"$f":"IF($C$15>0, 10^G13, \"\")","v":4.569064277646292E-5},{"$f":"IF($C$15>0, 10^H13, \"\")","v":1.1648008309432579E-6},1.7922676408427447E-3]
[null,null,null,null,null,"Log",{"$f":"IF(C15>0, AVERAGE(G24:G68), \"\")","v":-4.3401727322417916},{"$f":"IF(C15>1, G13-G21, \"\")","v":-5.9337483282148087},{"$f":"IF(C15>1, G13+G21, \"\")","v":-2.7465971362687744},null,null,{"$f":"'t-values'!A3","v":"95% Confidence Interval"}]
[]
[null,"n:",{"$f":"COUNTA(B24:B68)","v":9},null,null,null,null,null,null,null,null,{"$f":"'t-values'!A4","v":"alpha = 0.025"}]
[null,"SSE:",{"$f":"IF(C15>0, SUM(C24:C68), \"\")","v":1.0255657771120177E-7},"Check",null,"SSE:",{"$f":"IF(C15>0, SUM(H24:H68), \"\")","v":2.1490140187036881},"Check",null,null,null,{"$f":"'t-values'!A5","v":"n"},{"$f":"'t-values'!B5","v":"t-value"}]
[null,"Variance (s2):",{"$f":"IF(C15>1, C16/(C15-1), \"\")","v":1.2819572213900222E-8},{"$f":"IF(C15>1, VAR(B24:B68), \"\")","v":1.2819572213900222E-8},{"$f":"IF(C15>1, C17-D17, \"\")","v":0},"Variance (s2):",{"$f":"IF(C15>1, G16/(C15-1), \"\")","v":0.26862675233796102},{"$f":"IF(C15>1, VAR(G24:G68), \"\")","v":0.26862675233796196},{"$f":"IF(C15>1, G17-H17, \"\")","v":-9.4368957093138306E-16},null,null,{"$f":"'t-values'!A6","v":2},{"$f":"'t-values'!B6","v":12.706}]
[null,"Std Dev (s):",{"$f":"IF(C15>1, C17^0.5, \"\")","v":1.1322354973193617E-4},{"$f":"IF(C15>1, STDEV(B24:B68), \"\")","v":1.1322354973193617E-4},{"$f":"IF(C15>1, C18-D18, \"\")","v":0},"Std Dev (s):",{"$f":"IF(C15>1, G17^0.5, \"\")","v":0.51829214960093795},{"$f":"IF(C15>1, STDEV(G24:G31), \"\")","v":0.52431621497307701},{"$f":"IF(C15>1, G18-H18, \"\")","v":-6.0240653721390647E-3},null,null,{"$f":"'t-values'!A7","v":3},{"$f":"'t-values'!B7","v":4.3029999999999999}]
[null,"t-value:",{"$f":"IF(C15>1, IF(C15<31, OFFSET(M16, C15-1, 0), 1.96), \"\")","v":2.306},null,null,"t-value:",{"$f":"C19","v":2.306},null,null,null,null,{"$f":"'t-values'!A8","v":4},{"$f":"'t-values'!B8","v":3.1819999999999999}]
[null,"Conf. Interval Factor:",{"$f":"IF(C15>1, C19*C18/(C15^0.5), \"\")","v":8.7031168560614943E-5},"t x s / n0.5",null,"Conf. Interval Factor:",{"$f":"IF(C15>1, G19*G18/(C15^0.5), \"\")","v":0.39839389899325428},"t x s / n0.5",null,null,null,{"$f":"'t-values'!A9","v":5},{"$f":"'t-values'!B9","v":2.7759999999999998}]
[null,"Pred. Interal Factor:",{"$f":"IF(C15>1, C19*C18*(1+(1/C15^0.5)), \"\")","v":3.4812467424245972E-4},"t x s x (1+ 1/n0.5)",null,"Pred. Interal Factor:",{"$f":"IF(C15>1, G19*G18*(1+(1/C15^0.5)), \"\")","v":1.5935755959730171},"t x s x (1+ 1/n0.5)",null,null,null,{"$f":"'t-values'!A10","v":6},{"$f":"'t-values'!B10","v":2.5710000000000002}]
["RAW DATA (only enter data under Identifier and Rate.  Everything else is a link.)",null,null,null,null,null,null,null,null,null,null,{"$f":"'t-values'!A11","v":7},{"$f":"'t-values'!B11","v":2.4470000000000001},null,null,null,"See Table 4 and 5 of paper",null,null,null,"Uncorrected"]
["Identifier","Rate","(x - xbar)2","n",null,null,"Log Rate","(x - xbar)2",null,null,null,{"$f":"'t-values'!A12","v":8},{"$f":"'t-values'!B12","v":2.3650000000000002},null,null,null,"Subject","ug/kg bw","Applied kg","Applied lb","Rates","Number of days","Rate (mg/kg bw per lb)"]
[{"$f":"Q24","v":"C(81)"},{"$f":"W24","v":3.580696175905053E-4},{"$f":"IF(ISBLANK(B24)=FALSE, ($C$6-B24)^2, \"\")","v":7.3135319526694674E-8},1,null,null,{"$f":"IF(ISBLANK(B24)=FALSE,LOG10(B24), \"\")","v":-3.4460325275571351},{"$f":"IF(ISBLANK(B24)=FALSE, ($G$7-G24)^2, \"\")","v":0.79948670563351942},null,null,null,{"$f":"'t-values'!A13","v":9},{"$f":"'t-values'!B13","v":2.306},null,null,null,"C(81)",56.6,23.9,{"$f":"S24*2.2046","v":52.68994},{"$f":"((R24/1000)/T24)","v":1.0742088527715158E-3},3,{"$f":"((R24/1000)/T24)/V24","v":3.580696175905053E-4}]
["B(82)",3.0055786606859333E-5,{"$f":"IF(ISBLANK(B25)=FALSE, ($C$6-B25)^2, \"\")","v":3.3152727436906765E-9},{"$f":"D24+1","v":2},null,null,{"$f":"IF(ISBLANK(B25)=FALSE,LOG10(B25), \"\")","v":-4.5220719013820041},{"$f":"IF(ISBLANK(B25)=FALSE, ($G$7-G25)^2, \"\")","v":3.3087307733899646E-2},null,null,null,{"$f":"'t-values'!A14","v":10},{"$f":"'t-values'!B14","v":2.262},null,null,null,"B(82)",9.8000000000000007,49.3,{"$f":"S25*2.2046","v":108.68678},{"$f":"((R25/1000)/T25)","v":9.0167359820578002E-5},3,3.0055786606859333E-5]
["C(82)",1.6385443172285739E-4,5.8095249750824641E-9,{"$f":"D25+1","v":3},null,null,-3.7855418078870127,0.30761546225063646,null,null,null,{"$f":"'t-values'!A15","v":11},{"$f":"'t-values'!B15","v":2.2280000000000002},null,null,null,"C(82)",16.399999999999999,22.7,50.044420000000002,3.2770886344571479E-4,2,1.6385443172285739E-4]
["F(81)",2.5534781670878368E-5,3.8563367374197829E-9,4,null,null,-4.5928678511249919,6.3854823107394723E-2,null,null,null,{"$f":"'t-values'!A16","v":12},{"$f":"'t-values'!B16","v":2.2010000000000001},null,null,null,"F(81)",7.2,127.9,281.96834000000001,2.5534781670878368E-5,1,2.5534781670878368E-5]
["A(82)",7.4936350522803724E-5,1.6123517290353549E-10,5,null,null,-4.1253074613143035,4.6167084650742853E-2,null,null,null,{"$f":"'t-values'!A17","v":13},{"$f":"'t-values'!B17","v":2.1789999999999998},null,null,null,"A(82)",22.6,68.400000000000006,150.79464000000002,1.4987270104560745E-4,2,7.4936350522803724E-5]
["B(81)",1.2350414030788909E-5,5.6676471940339961E-9,6,null,null,-4.9083184830299862,0.32278959413868136,null,null,null,{"$f":"'t-values'!A18","v":14},{"$f":"'t-values'!B18","v":2.16},null,null,null,"B(81)",6.6,60.6,133.59876,4.9401656123155634E-5,4,1.2350414030788909E-5]
["D(82)",1.3566057999978005E-5,5.4860884434668865E-9,7,null,null,-4.8675463304954878,0.27812291213505097,null,null,null,{"$f":"'t-values'!A19","v":15},{"$f":"'t-values'!B19","v":2.145},null,null,null,"D(82)",18.8,89.8,197.97308000000001,9.4962405999846037E-5,7,1.3566057999978005E-5]
["G(82)",9.4011641348148869E-5,4.0671862838294614E-11,8,null,null,-4.0268183649085474,9.8190959526817723E-2,null,null,null,{"$f":"'t-values'!A20","v":16},{"$f":"'t-values'!B20","v":2.1309999999999998},null,null,null,"G(82)",77.099999999999994,186,410.05560000000003,1.8802328269629774E-4,2,9.4011641348148869E-5]
["E(81)",1.6328644637246859E-5,5.0844810550714705E-9,9,null,null,-4.7870498624766524,0.1996991695269448,null,null,null,{"$f":"'t-values'!A21","v":17},{"$f":"'t-values'!B21","v":2.12},null,null,null,"E(81)",15.4,71.3,157.18798000000001,9.7971867823481155E-5,6,1.6328644637246859E-5]
[null,null,"",10,null,null,"","",null,null,null,{"$f":"'t-values'!A22","v":18},{"$f":"'t-values'!B22","v":2.11}]
[null,null,"",11,null,null,"","",null,null,null,{"$f":"'t-values'!A23","v":19},{"$f":"'t-values'!B23","v":2.101}]
[null,null,"",12,null,null,"","",null,null,null,{"$f":"'t-values'!A24","v":20},{"$f":"'t-values'!B24","v":2.093}]
[null,null,"",13,null,null,"","",null,null,null,{"$f":"'t-values'!A25","v":21},{"$f":"'t-values'!B25","v":2.0859999999999999}]
[null,null,"",14,null,null,"","",null,null,null,{"$f":"'t-values'!A26","v":22},{"$f":"'t-values'!B26","v":2.08}]
[null,null,"",15,null,null,"","",null,null,null,{"$f":"'t-values'!A27","v":23},{"$f":"'t-values'!B27","v":2.0739999999999998}]
[null,null,"",16,null,null,"","",null,null,null,{"$f":"'t-values'!A28","v":24},{"$f":"'t-values'!B28","v":2.069}]
[null,null,"",17,null,null,"","",null,null,null,{"$f":"'t-values'!A29","v":25},{"$f":"'t-values'!B29","v":2.0640000000000001}]
[null,null,"",18,null,null,"","",null,null,null,{"$f":"'t-values'!A30","v":26},{"$f":"'t-values'!B30","v":2.06}]
[null,null,"",19,null,null,"","",null,null,null,{"$f":"'t-values'!A31","v":27},{"$f":"'t-values'!B31","v":2.056}]
[null,null,"",20,null,null,"","",null,null,null,{"$f":"'t-values'!A32","v":28},{"$f":"'t-values'!B32","v":2.052}]
[null,null,"",21,null,null,"","",null,null,null,{"$f":"'t-values'!A33","v":29},{"$f":"'t-values'!B33","v":2.048}]
[null,null,"",22,null,null,"","",null,null,null,{"$f":"'t-values'!A34","v":30},{"$f":"'t-values'!B34","v":2.0449999999999999}]
[null,null,"",23,null,null,"","",null,null,null,{"$f":"'t-values'!A35","v":"∞"},{"$f":"'t-values'!B35","v":1.96}]
[null,null,"",24,null,null,"",""]
[null,null,"",25,null,null,"",""]
[null,null,"",26,null,null,"",""]
[null,null,"",27,null,null,"",""]
[null,null,"",28,null,null,"",""]
[null,null,"",29,null,null,"",""]
[null,null,"",30,null,null,"",""]
[null,null,"",31,null,null,"",""]
[null,null,"",32,null,null,"",""]
[null,null,"",33,null,null,"",""]
[null,null,"",34,null,null,"",""]
[null,null,"",35,null,null,"",""]
[null,null,"",36,null,null,"",""]
[null,null,"",37,null,null,"",""]
[null,null,"",38,null,null,"",""]
[null,null,"",39,null,null,"",""]
[null,null,"",40,null,null,"",""]
[null,null,"",41,null,null,"",""]
[null,null,"",42,null,null,"",""]
[null,null,"",43,null,null,"",""]
[null,null,"",44,null,null,"",""]
[null,null,"",45,null,null,"",""]
["NOTE: If there are more than 45 items, insert additional cellss in the middle of the data area.  The formulae should update correctly but check."]

{"sheet":"Lavy et al. 1982-1","index":16,"n_rows":69,"n_cols":17,"rows_kept":69,"cut":false,"hidden":false,"merged":[[8,2,8,8],[0,1,0,8],[1,1,1,8],[2,2,2,8],[3,2,3,4],[3,6,3,8],[9,2,9,4],[9,6,9,8],[15,3,15,4],[15,7,15,8],[21,0,21,8]]}
[null,"Lavy et al. 1982"]
["Subgroup:","Aerial, pilots, T1 and T2 combined"]
[null,null,"Confidence Intervals"]
[null,null,"Arithmetic",null,null,null,"Geometric (Log10)"]
[null,null,"Mean","Lower Limit","Upper Limit",null,"Mean","Lower Limit","Upper Limit"]
[null,null,{"$f":"IF(C15>0,AVERAGE(B24:B68), \"\")","v":8.5169999999999999E-5},{"$f":"IF(C15>1, C6-C20, \"\")","v":-6.1213941874204184E-5},{"$f":"IF(C15>1, C6+C20, \"\")","v":2.3155394187420418E-4},"Inverse log",{"$f":"IF(C15>0, 10^G7, \"\")","v":3.1123971472783301E-5},{"$f":"IF(C15>1,10^H7, \"\")","v":4.0666519267824245E-6},{"$f":"IF(C15>1, 10^I7, \"\")","v":2.3820617492706708E-4}]
[null,null,null,null,null,"Log",{"$f":"IF(C15>0, AVERAGE(G24:G68), \"\")","v":-4.506904991416695},{"$f":"IF(C15>1, G7-G20, \"\")","v":-5.3907629981749112},{"$f":"IF(C15>1, G7+G20, \"\")","v":-3.6230469846584787}]
[]
[null,null,"Prediction Intervals"]
[null,null,"Arithmetic",null,null,null,"Geometric (Log10)"]
[null,null,"Mean","Lower Limit","Upper Limit",null,"Mean","Lower Limit","Upper Limit"]
[null,null,{"$f":"IF(C15>0,AVERAGE(B24:B68), \"\")","v":8.5169999999999999E-5},{"$f":"IF(C15>1, C12-C21, \"\")","v":-2.733959641290321E-4},{"$f":"IF(C15>1, C12+C21, \"\")","v":4.4373596412903215E-4},"Inverse log",{"$f":"IF($C$15>0, 10^G13, \"\")","v":3.1123971472783301E-5},{"$f":"IF($C$15>0, 10^H13, \"\")","v":2.1285991625534965E-7},4.5508878199339419E-3]
[null,null,null,null,null,"Log",{"$f":"IF(C15>0, AVERAGE(G24:G68), \"\")","v":-4.506904991416695},{"$f":"IF(C15>1, G13-G21, \"\")","v":-6.6719061130477311},{"$f":"IF(C15>1, G13+G21, \"\")","v":-2.3419038697856593},null,null,{"$f":"'t-values'!A3","v":"95% Confidence Interval"}]
[]
[null,"n:",{"$f":"COUNTA(B24:B68)","v":5},null,null,null,null,null,null,null,null,{"$f":"'t-values'!A4","v":"alpha = 0.025"}]
[null,"SSE:",{"$f":"IF(C15>0, SUM(C24:C68), \"\")","v":5.5613207999999997E-8},"Check",null,"SSE:",{"$f":"IF(C15>0, SUM(H24:H68), \"\")","v":2.0274776390017757},"Check",null,null,null,{"$f":"'t-values'!A5","v":"n"},{"$f":"'t-values'!B5","v":"t-value"}]
[null,"Variance (s2):",{"$f":"IF(C15>1, C16/(C15-1), \"\")","v":1.3903301999999999E-8},{"$f":"IF(C15>1, VAR(B24:B68), \"\")","v":1.3903301999999999E-8},{"$f":"IF(C15>1, C17-D17, \"\")","v":0},"Variance (s2):",{"$f":"IF(C15>1, G16/(C15-1), \"\")","v":0.50686940975044392},{"$f":"IF(C15>1, VAR(G24:G68), \"\")","v":0.50686940975044337},{"$f":"IF(C15>1, G17-H17, \"\")","v":5.5511151231257827E-16},null,null,{"$f":"'t-values'!A6","v":2},{"$f":"'t-values'!B6","v":12.706}]
[null,"Std Dev (s):",{"$f":"IF(C15>1, C17^0.5, \"\")","v":1.1791226399319114E-4},{"$f":"IF(C15>1, STDEV(B24:B68), \"\")","v":1.1791226399319114E-4},{"$f":"IF(C15>1, C18-D18, \"\")","v":0},"Std Dev (s):",{"$f":"IF(C15>1, G17^0.5, \"\")","v":0.71194761727984168},{"$f":"IF(C15>1, STDEV(G24:G31), \"\")","v":0.71194761727984124},{"$f":"IF(C15>1, G18-H18, \"\")","v":4.4408920985006262E-16},null,null,{"$f":"'t-values'!A7","v":3},{"$f":"'t-values'!B7","v":4.3029999999999999}]
[null,"t-value:",{"$f":"IF(C15>1, IF(C15<31, OFFSET(M16, C15-1, 0), 1.96), \"\")","v":2.7759999999999998},null,null,"t-value:",{"$f":"C19","v":2.7759999999999998},null,null,null,null,{"$f":"'t-values'!A8","v":4},{"$f":"'t-values'!B8","v":3.1819999999999999}]
[null,"Conf. Interval Factor:",{"$f":"IF(C15>1, C19*C18/(C15^0.5), \"\")","v":1.4638394187420418E-4},"t x s / n0.5",null,"Conf. Interval Factor:",{"$f":"IF(C15>1, G19*G18/(C15^0.5), \"\")","v":0.88385800675821635},"t x s / n0.5",null,null,null,{"$f":"'t-values'!A9","v":5},{"$f":"'t-values'!B9","v":2.7759999999999998}]
[null,"Pred. Interal Factor:",{"$f":"IF(C15>1, C19*C18*(1+(1/C15))^0.5, \"\")","v":3.5856596412903212E-4},"t x s x (1+ 1/n)0.5",null,"Pred. Interal Factor:",{"$f":"IF(C15>1, G19*G18*((1+(1/C15))^0.5), \"\")","v":2.1650011216310356},"t x s x (1+ 1/n)0.5",null,null,null,{"$f":"'t-values'!A10","v":6},{"$f":"'t-values'!B10","v":2.5710000000000002}]
["RAW DATA (only enter data under Identifier and Rate.  Everything else is a link.)",null,null,null,null,null,null,null,null,null,null,{"$f":"'t-values'!A11","v":7},{"$f":"'t-values'!B11","v":2.4470000000000001},null,"Table V, p. 379"]
["Identifier","Rate","(x - xbar)2","n",null,null,"Log Rate","(x - xbar)2",null,null,null,{"$f":"'t-values'!A12","v":8},{"$f":"'t-values'!B12","v":2.3650000000000002},null,"mg/kg bw","lb handled","rate"]
["Pilot 11, T1",{"$f":"Q24","v":8.949999999999999E-6},{"$f":"IF(ISBLANK(B24)=FALSE, ($C$6-B24)^2, \"\")","v":5.8094883999999995E-9},1,null,null,{"$f":"IF(ISBLANK(B24)=FALSE,LOG10(B24), \"\")","v":-5.0481769646840879},{"$f":"IF(ISBLANK(B24)=FALSE, ($G$7-G24)^2, \"\")","v":0.29297534904477734},null,null,null,{"$f":"'t-values'!A13","v":9},{"$f":"'t-values'!B13","v":2.306},null,1.7899999999999999E-3,200,{"$f":"O24/P24","v":8.949999999999999E-6}]
["Pilot 21, T1",2.7849999999999999E-4,{"$f":"IF(ISBLANK(B25)=FALSE, ($C$6-B25)^2, \"\")","v":3.7376488899999995E-8},{"$f":"D24+1","v":2},null,null,{"$f":"IF(ISBLANK(B25)=FALSE,LOG10(B25), \"\")","v":-3.5551748004902524},{"$f":"IF(ISBLANK(B25)=FALSE, ($G$7-G25)^2, \"\")","v":0.90579035632088289},null,null,null,{"$f":"'t-values'!A14","v":10},{"$f":"'t-values'!B14","v":2.262},null,5.57E-2,200,{"$f":"O25/P25","v":2.7849999999999999E-4}]
["Pilot 31, T1",1.0300000000000001E-5,5.6055168999999989E-9,{"$f":"D25+1","v":3},null,null,-4.987162775294828,0.2306475389755355,null,null,null,{"$f":"'t-values'!A15","v":11},{"$f":"'t-values'!B15","v":2.2280000000000002},null,2.0600000000000002E-3,200,1.0300000000000001E-5]
["Pilot 21, T2",1.1849999999999999E-4,1.1108888999999995E-9,4,null,null,-3.9262816496538773,0.33712346499982182,null,null,null,{"$f":"'t-values'!A16","v":12},{"$f":"'t-values'!B16","v":2.2010000000000001},null,2.3699999999999999E-2,200,1.1849999999999999E-4]
["Pilot 31, T2",9.5999999999999996E-6,5.7108248999999994E-9,5,null,null,-5.017728766960432,0.26094092966075821,null,null,null,{"$f":"'t-values'!A17","v":13},{"$f":"'t-values'!B17","v":2.1789999999999998},null,1.92E-3,200,9.5999999999999996E-6]
[null,null,"",6,null,null,"","",null,null,null,{"$f":"'t-values'!A18","v":14},{"$f":"'t-values'!B18","v":2.16}]
[null,null,"",7,null,null,"","",null,null,null,{"$f":"'t-values'!A19","v":15},{"$f":"'t-values'!B19","v":2.145}]
[null,null,"",8,null,null,"","",null,null,null,{"$f":"'t-values'!A20","v":16},{"$f":"'t-values'!B20","v":2.1309999999999998}]
[null,null,"",9,null,null,"","",null,null,null,{"$f":"'t-values'!A21","v":17},{"$f":"'t-values'!B21","v":2.12}]
[null,null,"",10,null,null,"","",null,null,null,{"$f":"'t-values'!A22","v":18},{"$f":"'t-values'!B22","v":2.11}]
[null,null,"",11,null,null,"","",null,null,null,{"$f":"'t-values'!A23","v":19},{"$f":"'t-values'!B23","v":2.101}]
[null,null,"",12,null,null,"","",null,null,null,{"$f":"'t-values'!A24","v":20},{"$f":"'t-values'!B24","v":2.093}]
[null,null,"",13,null,null,"","",null,null,null,{"$f":"'t-values'!A25","v":21},{"$f":"'t-values'!B25","v":2.0859999999999999}]
[null,null,"",14,null,null,"","",null,null,null,{"$f":"'t-values'!A26","v":22},{"$f":"'t-values'!B26","v":2.08}]
[null,null,"",15,null,null,"","",null,null,null,{"$f":"'t-values'!A27","v":23},{"$f":"'t-values'!B27","v":2.0739999999999998}]
[null,null,"",16,null,null,"","",null,null,null,{"$f":"'t-values'!A28","v":24},{"$f":"'t-values'!B28","v":2.069}]
[null,null,"",17,null,null,"","",null,null,null,{"$f":"'t-values'!A29","v":25},{"$f":"'t-values'!B29","v":2.0640000000000001}]
[null,null,"",18,null,null,"","",null,null,null,{"$f":"'t-values'!A30","v":26},{"$f":"'t-values'!B30","v":2.06}]
[null,null,"",19,null,null,"","",null,null,null,{"$f":"'t-values'!A31","v":27},{"$f":"'t-values'!B31","v":2.056}]
[null,null,"",20,null,null,"","",null,null,null,{"$f":"'t-values'!A32","v":28},{"$f":"'t-values'!B32","v":2.052}]
[null,null,"",21,null,null,"","",null,null,null,{"$f":"'t-values'!A33","v":29},{"$f":"'t-values'!B33","v":2.048}]
[null,null,"",22,null,null,"","",null,null,null,{"$f":"'t-values'!A34","v":30},{"$f":"'t-values'!B34","v":2.0449999999999999}]
[null,null,"",23,null,null,"","",null,null,null,{"$f":"'t-values'!A35","v":"∞"},{"$f":"'t-values'!B35","v":1.96}]
[null,null,"",24,null,null,"",""]
[null,null,"",25,null,null,"",""]
[null,null,"",26,null,null,"",""]
[null,null,"",27,null,null,"",""]
[null,null,"",28,null,null,"",""]
[null,null,"",29,null,null,"",""]
[null,null,"",30,null,null,"",""]
[null,null,"",31,null,null,"",""]
[null,null,"",32,null,null,"",""]
[null,null,"",33,null,null,"",""]
[null,null,"",34,null,null,"",""]
[null,null,"",35,null,null,"",""]
[null,null,"",36,null,null,"",""]
[null,null,"",37,null,null,"",""]
[null,null,"",38,null,null,"",""]
[null,null,"",39,null,null,"",""]
[null,null,"",40,null,null,"",""]
[null,null,"",41,null,null,"",""]
[null,null,"",42,null,null,"",""]
[null,null,"",43,null,null,"",""]
[null,null,"",44,null,null,"",""]
[null,null,"",45,null,null,"",""]
["NOTE: If there are more than 45 items, insert additional cellss in the middle of the data area.  The formulae should update correctly but check."]

{"sheet":"Lavy et al. 1982-2","index":17,"n_rows":69,"n_cols":17,"rows_kept":69,"cut":false,"hidden":false,"merged":[[8,2,8,8],[0,1,0,8],[1,1,1,8],[2,2,2,8],[3,2,3,4],[3,6,3,8],[9,2,9,4],[9,6,9,8],[15,3,15,4],[15,7,15,8],[21,0,21,8]]}
[null,"Lavy et al. 1982"]
["Subgroup:","Aerial, pilots, T1"]
[null,null,"Confidence Intervals"]
[null,null,"Arithmetic",null,null,null,"Geometric (Log10)"]
[null,null,"Mean","Lower Limit","Upper Limit",null,"Mean","Lower Limit","Upper Limit"]
[null,null,{"$f":"IF(C15>0,AVERAGE(B24:B68), \"\")","v":9.9249999999999987E-5},{"$f":"IF(C15>1, C6-C20, \"\")","v":-2.8641002083004723E-4},{"$f":"IF(C15>1, C6+C20, \"\")","v":4.8491002083004723E-4},"Inverse log",{"$f":"IF(C15>0, 10^G7, \"\")","v":2.9500439522322491E-5},{"$f":"IF(C15>1,10^H7, \"\")","v":2.3483042416123571E-7},{"$f":"IF(C15>1, 10^I7, \"\")","v":3.7059760681293586E-3}]
[null,null,null,null,null,"Log",{"$f":"IF(C15>0, AVERAGE(G24:G68), \"\")","v":-4.5301715134897229},{"$f":"IF(C15>1, G7-G20, \"\")","v":-6.6292456374526321},{"$f":"IF(C15>1, G7+G20, \"\")","v":-2.4310973895268133}]
[]
[null,null,"Prediction Intervals"]
[null,null,"Arithmetic",null,null,null,"Geometric (Log10)"]
[null,null,"Mean","Lower Limit","Upper Limit",null,"Mean","Lower Limit","Upper Limit"]
[null,null,{"$f":"IF(C15>0,AVERAGE(B24:B68), \"\")","v":9.9249999999999987E-5},{"$f":"IF(C15>1, C12-C21, \"\")","v":-6.7207004166009441E-4},{"$f":"IF(C15>1, C12+C21, \"\")","v":8.705700416600943E-4},"Inverse log",{"$f":"IF($C$15>0, 10^G13, \"\")","v":2.9500439522322491E-5},{"$f":"IF($C$15>0, 10^H13, \"\")","v":1.8693053054351389E-9},0.46556115230605527]
[null,null,null,null,null,"Log",{"$f":"IF(C15>0, AVERAGE(G24:G68), \"\")","v":-4.5301715134897229},{"$f":"IF(C15>1, G13-G21, \"\")","v":-8.7283197614155412},{"$f":"IF(C15>1, G13+G21, \"\")","v":-0.33202326556390371},null,null,{"$f":"'t-values'!A3","v":"95% Confidence Interval"},null,null,null,"factor for PI"]
[null,null,null,null,null,null,null,null,null,null,null,null,null,null,null,{"$f":"I12/H12","v":249055705.85628945}]
[null,"n:",{"$f":"COUNTA(B24:B68)","v":3},null,null,null,null,null,null,null,null,{"$f":"'t-values'!A4","v":"alpha = 0.025"}]
[null,"SSE:",{"$f":"IF(C15>0, SUM(C24:C68), \"\")","v":4.8196754999999989E-8},"Check",null,"SSE:",{"$f":"IF(C15>0, SUM(H24:H68), \"\")","v":1.4277892511930719},"Check",null,null,null,{"$f":"'t-values'!A5","v":"n"},{"$f":"'t-values'!B5","v":"t-value"}]
[null,"Variance (s2):",{"$f":"IF(C15>1, C16/(C15-1), \"\")","v":2.4098377499999995E-8},{"$f":"IF(C15>1, VAR(B24:B68), \"\")","v":2.4098377499999995E-8},{"$f":"IF(C15>1, C17-D17, \"\")","v":0},"Variance (s2):",{"$f":"IF(C15>1, G16/(C15-1), \"\")","v":0.71389462559653594},{"$f":"IF(C15>1, VAR(G24:G68), \"\")","v":0.71389462559653438},{"$f":"IF(C15>1, G17-H17, \"\")","v":1.5543122344752192E-15},null,null,{"$f":"'t-values'!A6","v":2},{"$f":"'t-values'!B6","v":12.706}]
[null,"Std Dev (s):",{"$f":"IF(C15>1, C17^0.5, \"\")","v":1.5523652115401193E-4},{"$f":"IF(C15>1, STDEV(B24:B68), \"\")","v":1.5523652115401193E-4},{"$f":"IF(C15>1, C18-D18, \"\")","v":0},"Std Dev (s):",{"$f":"IF(C15>1, G17^0.5, \"\")","v":0.84492285186076954},{"$f":"IF(C15>1, STDEV(G24:G31), \"\")","v":0.84492285186076865},{"$f":"IF(C15>1, G18-H18, \"\")","v":8.8817841970012523E-16},null,null,{"$f":"'t-values'!A7","v":3},{"$f":"'t-values'!B7","v":4.3029999999999999}]
[null,"t-value:",{"$f":"IF(C15>1, IF(C15<31, OFFSET(M16, C15-1, 0), 1.96), \"\")","v":4.3029999999999999},null,null,"t-value:",{"$f":"C19","v":4.3029999999999999},null,null,null,null,{"$f":"'t-values'!A8","v":4},{"$f":"'t-values'!B8","v":3.1819999999999999}]
[null,"Conf. Interval Factor:",{"$f":"IF(C15>1, C19*C18/(C15^0.5), \"\")","v":3.8566002083004723E-4},"t x s / n0.5",null,"Conf. Interval Factor:",{"$f":"IF(C15>1, G19*G18/(C15^0.5), \"\")","v":2.0990741239629096},"t x s / n0.5",null,null,null,{"$f":"'t-values'!A9","v":5},{"$f":"'t-values'!B9","v":2.7759999999999998}]
[null,"Pred. Interal Factor:",{"$f":"IF(C15>1, C19*C18*(1+(1/C15))^0.5, \"\")","v":7.7132004166009435E-4},"t x s x (1+ 1/n)0.5",null,"Pred. Interal Factor:",{"$f":"IF(C15>1, G19*G18*((1+(1/C15))^0.5), \"\")","v":4.1981482479258192},"t x s x (1+ 1/n)0.5",null,null,null,{"$f":"'t-values'!A10","v":6},{"$f":"'t-values'!B10","v":2.5710000000000002}]
["RAW DATA (only enter data under Identifier and Rate.  Everything else is a link.)",null,null,null,null,null,null,null,null,null,null,{"$f":"'t-values'!A11","v":7},{"$f":"'t-values'!B11","v":2.4470000000000001},null,"Table V, p. 379"]
["Identifier","Rate","(x - xbar)2","n",null,null,"Log Rate","(x - xbar)2",null,null,null,{"$f":"'t-values'!A12","v":8},{"$f":"'t-values'!B12","v":2.3650000000000002},null,"mg/kg bw","lb handled","rate"]
["Pilot 11, T1",{"$f":"Q24","v":8.949999999999999E-6},{"$f":"IF(ISBLANK(B24)=FALSE, ($C$6-B24)^2, \"\")","v":8.154089999999997E-9},1,null,null,{"$f":"IF(ISBLANK(B24)=FALSE,LOG10(B24), \"\")","v":-5.0481769646840879},{"$f":"IF(ISBLANK(B24)=FALSE, ($G$7-G24)^2, \"\")","v":0.26832964746707771},null,null,null,{"$f":"'t-values'!A13","v":9},{"$f":"'t-values'!B13","v":2.306},null,1.7899999999999999E-3,200,{"$f":"O24/P24","v":8.949999999999999E-6}]
["Pilot 21, T1",2.7849999999999999E-4,{"$f":"IF(ISBLANK(B25)=FALSE, ($C$6-B25)^2, \"\")","v":3.2130562499999999E-8},{"$f":"D24+1","v":2},null,null,{"$f":"IF(ISBLANK(B25)=FALSE,LOG10(B25), \"\")","v":-3.5551748004902524},{"$f":"IF(ISBLANK(B25)=FALSE, ($G$7-G25)^2, \"\")","v":0.95061859035977192},null,null,null,{"$f":"'t-values'!A14","v":10},{"$f":"'t-values'!B14","v":2.262},null,5.57E-2,200,{"$f":"O25/P25","v":2.7849999999999999E-4}]
["Pilot 31, T1",1.0300000000000001E-5,7.9121024999999963E-9,{"$f":"D25+1","v":3},null,null,-4.987162775294828,0.2088410133662221,null,null,null,{"$f":"'t-values'!A15","v":11},{"$f":"'t-values'!B15","v":2.2280000000000002},null,2.0600000000000002E-3,200,1.0300000000000001E-5]
[null,null,null,4,null,null,"","",null,null,null,{"$f":"'t-values'!A16","v":12},{"$f":"'t-values'!B16","v":2.2010000000000001}]
[null,null,null,5,null,null,"","",null,null,null,{"$f":"'t-values'!A17","v":13},{"$f":"'t-values'!B17","v":2.1789999999999998}]
[null,null,"",6,null,null,"","",null,null,null,{"$f":"'t-values'!A18","v":14},{"$f":"'t-values'!B18","v":2.16}]
[null,null,"",7,null,null,"","",null,null,null,{"$f":"'t-values'!A19","v":15},{"$f":"'t-values'!B19","v":2.145}]
[null,null,"",8,null,null,"","",null,null,null,{"$f":"'t-values'!A20","v":16},{"$f":"'t-values'!B20","v":2.1309999999999998}]
[null,null,"",9,null,null,"","",null,null,null,{"$f":"'t-values'!A21","v":17},{"$f":"'t-values'!B21","v":2.12}]
[null,null,"",10,null,null,"","",null,null,null,{"$f":"'t-values'!A22","v":18},{"$f":"'t-values'!B22","v":2.11}]
[null,null,"",11,null,null,"","",null,null,null,{"$f":"'t-values'!A23","v":19},{"$f":"'t-values'!B23","v":2.101}]
[null,null,"",12,null,null,"","",null,null,null,{"$f":"'t-values'!A24","v":20},{"$f":"'t-values'!B24","v":2.093}]
[null,null,"",13,null,null,"","",null,null,null,{"$f":"'t-values'!A25","v":21},{"$f":"'t-values'!B25","v":2.0859999999999999}]
[null,null,"",14,null,null,"","",null,null,null,{"$f":"'t-values'!A26","v":22},{"$f":"'t-values'!B26","v":2.08}]
[null,null,"",15,null,null,"","",null,null,null,{"$f":"'t-values'!A27","v":23},{"$f":"'t-values'!B27","v":2.0739999999999998}]
[null,null,"",16,null,null,"","",null,null,null,{"$f":"'t-values'!A28","v":24},{"$f":"'t-values'!B28","v":2.069}]
[null,null,"",17,null,null,"","",null,null,null,{"$f":"'t-values'!A29","v":25},{"$f":"'t-values'!B29","v":2.0640000000000001}]
[null,null,"",18,null,null,"","",null,null,null,{"$f":"'t-values'!A30","v":26},{"$f":"'t-values'!B30","v":2.06}]
[null,null,"",19,null,null,"","",null,null,null,{"$f":"'t-values'!A31","v":27},{"$f":"'t-values'!B31","v":2.056}]
[null,null,"",20,null,null,"","",null,null,null,{"$f":"'t-values'!A32","v":28},{"$f":"'t-values'!B32","v":2.052}]
[null,null,"",21,null,null,"","",null,null,null,{"$f":"'t-values'!A33","v":29},{"$f":"'t-values'!B33","v":2.048}]
[null,null,"",22,null,null,"","",null,null,null,{"$f":"'t-values'!A34","v":30},{"$f":"'t-values'!B34","v":2.0449999999999999}]
[null,null,"",23,null,null,"","",null,null,null,{"$f":"'t-values'!A35","v":"∞"},{"$f":"'t-values'!B35","v":1.96}]
[null,null,"",24,null,null,"",""]
[null,null,"",25,null,null,"",""]
[null,null,"",26,null,null,"",""]
[null,null,"",27,null,null,"",""]
[null,null,"",28,null,null,"",""]
[null,null,"",29,null,null,"",""]
[null,null,"",30,null,null,"",""]
[null,null,"",31,null,null,"",""]
[null,null,"",32,null,null,"",""]
[null,null,"",33,null,null,"",""]
[null,null,"",34,null,null,"",""]
[null,null,"",35,null,null,"",""]
[null,null,"",36,null,null,"",""]
[null,null,"",37,null,null,"",""]
[null,null,"",38,null,null,"",""]
[null,null,"",39,null,null,"",""]
[null,null,"",40,null,null,"",""]
[null,null,"",41,null,null,"",""]
[null,null,"",42,null,null,"",""]
[null,null,"",43,null,null,"",""]
[null,null,"",44,null,null,"",""]
[null,null,"",45,null,null,"",""]
["NOTE: If there are more than 45 items, insert additional cellss in the middle of the data area.  The formulae should update correctly but check."]

{"sheet":"Lavy et al. 1982-3","index":18,"n_rows":69,"n_cols":17,"rows_kept":69,"cut":false,"hidden":false,"merged":[[8,2,8,8],[0,1,0,8],[1,1,1,8],[2,2,2,8],[3,2,3,4],[3,6,3,8],[9,2,9,4],[9,6,9,8],[15,3,15,4],[15,7,15,8],[21,0,21,8]]}
[null,"Lavy et al. 1982"]
["Subgroup:","Mixer/Loaders and pilots, T1 and T2 combined"]
[null,null,"Confidence Intervals"]
[null,null,"Arithmetic",null,null,null,"Geometric (Log10)"]
[null,null,"Mean","Lower Limit","Upper Limit",null,"Mean","Lower Limit","Upper Limit"]
[null,null,{"$f":"IF(C15>0,AVERAGE(B24:B68), \"\")","v":8.3983333333333319E-5},{"$f":"IF(C15>1, C6-C20, \"\")","v":1.1476676259930728E-5},{"$f":"IF(C15>1, C6+C20, \"\")","v":1.564899904067359E-4},"Inverse log",{"$f":"IF(C15>0, 10^G7, \"\")","v":4.1944299846600989E-5},{"$f":"IF(C15>1,10^H7, \"\")","v":7.224737447686364E-6},{"$f":"IF(C15>1, 10^I7, \"\")","v":2.4351394114466781E-4}]
[null,null,null,null,null,"Log",{"$f":"IF(C15>0, AVERAGE(G24:G68), \"\")","v":-4.3773270506486437},{"$f":"IF(C15>1, G7-G20, \"\")","v":-5.1411779308680057},{"$f":"IF(C15>1, G7+G20, \"\")","v":-3.6134761704292817}]
[]
[null,null,"Prediction Intervals"]
[null,null,"Arithmetic",null,null,null,"Geometric (Log10)"]
[null,null,"Mean","Lower Limit","Upper Limit",null,"Mean","Lower Limit","Upper Limit"]
[null,null,{"$f":"IF(C15>0,AVERAGE(B24:B68), \"\")","v":8.3983333333333319E-5},{"$f":"IF(C15>1, C12-C21, \"\")","v":-1.0785124967953225E-4},{"$f":"IF(C15>1, C12+C21, \"\")","v":2.7581791634619888E-4},"Inverse log",{"$f":"IF($C$15>0, 10^G13, \"\")","v":4.1944299846600989E-5},{"$f":"IF($C$15>0, 10^H13, \"\")","v":3.9968097998805567E-7},4.4018213968404296E-3]
[null,null,null,null,null,"Log",{"$f":"IF(C15>0, AVERAGE(G24:G68), \"\")","v":-4.3773270506486437},{"$f":"IF(C15>1, G13-G21, \"\")","v":-6.3982865184468629},{"$f":"IF(C15>1, G13+G21, \"\")","v":-2.3563675828504245},null,null,{"$f":"'t-values'!A3","v":"95% Confidence Interval"}]
[]
[null,"n:",{"$f":"COUNTA(B24:B68)","v":6},null,null,null,null,null,null,null,null,{"$f":"'t-values'!A4","v":"alpha = 0.025"}]
[null,"SSE:",{"$f":"IF(C15>0, SUM(C24:C68), \"\")","v":2.3860133333333328E-8},"Check",null,"SSE:",{"$f":"IF(C15>0, SUM(H24:H68), \"\")","v":2.6480993107844304},"Check",null,null,null,{"$f":"'t-values'!A5","v":"n"},{"$f":"'t-values'!B5","v":"t-value"}]
[null,"Variance (s2):",{"$f":"IF(C15>1, C16/(C15-1), \"\")","v":4.772026666666666E-9},{"$f":"IF(C15>1, VAR(B24:B68), \"\")","v":4.772026666666666E-9},{"$f":"IF(C15>1, C17-D17, \"\")","v":0},"Variance (s2):",{"$f":"IF(C15>1, G16/(C15-1), \"\")","v":0.52961986215688606},{"$f":"IF(C15>1, VAR(G24:G68), \"\")","v":0.52961986215688062},{"$f":"IF(C15>1, G17-H17, \"\")","v":5.440092820663267E-15},null,null,{"$f":"'t-values'!A6","v":2},{"$f":"'t-values'!B6","v":12.706}]
[null,"Std Dev (s):",{"$f":"IF(C15>1, C17^0.5, \"\")","v":6.9079857170282758E-5},{"$f":"IF(C15>1, STDEV(B24:B68), \"\")","v":6.9079857170282758E-5},{"$f":"IF(C15>1, C18-D18, \"\")","v":0},"Std Dev (s):",{"$f":"IF(C15>1, G17^0.5, \"\")","v":0.72774986235442607},{"$f":"IF(C15>1, STDEV(G24:G31), \"\")","v":0.72774986235442229},{"$f":"IF(C15>1, G18-H18, \"\")","v":3.7747582837255322E-15},null,null,{"$f":"'t-values'!A7","v":3},{"$f":"'t-values'!B7","v":4.3029999999999999}]
[null,"t-value:",{"$f":"IF(C15>1, IF(C15<31, OFFSET(M16, C15-1, 0), 1.96), \"\")","v":2.5710000000000002},null,null,"t-value:",{"$f":"C19","v":2.5710000000000002},null,null,null,null,{"$f":"'t-values'!A8","v":4},{"$f":"'t-values'!B8","v":3.1819999999999999}]
[null,"Conf. Interval Factor:",{"$f":"IF(C15>1, C19*C18/(C15^0.5), \"\")","v":7.2506657073402592E-5},"t x s / n0.5",null,"Conf. Interval Factor:",{"$f":"IF(C15>1, G19*G18/(C15^0.5), \"\")","v":0.7638508802193622},"t x s / n0.5",null,null,null,{"$f":"'t-values'!A9","v":5},{"$f":"'t-values'!B9","v":2.7759999999999998}]
[null,"Pred. Interal Factor:",{"$f":"IF(C15>1, C19*C18*(1+(1/C15))^0.5, \"\")","v":1.9183458301286557E-4},"t x s x (1+ 1/n)0.5",null,"Pred. Interal Factor:",{"$f":"IF(C15>1, G19*G18*((1+(1/C15))^0.5), \"\")","v":2.0209594677982192},"t x s x (1+ 1/n)0.5",null,null,null,{"$f":"'t-values'!A10","v":6},{"$f":"'t-values'!B10","v":2.5710000000000002}]
["RAW DATA (only enter data under Identifier and Rate.  Everything else is a link.)",null,null,null,null,null,null,null,null,null,null,{"$f":"'t-values'!A11","v":7},{"$f":"'t-values'!B11","v":2.4470000000000001},null,"Table VI, p. 380"]
["Identifier","Rate","(x - xbar)2","n",null,null,"Log Rate","(x - xbar)2",null,null,null,{"$f":"'t-values'!A12","v":8},{"$f":"'t-values'!B12","v":2.3650000000000002},null,"mg/kg bw","lb handled","rate"]
["M/L 11, T1",{"$f":"Q24","v":1.075E-5},{"$f":"IF(ISBLANK(B24)=FALSE, ($C$6-B24)^2, \"\")","v":5.3631211111111089E-9},1,null,null,{"$f":"IF(ISBLANK(B24)=FALSE,LOG10(B24), \"\")","v":-4.9685915357483754},{"$f":"IF(ISBLANK(B24)=FALSE, ($G$7-G24)^2, \"\")","v":0.34959369134025087},null,null,null,{"$f":"'t-values'!A13","v":9},{"$f":"'t-values'!B13","v":2.306},null,2.15E-3,200,{"$f":"O24/P24","v":1.075E-5}]
["M/L 21, T1",9.4500000000000007E-5,{"$f":"IF(ISBLANK(B25)=FALSE, ($C$6-B25)^2, \"\")","v":1.1060027777777822E-10},{"$f":"D24+1","v":2},null,null,{"$f":"IF(ISBLANK(B25)=FALSE,LOG10(B25), \"\")","v":-4.0245681914907374},{"$f":"IF(ISBLANK(B25)=FALSE, ($G$7-G25)^2, \"\")","v":0.12443881271438756},null,null,null,{"$f":"'t-values'!A14","v":10},{"$f":"'t-values'!B14","v":2.262},null,1.89E-2,200,{"$f":"O25/P25","v":9.4500000000000007E-5}]
["M/L 31, T1",1.8849999999999997E-4,1.0923733611111109E-8,{"$f":"D25+1","v":3},null,null,-3.7246886454581882,0.4259368879295411,null,null,null,{"$f":"'t-values'!A15","v":11},{"$f":"'t-values'!B15","v":2.2280000000000002},null,3.7699999999999997E-2,200,1.8849999999999997E-4]
["M/L 11, T2",2.65E-6,6.6151111111111092E-9,4,null,null,-5.5767541260631921,1.4386253092374968,null,null,null,{"$f":"'t-values'!A16","v":12},{"$f":"'t-values'!B16","v":2.2010000000000001},null,5.2999999999999998E-4,200,2.65E-6]
["M/L 21, T2",9.7999999999999997E-5,1.9646694444444475E-10,5,null,null,-4.0087739243075049,0.1358314069358274,null,null,null,{"$f":"'t-values'!A17","v":13},{"$f":"'t-values'!B17","v":2.1789999999999998},null,1.9599999999999999E-2,200,9.7999999999999997E-5]
["M/L 31, T2",{"$f":"$Q$29","v":1.0949999999999999E-4},6.5110027777777811E-10,6,null,null,-3.9605858808238628,0.1736732026269269,null,null,null,{"$f":"'t-values'!A18","v":14},{"$f":"'t-values'!B18","v":2.16},null,2.1899999999999999E-2,200,1.0949999999999999E-4]
[null,null,"",7,null,null,"","",null,null,null,{"$f":"'t-values'!A19","v":15},{"$f":"'t-values'!B19","v":2.145}]
[null,null,"",8,null,null,"","",null,null,null,{"$f":"'t-values'!A20","v":16},{"$f":"'t-values'!B20","v":2.1309999999999998}]
[null,null,"",9,null,null,"","",null,null,null,{"$f":"'t-values'!A21","v":17},{"$f":"'t-values'!B21","v":2.12}]
[null,null,"",10,null,null,"","",null,null,null,{"$f":"'t-values'!A22","v":18},{"$f":"'t-values'!B22","v":2.11}]
[null,null,"",11,null,null,"","",null,null,null,{"$f":"'t-values'!A23","v":19},{"$f":"'t-values'!B23","v":2.101}]
[null,null,"",12,null,null,"","",null,null,null,{"$f":"'t-values'!A24","v":20},{"$f":"'t-values'!B24","v":2.093}]
[null,null,"",13,null,null,"","",null,null,null,{"$f":"'t-values'!A25","v":21},{"$f":"'t-values'!B25","v":2.0859999999999999}]
[null,null,"",14,null,null,"","",null,null,null,{"$f":"'t-values'!A26","v":22},{"$f":"'t-values'!B26","v":2.08}]
[null,null,"",15,null,null,"","",null,null,null,{"$f":"'t-values'!A27","v":23},{"$f":"'t-values'!B27","v":2.0739999999999998}]
[null,null,"",16,null,null,"","",null,null,null,{"$f":"'t-values'!A28","v":24},{"$f":"'t-values'!B28","v":2.069}]
[null,null,"",17,null,null,"","",null,null,null,{"$f":"'t-values'!A29","v":25},{"$f":"'t-values'!B29","v":2.0640000000000001}]
[null,null,"",18,null,null,"","",null,null,null,{"$f":"'t-values'!A30","v":26},{"$f":"'t-values'!B30","v":2.06}]
[null,null,"",19,null,null,"","",null,null,null,{"$f":"'t-values'!A31","v":27},{"$f":"'t-values'!B31","v":2.056}]
[null,null,"",20,null,null,"","",null,null,null,{"$f":"'t-values'!A32","v":28},{"$f":"'t-values'!B32","v":2.052}]
[null,null,"",21,null,null,"","",null,null,null,{"$f":"'t-values'!A33","v":29},{"$f":"'t-values'!B33","v":2.048}]
[null,null,"",22,null,null,"","",null,null,null,{"$f":"'t-values'!A34","v":30},{"$f":"'t-values'!B34","v":2.0449999999999999}]
[null,null,"",23,null,null,"","",null,null,null,{"$f":"'t-values'!A35","v":"∞"},{"$f":"'t-values'!B35","v":1.96}]
[null,null,"",24,null,null,"",""]
[null,null,"",25,null,null,"",""]
[null,null,"",26,null,null,"",""]
[null,null,"",27,null,null,"",""]
[null,null,"",28,null,null,"",""]
[null,null,"",29,null,null,"",""]
[null,null,"",30,null,null,"",""]
[null,null,"",31,null,null,"",""]
[null,null,"",32,null,null,"",""]
[null,null,"",33,null,null,"",""]
[null,null,"",34,null,null,"",""]
[null,null,"",35,null,null,"",""]
[null,null,"",36,null,null,"",""]
[null,null,"",37,null,null,"",""]
[null,null,"",38,null,null,"",""]
[null,null,"",39,null,null,"",""]
[null,null,"",40,null,null,"",""]
[null,null,"",41,null,null,"",""]
[null,null,"",42,null,null,"",""]
[null,null,"",43,null,null,"",""]
[null,null,"",44,null,null,"",""]
[null,null,"",45,null,null,"",""]
["NOTE: If there are more than 45 items, insert additional cellss in the middle of the data area.  The formulae should update correctly but check."]

{"sheet":"Lavy et al. 1987-1","index":19,"n_rows":69,"n_cols":18,"rows_kept":69,"cut":false,"hidden":false,"merged":[[8,2,8,8],[0,1,0,8],[1,1,1,8],[2,2,2,8],[3,2,3,4],[3,6,3,8],[9,2,9,4],[9,6,9,8],[15,3,15,4],[15,7,15,8],[21,0,21,8]]}
[null,"Lavy et al. 1987"]
["Subgroup:","Backpack, dichlorprop, T1"]
[null,null,"Confidence Intervals"]
[null,null,"Arithmetic",null,null,null,"Geometric (Log10)"]
[null,null,"Mean","Lower Limit","Upper Limit",null,"Mean","Lower Limit","Upper Limit"]
[null,null,{"$f":"IF(C15>0,AVERAGE(B24:B68), \"\")","v":3.5590671316477765E-2},{"$f":"IF(C15>1, C6-C20, \"\")","v":3.0102891696478853E-2},{"$f":"IF(C15>1, C6+C20, \"\")","v":4.1078450936476676E-2},"Inverse log",{"$f":"IF(C15>0, 10^G7, \"\")","v":3.3663267665942916E-2},{"$f":"IF(C15>1,10^H7, \"\")","v":2.8565569175995443E-2},{"$f":"IF(C15>1, 10^I7, \"\")","v":3.9670681265514415E-2}]
[null,null,null,null,null,"Log",{"$f":"IF(C15>0, AVERAGE(G24:G68), \"\")","v":-1.4728437297027788},{"$f":"IF(C15>1, G7-G20, \"\")","v":-1.544157118092794},{"$f":"IF(C15>1, G7+G20, \"\")","v":-1.4015303413127636}]
[]
[null,null,"Prediction Intervals"]
[null,null,"Arithmetic",null,null,null,"Geometric (Log10)"]
[null,null,"Mean","Lower Limit","Upper Limit",null,"Mean","Lower Limit","Upper Limit"]
[null,null,{"$f":"IF(C15>0,AVERAGE(B24:B68), \"\")","v":3.5590671316477765E-2},{"$f":"IF(C15>1, C12-C21, \"\")","v":1.0442505810596761E-2},{"$f":"IF(C15>1, C12+C21, \"\")","v":6.0738836822358769E-2},"Inverse log",{"$f":"IF($C$15>0, 10^G13, \"\")","v":3.3663267665942916E-2},{"$f":"IF($C$15>0, 10^H13, \"\")","v":1.5861975324473011E-2},7.1442274166226366E-2]
[null,null,null,null,null,"Log",{"$f":"IF(C15>0, AVERAGE(G24:G68), \"\")","v":-1.4728437297027788},{"$f":"IF(C15>1, G13-G21, \"\")","v":-1.799642730063808},{"$f":"IF(C15>1, G13+G21, \"\")","v":-1.1460447293417495},null,null,{"$f":"'t-values'!A3","v":"95% Confidence Interval"}]
[]
[null,"n:",{"$f":"COUNTA(B24:B68)","v":20},null,null,null,null,null,null,null,null,{"$f":"'t-values'!A4","v":"alpha = 0.025"}]
[null,"SSE:",{"$f":"IF(C15>0, SUM(C24:C68), \"\")","v":2.6123927207855834E-3},"Check",null,"SSE:",{"$f":"IF(C15>0, SUM(H24:H68), \"\")","v":0.44115101625187403},"Check",null,null,null,{"$f":"'t-values'!A5","v":"n"},{"$f":"'t-values'!B5","v":"t-value"}]
[null,"Variance (s2):",{"$f":"IF(C15>1, C16/(C15-1), \"\")","v":1.3749435372555703E-4},{"$f":"IF(C15>1, VAR(B24:B68), \"\")","v":1.3749435372555714E-4},{"$f":"IF(C15>1, C17-D17, \"\")","v":-1.0842021724855044E-19},"Variance (s2):",{"$f":"IF(C15>1, G16/(C15-1), \"\")","v":2.3218474539572317E-2},{"$f":"IF(C15>1, VAR(G24:G68), \"\")","v":2.321847453957223E-2},{"$f":"IF(C15>1, G17-H17, \"\")","v":8.6736173798840355E-17},null,null,{"$f":"'t-values'!A6","v":2},{"$f":"'t-values'!B6","v":12.706}]
[null,"Std Dev (s):",{"$f":"IF(C15>1, C17^0.5, \"\")","v":1.1725798639135717E-2},{"$f":"IF(C15>1, STDEV(B24:B68), \"\")","v":1.1725798639135721E-2},{"$f":"IF(C15>1, C18-D18, \"\")","v":-3.4694469519536142E-18},"Std Dev (s):",{"$f":"IF(C15>1, G17^0.5, \"\")","v":0.15237609569605173},{"$f":"IF(C15>1, STDEV(G24:G31), \"\")","v":0.16034048934409573},{"$f":"IF(C15>1, G18-H18, \"\")","v":-7.9643936480439936E-3},null,null,{"$f":"'t-values'!A7","v":3},{"$f":"'t-values'!B7","v":4.3029999999999999}]
[null,"t-value:",{"$f":"IF(C15>1, IF(C15<31, OFFSET(M16, C15-1, 0), 1.96), \"\")","v":2.093},null,null,"t-value:",{"$f":"C19","v":2.093},null,null,null,null,{"$f":"'t-values'!A8","v":4},{"$f":"'t-values'!B8","v":3.1819999999999999}]
[null,"Conf. Interval Factor:",{"$f":"IF(C15>1, C19*C18/(C15^0.5), \"\")","v":5.4877796199989098E-3},"t x s / n0.5",null,"Conf. Interval Factor:",{"$f":"IF(C15>1, G19*G18/(C15^0.5), \"\")","v":7.1313388390015137E-2},"t x s / n0.5",null,null,null,{"$f":"'t-values'!A9","v":5},{"$f":"'t-values'!B9","v":2.7759999999999998}]
[null,"Pred. Interal Factor:",{"$f":"IF(C15>1, C19*C18*(1+(1/C15))^0.5, \"\")","v":2.5148165505881004E-2},"t x s x (1+ 1/n)0.5",null,"Pred. Interal Factor:",{"$f":"IF(C15>1, G19*G18*((1+(1/C15))^0.5), \"\")","v":0.32679900036102938},"t x s x (1+ 1/n)0.5",null,null,null,{"$f":"'t-values'!A10","v":6},{"$f":"'t-values'!B10","v":2.5710000000000002}]
["RAW DATA (only enter data under Identifier and Rate.  Everything else is a link.)",null,null,null,null,null,null,null,null,null,null,{"$f":"'t-values'!A11","v":7},{"$f":"'t-values'!B11","v":2.4470000000000001},null,"See Table 2"]
["Identifier","Rate","(x - xbar)2","n",null,null,"Log Rate","(x - xbar)2",null,null,null,{"$f":"'t-values'!A12","v":8},{"$f":"'t-values'!B12","v":2.3650000000000002},null,"Worker","mg/kg bw","Amount handled"]
[{"$f":"O24","v":1},{"$f":"P24/Q24","v":5.3661726242371401E-2},{"$f":"IF(ISBLANK(B24)=FALSE, ($C$6-B24)^2, \"\")","v":3.2656302613466462E-4},1,null,null,{"$f":"IF(ISBLANK(B24)=FALSE,LOG10(B24), \"\")","v":-1.2703353606339325},{"$f":"IF(ISBLANK(B24)=FALSE, ($G$7-G24)^2, \"\")","v":4.100963954292406E-2},null,null,null,{"$f":"'t-values'!A13","v":9},{"$f":"'t-values'!B13","v":2.306},null,1,0.1231,2.294]
[2,{"$f":"P25/Q25","v":3.0993897122929378E-2},{"$f":"IF(ISBLANK(B25)=FALSE, ($C$6-B25)^2, \"\")","v":2.1130332986472423E-5},{"$f":"D24+1","v":2},null,null,{"$f":"IF(ISBLANK(B25)=FALSE,LOG10(B25), \"\")","v":-1.5087238128354825},{"$f":"IF(ISBLANK(B25)=FALSE, ($G$7-G25)^2, \"\")","v":1.2873803656097318E-3},null,null,null,{"$f":"'t-values'!A14","v":10},{"$f":"'t-values'!B14","v":2.262},null,2,7.1099999999999997E-2,2.294]
[3,3.3391455972101136E-2,4.8365481309416144E-6,{"$f":"D25+1","v":3},null,null,-1.476364643932645,1.239683701407446E-5,null,null,null,{"$f":"'t-values'!A15","v":11},{"$f":"'t-values'!B15","v":2.2280000000000002},null,3,7.6600000000000001E-2,2.294]
[4,5.405405405405405E-2,3.4089650211422995E-4,4,null,null,-1.2671717284030137,4.2300972118650554E-2,null,null,null,{"$f":"'t-values'!A16","v":12},{"$f":"'t-values'!B16","v":2.2010000000000001},null,4,0.124,2.294]
[5,1.8613775065387968E-2,2.8821500632026677E-4,5,null,null,-1.730165538540225,6.6214513303375244E-2,null,null,null,{"$f":"'t-values'!A17","v":13},{"$f":"'t-values'!B17","v":2.1789999999999998},null,5,4.2700000000000002E-2,2.294]
[6,3.1168265039232777E-2,1.955767728101587E-5,6,null,null,-1.5062873717641683,1.118477194330341E-3,null,null,null,{"$f":"'t-values'!A18","v":14},{"$f":"'t-values'!B18","v":2.16},null,6,7.1499999999999994E-2,2.294]
[7,5.1482127288578899E-2,2.5253837291322879E-4,7,null,null,-1.288343515951734,3.4040328874181201E-2,null,null,null,{"$f":"'t-values'!A19","v":15},{"$f":"'t-values'!B19","v":2.145},null,7,0.1181,2.294]
[8,3.1517000871839583E-2,1.6594790891518642E-5,8,null,null,-1.5014551162707179,8.1861144134004916E-4,null,null,null,{"$f":"'t-values'!A20","v":16},{"$f":"'t-values'!B20","v":2.1309999999999998},null,8,7.2300000000000003E-2,2.294]
[9,3.1429816913687882E-2,1.7312709361215956E-5,9,null,null,-1.5026581488458199,8.8889958883693978E-4,null,null,null,{"$f":"'t-values'!A21","v":17},{"$f":"'t-values'!B21","v":2.12},null,9,7.2099999999999997E-2,2.294]
[10,3.0732345248474277E-2,2.360333218304223E-5,10,null,null,-1.5124042965738502,1.5650384511605164E-3,null,null,null,{"$f":"'t-values'!A22","v":18},{"$f":"'t-values'!B22","v":2.11},null,10,7.0499999999999993E-2,2.294]
[11,1.8962510897994767E-2,2.7649571890280466E-4,11,null,null,-1.7221041566106117,6.2130760422275104E-2,null,null,null,{"$f":"'t-values'!A23","v":19},{"$f":"'t-values'!B23","v":2.101},null,11,4.3499999999999997E-2,2.294]
[12,5.065387968613775E-2,2.2690024638779462E-4,12,null,null,-1.295387285510937,3.1490789585212266E-2,null,null,null,{"$f":"'t-values'!A24","v":20},{"$f":"'t-values'!B24","v":2.093},null,12,0.1162,2.294]
[13,3.3522231909328681E-2,4.2784415810472521E-6,13,null,null,-1.4746670737638179,3.3245835649266401E-6,null,null,null,{"$f":"'t-values'!A25","v":21},{"$f":"'t-values'!B25","v":2.0859999999999999},null,13,7.6899999999999996E-2,2.294]
[14,4.5030514385353097E-2,8.9110637164993651E-5,14,null,null,-1.3464930920456282,1.5964483636368564E-2,null,null,null,{"$f":"'t-values'!A26","v":22},{"$f":"'t-values'!B26","v":2.08},null,14,0.1033,2.294]
[15,4.036617262423714E-2,2.2805412740411499E-5,15,null,null,-1.3939824268833145,6.2191050823832382E-3,null,null,null,{"$f":"'t-values'!A27","v":23},{"$f":"'t-values'!B27","v":2.0739999999999998},null,15,9.2600000000000002E-2,2.294]
[16,3.3914559721011331E-2,2.8093500804570352E-6,16,null,null,-1.4696138165755599,1.0432338809380814E-5,null,null,null,{"$f":"'t-values'!A28","v":24},{"$f":"'t-values'!B28","v":2.069},null,16,7.7799999999999994E-2,2.294]
[17,3.4742807323452481E-2,7.1887335066877932E-7,17,null,null,-1.4591350921691366,1.8792674302878243E-4,null,null,null,{"$f":"'t-values'!A29","v":25},{"$f":"'t-values'!B29","v":2.0640000000000001},null,17,7.9699999999999993E-2,2.294]
[18,1.9485614646904969E-2,2.5937285033015119E-4,18,null,null,-1.7102858904333125,5.6378779692384598E-2,null,null,null,{"$f":"'t-values'!A30","v":26},{"$f":"'t-values'!B30","v":2.06},null,18,4.4699999999999997E-2,2.294]
[19,1.9659982563208368E-2,2.5378684415354404E-4,19,null,null,-1.7064168716872883,5.455641265651584E-2,null,null,null,{"$f":"'t-values'!A31","v":27},{"$f":"'t-values'!B31","v":2.056},null,19,4.5100000000000001E-2,2.294]
[20,4.8430688753269398E-2,1.6486604777711316E-4,20,null,null,-1.3148793546243813,2.4952743793908633E-2,null,null,null,{"$f":"'t-values'!A32","v":28},{"$f":"'t-values'!B32","v":2.052},null,20,0.1111,2.294]
[null,null,"",21,null,null,"","",null,null,null,{"$f":"'t-values'!A33","v":29},{"$f":"'t-values'!B33","v":2.048},null,"x","x","x","x"]
[null,null,"",22,null,null,"","",null,null,null,{"$f":"'t-values'!A34","v":30},{"$f":"'t-values'!B34","v":2.0449999999999999}]
[null,null,"",23,null,null,"","",null,null,null,{"$f":"'t-values'!A35","v":"∞"},{"$f":"'t-values'!B35","v":1.96}]
[null,null,"",24,null,null,"",""]
[null,null,"",25,null,null,"",""]
[null,null,"",26,null,null,"",""]
[null,null,"",27,null,null,"",""]
[null,null,"",28,null,null,"",""]
[null,null,"",29,null,null,"",""]
[null,null,"",30,null,null,"",""]
[null,null,"",31,null,null,"",""]
[null,null,"",32,null,null,"",""]
[null,null,"",33,null,null,"",""]
[null,null,"",34,null,null,"",""]
[null,null,"",35,null,null,"",""]
[null,null,"",36,null,null,"",""]
[null,null,"",37,null,null,"",""]
[null,null,"",38,null,null,"",""]
[null,null,"",39,null,null,"",""]
[null,null,"",40,null,null,"",""]
[null,null,"",41,null,null,"",""]
[null,null,"",42,null,null,"",""]
[null,null,"",43,null,null,"",""]
[null,null,"",44,null,null,"",""]
[null,null,"",45,null,null,"",""]
["NOTE: If there are more than 45 items, insert additional cellss in the middle of the data area.  The formulae should update correctly but check."]

{"sheet":"Lavy et al. 1987-2","index":20,"n_rows":69,"n_cols":18,"rows_kept":69,"cut":false,"hidden":false,"merged":[[8,2,8,8],[0,1,0,8],[1,1,1,8],[2,2,2,8],[3,2,3,4],[3,6,3,8],[9,2,9,4],[9,6,9,8],[15,3,15,4],[15,7,15,8],[21,0,21,8]]}
[null,"Lavy et al. 1987"]
["Subgroup:","Backpack, dichlorprop, T2"]
[null,null,"Confidence Intervals"]
[null,null,"Arithmetic",null,null,null,"Geometric (Log10)"]
[null,null,"Mean","Lower Limit","Upper Limit",null,"Mean","Lower Limit","Upper Limit"]
[null,null,{"$f":"IF(C15>0,AVERAGE(B24:B68), \"\")","v":3.3975588491717529E-2},{"$f":"IF(C15>1, C6-C20, \"\")","v":2.6851869076787296E-2},{"$f":"IF(C15>1, C6+C20, \"\")","v":4.1099307906647765E-2},"Inverse log",{"$f":"IF(C15>0, 10^G7, \"\")","v":3.0866325426630477E-2},{"$f":"IF(C15>1,10^H7, \"\")","v":2.4891121208935694E-2},{"$f":"IF(C15>1, 10^I7, \"\")","v":3.8275899158798581E-2}]
[null,null,null,null,null,"Log",{"$f":"IF(C15>0, AVERAGE(G24:G68), \"\")","v":-1.5105150693169045},{"$f":"IF(C15>1, G7-G20, \"\")","v":-1.6039555403585906},{"$f":"IF(C15>1, G7+G20, \"\")","v":-1.4170745982752184}]
[]
[null,null,"Prediction Intervals"]
[null,null,"Arithmetic",null,null,null,"Geometric (Log10)"]
[null,null,"Mean","Lower Limit","Upper Limit",null,"Mean","Lower Limit","Upper Limit"]
[null,null,{"$f":"IF(C15>0,AVERAGE(B24:B68), \"\")","v":3.3975588491717529E-2},{"$f":"IF(C15>1, C12-C21, \"\")","v":1.3306050431731997E-3},{"$f":"IF(C15>1, C12+C21, \"\")","v":6.6620571940261858E-2},"Inverse log",{"$f":"IF($C$15>0, 10^G13, \"\")","v":3.0866325426630477E-2},{"$f":"IF($C$15>0, 10^H13, \"\")","v":1.1515608700464072E-2},8.2733798110408249E-2]
[null,null,null,null,null,"Log",{"$f":"IF(C15>0, AVERAGE(G24:G68), \"\")","v":-1.5105150693169045},{"$f":"IF(C15>1, G13-G21, \"\")","v":-1.9387131008377601},{"$f":"IF(C15>1, G13+G21, \"\")","v":-1.0823170377960489},null,null,{"$f":"'t-values'!A3","v":"95% Confidence Interval"}]
[]
[null,"n:",{"$f":"COUNTA(B24:B68)","v":20},null,null,null,null,null,null,null,null,{"$f":"'t-values'!A4","v":"alpha = 0.025"}]
[null,"SSE:",{"$f":"IF(C15>0, SUM(C24:C68), \"\")","v":4.4020883104326572E-3},"Check",null,"SSE:",{"$f":"IF(C15>0, SUM(H24:H68), \"\")","v":0.75738234650322933},"Check",null,null,null,{"$f":"'t-values'!A5","v":"n"},{"$f":"'t-values'!B5","v":"t-value"}]
[null,"Variance (s2):",{"$f":"IF(C15>1, C16/(C15-1), \"\")","v":2.3168885844382405E-4},{"$f":"IF(C15>1, VAR(B24:B68), \"\")","v":2.3168885844382351E-4},{"$f":"IF(C15>1, C17-D17, \"\")","v":5.4210108624275222E-19},"Variance (s2):",{"$f":"IF(C15>1, G16/(C15-1), \"\")","v":3.9862228763327859E-2},{"$f":"IF(C15>1, VAR(G24:G68), \"\")","v":3.9862228763327026E-2},{"$f":"IF(C15>1, G17-H17, \"\")","v":8.3266726846886741E-16},null,null,{"$f":"'t-values'!A6","v":2},{"$f":"'t-values'!B6","v":12.706}]
[null,"Std Dev (s):",{"$f":"IF(C15>1, C17^0.5, \"\")","v":1.5221329062990001E-2},{"$f":"IF(C15>1, STDEV(B24:B68), \"\")","v":1.5221329062989983E-2},{"$f":"IF(C15>1, C18-D18, \"\")","v":1.7347234759768071E-17},"Std Dev (s):",{"$f":"IF(C15>1, G17^0.5, \"\")","v":0.19965527481969481},{"$f":"IF(C15>1, STDEV(G24:G31), \"\")","v":0.16503279678719485},{"$f":"IF(C15>1, G18-H18, \"\")","v":3.4622478032499959E-2},null,null,{"$f":"'t-values'!A7","v":3},{"$f":"'t-values'!B7","v":4.3029999999999999}]
[null,"t-value:",{"$f":"IF(C15>1, IF(C15<31, OFFSET(M16, C15-1, 0), 1.96), \"\")","v":2.093},null,null,"t-value:",{"$f":"C19","v":2.093},null,null,null,null,{"$f":"'t-values'!A8","v":4},{"$f":"'t-values'!B8","v":3.1819999999999999}]
[null,"Conf. Interval Factor:",{"$f":"IF(C15>1, C19*C18/(C15^0.5), \"\")","v":7.123719414930234E-3},"t x s / n0.5",null,"Conf. Interval Factor:",{"$f":"IF(C15>1, G19*G18/(C15^0.5), \"\")","v":9.3440471041686055E-2},"t x s / n0.5",null,null,null,{"$f":"'t-values'!A9","v":5},{"$f":"'t-values'!B9","v":2.7759999999999998}]
[null,"Pred. Interal Factor:",{"$f":"IF(C15>1, C19*C18*(1+(1/C15))^0.5, \"\")","v":3.2644983448544329E-2},"t x s x (1+ 1/n)0.5",null,"Pred. Interal Factor:",{"$f":"IF(C15>1, G19*G18*((1+(1/C15))^0.5), \"\")","v":0.42819803152085562},"t x s x (1+ 1/n)0.5",null,null,null,{"$f":"'t-values'!A10","v":6},{"$f":"'t-values'!B10","v":2.5710000000000002}]
["RAW DATA (only enter data under Identifier and Rate.  Everything else is a link.)",null,null,null,null,null,null,null,null,null,null,{"$f":"'t-values'!A11","v":7},{"$f":"'t-values'!B11","v":2.4470000000000001},null,"See Table 2"]
["Identifier","Rate","(x - xbar)2","n",null,null,"Log Rate","(x - xbar)2",null,null,null,{"$f":"'t-values'!A12","v":8},{"$f":"'t-values'!B12","v":2.3650000000000002},null,"Worker","mg/kg bw","Amount handled"]
[{"$f":"O24","v":1},{"$f":"P24/Q24","v":3.4263295553618137E-2},{"$f":"IF(ISBLANK(B24)=FALSE, ($C$6-B24)^2, \"\")","v":8.2775353467480165E-8},1,null,null,{"$f":"IF(ISBLANK(B24)=FALSE,LOG10(B24), \"\")","v":-1.465170867525841},{"$f":"IF(ISBLANK(B24)=FALSE, ($G$7-G24)^2, \"\")","v":2.0560966360686833E-3},null,null,null,{"$f":"'t-values'!A13","v":9},{"$f":"'t-values'!B13","v":2.306},null,1,7.8600000000000003E-2,2.294]
[2,{"$f":"P25/Q25","v":1.7785527462946819E-2},{"$f":"IF(ISBLANK(B25)=FALSE, ($C$6-B25)^2, \"\")","v":2.6211807611532009E-4},{"$f":"D24+1","v":2},null,null,{"$f":"IF(ISBLANK(B25)=FALSE,LOG10(B25), \"\")","v":-1.7499332504753689},{"$f":"IF(ISBLANK(B25)=FALSE, ($G$7-G25)^2, \"\")","v":5.7321065469227259E-2},null,null,null,{"$f":"'t-values'!A14","v":10},{"$f":"'t-values'!B14","v":2.262},null,2,4.0800000000000003E-2,2.294]
[3,1.6913687881429818E-2,2.9110845243533615E-4,{"$f":"D25+1","v":3},null,null,-1.7717616879710416,6.8249795758220141E-2,null,null,null,{"$f":"'t-values'!A15","v":11},{"$f":"'t-values'!B15","v":2.2280000000000002},null,3,3.8800000000000001E-2,2.294]
[4,4.2981691368788141E-2,8.110988903237956E-5,4,null,null,-1.3667164986240377,2.0678028933311419E-2,null,null,null,{"$f":"'t-values'!A16","v":12},{"$f":"'t-values'!B16","v":2.2010000000000001},null,4,9.8599999999999993E-2,2.294]
[5,2.5544899738448125E-2,7.1076512854503218E-5,5,null,null,-1.5926957975471583,6.7536720924548333E-3,null,null,null,{"$f":"'t-values'!A17","v":13},{"$f":"'t-values'!B17","v":2.1789999999999998},null,5,5.8599999999999999E-2,2.294]
[6,4.3068875326939843E-2,8.2687865467627445E-5,6,null,null,-1.3658364689776208,2.0931897396134182E-2,null,null,null,{"$f":"'t-values'!A18","v":14},{"$f":"'t-values'!B18","v":2.16},null,6,9.8799999999999999E-2,2.294]
[7,1.9093286835222319E-2,2.2148290259492006E-4,7,null,null,-1.7191193030611494,4.3515726336023547E-2,null,null,null,{"$f":"'t-values'!A19","v":15},{"$f":"'t-values'!B19","v":2.145},null,7,4.3799999999999999E-2,2.294]
[8,2.8770706190061029E-2,2.7090799774097057E-5,8,null,null,-1.5410494780233801,9.3235011505409372E-4,null,null,null,{"$f":"'t-values'!A20","v":16},{"$f":"'t-values'!B20","v":2.1309999999999998},null,8,6.6000000000000003E-2,2.294]
[9,1.1333914559721011E-2,5.1264539844285059E-4,9,null,null,-1.9456200655944309,0.18931635778566627,null,null,null,{"$f":"'t-values'!A21","v":17},{"$f":"'t-values'!B21","v":2.12},null,9,2.5999999999999999E-2,2.294]
[10,2.7898866608544029E-2,3.6926548845439683E-5,10,null,null,-1.5544134395813616,1.9270669118753702E-3,null,null,null,{"$f":"'t-values'!A22","v":18},{"$f":"'t-values'!B22","v":2.11},null,10,6.4000000000000001E-2,2.294]
[11,2.122929380993897E-2,1.6246802811473637E-4,11,null,null,-1.6730644523506146,2.6422301924639815E-2,null,null,null,{"$f":"'t-values'!A23","v":19},{"$f":"'t-values'!B23","v":2.101},null,11,4.87E-2,2.294]
[12,3.4655623365300786E-2,4.6244742928939675E-7,12,null,null,-1.4602262849087786,2.5289618372469663E-3,null,null,null,{"$f":"'t-values'!A24","v":20},{"$f":"'t-values'!B24","v":2.093},null,12,7.9500000000000001E-2,2.294]
[13,3.8186573670444639E-2,1.7732396175459391E-5,13,null,null,-1.4180893073971681,8.5425214664437941E-3,null,null,null,{"$f":"'t-values'!A25","v":21},{"$f":"'t-values'!B25","v":2.0859999999999999},null,13,8.7599999999999997E-2,2.294]
[14,4.6643417611159546E-2,1.604738945993831E-4,14,null,null,-1.3312096358800392,3.2150438459982146E-2,null,null,null,{"$f":"'t-values'!A26","v":22},{"$f":"'t-values'!B26","v":2.08},null,14,0.107,2.294]
[15,4.6948561464690501E-2,1.6829802775748719E-4,15,null,null,-1.3283777102672671,3.3174017561576515E-2,null,null,null,{"$f":"'t-values'!A27","v":23},{"$f":"'t-values'!B27","v":2.0739999999999998},null,15,0.1077,2.294]
[16,4.3940714908456843E-2,9.930374450159573E-5,16,null,null,-1.3571328814557424,2.3526095553076817E-2,null,null,null,{"$f":"'t-values'!A28","v":24},{"$f":"'t-values'!B28","v":2.069},null,16,0.1008,2.294]
[17,3.6094158674803832E-2,4.4883396206623324E-6,17,null,null,-1.4425630767803688,4.6174732896854063E-3,null,null,null,{"$f":"'t-values'!A29","v":25},{"$f":"'t-values'!B29","v":2.0640000000000001},null,17,8.2799999999999999E-2,2.294]
[18,7.7724498692240615E-2,1.9139671437334329E-3,18,null,null,-1.1094420703898944,0.16085955046830544,null,null,null,{"$f":"'t-values'!A30","v":26},{"$f":"'t-values'!B30","v":2.06},null,18,0.17829999999999999,2.294]
[19,2.122929380993897E-2,1.6246802811473637E-4,19,null,null,-1.6730644523506146,2.6422301924639815E-2,null,null,null,{"$f":"'t-values'!A31","v":27},{"$f":"'t-values'!B31","v":2.056},null,19,4.87E-2,2.294]
[20,4.5204882301656493E-2,1.2609703946993354E-4,20,null,null,-1.3448146571762079,2.7456626583596728E-2,null,null,null,{"$f":"'t-values'!A32","v":28},{"$f":"'t-values'!B32","v":2.052},null,20,0.1037,2.294]
[null,null,"",21,null,null,"","",null,null,null,{"$f":"'t-values'!A33","v":29},{"$f":"'t-values'!B33","v":2.048},null,"x","x","x","x"]
[null,null,"",22,null,null,"","",null,null,null,{"$f":"'t-values'!A34","v":30},{"$f":"'t-values'!B34","v":2.0449999999999999}]
[null,null,"",23,null,null,"","",null,null,null,{"$f":"'t-values'!A35","v":"∞"},{"$f":"'t-values'!B35","v":1.96}]
[null,null,"",24,null,null,"",""]
[null,null,"",25,null,null,"",""]
[null,null,"",26,null,null,"",""]
[null,null,"",27,null,null,"",""]
[null,null,"",28,null,null,"",""]
[null,null,"",29,null,null,"",""]
[null,null,"",30,null,null,"",""]
[null,null,"",31,null,null,"",""]
[null,null,"",32,null,null,"",""]
[null,null,"",33,null,null,"",""]
[null,null,"",34,null,null,"",""]
[null,null,"",35,null,null,"",""]
[null,null,"",36,null,null,"",""]
[null,null,"",37,null,null,"",""]
[null,null,"",38,null,null,"",""]
[null,null,"",39,null,null,"",""]
[null,null,"",40,null,null,"",""]
[null,null,"",41,null,null,"",""]
[null,null,"",42,null,null,"",""]
[null,null,"",43,null,null,"",""]
[null,null,"",44,null,null,"",""]
[null,null,"",45,null,null,"",""]
["NOTE: If there are more than 45 items, insert additional cellss in the middle of the data area.  The formulae should update correctly but check."]

{"sheet":"Lavy et al. 1987-1&2","index":21,"n_rows":69,"n_cols":18,"rows_kept":69,"cut":false,"hidden":false,"merged":[[8,2,8,8],[0,1,0,8],[1,1,1,8],[2,2,2,8],[3,2,3,4],[3,6,3,8],[9,2,9,4],[9,6,9,8],[15,3,15,4],[15,7,15,8],[21,0,21,8]]}
[null,"Lavy et al. 1987"]
["Subgroup:","Backpack, dichlorprop, T1 and T2 Combined"]
[null,null,"Confidence Intervals"]
[null,null,"Arithmetic",null,null,null,"Geometric (Log10)"]
[null,null,"Mean","Lower Limit","Upper Limit",null,"Mean","Lower Limit","Upper Limit"]
[null,null,{"$f":"IF(C15>0,AVERAGE(B24:B68), \"\")","v":3.478312990409764E-2},{"$f":"IF(C15>1, C6-C20, \"\")","v":3.0619256108426439E-2},{"$f":"IF(C15>1, C6+C20, \"\")","v":3.8947003699768841E-2},"Inverse log",{"$f":"IF(C15>0, 10^G7, \"\")","v":3.2234474940671248E-2},{"$f":"IF(C15>1,10^H7, \"\")","v":2.8423170774286532E-2},{"$f":"IF(C15>1, 10^I7, \"\")","v":3.6556842406926894E-2}]
[null,null,null,null,null,"Log",{"$f":"IF(C15>0, AVERAGE(G24:G68), \"\")","v":-1.4916793995098414},{"$f":"IF(C15>1, G7-G20, \"\")","v":-1.5463274755653369},{"$f":"IF(C15>1, G7+G20, \"\")","v":-1.4370313234543459}]
[]
[null,null,"Prediction Intervals"]
[null,null,"Arithmetic",null,null,null,"Geometric (Log10)"]
[null,null,"Mean","Lower Limit","Upper Limit",null,"Mean","Lower Limit","Upper Limit"]
[null,null,{"$f":"IF(C15>0,AVERAGE(B24:B68), \"\")","v":3.478312990409764E-2},{"$f":"IF(C15>1, C12-C21, \"\")","v":8.1213286814238658E-3},{"$f":"IF(C15>1, C12+C21, \"\")","v":6.1444931126771414E-2},"Inverse log",{"$f":"IF($C$15>0, 10^G13, \"\")","v":3.2234474940671248E-2},{"$f":"IF($C$15>0, 10^H13, \"\")","v":1.4401316006573305E-2},7.2150446127735551E-2]
[null,null,null,null,null,"Log",{"$f":"IF(C15>0, AVERAGE(G24:G68), \"\")","v":-1.4916793995098414},{"$f":"IF(C15>1, G13-G21, \"\")","v":-1.8415978198298579},{"$f":"IF(C15>1, G13+G21, \"\")","v":-1.1417609791898249},null,null,{"$f":"'t-values'!A3","v":"95% Confidence Interval"}]
[]
[null,"n:",{"$f":"COUNTA(B24:B68)","v":40},null,null,null,null,null,null,null,null,{"$f":"'t-values'!A4","v":"alpha = 0.025"}]
[null,"SSE:",{"$f":"IF(C15>0, SUM(C24:C68), \"\")","v":7.0405659565265961E-3},"Check",null,"SSE:",{"$f":"IF(C15>0, SUM(H24:H68), \"\")","v":1.2127246610383309},"Check",null,null,null,{"$f":"'t-values'!A5","v":"n"},{"$f":"'t-values'!B5","v":"t-value"}]
[null,"Variance (s2):",{"$f":"IF(C15>1, C16/(C15-1), \"\")","v":1.8052733221863066E-4},{"$f":"IF(C15>1, VAR(B24:B68), \"\")","v":1.8052733221863166E-4},{"$f":"IF(C15>1, C17-D17, \"\")","v":-1.0028870095490916E-18},"Variance (s2):",{"$f":"IF(C15>1, G16/(C15-1), \"\")","v":3.1095504129187972E-2},{"$f":"IF(C15>1, VAR(G24:G68), \"\")","v":3.1095504129189211E-2},{"$f":"IF(C15>1, G17-H17, \"\")","v":-1.2385925618474403E-15},null,null,{"$f":"'t-values'!A6","v":2},{"$f":"'t-values'!B6","v":12.706}]
[null,"Std Dev (s):",{"$f":"IF(C15>1, C17^0.5, \"\")","v":1.3436046003889339E-2},{"$f":"IF(C15>1, STDEV(B24:B68), \"\")","v":1.3436046003889375E-2},{"$f":"IF(C15>1, C18-D18, \"\")","v":-3.6429192995512949E-17},"Std Dev (s):",{"$f":"IF(C15>1, G17^0.5, \"\")","v":0.17633917355252623},{"$f":"IF(C15>1, STDEV(G24:G31), \"\")","v":0.16034048934409573},{"$f":"IF(C15>1, G18-H18, \"\")","v":1.5998684208430508E-2},null,null,{"$f":"'t-values'!A7","v":3},{"$f":"'t-values'!B7","v":4.3029999999999999}]
[null,"t-value:",{"$f":"IF(C15>1, IF(C15<31, OFFSET(M16, C15-1, 0), 1.96), \"\")","v":1.96},null,null,"t-value:",{"$f":"C19","v":1.96},null,null,null,null,{"$f":"'t-values'!A8","v":4},{"$f":"'t-values'!B8","v":3.1819999999999999}]
[null,"Conf. Interval Factor:",{"$f":"IF(C15>1, C19*C18/(C15^0.5), \"\")","v":4.1638737956712002E-3},"t x s / n0.5",null,"Conf. Interval Factor:",{"$f":"IF(C15>1, G19*G18/(C15^0.5), \"\")","v":5.4648076055495418E-2},"t x s / n0.5",null,null,null,{"$f":"'t-values'!A9","v":5},{"$f":"'t-values'!B9","v":2.7759999999999998}]
[null,"Pred. Interal Factor:",{"$f":"IF(C15>1, C19*C18*(1+(1/C15))^0.5, \"\")","v":2.6661801222673774E-2},"t x s x (1+ 1/n)0.5",null,"Pred. Interal Factor:",{"$f":"IF(C15>1, G19*G18*((1+(1/C15))^0.5), \"\")","v":0.34991842032001641},"t x s x (1+ 1/n)0.5",null,null,null,{"$f":"'t-values'!A10","v":6},{"$f":"'t-values'!B10","v":2.5710000000000002}]
["RAW DATA (only enter data under Identifier and Rate.  Everything else is a link.)",null,null,null,null,null,null,null,null,null,null,{"$f":"'t-values'!A11","v":7},{"$f":"'t-values'!B11","v":2.4470000000000001},null,"See Table 2"]
["Identifier","Rate","(x - xbar)2","n",null,null,"Log Rate","(x - xbar)2",null,null,null,{"$f":"'t-values'!A12","v":8},{"$f":"'t-values'!B12","v":2.3650000000000002},null,"Worker","mg/kg bw","Amount handled"]
[{"$f":"O24","v":1},{"$f":"P24/Q24","v":5.3661726242371401E-2},{"$f":"IF(ISBLANK(B24)=FALSE, ($C$6-B24)^2, \"\")","v":3.5640139970348342E-4},1,null,null,{"$f":"IF(ISBLANK(B24)=FALSE,LOG10(B24), \"\")","v":-1.2703353606339325},{"$f":"IF(ISBLANK(B24)=FALSE, ($G$7-G24)^2, \"\")","v":4.8993183545899884E-2},null,null,null,{"$f":"'t-values'!A13","v":9},{"$f":"'t-values'!B13","v":2.306},null,1,0.1231,2.294]
[2,{"$f":"P25/Q25","v":3.0993897122929378E-2},{"$f":"IF(ISBLANK(B25)=FALSE, ($C$6-B25)^2, \"\")","v":1.4358285069880162E-5},{"$f":"D24+1","v":2},null,null,{"$f":"IF(ISBLANK(B25)=FALSE,LOG10(B25), \"\")","v":-1.5087238128354825},{"$f":"IF(ISBLANK(B25)=FALSE, ($G$7-G25)^2, \"\")","v":2.905120256152921E-4},null,null,null,{"$f":"'t-values'!A14","v":10},{"$f":"'t-values'!B14","v":2.262},null,2,7.1099999999999997E-2,2.294]
[3,3.3391455972101136E-2,1.9367563329986093E-6,{"$f":"D25+1","v":3},null,null,-1.476364643932645,2.345417383892687E-4,null,null,null,{"$f":"'t-values'!A15","v":11},{"$f":"'t-values'!B15","v":2.2280000000000002},null,3,7.6600000000000001E-2,2.294]
[4,5.405405405405405E-2,3.7136851759337318E-4,4,null,null,-1.2671717284030137,5.0403694385811507E-2,null,null,null,{"$f":"'t-values'!A16","v":12},{"$f":"'t-values'!B16","v":2.2010000000000001},null,4,0.124,2.294]
[5,1.8613775065387968E-2,2.6144803590010386E-4,5,null,null,-1.730165538540225,5.6875638509619471E-2,null,null,null,{"$f":"'t-values'!A17","v":13},{"$f":"'t-values'!B17","v":2.1789999999999998},null,5,4.2700000000000002E-2,2.294]
[6,3.1168265039232777E-2,1.3067247991234461E-5,6,null,null,-1.5062873717641683,2.1339285338318342E-4,null,null,null,{"$f":"'t-values'!A18","v":14},{"$f":"'t-values'!B18","v":2.16},null,6,7.1499999999999994E-2,2.294]
[7,5.1482127288578899E-2,2.7885651364691197E-4,7,null,null,-1.288343515951734,4.1345481542356205E-2,null,null,null,{"$f":"'t-values'!A19","v":15},{"$f":"'t-values'!B19","v":2.145},null,7,0.1181,2.294]
[8,3.1517000871839583E-2,1.0667598855358951E-5,8,null,null,-1.5014551162707179,9.5564638188882093E-5,null,null,null,{"$f":"'t-values'!A20","v":16},{"$f":"'t-values'!B20","v":2.1309999999999998},null,8,7.2300000000000003E-2,2.294]
[9,3.1429816913687882E-2,1.1244708011650836E-5,9,null,null,-1.5026581488458199,1.2053293698224908E-4,null,null,null,{"$f":"'t-values'!A21","v":17},{"$f":"'t-values'!B21","v":2.12},null,9,7.2099999999999997E-2,2.294]
[10,3.0732345248474277E-2,1.6408856326233687E-5,10,null,null,-1.5124042965738502,4.2952135831376135E-4,null,null,null,{"$f":"'t-values'!A22","v":18},{"$f":"'t-values'!B22","v":2.11},null,10,7.0499999999999993E-2,2.294]
[11,1.8962510897994767E-2,2.5029198573626343E-4,11,null,null,-1.7221041566106117,5.3095568684948975E-2,null,null,null,{"$f":"'t-values'!A23","v":19},{"$f":"'t-values'!B23","v":2.101},null,11,4.3499999999999997E-2,2.294]
[12,5.065387968613775E-2,2.5188069864412617E-4,12,null,null,-1.295387285510937,3.8530594018158899E-2,null,null,null,{"$f":"'t-values'!A24","v":20},{"$f":"'t-values'!B24","v":2.093},null,12,0.1162,2.294]
[13,3.3522231909328681E-2,1.5898637532123807E-6,13,null,null,-1.4746670737638179,2.8941922728881457E-4,null,null,null,{"$f":"'t-values'!A25","v":21},{"$f":"'t-values'!B25","v":2.0859999999999999},null,13,7.6899999999999996E-2,2.294]
[14,4.5030514385353097E-2,1.0500888870667518E-4,14,null,null,-1.3464930920456282,2.1079063875093059E-2,null,null,null,{"$f":"'t-values'!A26","v":22},{"$f":"'t-values'!B26","v":2.08},null,14,0.1033,2.294]
[15,4.036617262423714E-2,3.1170366014902666E-5,15,null,null,-1.3939824268833145,9.5446984603883428E-3,null,null,null,{"$f":"'t-values'!A27","v":23},{"$f":"'t-values'!B27","v":2.0739999999999998},null,15,9.2600000000000002E-2,2.294]
[16,3.3914559721011331E-2,7.5441416294658447E-7,16,null,null,-1.4696138165755599,4.8688995022965555E-4,null,null,null,{"$f":"'t-values'!A28","v":24},{"$f":"'t-values'!B28","v":2.069},null,16,7.7799999999999994E-2,2.294]
[17,3.4742807323452481E-2,1.6259105098853764E-9,17,null,null,-1.4591350921691366,1.0591319402862519E-3,null,null,null,{"$f":"'t-values'!A29","v":25},{"$f":"'t-values'!B29","v":2.0640000000000001},null,17,7.9699999999999993E-2,2.294]
[18,1.9485614646904969E-2,2.3401397304404254E-4,18,null,null,-1.7102858904333125,4.7788797873873634E-2,null,null,null,{"$f":"'t-values'!A30","v":26},{"$f":"'t-values'!B30","v":2.06},null,18,4.4699999999999997E-2,2.294]
[19,1.9659982563208368E-2,2.2870958549424625E-4,19,null,null,-1.7064168716872883,4.611218195715977E-2,null,null,null,{"$f":"'t-values'!A31","v":27},{"$f":"'t-values'!B31","v":2.056},null,19,4.5100000000000001E-2,2.294]
[20,4.8430688753269398E-2,1.8625586254160636E-4,20,null,null,-1.3148793546243813,3.1258255871500704E-2,null,null,null,{"$f":"'t-values'!A32","v":28},{"$f":"'t-values'!B32","v":2.052},null,20,0.1111,2.294]
[{"$f":"'Lavy et al. 1987-2'!A24","v":1},{"$f":"'Lavy et al. 1987-2'!B24","v":3.4263295553618137E-2},2.7022775193844712E-7,21,null,null,-1.465170867525841,7.0270226794677125E-4,null,null,null,{"$f":"'t-values'!A33","v":29},{"$f":"'t-values'!B33","v":2.048},null,"x","x","x","x"]
[{"$f":"'Lavy et al. 1987-2'!A25","v":2},{"$f":"'Lavy et al. 1987-2'!B25","v":1.7785527462946819E-2},2.8891848874741633E-4,22,null,null,-1.7499332504753689,6.6695051538524855E-2,null,null,null,{"$f":"'t-values'!A34","v":30},{"$f":"'t-values'!B34","v":2.0449999999999999}]
[{"$f":"'Lavy et al. 1987-2'!A26","v":3},{"$f":"'Lavy et al. 1987-2'!B26","v":1.6913687881429818E-2},3.1931695820148668E-4,23,null,null,-1.7717616879710416,7.8446088309662959E-2,null,null,null,{"$f":"'t-values'!A35","v":"∞"},{"$f":"'t-values'!B35","v":1.96}]
[{"$f":"'Lavy et al. 1987-2'!A27","v":4},{"$f":"'Lavy et al. 1987-2'!B27","v":4.2981691368788141E-2},6.7216410090308054E-5,24,null,null,-1.3667164986240377,1.5615726597795213E-2]
[{"$f":"'Lavy et al. 1987-2'!A28","v":5},{"$f":"'Lavy et al. 1987-2'!B28","v":2.5544899738448125E-2},8.5344896593516663E-5,25,null,null,-1.5926957975471583,1.0204312672433637E-2]
[{"$f":"'Lavy et al. 1987-2'!A29","v":6},{"$f":"'Lavy et al. 1987-2'!B29","v":4.3068875326939843E-2},6.8653577212150521E-5,26,null,null,-1.3658364689776208,1.5836443164937306E-2]
[{"$f":"'Lavy et al. 1987-2'!A30","v":7},{"$f":"'Lavy et al. 1987-2'!B30","v":1.9093286835222319E-2},2.4617117552593493E-4,27,null,null,-1.7191193030611494,5.172890972742826E-2]
[{"$f":"'Lavy et al. 1987-2'!A31","v":8},{"$f":"'Lavy et al. 1987-2'!B31","v":2.8770706190061029E-2},3.6149238917109792E-5,28,null,null,-1.5410494780233801,2.4374046524329751E-3]
[{"$f":"'Lavy et al. 1987-2'!A32","v":9},{"$f":"'Lavy et al. 1987-2'!B32","v":1.1333914559721011E-2},5.4986570026694824E-4,29,null,null,-1.9456200655944309,0.20606212832532078]
[{"$f":"'Lavy et al. 1987-2'!A33","v":10},{"$f":"'Lavy et al. 1987-2'!B33","v":2.7898866608544029E-2},4.7393081122506667E-5,30,null,null,-1.5544134395813616,3.9355597836950983E-3]
[{"$f":"'Lavy et al. 1987-2'!A34","v":11},{"$f":"'Lavy et al. 1987-2'!B34","v":2.122929380993897E-2},1.8370647286731836E-4,31,null,null,-1.6730644523506146,3.2900537394050092E-2]
[{"$f":"'Lavy et al. 1987-2'!A35","v":12},{"$f":"'Lavy et al. 1987-2'!B35","v":3.4655623365300786E-2},1.6257917435953587E-8,32,null,null,-1.4602262849087786,9.8929841810759087E-4]
[{"$f":"'Lavy et al. 1987-2'!A36","v":13},{"$f":"'Lavy et al. 1987-2'!B36","v":3.8186573670444639E-2},1.1583429470686245E-5,33,null,null,-1.4180893073971681,5.4155016571517424E-3]
[{"$f":"'Lavy et al. 1987-2'!A37","v":14},{"$f":"'Lavy et al. 1987-2'!B37","v":4.6643417611159546E-2},1.4066642449428376E-4,34,null,null,-1.3312096358800392,2.5750545039404608E-2]
[{"$f":"'Lavy et al. 1987-2'!A38","v":15},{"$f":"'Lavy et al. 1987-2'!B38","v":4.6948561464690501E-2},1.4799772505546887E-4,35,null,null,-1.3283777102672671,2.6667441709478296E-2]
[{"$f":"'Lavy et al. 1987-2'!A39","v":16},{"$f":"'Lavy et al. 1987-2'!B39","v":4.3940714908456843E-2},8.3861363112064548E-5,36,null,null,-1.3571328814557424,1.8102765520481991E-2]
[{"$f":"'Lavy et al. 1987-2'!A40","v":17},{"$f":"'Lavy et al. 1987-2'!B40","v":3.6094158674803832E-2},1.7187964376193893E-6,37,null,null,-1.4425630767803688,2.4124131584657106E-3]
[{"$f":"'Lavy et al. 1987-2'!A41","v":18},{"$f":"'Lavy et al. 1987-2'!B41","v":7.7724498692240615E-2},1.8439611533992996E-3,38,null,null,-1.1094420703898944,0.14610537577275068]
[{"$f":"'Lavy et al. 1987-2'!A42","v":19},{"$f":"'Lavy et al. 1987-2'!B42","v":2.122929380993897E-2},1.8370647286731836E-4,39,null,null,-1.6730644523506146,3.2900537394050092E-2]
[{"$f":"'Lavy et al. 1987-2'!A43","v":20},{"$f":"'Lavy et al. 1987-2'!B43","v":4.5204882301656493E-2},1.0861292303602371E-4,40,null,null,-1.3448146571762079,2.1569252540724577E-2]
[null,null,"",41,null,null,"",""]
[null,null,"",42,null,null,"",""]
[null,null,"",43,null,null,"",""]
[null,null,"",44,null,null,"",""]
[null,null,"",45,null,null,"",""]
["NOTE: If there are more than 45 items, insert additional cellss in the middle of the data area.  The formulae should update correctly but check."]

{"sheet":"Lavy et al. 1987-3","index":22,"n_rows":69,"n_cols":18,"rows_kept":69,"cut":false,"hidden":false,"merged":[[8,2,8,8],[0,1,0,8],[1,1,1,8],[2,2,2,8],[3,2,3,4],[3,6,3,8],[9,2,9,4],[9,6,9,8],[15,3,15,4],[15,7,15,8],[21,0,21,8]]}
[null,"Lavy et al. 1987"]
["Subgroup:","Backpack, 2,4-D, T1"]
[null,null,"Confidence Intervals"]
[null,null,"Arithmetic",null,null,null,"Geometric (Log10)"]
[null,null,"Mean","Lower Limit","Upper Limit",null,"Mean","Lower Limit","Upper Limit"]
[null,null,{"$f":"IF(C15>0,AVERAGE(B24:B68), \"\")","v":3.471447253705319E-2},{"$f":"IF(C15>1, C6-C20, \"\")","v":2.7286631022174955E-2},{"$f":"IF(C15>1, C6+C20, \"\")","v":4.2142314051931425E-2},"Inverse log",{"$f":"IF(C15>0, 10^G7, \"\")","v":3.1891229375730822E-2},{"$f":"IF(C15>1,10^H7, \"\")","v":2.6309218290756858E-2},{"$f":"IF(C15>1, 10^I7, \"\")","v":3.8657572408861515E-2}]
[null,null,null,null,null,"Log",{"$f":"IF(C15>0, AVERAGE(G24:G68), \"\")","v":-1.4963287388064268},{"$f":"IF(C15>1, G7-G20, \"\")","v":-1.5798920556411786},{"$f":"IF(C15>1, G7+G20, \"\")","v":-1.412765421971675}]
[]
[null,null,"Prediction Intervals"]
[null,null,"Arithmetic",null,null,null,"Geometric (Log10)"]
[null,null,"Mean","Lower Limit","Upper Limit",null,"Mean","Lower Limit","Upper Limit"]
[null,null,{"$f":"IF(C15>0,AVERAGE(B24:B68), \"\")","v":3.471447253705319E-2},{"$f":"IF(C15>1, C12-C21, \"\")","v":6.7582654498821865E-4},{"$f":"IF(C15>1, C12+C21, \"\")","v":6.8753118529118168E-2},"Inverse log",{"$f":"IF($C$15>0, 10^G13, \"\")","v":3.1891229375730822E-2},{"$f":"IF($C$15>0, 10^H13, \"\")","v":1.3204927967231649E-2},7.7020527004714637E-2]
[null,null,null,null,null,"Log",{"$f":"IF(C15>0, AVERAGE(G24:G68), \"\")","v":-1.4963287388064268},{"$f":"IF(C15>1, G13-G21, \"\")","v":-1.8792639635232544},{"$f":"IF(C15>1, G13+G21, \"\")","v":-1.1133935140895992},null,null,{"$f":"'t-values'!A3","v":"95% Confidence Interval"}]
[]
[null,"n:",{"$f":"COUNTA(B24:B68)","v":20},null,null,null,null,null,null,null,null,{"$f":"'t-values'!A4","v":"alpha = 0.025"}]
[null,"SSE:",{"$f":"IF(C15>0, SUM(C24:C68), \"\")","v":4.7859746892883826E-3},"Check",null,"SSE:",{"$f":"IF(C15>0, SUM(H24:H68), \"\")","v":0.60572636834440285},"Check",null,null,null,{"$f":"'t-values'!A5","v":"n"},{"$f":"'t-values'!B5","v":"t-value"}]
[null,"Variance (s2):",{"$f":"IF(C15>1, C16/(C15-1), \"\")","v":2.5189340469938858E-4},{"$f":"IF(C15>1, VAR(B24:B68), \"\")","v":2.5189340469938853E-4},{"$f":"IF(C15>1, C17-D17, \"\")","v":5.4210108624275222E-20},"Variance (s2):",{"$f":"IF(C15>1, G16/(C15-1), \"\")","v":3.18803351760212E-2},{"$f":"IF(C15>1, VAR(G24:G68), \"\")","v":3.1880335176021381E-2},{"$f":"IF(C15>1, G17-H17, \"\")","v":-1.8041124150158794E-16},null,null,{"$f":"'t-values'!A6","v":2},{"$f":"'t-values'!B6","v":12.706}]
[null,"Std Dev (s):",{"$f":"IF(C15>1, C17^0.5, \"\")","v":1.5871150074880793E-2},{"$f":"IF(C15>1, STDEV(B24:B68), \"\")","v":1.587115007488079E-2},{"$f":"IF(C15>1, C18-D18, \"\")","v":3.4694469519536142E-18},"Std Dev (s):",{"$f":"IF(C15>1, G17^0.5, \"\")","v":0.17855065156985903},{"$f":"IF(C15>1, STDEV(G24:G31), \"\")","v":0.17566037760189632},{"$f":"IF(C15>1, G18-H18, \"\")","v":2.8902739679627087E-3},null,null,{"$f":"'t-values'!A7","v":3},{"$f":"'t-values'!B7","v":4.3029999999999999}]
[null,"t-value:",{"$f":"IF(C15>1, IF(C15<31, OFFSET(M16, C15-1, 0), 1.96), \"\")","v":2.093},null,null,"t-value:",{"$f":"C19","v":2.093},null,null,null,null,{"$f":"'t-values'!A8","v":4},{"$f":"'t-values'!B8","v":3.1819999999999999}]
[null,"Conf. Interval Factor:",{"$f":"IF(C15>1, C19*C18/(C15^0.5), \"\")","v":7.4278415148782357E-3},"t x s / n0.5",null,"Conf. Interval Factor:",{"$f":"IF(C15>1, G19*G18/(C15^0.5), \"\")","v":8.3563316834751752E-2},"t x s / n0.5",null,null,null,{"$f":"'t-values'!A9","v":5},{"$f":"'t-values'!B9","v":2.7759999999999998}]
[null,"Pred. Interal Factor:",{"$f":"IF(C15>1, C19*C18*(1+(1/C15))^0.5, \"\")","v":3.4038645992064971E-2},"t x s x (1+ 1/n)0.5",null,"Pred. Interal Factor:",{"$f":"IF(C15>1, G19*G18*((1+(1/C15))^0.5), \"\")","v":0.38293522471682756},"t x s x (1+ 1/n)0.5",null,null,null,{"$f":"'t-values'!A10","v":6},{"$f":"'t-values'!B10","v":2.5710000000000002}]
["RAW DATA (only enter data under Identifier and Rate.  Everything else is a link.)",null,null,null,null,null,null,null,null,null,null,{"$f":"'t-values'!A11","v":7},{"$f":"'t-values'!B11","v":2.4470000000000001},null,"See Table 3"]
["Identifier","Rate","(x - xbar)2","n",null,null,"Log Rate","(x - xbar)2",null,null,null,{"$f":"'t-values'!A12","v":8},{"$f":"'t-values'!B12","v":2.3650000000000002},null,"Worker","mg/kg bw","Amount handled"]
[{"$f":"O24","v":1},{"$f":"P24/Q24","v":6.2903225806451621E-2},{"$f":"IF(ISBLANK(B24)=FALSE, ($C$6-B24)^2, \"\")","v":7.9460581088302076E-4},1,null,null,{"$f":"IF(ISBLANK(B24)=FALSE,LOG10(B24), \"\")","v":-1.2013270824717546},{"$f":"IF(ISBLANK(B24)=FALSE, ($G$7-G24)^2, \"\")","v":8.7025977240200059E-2},null,null,null,{"$f":"'t-values'!A13","v":9},{"$f":"'t-values'!B13","v":2.306},null,1,0.14430000000000001,2.294]
[2,{"$f":"P25/Q25","v":3.5701830863121183E-2},{"$f":"IF(ISBLANK(B25)=FALSE, ($C$6-B25)^2, \"\")","v":9.748764640557887E-7},{"$f":"D24+1","v":2},null,null,{"$f":"IF(ISBLANK(B25)=FALSE,LOG10(B25), \"\")","v":-1.4473095118048305},{"$f":"IF(ISBLANK(B25)=FALSE, ($G$7-G25)^2, \"\")","v":2.402884615834031E-3},null,null,null,{"$f":"'t-values'!A14","v":10},{"$f":"'t-values'!B14","v":2.262},null,2,8.1900000000000001E-2,2.294]
[3,4.5989537925021792E-2,1.2712709950296757E-4,{"$f":"D25+1","v":3},null,null,-1.3373409539315375,2.5277115739424077E-2,null,null,null,{"$f":"'t-values'!A15","v":11},{"$f":"'t-values'!B15","v":2.2280000000000002},null,3,0.1055,2.294]
[4,4.1455972101133394E-2,4.544781637249358E-5,4,null,null,-1.3824128966278348,1.2976819099257872E-2,null,null,null,{"$f":"'t-values'!A16","v":12},{"$f":"'t-values'!B16","v":2.2010000000000001},null,4,9.5100000000000004E-2,2.294]
[5,2.3365300784655624E-2,1.2880369946541883E-4,5,null,null,-1.6314286238724789,1.8251978944860484E-2,null,null,null,{"$f":"'t-values'!A17","v":13},{"$f":"'t-values'!B17","v":2.1789999999999998},null,5,5.3600000000000002E-2,2.294]
[6,2.3365300784655624E-2,1.2880369946541883E-4,6,null,null,-1.6314286238724789,1.8251978944860484E-2,null,null,null,{"$f":"'t-values'!A18","v":14},{"$f":"'t-values'!B18","v":2.16},null,6,5.3600000000000002E-2,2.294]
[7,5.02615518744551E-2,2.4171167592346943E-4,7,null,null,-1.2987641062705499,3.9031784029036051E-2,null,null,null,{"$f":"'t-values'!A19","v":15},{"$f":"'t-values'!B19","v":2.145},null,7,0.1153,2.294]
[8,2.1403661726242369E-2,1.771776844411982E-4,8,null,null,-1.6695119214422804,2.9992414747883438E-2,null,null,null,{"$f":"'t-values'!A20","v":16},{"$f":"'t-values'!B20","v":2.1309999999999998},null,8,4.9099999999999998E-2,2.294]
[9,2.5719267654751524E-2,8.0913710874583715E-5,9,null,null,-1.5897414019231046,8.7259256305499446E-3,null,null,null,{"$f":"'t-values'!A21","v":17},{"$f":"'t-values'!B21","v":2.12},null,9,5.8999999999999997E-2,2.294]
[10,2.3147340889276374E-2,1.3379853455700001E-4,10,null,null,-1.6354988924837799,1.9368331674578073E-2,null,null,null,{"$f":"'t-values'!A22","v":18},{"$f":"'t-values'!B22","v":2.11},null,10,5.3100000000000001E-2,2.294]
[11,1.5605928509154314E-2,3.651364548661498E-4,11,null,null,-1.8067103869213745,9.6336767486551234E-2,null,null,null,{"$f":"'t-values'!A23","v":19},{"$f":"'t-values'!B23","v":2.101},null,11,3.5799999999999998E-2,2.294]
[12,3.8099389712292937E-2,1.1457664283233032E-5,12,null,null,-1.4190819809308459,5.9670616022886175E-3,null,null,null,{"$f":"'t-values'!A24","v":20},{"$f":"'t-values'!B24","v":2.093},null,12,8.7400000000000005E-2,2.294]
[13,3.5832606800348735E-2,1.2502242307554709E-6,13,null,null,-1.4457215960251986,2.561082900479622E-3,null,null,null,{"$f":"'t-values'!A25","v":21},{"$f":"'t-values'!B25","v":2.0859999999999999},null,13,8.2199999999999995E-2,2.294]
[14,8.0078465562336526E-2,2.057891863197955E-3,14,null,null,-1.0964842572594407,0.15987560942357815,null,null,null,{"$f":"'t-values'!A26","v":22},{"$f":"'t-values'!B26","v":2.08},null,14,0.1837,2.294]
[15,3.9581517000871841E-2,2.368812181278778E-5,15,null,null,-1.4025075650441639,8.8024126461287381E-3,null,null,null,{"$f":"'t-values'!A27","v":23},{"$f":"'t-values'!B27","v":2.0739999999999998},null,15,9.0800000000000006E-2,2.294]
[16,2.1403661726242369E-2,1.771776844411982E-4,16,null,null,-1.6695119214422804,2.9992414747883438E-2,null,null,null,{"$f":"'t-values'!A28","v":24},{"$f":"'t-values'!B28","v":2.069},null,16,4.9099999999999998E-2,2.294]
[17,3.1081081081081083E-2,1.3201533472331107E-5,17,null,null,-1.5075038837133834,1.2488386369147785E-4,null,null,null,{"$f":"'t-values'!A29","v":25},{"$f":"'t-values'!B29","v":2.0640000000000001},null,17,7.1300000000000002E-2,2.294]
[18,2.2755013077593724E-2,1.4302867056245451E-4,18,null,null,-1.6429229105629868,2.1489851192991807E-2,null,null,null,{"$f":"'t-values'!A30","v":26},{"$f":"'t-values'!B30","v":2.06},null,18,5.2200000000000003E-2,2.294]
[19,2.3234524847428072E-2,1.3178919895652909E-4,19,null,null,-1.6338662045386767,1.8916554480049814E-2,null,null,null,{"$f":"'t-values'!A31","v":27},{"$f":"'t-values'!B31","v":2.056},null,19,5.33E-2,2.294]
[20,3.3304272013949428E-2,1.988665515362124E-6,20,null,null,-1.4775000549895589,3.545193342755818E-4,null,null,null,{"$f":"'t-values'!A32","v":28},{"$f":"'t-values'!B32","v":2.052},null,20,7.6399999999999996E-2,2.294]
[null,null,"",21,null,null,"","",null,null,null,{"$f":"'t-values'!A33","v":29},{"$f":"'t-values'!B33","v":2.048},null,"x","x","x","x"]
[null,null,"",22,null,null,"","",null,null,null,{"$f":"'t-values'!A34","v":30},{"$f":"'t-values'!B34","v":2.0449999999999999}]
[null,null,"",23,null,null,"","",null,null,null,{"$f":"'t-values'!A35","v":"∞"},{"$f":"'t-values'!B35","v":1.96}]
[null,null,"",24,null,null,"",""]
[null,null,"",25,null,null,"",""]
[null,null,"",26,null,null,"",""]
[null,null,"",27,null,null,"",""]
[null,null,"",28,null,null,"",""]
[null,null,"",29,null,null,"",""]
[null,null,"",30,null,null,"",""]
[null,null,"",31,null,null,"",""]
[null,null,"",32,null,null,"",""]
[null,null,"",33,null,null,"",""]
[null,null,"",34,null,null,"",""]
[null,null,"",35,null,null,"",""]
[null,null,"",36,null,null,"",""]
[null,null,"",37,null,null,"",""]
[null,null,"",38,null,null,"",""]
[null,null,"",39,null,null,"",""]
[null,null,"",40,null,null,"",""]
[null,null,"",41,null,null,"",""]
[null,null,"",42,null,null,"",""]
[null,null,"",43,null,null,"",""]
[null,null,"",44,null,null,"",""]
[null,null,"",45,null,null,"",""]
["NOTE: If there are more than 45 items, insert additional cellss in the middle of the data area.  The formulae should update correctly but check."]

{"sheet":"Lavy et al. 1987-4","index":23,"n_rows":69,"n_cols":18,"rows_kept":69,"cut":false,"hidden":false,"merged":[[8,2,8,8],[0,1,0,8],[1,1,1,8],[2,2,2,8],[3,2,3,4],[3,6,3,8],[9,2,9,4],[9,6,9,8],[15,3,15,4],[15,7,15,8],[21,0,21,8]]}
[null,"Lavy et al. 1987"]
["Subgroup:","Backpack, 2,4-D, T2"]
[null,null,"Confidence Intervals"]
[null,null,"Arithmetic",null,null,null,"Geometric (Log10)"]
[null,null,"Mean","Lower Limit","Upper Limit",null,"Mean","Lower Limit","Upper Limit"]
[null,null,{"$f":"IF(C15>0,AVERAGE(B24:B68), \"\")","v":4.0486050566695728E-2},{"$f":"IF(C15>1, C6-C20, \"\")","v":2.9711748142497336E-2},{"$f":"IF(C15>1, C6+C20, \"\")","v":5.1260352990894119E-2},"Inverse log",{"$f":"IF(C15>0, 10^G7, \"\")","v":3.5350060202722543E-2},{"$f":"IF(C15>1,10^H7, \"\")","v":2.7521220520869978E-2},{"$f":"IF(C15>1, 10^I7, \"\")","v":4.5405935226909271E-2}]
[null,null,null,null,null,"Log",{"$f":"IF(C15>0, AVERAGE(G24:G68), \"\")","v":-1.4516098422436605},{"$f":"IF(C15>1, G7-G20, \"\")","v":-1.5603323097633814},{"$f":"IF(C15>1, G7+G20, \"\")","v":-1.3428873747239396}]
[]
[null,null,"Prediction Intervals"]
[null,null,"Arithmetic",null,null,null,"Geometric (Log10)"]
[null,null,"Mean","Lower Limit","Upper Limit",null,"Mean","Lower Limit","Upper Limit"]
[null,null,{"$f":"IF(C15>0,AVERAGE(B24:B68), \"\")","v":4.0486050566695728E-2},{"$f":"IF(C15>1, C12-C21, \"\")","v":-8.8880058525396058E-3},{"$f":"IF(C15>1, C12+C21, \"\")","v":8.9860106985931054E-2},"Inverse log",{"$f":"IF($C$15>0, 10^G13, \"\")","v":3.5350060202722543E-2},{"$f":"IF($C$15>0, 10^H13, \"\")","v":1.1224350519825023E-2},{"$f":"IF($C$15>0, 10^I13, \"\")","v":0.11133176517687629}]
[null,null,null,null,null,"Log",{"$f":"IF(C15>0, AVERAGE(G24:G68), \"\")","v":-1.4516098422436605},{"$f":"IF(C15>1, G13-G21, \"\")","v":-1.9498387793951597},{"$f":"IF(C15>1, G13+G21, \"\")","v":-0.95338090509216145},null,null,{"$f":"'t-values'!A3","v":"95% Confidence Interval"}]
[]
[null,"n:",{"$f":"COUNTA(B24:B68)","v":20},null,null,null,null,null,null,null,null,{"$f":"'t-values'!A4","v":"alpha = 0.025"}]
[null,"SSE:",{"$f":"IF(C15>0, SUM(C24:C68), \"\")","v":1.0069860707094582E-2},"Check",null,"SSE:",{"$f":"IF(C15>0, SUM(H24:H68), \"\")","v":1.025377399229926},"Check",null,null,null,{"$f":"'t-values'!A5","v":"n"},{"$f":"'t-values'!B5","v":"t-value"}]
[null,"Variance (s2):",{"$f":"IF(C15>1, C16/(C15-1), \"\")","v":5.2999266879445175E-4},{"$f":"IF(C15>1, VAR(B24:B68), \"\")","v":5.2999266879445218E-4},{"$f":"IF(C15>1, C17-D17, \"\")","v":-4.3368086899420177E-19},"Variance (s2):",{"$f":"IF(C15>1, G16/(C15-1), \"\")","v":5.3967231538417156E-2},{"$f":"IF(C15>1, VAR(G24:G68), \"\")","v":5.396723153841633E-2},{"$f":"IF(C15>1, G17-H17, \"\")","v":8.2572837456496018E-16},null,null,{"$f":"'t-values'!A6","v":2},{"$f":"'t-values'!B6","v":12.706}]
[null,"Std Dev (s):",{"$f":"IF(C15>1, C17^0.5, \"\")","v":2.302156964228225E-2},{"$f":"IF(C15>1, STDEV(B24:B68), \"\")","v":2.3021569642282261E-2},{"$f":"IF(C15>1, C18-D18, \"\")","v":-1.0408340855860843E-17},"Std Dev (s):",{"$f":"IF(C15>1, G17^0.5, \"\")","v":0.23230848356962161},{"$f":"IF(C15>1, STDEV(G24:G31), \"\")","v":0.16893205859222415},{"$f":"IF(C15>1, G18-H18, \"\")","v":6.3376424977397455E-2},null,null,{"$f":"'t-values'!A7","v":3},{"$f":"'t-values'!B7","v":4.3029999999999999}]
[null,"t-value:",{"$f":"IF(C15>1, IF(C15<31, OFFSET(M16, C15-1, 0), 1.96), \"\")","v":2.093},null,null,"t-value:",{"$f":"C19","v":2.093},null,null,null,null,{"$f":"'t-values'!A8","v":4},{"$f":"'t-values'!B8","v":3.1819999999999999}]
[null,"Conf. Interval Factor:",{"$f":"IF(C15>1, C19*C18/(C15^0.5), \"\")","v":1.0774302424198389E-2},"t x s / n0.5",null,"Conf. Interval Factor:",{"$f":"IF(C15>1, G19*G18/(C15^0.5), \"\")","v":0.10872246751972095},"t x s / n0.5",null,null,null,{"$f":"'t-values'!A9","v":5},{"$f":"'t-values'!B9","v":2.7759999999999998}]
[null,"Pred. Interal Factor:",{"$f":"IF(C15>1, C19*C18*(1+(1/C15))^0.5, \"\")","v":4.9374056419235333E-2},"t x s x (1+ 1/n)0.5",null,"Pred. Interal Factor:",{"$f":"IF(C15>1, G19*G18*((1+(1/C15))^0.5), \"\")","v":0.49822893715149907},"t x s x (1+ 1/n)0.5",null,null,null,{"$f":"'t-values'!A10","v":6},{"$f":"'t-values'!B10","v":2.5710000000000002}]
["RAW DATA (only enter data under Identifier and Rate.  Everything else is a link.)",null,null,null,null,null,null,null,null,null,null,{"$f":"'t-values'!A11","v":7},{"$f":"'t-values'!B11","v":2.4470000000000001},null,"See Table 3"]
["Identifier","Rate","(x - xbar)2","n",null,null,"Log Rate","(x - xbar)2",null,null,null,{"$f":"'t-values'!A12","v":8},{"$f":"'t-values'!B12","v":2.3650000000000002},null,"Worker","mg/kg bw","Amount handled"]
[{"$f":"O24","v":1},{"$f":"P24/Q24","v":4.8692240627724495E-2},{"$f":"IF(ISBLANK(B24)=FALSE, ($C$6-B24)^2, \"\")","v":6.7341555317727326E-5},1,null,null,{"$f":"IF(ISBLANK(B24)=FALSE,LOG10(B24), \"\")","v":-1.3125402404496398},{"$f":"IF(ISBLANK(B24)=FALSE, ($G$7-G24)^2, \"\")","v":1.9340354143147491E-2},null,null,null,{"$f":"'t-values'!A13","v":9},{"$f":"'t-values'!B13","v":2.306},null,1,0.11169999999999999,2.294]
[2,{"$f":"P25/Q25","v":1.7567567567567569E-2},{"$f":"IF(ISBLANK(B25)=FALSE, ($C$6-B25)^2, \"\")","v":5.2525686298132647E-4},{"$f":"D24+1","v":2},null,null,{"$f":"IF(ISBLANK(B25)=FALSE,LOG10(B25), \"\")","v":-1.7552883674241393},{"$f":"IF(ISBLANK(B25)=FALSE, ($G$7-G25)^2, \"\")","v":9.2220646655790675E-2},null,null,null,{"$f":"'t-values'!A14","v":10},{"$f":"'t-values'!B14","v":2.262},null,2,4.0300000000000002E-2,2.294]
[3,3.7183958151700086E-2,1.0903814317171748E-5,{"$f":"D25+1","v":3},null,null,-1.4296443823977258,4.8248142624336861E-4,null,null,null,{"$f":"'t-values'!A15","v":11},{"$f":"'t-values'!B15","v":2.2280000000000002},null,3,8.5300000000000001E-2,2.294]
[4,4.9607672188317346E-2,8.3203981008035002E-5,4,null,null,-1.3044511515061965,2.1655680259564578E-2,null,null,null,{"$f":"'t-values'!A16","v":12},{"$f":"'t-values'!B16","v":2.2010000000000001},null,4,0.1138,2.294]
[5,2.6373147340889275E-2,1.9917403746097818E-4,5,null,null,-1.5788380389127801,1.6187014027676163E-2,null,null,null,{"$f":"'t-values'!A17","v":13},{"$f":"'t-values'!B17","v":2.1789999999999998},null,5,6.0499999999999998E-2,2.294]
[6,2.898866608544028E-2,1.3218984990981362E-4,6,null,null,-1.5377717682621443,7.4238774952146798E-3,null,null,null,{"$f":"'t-values'!A18","v":14},{"$f":"'t-values'!B18","v":2.16},null,6,6.6500000000000004E-2,2.294]
[7,2.3016564952048821E-2,3.0518292764035519E-4,7,null,null,-1.6379594910314366,3.4726191603327482E-2,null,null,null,{"$f":"'t-values'!A19","v":15},{"$f":"'t-values'!B19","v":2.145},null,7,5.28E-2,2.294]
[8,4.7558849171752397E-2,5.0024480107691573E-5,8,null,null,-1.3227686629769071,1.6600049474847691E-2,null,null,null,{"$f":"'t-values'!A20","v":16},{"$f":"'t-values'!B20","v":2.1309999999999998},null,8,0.1091,2.294]
[9,1.4167393199651265E-2,6.9267172560388379E-4,9,null,null,-1.8487100525863744,0.15768857705422765,null,null,null,{"$f":"'t-values'!A21","v":17},{"$f":"'t-values'!B21","v":2.12},null,9,3.2500000000000001E-2,2.294]
[10,4.3417611159546642E-2,8.5940475095564012E-6,10,null,null,-1.3623340751415502,7.9701625916702348E-3,null,null,null,{"$f":"'t-values'!A22","v":18},{"$f":"'t-values'!B22","v":2.11},null,10,9.9599999999999994E-2,2.294]
[11,2.166521360069747E-2,3.5422390410068649E-4,11,null,null,-1.6642370248319167,4.5210318775419638E-2,null,null,null,{"$f":"'t-values'!A23","v":19},{"$f":"'t-values'!B23","v":2.101},null,11,4.9700000000000001E-2,2.294]
[12,3.6835222319093287E-2,1.3328546893491905E-5,12,null,null,-1.4337367046155565,3.1944904867314892E-4,null,null,null,{"$f":"'t-values'!A24","v":20},{"$f":"'t-values'!B24","v":2.093},null,12,8.4500000000000006E-2,2.294]
[13,3.700959023539669E-2,1.2085776435095814E-5,13,null,null,-1.4316857233212961,3.9697051483252125E-4,null,null,null,{"$f":"'t-values'!A25","v":21},{"$f":"'t-values'!B25","v":2.0859999999999999},null,13,8.4900000000000003E-2,2.294]
[14,9.0017436791630337E-2,2.4533582213636419E-3,14,null,null,-1.045673357572829,0.16478442958691225,null,null,null,{"$f":"'t-values'!A26","v":22},{"$f":"'t-values'!B26","v":2.08},null,14,0.20649999999999999,2.294]
[15,4.6381865736704442E-2,3.4760636518904885E-5,15,null,null,-1.3336517856062196,1.3914103125681731E-2,null,null,null,{"$f":"'t-values'!A27","v":23},{"$f":"'t-values'!B27","v":2.0739999999999998},null,15,0.10639999999999999,2.294]
[16,4.3068875326939843E-2,6.6709837421300711E-6,16,null,null,-1.3658364689776208,7.3570715614353797E-3,null,null,null,{"$f":"'t-values'!A28","v":24},{"$f":"'t-values'!B28","v":2.069},null,16,9.8799999999999999E-2,2.294]
[17,3.953792502179599E-2,8.9894204889142419E-7,17,null,null,-1.4029861265051535,2.3642657322191325E-3,null,null,null,{"$f":"'t-values'!A29","v":25},{"$f":"'t-values'!B29","v":2.0640000000000001},null,17,9.0700000000000003E-2,2.294]
[18,0.10658238884045335,4.3687259331989959E-3,18,null,null,-0.97231455010560985,0.22972397706569933,null,null,null,{"$f":"'t-values'!A30","v":26},{"$f":"'t-values'!B30","v":2.06},null,18,0.2445,2.294]
[19,3.8927637314734087E-2,2.4286518638896558E-6,19,null,null,-1.4097419546767025,1.7529200093194387E-3,null,null,null,{"$f":"'t-values'!A31","v":27},{"$f":"'t-values'!B31","v":2.056},null,19,8.9300000000000004E-2,2.294]
[20,1.3121185701830863E-2,7.4883582907231546E-4,20,null,null,-1.8820269179714055,0.18525885907802339,null,null,null,{"$f":"'t-values'!A32","v":28},{"$f":"'t-values'!B32","v":2.052},null,20,3.0099999999999998E-2,2.294]
[null,null,"",21,null,null,"","",null,null,null,{"$f":"'t-values'!A33","v":29},{"$f":"'t-values'!B33","v":2.048},null,"x","x","x","x"]
[null,null,"",22,null,null,"","",null,null,null,{"$f":"'t-values'!A34","v":30},{"$f":"'t-values'!B34","v":2.0449999999999999}]
[null,null,"",23,null,null,"","",null,null,null,{"$f":"'t-values'!A35","v":"∞"},{"$f":"'t-values'!B35","v":1.96}]
[null,null,"",24,null,null,"",""]
[null,null,"",25,null,null,"",""]
[null,null,"",26,null,null,"",""]
[null,null,"",27,null,null,"",""]
[null,null,"",28,null,null,"",""]
[null,null,"",29,null,null,"",""]
[null,null,"",30,null,null,"",""]
[null,null,"",31,null,null,"",""]
[null,null,"",32,null,null,"",""]
[null,null,"",33,null,null,"",""]
[null,null,"",34,null,null,"",""]
[null,null,"",35,null,null,"",""]
[null,null,"",36,null,null,"",""]
[null,null,"",37,null,null,"",""]
[null,null,"",38,null,null,"",""]
[null,null,"",39,null,null,"",""]
[null,null,"",40,null,null,"",""]
[null,null,"",41,null,null,"",""]
[null,null,"",42,null,null,"",""]
[null,null,"",43,null,null,"",""]
[null,null,"",44,null,null,"",""]
[null,null,"",45,null,null,"",""]
["NOTE: If there are more than 45 items, insert additional cellss in the middle of the data area.  The formulae should update correctly but check."]

{"sheet":"Lavy et al. 1987-3&4","index":24,"n_rows":69,"n_cols":18,"rows_kept":69,"cut":false,"hidden":false,"merged":[[8,2,8,8],[0,1,0,8],[1,1,1,8],[2,2,2,8],[3,2,3,4],[3,6,3,8],[9,2,9,4],[9,6,9,8],[15,3,15,4],[15,7,15,8],[21,0,21,8]]}
[null,"Lavy et al. 1987"]
["Subgroup:","Backpack, 2,4-D, T1 and T2 combined"]
[null,null,"Confidence Intervals"]
[null,null,"Arithmetic",null,null,null,"Geometric (Log10)"]
[null,null,"Mean","Lower Limit","Upper Limit",null,"Mean","Lower Limit","Upper Limit"]
[null,null,{"$f":"IF(C15>0,AVERAGE(B24:B68), \"\")","v":3.7600261551874459E-2},{"$f":"IF(C15>1, C6-C20, \"\")","v":3.1484400658225831E-2},{"$f":"IF(C15>1, C6+C20, \"\")","v":4.3716122445523087E-2},"Inverse log",{"$f":"IF(C15>0, 10^G7, \"\")","v":3.3576135548495131E-2},{"$f":"IF(C15>1,10^H7, \"\")","v":2.8991184426166133E-2},{"$f":"IF(C15>1, 10^I7, \"\")","v":3.8886195948359299E-2}]
[null,null,null,null,null,"Log",{"$f":"IF(C15>0, AVERAGE(G24:G68), \"\")","v":-1.4739692905250437},{"$f":"IF(C15>1, G7-G20, \"\")","v":-1.5377340413114249},{"$f":"IF(C15>1, G7+G20, \"\")","v":-1.4102045397386624}]
[]
[null,null,"Prediction Intervals"]
[null,null,"Arithmetic",null,null,null,"Geometric (Log10)"]
[null,null,"Mean","Lower Limit","Upper Limit",null,"Mean","Lower Limit","Upper Limit"]
[null,null,{"$f":"IF(C15>0,AVERAGE(B24:B68), \"\")","v":3.7600261551874459E-2},{"$f":"IF(C15>1, C12-C21, \"\")","v":-1.560355569014793E-3},{"$f":"IF(C15>1, C12+C21, \"\")","v":7.676087867276371E-2},"Inverse log",{"$f":"IF($C$15>0, 10^G13, \"\")","v":3.3576135548495131E-2},{"$f":"IF($C$15>0, 10^H13, \"\")","v":1.3114057641171335E-2},8.5965527163126373E-2]
[null,null,null,null,null,"Log",{"$f":"IF(C15>0, AVERAGE(G24:G68), \"\")","v":-1.4739692905250437},{"$f":"IF(C15>1, G13-G21, \"\")","v":-1.8822629117791858},{"$f":"IF(C15>1, G13+G21, \"\")","v":-1.0656756692709015},null,null,{"$f":"'t-values'!A3","v":"95% Confidence Interval"}]
[]
[null,"n:",{"$f":"COUNTA(B24:B68)","v":40},null,null,null,null,null,null,null,null,{"$f":"'t-values'!A4","v":"alpha = 0.025"}]
[null,"SSE:",{"$f":"IF(C15>0, SUM(C24:C68), \"\")","v":1.5188946525905493E-2},"Check",null,"SSE:",{"$f":"IF(C15>0, SUM(H24:H68), \"\")","v":1.651101564672244},"Check",null,null,null,{"$f":"'t-values'!A5","v":"n"},{"$f":"'t-values'!B5","v":"t-value"}]
[null,"Variance (s2):",{"$f":"IF(C15>1, C16/(C15-1), \"\")","v":3.8946016733091009E-4},{"$f":"IF(C15>1, VAR(B24:B68), \"\")","v":3.8946016733090976E-4},{"$f":"IF(C15>1, C17-D17, \"\")","v":3.2526065174565133E-19},"Variance (s2):",{"$f":"IF(C15>1, G16/(C15-1), \"\")","v":4.2335937555698568E-2},{"$f":"IF(C15>1, VAR(G24:G68), \"\")","v":4.2335937555698602E-2},{"$f":"IF(C15>1, G17-H17, \"\")","v":-3.4694469519536142E-17},null,null,{"$f":"'t-values'!A6","v":2},{"$f":"'t-values'!B6","v":12.706}]
[null,"Std Dev (s):",{"$f":"IF(C15>1, C17^0.5, \"\")","v":1.9734745180288244E-2},{"$f":"IF(C15>1, STDEV(B24:B68), \"\")","v":1.9734745180288237E-2},{"$f":"IF(C15>1, C18-D18, \"\")","v":6.9388939039072284E-18},"Std Dev (s):",{"$f":"IF(C15>1, G17^0.5, \"\")","v":0.20575698665099704},{"$f":"IF(C15>1, STDEV(G24:G31), \"\")","v":0.17566037760189632},{"$f":"IF(C15>1, G18-H18, \"\")","v":3.009660904910072E-2},null,null,{"$f":"'t-values'!A7","v":3},{"$f":"'t-values'!B7","v":4.3029999999999999}]
[null,"t-value:",{"$f":"IF(C15>1, IF(C15<31, OFFSET(M16, C15-1, 0), 1.96), \"\")","v":1.96},null,null,"t-value:",{"$f":"C19","v":1.96},null,null,null,null,{"$f":"'t-values'!A8","v":4},{"$f":"'t-values'!B8","v":3.1819999999999999}]
[null,"Conf. Interval Factor:",{"$f":"IF(C15>1, C19*C18/(C15^0.5), \"\")","v":6.1158608936486289E-3},"t x s / n0.5",null,"Conf. Interval Factor:",{"$f":"IF(C15>1, G19*G18/(C15^0.5), \"\")","v":6.3764750786381108E-2},"t x s / n0.5",null,null,null,{"$f":"'t-values'!A9","v":5},{"$f":"'t-values'!B9","v":2.7759999999999998}]
[null,"Pred. Interal Factor:",{"$f":"IF(C15>1, C19*C18*(1+(1/C15))^0.5, \"\")","v":3.9160617120889252E-2},"t x s x (1+ 1/n)0.5",null,"Pred. Interal Factor:",{"$f":"IF(C15>1, G19*G18*((1+(1/C15))^0.5), \"\")","v":0.40829362125414215},"t x s x (1+ 1/n)0.5",null,null,null,{"$f":"'t-values'!A10","v":6},{"$f":"'t-values'!B10","v":2.5710000000000002}]
["RAW DATA (only enter data under Identifier and Rate.  Everything else is a link.)",null,null,null,null,null,null,null,null,null,null,{"$f":"'t-values'!A11","v":7},{"$f":"'t-values'!B11","v":2.4470000000000001},null,"See Table 3"]
["Identifier","Rate","(x - xbar)2","n",null,null,"Log Rate","(x - xbar)2",null,null,null,{"$f":"'t-values'!A12","v":8},{"$f":"'t-values'!B12","v":2.3650000000000002},null,"Worker","mg/kg bw","Amount handled"]
[{"$f":"O24","v":1},{"$f":"P24/Q24","v":6.2903225806451621E-2},{"$f":"IF(ISBLANK(B24)=FALSE, ($C$6-B24)^2, \"\")","v":6.4024000006840962E-4},1,null,null,{"$f":"IF(ISBLANK(B24)=FALSE,LOG10(B24), \"\")","v":-1.2013270824717546},{"$f":"IF(ISBLANK(B24)=FALSE, ($G$7-G24)^2, \"\")","v":7.4333773612172971E-2},null,null,null,{"$f":"'t-values'!A13","v":9},{"$f":"'t-values'!B13","v":2.306},null,1,0.14430000000000001,2.294]
[2,{"$f":"P25/Q25","v":3.5701830863121183E-2},{"$f":"IF(ISBLANK(B25)=FALSE, ($C$6-B25)^2, \"\")","v":3.6040390800002385E-6},{"$f":"D24+1","v":2},null,null,{"$f":"IF(ISBLANK(B25)=FALSE,LOG10(B25), \"\")","v":-1.4473095118048305},{"$f":"IF(ISBLANK(B25)=FALSE, ($G$7-G25)^2, \"\")","v":7.1074380141073206E-4},null,null,null,{"$f":"'t-values'!A14","v":10},{"$f":"'t-values'!B14","v":2.262},null,2,8.1900000000000001E-2,2.294]
[3,4.5989537925021792E-2,7.0379958065048084E-5,{"$f":"D25+1","v":3},null,null,-1.3373409539315375,1.8667302360308412E-2,null,null,null,{"$f":"'t-values'!A15","v":11},{"$f":"'t-values'!B15","v":2.2280000000000002},null,3,0.1055,2.294]
[4,4.1455972101133394E-2,1.4866503839666639E-5,4,null,null,-1.3824128966278348,8.3825732634608564E-3,null,null,null,{"$f":"'t-values'!A16","v":12},{"$f":"'t-values'!B16","v":2.2010000000000001},null,4,9.5100000000000004E-2,2.294]
[5,2.3365300784655624E-2,2.0263410804425945E-4,5,null,null,-1.6314286238724789,2.4793441658218725E-2,null,null,null,{"$f":"'t-values'!A17","v":13},{"$f":"'t-values'!B17","v":2.1789999999999998},null,5,5.3600000000000002E-2,2.294]
[6,2.3365300784655624E-2,2.0263410804425945E-4,6,null,null,-1.6314286238724789,2.4793441658218725E-2,null,null,null,{"$f":"'t-values'!A18","v":14},{"$f":"'t-values'!B18","v":2.16},null,6,5.3600000000000002E-2,2.294]
[7,5.02615518744551E-2,1.6030827263267421E-4,7,null,null,-1.2987641062705499,3.0696856589651093E-2,null,null,null,{"$f":"'t-values'!A19","v":15},{"$f":"'t-values'!B19","v":2.145},null,7,0.1153,2.294]
[8,2.1403661726242369E-2,2.6232984591166542E-4,8,null,null,-1.6695119214422804,3.8236920506034687E-2,null,null,null,{"$f":"'t-values'!A20","v":16},{"$f":"'t-values'!B20","v":2.1309999999999998},null,8,4.9099999999999998E-2,2.294]
[9,2.5719267654751524E-2,1.4115801598347242E-4,9,null,null,-1.5897414019231046,1.3403181777565042E-2,null,null,null,{"$f":"'t-values'!A21","v":17},{"$f":"'t-values'!B21","v":2.12},null,9,5.8999999999999997E-2,2.294]
[10,2.3147340889276374E-2,2.0888691567935467E-4,10,null,null,-1.6354988924837799,2.6091812308947762E-2,null,null,null,{"$f":"'t-values'!A22","v":18},{"$f":"'t-values'!B22","v":2.11},null,10,5.3100000000000001E-2,2.294]
[11,1.5605928509154314E-2,4.837506859940912E-4,11,null,null,-1.8067103869213745,0.11071663723103235,null,null,null,{"$f":"'t-values'!A23","v":19},{"$f":"'t-values'!B23","v":2.101},null,11,3.5799999999999998E-2,2.294]
[12,3.8099389712292937E-2,2.4912892052273448E-7,12,null,null,-1.4190819809308459,3.0126167544893114E-3,null,null,null,{"$f":"'t-values'!A24","v":20},{"$f":"'t-values'!B24","v":2.093},null,12,8.7400000000000005E-2,2.294]
[13,3.5832606800348735E-2,3.124603320591469E-6,13,null,null,-1.4457215960251986,7.9793224455657909E-4,null,null,null,{"$f":"'t-values'!A25","v":21},{"$f":"'t-values'!B25","v":2.0859999999999999},null,13,8.2199999999999995E-2,2.294]
[14,8.0078465562336526E-2,1.8043978159544356E-3,14,null,null,-1.0964842572594407,0.14249495033953341,null,null,null,{"$f":"'t-values'!A26","v":22},{"$f":"'t-values'!B26","v":2.08},null,14,0.1837,2.294]
[15,3.9581517000871841E-2,3.9253731541818185E-6,15,null,null,-1.4025075650441639,5.1067782087046267E-3,null,null,null,{"$f":"'t-values'!A27","v":23},{"$f":"'t-values'!B27","v":2.0739999999999998},null,15,9.0800000000000006E-2,2.294]
[16,2.1403661726242369E-2,2.6232984591166542E-4,16,null,null,-1.6695119214422804,3.8236920506034687E-2,null,null,null,{"$f":"'t-values'!A28","v":24},{"$f":"'t-values'!B28","v":2.069},null,16,4.9099999999999998E-2,2.294]
[17,3.1081081081081083E-2,4.2499714010773745E-5,17,null,null,-1.5075038837133834,1.1245689403074418E-3,null,null,null,{"$f":"'t-values'!A29","v":25},{"$f":"'t-values'!B29","v":2.0640000000000001},null,17,7.1300000000000002E-2,2.294]
[18,2.2755013077593724E-2,2.2038140226313447E-4,18,null,null,-1.6429229105629868,2.8545325723925655E-2,null,null,null,{"$f":"'t-values'!A30","v":26},{"$f":"'t-values'!B30","v":2.06},null,18,5.2200000000000003E-2,2.294]
[19,2.3234524847428072E-2,2.0637439106147815E-4,19,null,null,-1.6338662045386767,2.5567023111083158E-2,null,null,null,{"$f":"'t-values'!A31","v":27},{"$f":"'t-values'!B31","v":2.056},null,19,5.33E-2,2.294]
[20,3.3304272013949428E-2,1.845552610996132E-5,20,null,null,-1.4775000549895589,1.2466297703883866E-5,null,null,null,{"$f":"'t-values'!A32","v":28},{"$f":"'t-values'!B32","v":2.052},null,20,7.6399999999999996E-2,2.294]
[{"$f":"'Lavy et al. 1987-4'!A24","v":1},{"$f":"'Lavy et al. 1987-4'!B24","v":4.8692240627724495E-2},1.2303199981909504E-4,21,null,null,-1.3125402404496398,2.6059338208247251E-2,null,null,null,{"$f":"'t-values'!A33","v":29},{"$f":"'t-values'!B33","v":2.048},null,"x","x","x","x"]
[{"$f":"'Lavy et al. 1987-4'!A25","v":2},{"$f":"'Lavy et al. 1987-4'!B25","v":1.7567567567567569E-2},4.0130882826888546E-4,22,null,null,-1.7552883674241393,7.9140423027359283E-2,null,null,null,{"$f":"'t-values'!A34","v":30},{"$f":"'t-values'!B34","v":2.0449999999999999}]
[{"$f":"'Lavy et al. 1987-4'!A26","v":3},{"$f":"'Lavy et al. 1987-4'!B26","v":3.7183958151700086E-2},1.7330852099674384E-7,23,null,null,-1.4296443823977258,1.9646974804951654E-3,null,null,null,{"$f":"'t-values'!A35","v":"∞"},{"$f":"'t-values'!B35","v":1.96}]
[{"$f":"'Lavy et al. 1987-4'!A27","v":4},{"$f":"'Lavy et al. 1987-4'!B27","v":4.9607672188317346E-2},1.4417791019216179E-4,24,null,null,-1.3044511515061965,2.8736399456413191E-2]
[{"$f":"'Lavy et al. 1987-4'!A28","v":5},{"$f":"'Lavy et al. 1987-4'!B28","v":2.6373147340889275E-2},1.2604809350650546E-4,25,null,null,-1.5788380389127801,1.0997454388410368E-2]
[{"$f":"'Lavy et al. 1987-4'!A29","v":6},{"$f":"'Lavy et al. 1987-4'!B29","v":2.898866608544028E-2},7.415957647750971E-5,26,null,null,-1.5377717682621443,4.0707561653932278E-3]
[{"$f":"'Lavy et al. 1987-4'!A30","v":7},{"$f":"'Lavy et al. 1987-4'!B30","v":2.3016564952048821E-2},2.1268420651576584E-4,27,null,null,-1.6379594910314366,2.6892785862126949E-2]
[{"$f":"'Lavy et al. 1987-4'!A31","v":8},{"$f":"'Lavy et al. 1987-4'!B31","v":4.7558849171752397E-2},9.917346738278614E-5,28,null,null,-1.3227686629769071,2.2861629770950315E-2]
[{"$f":"'Lavy et al. 1987-4'!A32","v":9},{"$f":"'Lavy et al. 1987-4'!B32","v":1.4167393199651265E-2},5.490993192126234E-4,29,null,null,-1.8487100525863744,0.14043063875030692]
[{"$f":"'Lavy et al. 1987-4'!A33","v":10},{"$f":"'Lavy et al. 1987-4'!B33","v":4.3417611159546642E-2},3.3841556457883701E-5,30,null,null,-1.3623340751415502,1.2462421313718965E-2]
[{"$f":"'Lavy et al. 1987-4'!A34","v":11},{"$f":"'Lavy et al. 1987-4'!B34","v":2.166521360069747E-2},2.5392575320630994E-4,31,null,null,-1.6642370248319167,3.6201810718270833E-2]
[{"$f":"'Lavy et al. 1987-4'!A35","v":12},{"$f":"'Lavy et al. 1987-4'!B35","v":3.6835222319093287E-2},5.8528502769440336E-7,32,null,null,-1.4337367046155565,1.6186609689642676E-3]
[{"$f":"'Lavy et al. 1987-4'!A36","v":13},{"$f":"'Lavy et al. 1987-4'!B36","v":3.700959023539669E-2},3.4889260410958019E-7,33,null,null,-1.4316857233212961,1.7879000554738393E-3]
[{"$f":"'Lavy et al. 1987-4'!A37","v":14},{"$f":"'Lavy et al. 1987-4'!B37","v":9.0017436791630337E-2},2.7475602601152766E-3,34,null,null,-1.045673357572829,0.18343740618340798]
[{"$f":"'Lavy et al. 1987-4'!A38","v":15},{"$f":"'Lavy et al. 1987-4'!B38","v":4.6381865736704442E-2},7.7116572059023468E-5,35,null,null,-1.3336517856062196,1.9689002186644228E-2]
[{"$f":"'Lavy et al. 1987-4'!A39","v":16},{"$f":"'Lavy et al. 1987-4'!B39","v":4.3068875326939843E-2},2.9905736620834871E-5,36,null,null,-1.3658364689776208,1.16927070958068E-2]
[{"$f":"'Lavy et al. 1987-4'!A40","v":17},{"$f":"'Lavy et al. 1987-4'!B40","v":3.953792502179599E-2},3.7545397226683498E-6,37,null,null,-1.4029861265051535,5.0386095742746247E-3]
[{"$f":"'Lavy et al. 1987-4'!A41","v":18},{"$f":"'Lavy et al. 1987-4'!B41","v":0.10658238884045335},4.7585338852577002E-3,38,null,null,-0.97231455010560985,0.25165747858528953]
[{"$f":"'Lavy et al. 1987-4'!A42","v":19},{"$f":"'Lavy et al. 1987-4'!B42","v":3.8927637314734087E-2},1.7619264158271802E-6,39,null,null,-1.4097419546767025,4.1251506701756114E-3]
[{"$f":"'Lavy et al. 1987-4'!A43","v":20},{"$f":"'Lavy et al. 1987-4'!B43","v":1.3121185701830863E-2},5.9922515447218753E-4,40,null,null,-1.8820269179714055,0.16651102731715386]
[null,null,"",41,null,null,"",""]
[null,null,"",42,null,null,"",""]
[null,null,"",43,null,null,"",""]
[null,null,"",44,null,null,"",""]
[null,null,"",45,null,null,"",""]
["NOTE: If there are more than 45 items, insert additional cellss in the middle of the data area.  The formulae should update correctly but check."]

{"sheet":"Lavy et al. 1987-5","index":25,"n_rows":69,"n_cols":18,"rows_kept":69,"cut":false,"hidden":false,"merged":[[8,2,8,8],[0,1,0,8],[1,1,1,8],[2,2,2,8],[3,2,3,4],[3,6,3,8],[9,2,9,4],[9,6,9,8],[15,3,15,4],[15,7,15,8],[21,0,21,8]]}
[null,"Lavy et al. 1987"]
["Subgroup:","Hack-and-Squirt, 2,4-D, T1"]
[null,null,"Confidence Intervals"]
[null,null,"Arithmetic",null,null,null,"Geometric (Log10)"]
[null,null,"Mean","Lower Limit","Upper Limit",null,"Mean","Lower Limit","Upper Limit"]
[null,null,{"$f":"IF(C15>0,AVERAGE(B24:B68), \"\")","v":4.0767147743263343E-2},{"$f":"IF(C15>1, C6-C20, \"\")","v":1.7612162632113286E-2},{"$f":"IF(C15>1, C6+C20, \"\")","v":6.3922132854413394E-2},"Inverse log",{"$f":"IF(C15>0, 10^G7, \"\")","v":1.7376313578781711E-2},{"$f":"IF(C15>1,10^H7, \"\")","v":8.69392474950215E-3},{"$f":"IF(C15>1, 10^I7, \"\")","v":3.4729570624066376E-2}]
[null,null,null,null,null,"Log",{"$f":"IF(C15>0, AVERAGE(G24:G68), \"\")","v":-1.7600423545966737},{"$f":"IF(C15>1, G7-G20, \"\")","v":-2.0607841231763997},{"$f":"IF(C15>1, G7+G20, \"\")","v":-1.4593005860169475}]
[]
[null,null,"Prediction Intervals"]
[null,null,"Arithmetic",null,null,null,"Geometric (Log10)"]
[null,null,"Mean","Lower Limit","Upper Limit",null,"Mean","Lower Limit","Upper Limit"]
[null,null,{"$f":"IF(C15>0,AVERAGE(B24:B68), \"\")","v":4.0767147743263343E-2},{"$f":"IF(C15>1, C12-C21, \"\")","v":-6.5342324244157271E-2},{"$f":"IF(C15>1, C12+C21, \"\")","v":0.14687661973068394},"Inverse log",{"$f":"IF($C$15>0, 10^G13, \"\")","v":1.7376313578781711E-2},{"$f":"IF($C$15>0, 10^H13, \"\")","v":7.2742081852790778E-4},0.41507785575780787]
[null,null,null,null,null,"Log",{"$f":"IF(C15>0, AVERAGE(G24:G68), \"\")","v":-1.7600423545966737},{"$f":"IF(C15>1, G13-G21, \"\")","v":-3.1382142737481611},{"$f":"IF(C15>1, G13+G21, \"\")","v":-0.38187043544518628},null,null,{"$f":"'t-values'!A3","v":"95% Confidence Interval"}]
[]
[null,"n:",{"$f":"COUNTA(B24:B68)","v":20},null,null,null,null,null,null,null,null,{"$f":"'t-values'!A4","v":"alpha = 0.025"}]
[null,"SSE:",{"$f":"IF(C15>0, SUM(C24:C68), \"\")","v":4.650869482788527E-2},"Check",null,"SSE:",{"$f":"IF(C15>0, SUM(H24:H68), \"\")","v":7.8457169976447325},"Check",null,null,null,{"$f":"'t-values'!A5","v":"n"},{"$f":"'t-values'!B5","v":"t-value"}]
[null,"Variance (s2):",{"$f":"IF(C15>1, C16/(C15-1), \"\")","v":2.4478260435729089E-3},{"$f":"IF(C15>1, VAR(B24:B68), \"\")","v":2.4478260435729089E-3},{"$f":"IF(C15>1, C17-D17, \"\")","v":0},"Variance (s2):",{"$f":"IF(C15>1, G16/(C15-1), \"\")","v":0.41293247356024909},{"$f":"IF(C15>1, VAR(G24:G68), \"\")","v":0.41293247356024887},{"$f":"IF(C15>1, G17-H17, \"\")","v":2.2204460492503131E-16},null,null,{"$f":"'t-values'!A6","v":2},{"$f":"'t-values'!B6","v":12.706}]
[null,"Std Dev (s):",{"$f":"IF(C15>1, C17^0.5, \"\")","v":4.9475509533231779E-2},{"$f":"IF(C15>1, STDEV(B24:B68), \"\")","v":4.9475509533231779E-2},{"$f":"IF(C15>1, C18-D18, \"\")","v":0},"Std Dev (s):",{"$f":"IF(C15>1, G17^0.5, \"\")","v":0.64259822094388741},{"$f":"IF(C15>1, STDEV(G24:G31), \"\")","v":0.58146618815110707},{"$f":"IF(C15>1, G18-H18, \"\")","v":6.1132032792780344E-2},null,null,{"$f":"'t-values'!A7","v":3},{"$f":"'t-values'!B7","v":4.3029999999999999}]
[null,"t-value:",{"$f":"IF(C15>1, IF(C15<31, OFFSET(M16, C15-1, 0), 1.96), \"\")","v":2.093},null,null,"t-value:",{"$f":"C19","v":2.093},null,null,null,null,{"$f":"'t-values'!A8","v":4},{"$f":"'t-values'!B8","v":3.1819999999999999}]
[null,"Conf. Interval Factor:",{"$f":"IF(C15>1, C19*C18/(C15^0.5), \"\")","v":2.3154985111150057E-2},"t x s / n0.5",null,"Conf. Interval Factor:",{"$f":"IF(C15>1, G19*G18/(C15^0.5), \"\")","v":0.30074176857972623},"t x s / n0.5",null,null,null,{"$f":"'t-values'!A9","v":5},{"$f":"'t-values'!B9","v":2.7759999999999998}]
[null,"Pred. Interal Factor:",{"$f":"IF(C15>1, C19*C18*(1+(1/C15))^0.5, \"\")","v":0.10610947198742061},"t x s x (1+ 1/n)0.5",null,"Pred. Interal Factor:",{"$f":"IF(C15>1, G19*G18*((1+(1/C15))^0.5), \"\")","v":1.3781719191514874},"t x s x (1+ 1/n)0.5",null,null,null,{"$f":"'t-values'!A10","v":6},{"$f":"'t-values'!B10","v":2.5710000000000002}]
["RAW DATA (only enter data under Identifier and Rate.  Everything else is a link.)",null,null,null,null,null,null,null,null,null,null,{"$f":"'t-values'!A11","v":7},{"$f":"'t-values'!B11","v":2.4470000000000001},null,"See Table 6"]
["Identifier","Rate","(x - xbar)2","n",null,null,"Log Rate","(x - xbar)2",null,null,null,{"$f":"'t-values'!A12","v":8},{"$f":"'t-values'!B12","v":2.3650000000000002},null,"Worker","mg/kg bw","Amount handled"]
[{"$f":"O24","v":1},{"$f":"P24/Q24","v":4.7713717693836973E-3},{"$f":"IF(ISBLANK(B24)=FALSE, ($C$6-B24)^2, \"\")","v":1.295695887961731E-3},1,null,null,{"$f":"IF(ISBLANK(B24)=FALSE,LOG10(B24), \"\")","v":-2.3213567433443214},{"$f":"IF(ISBLANK(B24)=FALSE, ($G$7-G24)^2, \"\")","v":0.31507384301514541},null,null,null,{"$f":"'t-values'!A13","v":9},{"$f":"'t-values'!B13","v":2.306},null,1,2.3999999999999998E-3,0.503,"Ackerman"]
[2,{"$f":"P25/Q25","v":1.2723658051689861E-2},{"$f":"IF(ISBLANK(B25)=FALSE, ($C$6-B25)^2, \"\")","v":7.8643731408138825E-4},{"$f":"D24+1","v":2},null,null,{"$f":"IF(ISBLANK(B25)=FALSE,LOG10(B25), \"\")","v":-1.8953880110720402},{"$f":"IF(ISBLANK(B25)=FALSE, ($G$7-G25)^2, \"\")","v":1.8318446726747935E-2},null,null,null,{"$f":"'t-values'!A14","v":10},{"$f":"'t-values'!B14","v":2.262},null,2,6.4000000000000003E-3,0.503]
[3,4.2942345924453285E-2,4.7314871274520284E-6,{"$f":"D25+1","v":3},null,null,-1.3671142339049964,0.15439250803029331,null,null,null,{"$f":"'t-values'!A15","v":11},{"$f":"'t-values'!B15","v":2.2280000000000002},null,3,2.1600000000000001E-2,0.503]
[4,6.1630218687872759E-2,4.3526772923980562E-4,4,null,null,-1.2102062912216547,0.30231969658773789,null,null,null,{"$f":"'t-values'!A16","v":12},{"$f":"'t-values'!B16","v":2.2010000000000001},null,4,3.1E-2,0.503]
[5,1.6898608349900596E-3,1.5270343521115066E-3,5,null,null,-2.7721490593416345,1.0243599817897033,null,null,null,{"$f":"'t-values'!A17","v":13},{"$f":"'t-values'!B17","v":2.1789999999999998},null,5,8.4999999999999995E-4,0.503]
[6,1.6898608349900596E-3,1.5270343521115066E-3,6,null,null,-2.7721490593416345,1.0243599817897033,null,null,null,{"$f":"'t-values'!A18","v":14},{"$f":"'t-values'!B18","v":2.16},null,6,8.4999999999999995E-4,0.503]
[7,4.970178926441352E-3,1.281422976472526E-3,7,null,null,-2.3036279763838898,0.29548532821379442,null,null,null,{"$f":"'t-values'!A19","v":15},{"$f":"'t-values'!B19","v":2.145},null,7,2.5000000000000001E-3,0.503]
[8,9.145129224652087E-3,9.9995205519139304E-4,8,null,null,-2.0388101533743535,7.7711485635352961E-2,null,null,null,{"$f":"'t-values'!A20","v":16},{"$f":"'t-values'!B20","v":2.1309999999999998},null,8,4.5999999999999999E-3,0.503]
[9,2.7833001988071572E-2,1.6729212641654532E-4,9,null,null,-1.5554399493776894,4.1862144221393463E-2,null,null,null,{"$f":"'t-values'!A21","v":17},{"$f":"'t-values'!B21","v":2.12},null,9,1.4E-2,0.503]
[10,3.3797216699801192E-3,1.397819628385218E-3,10,null,null,-2.4711190636776537,0.50563008619743666,null,null,null,{"$f":"'t-values'!A22","v":18},{"$f":"'t-values'!B22","v":2.11},null,10,1.6999999999999999E-3,0.503]
[11,3.3797216699801192E-3,1.397819628385218E-3,11,null,null,-2.4711190636776537,0.50563008619743666,null,null,null,{"$f":"'t-values'!A23","v":19},{"$f":"'t-values'!B23","v":2.101},null,11,1.6999999999999999E-3,0.503]
[12,1.411530815109344E-2,7.1032055364675525E-4,12,null,null,-1.8503096363368521,8.1481821527607436E-3,null,null,null,{"$f":"'t-values'!A24","v":20},{"$f":"'t-values'!B24","v":2.093},null,12,7.1000000000000004E-3,0.503]
[13,3.3598409542743533E-2,5.1390807387592006E-5,13,null,null,-1.4736812804422539,8.200266479087312E-2,null,null,null,{"$f":"'t-values'!A25","v":21},{"$f":"'t-values'!B25","v":2.0859999999999999},null,13,1.6899999999999998E-2,0.503]
[14,5.1689860834990059E-3,1.2672291135547157E-3,14,null,null,-2.2865946370851096,0.27725730619378158,null,null,null,{"$f":"'t-values'!A26","v":22},{"$f":"'t-values'!B26","v":2.08},null,14,2.5999999999999999E-3,0.503]
[15,3.2007952286282303E-2,7.6723505053597296E-5,15,null,null,-1.4947421090240778,7.0384220300879693E-2,null,null,null,{"$f":"'t-values'!A27","v":23},{"$f":"'t-values'!B27","v":2.0739999999999998},null,15,1.61E-2,0.503]
[16,6.5869017632241803E-2,6.3010387192320347E-4,16,null,null,-1.181318813559822,0.33492093695023251,null,null,null,{"$f":"'t-values'!A28","v":24},{"$f":"'t-values'!B28","v":2.069},null,16,5.2299999999999999E-2,0.79400000000000004,"Pansy"]
[17,0.17732997481108312,1.8649405736755248E-2,17,null,null,-0.75121784762100285,1.0177268858747055,null,null,null,{"$f":"'t-values'!A29","v":25},{"$f":"'t-values'!B29","v":2.0640000000000001},null,17,0.14080000000000001,0.79400000000000004]
[18,8.9798488664987408E-2,2.4040723925823327E-3,18,null,null,-1.0467309725752307,0.50881312772134091,null,null,null,{"$f":"'t-values'!A30","v":26},{"$f":"'t-values'!B30","v":2.06},null,18,7.1300000000000002E-2,0.79400000000000004]
[19,0.14206549118387909,1.026135438381294E-2,19,null,null,-0.84751140277977277,0.83271273802385914,null,null,null,{"$f":"'t-values'!A31","v":27},{"$f":"'t-values'!B31","v":2.056},null,19,0.1128,0.79400000000000004]
[20,8.1234256926952145E-2,1.6375869256845905E-3,20,null,null,-1.0902607877918284,0.44860734723155338,null,null,null,{"$f":"'t-values'!A32","v":28},{"$f":"'t-values'!B32","v":2.052},null,20,6.4500000000000002E-2,0.79400000000000004]
[null,null,"",21,null,null,"","",null,null,null,{"$f":"'t-values'!A33","v":29},{"$f":"'t-values'!B33","v":2.048},null,"x","x","x","x"]
[null,null,"",22,null,null,"","",null,null,null,{"$f":"'t-values'!A34","v":30},{"$f":"'t-values'!B34","v":2.0449999999999999}]
[null,null,"",23,null,null,"","",null,null,null,{"$f":"'t-values'!A35","v":"∞"},{"$f":"'t-values'!B35","v":1.96}]
[null,null,"",24,null,null,"",""]
[null,null,"",25,null,null,"",""]
[null,null,"",26,null,null,"",""]
[null,null,"",27,null,null,"",""]
[null,null,"",28,null,null,"",""]
[null,null,"",29,null,null,"",""]
[null,null,"",30,null,null,"",""]
[null,null,"",31,null,null,"",""]
[null,null,"",32,null,null,"",""]
[null,null,"",33,null,null,"",""]
[null,null,"",34,null,null,"",""]
[null,null,"",35,null,null,"",""]
[null,null,"",36,null,null,"",""]
[null,null,"",37,null,null,"",""]
[null,null,"",38,null,null,"",""]
[null,null,"",39,null,null,"",""]
[null,null,"",40,null,null,"",""]
[null,null,"",41,null,null,"",""]
[null,null,"",42,null,null,"",""]
[null,null,"",43,null,null,"",""]
[null,null,"",44,null,null,"",""]
[null,null,"",45,null,null,"",""]
["NOTE: If there are more than 45 items, insert additional cellss in the middle of the data area.  The formulae should update correctly but check."]

{"sheet":"Lavy et al. 1987-6a","index":26,"n_rows":69,"n_cols":18,"rows_kept":69,"cut":false,"hidden":false,"merged":[[8,2,8,8],[0,1,0,8],[1,1,1,8],[2,2,2,8],[3,2,3,4],[3,6,3,8],[9,2,9,4],[9,6,9,8],[15,3,15,4],[15,7,15,8],[21,0,21,8]]}
[null,"Lavy et al. 1987"]
["Subgroup:","Hack-and-Squirt, 2,4-D, T2 (using 1/2 min. for non-detects)"]
[null,null,"Confidence Intervals"]
[null,null,"Arithmetic",null,null,null,"Geometric (Log10)"]
[null,null,"Mean","Lower Limit","Upper Limit",null,"Mean","Lower Limit","Upper Limit"]
[null,null,{"$f":"IF(C15>0,AVERAGE(B24:B68), \"\")","v":1.4315877015136902E-2},{"$f":"IF(C15>1, C6-C20, \"\")","v":6.3333041839524051E-3},{"$f":"IF(C15>1, C6+C20, \"\")","v":2.22984498463214E-2},"Inverse log",{"$f":"IF(C15>0, 10^G7, \"\")","v":3.6654221712401876E-3},{"$f":"IF(C15>1,10^H7, \"\")","v":1.273088971564008E-3},{"$f":"IF(C15>1, 10^I7, \"\")","v":1.0553323446760869E-2}]
[null,null,null,null,null,"Log",{"$f":"IF(C15>0, AVERAGE(G24:G68), \"\")","v":-2.435875997535542},{"$f":"IF(C15>1, G7-G20, \"\")","v":-2.8951412440218638},{"$f":"IF(C15>1, G7+G20, \"\")","v":-1.9766107510492199}]
[]
[null,null,"Prediction Intervals"]
[null,null,"Arithmetic",null,null,null,"Geometric (Log10)"]
[null,null,"Mean","Lower Limit","Upper Limit",null,"Mean","Lower Limit","Upper Limit"]
[null,null,{"$f":"IF(C15>0,AVERAGE(B24:B68), \"\")","v":1.4315877015136902E-2},{"$f":"IF(C15>1, C12-C21, \"\")","v":-2.2264867224264004E-2},{"$f":"IF(C15>1, C12+C21, \"\")","v":5.089662125453781E-2},"Inverse log",{"$f":"IF($C$15>0, 10^G13, \"\")","v":3.6654221712401876E-3},{"$f":"IF($C$15>0, 10^H13, \"\")","v":2.8807544828434701E-5},0.46638197643825868,{"$f":"I12/H12","v":16189.577390778297}]
[null,null,null,null,null,"Log",{"$f":"IF(C15>0, AVERAGE(G24:G68), \"\")","v":-2.435875997535542},{"$f":"IF(C15>1, G13-G21, \"\")","v":-4.5404937536216643},{"$f":"IF(C15>1, G13+G21, \"\")","v":-0.33125824144941962},0.46600000000000003,null,{"$f":"'t-values'!A3","v":"95% Confidence Interval"}]
[null,null,null,null,null,null,null,null,null,2.8799999999999999E-5]
[null,"n:",{"$f":"COUNTA(B24:B68)","v":20},null,null,null,null,null,null,{"$f":"J13/J14","v":16180.555555555557},null,{"$f":"'t-values'!A4","v":"alpha = 0.025"}]
[null,"SSE:",{"$f":"IF(C15>0, SUM(C24:C68), \"\")","v":5.5275275928207569E-3},"Check",null,"SSE:",{"$f":"IF(C15>0, SUM(H24:H68), \"\")","v":18.296680541959422},"Check",null,null,null,{"$f":"'t-values'!A5","v":"n"},{"$f":"'t-values'!B5","v":"t-value"}]
[null,"Variance (s2):",{"$f":"IF(C15>1, C16/(C15-1), \"\")","v":2.9092250488530299E-4},{"$f":"IF(C15>1, VAR(B24:B68), \"\")","v":2.9092250488530294E-4},{"$f":"IF(C15>1, C17-D17, \"\")","v":5.4210108624275222E-20},"Variance (s2):",{"$f":"IF(C15>1, G16/(C15-1), \"\")","v":0.96298318641891689},{"$f":"IF(C15>1, VAR(G24:G68), \"\")","v":0.96298318641891445},{"$f":"IF(C15>1, G17-H17, \"\")","v":2.4424906541753444E-15},null,null,{"$f":"'t-values'!A6","v":2},{"$f":"'t-values'!B6","v":12.706}]
[null,"Std Dev (s):",{"$f":"IF(C15>1, C17^0.5, \"\")","v":1.7056450535949823E-2},{"$f":"IF(C15>1, STDEV(B24:B68), \"\")","v":1.705645053594982E-2},{"$f":"IF(C15>1, C18-D18, \"\")","v":3.4694469519536142E-18},"Std Dev (s):",{"$f":"IF(C15>1, G17^0.5, \"\")","v":0.98131706722084322},{"$f":"IF(C15>1, STDEV(G24:G31), \"\")","v":1.1450890645226663},{"$f":"IF(C15>1, G18-H18, \"\")","v":-0.16377199730182312},null,null,{"$f":"'t-values'!A7","v":3},{"$f":"'t-values'!B7","v":4.3029999999999999}]
[null,"t-value:",{"$f":"IF(C15>1, IF(C15<31, OFFSET(M16, C15-1, 0), 1.96), \"\")","v":2.093},null,null,"t-value:",{"$f":"C19","v":2.093},null,null,null,null,{"$f":"'t-values'!A8","v":4},{"$f":"'t-values'!B8","v":3.1819999999999999}]
[null,"Conf. Interval Factor:",{"$f":"IF(C15>1, C19*C18/(C15^0.5), \"\")","v":7.9825728311844965E-3},"t x s / n0.5",null,"Conf. Interval Factor:",{"$f":"IF(C15>1, G19*G18/(C15^0.5), \"\")","v":0.459265246486322},"t x s / n0.5",null,null,null,{"$f":"'t-values'!A9","v":5},{"$f":"'t-values'!B9","v":2.7759999999999998}]
[null,"Pred. Interal Factor:",{"$f":"IF(C15>1, C19*C18*(1+(1/C15))^0.5, \"\")","v":3.6580744239400907E-2},"t x s x (1+ 1/n)0.5",null,"Pred. Interal Factor:",{"$f":"IF(C15>1, G19*G18*((1+(1/C15))^0.5), \"\")","v":2.1046177560861223},"t x s x (1+ 1/n)0.5",null,null,null,{"$f":"'t-values'!A10","v":6},{"$f":"'t-values'!B10","v":2.5710000000000002}]
["RAW DATA (only enter data under Identifier and Rate.  Everything else is a link.)",null,null,null,null,null,null,null,null,null,null,{"$f":"'t-values'!A11","v":7},{"$f":"'t-values'!B11","v":2.4470000000000001},null,"See Table 6 in Lavy et al. 1987"]
["Identifier","Rate","(x - xbar)2","n",null,null,"Log Rate","(x - xbar)2",null,null,null,{"$f":"'t-values'!A12","v":8},{"$f":"'t-values'!B12","v":2.3650000000000002},null,"Worker","mg/kg bw","Amount handled"]
[{"$f":"O24","v":1},{"$f":"P24/Q24","v":9.9403578528827041E-5},{"$f":"IF(ISBLANK(B24)=FALSE, ($C$6-B24)^2, \"\")","v":2.0210811697378301E-4},1,null,null,{"$f":"IF(ISBLANK(B24)=FALSE,LOG10(B24), \"\")","v":-4.0025979807199086},{"$f":"IF(ISBLANK(B24)=FALSE, ($G$7-G24)^2, \"\")","v":2.4546177725931546},null,null,null,{"$f":"'t-values'!A13","v":9},{"$f":"'t-values'!B13","v":2.306},"missing",1,5.0000000000000002E-5,0.503,"Ackerman"]
[2,{"$f":"P25/Q25","v":5.3677932405566606E-3},{"$f":"IF(ISBLANK(B25)=FALSE, ($C$6-B25)^2, \"\")","v":8.0068203236906179E-5},{"$f":"D24+1","v":2},null,null,{"$f":"IF(ISBLANK(B25)=FALSE,LOG10(B25), \"\")","v":-2.27020422089694},{"$f":"IF(ISBLANK(B25)=FALSE, ($G$7-G25)^2, \"\")","v":2.744713757459083E-2},null,null,null,{"$f":"'t-values'!A14","v":10},{"$f":"'t-values'!B14","v":2.262},null,2,2.7000000000000001E-3,0.503]
[3,1.7693836978131212E-2,1.1410613511592526E-5,{"$f":"D25+1","v":3},null,null,-1.7521779784110145,0.46744298135480267,null,null,null,{"$f":"'t-values'!A15","v":11},{"$f":"'t-values'!B15","v":2.2280000000000002},null,3,8.8999999999999999E-3,0.503]
[4,3.8170974155069579E-2,5.6906565955562409E-4,4,null,null,-1.4182667563523779,1.035528567741375,null,null,null,{"$f":"'t-values'!A16","v":12},{"$f":"'t-values'!B16","v":2.2010000000000001},null,4,1.9199999999999998E-2,0.503]
[5,1.9880715705765408E-4,1.9929166137788964E-4,5,null,null,-3.7015679850559273,1.6019762072733033,null,null,null,{"$f":"'t-values'!A17","v":13},{"$f":"'t-values'!B17","v":2.1789999999999998},null,5,1E-4,0.503]
[6,9.9403578528827041E-5,2.0210811697378301E-4,6,null,null,-4.0025979807199086,2.4546177725931546,null,null,null,{"$f":"'t-values'!A18","v":14},{"$f":"'t-values'!B18","v":2.16},"missing",6,5.0000000000000002E-5,0.503]
[7,9.9403578528827041E-5,2.0210811697378301E-4,7,null,null,-4.0025979807199086,2.4546177725931546,null,null,null,{"$f":"'t-values'!A19","v":15},{"$f":"'t-values'!B19","v":2.145},"missing",7,5.0000000000000002E-5,0.503]
[8,1.2326043737574552E-2,3.9594364724945231E-6,8,null,null,-1.9091762955576737,0.27741257606357528,null,null,null,{"$f":"'t-values'!A20","v":16},{"$f":"'t-values'!B20","v":2.1309999999999998},null,8,6.1999999999999998E-3,0.503]
[9,5.9642147117296221E-3,6.9750263230154187E-5,9,null,null,-2.2244467303362652,4.4702335028423183E-2,null,null,null,{"$f":"'t-values'!A21","v":17},{"$f":"'t-values'!B21","v":2.12},null,9,3.0000000000000001E-3,0.503]
[10,7.9522862823061633E-4,1.828079328023515E-4,10,null,null,-3.0995079937279648,0.44040742637033997,null,null,null,{"$f":"'t-values'!A22","v":18},{"$f":"'t-values'!B22","v":2.11},null,10,4.0000000000000002E-4,0.503]
[11,1.9880715705765408E-4,1.9929166137788964E-4,11,null,null,-3.7015679850559273,1.6019762072733033,null,null,null,{"$f":"'t-values'!A23","v":19},{"$f":"'t-values'!B23","v":2.101},null,11,1E-4,0.503]
[12,9.9403578528827049E-4,1.7747145375329488E-4,12,null,null,-3.0025979807199086,0.32117380622442154,null,null,null,{"$f":"'t-values'!A24","v":20},{"$f":"'t-values'!B24","v":2.093},null,12,5.0000000000000001E-4,0.503]
[13,2.3658051689860838E-2,8.7276227653053292E-5,13,null,null,-1.6260210236633965,0.65586507870545341,null,null,null,{"$f":"'t-values'!A25","v":21},{"$f":"'t-values'!B25","v":2.0859999999999999},null,13,1.1900000000000001E-2,0.503]
[14,7.1570576540755469E-3,5.12486946443069E-5,14,null,null,-2.1452654842886401,8.4454470409627752E-2,null,null,null,{"$f":"'t-values'!A26","v":22},{"$f":"'t-values'!B26","v":2.08},null,14,3.5999999999999999E-3,0.503]
[15,7.3558648111332007E-3,4.8441769879880454E-5,15,null,null,-2.1333662609889323,9.1512140705499165E-2,null,null,null,{"$f":"'t-values'!A27","v":23},{"$f":"'t-values'!B27","v":2.0739999999999998},null,15,3.7000000000000002E-3,0.503]
[16,3.3366336633663368E-2,3.629200116771075E-4,16,null,null,-1.4766914729113039,0.92003495227862564,null,null,null,{"$f":"'t-values'!A28","v":24},{"$f":"'t-values'!B28","v":2.069},"high",16,3.3700000000000001E-2,1.01,"Pansy"]
[17,5.97029702970297E-2,2.0599882365792384E-3,17,null,null,-1.2240040616424912,1.4686335890051705,null,null,null,{"$f":"'t-values'!A29","v":25},{"$f":"'t-values'!B29","v":2.0640000000000001},"high",17,6.0299999999999999E-2,1.01]
[18,1.8712871287128712E-2,1.9333558627928793E-5,18,null,null,-1.7278595696093983,0.50128726221329611,null,null,null,{"$f":"'t-values'!A30","v":26},{"$f":"'t-values'!B30","v":2.06},null,18,1.89E-2,1.01]
[19,4.2475247524752478E-2,7.9295014749780732E-4,19,null,null,-1.3718640815979184,1.1321213572572526,null,null,null,{"$f":"'t-values'!A31","v":27},{"$f":"'t-values'!B31","v":2.056},"high",19,4.2900000000000001E-2,1.01]
[20,1.1881188118811881E-2,5.9277100218883451E-6,20,null,null,-1.9251401277350177,0.26085112870089799,null,null,null,{"$f":"'t-values'!A32","v":28},{"$f":"'t-values'!B32","v":2.052},null,20,1.2E-2,1.01]
[null,null,"",21,null,null,"","",null,null,null,{"$f":"'t-values'!A33","v":29},{"$f":"'t-values'!B33","v":2.048},null,"x","x","x","x"]
[null,null,"",22,null,null,"","",null,null,null,{"$f":"'t-values'!A34","v":30},{"$f":"'t-values'!B34","v":2.0449999999999999}]
[null,null,"",23,null,null,"","",null,null,null,{"$f":"'t-values'!A35","v":"∞"},{"$f":"'t-values'!B35","v":1.96}]
[null,null,"",24,null,null,"",""]
[null,null,"",25,null,null,"",""]
[null,null,"",26,null,null,"",""]
[null,null,"",27,null,null,"",""]
[null,null,"",28,null,null,"",""]
[null,null,"",29,null,null,"",""]
[null,null,"",30,null,null,"",""]
[null,null,"",31,null,null,"",""]
[null,null,"",32,null,null,"",""]
[null,null,"",33,null,null,"",""]
[null,null,"",34,null,null,"",""]
[null,null,"",35,null,null,"",""]
[null,null,"",36,null,null,"",""]
[null,null,"",37,null,null,"",""]
[null,null,"",38,null,null,"",""]
[null,null,"",39,null,null,"",""]
[null,null,"",40,null,null,"",""]
[null,null,"",41,null,null,"",""]
[null,null,"",42,null,null,"",""]
[null,null,"",43,null,null,"",""]
[null,null,"",44,null,null,"",""]
[null,null,"",45,null,null,"",""]
["NOTE: If there are more than 45 items, insert additional cellss in the middle of the data area.  The formulae should update correctly but check."]

{"sheet":"Lavy et al. 1987-6b","index":27,"n_rows":69,"n_cols":18,"rows_kept":69,"cut":false,"hidden":false,"merged":[[9,2,9,4],[9,6,9,8],[15,3,15,4],[15,7,15,8],[21,0,21,8],[8,2,8,8],[0,1,0,8],[1,1,1,8],[2,2,2,8],[3,2,3,4],[3,6,3,8]]}
[null,"Lavy et al. 1987"]
["Subgroup:","Hack-and-Squirt, 2,4-D, T2 (using trimmed mean)."]
[null,null,"Confidence Intervals"]
[null,null,"Arithmetic",null,null,null,"Geometric (Log10)"]
[null,null,"Mean","Lower Limit","Upper Limit",null,"Mean","Lower Limit","Upper Limit"]
[null,null,{"$f":"IF(C15>0,AVERAGE(B24:B68), \"\")","v":1.0748198222264716E-2},{"$f":"IF(C15>1, C6-C20, \"\")","v":4.4913063582267257E-3},{"$f":"IF(C15>1, C6+C20, \"\")","v":1.7005090086302705E-2},"Inverse log",{"$f":"IF(C15>0, 10^G7, \"\")","v":4.6641641778117204E-3},{"$f":"IF(C15>1,10^H7, \"\")","v":1.7274513325408172E-3},{"$f":"IF(C15>1, 10^I7, \"\")","v":1.2593366347163383E-2}]
[null,null,null,null,null,"Log",{"$f":"IF(C15>0, AVERAGE(G24:G68), \"\")","v":-2.3312261708856705},{"$f":"IF(C15>1, G7-G20, \"\")","v":-2.7625941791530115},{"$f":"IF(C15>1, G7+G20, \"\")","v":-1.8998581626183293}]
[]
[null,null,"Prediction Intervals"]
[null,null,"Arithmetic",null,null,null,"Geometric (Log10)"]
[null,null,"Mean","Lower Limit","Upper Limit",null,"Mean","Lower Limit","Upper Limit"]
[null,null,{"$f":"IF(C15>0,AVERAGE(B24:B68), \"\")","v":1.0748198222264716E-2},{"$f":"IF(C15>1, C12-C21, \"\")","v":-1.34846397661751E-2},{"$f":"IF(C15>1, C12+C21, \"\")","v":3.498103621070453E-2},"Inverse log",{"$f":"IF($C$15>0, 10^G13, \"\")","v":4.6641641778117204E-3},{"$f":"IF($C$15>0, 10^H13, \"\")","v":9.9561794794630031E-5},0.21850176086575945,{"$f":"I12/H12","v":2194.6346117652006}]
[null,null,null,null,null,"Log",{"$f":"IF(C15>0, AVERAGE(G24:G68), \"\")","v":-2.3312261708856705},{"$f":"IF(C15>1, G13-G21, \"\")","v":-4.0019072829917466},{"$f":"IF(C15>1, G13+G21, \"\")","v":-0.66054505877959468},{"$f":"0.0000996","v":9.9599999999999995E-5},null,{"$f":"'t-values'!A3","v":"95% Confidence Interval"}]
[null,null,null,null,null,null,null,null,null,0.219]
[null,"n:",{"$f":"COUNTA(B24:B68)","v":14},null,null,null,null,null,null,{"$f":"J14/J13","v":2198.7951807228915},null,{"$f":"'t-values'!A4","v":"alpha = 0.025"}]
[null,"SSE:",{"$f":"IF(C15>0, SUM(C24:C68), \"\")","v":1.5271481985777158E-3},"Check",null,"SSE:",{"$f":"IF(C15>0, SUM(H24:H68), \"\")","v":7.2587151185890342},"Check",null,null,null,{"$f":"'t-values'!A5","v":"n"},{"$f":"'t-values'!B5","v":"t-value"}]
[null,"Variance (s2):",{"$f":"IF(C15>1, C16/(C15-1), \"\")","v":1.1747293835213199E-4},{"$f":"IF(C15>1, VAR(B24:B68), \"\")","v":1.1747293835213196E-4},{"$f":"IF(C15>1, C17-D17, \"\")","v":2.7105054312137611E-20},"Variance (s2):",{"$f":"IF(C15>1, G16/(C15-1), \"\")","v":0.55836270142992572},{"$f":"IF(C15>1, VAR(G24:G68), \"\")","v":0.55836270142992384},{"$f":"IF(C15>1, G17-H17, \"\")","v":1.8873791418627661E-15},16181,null,{"$f":"'t-values'!A6","v":2},{"$f":"'t-values'!B6","v":12.706}]
[null,"Std Dev (s):",{"$f":"IF(C15>1, C17^0.5, \"\")","v":1.0838493361723852E-2},{"$f":"IF(C15>1, STDEV(B24:B68), \"\")","v":1.083849336172385E-2},{"$f":"IF(C15>1, C18-D18, \"\")","v":1.7347234759768071E-18},"Std Dev (s):",{"$f":"IF(C15>1, G17^0.5, \"\")","v":0.74723671044049067},{"$f":"IF(C15>1, STDEV(G24:G31), \"\")","v":0.88264169342193866},{"$f":"IF(C15>1, G18-H18, \"\")","v":-0.13540498298144799},{"$f":"1-(J15/J17)","v":0.86411252822922613},null,{"$f":"'t-values'!A7","v":3},{"$f":"'t-values'!B7","v":4.3029999999999999}]
[null,"t-value:",{"$f":"IF(C15>1, IF(C15<31, OFFSET(M16, C15-1, 0), 1.96), \"\")","v":2.16},null,null,"t-value:",{"$f":"C19","v":2.16},null,null,null,null,{"$f":"'t-values'!A8","v":4},{"$f":"'t-values'!B8","v":3.1819999999999999}]
[null,"Conf. Interval Factor:",{"$f":"IF(C15>1, C19*C18/(C15^0.5), \"\")","v":6.2568918640379901E-3},"t x s / n0.5",null,"Conf. Interval Factor:",{"$f":"IF(C15>1, G19*G18/(C15^0.5), \"\")","v":0.43136800826734123},"t x s / n0.5",null,null,null,{"$f":"'t-values'!A9","v":5},{"$f":"'t-values'!B9","v":2.7759999999999998}]
[null,"Pred. Interal Factor:",{"$f":"IF(C15>1, C19*C18*(1+(1/C15))^0.5, \"\")","v":2.4232837988439816E-2},"t x s x (1+ 1/n)0.5",null,"Pred. Interal Factor:",{"$f":"IF(C15>1, G19*G18*((1+(1/C15))^0.5), \"\")","v":1.6706811121060758},"t x s x (1+ 1/n)0.5",null,null,null,{"$f":"'t-values'!A10","v":6},{"$f":"'t-values'!B10","v":2.5710000000000002}]
["RAW DATA (only enter data under Identifier and Rate.  Everything else is a link.)",null,null,null,null,null,null,null,null,null,null,{"$f":"'t-values'!A11","v":7},{"$f":"'t-values'!B11","v":2.4470000000000001},null,"See Table 6 in Lavy et al. 1987"]
["Identifier","Rate","(x - xbar)2","n",null,null,"Log Rate","(x - xbar)2",null,null,null,{"$f":"'t-values'!A12","v":8},{"$f":"'t-values'!B12","v":2.3650000000000002},null,"Worker","mg/kg bw","Amount handled"]
[{"$f":"O24","v":2},{"$f":"P24/Q24","v":5.3677932405566606E-3},{"$f":"IF(ISBLANK(B24)=FALSE, ($C$6-B24)^2, \"\")","v":2.8948757767188859E-5},1,null,null,{"$f":"IF(ISBLANK(B24)=FALSE,LOG10(B24), \"\")","v":-2.27020422089694},{"$f":"IF(ISBLANK(B24)=FALSE, ($G$7-G24)^2, \"\")","v":3.7236783804271336E-3},null,null,null,{"$f":"'t-values'!A13","v":9},{"$f":"'t-values'!B13","v":2.306},null,2,2.7000000000000001E-3,0.503,"Ackerman"]
[3,{"$f":"P25/Q25","v":1.7693836978131212E-2},{"$f":"IF(ISBLANK(B25)=FALSE, ($C$6-B25)^2, \"\")","v":4.8241897726994692E-5},{"$f":"D24+1","v":2},null,null,{"$f":"IF(ISBLANK(B25)=FALSE,LOG10(B25), \"\")","v":-1.7521779784110145},{"$f":"IF(ISBLANK(B25)=FALSE, ($G$7-G25)^2, \"\")","v":0.33529680920816624},null,null,null,{"$f":"'t-values'!A14","v":10},{"$f":"'t-values'!B14","v":2.262},null,3,8.8999999999999999E-3,0.503]
[4,3.8170974155069579E-2,7.5200863986082174E-4,{"$f":"D25+1","v":3},null,null,-1.4182667563523779,0.83349489258497245,null,null,null,{"$f":"'t-values'!A15","v":11},{"$f":"'t-values'!B15","v":2.2280000000000002},null,4,1.9199999999999998E-2,0.503]
[5,1.9880715705765408E-4,1.1128965184667059E-4,4,null,null,-3.7015679850559273,1.8778366876634307,null,null,null,{"$f":"'t-values'!A16","v":12},{"$f":"'t-values'!B16","v":2.2010000000000001},null,5,1E-4,0.503]
[8,1.2326043737574552E-2,2.4895964701833623E-6,5,null,null,-1.9091762955576737,0.1781260972643777,null,null,null,{"$f":"'t-values'!A17","v":13},{"$f":"'t-values'!B17","v":2.1789999999999998},null,8,6.1999999999999998E-3,0.503]
[9,5.9642147117296221E-3,2.2886498229071678E-5,6,null,null,-2.2244467303362652,1.1401848924043993E-2,null,null,null,{"$f":"'t-values'!A18","v":14},{"$f":"'t-values'!B18","v":2.16},null,9,3.0000000000000001E-3,0.503]
[10,7.9522862823061633E-4,9.9061603739767292E-5,7,null,null,-3.0995079937279648,0.59025695930987843,null,null,null,{"$f":"'t-values'!A19","v":15},{"$f":"'t-values'!B19","v":2.145},null,10,4.0000000000000002E-4,0.503]
[11,1.9880715705765408E-4,1.1128965184667059E-4,8,null,null,-3.7015679850559273,1.8778366876634307,null,null,null,{"$f":"'t-values'!A20","v":16},{"$f":"'t-values'!B20","v":2.1309999999999998},null,11,1E-4,0.503]
[12,9.9403578528827049E-4,9.5143684846922262E-5,9,null,null,-3.0025979807199086,0.45074010704010031,null,null,null,{"$f":"'t-values'!A21","v":17},{"$f":"'t-values'!B21","v":2.12},null,12,5.0000000000000001E-4,0.503]
[13,2.3658051689860838E-2,1.6666431655480363E-4,10,null,null,-1.6260210236633965,0.49731429966878915,null,null,null,{"$f":"'t-values'!A22","v":18},{"$f":"'t-values'!B22","v":2.11},null,13,1.1900000000000001E-2,0.503]
[14,7.1570576540755469E-3,1.2896290580494027E-5,11,null,null,-2.1452654842886401,3.4581376959638983E-2,null,null,null,{"$f":"'t-values'!A23","v":19},{"$f":"'t-values'!B23","v":2.101},null,14,3.5999999999999999E-3,0.503]
[15,7.3558648111332007E-3,1.1507925972279181E-5,12,null,null,-2.1333662609889323,3.9148543944345353E-2,null,null,null,{"$f":"'t-values'!A24","v":20},{"$f":"'t-values'!B24","v":2.093},null,15,3.7000000000000002E-3,0.503]
[18,1.8712871287128712E-2,6.3436017030170047E-5,13,null,null,-1.7278595696093983,0.36405125553568002,null,null,null,{"$f":"'t-values'!A25","v":21},{"$f":"'t-values'!B25","v":2.0859999999999999},null,18,1.89E-2,1.01]
[20,1.1881188118811881E-2,1.283666105677957E-6,14,null,null,-1.9251401277350177,0.16490587444175384,null,null,null,{"$f":"'t-values'!A26","v":22},{"$f":"'t-values'!B26","v":2.08},null,20,1.2E-2,1.01]
[null,null,"",15,null,null,"","",null,null,null,{"$f":"'t-values'!A27","v":23},{"$f":"'t-values'!B27","v":2.0739999999999998},null,"x","x","x"]
[null,null,"",16,null,null,"","",null,null,null,{"$f":"'t-values'!A28","v":24},{"$f":"'t-values'!B28","v":2.069},null,null,null,null,"Pansy"]
[null,null,"",17,null,null,"","",null,null,null,{"$f":"'t-values'!A29","v":25},{"$f":"'t-values'!B29","v":2.0640000000000001}]
[null,null,"",18,null,null,"","",null,null,null,{"$f":"'t-values'!A30","v":26},{"$f":"'t-values'!B30","v":2.06}]
[null,null,"",19,null,null,"","",null,null,null,{"$f":"'t-values'!A31","v":27},{"$f":"'t-values'!B31","v":2.056}]
[null,null,"",20,null,null,"","",null,null,null,{"$f":"'t-values'!A32","v":28},{"$f":"'t-values'!B32","v":2.052}]
[null,null,"",21,null,null,"","",null,null,null,{"$f":"'t-values'!A33","v":29},{"$f":"'t-values'!B33","v":2.048},null,null,null,null,"x"]
[null,null,"",22,null,null,"","",null,null,null,{"$f":"'t-values'!A34","v":30},{"$f":"'t-values'!B34","v":2.0449999999999999}]
[null,null,"",23,null,null,"","",null,null,null,{"$f":"'t-values'!A35","v":"∞"},{"$f":"'t-values'!B35","v":1.96}]
[null,null,"",24,null,null,"",""]
[null,null,"",25,null,null,"",""]
[null,null,"",26,null,null,"",""]
[null,null,"",27,null,null,"",""]
[null,null,"",28,null,null,"",""]
[null,null,"",29,null,null,"",""]
[null,null,"",30,null,null,"",""]
[null,null,"",31,null,null,"",""]
[null,null,"",32,null,null,"",""]
[null,null,"",33,null,null,"",""]
[null,null,"",34,null,null,"",""]
[null,null,"",35,null,null,"",""]
[null,null,"",36,null,null,"",""]
[null,null,"",37,null,null,"",""]
[null,null,"",38,null,null,"",""]
[null,null,"",39,null,null,"",""]
[null,null,"",40,null,null,"",""]
[null,null,"",41,null,null,"",""]
[null,null,"",42,null,null,"",""]
[null,null,"",43,null,null,"",""]
[null,null,"",44,null,null,"",""]
[null,null,"",45,null,null,"",""]
["NOTE: If there are more than 45 items, insert additional cellss in the middle of the data area.  The formulae should update correctly but check."]

{"sheet":"Lavy et al. 1987-7","index":28,"n_rows":40,"n_cols":6,"rows_kept":40,"cut":false,"hidden":false,"merged":[[0,1,0,8],[1,1,1,8]]}
[null,"Lavy et al. 1987"]
["Subgroup:","Hack-and-Squirt T1 vs T2."]
[]
[]
[null,"Below are linked previous worksheets"]
[null,"T1","T2"]
[null,{"$f":"'Lavy et al. 1987-5'!B24","v":4.7713717693836973E-3},{"$f":"'Lavy et al. 1987-6a'!B24","v":9.9403578528827041E-5}]
[null,{"$f":"'Lavy et al. 1987-5'!B25","v":1.2723658051689861E-2},{"$f":"'Lavy et al. 1987-6a'!B25","v":5.3677932405566606E-3}]
[null,{"$f":"'Lavy et al. 1987-5'!B26","v":4.2942345924453285E-2},{"$f":"'Lavy et al. 1987-6a'!B26","v":1.7693836978131212E-2}]
[null,{"$f":"'Lavy et al. 1987-5'!B27","v":6.1630218687872759E-2},{"$f":"'Lavy et al. 1987-6a'!B27","v":3.8170974155069579E-2}]
[null,{"$f":"'Lavy et al. 1987-5'!B28","v":1.6898608349900596E-3},{"$f":"'Lavy et al. 1987-6a'!B28","v":1.9880715705765408E-4}]
[null,{"$f":"'Lavy et al. 1987-5'!B29","v":1.6898608349900596E-3},{"$f":"'Lavy et al. 1987-6a'!B29","v":9.9403578528827041E-5}]
[null,{"$f":"'Lavy et al. 1987-5'!B30","v":4.970178926441352E-3},{"$f":"'Lavy et al. 1987-6a'!B30","v":9.9403578528827041E-5}]
[null,{"$f":"'Lavy et al. 1987-5'!B31","v":9.145129224652087E-3},{"$f":"'Lavy et al. 1987-6a'!B31","v":1.2326043737574552E-2}]
[null,{"$f":"'Lavy et al. 1987-5'!B32","v":2.7833001988071572E-2},{"$f":"'Lavy et al. 1987-6a'!B32","v":5.9642147117296221E-3}]
[null,{"$f":"'Lavy et al. 1987-5'!B33","v":3.3797216699801192E-3},{"$f":"'Lavy et al. 1987-6a'!B33","v":7.9522862823061633E-4}]
[null,{"$f":"'Lavy et al. 1987-5'!B34","v":3.3797216699801192E-3},{"$f":"'Lavy et al. 1987-6a'!B34","v":1.9880715705765408E-4}]
[null,{"$f":"'Lavy et al. 1987-5'!B35","v":1.411530815109344E-2},{"$f":"'Lavy et al. 1987-6a'!B35","v":9.9403578528827049E-4}]
[null,{"$f":"'Lavy et al. 1987-5'!B36","v":3.3598409542743533E-2},{"$f":"'Lavy et al. 1987-6a'!B36","v":2.3658051689860838E-2}]
[null,{"$f":"'Lavy et al. 1987-5'!B37","v":5.1689860834990059E-3},{"$f":"'Lavy et al. 1987-6a'!B37","v":7.1570576540755469E-3}]
[null,{"$f":"'Lavy et al. 1987-5'!B38","v":3.2007952286282303E-2},{"$f":"'Lavy et al. 1987-6a'!B38","v":7.3558648111332007E-3}]
[null,{"$f":"'Lavy et al. 1987-5'!B39","v":6.5869017632241803E-2},{"$f":"'Lavy et al. 1987-6a'!B39","v":3.3366336633663368E-2}]
[null,{"$f":"'Lavy et al. 1987-5'!B40","v":0.17732997481108312},{"$f":"'Lavy et al. 1987-6a'!B40","v":5.97029702970297E-2}]
[null,{"$f":"'Lavy et al. 1987-5'!B41","v":8.9798488664987408E-2},{"$f":"'Lavy et al. 1987-6a'!B41","v":1.8712871287128712E-2}]
[null,{"$f":"'Lavy et al. 1987-5'!B42","v":0.14206549118387909},{"$f":"'Lavy et al. 1987-6a'!B42","v":4.2475247524752478E-2}]
[null,{"$f":"'Lavy et al. 1987-5'!B43","v":8.1234256926952145E-2},{"$f":"'Lavy et al. 1987-6a'!B43","v":1.1881188118811881E-2}]
[]
[null,"t-Test: Two-Sample Assuming Unequal Variances"]
[]
[null,null,"T1","T2",null,"T1 / T2"]
[null,"Mean",4.0767147743263343E-2,1.4315877015136902E-2,null,{"$f":"C31/D31","v":2.8476877595524308}]
[null,"Variance",2.4478260435729089E-3,2.9092250488530294E-4]
[null,"Observations",20,20]
[null,"Hypothesized Mean Difference",0]
[null,"df",23]
[null,"t Stat",2.2604008303604424]
[null,"P(T<=t) one-tail",1.6784543508391907E-2]
[null,"t Critical one-tail",1.7138715170749599]
[null,"P(T<=t) two-tail",3.3569087016783815E-2]
[null,"t Critical two-tail",2.0686575986105389]

{"sheet":"Lavy et al. 1987-8","index":29,"n_rows":85,"n_cols":14,"rows_kept":85,"cut":false,"hidden":false,"merged":[[0,1,0,8],[1,1,1,8],[5,1,5,6],[5,8,5,13],[6,1,6,3],[6,4,6,6],[6,8,6,10],[6,11,6,13],[20,1,20,6],[20,8,20,13],[21,1,21,3],[21,4,21,6],[21,8,21,10],[21,11,21,13],[39,1,39,4],[39,8,39,11],[40,1,41,1],[40,2,41,2],[40,3,40,4],[40,8,41,8],[40,9,41,9],[40,10,40,11],[55,1,55,3],[55,8,55,10],[47,1,47,6],[47,8,47,13],[48,1,48,3],[48,4,48,6],[48,8,48,10],[48,11,48,13]]}
[null,"Lavy et al. 1987"]
["Subgroup:","Comparisions based on Margins of Safety"]
[]
[null,"Margins of Safety"]
[null,null,"See Table 7 of Lavy et al. 1987"]
[null,"T-1, MOS",null,null,null,null,null,null,"T-2, MOS"]
[null,"2,4-D",null,null,"Picloram",null,null,null,"2,4-D",null,null,"Picloram"]
[null,"Central","Low","High","Central","Low","High",null,"Central","Low","High","Central","Low","High"]
["Injection bar",3594,2350,5498,57528,37358,88528,null,6963,4328,11203,52380,43023,63782]
["Hypohatchet",487,282,825,32294,21953,56742,null,876,541,1416,46351,34380,62503]
["Hack-and-squirt",2946,996,4201,36476,24027,55373,null,5258,2239,12344,55625,46599,66466]
[]
[null,"NOELs"]
[null,"2,4-D",24,"mg/kg bw"]
[null,"Picloram",50,"mg/kg bw"]
[]
[null,"Doses estimated from NOAELs"]
[]
[]
[]
[null,"T-1, Dose (mg/kg bw)",null,null,null,null,null,null,"T-2,  Dose (mg/kg bw)"]
[null,"2,4-D",null,null,"Picloram",null,null,null,"2,4-D",null,null,"Picloram"]
[null,"Central","Low","High","Central","Low","High",null,"Central","Low","High","Central","Low","High"]
["Injection bar",{"$f":"$C$14/B9","v":6.6777963272120202E-3},{"$f":"$C$14/D9","v":4.3652237177155325E-3},{"$f":"$C$14/C9","v":1.0212765957446808E-2},{"$f":"$C$15/E9","v":8.6914198303434851E-4},{"$f":"$C$15/G9","v":5.6479305982288087E-4},{"$f":"$C$15/F9","v":1.3384014133518926E-3},null,{"$f":"$C$14/I9","v":3.4467901766479965E-3},{"$f":"$C$14/K9","v":2.1422833169686692E-3},{"$f":"$C$14/J9","v":5.5452865064695009E-3},{"$f":"$C$15/L9","v":9.5456281023291337E-4},{"$f":"$C$15/N9","v":7.8392022827757047E-4},{"$f":"$C$15/M9","v":1.1621690723566465E-3}]
["Hypohatchet",{"$f":"$C$14/B10","v":4.9281314168377825E-2},{"$f":"$C$14/D10","v":2.9090909090909091E-2},{"$f":"$C$14/C10","v":8.5106382978723402E-2},{"$f":"$C$15/E10","v":1.5482752214033566E-3},{"$f":"$C$15/G10","v":8.8118148813929719E-4},{"$f":"$C$15/F10","v":2.2775930396756708E-3},null,{"$f":"$C$14/I10","v":2.7397260273972601E-2},{"$f":"$C$14/K10","v":1.6949152542372881E-2},{"$f":"$C$14/J10","v":4.4362292051756007E-2},{"$f":"$C$15/L10","v":1.0787253780932451E-3},{"$f":"$C$15/N10","v":7.9996160184311155E-4},{"$f":"$C$15/M10","v":1.4543339150668994E-3}]
["Hack-and-squirt",8.1466395112016286E-3,5.7129254939300165E-3,2.4096385542168676E-2,1.3707643381949775E-3,9.0296715005508095E-4,2.0809922170891082E-3,null,4.5644731837200456E-3,1.9442644199611147E-3,1.0719071013845467E-2,8.9887640449438206E-4,7.5226431558992571E-4,1.0729843988068414E-3]
[]
[null,"Calculations of Amounts Handled"]
[]
[]
[]
[]
[]
[]
[null,"Constants"]
[null,"gal/L",0.26419999999999999]
[null,"2,4-D",1,"lb a.e./gallon"]
[null,"Picloram",0.25,"lb a.e./gallon"]
[]
[null,"T-1",null,null,null,null,null,null,"T-2"]
[null,"Liters Applied","Gal. Applied","Pounds Handled",null,null,null,null,"Liters Applied","Gal. Applied","Pounds Handled"]
[null,null,null,"2,4-D","Picloram",null,null,null,null,null,"2,4-D","Picloram"]
["Injection bar",3.2,{"$f":"B43*$C$36","v":0.84543999999999997},{"$f":"C43*$C$37","v":0.84543999999999997},{"$f":"C43*$C$38","v":0.21135999999999999},null,null,null,3.2,{"$f":"I43*$C$36","v":0.84543999999999997},{"$f":"J43*$C$37","v":0.84543999999999997},{"$f":"J43*$C$38","v":0.21135999999999999}]
["Hypohatchet",3.3,{"$f":"B44*$C$36","v":0.87185999999999997},{"$f":"C44*$C$37","v":0.87185999999999997},{"$f":"C44*$C$38","v":0.21796499999999999},null,null,null,2.7,{"$f":"I44*$C$36","v":0.71333999999999997},{"$f":"J44*$C$37","v":0.71333999999999997},{"$f":"J44*$C$38","v":0.17833499999999999}]
["Hack-and-squirt",2.2000000000000002,0.58123999999999998,0.58123999999999998,0.14530999999999999,null,null,null,2.4,0.63407999999999998,0.63407999999999998,0.15851999999999999]
[]
[null,"Worker Exposure Rates"]
[null,"T-1, Rate (mg/kg bw per lb handled)",null,null,null,null,null,null,"T-2,  Dose (mg/kg bw  per lb handled)"]
[null,"2,4-D",null,null,"Picloram",null,null,null,"2,4-D",null,null,"Picloram"]
[null,"Central","Low","High","Central","Low","High",null,"Central","Low","High","Central","Low","High"]
["Injection bar",{"$f":"B24/$D43","v":7.89860466409446E-3},{"$f":"C24/$D43","v":5.1632566683804089E-3},1.2079823473512974E-2,{"$f":"E24/$E43","v":4.1121403436522926E-3},{"$f":"F24/$E43","v":2.6721851808425476E-3},6.332330683913194E-3,null,{"$f":"I24/$K43","v":4.076918736572668E-3},{"$f":"J24/$K43","v":2.533927087633267E-3},6.5590538730950759E-3,{"$f":"L24/$L43","v":4.5162888447810058E-3},{"$f":"M24/$L43","v":3.7089337068393759E-3},5.4985289191741412E-3]
["Hypohatchet",{"$f":"B25/$D44","v":5.65243435510034E-2},3.3366491284046854E-2,9.7614735139498782E-2,{"$f":"E25/$E44","v":7.103320356035862E-3},4.0427659860037034E-3,1.0449352142204807E-2,null,{"$f":"I25/$K44","v":3.8407015271781482E-2},2.3760272159661425E-2,6.2189547833790347E-2,{"$f":"L25/$L44","v":6.048870822290886E-3},4.4857240689887661E-3,8.1550672333916465E-3]
["Hack-and-squirt",1.4015965025121514E-2,9.8288581204494119E-3,4.1456860405630507E-2,9.4333792457159012E-3,6.2140743930567816E-3,1.4321053038945071E-2,null,7.1985761792203598E-3,3.0662762111423082E-3,1.6904918959509001E-2,5.6704289963057158E-3,4.745548294157997E-3,6.7687635554304912E-3]
[]
[null,"Relative Exposure Rates (2.4-D divided by picloram)"]
[null,"T1",null,null,null,null,null,null,"T2"]
[null,"Central","Low","High",null,null,null,null,"Central","Low","High"]
["Injection bar",{"$f":"B51/E51","v":1.9208013355592652},{"$f":"C51/F51","v":1.9322226264096036},1.9076425531914891,null,null,null,null,{"$f":"I51/L51","v":0.90271434726411015},{"$f":"J51/M51","v":0.68319557261447827},1.1928743068391867]
["Hypohatchet",{"$f":"B52/E52","v":7.9574537987679674},8.2533818181818166,9.3417021276595751,null,null,null,null,{"$f":"I52/L52","v":6.3494520547945195},5.2968644067796609,7.6258780036968581]
["Hack-and-squirt",1.4857841140529531,1.5817091168769342,2.8948192771084336,null,null,null,null,1.2694941042221377,0.64613739468567721,2.4974899508709245]
[]
[]
[]
[]
[]
[]
[]
[]
[null,"Data for plot"]
[null,"The data below are formated for the high-low-close plot.  (These are links to the above worker expsoure rates.)"]
[null,"High","Low","Central"]
["2,4-D , T1",{"$f":"$D$52","v":9.7614735139498782E-2},{"$f":"$C$52","v":3.3366491284046854E-2},{"$f":"$B$52","v":5.65243435510034E-2},"Hypohatchet"]
["2,4-D, T2",{"$f":"$K$52","v":6.2189547833790347E-2},{"$f":"$J$52","v":2.3760272159661425E-2},{"$f":"$I$52","v":3.8407015271781482E-2}]
["Picloram, T1",{"$f":"$G$52","v":1.0449352142204807E-2},{"$f":"$F$52","v":4.0427659860037034E-3},{"$f":"$E$52","v":7.103320356035862E-3}]
["Picloram, T2",{"$f":"$N$52","v":8.1550672333916465E-3},{"$f":"$M$52","v":4.4857240689887661E-3},{"$f":"$L$52","v":6.048870822290886E-3}]
[]
["2,4-D , T1",{"$f":"$D$53","v":4.1456860405630507E-2},{"$f":"$C$53","v":9.8288581204494119E-3},{"$f":"$B$53","v":1.4015965025121514E-2},"Hack and squirt"]
["2,4-D, T2",{"$f":"$K$53","v":1.6904918959509001E-2},{"$f":"$J$53","v":3.0662762111423082E-3},{"$f":"$I$53","v":7.1985761792203598E-3}]
["Picloram, T1",{"$f":"$G$53","v":1.4321053038945071E-2},{"$f":"$F$53","v":6.2140743930567816E-3},{"$f":"$E$53","v":9.4333792457159012E-3}]
["Picloram, T2",{"$f":"$N$53","v":6.7687635554304912E-3},{"$f":"$M$53","v":4.745548294157997E-3},{"$f":"$L$53","v":5.6704289963057158E-3}]
[]
["2,4-D , T1",{"$f":"$D$51","v":1.2079823473512974E-2},{"$f":"$C$51","v":5.1632566683804089E-3},{"$f":"$B$51","v":7.89860466409446E-3},"Injection Bar"]
["2,4-D, T2",{"$f":"$K$51","v":6.5590538730950759E-3},{"$f":"$J$51","v":2.533927087633267E-3},{"$f":"$I$51","v":4.076918736572668E-3}]
["Picloram, T1",{"$f":"$G$51","v":6.332330683913194E-3},{"$f":"$F$51","v":2.6721851808425476E-3},{"$f":"$E$51","v":4.1121403436522926E-3}]
["Picloram, T2",{"$f":"$N$51","v":5.4985289191741412E-3},{"$f":"$M$51","v":3.7089337068393759E-3},{"$f":"$L$51","v":4.5162888447810058E-3}]

{"sheet":"Lavy et al. 1987-9","index":30,"n_rows":80,"n_cols":8,"rows_kept":80,"cut":false,"hidden":false,"merged":[[0,1,0,8],[1,1,1,8],[4,1,4,2],[4,3,4,4]]}
[null,"Lavy et al. 1987"]
["Subgroup:","Analysis of Variance for 2,4-D and Dichlorprop, T1 and T2 combined"]
[]
[null,"Data"]
[null,"Dichlorprop",null,"2,4-D"]
[null,"T1","T2","T1 ","T2"]
[null,{"$f":"'Lavy et al. 1987-1'!B24","v":5.3661726242371401E-2},{"$f":"'Lavy et al. 1987-2'!B24","v":3.4263295553618137E-2},{"$f":"'Lavy et al. 1987-3'!B24","v":6.2903225806451621E-2},{"$f":"'Lavy et al. 1987-4'!B24","v":4.8692240627724495E-2}]
[null,{"$f":"'Lavy et al. 1987-1'!B25","v":3.0993897122929378E-2},{"$f":"'Lavy et al. 1987-2'!B25","v":1.7785527462946819E-2},{"$f":"'Lavy et al. 1987-3'!B25","v":3.5701830863121183E-2},{"$f":"'Lavy et al. 1987-4'!B25","v":1.7567567567567569E-2}]
[null,{"$f":"'Lavy et al. 1987-1'!B26","v":3.3391455972101136E-2},{"$f":"'Lavy et al. 1987-2'!B26","v":1.6913687881429818E-2},{"$f":"'Lavy et al. 1987-3'!B26","v":4.5989537925021792E-2},{"$f":"'Lavy et al. 1987-4'!B26","v":3.7183958151700086E-2}]
[null,{"$f":"'Lavy et al. 1987-1'!B27","v":5.405405405405405E-2},{"$f":"'Lavy et al. 1987-2'!B27","v":4.2981691368788141E-2},{"$f":"'Lavy et al. 1987-3'!B27","v":4.1455972101133394E-2},{"$f":"'Lavy et al. 1987-4'!B27","v":4.9607672188317346E-2}]
[null,{"$f":"'Lavy et al. 1987-1'!B28","v":1.8613775065387968E-2},{"$f":"'Lavy et al. 1987-2'!B28","v":2.5544899738448125E-2},{"$f":"'Lavy et al. 1987-3'!B28","v":2.3365300784655624E-2},{"$f":"'Lavy et al. 1987-4'!B28","v":2.6373147340889275E-2}]
[null,{"$f":"'Lavy et al. 1987-1'!B29","v":3.1168265039232777E-2},{"$f":"'Lavy et al. 1987-2'!B29","v":4.3068875326939843E-2},{"$f":"'Lavy et al. 1987-3'!B29","v":2.3365300784655624E-2},{"$f":"'Lavy et al. 1987-4'!B29","v":2.898866608544028E-2}]
[null,{"$f":"'Lavy et al. 1987-1'!B30","v":5.1482127288578899E-2},{"$f":"'Lavy et al. 1987-2'!B30","v":1.9093286835222319E-2},{"$f":"'Lavy et al. 1987-3'!B30","v":5.02615518744551E-2},{"$f":"'Lavy et al. 1987-4'!B30","v":2.3016564952048821E-2}]
[null,{"$f":"'Lavy et al. 1987-1'!B31","v":3.1517000871839583E-2},{"$f":"'Lavy et al. 1987-2'!B31","v":2.8770706190061029E-2},{"$f":"'Lavy et al. 1987-3'!B31","v":2.1403661726242369E-2},{"$f":"'Lavy et al. 1987-4'!B31","v":4.7558849171752397E-2}]
[null,{"$f":"'Lavy et al. 1987-1'!B32","v":3.1429816913687882E-2},{"$f":"'Lavy et al. 1987-2'!B32","v":1.1333914559721011E-2},{"$f":"'Lavy et al. 1987-3'!B32","v":2.5719267654751524E-2},{"$f":"'Lavy et al. 1987-4'!B32","v":1.4167393199651265E-2}]
[null,{"$f":"'Lavy et al. 1987-1'!B33","v":3.0732345248474277E-2},{"$f":"'Lavy et al. 1987-2'!B33","v":2.7898866608544029E-2},{"$f":"'Lavy et al. 1987-3'!B33","v":2.3147340889276374E-2},{"$f":"'Lavy et al. 1987-4'!B33","v":4.3417611159546642E-2}]
[null,{"$f":"'Lavy et al. 1987-1'!B34","v":1.8962510897994767E-2},{"$f":"'Lavy et al. 1987-2'!B34","v":2.122929380993897E-2},{"$f":"'Lavy et al. 1987-3'!B34","v":1.5605928509154314E-2},{"$f":"'Lavy et al. 1987-4'!B34","v":2.166521360069747E-2}]
[null,{"$f":"'Lavy et al. 1987-1'!B35","v":5.065387968613775E-2},{"$f":"'Lavy et al. 1987-2'!B35","v":3.4655623365300786E-2},{"$f":"'Lavy et al. 1987-3'!B35","v":3.8099389712292937E-2},{"$f":"'Lavy et al. 1987-4'!B35","v":3.6835222319093287E-2}]
[null,{"$f":"'Lavy et al. 1987-1'!B36","v":3.3522231909328681E-2},{"$f":"'Lavy et al. 1987-2'!B36","v":3.8186573670444639E-2},{"$f":"'Lavy et al. 1987-3'!B36","v":3.5832606800348735E-2},{"$f":"'Lavy et al. 1987-4'!B36","v":3.700959023539669E-2}]
[null,{"$f":"'Lavy et al. 1987-1'!B37","v":4.5030514385353097E-2},{"$f":"'Lavy et al. 1987-2'!B37","v":4.6643417611159546E-2},{"$f":"'Lavy et al. 1987-3'!B37","v":8.0078465562336526E-2},{"$f":"'Lavy et al. 1987-4'!B37","v":9.0017436791630337E-2}]
[null,{"$f":"'Lavy et al. 1987-1'!B38","v":4.036617262423714E-2},{"$f":"'Lavy et al. 1987-2'!B38","v":4.6948561464690501E-2},{"$f":"'Lavy et al. 1987-3'!B38","v":3.9581517000871841E-2},{"$f":"'Lavy et al. 1987-4'!B38","v":4.6381865736704442E-2}]
[null,{"$f":"'Lavy et al. 1987-1'!B39","v":3.3914559721011331E-2},{"$f":"'Lavy et al. 1987-2'!B39","v":4.3940714908456843E-2},{"$f":"'Lavy et al. 1987-3'!B39","v":2.1403661726242369E-2},{"$f":"'Lavy et al. 1987-4'!B39","v":4.3068875326939843E-2}]
[null,{"$f":"'Lavy et al. 1987-1'!B40","v":3.4742807323452481E-2},{"$f":"'Lavy et al. 1987-2'!B40","v":3.6094158674803832E-2},{"$f":"'Lavy et al. 1987-3'!B40","v":3.1081081081081083E-2},{"$f":"'Lavy et al. 1987-4'!B40","v":3.953792502179599E-2}]
[null,{"$f":"'Lavy et al. 1987-1'!B41","v":1.9485614646904969E-2},{"$f":"'Lavy et al. 1987-2'!B41","v":7.7724498692240615E-2},{"$f":"'Lavy et al. 1987-3'!B41","v":2.2755013077593724E-2},{"$f":"'Lavy et al. 1987-4'!B41","v":0.10658238884045335}]
[null,{"$f":"'Lavy et al. 1987-1'!B42","v":1.9659982563208368E-2},{"$f":"'Lavy et al. 1987-2'!B42","v":2.122929380993897E-2},{"$f":"'Lavy et al. 1987-3'!B42","v":2.3234524847428072E-2},{"$f":"'Lavy et al. 1987-4'!B42","v":3.8927637314734087E-2}]
[null,{"$f":"'Lavy et al. 1987-1'!B43","v":4.8430688753269398E-2},{"$f":"'Lavy et al. 1987-2'!B43","v":4.5204882301656493E-2},{"$f":"'Lavy et al. 1987-3'!B43","v":3.3304272013949428E-2},{"$f":"'Lavy et al. 1987-4'!B43","v":1.3121185701830863E-2}]
[]
[null,"Analysis of Variance"]
[null,"Anova: Single Factor"]
[]
[null,"SUMMARY"]
[null,"Groups","Count","Sum","Average","Variance"]
["Dichlorprop","T1",20,0.71181342632955535,3.5590671316477765E-2,1.3749435372555714E-4]
[null,"T2",20,0.67951176983435058,3.3975588491717529E-2,2.3168885844382351E-4]
["2,4-D","T1 ",20,0.69428945074106374,3.471447253705319E-2,2.5189340469938853E-4]
[null,"T2",20,0.8097210113339145,4.0486050566695728E-2,5.2999266879445218E-4]
[]
[]
[null,"ANOVA"]
[null,"Source of Variation","SS","df","MS","F","P-value","F crit"]
[null,"Between Groups",5.179206692489946E-4,3,1.726402230829982E-4,0.59992990946162417,0.61702063852951805,2.7249439492363923]
[null,"Within Groups",2.1870316427601205E-2,76,2.8776732141580535E-4]
[]
[null,"Total",2.23882370968502E-2,79]
[]
[]
[]
[]
[]
[]
[]
[]
[]
[]
[]
[]
[null,"Estimated KOLMOGOROV statistic DPLUS = 0.0697121"]
[null,"Estimated KOLMOGOROV statistic DMINUS = 0.0758206"]
[null,"Estimated overall statistic DN = 0.0758206"]
[null,"Approximate significance level = 0.747217"]
[]
[]
[]
[]
[]
[]
[]
[]
[]
[]
[]
[]
[]
[]
[]
[]
[]
[null,"                            Press ENTER to continue."]
[null," 1Help   2Edit   3Savscr 4Prtscr 5       6Go     7Vars   8Cmd    9Device 10Quit"]
[null,"INPUT     4/17/12  20:47  STATGRAPHICS Vers.5.0             Display     DSTFIT"]

{"sheet":"Lavy et al. 1987-10","index":31,"n_rows":74,"n_cols":12,"rows_kept":74,"cut":false,"hidden":false,"merged":[[0,1,0,8],[1,1,1,8]]}
[null,"Lavy et al. 1987"]
["Subgroup:","Correlation of Workers in  2,4-D and Dichlorprop, T1 vs T2"]
[]
[]
[null,{"$f":"'Lavy et al. 1987-9'!B6","v":"T1"},{"$f":"'Lavy et al. 1987-9'!C6","v":"T2"}]
["Dichlorprop",{"$f":"'Lavy et al. 1987-9'!B7","v":5.3661726242371401E-2},{"$f":"'Lavy et al. 1987-9'!C7","v":3.4263295553618137E-2}]
[null,{"$f":"'Lavy et al. 1987-9'!B8","v":3.0993897122929378E-2},{"$f":"'Lavy et al. 1987-9'!C8","v":1.7785527462946819E-2}]
[null,{"$f":"'Lavy et al. 1987-9'!B9","v":3.3391455972101136E-2},{"$f":"'Lavy et al. 1987-9'!C9","v":1.6913687881429818E-2}]
[null,{"$f":"'Lavy et al. 1987-9'!B10","v":5.405405405405405E-2},{"$f":"'Lavy et al. 1987-9'!C10","v":4.2981691368788141E-2}]
[null,{"$f":"'Lavy et al. 1987-9'!B11","v":1.8613775065387968E-2},{"$f":"'Lavy et al. 1987-9'!C11","v":2.5544899738448125E-2}]
[null,{"$f":"'Lavy et al. 1987-9'!B12","v":3.1168265039232777E-2},{"$f":"'Lavy et al. 1987-9'!C12","v":4.3068875326939843E-2}]
[null,{"$f":"'Lavy et al. 1987-9'!B13","v":5.1482127288578899E-2},{"$f":"'Lavy et al. 1987-9'!C13","v":1.9093286835222319E-2}]
[null,{"$f":"'Lavy et al. 1987-9'!B14","v":3.1517000871839583E-2},{"$f":"'Lavy et al. 1987-9'!C14","v":2.8770706190061029E-2}]
[null,{"$f":"'Lavy et al. 1987-9'!B15","v":3.1429816913687882E-2},{"$f":"'Lavy et al. 1987-9'!C15","v":1.1333914559721011E-2}]
[null,{"$f":"'Lavy et al. 1987-9'!B16","v":3.0732345248474277E-2},{"$f":"'Lavy et al. 1987-9'!C16","v":2.7898866608544029E-2}]
[null,{"$f":"'Lavy et al. 1987-9'!B17","v":1.8962510897994767E-2},{"$f":"'Lavy et al. 1987-9'!C17","v":2.122929380993897E-2}]
[null,{"$f":"'Lavy et al. 1987-9'!B18","v":5.065387968613775E-2},{"$f":"'Lavy et al. 1987-9'!C18","v":3.4655623365300786E-2}]
[null,{"$f":"'Lavy et al. 1987-9'!B19","v":3.3522231909328681E-2},{"$f":"'Lavy et al. 1987-9'!C19","v":3.8186573670444639E-2}]
[null,{"$f":"'Lavy et al. 1987-9'!B20","v":4.5030514385353097E-2},{"$f":"'Lavy et al. 1987-9'!C20","v":4.6643417611159546E-2}]
[null,{"$f":"'Lavy et al. 1987-9'!B21","v":4.036617262423714E-2},{"$f":"'Lavy et al. 1987-9'!C21","v":4.6948561464690501E-2}]
[null,{"$f":"'Lavy et al. 1987-9'!B22","v":3.3914559721011331E-2},{"$f":"'Lavy et al. 1987-9'!C22","v":4.3940714908456843E-2}]
[null,{"$f":"'Lavy et al. 1987-9'!B23","v":3.4742807323452481E-2},{"$f":"'Lavy et al. 1987-9'!C23","v":3.6094158674803832E-2}]
[null,{"$f":"'Lavy et al. 1987-9'!B24","v":1.9485614646904969E-2},{"$f":"'Lavy et al. 1987-9'!C24","v":7.7724498692240615E-2}]
[null,{"$f":"'Lavy et al. 1987-9'!B25","v":1.9659982563208368E-2},{"$f":"'Lavy et al. 1987-9'!C25","v":2.122929380993897E-2}]
[null,{"$f":"'Lavy et al. 1987-9'!B26","v":4.8430688753269398E-2},{"$f":"'Lavy et al. 1987-9'!C26","v":4.5204882301656493E-2}]
["2,4-D",{"$f":"'Lavy et al. 1987-9'!D7","v":6.2903225806451621E-2},{"$f":"'Lavy et al. 1987-9'!E7","v":4.8692240627724495E-2}]
[null,{"$f":"'Lavy et al. 1987-9'!D8","v":3.5701830863121183E-2},{"$f":"'Lavy et al. 1987-9'!E8","v":1.7567567567567569E-2}]
[null,{"$f":"'Lavy et al. 1987-9'!D9","v":4.5989537925021792E-2},{"$f":"'Lavy et al. 1987-9'!E9","v":3.7183958151700086E-2}]
[null,{"$f":"'Lavy et al. 1987-9'!D10","v":4.1455972101133394E-2},{"$f":"'Lavy et al. 1987-9'!E10","v":4.9607672188317346E-2}]
[null,{"$f":"'Lavy et al. 1987-9'!D11","v":2.3365300784655624E-2},{"$f":"'Lavy et al. 1987-9'!E11","v":2.6373147340889275E-2}]
[null,{"$f":"'Lavy et al. 1987-9'!D12","v":2.3365300784655624E-2},{"$f":"'Lavy et al. 1987-9'!E12","v":2.898866608544028E-2}]
[null,{"$f":"'Lavy et al. 1987-9'!D13","v":5.02615518744551E-2},{"$f":"'Lavy et al. 1987-9'!E13","v":2.3016564952048821E-2}]
[null,{"$f":"'Lavy et al. 1987-9'!D14","v":2.1403661726242369E-2},{"$f":"'Lavy et al. 1987-9'!E14","v":4.7558849171752397E-2}]
[null,{"$f":"'Lavy et al. 1987-9'!D15","v":2.5719267654751524E-2},{"$f":"'Lavy et al. 1987-9'!E15","v":1.4167393199651265E-2}]
[null,{"$f":"'Lavy et al. 1987-9'!D16","v":2.3147340889276374E-2},{"$f":"'Lavy et al. 1987-9'!E16","v":4.3417611159546642E-2},null,null,"Unconstrained"]
[null,{"$f":"'Lavy et al. 1987-9'!D17","v":1.5605928509154314E-2},{"$f":"'Lavy et al. 1987-9'!E17","v":2.166521360069747E-2},null,null,"SUMMARY OUTPUT"]
[null,{"$f":"'Lavy et al. 1987-9'!D18","v":3.8099389712292937E-2},{"$f":"'Lavy et al. 1987-9'!E18","v":3.6835222319093287E-2}]
[null,{"$f":"'Lavy et al. 1987-9'!D19","v":3.5832606800348735E-2},{"$f":"'Lavy et al. 1987-9'!E19","v":3.700959023539669E-2},null,null,"Regression Statistics"]
[null,{"$f":"'Lavy et al. 1987-9'!D20","v":8.0078465562336526E-2},{"$f":"'Lavy et al. 1987-9'!E20","v":9.0017436791630337E-2},null,null,"Multiple R",0.23532696638419942]
[null,{"$f":"'Lavy et al. 1987-9'!D21","v":3.9581517000871841E-2},{"$f":"'Lavy et al. 1987-9'!E21","v":4.6381865736704442E-2},null,null,"R Square",5.5378781107590119E-2]
[null,{"$f":"'Lavy et al. 1987-9'!D22","v":2.1403661726242369E-2},{"$f":"'Lavy et al. 1987-9'!E22","v":4.3068875326939843E-2},null,null,"Adjusted R Square",3.0520327978842493E-2]
[null,{"$f":"'Lavy et al. 1987-9'!D23","v":3.1081081081081083E-2},{"$f":"'Lavy et al. 1987-9'!E23","v":3.953792502179599E-2},null,null,"Standard Error",1.9242837608305252E-2]
[null,{"$f":"'Lavy et al. 1987-9'!D24","v":2.2755013077593724E-2},{"$f":"'Lavy et al. 1987-9'!E24","v":0.10658238884045335},null,null,"Observations",40]
[null,{"$f":"'Lavy et al. 1987-9'!D25","v":2.3234524847428072E-2},{"$f":"'Lavy et al. 1987-9'!E25","v":3.8927637314734087E-2}]
[null,{"$f":"'Lavy et al. 1987-9'!D26","v":3.3304272013949428E-2},{"$f":"'Lavy et al. 1987-9'!E26","v":1.3121185701830863E-2},null,null,"ANOVA"]
[null,null,null,null,null,null,"df","SS","MS","F","Significance F"]
[null,null,null,null,null,"Regression",1,8.2491181147947325E-4,8.2491181147947325E-4,2.2277645684858474,0.14380652931124482]
[null,null,null,null,null,"Residual",38,1.4070898370345064E-2,3.7028679921960694E-4]
[null,null,null,null,null,"Total",39,1.4895810181824537E-2]
[]
[null,null,null,null,null,null,"Coefficients","Standard Error","t Stat","P-value","Lower 95%","Upper 95%"]
[null,null,null,null,null,"Intercept",2.5498937061679435E-2,8.42850879784314E-3,3.025320097928192,4.4381680232407558E-3,8.436313185785093E-3,4.2561560937573781E-2]
[null,null,null,null,null,"X Variable 1",0.33374179539319665,0.22360213796595821,1.4925697868059133,0.14380652931124338,-0.11891706389817658,0.78640065468456988]
[]
[]
[null,null,null,null,null,"Constrained"]
[null,null,null,null,null,"SUMMARY OUTPUT"]
[]
[null,null,null,null,null,"Regression Statistics"]
[null,null,null,null,null,"Multiple R",0.86705340749491699]
[null,null,null,null,null,"R Square",0.75178161144854649]
[null,null,null,null,null,"Adjusted R Square",0.72614058580752083]
[null,null,null,null,null,"Standard Error",2.1158723208668007E-2]
[null,null,null,null,null,"Observations",40]
[]
[null,null,null,null,null,"ANOVA"]
[null,null,null,null,null,null,"df","SS","MS","F","Significance F"]
[null,null,null,null,null,"Regression",1,5.2881195949458636E-2,5.2881195949458636E-2,118.11970506131794,3.2101236406138238E-13]
[null,null,null,null,null,"Residual",39,1.7459971145020022E-2,4.4769156782102621E-4]
[null,null,null,null,null,"Total",40,7.0341167094478657E-2]
[]
[null,null,null,null,null,null,"Coefficients","Standard Error","t Stat","P-value","Lower 95%","Upper 95%"]
[null,null,null,null,null,"Intercept",0,{"$error":"#N/A"},{"$error":"#N/A"},{"$error":"#N/A"},{"$error":"#N/A"},{"$error":"#N/A"}]
[null,null,null,null,null,"X Variable 1",0.96459686440919945,8.8753332504719257E-2,10.868288966590738,2.2983023791935667E-13,0.78507630629699421,1.1441174225214048]

{"sheet":"Libich et al. 1984-1","index":32,"n_rows":41,"n_cols":7,"rows_kept":41,"cut":false,"hidden":false,"merged":[[0,1,0,8],[1,1,1,8],[5,3,5,4],[11,3,11,4]]}
[null,"Libich et al. 1984"]
["Subgroup:","Comparisions of 2,4-D/Picloram mixture spray"]
[]
[null,null,null,"Ratio 2,4-D/Picloram in formulation:",4]
[null,"Data below are from Table II in Libich et al. 1984"]
[null,null,null,"Urine (mg/kg)"]
[null,"Herbicide","Location","Mean","Maximum"]
[null,"2,4-D","Kapuskasing",6.17,32.74]
[null,null,"North Bay",3.16,12.35]
[null,"Picloram","Kapuskasing",0.52,5.56]
[null,null,"North Bay",0.26,2.27]
[null,null,null,"Ratio 2,4-D/Picloram"]
[null,null,"Kapuskasing",{"$f":"D8/D10","v":11.865384615384615},{"$f":"E8/E10","v":5.8884892086330947}]
[null,null,"North Bay",{"$f":"D9/D11","v":12.153846153846153},{"$f":"E9/E11","v":5.4405286343612334}]
[null,null,null,"Adjusted Ratio"]
[null,null,"Kapuskasing",{"$f":"D13/$E$4","v":2.9663461538461537},{"$f":"E13/$E$4","v":1.4721223021582737}]
[null,null,"North Bay",{"$f":"D14/$E$4","v":3.0384615384615383},{"$f":"E14/$E$4","v":1.3601321585903083}]
[]
[null,"Data below are from Table VII in Libich et al. 1984"]
[null,null,null,"2,4-D","Picloram","Ratio","Adjusted Ratio[1]"]
[null,null,"Applicator 1",7.29,0.3,{"$f":"D21/E21","v":24.3},{"$f":"F21/$E$4","v":6.0750000000000002}]
[null,null,"Applicator 2",2.57,0.15,{"$f":"D22/E22","v":17.133333333333333},{"$f":"F22/$E$4","v":4.2833333333333332}]
[null,null,"Driver 1",0.64,0.13,4.9230769230769234,1.2307692307692308]
[null,null,"Driver 2",1.07,7.0000000000000007E-2,15.285714285714285,3.8214285714285712]
[null,null,"[1] Adjusted for ratio of 2,4-D to picloram (4:1) in formulation."]
[]
[]
[]
[]
[]
[]
[]
[null,null,"The list below is an order link to the above data for use on thenext sheet."]
[null,null,"Kapuskasing, Mean",{"$f":"D16","v":2.9663461538461537}]
[null,null,"North Bay, Mean",3.0384615384615383]
[null,null,"Kapuskasing, Max",{"$f":"E16","v":1.4721223021582737}]
[null,null,"North Bay, Max",1.3601321585903083]
[null,null,"Applicator 1",{"$f":"G21","v":6.0750000000000002}]
[null,null,"Applicator 2",4.2833333333333332]
[null,null,"Driver 1",1.2307692307692308]
[null,null,"Driver 2",3.8214285714285712]

{"sheet":"Libich et al. 1984-2","index":33,"n_rows":69,"n_cols":13,"rows_kept":69,"cut":false,"hidden":false,"merged":[[8,2,8,8],[0,1,0,8],[1,1,1,8],[2,2,2,8],[3,2,3,4],[3,6,3,8],[9,2,9,4],[9,6,9,8],[15,3,15,4],[15,7,15,8],[21,0,21,8]]}
[null,"Libich et al. 1984"]
["Subgroup:","Analysis of ratios"]
[null,null,"Confidence Intervals"]
[null,null,"Arithmetic",null,null,null,"Geometric (Log10)"]
[null,null,"Mean","Lower Limit","Upper Limit",null,"Mean","Lower Limit","Upper Limit"]
[null,null,{"$f":"IF(C15>0,AVERAGE(B24:B68), \"\")","v":3.0309491610734263},{"$f":"IF(C15>1, C6-C20, \"\")","v":1.6202078383088228},{"$f":"IF(C15>1, C6+C20, \"\")","v":4.4416904838380296},"Inverse log",{"$f":"IF(C15>0, 10^G7, \"\")","v":2.6182818077633474},{"$f":"IF(C15>1,10^H7, \"\")","v":1.5946627908558946},{"$f":"IF(C15>1, 10^I7, \"\")","v":4.2989650628174765}]
[null,null,null,null,null,"Log",{"$f":"IF(C15>0, AVERAGE(G24:G68), \"\")","v":0.41801638819258563},{"$f":"IF(C15>1, G7-G20, \"\")","v":0.20266886071390472},{"$f":"IF(C15>1, G7+G20, \"\")","v":0.63336391567126649}]
[]
[null,null,"Prediction Intervals"]
[null,null,"Arithmetic",null,null,null,"Geometric (Log10)"]
[null,null,"Mean","Lower Limit","Upper Limit",null,"Mean","Lower Limit","Upper Limit"]
[null,null,{"$f":"IF(C15>0,AVERAGE(B24:B68), \"\")","v":3.0309491610734263},{"$f":"IF(C15>1, C12-C21, \"\")","v":-1.2012748072203836},{"$f":"IF(C15>1, C12+C21, \"\")","v":7.2631731293672361},"Inverse log",{"$f":"IF($C$15>0, 10^G13, \"\")","v":2.6182818077633474},{"$f":"IF($C$15>0, 10^H13, \"\")","v":0.59152595552235077},11.589347112944179]
[null,null,null,null,null,"Log",{"$f":"IF(C15>0, AVERAGE(G24:G68), \"\")","v":0.41801638819258563},{"$f":"IF(C15>1, G13-G21, \"\")","v":-0.2280261942434571},{"$f":"IF(C15>1, G13+G21, \"\")","v":1.0640589706286283},null,null,{"$f":"'t-values'!A3","v":"95% Confidence Interval"}]
[]
[null,"n:",{"$f":"COUNTA(B24:B68)","v":8},null,null,null,null,null,null,null,null,{"$f":"'t-values'!A4","v":"alpha = 0.025"}]
[null,"SSE:",{"$f":"IF(C15>0, SUM(C24:C68), \"\")","v":19.926017720780926},"Check",null,"SSE:",{"$f":"IF(C15>0, SUM(H24:H68), \"\")","v":0.46430730483864835},"Check",null,null,null,{"$f":"'t-values'!A5","v":"n"},{"$f":"'t-values'!B5","v":"t-value"}]
[null,"Variance (s2):",{"$f":"IF(C15>1, C16/(C15-1), \"\")","v":2.8465739601115607},{"$f":"IF(C15>1, VAR(B24:B68), \"\")","v":2.8465739601115581},{"$f":"IF(C15>1, C17-D17, \"\")","v":2.6645352591003757E-15},"Variance (s2):",{"$f":"IF(C15>1, G16/(C15-1), \"\")","v":6.6329614976949766E-2},{"$f":"IF(C15>1, VAR(G24:G68), \"\")","v":6.6329614976949766E-2},{"$f":"IF(C15>1, G17-H17, \"\")","v":0},null,null,{"$f":"'t-values'!A6","v":2},{"$f":"'t-values'!B6","v":12.706}]
[null,"Std Dev (s):",{"$f":"IF(C15>1, C17^0.5, \"\")","v":1.6871792910392069},{"$f":"IF(C15>1, STDEV(B24:B68), \"\")","v":1.6871792910392061},{"$f":"IF(C15>1, C18-D18, \"\")","v":8.8817841970012523E-16},"Std Dev (s):",{"$f":"IF(C15>1, G17^0.5, \"\")","v":0.25754536489121632},{"$f":"IF(C15>1, STDEV(G24:G31), \"\")","v":0.25754536489121632},{"$f":"IF(C15>1, G18-H18, \"\")","v":0},null,null,{"$f":"'t-values'!A7","v":3},{"$f":"'t-values'!B7","v":4.3029999999999999}]
[null,"t-value:",{"$f":"IF(C15>1, IF(C15<31, OFFSET(M16, C15-1, 0), 1.96), \"\")","v":2.3650000000000002},null,null,"t-value:",{"$f":"C19","v":2.3650000000000002},null,null,null,null,{"$f":"'t-values'!A8","v":4},{"$f":"'t-values'!B8","v":3.1819999999999999}]
[null,"Conf. Interval Factor:",{"$f":"IF(C15>1, C19*C18/(C15^0.5), \"\")","v":1.4107413227646035},"t x s / n0.5",null,"Conf. Interval Factor:",{"$f":"IF(C15>1, G19*G18/(C15^0.5), \"\")","v":0.21534752747868091},"t x s / n0.5",null,null,null,{"$f":"'t-values'!A9","v":5},{"$f":"'t-values'!B9","v":2.7759999999999998}]
[null,"Pred. Interal Factor:",{"$f":"IF(C15>1, C19*C18*(1+(1/C15))^0.5, \"\")","v":4.2322239682938099},"t x s x (1+ 1/n)0.5",null,"Pred. Interal Factor:",{"$f":"IF(C15>1, G19*G18*((1+(1/C15))^0.5), \"\")","v":0.64604258243604273},"t x s x (1+ 1/n)0.5",null,null,null,{"$f":"'t-values'!A10","v":6},{"$f":"'t-values'!B10","v":2.5710000000000002}]
["RAW DATA (only enter data under Identifier and Rate.  Everything else is a link.)",null,null,null,null,null,null,null,null,null,null,{"$f":"'t-values'!A11","v":7},{"$f":"'t-values'!B11","v":2.4470000000000001}]
["Identifier","Rate","(x - xbar)2","n",null,null,"Log Rate","(x - xbar)2",null,null,null,{"$f":"'t-values'!A12","v":8},{"$f":"'t-values'!B12","v":2.3650000000000002}]
[{"$f":"'Libich et al. 1984-1'!C34","v":"Kapuskasing, Mean"},{"$f":"'Libich et al. 1984-1'!D34","v":2.9663461538461537},{"$f":"IF(ISBLANK(B24)=FALSE, ($C$6-B24)^2, \"\")","v":4.1735485428070259E-3},1,null,null,{"$f":"IF(ISBLANK(B24)=FALSE,LOG10(B24), \"\")","v":0.4722218290704801},{"$f":"IF(ISBLANK(B24)=FALSE, ($G$7-G24)^2, \"\")","v":2.9382298207669133E-3},null,null,null,{"$f":"'t-values'!A13","v":9},{"$f":"'t-values'!B13","v":2.306}]
[{"$f":"'Libich et al. 1984-1'!C35","v":"North Bay, Mean"},{"$f":"'Libich et al. 1984-1'!D35","v":3.0384615384615383},{"$f":"IF(ISBLANK(B25)=FALSE, ($C$6-B25)^2, \"\")","v":5.6435814021417334E-5},{"$f":"D24+1","v":2},null,null,{"$f":"IF(ISBLANK(B25)=FALSE,LOG10(B25), \"\")","v":0.48265374331962346},{"$f":"IF(ISBLANK(B25)=FALSE, ($G$7-G25)^2, \"\")","v":4.1779876778188039E-3},null,null,null,{"$f":"'t-values'!A14","v":10},{"$f":"'t-values'!B14","v":2.262}]
[{"$f":"'Libich et al. 1984-1'!C36","v":"Kapuskasing, Max"},{"$f":"'Libich et al. 1984-1'!D36","v":1.4721223021582737},2.4299411760752809,{"$f":"D25+1","v":3},null,null,0.16794389216590286,6.2536253269015282E-2,null,null,null,{"$f":"'t-values'!A15","v":11},{"$f":"'t-values'!B15","v":2.2280000000000002}]
[{"$f":"'Libich et al. 1984-1'!C37","v":"North Bay, Max"},{"$f":"'Libich et al. 1984-1'!D37","v":1.3601321585903083},2.7916294557866714,4,null,null,0.13358110907459941,8.0903428006926723E-2,null,null,null,{"$f":"'t-values'!A16","v":12},{"$f":"'t-values'!B16","v":2.2010000000000001}]
[{"$f":"'Libich et al. 1984-1'!C38","v":"Applicator 1"},{"$f":"'Libich et al. 1984-1'!D38","v":6.0750000000000002},9.2662455099695791,5,null,null,0.78354628227034984,0.13361210346450153,null,null,null,{"$f":"'t-values'!A17","v":13},{"$f":"'t-values'!B17","v":2.1789999999999998}]
[{"$f":"'Libich et al. 1984-1'!C39","v":"Applicator 2"},{"$f":"'Libich et al. 1984-1'!D39","v":4.2833333333333332},1.5684661149271322,6,null,null,0.63178187294765087,4.5695682472568028E-2,null,null,null,{"$f":"'t-values'!A18","v":14},{"$f":"'t-values'!B18","v":2.16}]
[{"$f":"'Libich et al. 1984-1'!C40","v":"Driver 1"},{"$f":"'Libich et al. 1984-1'!D40","v":1.2307692307692308},3.2406477814700181,7,null,null,9.017663034908803E-2,0.10747890682288315,null,null,null,{"$f":"'t-values'!A19","v":15},{"$f":"'t-values'!B19","v":2.145}]
[{"$f":"'Libich et al. 1984-1'!C41","v":"Driver 2"},{"$f":"'Libich et al. 1984-1'!D41","v":3.8214285714285712},0.62485769819541759,8,null,null,0.5822257463429904,2.6964713304167907E-2,null,null,null,{"$f":"'t-values'!A20","v":16},{"$f":"'t-values'!B20","v":2.1309999999999998}]
[null,null,"",9,null,null,"","",null,null,null,{"$f":"'t-values'!A21","v":17},{"$f":"'t-values'!B21","v":2.12}]
[null,null,"",10,null,null,"","",null,null,null,{"$f":"'t-values'!A22","v":18},{"$f":"'t-values'!B22","v":2.11}]
[null,null,"",11,null,null,"","",null,null,null,{"$f":"'t-values'!A23","v":19},{"$f":"'t-values'!B23","v":2.101}]
[null,null,"",12,null,null,"","",null,null,null,{"$f":"'t-values'!A24","v":20},{"$f":"'t-values'!B24","v":2.093}]
[null,null,"",13,null,null,"","",null,null,null,{"$f":"'t-values'!A25","v":21},{"$f":"'t-values'!B25","v":2.0859999999999999}]
[null,null,"",14,null,null,"","",null,null,null,{"$f":"'t-values'!A26","v":22},{"$f":"'t-values'!B26","v":2.08}]
[null,null,"",15,null,null,"","",null,null,null,{"$f":"'t-values'!A27","v":23},{"$f":"'t-values'!B27","v":2.0739999999999998}]
[null,null,"",16,null,null,"","",null,null,null,{"$f":"'t-values'!A28","v":24},{"$f":"'t-values'!B28","v":2.069}]
[null,null,"",17,null,null,"","",null,null,null,{"$f":"'t-values'!A29","v":25},{"$f":"'t-values'!B29","v":2.0640000000000001}]
[null,null,"",18,null,null,"","",null,null,null,{"$f":"'t-values'!A30","v":26},{"$f":"'t-values'!B30","v":2.06}]
[null,null,"",19,null,null,"","",null,null,null,{"$f":"'t-values'!A31","v":27},{"$f":"'t-values'!B31","v":2.056}]
[null,null,"",20,null,null,"","",null,null,null,{"$f":"'t-values'!A32","v":28},{"$f":"'t-values'!B32","v":2.052}]
[null,null,"",21,null,null,"","",null,null,null,{"$f":"'t-values'!A33","v":29},{"$f":"'t-values'!B33","v":2.048}]
[null,null,"",22,null,null,"","",null,null,null,{"$f":"'t-values'!A34","v":30},{"$f":"'t-values'!B34","v":2.0449999999999999}]
[null,null,"",23,null,null,"","",null,null,null,{"$f":"'t-values'!A35","v":"∞"},{"$f":"'t-values'!B35","v":1.96}]
[null,null,"",24,null,null,"",""]
[null,null,"",25,null,null,"",""]
[null,null,"",26,null,null,"",""]
[null,null,"",27,null,null,"",""]
[null,null,"",28,null,null,"",""]
[null,null,"",29,null,null,"",""]
[null,null,"",30,null,null,"",""]
[null,null,"",31,null,null,"",""]
[null,null,"",32,null,null,"",""]
[null,null,"",33,null,null,"",""]
[null,null,"",34,null,null,"",""]
[null,null,"",35,null,null,"",""]
[null,null,"",36,null,null,"",""]
[null,null,"",37,null,null,"",""]
[null,null,"",38,null,null,"",""]
[null,null,"",39,null,null,"",""]
[null,null,"",40,null,null,"",""]
[null,null,"",41,null,null,"",""]
[null,null,"",42,null,null,"",""]
[null,null,"",43,null,null,"",""]
[null,null,"",44,null,null,"",""]
[null,null,"",45,null,null,"",""]
["NOTE: If there are more than 45 items, insert additional cellss in the middle of the data area.  The formulae should update correctly but check."]

{"sheet":"Lunchick et al. 2005-1","index":34,"n_rows":69,"n_cols":31,"rows_kept":69,"cut":false,"hidden":false,"merged":[[9,2,9,4],[9,6,9,8],[15,3,15,4],[15,7,15,8],[21,0,21,8],[8,2,8,8],[0,1,0,8],[1,1,1,8],[2,2,2,8],[3,2,3,4],[3,6,3,8]]}
[null,"Lunchick et al. 2005"]
["Subgroup:","All applicator groups in Table 1 of study"]
[null,null,"Confidence Intervals"]
[null,null,"Arithmetic",null,null,null,"Geometric (Log10)"]
[null,null,"Mean","Lower Limit","Upper Limit",null,"Mean","Lower Limit","Upper Limit"]
[null,null,{"$f":"IF(C15>0,AVERAGE(B24:B68), \"\")","v":2.0417216177864432E-5},{"$f":"IF(C15>1, C6-C20, \"\")","v":2.3107708852671907E-6},{"$f":"IF(C15>1, C6+C20, \"\")","v":3.8523661470461674E-5},"Inverse log",{"$f":"IF(C15>0, 10^G7, \"\")","v":6.7598308494608042E-6},{"$f":"IF(C15>1,10^H7, \"\")","v":3.0136275987393401E-6},{"$f":"IF(C15>1, 10^I7, \"\")","v":1.5162893096823675E-5}]
[null,null,null,null,null,"Log",{"$f":"IF(C15>0, AVERAGE(G24:G68), \"\")","v":-5.1700641712277244},{"$f":"IF(C15>1, G7-G20, \"\")","v":-5.5209104155266759},{"$f":"IF(C15>1, G7+G20, \"\")","v":-4.8192179269287729}]
[]
[null,null,"Prediction Intervals"]
[null,null,"Arithmetic",null,null,null,"Geometric (Log10)"]
[null,null,"Mean","Lower Limit","Upper Limit",null,"Mean","Lower Limit","Upper Limit"]
[null,null,{"$f":"IF(C15>0,AVERAGE(B24:B68), \"\")","v":2.0417216177864432E-5},{"$f":"IF(C15>1, C12-C21, \"\")","v":-5.8506949079314676E-5},{"$f":"IF(C15>1, C12+C21, \"\")","v":9.934138143504354E-5},"Inverse log",{"$f":"IF($C$15>0, 10^G13, \"\")","v":6.7598308494608042E-6},{"$f":"IF($C$15>0, 10^H13, \"\")","v":1.9981703259842068E-7},2.2868577577747059E-4]
[null,null,null,null,null,"Log",{"$f":"IF(C15>0, AVERAGE(G24:G68), \"\")","v":-5.1700641712277244},{"$f":"IF(C15>1, G13-G21, \"\")","v":-6.6993674948476389},{"$f":"IF(C15>1, G13+G21, \"\")","v":-3.6407608476078104},null,null,{"$f":"'t-values'!A3","v":"95% Confidence Interval"}]
[]
[null,"n:",{"$f":"COUNTA(B24:B68)","v":18},null,null,null,null,null,null,null,null,{"$f":"'t-values'!A4","v":"alpha = 0.025"}]
[null,"SSE:",{"$f":"IF(C15>0, SUM(C24:C68), \"\")","v":2.2533201973663657E-8},"Check",null,"SSE:",{"$f":"IF(C15>0, SUM(H24:H68), \"\")","v":8.4603860345535828},"Check",null,null,null,{"$f":"'t-values'!A5","v":"n"},{"$f":"'t-values'!B5","v":"t-value"}]
[null,"Variance (s2):",{"$f":"IF(C15>1, C16/(C15-1), \"\")","v":1.3254824690390385E-9},{"$f":"IF(C15>1, VAR(B24:B68), \"\")","v":1.3254824690390385E-9},{"$f":"IF(C15>1, C17-D17, \"\")","v":0},"Variance (s2):",{"$f":"IF(C15>1, G16/(C15-1), \"\")","v":0.49766976673844604},{"$f":"IF(C15>1, VAR(G24:G68), \"\")","v":0.49766976673845087},{"$f":"IF(C15>1, G17-H17, \"\")","v":-4.829470157119431E-15},null,null,{"$f":"'t-values'!A6","v":2},{"$f":"'t-values'!B6","v":12.706}]
[null,"Std Dev (s):",{"$f":"IF(C15>1, C17^0.5, \"\")","v":3.6407176065152846E-5},{"$f":"IF(C15>1, STDEV(B24:B68), \"\")","v":3.6407176065152846E-5},{"$f":"IF(C15>1, C18-D18, \"\")","v":0},"Std Dev (s):",{"$f":"IF(C15>1, G17^0.5, \"\")","v":0.70545713316859027},{"$f":"IF(C15>1, STDEV(G24:G31), \"\")","v":0.43363852811033821},{"$f":"IF(C15>1, G18-H18, \"\")","v":0.27181860505825206},null,null,{"$f":"'t-values'!A7","v":3},{"$f":"'t-values'!B7","v":4.3029999999999999}]
[null,"t-value:",{"$f":"IF(C15>1, IF(C15<31, OFFSET(M16, C15-1, 0), 1.96), \"\")","v":2.11},null,null,"t-value:",{"$f":"C19","v":2.11},null,null,null,null,{"$f":"'t-values'!A8","v":4},{"$f":"'t-values'!B8","v":3.1819999999999999}]
[null,"Conf. Interval Factor:",{"$f":"IF(C15>1, C19*C18/(C15^0.5), \"\")","v":1.8106445292597242E-5},"t x s / n0.5",null,"Conf. Interval Factor:",{"$f":"IF(C15>1, G19*G18/(C15^0.5), \"\")","v":0.35084624429895184},"t x s / n0.5",null,null,null,{"$f":"'t-values'!A9","v":5},{"$f":"'t-values'!B9","v":2.7759999999999998}]
[null,"Pred. Interal Factor:",{"$f":"IF(C15>1, C19*C18*(1+(1/C15))^0.5, \"\")","v":7.8924165257179108E-5},"t x s x (1+ 1/n)0.5",null,"Pred. Interal Factor:",{"$f":"IF(C15>1, G19*G18*((1+(1/C15))^0.5), \"\")","v":1.5293033236199141},"t x s x (1+ 1/n)0.5",null,null,null,{"$f":"'t-values'!A10","v":6},{"$f":"'t-values'!B10","v":2.5710000000000002}]
["RAW DATA (only enter data under Identifier and Rate.  Everything else is a link.)",null,null,null,null,null,null,null,null,null,null,{"$f":"'t-values'!A11","v":7},{"$f":"'t-values'!B11","v":2.4470000000000001},null,null,"See Table 1 of study, p. 86",null,null,null,null,null,"Below are for t-test.",null,null,null,null,null,"log tranformed"]
["Identifier","Rate","(x - xbar)2","n",null,null,"Log Rate","(x - xbar)2",null,null,null,{"$f":"'t-values'!A12","v":8},{"$f":"'t-values'!B12","v":2.3650000000000002},null,null,"Group","a.i. handled kg","ug/kg","dose mg/kg","a.i. lb","Rate","ratio","Leaks","No Leaks",null,null,null,null,"Leaks","No Leaks"]
[{"$f":"P24","v":1},{"$f":"U24","v":3.1362662378732493E-5},{"$f":"IF(ISBLANK(B24)=FALSE, ($C$6-B24)^2, \"\")","v":1.1980279253609707E-10},1,null,null,{"$f":"IF(ISBLANK(B24)=FALSE,LOG10(B24), \"\")","v":-4.5035870771319386},{"$f":"IF(ISBLANK(B24)=FALSE, ($G$7-G24)^2, \"\")","v":0.44419171695436294},null,null,null,{"$f":"'t-values'!A13","v":9},{"$f":"'t-values'!B13","v":2.306},null,null,1,1562,108,{"$f":"R24/1000","v":0.108},{"$f":"Q24*2.2046","v":3443.5852},{"$f":"S24/T24","v":3.1362662378732493E-5},{"$f":"1/(U24/$U$42)","v":4.9587301587301589},{"$f":"U24","v":3.1362662378732493E-5},{"$f":"$U$29","v":1.652174592198251E-5},null,null,null,null,{"$f":"LOG10(W24)","v":-4.5035870771319386},{"$f":"LOG10(X24)","v":-4.7819440608765325}]
[2,1.5551897979549254E-4,{"$f":"IF(ISBLANK(B25)=FALSE, ($C$6-B25)^2, \"\")","v":1.8252486532593462E-8},{"$f":"D24+1","v":2},null,null,{"$f":"IF(ISBLANK(B25)=FALSE,LOG10(B25), \"\")","v":-3.8082166013802574},{"$f":"IF(ISBLANK(B25)=FALSE, ($G$7-G25)^2, \"\")","v":1.8546288034994516},null,null,null,{"$f":"'t-values'!A14","v":10},{"$f":"'t-values'!B14","v":2.262},null,null,{"$f":"P24+1","v":2},245,84,{"$f":"R25/1000","v":8.4000000000000005E-2},{"$f":"Q25*2.2046","v":540.12700000000007},{"$f":"S25/T25","v":1.5551897979549254E-4},{"$f":"1/(U25/$U$42)","v":1},1.5551897979549254E-4,{"$f":"U32","v":3.7799752033626658E-5},null,null,null,null,{"$f":"LOG10(W25)","v":-3.8082166013802574},{"$f":"LOG10(X25)","v":-4.4225110491252311}]
[3,4.5562201111960698E-5,6.3227026733592814E-10,{"$f":"D25+1","v":3},null,null,-4.3413953033004073,0.68669209267194131,null,null,null,{"$f":"'t-values'!A15","v":11},{"$f":"'t-values'!B15","v":2.2280000000000002},null,null,{"$f":"P25+1","v":3},448,45,4.4999999999999998E-2,987.66080000000011,4.5562201111960698E-5,3.413333333333334,4.5562201111960698E-5,3.6778137113798909E-6,null,null,null,null,-4.3413953033004073,-5.4344102724249392]
[4,1.8828555729957427E-5,2.523842018744087E-12,4,null,null,-4.7251829918561894,0.19791926375900792,null,null,null,{"$f":"'t-values'!A16","v":12},{"$f":"'t-values'!B16","v":2.2010000000000001},null,null,4,530,22,2.1999999999999999E-2,1168.4380000000001,1.8828555729957427E-5,8.2597402597402603,1.8828555729957427E-5,2.0540242614499011E-6,null,null,null,null,-4.7251829918561894,-5.6873944309667896]
[5,2.1429780680481253E-5,1.0252868719596498E-12,5,null,null,-4.6689822736499202,0.25108306808017306,null,null,null,{"$f":"'t-values'!A17","v":13},{"$f":"'t-values'!B17","v":2.1789999999999998},null,null,5,381,18,1.7999999999999999E-2,839.95260000000007,2.1429780680481253E-5,7.257142857142858,2.1429780680481253E-5,5.6062553577963132E-6,null,null,null,null,-4.6689822736499202,-5.2513271245642947]
[6,1.652174592198251E-5,1.5174688514460771E-11,6,null,null,-4.7819440608765325,0.15063722005902144,null,null,null,{"$f":"'t-values'!A18","v":14},{"$f":"'t-values'!B18","v":2.16},null,null,6,302,11,1.0999999999999999E-2,665.78920000000005,1.652174592198251E-5,9.4129870129870152,{"$f":"U30","v":1.3090383925739163E-5},2.4458663080581957E-6,null,null,null,null,-4.8830476159102938,-5.6115672853452798]
[7,1.3090383925739163E-5,5.3682470850783042E-11,7,null,null,-4.8830476159102938,8.2378503026283731E-2,null,null,null,{"$f":"'t-values'!A19","v":15},{"$f":"'t-values'!B19","v":2.145},null,null,7,298,8.6,8.6E-3,656.97080000000005,1.3090383925739163E-5,11.880398671096346,5.0533355503840413E-6,{"$f":"U39","v":4.0023266859134106E-6},null,null,null,null,-5.2964218628854987,-5.3976874654001996]
[8,5.0533355503840413E-6,2.3604882793546724E-10,8,null,null,-5.2964218628854987,1.5966266241081144E-2,null,null,null,{"$f":"'t-values'!A20","v":16},{"$f":"'t-values'!B20","v":2.1309999999999998},null,null,8,377,4.2,4.2000000000000006E-3,831.13420000000008,5.0533355503840413E-6,30.775510204081634,{"$f":"U37","v":1.6676361191305879E-6},2.0807202954289903E-6,null,null,null,null,-5.7778987071118051,-5.681786296682211]
[9,3.7799752033626658E-5,3.021525527768594E-10,9,null,null,-4.4225110491252311,0.55883567036518533,null,null,null,{"$f":"'t-values'!A21","v":17},{"$f":"'t-values'!B21","v":2.12},null,null,9,48,4,4.0000000000000001E-3,105.82080000000001,3.7799752033626658E-5,4.1142857142857148,4.1614405908579806E-7,null,null,null,null,null,-6.3807563010182298]
[10,3.6778137113798909E-6,2.802075949349487E-10,10,null,null,-5.4344102724249392,6.9878861218168123E-2,null,null,null,{"$f":"'t-values'!A22","v":18},{"$f":"'t-values'!B22","v":2.11},null,null,10,148,1.2,1.1999999999999999E-3,326.2808,3.6778137113798909E-6,42.285714285714292]
[11,2.0540242614499011E-6,3.3720681735907195E-10,11,null,null,-5.6873944309667896,0.26763059764168867,null,null,null,{"$f":"'t-values'!A23","v":19},{"$f":"'t-values'!B23","v":2.101},null,null,11,265,1.2,1.1999999999999999E-3,584.21900000000005,2.0540242614499011E-6,75.714285714285737]
[12,5.6062553577963132E-6,2.1936456041359289E-10,12,null,null,-5.2513271245642947,6.6036675849816019E-3,null,null,null,{"$f":"'t-values'!A24","v":20},{"$f":"'t-values'!B24","v":2.093},null,null,12,89,1.1000000000000001,1.1000000000000001E-3,196.20940000000002,5.6062553577963132E-6,27.740259740259742,"t-Test: Two-Sample Assuming Unequal Variances",null,null,null,null,null,"Log Transformed"]
[13,2.4458663080581957E-6,3.2296941614298463E-10,13,null,null,-5.6115672853452798,0.19492499977549912,null,null,null,{"$f":"'t-values'!A25","v":21},{"$f":"'t-values'!B25","v":2.0859999999999999},null,null,13,204,1.1000000000000001,1.1000000000000001E-3,449.73840000000001,2.4458663080581957E-6,63.584415584415588,null,null,null,null,null,null,"t-Test: Two-Sample Assuming Unequal Variances"]
[14,1.6676361191305879E-6,3.5154675237886979E-10,14,null,null,-5.7778987071118051,0.36946282301341571,null,null,null,{"$f":"'t-values'!A26","v":22},{"$f":"'t-values'!B26","v":2.08},null,null,14,272,1,1E-3,599.65120000000002,1.6676361191305879E-6,93.257142857142853]
[15,4.1614405908579806E-7,4.0004288590058408E-10,15,null,null,-6.3807563010182298,1.4657754331366699,null,null,null,{"$f":"'t-values'!A27","v":23},{"$f":"'t-values'!B27","v":2.0739999999999998},null,null,15,1090,1,1E-3,2403.0140000000001,4.1614405908579806E-7,373.71428571428572,null,"Leaks","No Leaks",null,null,null,null,"Leaks",-4.7819440608765325]
[16,4.0023266859134106E-6,2.6944859703296405E-10,16,null,null,-5.3976874654001996,5.1812364049929172E-2,null,null,null,{"$f":"'t-values'!A28","v":24},{"$f":"'t-values'!B28","v":2.069},null,null,16,68,0.6,5.9999999999999995E-4,149.9128,4.0023266859134106E-6,38.857142857142861,"Mean",3.2547742150107108E-5,9.2735630719544859E-6,null,null,null,"Mean",-4.9317209704716154,-5.3552405606441349]
[17,2.0807202954289903E-6,3.3622708124657189E-10,17,null,null,-5.681786296682211,0.26185953367965731,null,null,null,{"$f":"'t-values'!A29","v":25},{"$f":"'t-values'!B29","v":2.0640000000000001},null,null,17,109,0.5,5.0000000000000001E-4,240.3014,2.0807202954289903E-6,74.742857142857147,"Variance",2.340635339394076E-9,1.5561475315180043E-10,null,null,null,"Variance",0.60710382978279753,0.19525227132233644]
[18,3.9170727495986172E-7,4.0102100682031021E-10,18,null,null,-6.4070383624690237,1.5301051497970664,null,null,null,{"$f":"'t-values'!A30","v":26},{"$f":"'t-values'!B30","v":2.06},null,null,18,579,0.5,5.0000000000000001E-4,1276.4634000000001,3.9170727495986172E-7,397.02857142857147,"Observations",9,8,null,null,null,"Observations",9,7]
[null,null,"",19,null,null,"","",null,null,null,{"$f":"'t-values'!A31","v":27},{"$f":"'t-values'!B31","v":2.056},null,null,null,null,null,null,"Max",{"$f":"MAX(U24:U41)","v":1.5551897979549254E-4},null," Mean Difference",0,null,null,null,null,"Hypothesized Mean Difference",0]
[null,null,"",20,null,null,"","",null,null,null,{"$f":"'t-values'!A32","v":28},{"$f":"'t-values'!B32","v":2.052},null,null,null,null,null,null,"Min",{"$f":"MIN(U24:U41)","v":3.9170727495986172E-7},null,"df",9,null,null,null,null,"df",13]
[null,null,"",21,null,null,"","",null,null,null,{"$f":"'t-values'!A33","v":29},{"$f":"'t-values'!B33","v":2.048},null,null,null,null,null,null,"Ratio",{"$f":"U42/U43","v":397.02857142857147},null,"t Stat",1.3920858986852207,null,null,null,null,"t Stat",1.3715607924822715]
[null,null,"",22,null,null,"","",null,null,null,{"$f":"'t-values'!A34","v":30},{"$f":"'t-values'!B34","v":2.0449999999999999},null,null,null,null,null,null,null,null,null,"P(T<=t) one-tail",9.8666764085615866E-2,null,null,null,null,"P(T<=t) one-tail",9.6704717064202528E-2]
[null,null,"",23,null,null,"","",null,null,null,{"$f":"'t-values'!A35","v":"∞"},{"$f":"'t-values'!B35","v":1.96},null,null,null,null,null,null,null,null,null,"t Critical one-tail",1.83311292255007,null,null,null,null,"t Critical one-tail",1.7709333826482787]
[null,null,"",24,null,null,"","",null,null,null,null,null,null,null,null,null,null,null,null,null,null,"P(T<=t) two-tail",0.19733352817123173,null,null,null,null,"P(T<=t) two-tail",0.19340943412840506]
[null,null,"",25,null,null,"","",null,null,null,null,null,null,null,null,null,null,null,null,null,null,"t Critical two-tail",2.2621571581735829,null,null,null,null,"t Critical two-tail",2.1603686522485352]
[null,null,"",26,null,null,"","",null,null,null,null,null,null,null,null,null,null,null,null,null,null,"mean ratio",{"$f":"X39/Y39","v":3.509734273392652}]
[null,null,"",27,null,null,"",""]
[null,null,"",28,null,null,"",""]
[null,null,"",29,null,null,"",""]
[null,null,"",30,null,null,"",""]
[null,null,"",31,null,null,"",""]
[null,null,"",32,null,null,"",""]
[null,null,"",33,null,null,"",""]
[null,null,"",34,null,null,"",""]
[null,null,"",35,null,null,"",""]
[null,null,"",36,null,null,"",""]
[null,null,"",37,null,null,"",""]
[null,null,"",38,null,null,"",""]
[null,null,"",39,null,null,"",""]
[null,null,"",40,null,null,"",""]
[null,null,"",41,null,null,"",""]
[null,null,"",42,null,null,"",""]
[null,null,"",43,null,null,"",""]
[null,null,"",44,null,null,"",""]
[null,null,"",45,null,null,"",""]
["NOTE: If there are more than 45 items, insert additional cellss in the middle of the data area.  The formulae should update correctly but check."]

{"sheet":"Lunchick et al. 2005-2","index":35,"n_rows":69,"n_cols":21,"rows_kept":69,"cut":false,"hidden":false,"merged":[[8,2,8,8],[0,1,0,8],[1,1,1,8],[2,2,2,8],[3,2,3,4],[3,6,3,8],[9,2,9,4],[9,6,9,8],[15,3,15,4],[15,7,15,8],[21,0,21,8]]}
[null,"Lunchick et al. 2005"]
["Subgroup:","Censoring extreme outlier. "]
[null,null,"Confidence Intervals"]
[null,null,"Arithmetic",null,null,null,"Geometric (Log10)"]
[null,null,"Mean","Lower Limit","Upper Limit",null,"Mean","Lower Limit","Upper Limit"]
[null,null,{"$f":"IF(C15>0,AVERAGE(B24:B68), \"\")","v":1.2470053612121598E-5},{"$f":"IF(C15>1, C6-C20, \"\")","v":5.1905195718563381E-6},{"$f":"IF(C15>1, C6+C20, \"\")","v":1.9749587652386859E-5},"Inverse log",{"$f":"IF(C15>0, 10^G7, \"\")","v":5.6211755450620318E-6},{"$f":"IF(C15>1,10^H7, \"\")","v":2.6435494797820975E-6},{"$f":"IF(C15>1, 10^I7, \"\")","v":1.1952722939389791E-5}]
[null,null,null,null,null,"Log",{"$f":"IF(C15>0, AVERAGE(G24:G68), \"\")","v":-5.2501728518069868},{"$f":"IF(C15>1, G7-G20, \"\")","v":-5.5778125564163403},{"$f":"IF(C15>1, G7+G20, \"\")","v":-4.9225331471976332}]
[]
[null,null,"Prediction Intervals"]
[null,null,"Arithmetic",null,null,null,"Geometric (Log10)"]
[null,null,"Mean","Lower Limit","Upper Limit",null,"Mean","Lower Limit","Upper Limit"]
[null,null,{"$f":"IF(C15>0,AVERAGE(B24:B68), \"\")","v":1.2470053612121598E-5},{"$f":"IF(C15>1, C12-C21, \"\")","v":-1.8414393690377631E-5},{"$f":"IF(C15>1, C12+C21, \"\")","v":4.335450091462083E-5},"Inverse log",{"$f":"IF($C$15>0, 10^G13, \"\")","v":5.6211755450620318E-6},{"$f":"IF($C$15>0, 10^H13, \"\")","v":2.289652669381478E-7},1.3800178049249337E-4]
[null,null,null,null,null,"Log",{"$f":"IF(C15>0, AVERAGE(G24:G68), \"\")","v":-5.2501728518069868},{"$f":"IF(C15>1, G13-G21, \"\")","v":-6.6402303932983742},{"$f":"IF(C15>1, G13+G21, \"\")","v":-3.860115310315599},null,null,{"$f":"'t-values'!A3","v":"95% Confidence Interval"}]
[]
[null,"n:",{"$f":"COUNTA(B24:B68)","v":17},null,null,null,null,null,null,null,null,{"$f":"'t-values'!A4","v":"alpha = 0.025"}]
[null,"SSE:",{"$f":"IF(C15>0, SUM(C24:C68), \"\")","v":3.2070397626823464E-9},"Check",null,"SSE:",{"$f":"IF(C15>0, SUM(H24:H68), \"\")","v":6.4966614190835763},"Check",null,null,null,{"$f":"'t-values'!A5","v":"n"},{"$f":"'t-values'!B5","v":"t-value"}]
[null,"Variance (s2):",{"$f":"IF(C15>1, C16/(C15-1), \"\")","v":2.0043998516764665E-10},{"$f":"IF(C15>1, VAR(B24:B68), \"\")","v":2.0043998516764665E-10},{"$f":"IF(C15>1, C17-D17, \"\")","v":0},"Variance (s2):",{"$f":"IF(C15>1, G16/(C15-1), \"\")","v":0.40604133869272352},{"$f":"IF(C15>1, VAR(G24:G68), \"\")","v":0.40604133869272374},{"$f":"IF(C15>1, G17-H17, \"\")","v":-2.2204460492503131E-16},null,null,{"$f":"'t-values'!A6","v":2},{"$f":"'t-values'!B6","v":12.706}]
[null,"Std Dev (s):",{"$f":"IF(C15>1, C17^0.5, \"\")","v":1.4157682902496674E-5},{"$f":"IF(C15>1, STDEV(B24:B68), \"\")","v":1.4157682902496674E-5},{"$f":"IF(C15>1, C18-D18, \"\")","v":0},"Std Dev (s):",{"$f":"IF(C15>1, G17^0.5, \"\")","v":0.63721373077855403},{"$f":"IF(C15>1, STDEV(G24:G31), \"\")","v":0.3027600467551213},{"$f":"IF(C15>1, G18-H18, \"\")","v":0.33445368402343273},null,null,{"$f":"'t-values'!A7","v":3},{"$f":"'t-values'!B7","v":4.3029999999999999}]
[null,"t-value:",{"$f":"IF(C15>1, IF(C15<31, OFFSET(M16, C15-1, 0), 1.96), \"\")","v":2.12},null,null,"t-value:",{"$f":"C19","v":2.12},null,null,null,null,{"$f":"'t-values'!A8","v":4},{"$f":"'t-values'!B8","v":3.1819999999999999}]
[null,"Conf. Interval Factor:",{"$f":"IF(C15>1, C19*C18/(C15^0.5), \"\")","v":7.2795340402652595E-6},"t x s / n0.5",null,"Conf. Interval Factor:",{"$f":"IF(C15>1, G19*G18/(C15^0.5), \"\")","v":0.32763970460935365},"t x s / n0.5",null,null,null,{"$f":"'t-values'!A9","v":5},{"$f":"'t-values'!B9","v":2.7759999999999998}]
[null,"Pred. Interal Factor:",{"$f":"IF(C15>1, C19*C18*(1+(1/C15))^0.5, \"\")","v":3.088444730249923E-5},"t x s x (1+ 1/n)0.5",null,"Pred. Interal Factor:",{"$f":"IF(C15>1, G19*G18*((1+(1/C15))^0.5), \"\")","v":1.3900575414913878},"t x s x (1+ 1/n)0.5",null,null,null,{"$f":"'t-values'!A10","v":6},{"$f":"'t-values'!B10","v":2.5710000000000002}]
["RAW DATA (only enter data under Identifier and Rate.  Everything else is a link.)",null,null,null,null,null,null,null,null,null,null,{"$f":"'t-values'!A11","v":7},{"$f":"'t-values'!B11","v":2.4470000000000001},null,null,"See Table 1 of study, p. 86"]
["Identifier","Rate","(x - xbar)2","n",null,null,"Log Rate","(x - xbar)2",null,null,null,{"$f":"'t-values'!A12","v":8},{"$f":"'t-values'!B12","v":2.3650000000000002},null,null,"Group","a.i. handled kg","ug/kg","dose mg/kg","a.i. lb","Rate"]
[null,{"$f":"U24","v":3.1362662378732493E-5},{"$f":"IF(ISBLANK(B24)=FALSE, ($C$6-B24)^2, \"\")","v":3.5693066600822278E-10},1,null,null,{"$f":"IF(ISBLANK(B24)=FALSE,LOG10(B24), \"\")","v":-4.5035870771319386},{"$f":"IF(ISBLANK(B24)=FALSE, ($G$7-G24)^2, \"\")","v":0.55739031894714175},null,null,null,{"$f":"'t-values'!A13","v":9},{"$f":"'t-values'!B13","v":2.306},null,null,null,1562,108,{"$f":"R24/1000","v":0.108},{"$f":"Q24*2.2046","v":3443.5852},{"$f":"S24/T24","v":3.1362662378732493E-5}]
[null,4.5562201111960698E-5,{"$f":"IF(ISBLANK(B25)=FALSE, ($C$6-B25)^2, \"\")","v":1.0950902261511071E-9},{"$f":"D24+1","v":2},null,null,{"$f":"IF(ISBLANK(B25)=FALSE,LOG10(B25), \"\")","v":-4.3413953033004073},{"$f":"IF(ISBLANK(B25)=FALSE, ($G$7-G25)^2, \"\")","v":0.8258766326696283},null,null,null,{"$f":"'t-values'!A14","v":10},{"$f":"'t-values'!B14","v":2.262},null,null,null,448,45,{"$f":"R25/1000","v":4.4999999999999998E-2},{"$f":"Q25*2.2046","v":987.66080000000011},{"$f":"S25/T25","v":4.5562201111960698E-5}]
[null,1.8828555729957427E-5,4.043054918252273E-11,{"$f":"D25+1","v":3},null,null,-4.7251829918561894,0.27561435305115783,null,null,null,{"$f":"'t-values'!A15","v":11},{"$f":"'t-values'!B15","v":2.2280000000000002},null,null,null,530,22,2.1999999999999999E-2,1168.4380000000001,1.8828555729957427E-5]
[null,2.1429780680481253E-5,8.0276709139496708E-11,4,null,null,-4.6689822736499202,0.33778248813854528,null,null,null,{"$f":"'t-values'!A16","v":12},{"$f":"'t-values'!B16","v":2.2010000000000001},null,null,null,381,18,1.7999999999999999E-2,839.95260000000007,2.1429780680481253E-5]
[null,1.652174592198251E-5,1.6416210573786052E-11,5,null,null,-4.7819440608765325,0.21923820065619512,null,null,null,{"$f":"'t-values'!A17","v":13},{"$f":"'t-values'!B17","v":2.1789999999999998},null,null,null,302,11,1.0999999999999999E-2,665.78920000000005,1.652174592198251E-5]
[null,1.3090383925739163E-5,3.8480969799286748E-13,6,null,null,-4.8830476159102938,0.13478093883220249,null,null,null,{"$f":"'t-values'!A18","v":14},{"$f":"'t-values'!B18","v":2.16},null,null,null,298,8.6,8.6E-3,656.97080000000005,1.3090383925739163E-5]
[null,5.0533355503840413E-6,5.5007706807304096E-11,7,null,null,-5.2964218628854987,2.1389710257403139E-3,null,null,null,{"$f":"'t-values'!A19","v":15},{"$f":"'t-values'!B19","v":2.145},null,null,null,377,4.2,4.2000000000000006E-3,831.13420000000008,5.0533355503840413E-6]
[null,3.7799752033626658E-5,6.4159362212439591E-10,8,null,null,-4.4225110491252311,0.68502405961841351,null,null,null,{"$f":"'t-values'!A20","v":16},{"$f":"'t-values'!B20","v":2.1309999999999998},null,null,null,48,4,4.0000000000000001E-3,105.82080000000001,3.7799752033626658E-5]
[null,3.6778137113798909E-6,7.7303482472194554E-11,9,null,null,-5.4344102724249392,3.3943427155956329E-2,null,null,null,{"$f":"'t-values'!A21","v":17},{"$f":"'t-values'!B21","v":2.12},null,null,null,148,1.2,1.1999999999999999E-3,326.2808,3.6778137113798909E-6]
[null,2.0540242614499011E-6,1.0849366743405426E-10,10,null,null,-5.6873944309667896,0.19116270928299176,null,null,null,{"$f":"'t-values'!A22","v":18},{"$f":"'t-values'!B22","v":2.11},null,null,null,265,1.2,1.1999999999999999E-3,584.21900000000005,2.0540242614499011E-6]
[null,5.6062553577963132E-6,4.711172647607882E-11,11,null,null,-5.2513271245642947,1.3323455982632985E-6,null,null,null,{"$f":"'t-values'!A23","v":19},{"$f":"'t-values'!B23","v":2.101},null,null,null,89,1.1000000000000001,1.1000000000000001E-3,196.20940000000002,5.6062553577963132E-6]
[null,2.4458663080581957E-6,1.0048433110694591E-10,12,null,null,-5.6115672853452798,0.1306059365924637,null,null,null,{"$f":"'t-values'!A24","v":20},{"$f":"'t-values'!B24","v":2.093},null,null,null,204,1.1000000000000001,1.1000000000000001E-3,449.73840000000001,2.4458663080581957E-6]
[null,1.6676361191305879E-6,1.1669222369287818E-10,13,null,null,-5.7778987071118051,0.27849457835720204,null,null,null,{"$f":"'t-values'!A25","v":21},{"$f":"'t-values'!B25","v":2.0859999999999999},null,null,null,272,1,1E-3,599.65120000000002,1.6676361191305879E-6]
[null,4.1614405908579806E-7,1.4529673551276772E-10,14,null,null,-6.3807563010182298,1.2782189356303912,null,null,null,{"$f":"'t-values'!A26","v":22},{"$f":"'t-values'!B26","v":2.08},null,null,null,1090,1,1E-3,2403.0140000000001,4.1614405908579806E-7]
[null,4.0023266859134106E-6,7.1702399296831169E-11,15,null,null,-5.3976874654001996,2.1760561223554891E-2,null,null,null,{"$f":"'t-values'!A27","v":23},{"$f":"'t-values'!B27","v":2.0739999999999998},null,null,null,68,0.6,5.9999999999999995E-4,149.9128,4.0023266859134106E-6]
[null,2.0807202954289903E-6,1.0793824676533903E-10,16,null,null,-5.681786296682211,0.18629016579705823,null,null,null,{"$f":"'t-values'!A28","v":24},{"$f":"'t-values'!B28","v":2.069},null,null,null,109,0.5,5.0000000000000001E-4,240.3014,2.0807202954289903E-6]
[null,3.9170727495986172E-7,1.4588645024042832E-10,17,null,null,-6.4070383624690237,1.3383378097593355,null,null,null,{"$f":"'t-values'!A29","v":25},{"$f":"'t-values'!B29","v":2.0640000000000001},null,null,null,579,0.5,5.0000000000000001E-4,1276.4634000000001,3.9170727495986172E-7]
[null,null,"",18,null,null,"","",null,null,null,{"$f":"'t-values'!A30","v":26},{"$f":"'t-values'!B30","v":2.06}]
[null,null,"",19,null,null,"","",null,null,null,{"$f":"'t-values'!A31","v":27},{"$f":"'t-values'!B31","v":2.056}]
[null,null,"",20,null,null,"","",null,null,null,{"$f":"'t-values'!A32","v":28},{"$f":"'t-values'!B32","v":2.052}]
[null,null,"",21,null,null,"","",null,null,null,{"$f":"'t-values'!A33","v":29},{"$f":"'t-values'!B33","v":2.048}]
[null,null,"",22,null,null,"","",null,null,null,{"$f":"'t-values'!A34","v":30},{"$f":"'t-values'!B34","v":2.0449999999999999}]
[null,null,"",23,null,null,"","",null,null,null,{"$f":"'t-values'!A35","v":"∞"},{"$f":"'t-values'!B35","v":1.96}]
[null,null,"",24,null,null,"",""]
[null,null,"",25,null,null,"",""]
[null,null,"",26,null,null,"",""]
[null,null,"",27,null,null,"",""]
[null,null,"",28,null,null,"",""]
[null,null,"",29,null,null,"",""]
[null,null,"",30,null,null,"",""]
[null,null,"",31,null,null,"",""]
[null,null,"",32,null,null,"",""]
[null,null,"",33,null,null,"",""]
[null,null,"",34,null,null,"",""]
[null,null,"",35,null,null,"",""]
[null,null,"",36,null,null,"",""]
[null,null,"",37,null,null,"",""]
[null,null,"",38,null,null,"",""]
[null,null,"",39,null,null,"",""]
[null,null,"",40,null,null,"",""]
[null,null,"",41,null,null,"",""]
[null,null,"",42,null,null,"",""]
[null,null,"",43,null,null,"",""]
[null,null,"",44,null,null,"",""]
[null,null,"",45,null,null,"",""]
["NOTE: If there are more than 45 items, insert additional cellss in the middle of the data area.  The formulae should update correctly but check."]

{"sheet":"Middendorf 1992a-1","index":36,"n_rows":69,"n_cols":20,"rows_kept":69,"cut":false,"hidden":false,"merged":[[8,2,8,8],[0,1,0,8],[1,1,1,8],[2,2,2,8],[3,2,3,4],[3,6,3,8],[9,2,9,4],[9,6,9,8],[15,3,15,4],[15,7,15,8],[21,0,21,8]]}
[null,"Middendorf 1992a"]
["Subgroup:","Basal bark, All"]
[null,null,"Confidence Intervals"]
[null,null,"Arithmetic",null,null,null,"Geometric (Log10)"]
[null,null,"Mean","Lower Limit","Upper Limit",null,"Mean","Lower Limit","Upper Limit"]
[null,null,{"$f":"IF(C15>0,AVERAGE(B24:B68), \"\")","v":3.567150916980026E-3},{"$f":"IF(C15>1, C6-C20, \"\")","v":1.4524591489058162E-3},{"$f":"IF(C15>1, C6+C20, \"\")","v":5.6818426850542359E-3},"Inverse log",{"$f":"IF(C15>0, 10^G7, \"\")","v":2.0689379371612005E-3},{"$f":"IF(C15>1,10^H7, \"\")","v":1.1058064583136667E-3},{"$f":"IF(C15>1, 10^I7, \"\")","v":3.8709343354283977E-3}]
[null,null,null,null,null,"Log",{"$f":"IF(C15>0, AVERAGE(G24:G68), \"\")","v":-2.6842525368609382},{"$f":"IF(C15>1, G7-G20, \"\")","v":-2.9563208779514536},{"$f":"IF(C15>1, G7+G20, \"\")","v":-2.4121841957704229}]
[]
[null,null,"Prediction Intervals"]
[null,null,"Arithmetic",null,null,null,"Geometric (Log10)"]
[null,null,"Mean","Lower Limit","Upper Limit",null,"Mean","Lower Limit","Upper Limit"]
[null,null,{"$f":"IF(C15>0,AVERAGE(B24:B68), \"\")","v":3.567150916980026E-3},{"$f":"IF(C15>1, C12-C21, \"\")","v":-5.1519466084141048E-3},{"$f":"IF(C15>1, C12+C21, \"\")","v":1.2286248442374158E-2},"Inverse log",{"$f":"IF($C$15>0, 10^G13, \"\")","v":2.0689379371612005E-3},{"$f":"IF($C$15>0, 10^H13, \"\")","v":1.5630790974178606E-4},2.7385077280452749E-2]
[null,null,null,null,null,"Log",{"$f":"IF(C15>0, AVERAGE(G24:G68), \"\")","v":-2.6842525368609382},{"$f":"IF(C15>1, G13-G21, \"\")","v":-3.8060190445637057},{"$f":"IF(C15>1, G13+G21, \"\")","v":-1.5624860291581708},null,null,{"$f":"'t-values'!A3","v":"95% Confidence Interval"}]
[]
[null,"n:",{"$f":"COUNTA(B24:B68)","v":16},null,null,null,null,null,null,null,null,{"$f":"'t-values'!A4","v":"alpha = 0.025"}]
[null,"SSE:",{"$f":"IF(C15>0, SUM(C24:C68), \"\")","v":2.3634068595026659E-4},"Check",null,"SSE:",{"$f":"IF(C15>0, SUM(H24:H68), \"\")","v":3.912013631249537},"Check",null,null,null,{"$f":"'t-values'!A5","v":"n"},{"$f":"'t-values'!B5","v":"t-value"}]
[null,"Variance (s2):",{"$f":"IF(C15>1, C16/(C15-1), \"\")","v":1.5756045730017774E-5},{"$f":"IF(C15>1, VAR(B24:B68), \"\")","v":1.5756045730017767E-5},{"$f":"IF(C15>1, C17-D17, \"\")","v":6.7762635780344027E-21},"Variance (s2):",{"$f":"IF(C15>1, G16/(C15-1), \"\")","v":0.26080090874996914},{"$f":"IF(C15>1, VAR(G24:G68), \"\")","v":0.26080090874996908},{"$f":"IF(C15>1, G17-H17, \"\")","v":5.5511151231257827E-17},null,null,{"$f":"'t-values'!A6","v":2},{"$f":"'t-values'!B6","v":12.706}]
[null,"Std Dev (s):",{"$f":"IF(C15>1, C17^0.5, \"\")","v":3.9693885839027871E-3},{"$f":"IF(C15>1, STDEV(B24:B68), \"\")","v":3.9693885839027863E-3},{"$f":"IF(C15>1, C18-D18, \"\")","v":8.6736173798840355E-19},"Std Dev (s):",{"$f":"IF(C15>1, G17^0.5, \"\")","v":0.5106867031262603},{"$f":"IF(C15>1, STDEV(G24:G31), \"\")","v":0.65897991431471203},{"$f":"IF(C15>1, G18-H18, \"\")","v":-0.14829321118845173},null,null,{"$f":"'t-values'!A7","v":3},{"$f":"'t-values'!B7","v":4.3029999999999999}]
[null,"t-value:",{"$f":"IF(C15>1, IF(C15<31, OFFSET(M16, C15-1, 0), 1.96), \"\")","v":2.1309999999999998},null,null,"t-value:",{"$f":"C19","v":2.1309999999999998},null,null,null,null,{"$f":"'t-values'!A8","v":4},{"$f":"'t-values'!B8","v":3.1819999999999999},null,"Purple shading indicates no gloves were worn"]
[null,"Conf. Interval Factor:",{"$f":"IF(C15>1, C19*C18/(C15^0.5), \"\")","v":2.1146917680742098E-3},"t x s / n0.5",null,"Conf. Interval Factor:",{"$f":"IF(C15>1, G19*G18/(C15^0.5), \"\")","v":0.27206834109051514},"t x s / n0.5",null,null,null,{"$f":"'t-values'!A9","v":5},{"$f":"'t-values'!B9","v":2.7759999999999998}]
[null,"Pred. Interal Factor:",{"$f":"IF(C15>1, C19*C18*(1+(1/C15))^0.5, \"\")","v":8.7190975253941313E-3},"t x s x (1+ 1/n)0.5",null,"Pred. Interal Factor:",{"$f":"IF(C15>1, G19*G18*((1+(1/C15))^0.5), \"\")","v":1.1217665077027674},"t x s x (1+ 1/n)0.5",null,null,null,{"$f":"'t-values'!A10","v":6},{"$f":"'t-values'!B10","v":2.5710000000000002},null,"Values below taken from Table 12 of SERA 2011c (triclopyr risk assessment),"]
["RAW DATA (only enter data under Identifier and Rate.  Everything else is a link.)",null,null,null,null,null,null,null,null,null,null,{"$f":"'t-values'!A11","v":7},{"$f":"'t-values'!B11","v":2.4470000000000001},null,"Worker","Amount","BW","Dose ","Rate"]
["Identifier","Rate","(x - xbar)2","n",null,null,"Log Rate","(x - xbar)2",null,null,null,{"$f":"'t-values'!A12","v":8},{"$f":"'t-values'!B12","v":2.3650000000000002},null,"ID","lb a.e"," kg","mg","Rate"]
[{"$f":"O24","v":"A"},{"$f":"S24","v":1.4848318713450294E-4},{"$f":"IF(ISBLANK(B24)=FALSE, ($C$6-B24)^2, \"\")","v":1.1687289047087143E-5},1,null,null,{"$f":"IF(ISBLANK(B24)=FALSE,LOG10(B24), \"\")","v":-3.828322719061148},{"$f":"IF(ISBLANK(B24)=FALSE, ($G$7-G24)^2, \"\")","v":1.308896581799621},null,null,null,{"$f":"'t-values'!A13","v":9},{"$f":"'t-values'!B13","v":2.306},null,"A",4.8,91.2,6.5000000000000002E-2,{"$f":"(R24/Q24)/P24","v":1.4848318713450294E-4}]
["B",6.4775910364145667E-4,{"$f":"IF(ISBLANK(B25)=FALSE, ($C$6-B25)^2, \"\")","v":8.5228485597882612E-6},{"$f":"D24+1","v":2},null,null,{"$f":"IF(ISBLANK(B25)=FALSE,LOG10(B25), \"\")","v":-3.1885864747011228},{"$f":"IF(ISBLANK(B25)=FALSE, ($G$7-G25)^2, \"\")","v":0.25435272085738714},null,null,null,{"$f":"'t-values'!A14","v":10},{"$f":"'t-values'!B14","v":2.262},null,"B",4.8,83.3,0.25900000000000001,{"$f":"(R25/Q25)/P25","v":6.4775910364145667E-4}]
["C",1.5580293276108725E-3,4.036569560869233E-6,{"$f":"D25+1","v":3},null,null,-2.807424371631559,1.5171300880761103E-2,null,null,null,{"$f":"'t-values'!A15","v":11},{"$f":"'t-values'!B15","v":2.2280000000000002},null,"C",4.8,93.2,0.69699999999999995,1.5580293276108725E-3]
["D",5.0606641123882501E-3,2.2305816648584838E-6,4,null,null,-2.2957924868321355,0.15090121046837987,null,null,null,{"$f":"'t-values'!A16","v":12},{"$f":"'t-values'!B16","v":2.2010000000000001},null,"D",4.8,78.3,1.9019999999999999,5.0606641123882501E-3]
["G",1.3616504854368934E-3,4.8642321535369452E-6,5,null,null,-2.8659343547769733,3.3008282961275337E-2,null,null,null,{"$f":"'t-values'!A17","v":13},{"$f":"'t-values'!B17","v":2.1789999999999998},null,"G",4,103,0.56100000000000005,1.3616504854368934E-3]
["H ",1.4283727399165506E-2,1.148450114985309E-4,6,null,null,-1.8451584467856044,0.70407889199935247,null,null,null,{"$f":"'t-values'!A18","v":14},{"$f":"'t-values'!B18","v":2.16},null,"H ",4,71.900000000000006,4.1079999999999997,1.4283727399165506E-2]
["I",1.1759404388714733E-2,6.7113016945149364E-5,7,null,null,-1.9296146746242722,0.56947830312112535,null,null,null,{"$f":"'t-values'!A19","v":15},{"$f":"'t-values'!B19","v":2.145},null,"I",4,63.8,3.0009999999999999,1.1759404388714733E-2]
["J",2.4412455934195065E-3,1.2676627976219181E-6,8,null,null,-2.6123885276284393,5.1644358229686891E-3,null,null,null,{"$f":"'t-values'!A20","v":16},{"$f":"'t-values'!B20","v":2.1309999999999998},null,"J",4,85.1,0.83099999999999996,2.4412455934195065E-3]
["K",3.7439024390243905E-3,3.1241100544999468E-8,9,null,null,-2.4266754769065302,6.6345941814756712E-2,null,null,null,{"$f":"'t-values'!A21","v":17},{"$f":"'t-values'!B21","v":2.12},null,"K",4,61.5,0.92100000000000004,3.7439024390243905E-3]
["L",3.8814016172506734E-3,9.875350262059222E-8,10,null,null,-2.4110114175197963,7.4660709298800157E-2,null,null,null,{"$f":"'t-values'!A22","v":18},{"$f":"'t-values'!B22","v":2.11},null,"L",4,74.2,1.1519999999999999,3.8814016172506734E-3]
["M",2.1899908031882283E-3,1.8965699790190371E-6,11,null,null,-2.6595577089649001,6.0983452481494461E-4,null,null,null,{"$f":"'t-values'!A23","v":19},{"$f":"'t-values'!B23","v":2.101},null,"M",5.6,93.2,1.143,2.1899908031882283E-3]
["N",3.9581689029202843E-3,1.5289506532877601E-7,12,null,null,-2.4025056775270044,7.9381292744535509E-2,null,null,null,{"$f":"'t-values'!A24","v":20},{"$f":"'t-values'!B24","v":2.093},null,"N",5.6,90.5,2.0059999999999998,3.9581689029202843E-3]
["O",2.5804689052255116E-3,9.7354139231993587E-7,13,null,null,-2.5883013698319055,9.2066264542333374E-3,null,null,null,{"$f":"'t-values'!A25","v":21},{"$f":"'t-values'!B25","v":2.0859999999999999},null,"O",5.6,71.900000000000006,1.0389999999999999,2.5804689052255116E-3,"Female"]
["P",1.8502880985495729E-3,2.9476179373089592E-6,14,null,null,-2.7327606446407904,2.3530365203817526E-3,null,null,null,{"$f":"'t-values'!A26","v":22},{"$f":"'t-values'!B26","v":2.08},null,"P",5.6,71.900000000000006,0.745,1.8502880985495729E-3]
["Q",1.257189491683507E-3,5.3359217863579257E-6,15,null,null,-2.9005992577236115,4.6805903628031463E-2,null,null,null,{"$f":"'t-values'!A27","v":23},{"$f":"'t-values'!B27","v":2.0739999999999998},null,"Q",5.6,91.9,0.64700000000000002,1.257189491683507E-3]
["R",3.5204081632653065E-4,1.0336932959324129E-5,16,null,null,-3.4534069806192207,0.59159855835311292,null,null,null,{"$f":"'t-values'!A28","v":24},{"$f":"'t-values'!B28","v":2.069},null,"R",5.6,105,0.20699999999999999,3.5204081632653065E-4]
[null,null,"",17,null,null,"","",null,null,null,{"$f":"'t-values'!A29","v":25},{"$f":"'t-values'!B29","v":2.0640000000000001}]
[null,null,"",18,null,null,"","",null,null,null,{"$f":"'t-values'!A30","v":26},{"$f":"'t-values'!B30","v":2.06}]
[null,null,"",19,null,null,"","",null,null,null,{"$f":"'t-values'!A31","v":27},{"$f":"'t-values'!B31","v":2.056}]
[null,null,"",20,null,null,"","",null,null,null,{"$f":"'t-values'!A32","v":28},{"$f":"'t-values'!B32","v":2.052}]
[null,null,"",21,null,null,"","",null,null,null,{"$f":"'t-values'!A33","v":29},{"$f":"'t-values'!B33","v":2.048}]
[null,null,"",22,null,null,"","",null,null,null,{"$f":"'t-values'!A34","v":30},{"$f":"'t-values'!B34","v":2.0449999999999999}]
[null,null,"",23,null,null,"","",null,null,null,{"$f":"'t-values'!A35","v":"∞"},{"$f":"'t-values'!B35","v":1.96}]
[null,null,"",24,null,null,"",""]
[null,null,"",25,null,null,"",""]
[null,null,"",26,null,null,"",""]
[null,null,"",27,null,null,"",""]
[null,null,"",28,null,null,"",""]
[null,null,"",29,null,null,"",""]
[null,null,"",30,null,null,"",""]
[null,null,"",31,null,null,"",""]
[null,null,"",32,null,null,"",""]
[null,null,"",33,null,null,"",""]
[null,null,"",34,null,null,"",""]
[null,null,"",35,null,null,"",""]
[null,null,"",36,null,null,"",""]
[null,null,"",37,null,null,"",""]
[null,null,"",38,null,null,"",""]
[null,null,"",39,null,null,"",""]
[null,null,"",40,null,null,"",""]
[null,null,"",41,null,null,"",""]
[null,null,"",42,null,null,"",""]
[null,null,"",43,null,null,"",""]
[null,null,"",44,null,null,"",""]
[null,null,"",45,null,null,"",""]
["NOTE: If there are more than 45 items, insert additional cellss in the middle of the data area.  The formulae should update correctly but check."]

{"sheet":"Middendorf 1992a-2","index":37,"n_rows":69,"n_cols":22,"rows_kept":69,"cut":false,"hidden":false,"merged":[[8,2,8,8],[0,1,0,8],[1,1,1,8],[2,2,2,8],[3,2,3,4],[3,6,3,8],[9,2,9,4],[9,6,9,8],[15,3,15,4],[15,7,15,8],[21,0,21,8]]}
[null,"Middendorf 1992a"]
["Subgroup:","Basal bark, gloves"]
[null,null,"Confidence Intervals"]
[null,null,"Arithmetic",null,null,null,"Geometric (Log10)"]
[null,null,"Mean","Lower Limit","Upper Limit",null,"Mean","Lower Limit","Upper Limit"]
[null,null,{"$f":"IF(C15>0,AVERAGE(B24:B68), \"\")","v":2.1357030643467333E-3},{"$f":"IF(C15>1, C6-C20, \"\")","v":1.0595267433854559E-3},{"$f":"IF(C15>1, C6+C20, \"\")","v":3.2118793853080107E-3},"Inverse log",{"$f":"IF(C15>0, 10^G7, \"\")","v":1.4409707585993944E-3},{"$f":"IF(C15>1,10^H7, \"\")","v":7.334610504539246E-4},{"$f":"IF(C15>1, 10^I7, \"\")","v":2.8309570438041281E-3}]
[null,null,null,null,null,"Log",{"$f":"IF(C15>0, AVERAGE(G24:G68), \"\")","v":-2.8413448321685078},{"$f":"IF(C15>1, G7-G20, \"\")","v":-3.1346229438821371},{"$f":"IF(C15>1, G7+G20, \"\")","v":-2.5480667204548784}]
[]
[null,null,"Prediction Intervals"]
[null,null,"Arithmetic",null,null,null,"Geometric (Log10)"]
[null,null,"Mean","Lower Limit","Upper Limit",null,"Mean","Lower Limit","Upper Limit"]
[null,null,{"$f":"IF(C15>0,AVERAGE(B24:B68), \"\")","v":2.1357030643467333E-3},{"$f":"IF(C15>1, C12-C21, \"\")","v":-1.7445058423193435E-3},{"$f":"IF(C15>1, C12+C21, \"\")","v":6.0159119710128106E-3},"Inverse log",{"$f":"IF($C$15>0, 10^G13, \"\")","v":1.4409707585993944E-3},{"$f":"IF($C$15>0, 10^H13, \"\")","v":1.2624840443342761E-4},1.6446914608203425E-2]
[null,null,null,null,null,"Log",{"$f":"IF(C15>0, AVERAGE(G24:G68), \"\")","v":-2.8413448321685078},{"$f":"IF(C15>1, G13-G21, \"\")","v":-3.8987741019232551},{"$f":"IF(C15>1, G13+G21, \"\")","v":-1.7839155624137606},null,null,{"$f":"'t-values'!A3","v":"95% Confidence Interval"}]
[]
[null,"n:",{"$f":"COUNTA(B24:B68)","v":12},null,null,null,null,null,null,null,null,{"$f":"'t-values'!A4","v":"alpha = 0.025"}]
[null,"SSE:",{"$f":"IF(C15>0, SUM(C24:C68), \"\")","v":3.155736334405492E-5},"Check",null,"SSE:",{"$f":"IF(C15>0, SUM(H24:H68), \"\")","v":2.3436521268493671},"Check",null,null,null,{"$f":"'t-values'!A5","v":"n"},{"$f":"'t-values'!B5","v":"t-value"}]
[null,"Variance (s2):",{"$f":"IF(C15>1, C16/(C15-1), \"\")","v":2.8688512130959016E-6},{"$f":"IF(C15>1, VAR(B24:B68), \"\")","v":2.8688512130959004E-6},{"$f":"IF(C15>1, C17-D17, \"\")","v":1.2705494208814505E-21},"Variance (s2):",{"$f":"IF(C15>1, G16/(C15-1), \"\")","v":0.21305928425903337},{"$f":"IF(C15>1, VAR(G24:G68), \"\")","v":0.21305928425903434},{"$f":"IF(C15>1, G17-H17, \"\")","v":-9.7144514654701197E-16},null,null,{"$f":"'t-values'!A6","v":2},{"$f":"'t-values'!B6","v":12.706}]
[null,"Std Dev (s):",{"$f":"IF(C15>1, C17^0.5, \"\")","v":1.6937683469400123E-3},{"$f":"IF(C15>1, STDEV(B24:B68), \"\")","v":1.6937683469400119E-3},{"$f":"IF(C15>1, C18-D18, \"\")","v":4.3368086899420177E-19},"Std Dev (s):",{"$f":"IF(C15>1, G17^0.5, \"\")","v":0.46158345319024746},{"$f":"IF(C15>1, STDEV(G24:G31), \"\")","v":0.48624995856213649},{"$f":"IF(C15>1, G18-H18, \"\")","v":-2.4666505371889025E-2},null,null,{"$f":"'t-values'!A7","v":3},{"$f":"'t-values'!B7","v":4.3029999999999999}]
[null,"t-value:",{"$f":"IF(C15>1, IF(C15<31, OFFSET(M16, C15-1, 0), 1.96), \"\")","v":2.2010000000000001},null,null,"t-value:",{"$f":"C19","v":2.2010000000000001},null,null,null,null,{"$f":"'t-values'!A8","v":4},{"$f":"'t-values'!B8","v":3.1819999999999999}]
[null,"Conf. Interval Factor:",{"$f":"IF(C15>1, C19*C18/(C15^0.5), \"\")","v":1.0761763209612774E-3},"t x s / n0.5",null,"Conf. Interval Factor:",{"$f":"IF(C15>1, G19*G18/(C15^0.5), \"\")","v":0.2932781117136295},"t x s / n0.5",null,null,null,{"$f":"'t-values'!A9","v":5},{"$f":"'t-values'!B9","v":2.7759999999999998}]
[null,"Pred. Interal Factor:",{"$f":"IF(C15>1, C19*C18*(1+(1/C15))^0.5, \"\")","v":3.8802089066660769E-3},"t x s x (1+ 1/n)0.5",null,"Pred. Interal Factor:",{"$f":"IF(C15>1, G19*G18*((1+(1/C15))^0.5), \"\")","v":1.0574292697547472},"t x s x (1+ 1/n)0.5",null,null,null,{"$f":"'t-values'!A10","v":6},{"$f":"'t-values'!B10","v":2.5710000000000002},null,"Values below taken from Table 12 of SERA 2011c (triclopyr risk assessment),"]
["RAW DATA (only enter data under Identifier and Rate.  Everything else is a link.)",null,null,null,null,null,null,null,null,null,null,{"$f":"'t-values'!A11","v":7},{"$f":"'t-values'!B11","v":2.4470000000000001},null,"Worker","Amount","BW","Dose ","Rate","Relative to","Rel to"]
["Identifier","Rate","(x - xbar)2","n",null,null,"Log Rate","(x - xbar)2",null,null,null,{"$f":"'t-values'!A12","v":8},{"$f":"'t-values'!B12","v":2.3650000000000002},null,"ID","lb a.e"," kg","mg","Rate","Max","Mean"]
[{"$f":"O24","v":"A"},{"$f":"S24","v":1.4848318713450294E-4},{"$f":"IF(ISBLANK(B24)=FALSE, ($C$6-B24)^2, \"\")","v":3.9490428403873924E-6},1,null,null,{"$f":"IF(ISBLANK(B24)=FALSE,LOG10(B24), \"\")","v":-3.828322719061148},{"$f":"IF(ISBLANK(B24)=FALSE, ($G$7-G24)^2, \"\")","v":0.97412534921506133},null,null,null,{"$f":"'t-values'!A13","v":9},{"$f":"'t-values'!B13","v":2.306},null,"A",4.8,91.2,6.5000000000000002E-2,{"$f":"(R24/Q24)/P24","v":1.4848318713450294E-4},{"$f":"S24/$S$34","v":2.9340652498754779E-2},{"$f":"S24/$S$35","v":7.941137261177772E-2}]
["B",6.4775910364145667E-4,{"$f":"IF(ISBLANK(B25)=FALSE, ($C$6-B25)^2, \"\")","v":2.2139772301993057E-6},{"$f":"D24+1","v":2},null,null,{"$f":"IF(ISBLANK(B25)=FALSE,LOG10(B25), \"\")","v":-3.1885864747011228},{"$f":"IF(ISBLANK(B25)=FALSE, ($G$7-G25)^2, \"\")","v":0.12057675830874839},null,null,null,{"$f":"'t-values'!A14","v":10},{"$f":"'t-values'!B14","v":2.262},null,"B",4.8,83.3,0.25900000000000001,{"$f":"(R25/Q25)/P25","v":6.4775910364145667E-4},{"$f":"S25/$S$34","v":0.12799883360284178},{"$f":"S25/$S$35","v":0.34643275467509083}]
["C",1.5580293276108725E-3,3.3370694611437261E-7,{"$f":"D25+1","v":3},null,null,-2.807424371631559,1.1505976430386973E-3,null,null,null,{"$f":"'t-values'!A15","v":11},{"$f":"'t-values'!B15","v":2.2280000000000002},null,"C",4.8,93.2,0.69699999999999995,1.5580293276108725E-3,0.30787052707112006,0.833260989763834]
["D",5.0606641123882501E-3,8.5553971325601273E-6,4,null,null,-2.2957924868321355,0.2976273615020163,null,null,null,{"$f":"'t-values'!A16","v":12},{"$f":"'t-values'!B16","v":2.2010000000000001},null,"D",4.8,78.3,1.9019999999999999,5.0606641123882501E-3,1,2.7065305590987778]
["G",1.3616504854368934E-3,5.9915739491697388E-7,5,null,null,-2.8659343547769733,6.0464462211224019E-4,null,null,null,{"$f":"'t-values'!A17","v":13},{"$f":"'t-values'!B17","v":2.1789999999999998},null,"G",4,103,0.56100000000000005,1.3616504854368934E-3,0.26906557226424926,0.72823419373459108]
["L",3.8814016172506734E-3,3.0474634376109105E-6,6,null,null,-2.4110114175197963,0.18518684776321981,null,null,null,{"$f":"'t-values'!A18","v":14},{"$f":"'t-values'!B18","v":2.16},null,"L",4,74.2,1.1519999999999999,3.8814016172506734E-3,0.76697475490404476,2.0758406122050923]
["O",2.5804689052255116E-3,1.9781665321260669E-7,7,null,null,-2.5883013698319055,6.4030993831295444E-2,null,null,null,{"$f":"'t-values'!A19","v":15},{"$f":"'t-values'!B19","v":2.145},null,"O",5.6,71.900000000000006,1.0389999999999999,2.5804689052255116E-3,0.50990716789692758,1.3800793322165459,"Worker O is female"]
["P",1.8502880985495729E-3,8.1461702700994272E-8,8,null,null,-2.7327606446407904,1.1790525781054492E-2,null,null,null,{"$f":"'t-values'!A20","v":16},{"$f":"'t-values'!B20","v":2.1309999999999998},null,"P",5.6,71.900000000000006,0.745,1.8502880985495729E-3,0.36562159777017428,0.98956602743149835]
["Q",1.257189491683507E-3,7.7178609735350585E-7,9,null,null,-2.9005992577236115,3.511086947865331E-3,null,null,null,{"$f":"'t-values'!A21","v":17},{"$f":"'t-values'!B21","v":2.12},null,"Q",5.6,91.9,0.64700000000000002,1.257189491683507E-3,0.24842381627462107,0.67236665035520227]
["R",3.5204081632653065E-4,3.1814510150124825E-6,10,null,null,-3.4534069806192207,0.37462007356610255,null,null,null,{"$f":"'t-values'!A22","v":18},{"$f":"'t-values'!B22","v":2.11},null,"R",5.6,105,0.20699999999999999,3.5204081632653065E-4,6.9564153737204676E-2,0.1882775079075899]
[null,5.0606641123882501E-3,8.5553971325601273E-6,11,null,null,-2.2957924868321355,0.2976273615020163,null,null,null,{"$f":"'t-values'!A23","v":19},{"$f":"'t-values'!B23","v":2.101},null,null,null,null,"Max",{"$f":"MAX(S24:S33)","v":5.0606641123882501E-3}]
[null,1.869797514524777E-3,7.0705761426116869E-8,12,null,null,-2.7282054218516953,1.2800526166836038E-2,null,null,null,{"$f":"'t-values'!A24","v":20},{"$f":"'t-values'!B24","v":2.093},null,null,null,null,"Ave",{"$f":"AVERAGE(S24:S33)","v":1.869797514524777E-3}]
[null,null,"",13,null,null,"","",null,null,null,{"$f":"'t-values'!A25","v":21},{"$f":"'t-values'!B25","v":2.0859999999999999}]
[null,null,"",14,null,null,"","",null,null,null,{"$f":"'t-values'!A26","v":22},{"$f":"'t-values'!B26","v":2.08}]
[null,null,"",15,null,null,"","",null,null,null,{"$f":"'t-values'!A27","v":23},{"$f":"'t-values'!B27","v":2.0739999999999998}]
[null,null,"",16,null,null,"","",null,null,null,{"$f":"'t-values'!A28","v":24},{"$f":"'t-values'!B28","v":2.069}]
[null,null,"",17,null,null,"","",null,null,null,{"$f":"'t-values'!A29","v":25},{"$f":"'t-values'!B29","v":2.0640000000000001}]
[null,null,"",18,null,null,"","",null,null,null,{"$f":"'t-values'!A30","v":26},{"$f":"'t-values'!B30","v":2.06}]
[null,null,"",19,null,null,"","",null,null,null,{"$f":"'t-values'!A31","v":27},{"$f":"'t-values'!B31","v":2.056}]
[null,null,"",20,null,null,"","",null,null,null,{"$f":"'t-values'!A32","v":28},{"$f":"'t-values'!B32","v":2.052}]
[null,null,"",21,null,null,"","",null,null,null,{"$f":"'t-values'!A33","v":29},{"$f":"'t-values'!B33","v":2.048}]
[null,null,"",22,null,null,"","",null,null,null,{"$f":"'t-values'!A34","v":30},{"$f":"'t-values'!B34","v":2.0449999999999999}]
[null,null,"",23,null,null,"","",null,null,null,{"$f":"'t-values'!A35","v":"∞"},{"$f":"'t-values'!B35","v":1.96}]
[null,null,"",24,null,null,"",""]
[null,null,"",25,null,null,"",""]
[null,null,"",26,null,null,"",""]
[null,null,"",27,null,null,"",""]
[null,null,"",28,null,null,"",""]
[null,null,"",29,null,null,"",""]
[null,null,"",30,null,null,"",""]
[null,null,"",31,null,null,"",""]
[null,null,"",32,null,null,"",""]
[null,null,"",33,null,null,"",""]
[null,null,"",34,null,null,"",""]
[null,null,"",35,null,null,"",""]
[null,null,"",36,null,null,"",""]
[null,null,"",37,null,null,"",""]
[null,null,"",38,null,null,"",""]
[null,null,"",39,null,null,"",""]
[null,null,"",40,null,null,"",""]
[null,null,"",41,null,null,"",""]
[null,null,"",42,null,null,"",""]
[null,null,"",43,null,null,"",""]
[null,null,"",44,null,null,"",""]
[null,null,"",45,null,null,"",""]
["NOTE: If there are more than 45 items, insert additional cellss in the middle of the data area.  The formulae should update correctly but check."]

{"sheet":"Middendorf 1992a-3","index":38,"n_rows":69,"n_cols":19,"rows_kept":69,"cut":false,"hidden":false,"merged":[[8,2,8,8],[0,1,0,8],[1,1,1,8],[2,2,2,8],[3,2,3,4],[3,6,3,8],[9,2,9,4],[9,6,9,8],[15,3,15,4],[15,7,15,8],[21,0,21,8]]}
[null,"Middendorf 1992a"]
["Subgroup:","Basal bark, no gloves"]
[null,null,"Confidence Intervals"]
[null,null,"Arithmetic",null,null,null,"Geometric (Log10)"]
[null,null,"Mean","Lower Limit","Upper Limit",null,"Mean","Lower Limit","Upper Limit"]
[null,null,{"$f":"IF(C15>0,AVERAGE(B24:B68), \"\")","v":6.3960732544054407E-3},{"$f":"IF(C15>1, C6-C20, \"\")","v":8.9610414997865796E-4},{"$f":"IF(C15>1, C6+C20, \"\")","v":1.1896042358832223E-2},"Inverse log",{"$f":"IF(C15>0, 10^G7, \"\")","v":4.867992658522678E-3},{"$f":"IF(C15>1,10^H7, \"\")","v":2.1125597907724627E-3},{"$f":"IF(C15>1, 10^I7, \"\")","v":1.1217364179200674E-2}]
[null,null,null,null,null,"Log",{"$f":"IF(C15>0, AVERAGE(G24:G68), \"\")","v":-2.3126500854061249},{"$f":"IF(C15>1, G7-G20, \"\")","v":-2.6751909905746802},{"$f":"IF(C15>1, G7+G20, \"\")","v":-1.9501091802375694}]
[]
[null,null,"Prediction Intervals"]
[null,null,"Arithmetic",null,null,null,"Geometric (Log10)"]
[null,null,"Mean","Lower Limit","Upper Limit",null,"Mean","Lower Limit","Upper Limit"]
[null,null,{"$f":"IF(C15>0,AVERAGE(B24:B68), \"\")","v":6.3960732544054407E-3},{"$f":"IF(C15>1, C12-C21, \"\")","v":-8.1554772144464618E-3},{"$f":"IF(C15>1, C12+C21, \"\")","v":2.0947623723257341E-2},"Inverse log",{"$f":"IF($C$15>0, 10^G13, \"\")","v":4.867992658522678E-3},{"$f":"IF($C$15>0, 10^H13, \"\")","v":5.3475744476532967E-4},4.4314207787850252E-2]
[null,null,null,null,null,"Log",{"$f":"IF(C15>0, AVERAGE(G24:G68), \"\")","v":-2.3126500854061249},{"$f":"IF(C15>1, G13-G21, \"\")","v":-3.2718431605703739},{"$f":"IF(C15>1, G13+G21, \"\")","v":-1.3534570102418759},null,null,{"$f":"'t-values'!A3","v":"95% Confidence Interval"}]
[]
[null,"n:",{"$f":"COUNTA(B24:B68)","v":6},null,null,null,null,null,null,null,null,{"$f":"'t-values'!A4","v":"alpha = 0.025"}]
[null,"SSE:",{"$f":"IF(C15>0, SUM(C24:C68), \"\")","v":1.3728958783908816E-4},"Check",null,"SSE:",{"$f":"IF(C15>0, SUM(H24:H68), \"\")","v":0.59652840846419319},"Check",null,null,null,{"$f":"'t-values'!A5","v":"n"},{"$f":"'t-values'!B5","v":"t-value"}]
[null,"Variance (s2):",{"$f":"IF(C15>1, C16/(C15-1), \"\")","v":2.7457917567817633E-5},{"$f":"IF(C15>1, VAR(B24:B68), \"\")","v":2.7457917567817627E-5},{"$f":"IF(C15>1, C17-D17, \"\")","v":6.7762635780344027E-21},"Variance (s2):",{"$f":"IF(C15>1, G16/(C15-1), \"\")","v":0.11930568169283864},{"$f":"IF(C15>1, VAR(G24:G68), \"\")","v":0.11930568169283902},{"$f":"IF(C15>1, G17-H17, \"\")","v":-3.7470027081099033E-16},null,null,{"$f":"'t-values'!A6","v":2},{"$f":"'t-values'!B6","v":12.706}]
[null,"Std Dev (s):",{"$f":"IF(C15>1, C17^0.5, \"\")","v":5.2400303021850579E-3},{"$f":"IF(C15>1, STDEV(B24:B68), \"\")","v":5.2400303021850579E-3},{"$f":"IF(C15>1, C18-D18, \"\")","v":0},"Std Dev (s):",{"$f":"IF(C15>1, G17^0.5, \"\")","v":0.34540654552691769},{"$f":"IF(C15>1, STDEV(G24:G31), \"\")","v":0.34540654552691819},{"$f":"IF(C15>1, G18-H18, \"\")","v":-4.9960036108132044E-16},null,null,{"$f":"'t-values'!A7","v":3},{"$f":"'t-values'!B7","v":4.3029999999999999}]
[null,"t-value:",{"$f":"IF(C15>1, IF(C15<31, OFFSET(M16, C15-1, 0), 1.96), \"\")","v":2.5710000000000002},null,null,"t-value:",{"$f":"C19","v":2.5710000000000002},null,null,null,null,{"$f":"'t-values'!A8","v":4},{"$f":"'t-values'!B8","v":3.1819999999999999},null,"Purple shading indicates no gloves were worn"]
[null,"Conf. Interval Factor:",{"$f":"IF(C15>1, C19*C18/(C15^0.5), \"\")","v":5.4999691044267827E-3},"t x s / n0.5",null,"Conf. Interval Factor:",{"$f":"IF(C15>1, G19*G18/(C15^0.5), \"\")","v":0.36254090516855547},"t x s / n0.5",null,null,null,{"$f":"'t-values'!A9","v":5},{"$f":"'t-values'!B9","v":2.7759999999999998}]
[null,"Pred. Interal Factor:",{"$f":"IF(C15>1, C19*C18*(1+(1/C15))^0.5, \"\")","v":1.4551550468851902E-2},"t x s x (1+ 1/n)0.5",null,"Pred. Interal Factor:",{"$f":"IF(C15>1, G19*G18*((1+(1/C15))^0.5), \"\")","v":0.95919307516424901},"t x s x (1+ 1/n)0.5",null,null,null,{"$f":"'t-values'!A10","v":6},{"$f":"'t-values'!B10","v":2.5710000000000002},null,"Values below taken from Table 12 of SERA 2011c (triclopyr risk assessment),"]
["RAW DATA (only enter data under Identifier and Rate.  Everything else is a link.)",null,null,null,null,null,null,null,null,null,null,{"$f":"'t-values'!A11","v":7},{"$f":"'t-values'!B11","v":2.4470000000000001},null,"Worker","Amount","BW","Dose ","Rate"]
["Identifier","Rate","(x - xbar)2","n",null,null,"Log Rate","(x - xbar)2",null,null,null,{"$f":"'t-values'!A12","v":8},{"$f":"'t-values'!B12","v":2.3650000000000002},null,"ID","lb a.e"," kg","mg","Rate"]
[{"$f":"O24","v":"H "},{"$f":"S24","v":1.4283727399165506E-2},{"$f":"IF(ISBLANK(B24)=FALSE, ($C$6-B24)^2, \"\")","v":6.2215087907350642E-5},1,null,null,{"$f":"IF(ISBLANK(B24)=FALSE,LOG10(B24), \"\")","v":-1.8451584467856044},{"$f":"IF(ISBLANK(B24)=FALSE, ($G$7-G24)^2, \"\")","v":0.21854843218009939},null,null,null,{"$f":"'t-values'!A13","v":9},{"$f":"'t-values'!B13","v":2.306},null,"H ",4,71.900000000000006,4.1079999999999997,{"$f":"(R24/Q24)/P24","v":1.4283727399165506E-2}]
["I",1.1759404388714733E-2,{"$f":"IF(ISBLANK(B25)=FALSE, ($C$6-B25)^2, \"\")","v":2.8765320856251405E-5},{"$f":"D24+1","v":2},null,null,{"$f":"IF(ISBLANK(B25)=FALSE,LOG10(B25), \"\")","v":-1.9296146746242722},{"$f":"IF(ISBLANK(B25)=FALSE, ($G$7-G25)^2, \"\")","v":0.14671612591282268},null,null,null,{"$f":"'t-values'!A14","v":10},{"$f":"'t-values'!B14","v":2.262},null,"I",4,63.8,3.0009999999999999,1.1759404388714733E-2]
["J",2.4412455934195065E-3,1.5640661828099471E-5,{"$f":"D25+1","v":3},null,null,-2.6123885276284393,8.9843133745859699E-2,null,null,null,{"$f":"'t-values'!A15","v":11},{"$f":"'t-values'!B15","v":2.2280000000000002},null,"J",4,85.1,0.83099999999999996,2.4412455934195065E-3]
["K",3.7439024390243905E-3,7.0340100339589846E-6,4,null,null,-2.4266754769065302,1.3001789906820689E-2,null,null,null,{"$f":"'t-values'!A16","v":12},{"$f":"'t-values'!B16","v":2.2010000000000001},null,"K",4,61.5,0.92100000000000004,3.7439024390243905E-3]
["M",2.1899908031882283E-3,1.7691129586437396E-5,5,null,null,-2.6595577089649001,0.12034489928319683,null,null,null,{"$f":"'t-values'!A17","v":13},{"$f":"'t-values'!B17","v":2.1789999999999998},null,"M",5.6,93.2,1.143,2.1899908031882283E-3]
["N",3.9581689029202843E-3,5.9433776269902608E-6,6,null,null,-2.4025056775270044,8.0740274353938539E-3,null,null,null,{"$f":"'t-values'!A18","v":14},{"$f":"'t-values'!B18","v":2.16},null,"N",5.6,90.5,2.0059999999999998,3.9581689029202843E-3]
[null,null,"",7,null,null,"","",null,null,null,{"$f":"'t-values'!A19","v":15},{"$f":"'t-values'!B19","v":2.145}]
[null,null,"",8,null,null,"","",null,null,null,{"$f":"'t-values'!A20","v":16},{"$f":"'t-values'!B20","v":2.1309999999999998}]
[null,null,"",9,null,null,"","",null,null,null,{"$f":"'t-values'!A21","v":17},{"$f":"'t-values'!B21","v":2.12}]
[null,null,"",10,null,null,"","",null,null,null,{"$f":"'t-values'!A22","v":18},{"$f":"'t-values'!B22","v":2.11}]
[null,null,"",11,null,null,"","",null,null,null,{"$f":"'t-values'!A23","v":19},{"$f":"'t-values'!B23","v":2.101}]
[null,null,"",12,null,null,"","",null,null,null,{"$f":"'t-values'!A24","v":20},{"$f":"'t-values'!B24","v":2.093}]
[null,null,"",13,null,null,"","",null,null,null,{"$f":"'t-values'!A25","v":21},{"$f":"'t-values'!B25","v":2.0859999999999999}]
[null,null,"",14,null,null,"","",null,null,null,{"$f":"'t-values'!A26","v":22},{"$f":"'t-values'!B26","v":2.08}]
[null,null,"",15,null,null,"","",null,null,null,{"$f":"'t-values'!A27","v":23},{"$f":"'t-values'!B27","v":2.0739999999999998}]
[null,null,"",16,null,null,"","",null,null,null,{"$f":"'t-values'!A28","v":24},{"$f":"'t-values'!B28","v":2.069}]
[null,null,"",17,null,null,"","",null,null,null,{"$f":"'t-values'!A29","v":25},{"$f":"'t-values'!B29","v":2.0640000000000001}]
[null,null,"",18,null,null,"","",null,null,null,{"$f":"'t-values'!A30","v":26},{"$f":"'t-values'!B30","v":2.06}]
[null,null,"",19,null,null,"","",null,null,null,{"$f":"'t-values'!A31","v":27},{"$f":"'t-values'!B31","v":2.056}]
[null,null,"",20,null,null,"","",null,null,null,{"$f":"'t-values'!A32","v":28},{"$f":"'t-values'!B32","v":2.052}]
[null,null,"",21,null,null,"","",null,null,null,{"$f":"'t-values'!A33","v":29},{"$f":"'t-values'!B33","v":2.048}]
[null,null,"",22,null,null,"","",null,null,null,{"$f":"'t-values'!A34","v":30},{"$f":"'t-values'!B34","v":2.0449999999999999}]
[null,null,"",23,null,null,"","",null,null,null,{"$f":"'t-values'!A35","v":"∞"},{"$f":"'t-values'!B35","v":1.96}]
[null,null,"",24,null,null,"",""]
[null,null,"",25,null,null,"",""]
[null,null,"",26,null,null,"",""]
[null,null,"",27,null,null,"",""]
[null,null,"",28,null,null,"",""]
[null,null,"",29,null,null,"",""]
[null,null,"",30,null,null,"",""]
[null,null,"",31,null,null,"",""]
[null,null,"",32,null,null,"",""]
[null,null,"",33,null,null,"",""]
[null,null,"",34,null,null,"",""]
[null,null,"",35,null,null,"",""]
[null,null,"",36,null,null,"",""]
[null,null,"",37,null,null,"",""]
[null,null,"",38,null,null,"",""]
[null,null,"",39,null,null,"",""]
[null,null,"",40,null,null,"",""]
[null,null,"",41,null,null,"",""]
[null,null,"",42,null,null,"",""]
[null,null,"",43,null,null,"",""]
[null,null,"",44,null,null,"",""]
[null,null,"",45,null,null,"",""]
["NOTE: If there are more than 45 items, insert additional cellss in the middle of the data area.  The formulae should update correctly but check."]

{"sheet":"Middendorf 1992a-4","index":39,"n_rows":29,"n_cols":7,"rows_kept":29,"cut":false,"hidden":false,"merged":[[0,1,0,8],[1,1,1,8]]}
[null,"Middendorf 1992a"]
["Subgroup:","Gloves vs No Gloves"]
[]
[null,"Below are links from the previous two worksheets"]
[null,"Gloves","No Gloves"]
[null,{"$f":"'Middendorf 1992a-2'!B24","v":1.4848318713450294E-4},{"$f":"'Middendorf 1992a-3'!B24","v":1.4283727399165506E-2}]
[null,{"$f":"'Middendorf 1992a-2'!B25","v":6.4775910364145667E-4},{"$f":"'Middendorf 1992a-3'!B25","v":1.1759404388714733E-2}]
[null,{"$f":"'Middendorf 1992a-2'!B26","v":1.5580293276108725E-3},{"$f":"'Middendorf 1992a-3'!B26","v":2.4412455934195065E-3}]
[null,{"$f":"'Middendorf 1992a-2'!B27","v":5.0606641123882501E-3},{"$f":"'Middendorf 1992a-3'!B27","v":3.7439024390243905E-3}]
[null,{"$f":"'Middendorf 1992a-2'!B28","v":1.3616504854368934E-3},{"$f":"'Middendorf 1992a-3'!B28","v":2.1899908031882283E-3}]
[null,{"$f":"'Middendorf 1992a-2'!B29","v":3.8814016172506734E-3},{"$f":"'Middendorf 1992a-3'!B29","v":3.9581689029202843E-3}]
[null,{"$f":"'Middendorf 1992a-2'!B30","v":2.5804689052255116E-3}]
[null,{"$f":"'Middendorf 1992a-2'!B31","v":1.8502880985495729E-3}]
[null,{"$f":"'Middendorf 1992a-2'!B32","v":1.257189491683507E-3}]
[null,{"$f":"'Middendorf 1992a-2'!B33","v":3.5204081632653065E-4}]
[]
[null,"t-Test: Two-Sample Assuming Unequal Variances"]
[]
[null,null,"Gloves","No Gloves",null,"No Gloves/Gloves"]
[null,"Mean",1.869797514524777E-3,6.3960732544054407E-3,null,{"$f":"D20/C20","v":3.4207304292149785},"reduction in exposure"]
[null,"Variance",2.4693558706452771E-6,2.7457917567817627E-5]
[null,"Observations",10,6]
[null,"Hypothesized Mean Difference",0]
[null,"df",6]
[null,"t Stat",-2.0609662873958428]
[null,"P(T<=t) one-tail",4.2471385038261401E-2]
[null,"t Critical one-tail",1.943180274291977]
[null,"P(T<=t) two-tail",8.4942770076522803E-2]
[null,"t Critical two-tail",2.4469118464326822]

{"sheet":"Middendorf 1992a-5","index":40,"n_rows":34,"n_cols":17,"rows_kept":34,"cut":false,"hidden":false,"merged":[[0,1,0,8],[1,1,1,8],[3,1,3,3],[3,5,3,7]]}
[null,"Middendorf 1992a"]
["Subgroup:","Compasion Basal Bark (with gloves) to Middendorf 1992b foliar study"]
[]
[null,"Untransformed. Below are links from the previous two worksheets",null,null,null,"Log transformed."]
[null,"Basal with Gloves","Directed Foliar (Sites 1, 2, and 4)",null,null,"Basal with Gloves","Directed Foliar (Sites 1, 2, and 4)",null,null,null,null,"Untransformed"]
[null,{"$f":"'Middendorf 1992a-2'!B24","v":1.4848318713450294E-4},{"$f":"'Middendorf 1992b-1'!B24","v":4.2461750042977484E-3},null,null,{"$f":"LOG10(B6)","v":-3.828322719061148},{"$f":"LOG10(C6)","v":-2.3720021105387019},null,null,null,null,"t-Test: Two-Sample Assuming Unequal Variances"]
[null,{"$f":"'Middendorf 1992a-2'!B25","v":6.4775910364145667E-4},{"$f":"'Middendorf 1992b-1'!B25","v":2.5213454816342905E-3},null,null,{"$f":"LOG10(B7)","v":-3.1885864747011228},{"$f":"LOG10(C7)","v":-2.5983676420318429}]
[null,{"$f":"'Middendorf 1992a-2'!B26","v":1.5580293276108725E-3},{"$f":"'Middendorf 1992b-1'!B26","v":1.0486505071342618E-3},null,null,-2.807424371631559,-2.9793692287876006,null,null,null,null,null,"Basal with Gloves","Directed Foliar (Sites 1, 2, and 4)",null,null,"Factor"]
[null,{"$f":"'Middendorf 1992a-2'!B27","v":5.0606641123882501E-3},{"$f":"'Middendorf 1992b-1'!B27","v":3.8737035126926826E-3},null,null,-2.2957924868321355,-2.4118736225763944,null,null,null,null,"Mean",1.869797514524777E-3,1.4776999110498202E-2,null,null,{"$f":"N9/M9","v":7.902994305912256}]
[null,{"$f":"'Middendorf 1992a-2'!B28","v":1.3616504854368934E-3},{"$f":"'Middendorf 1992b-1'!B28","v":8.3605524038737038E-3},null,null,-2.8659343547769733,-2.0777650266245788,null,null,null,null,"Variance",2.4693558706452771E-6,3.3298268148562846E-4]
[null,{"$f":"'Middendorf 1992a-2'!B29","v":3.8814016172506734E-3},{"$f":"'Middendorf 1992b-1'!B29","v":4.441527185209496E-3},null,null,-2.4110114175197963,-2.3524676753651419,null,null,null,null,"Observations",10,22]
[null,{"$f":"'Middendorf 1992a-2'!B30","v":2.5804689052255116E-3},{"$f":"'Middendorf 1992b-1'!B30","v":4.8791160704518112E-3},null,null,-2.5883013698319055,-2.3116588502301942,null,null,null,null,"Hypothesized Mean Difference",0]
[null,{"$f":"'Middendorf 1992a-2'!B31","v":1.8502880985495729E-3},{"$f":"'Middendorf 1992b-1'!B31","v":4.2555519089815122E-3},null,null,-2.7327606446407904,-2.3710441076166284,null,null,null,null,"df",22]
[null,{"$f":"'Middendorf 1992a-2'!B32","v":1.257189491683507E-3},{"$f":"'Middendorf 1992b-1'!B32","v":3.6609780111585159E-2},null,null,-2.9005992577236115,-1.4364028796028172,null,null,null,null,"t Stat",-3.290928613807321]
[null,{"$f":"'Middendorf 1992a-2'!B33","v":3.5204081632653065E-4},{"$f":"'Middendorf 1992b-1'!B33","v":2.0457280385078216E-3},null,null,-3.4534069806192207,-2.6891521024058371,null,null,null,null,"P(T<=t) one-tail",1.6665042974132879E-3]
[null,null,{"$f":"'Middendorf 1992b-1'!B34","v":1.1519527404003938E-2},null,null,null,-1.9385653377568495,null,null,null,null,"t Critical one-tail",1.7171443354398259]
[null,null,{"$f":"'Middendorf 1992b-1'!B35","v":6.609936393329896E-2},null,null,null,-1.179802719660918,null,null,null,null,"P(T<=t) two-tail",3.3330085948265757E-3]
[null,null,{"$f":"'Middendorf 1992b-1'!B36","v":2.3044524669073408E-2},null,null,null,-1.6374322454794694,null,null,null,null,"t Critical two-tail",2.0738730583156064]
[null,null,{"$f":"'Middendorf 1992b-1'!B37","v":1.0374763623861099E-2},null,null,null,-1.9840217893649996]
[null,null,{"$f":"'Middendorf 1992b-1'!B38","v":7.73594636410521E-3},null,null,null,-2.1114865500230242]
[null,null,{"$f":"'Middendorf 1992b-1'!B39","v":5.9334708612686957E-2},null,null,null,-1.226691186074043,null,null,null,null,"Transformed"]
[null,null,{"$f":"'Middendorf 1992b-1'!B40","v":6.0469314079422383E-3},null,null,null,-2.2184649576915847,null,null,null,null,"t-Test: Two-Sample Assuming Unequal Variances"]
[null,null,{"$f":"'Middendorf 1992b-1'!B41","v":1.3807550028970004E-2},null,null,null,-1.8598833745199113]
[null,null,{"$f":"'Middendorf 1992b-1'!B42","v":1.7248295226634579E-2},null,null,null,-1.7632538229241868,null,null,null,null,null,"Basal with Gloves","Directed Foliar (Sites 1, 2, and 4)"]
[null,null,{"$f":"'Middendorf 1992b-1'!B43","v":2.1857118298582974E-3},null,null,null,-2.6604070971677118,null,null,null,null,"Mean",-2.9072140077338267,-2.096806684622043]
[null,null,{"$f":"'Middendorf 1992b-1'!B44","v":3.520969826625663E-3},null,null,null,-2.4533376966526568,null,null,null,null,"Variance",0.22109297292044042,0.23876855558038251]
[null,null,{"$f":"'Middendorf 1992b-1'!B45","v":3.189355727953163E-2},null,null,null,-1.4962970385898533,null,null,null,null,"Observations",10,22]
[null,null,null,null,null,null,null,null,null,null,null,"Hypothesized Mean Difference",0]
[null,null,null,null,null,null,null,null,null,null,null,"df",18]
[null,null,null,null,null,null,null,null,null,null,null,"t Stat",-4.4636882526469588]
[null,null,null,null,null,null,null,null,null,null,null,"P(T<=t) one-tail",1.5005458655633979E-4]
[null,null,null,null,null,null,null,null,null,null,null,"t Critical one-tail",1.7340635923093939]
[null,null,null,null,null,null,null,null,null,null,null,"P(T<=t) two-tail",3.0010917311267958E-4]
[null,null,null,null,null,null,null,null,null,null,null,"t Critical two-tail",2.1009220368611805]

{"sheet":"Middendorf 1992b-1","index":41,"n_rows":69,"n_cols":29,"rows_kept":69,"cut":false,"hidden":false,"merged":[[8,2,8,8],[0,1,0,8],[1,1,1,8],[2,2,2,8],[3,2,3,4],[3,6,3,8],[9,2,9,4],[9,6,9,8],[15,3,15,4],[15,7,15,8],[21,0,21,8]]}
[null,"Middendorf 1992b"]
["Subgroup:","All workers, all sites"]
[null,null,"Confidence Intervals"]
[null,null,"Arithmetic",null,null,null,"Geometric (Log10)"]
[null,null,"Mean","Lower Limit","Upper Limit",null,"Mean","Lower Limit","Upper Limit"]
[null,null,{"$f":"IF(C15>0,AVERAGE(B24:B68), \"\")","v":1.4776999110498202E-2},{"$f":"IF(C15>1, C6-C20, \"\")","v":6.6848697324054396E-3},{"$f":"IF(C15>1, C6+C20, \"\")","v":2.2869128488590962E-2},"Inverse log",{"$f":"IF(C15>0, 10^G7, \"\")","v":8.0019036056567707E-3},{"$f":"IF(C15>1,10^H7, \"\")","v":4.8585029596496772E-3},{"$f":"IF(C15>1, 10^I7, \"\")","v":1.3179051622691559E-2}]
[null,null,null,null,null,"Log",{"$f":"IF(C15>0, AVERAGE(G24:G68), \"\")","v":-2.096806684622043},{"$f":"IF(C15>1, G7-G20, \"\")","v":-2.3134975283752999},{"$f":"IF(C15>1, G7+G20, \"\")","v":-1.8801158408687861}]
[]
[null,null,"Prediction Intervals"]
[null,null,"Arithmetic",null,null,null,"Geometric (Log10)",null,null,null,null,null,null,null,null,null,null,"For ANOVA"]
[null,null,"Mean","Lower Limit","Upper Limit",null,"Mean","Lower Limit","Upper Limit",null,null,null,null,null,null,null,{"$f":"$O$35","v":"Site 3"},{"$f":"$O$24","v":"Site 1"},{"$f":"$O$29","v":"Site 2"},{"$f":"$O$40","v":"Site 4"}]
[null,null,{"$f":"IF(C15>0,AVERAGE(B24:B68), \"\")","v":1.4776999110498202E-2},{"$f":"IF(C15>1, C12-C21, \"\")","v":-2.4031490051684021E-2},{"$f":"IF(C15>1, C12+C21, \"\")","v":5.358548827268042E-2},"Inverse log",{"$f":"IF($C$15>0, 10^G13, \"\")","v":8.0019036056567707E-3},{"$f":"IF($C$15>0, 10^H13, \"\")","v":7.311063165362559E-4},8.7580232677482966E-2,null,null,null,null,null,null,null,{"$f":"U35","v":6.609936393329896E-2},{"$f":"U24","v":4.2461750042977484E-3},{"$f":"U29","v":4.441527185209496E-3},{"$f":"U40","v":6.0469314079422383E-3},null,null,"Anova: Single Factor for all four group."]
[null,null,null,null,null,"Log",{"$f":"IF(C15>0, AVERAGE(G24:G68), \"\")","v":-2.096806684622043},{"$f":"IF(C15>1, G13-G21, \"\")","v":-3.136019463907143},{"$f":"IF(C15>1, G13+G21, \"\")","v":-1.0575939053369432},null,null,{"$f":"'t-values'!A3","v":"95% Confidence Interval"},null,null,null,null,{"$f":"U36","v":2.3044524669073408E-2},{"$f":"U25","v":2.5213454816342905E-3},4.8791160704518112E-3,1.3807550028970004E-2]
[null,null,null,null,null,null,null,null,null,null,null,null,null,null,null,null,{"$f":"U37","v":1.0374763623861099E-2},{"$f":"U26","v":1.0486505071342618E-3},4.2555519089815122E-3,1.7248295226634579E-2,null,null,"SUMMARY"]
[null,"n:",{"$f":"COUNTA(B24:B68)","v":22},null,null,null,null,null,null,null,null,{"$f":"'t-values'!A4","v":"alpha = 0.025"},null,null,null,null,{"$f":"U38","v":7.73594636410521E-3},{"$f":"U27","v":3.8737035126926826E-3},3.6609780111585159E-2,2.1857118298582974E-3,null,null,"Groups","Count","Sum","Average","Variance"]
[null,"SSE:",{"$f":"IF(C15>0, SUM(C24:C68), \"\")","v":6.9926363111981965E-3},"Check",null,"SSE:",{"$f":"IF(C15>0, SUM(H24:H68), \"\")","v":5.0141396671880152},"Check",null,null,null,{"$f":"'t-values'!A5","v":"n"},{"$f":"'t-values'!B5","v":"t-value"},null,null,null,{"$f":"U39","v":5.9334708612686957E-2},{"$f":"U28","v":8.3605524038737038E-3},2.0457280385078216E-3,3.520969826625663E-3,null,null,"Site 1",5,2.0050426909632685E-2,4.0100853819265373E-3,7.4968361603637683E-6]
[null,"Variance (s2):",{"$f":"IF(C15>1, C16/(C15-1), \"\")","v":3.329826814856284E-4},{"$f":"IF(C15>1, VAR(B24:B68), \"\")","v":3.3298268148562846E-4},{"$f":"IF(C15>1, C17-D17, \"\")","v":-5.4210108624275222E-20},"Variance (s2):",{"$f":"IF(C15>1, G16/(C15-1), \"\")","v":0.23876855558038168},{"$f":"IF(C15>1, VAR(G24:G68), \"\")","v":0.23876855558038251},{"$f":"IF(C15>1, G17-H17, \"\")","v":-8.3266726846886741E-16},null,null,{"$f":"'t-values'!A6","v":2},{"$f":"'t-values'!B6","v":12.706},null,null,null,null,null,1.1519527404003938E-2,3.189355727953163E-2,null,null,"Site 2",6,6.375123071873974E-2,1.0625205119789956E-2,1.7228665420560379E-4]
[null,"Std Dev (s):",{"$f":"IF(C15>1, C17^0.5, \"\")","v":1.8247813060354067E-2},{"$f":"IF(C15>1, STDEV(B24:B68), \"\")","v":1.8247813060354067E-2},{"$f":"IF(C15>1, C18-D18, \"\")","v":0},"Std Dev (s):",{"$f":"IF(C15>1, G17^0.5, \"\")","v":0.48863949449505378},{"$f":"IF(C15>1, STDEV(G24:G31), \"\")","v":0.26220452708141911},{"$f":"IF(C15>1, G18-H18, \"\")","v":0.22643496741363467},null,null,{"$f":"'t-values'!A7","v":3},{"$f":"'t-values'!B7","v":4.3029999999999999},null,null,null,null,null,null,null,null,null,"Site 3",5,0.16658930720302562,3.3317861440605126E-2,7.594662018213E-4]
[null,"t-value:",{"$f":"IF(C15>1, IF(C15<31, OFFSET(M16, C15-1, 0), 1.96), \"\")","v":2.08},null,null,"t-value:",{"$f":"C19","v":2.08},null,null,null,null,{"$f":"'t-values'!A8","v":4},{"$f":"'t-values'!B8","v":3.1819999999999999},null,null,null,null,null,null,null,null,null,"Site 4",6,7.4703015599562411E-2,1.2450502599927069E-2,1.2580019524024497E-4]
[null,"Conf. Interval Factor:",{"$f":"IF(C15>1, C19*C18/(C15^0.5), \"\")","v":8.0921293780927619E-3},"t x s / n0.5",null,"Conf. Interval Factor:",{"$f":"IF(C15>1, G19*G18/(C15^0.5), \"\")","v":0.21669084375325676},"t x s / n0.5",null,null,null,{"$f":"'t-values'!A9","v":5},{"$f":"'t-values'!B9","v":2.7759999999999998}]
[null,"Pred. Interal Factor:",{"$f":"IF(C15>1, C19*C18*(1+(1/C15))^0.5, \"\")","v":3.8808489162182221E-2},"t x s x (1+ 1/n)0.5",null,"Pred. Interal Factor:",{"$f":"IF(C15>1, G19*G18*((1+(1/C15))^0.5), \"\")","v":1.0392127792850998},"t x s x (1+ 1/n)0.5",null,null,null,{"$f":"'t-values'!A10","v":6},{"$f":"'t-values'!B10","v":2.5710000000000002}]
["RAW DATA (only enter data under Identifier and Rate.  Everything else is a link.)",null,null,null,null,null,null,null,null,null,null,{"$f":"'t-values'!A11","v":7},{"$f":"'t-values'!B11","v":2.4470000000000001},null,"Site","Worker","Dose","Amount","Assumed","Dose","Rate",null,"ANOVA"]
["Identifier","Rate","(x - xbar)2","n",null,null,"Log Rate","(x - xbar)2",null,null,null,{"$f":"'t-values'!A12","v":8},{"$f":"'t-values'!B12","v":2.3650000000000002},null,"ID","ID","Ug","lb","BW (kg)","mg/kg bw","mg/kg per lb",null,"Source of Variation","SS","df","MS","F","P-value","F crit"]
[{"$f":"P24","v":"WT"},{"$f":"U24","v":4.2461750042977484E-3},{"$f":"IF(ISBLANK(B24)=FALSE, ($C$6-B24)^2, \"\")","v":1.1089825635573256E-4},1,null,null,{"$f":"IF(ISBLANK(B24)=FALSE,LOG10(B24), \"\")","v":-2.3720021105387019},{"$f":"IF(ISBLANK(B24)=FALSE, ($G$7-G24)^2, \"\")","v":7.5732522445451297E-2},null,null,null,{"$f":"'t-values'!A13","v":9},{"$f":"'t-values'!B13","v":2.306},null,"Site 1","WT",741,2.1,83.1,{"$f":"(Q24/1000)/S24","v":8.9169675090252712E-3},{"$f":"T24/R24","v":4.2461750042977484E-3},null,"Between Groups",2.434349912042299E-3,3,8.1144997068076635E-4,3.2042961308790399,4.8039325543042501E-2,3.159907597942186]
["MH",2.5213454816342905E-3,{"$f":"IF(ISBLANK(B25)=FALSE, ($C$6-B25)^2, \"\")","v":1.5020104587068513E-4},{"$f":"D24+1","v":2},null,null,{"$f":"IF(ISBLANK(B25)=FALSE,LOG10(B25), \"\")","v":-2.5983676420318429},{"$f":"IF(ISBLANK(B25)=FALSE, ($G$7-G25)^2, \"\")","v":0.25156339399783512},null,null,null,{"$f":"'t-values'!A14","v":10},{"$f":"'t-values'!B14","v":2.262},null,"Site 1","MH",440,2.1,83.1,{"$f":"(Q25/1000)/S25","v":5.29482551143201E-3},{"$f":"T25/R25","v":2.5213454816342905E-3},null,"Within Groups",4.5582863991558975E-3,18,2.5323813328643877E-4]
["JF",1.0486505071342618E-3,1.8846755537548464E-4,{"$f":"D25+1","v":3},null,null,-2.9793692287876006,0.77891664436398178,null,null,null,{"$f":"'t-values'!A15","v":11},{"$f":"'t-values'!B15","v":2.2280000000000002},null,"Site 1","JF",183,2.1,83.1,2.2021660649819497E-3,1.0486505071342618E-3]
["JDA",3.8737035126926826E-3,1.1888185489312521E-4,4,null,null,-2.4118736225763944,9.9267175391931098E-2,null,null,null,{"$f":"'t-values'!A16","v":12},{"$f":"'t-values'!B16","v":2.2010000000000001},null,"Site 1","JDA",676,2.1,83.1,8.1347773766546339E-3,3.8737035126926826E-3,null,"Total",6.9926363111981965E-3,21]
["CWH",8.3605524038737038E-3,4.1170788338952366E-5,5,null,null,-2.0777650266245788,3.6258473929239065E-4,null,null,null,{"$f":"'t-values'!A17","v":13},{"$f":"'t-values'!B17","v":2.1789999999999998},null,"Site 1","CWH",1459,2.1,83.1,1.755716004813478E-2,8.3605524038737038E-3]
["MEC",4.441527185209496E-3,1.0682197991843103E-4,6,null,null,-2.3524676753651419,6.53625421877429E-2,null,null,null,{"$f":"'t-values'!A18","v":14},{"$f":"'t-values'!B18","v":2.16},null,"Site 2","MEC",812,2.2000000000000002,83.1,9.7713598074608918E-3,4.441527185209496E-3,null,"Anova: Single Factor - Groups 1, 2, and 4."]
["TRH",4.8791160704518112E-3,9.7968088674437958E-5,7,null,null,-2.3116588502301942,4.6161453066512446E-2,null,null,null,{"$f":"'t-values'!A19","v":15},{"$f":"'t-values'!B19","v":2.145},null,"Site 2","TRH",892,2.2000000000000002,83.1,1.0734055354993985E-2,4.8791160704518112E-3]
["RVA",4.2555519089815122E-3,1.1070085121430336E-4,8,null,null,-2.3710441076166284,7.5206164170711173E-2,null,null,null,{"$f":"'t-values'!A20","v":16},{"$f":"'t-values'!B20","v":2.1309999999999998},null,"Site 2","RVA",778,2.2000000000000002,83.1,9.3622141997593278E-3,4.2555519089815122E-3,null,"SUMMARY"]
["LJK",3.6609780111585159E-2,4.7667032624142369E-4,9,null,null,-1.4364028796028172,0.4361331856838716,null,null,null,{"$f":"'t-values'!A21","v":17},{"$f":"'t-values'!B21","v":2.12},null,"Site 2","LJK",6693,2.2000000000000002,83.1,8.054151624548736E-2,3.6609780111585159E-2,null,"Groups","Count","Sum","Average","Variance"]
["WHS",2.0457280385078216E-3,1.6208526310849906E-4,10,null,null,-2.6891521024058371,0.35087309396945759,null,null,null,{"$f":"'t-values'!A22","v":18},{"$f":"'t-values'!B22","v":2.11},null,"Site 2","WHS",374,2.2000000000000002,83.1,4.5006016847172082E-3,2.0457280385078216E-3,null,"Site 1",5,2.0050426909632685E-2,4.0100853819265373E-3,7.4968361603637683E-6]
["SGG",1.1519527404003938E-2,1.0611121918610651E-5,11,null,null,-1.9385653377568495,2.5040323857710496E-2,null,null,null,{"$f":"'t-values'!A23","v":19},{"$f":"'t-values'!B23","v":2.101},null,"Site 2","SGG",2106,2.2000000000000002,83.1,2.5342960288808666E-2,1.1519527404003938E-2,null,"Site 2",6,6.375123071873974E-2,1.0625205119789956E-2,1.7228665420560379E-4]
["NM",6.609936393329896E-2,2.6339851310046569E-3,12,null,null,-1.179802719660918,0.84089627175442416,null,null,null,{"$f":"'t-values'!A24","v":20},{"$f":"'t-values'!B24","v":2.093},null,"Site 3","NM",7690,1.4,83.1,9.2539109506618547E-2,6.609936393329896E-2,null,"Site 4",6,7.4703015599562411E-2,1.2450502599927069E-2,1.2580019524024497E-4]
["RR",2.3044524669073408E-2,6.835197886169428E-5,13,null,null,-1.6374322454794694,0.21102487533755404,null,null,null,{"$f":"'t-values'!A25","v":21},{"$f":"'t-values'!B25","v":2.0859999999999999},null,"Site 3","RR",2681,1.4,83.1,3.2262334536702769E-2,2.3044524669073408E-2]
["RH",1.0374763623861099E-2,1.9379677279807011E-5,14,null,null,-1.9840217893649996,1.2720432598142246E-2,null,null,null,{"$f":"'t-values'!A26","v":22},{"$f":"'t-values'!B26","v":2.08},null,"Site 3","RH",1207,1.4,83.1,1.4524669073405537E-2,1.0374763623861099E-2]
["MD",7.73594636410521E-3,4.9576423777488288E-5,15,null,null,-2.1114865500230242,2.1549844819092513E-4,null,null,null,{"$f":"'t-values'!A27","v":23},{"$f":"'t-values'!B27","v":2.0739999999999998},null,"Site 3","MD",900,1.4,83.1,1.0830324909747294E-2,7.73594636410521E-3,null,"ANOVA"]
["JJ",5.9334708612686957E-2,1.9853894760814422E-3,16,null,null,-1.226691186074043,0.75710098081343458,null,null,null,{"$f":"'t-values'!A28","v":24},{"$f":"'t-values'!B28","v":2.069},null,"Site 3","JJ",6903,1.4,83.1,8.3068592057761736E-2,5.9334708612686957E-2,null,"Source of Variation","SS","df","MS","F","P-value","F crit"]
["G",6.0469314079422383E-3,7.6214082091210741E-5,17,null,null,-2.2184649576915847,1.4800735406263173E-2,null,null,null,{"$f":"'t-values'!A29","v":25},{"$f":"'t-values'!B29","v":2.0640000000000001},null,"Site 4","G",603,1.2,83.1,7.256317689530686E-3,6.0469314079422383E-3,null,"Between Groups",2.0999736181655953E-4,2,1.0499868090827977E-4,0.96682495208929387,0.40428660815108497,3.7388918324923361]
["H",1.3807550028970004E-2,9.3983152167586684E-7,18,null,null,-1.8598833745199113,5.613265486975088E-2,null,null,null,{"$f":"'t-values'!A30","v":26},{"$f":"'t-values'!B30","v":2.06},null,"Site 4","H",1549,1.35,83.1,1.8640192539109507E-2,1.3807550028970004E-2,null,"Within Groups",1.5204215918706993E-3,14,1.0860154227647852E-4]
["I",1.7248295226634579E-2,6.1073044936307457E-6,19,null,null,-1.7632538229241868,0.11125751154682922,null,null,null,{"$f":"'t-values'!A31","v":27},{"$f":"'t-values'!B31","v":2.056},null,"Site 4","I",1720,1.2,83.1,2.0697954271961493E-2,1.7248295226634579E-2]
["J",2.1857118298582974E-3,1.5854051538360421E-4,20,null,null,-2.6604070971677118,0.31764542502164811,null,null,null,{"$f":"'t-values'!A32","v":28},{"$f":"'t-values'!B32","v":2.052},null,"Site 4","J",267,1.47,83.1,3.2129963898916971E-3,2.1857118298582974E-3,null,"Total",1.7304189536872588E-3,16]
["K",3.520969826625663E-3,1.2669819523939614E-4,21,null,null,-2.4533376966526568,0.12711436253957367,null,null,null,{"$f":"'t-values'!A33","v":29},{"$f":"'t-values'!B33","v":2.048},null,"Site 4","K",474,1.62,83.1,5.7039711191335741E-3,3.520969826625663E-3]
["L",3.189355727953163E-2,2.9297656355390506E-4,22,null,null,-1.4962970385898533,0.36061183497770577,null,null,null,{"$f":"'t-values'!A34","v":30},{"$f":"'t-values'!B34","v":2.0449999999999999},null,"Site 4","L",3737,1.41,83.1,4.4969915764139598E-2,3.189355727953163E-2]
[null,null,"",23,null,null,"","",null,null,null,{"$f":"'t-values'!A35","v":"∞"},{"$f":"'t-values'!B35","v":1.96}]
[null,null,"",24,null,null,"",""]
[null,null,"",25,null,null,"",""]
[null,null,"",26,null,null,"",""]
[null,null,"",27,null,null,"",""]
[null,null,"",28,null,null,"",""]
[null,null,"",29,null,null,"",""]
[null,null,"",30,null,null,"",""]
[null,null,"",31,null,null,"",""]
[null,null,"",32,null,null,"",""]
[null,null,"",33,null,null,"",""]
[null,null,"",34,null,null,"",""]
[null,null,"",35,null,null,"",""]
[null,null,"",36,null,null,"",""]
[null,null,"",37,null,null,"",""]
[null,null,"",38,null,null,"",""]
[null,null,"",39,null,null,"",""]
[null,null,"",40,null,null,"",""]
[null,null,"",41,null,null,"",""]
[null,null,"",42,null,null,"",""]
[null,null,"",43,null,null,"",""]
[null,null,"",44,null,null,"",""]
[null,null,"",45,null,null,"",""]
["NOTE: If there are more than 45 items, insert additional cellss in the middle of the data area.  The formulae should update correctly but check."]

{"sheet":"Middendorf 1992b-2","index":42,"n_rows":69,"n_cols":21,"rows_kept":69,"cut":false,"hidden":false,"merged":[[8,2,8,8],[0,1,0,8],[1,1,1,8],[2,2,2,8],[3,2,3,4],[3,6,3,8],[9,2,9,4],[9,6,9,8],[15,3,15,4],[15,7,15,8],[21,0,21,8]]}
[null,"Middendorf 1992b"]
["Subgroup:","Sites 1, 2, and 4 (medium to low brush height)"]
[null,null,"Confidence Intervals"]
[null,null,"Arithmetic",null,null,null,"Geometric (Log10)"]
[null,null,"Mean","Lower Limit","Upper Limit",null,"Mean","Lower Limit","Upper Limit"]
[null,null,{"$f":"IF(C15>0,AVERAGE(B24:B68), \"\")","v":1.0839691852195556E-2},{"$f":"IF(C15>1, C6-C20, \"\")","v":4.889312673609438E-3},{"$f":"IF(C15>1, C6+C20, \"\")","v":1.6790071030781673E-2},"Inverse log",{"$f":"IF(C15>0, 10^G7, \"\")","v":6.4509981805711703E-3},{"$f":"IF(C15>1,10^H7, \"\")","v":3.8451372592348755E-3},{"$f":"IF(C15>1, 10^I7, \"\")","v":1.0822858774621061E-2}]
[null,null,null,null,null,"Log",{"$f":"IF(C15>0, AVERAGE(G24:G68), \"\")","v":-2.1903730805936283},{"$f":"IF(C15>1, G7-G20, \"\")","v":-2.4150881526468613},{"$f":"IF(C15>1, G7+G20, \"\")","v":-1.9656580085403954}]
[]
[null,null,"Prediction Intervals"]
[null,null,"Arithmetic",null,null,null,"Geometric (Log10)"]
[null,null,"Mean","Lower Limit","Upper Limit",null,"Mean","Lower Limit","Upper Limit"]
[null,null,{"$f":"IF(C15>0,AVERAGE(B24:B68), \"\")","v":1.0839691852195556E-2},{"$f":"IF(C15>1, C12-C21, \"\")","v":-1.5097409663009893E-2},{"$f":"IF(C15>1, C12+C21, \"\")","v":3.6776793367401001E-2},"Inverse log",{"$f":"IF($C$15>0, 10^G13, \"\")","v":6.4509981805711703E-3},{"$f":"IF($C$15>0, 10^H13, \"\")","v":6.7626456100430615E-4},6.1537126038262967E-2]
[null,null,null,null,null,"Log",{"$f":"IF(C15>0, AVERAGE(G24:G68), \"\")","v":-2.1903730805936283},{"$f":"IF(C15>1, G13-G21, \"\")","v":-3.169883370764131},{"$f":"IF(C15>1, G13+G21, \"\")","v":-1.2108627904231255},null,null,{"$f":"'t-values'!A3","v":"95% Confidence Interval"}]
[]
[null,"n:",{"$f":"COUNTA(B24:B68)","v":18},null,null,null,null,null,null,null,null,{"$f":"'t-values'!A4","v":"alpha = 0.025"}]
[null,"SSE:",{"$f":"IF(C15>0, SUM(C24:C68), \"\")","v":2.4335809584014436E-3},"Check",null,"SSE:",{"$f":"IF(C15>0, SUM(H24:H68), \"\")","v":3.4707307257281332},"Check",null,null,null,{"$f":"'t-values'!A5","v":"n"},{"$f":"'t-values'!B5","v":"t-value"}]
[null,"Variance (s2):",{"$f":"IF(C15>1, C16/(C15-1), \"\")","v":1.4315182108243785E-4},{"$f":"IF(C15>1, VAR(B24:B68), \"\")","v":1.431518210824378E-4},{"$f":"IF(C15>1, C17-D17, \"\")","v":5.4210108624275222E-20},"Variance (s2):",{"$f":"IF(C15>1, G16/(C15-1), \"\")","v":0.2041606309251843},{"$f":"IF(C15>1, VAR(G24:G68), \"\")","v":0.20416063092518505},{"$f":"IF(C15>1, G17-H17, \"\")","v":-7.4940054162198066E-16},null,null,{"$f":"'t-values'!A6","v":2},{"$f":"'t-values'!B6","v":12.706}]
[null,"Std Dev (s):",{"$f":"IF(C15>1, C17^0.5, \"\")","v":1.1964607017467722E-2},{"$f":"IF(C15>1, STDEV(B24:B68), \"\")","v":1.196460701746772E-2},{"$f":"IF(C15>1, C18-D18, \"\")","v":1.7347234759768071E-18},"Std Dev (s):",{"$f":"IF(C15>1, G17^0.5, \"\")","v":0.45184137805781388},{"$f":"IF(C15>1, STDEV(G24:G31), \"\")","v":0.26220452708141911},{"$f":"IF(C15>1, G18-H18, \"\")","v":0.18963685097639477},null,null,{"$f":"'t-values'!A7","v":3},{"$f":"'t-values'!B7","v":4.3029999999999999}]
[null,"t-value:",{"$f":"IF(C15>1, IF(C15<31, OFFSET(M16, C15-1, 0), 1.96), \"\")","v":2.11},null,null,"t-value:",{"$f":"C19","v":2.11},null,null,null,null,{"$f":"'t-values'!A8","v":4},{"$f":"'t-values'!B8","v":3.1819999999999999}]
[null,"Conf. Interval Factor:",{"$f":"IF(C15>1, C19*C18/(C15^0.5), \"\")","v":5.9503791785861177E-3},"t x s / n0.5",null,"Conf. Interval Factor:",{"$f":"IF(C15>1, G19*G18/(C15^0.5), \"\")","v":0.22471507205323282},"t x s / n0.5",null,null,null,{"$f":"'t-values'!A9","v":5},{"$f":"'t-values'!B9","v":2.7759999999999998}]
[null,"Pred. Interal Factor:",{"$f":"IF(C15>1, C19*C18*(1+(1/C15))^0.5, \"\")","v":2.5937101515205448E-2},"t x s x (1+ 1/n)0.5",null,"Pred. Interal Factor:",{"$f":"IF(C15>1, G19*G18*((1+(1/C15))^0.5), \"\")","v":0.97951029017050284},"t x s x (1+ 1/n)0.5",null,null,null,{"$f":"'t-values'!A10","v":6},{"$f":"'t-values'!B10","v":2.5710000000000002}]
["RAW DATA (only enter data under Identifier and Rate.  Everything else is a link.)",null,null,null,null,null,null,null,null,null,null,{"$f":"'t-values'!A11","v":7},{"$f":"'t-values'!B11","v":2.4470000000000001},null,"Site","Worker","Dose","Amount","Assumed","Dose","Rate"]
["Identifier","Rate","(x - xbar)2","n",null,null,"Log Rate","(x - xbar)2",null,null,null,{"$f":"'t-values'!A12","v":8},{"$f":"'t-values'!B12","v":2.3650000000000002},null,"ID","ID","Ug","lb","BW (kg)","mg/kg bw","mg/kg per lb"]
[{"$f":"P24","v":"WT"},{"$f":"U24","v":4.2461750042977484E-3},{"$f":"IF(ISBLANK(B24)=FALSE, ($C$6-B24)^2, \"\")","v":4.3474464423512239E-5},1,null,null,{"$f":"IF(ISBLANK(B24)=FALSE,LOG10(B24), \"\")","v":-2.3720021105387019},{"$f":"IF(ISBLANK(B24)=FALSE, ($G$7-G24)^2, \"\")","v":3.2989104518788434E-2},null,null,null,{"$f":"'t-values'!A13","v":9},{"$f":"'t-values'!B13","v":2.306},null,"Site 1","WT",741,2.1,83.1,{"$f":"(Q24/1000)/S24","v":8.9169675090252712E-3},{"$f":"T24/R24","v":4.2461750042977484E-3}]
["MH",2.5213454816342905E-3,{"$f":"IF(ISBLANK(B25)=FALSE, ($C$6-B25)^2, \"\")","v":6.9194886340629772E-5},{"$f":"D24+1","v":2},null,null,{"$f":"IF(ISBLANK(B25)=FALSE,LOG10(B25), \"\")","v":-2.5983676420318429},{"$f":"IF(ISBLANK(B25)=FALSE, ($G$7-G25)^2, \"\")","v":0.16645956216316102},null,null,null,{"$f":"'t-values'!A14","v":10},{"$f":"'t-values'!B14","v":2.262},null,"Site 1","MH",440,2.1,83.1,{"$f":"(Q25/1000)/S25","v":5.29482551143201E-3},{"$f":"T25/R25","v":2.5213454816342905E-3}]
["JF",1.0486505071342618E-3,9.5864490620699682E-5,{"$f":"D25+1","v":3},null,null,-2.9793692287876006,0.62251492186492463,null,null,null,{"$f":"'t-values'!A15","v":11},{"$f":"'t-values'!B15","v":2.2280000000000002},null,"Site 1","JF",183,2.1,83.1,2.2021660649819497E-3,1.0486505071342618E-3]
["JDA",3.8737035126926826E-3,4.8524993546089996E-5,4,null,null,-2.4118736225763944,4.9062490098659095E-2,null,null,null,{"$f":"'t-values'!A16","v":12},{"$f":"'t-values'!B16","v":2.2010000000000001},null,"Site 1","JDA",676,2.1,83.1,8.1347773766546339E-3,3.8737035126926826E-3]
["CWH",8.3605524038737038E-3,6.1461324042255756E-6,5,null,null,-2.0777650266245788,1.2680573818696363E-2,null,null,null,{"$f":"'t-values'!A17","v":13},{"$f":"'t-values'!B17","v":2.1789999999999998},null,"Site 1","CWH",1459,2.1,83.1,1.755716004813478E-2,8.3605524038737038E-3]
["MEC",4.441527185209496E-3,4.0936511105868839E-5,6,null,null,-2.3524676753651419,2.6274657654141189E-2,null,null,null,{"$f":"'t-values'!A18","v":14},{"$f":"'t-values'!B18","v":2.16},null,"Site 2","MEC",812,2.2000000000000002,83.1,9.7713598074608918E-3,4.441527185209496E-3]
["TRH",4.8791160704518112E-3,3.5528463649910053E-5,7,null,null,-2.3116588502301942,1.4710237916334131E-2,null,null,null,{"$f":"'t-values'!A19","v":15},{"$f":"'t-values'!B19","v":2.145},null,"Site 2","TRH",892,2.2000000000000002,83.1,1.0734055354993985E-2,4.8791160704518112E-3]
["RVA",4.2555519089815122E-3,4.3350898791826626E-5,8,null,null,-2.3710441076166284,3.2642020005545627E-2,null,null,null,{"$f":"'t-values'!A20","v":16},{"$f":"'t-values'!B20","v":2.1309999999999998},null,"Site 2","RVA",778,2.2000000000000002,83.1,9.3622141997593278E-3,4.2555519089815122E-3]
["LJK",3.6609780111585159E-2,6.640974488967299E-4,9,null,null,-1.4364028796028172,0.5684710639821241,null,null,null,{"$f":"'t-values'!A21","v":17},{"$f":"'t-values'!B21","v":2.12},null,"Site 2","LJK",6693,2.2000000000000002,83.1,8.054151624548736E-2,3.6609780111585159E-2]
["WHS",2.0457280385078216E-3,7.7333799556449315E-5,10,null,null,-2.6891521024058371,0.24878051259994385,null,null,null,{"$f":"'t-values'!A22","v":18},{"$f":"'t-values'!B22","v":2.11},null,"Site 2","WHS",374,2.2000000000000002,83.1,4.5006016847172082E-3,2.0457280385078216E-3]
["SGG",1.1519527404003938E-2,4.6217637750260745E-7,11,null,null,-1.9385653377568495,6.3407139352553363E-2,null,null,null,{"$f":"'t-values'!A23","v":19},{"$f":"'t-values'!B23","v":2.101},null,"Site 2","SGG",2106,2.2000000000000002,83.1,2.5342960288808666E-2,1.1519527404003938E-2]
["G",6.0469314079422383E-3,2.2970552675999257E-5,12,null,null,-2.2184649576915847,7.8915355888668466E-4,null,null,null,{"$f":"'t-values'!A24","v":20},{"$f":"'t-values'!B24","v":2.093},null,"Site 4","G",603,1.2,83.1,7.256317689530686E-3,6.0469314079422383E-3]
["H",1.3807550028970004E-2,8.808182157446949E-6,13,null,null,-1.8598833745199113,0.10922344582069191,null,null,null,{"$f":"'t-values'!A25","v":21},{"$f":"'t-values'!B25","v":2.0859999999999999},null,"Site 4","H",1549,1.35,83.1,1.8640192539109507E-2,1.3807550028970004E-2]
["I",1.7248295226634579E-2,4.1070197210871241E-5,14,null,null,-1.7632538229241868,0.18243086027209485,null,null,null,{"$f":"'t-values'!A26","v":22},{"$f":"'t-values'!B26","v":2.08},null,"Site 4","I",1720,1.2,83.1,2.0697954271961493E-2,1.7248295226634579E-2]
["J",2.1857118298582974E-3,7.4891370227012389E-5,15,null,null,-2.6604070971677118,0.22093197673676582,null,null,null,{"$f":"'t-values'!A27","v":23},{"$f":"'t-values'!B27","v":2.0739999999999998},null,"Site 4","J",267,1.47,83.1,3.2129963898916971E-3,2.1857118298582974E-3]
["K",3.520969826625663E-3,5.3563692087561877E-5,16,null,null,-2.4533376966526568,6.9150389299072232E-2,null,null,null,{"$f":"'t-values'!A28","v":24},{"$f":"'t-values'!B28","v":2.069},null,"Site 4","K",474,1.62,83.1,5.7039711191335741E-3,3.520969826625663E-3]
["L",3.189355727953163E-2,4.4326524943237724E-4,17,null,null,-1.4962970385898533,0.48174155208362607,null,null,null,{"$f":"'t-values'!A29","v":25},{"$f":"'t-values'!B29","v":2.0640000000000001},null,"Site 4","L",3737,1.41,83.1,4.4969915764139598E-2,3.189355727953163E-2]
[null,3.6609780111585159E-2,6.640974488967299E-4,18,null,null,-1.4364028796028172,0.5684710639821241,null,null,null,{"$f":"'t-values'!A30","v":26},{"$f":"'t-values'!B30","v":2.06},null,null,null,null,null,null,"Max:",{"$f":"MAX(U24:U40)","v":3.6609780111585159E-2}]
[null,null,"",19,null,null,"","",null,null,null,{"$f":"'t-values'!A31","v":27},{"$f":"'t-values'!B31","v":2.056}]
[null,null,"",20,null,null,"","",null,null,null,{"$f":"'t-values'!A32","v":28},{"$f":"'t-values'!B32","v":2.052}]
[null,null,"",21,null,null,"","",null,null,null,{"$f":"'t-values'!A33","v":29},{"$f":"'t-values'!B33","v":2.048}]
[null,null,"",22,null,null,"","",null,null,null,{"$f":"'t-values'!A34","v":30},{"$f":"'t-values'!B34","v":2.0449999999999999}]
[null,null,"",23,null,null,"","",null,null,null,{"$f":"'t-values'!A35","v":"∞"},{"$f":"'t-values'!B35","v":1.96}]
[null,null,"",24,null,null,"",""]
[null,null,"",25,null,null,"",""]
[null,null,"",26,null,null,"",""]
[null,null,"",27,null,null,"",""]
[null,null,"",28,null,null,"",""]
[null,null,"",29,null,null,"",""]
[null,null,"",30,null,null,"",""]
[null,null,"",31,null,null,"",""]
[null,null,"",32,null,null,"",""]
[null,null,"",33,null,null,"",""]
[null,null,"",34,null,null,"",""]
[null,null,"",35,null,null,"",""]
[null,null,"",36,null,null,"",""]
[null,null,"",37,null,null,"",""]
[null,null,"",38,null,null,"",""]
[null,null,"",39,null,null,"",""]
[null,null,"",40,null,null,"",""]
[null,null,"",41,null,null,"",""]
[null,null,"",42,null,null,"",""]
[null,null,"",43,null,null,"",""]
[null,null,"",44,null,null,"",""]
[null,null,"",45,null,null,"",""]
["NOTE: If there are more than 45 items, insert additional cellss in the middle of the data area.  The formulae should update correctly but check."]

{"sheet":"Middendorf 1992b-3","index":43,"n_rows":69,"n_cols":21,"rows_kept":69,"cut":false,"hidden":false,"merged":[[8,2,8,8],[0,1,0,8],[1,1,1,8],[2,2,2,8],[3,2,3,4],[3,6,3,8],[9,2,9,4],[9,6,9,8],[15,3,15,4],[15,7,15,8],[21,0,21,8]]}
[null,"Middendorf 1992b"]
["Subgroup:","Site 3, high bush height and poor PPE"]
[null,null,"Confidence Intervals"]
[null,null,"Arithmetic",null,null,null,"Geometric (Log10)"]
[null,null,"Mean","Lower Limit","Upper Limit",null,"Mean","Lower Limit","Upper Limit"]
[null,null,{"$f":"IF(C15>0,AVERAGE(B24:B68), \"\")","v":3.3317861440605126E-2},{"$f":"IF(C15>1, C6-C20, \"\")","v":-8.949438149901956E-4},{"$f":"IF(C15>1, C6+C20, \"\")","v":6.7530666696200448E-2},"Inverse log",{"$f":"IF(C15>0, 10^G7, \"\")","v":2.3556626814825551E-2},{"$f":"IF(C15>1,10^H7, \"\")","v":6.9900427167960671E-3},{"$f":"IF(C15>1, 10^I7, \"\")","v":7.9386448606326529E-2}]
[null,null,null,null,null,"Log",{"$f":"IF(C15>0, AVERAGE(G24:G68), \"\")","v":-1.6278868981204908},{"$f":"IF(C15>1, G7-G20, \"\")","v":-2.1555201702325544},{"$f":"IF(C15>1, G7+G20, \"\")","v":-1.1002536260084272}]
[]
[null,null,"Prediction Intervals"]
[null,null,"Arithmetic",null,null,null,"Geometric (Log10)"]
[null,null,"Mean","Lower Limit","Upper Limit",null,"Mean","Lower Limit","Upper Limit"]
[null,null,{"$f":"IF(C15>0,AVERAGE(B24:B68), \"\")","v":3.3317861440605126E-2},{"$f":"IF(C15>1, C12-C21, \"\")","v":-5.0486054104814021E-2},{"$f":"IF(C15>1, C12+C21, \"\")","v":0.11712177698602427},"Inverse log",{"$f":"IF($C$15>0, 10^G13, \"\")","v":2.3556626814825551E-2},{"$f":"IF($C$15>0, 10^H13, \"\")","v":1.2013811511748852E-3},0.46189726411995208]
[null,null,null,null,null,"Log",{"$f":"IF(C15>0, AVERAGE(G24:G68), \"\")","v":-1.6278868981204908},{"$f":"IF(C15>1, G13-G21, \"\")","v":-2.9203191861101159},{"$f":"IF(C15>1, G13+G21, \"\")","v":-0.33545461013086575},null,null,{"$f":"'t-values'!A3","v":"95% Confidence Interval"}]
[]
[null,"n:",{"$f":"COUNTA(B24:B68)","v":5},null,null,null,null,null,null,null,null,{"$f":"'t-values'!A4","v":"alpha = 0.025"}]
[null,"SSE:",{"$f":"IF(C15>0, SUM(C24:C68), \"\")","v":3.0378648072851983E-3},"Check",null,"SSE:",{"$f":"IF(C15>0, SUM(H24:H68), \"\")","v":0.72252922808843967},"Check",null,null,null,{"$f":"'t-values'!A5","v":"n"},{"$f":"'t-values'!B5","v":"t-value"}]
[null,"Variance (s2):",{"$f":"IF(C15>1, C16/(C15-1), \"\")","v":7.5946620182129956E-4},{"$f":"IF(C15>1, VAR(B24:B68), \"\")","v":7.594662018213E-4},{"$f":"IF(C15>1, C17-D17, \"\")","v":-4.3368086899420177E-19},"Variance (s2):",{"$f":"IF(C15>1, G16/(C15-1), \"\")","v":0.18063230702210992},{"$f":"IF(C15>1, VAR(G24:G68), \"\")","v":0.18063230702211008},{"$f":"IF(C15>1, G17-H17, \"\")","v":-1.6653345369377348E-16},null,null,{"$f":"'t-values'!A6","v":2},{"$f":"'t-values'!B6","v":12.706}]
[null,"Std Dev (s):",{"$f":"IF(C15>1, C17^0.5, \"\")","v":2.7558414356078247E-2},{"$f":"IF(C15>1, STDEV(B24:B68), \"\")","v":2.7558414356078254E-2},{"$f":"IF(C15>1, C18-D18, \"\")","v":-6.9388939039072284E-18},"Std Dev (s):",{"$f":"IF(C15>1, G17^0.5, \"\")","v":0.42500859640966077},{"$f":"IF(C15>1, STDEV(G24:G31), \"\")","v":0.42500859640966099},{"$f":"IF(C15>1, G18-H18, \"\")","v":-2.2204460492503131E-16},null,null,{"$f":"'t-values'!A7","v":3},{"$f":"'t-values'!B7","v":4.3029999999999999}]
[null,"t-value:",{"$f":"IF(C15>1, IF(C15<31, OFFSET(M16, C15-1, 0), 1.96), \"\")","v":2.7759999999999998},null,null,"t-value:",{"$f":"C19","v":2.7759999999999998},null,null,null,null,{"$f":"'t-values'!A8","v":4},{"$f":"'t-values'!B8","v":3.1819999999999999}]
[null,"Conf. Interval Factor:",{"$f":"IF(C15>1, C19*C18/(C15^0.5), \"\")","v":3.4212805255595322E-2},"t x s / n0.5",null,"Conf. Interval Factor:",{"$f":"IF(C15>1, G19*G18/(C15^0.5), \"\")","v":0.52763327211206357},"t x s / n0.5",null,null,null,{"$f":"'t-values'!A9","v":5},{"$f":"'t-values'!B9","v":2.7759999999999998}]
[null,"Pred. Interal Factor:",{"$f":"IF(C15>1, C19*C18*(1+(1/C15))^0.5, \"\")","v":8.3803915545419147E-2},"t x s x (1+ 1/n)0.5",null,"Pred. Interal Factor:",{"$f":"IF(C15>1, G19*G18*((1+(1/C15))^0.5), \"\")","v":1.2924322879896251},"t x s x (1+ 1/n)0.5",null,null,null,{"$f":"'t-values'!A10","v":6},{"$f":"'t-values'!B10","v":2.5710000000000002}]
["RAW DATA (only enter data under Identifier and Rate.  Everything else is a link.)",null,null,null,null,null,null,null,null,null,null,{"$f":"'t-values'!A11","v":7},{"$f":"'t-values'!B11","v":2.4470000000000001},null,"Site","Worker","Dose","Amount","Assumed","Dose","Rate"]
["Identifier","Rate","(x - xbar)2","n",null,null,"Log Rate","(x - xbar)2",null,null,null,{"$f":"'t-values'!A12","v":8},{"$f":"'t-values'!B12","v":2.3650000000000002},null,"ID","ID","Ug","lb","BW (kg)","mg/kg bw","mg/kg per lb"]
[{"$f":"P24","v":"NM"},{"$f":"U24","v":6.609936393329896E-2},{"$f":"IF(ISBLANK(B24)=FALSE, ($C$6-B24)^2, \"\")","v":1.074626905678492E-3},1,null,null,{"$f":"IF(ISBLANK(B24)=FALSE,LOG10(B24), \"\")","v":-1.179802719660918},{"$f":"IF(ISBLANK(B24)=FALSE, ($G$7-G24)^2, \"\")","v":0.20077943098579032},null,null,null,{"$f":"'t-values'!A13","v":9},{"$f":"'t-values'!B13","v":2.306},null,"Site 3","NM",7690,1.4,83.1,{"$f":"(Q24/1000)/S24","v":9.2539109506618547E-2},{"$f":"T24/R24","v":6.609936393329896E-2}]
["RR",2.3044524669073408E-2,{"$f":"IF(ISBLANK(B25)=FALSE, ($C$6-B25)^2, \"\")","v":1.0554144842130574E-4},{"$f":"D24+1","v":2},null,null,{"$f":"IF(ISBLANK(B25)=FALSE,LOG10(B25), \"\")","v":-1.6374322454794694},{"$f":"IF(ISBLANK(B25)=FALSE, ($G$7-G25)^2, \"\")","v":9.1113656203559853E-5},null,null,null,{"$f":"'t-values'!A14","v":10},{"$f":"'t-values'!B14","v":2.262},null,"Site 3","RR",2681,1.4,83.1,3.2262334536702769E-2,2.3044524669073408E-2]
["RH",1.0374763623861099E-2,5.2638573742868461E-4,{"$f":"D25+1","v":3},null,null,-1.9840217893649996,0.12683206076173811,null,null,null,{"$f":"'t-values'!A15","v":11},{"$f":"'t-values'!B15","v":2.2280000000000002},null,"Site 3","RH",1207,1.4,83.1,1.4524669073405537E-2,1.0374763623861099E-2]
["MD",7.73594636410521E-3,6.5443437898125357E-4,4,null,null,-2.1114865500230242,0.23386862332025149,null,null,null,{"$f":"'t-values'!A16","v":12},{"$f":"'t-values'!B16","v":2.2010000000000001},null,"Site 3","MD",900,1.4,83.1,1.0830324909747294E-2,7.73594636410521E-3]
["JJ",5.9334708612686957E-2,6.7687633677546231E-4,5,null,null,-1.226691186074043,0.16095799936445623,null,null,null,{"$f":"'t-values'!A17","v":13},{"$f":"'t-values'!B17","v":2.1789999999999998},null,"Site 3","JJ",6903,1.4,83.1,8.3068592057761736E-2,5.9334708612686957E-2]
[null,null,"",6,null,null,"","",null,null,null,{"$f":"'t-values'!A18","v":14},{"$f":"'t-values'!B18","v":2.16}]
[null,null,"",7,null,null,"","",null,null,null,{"$f":"'t-values'!A19","v":15},{"$f":"'t-values'!B19","v":2.145}]
[null,null,"",8,null,null,"","",null,null,null,{"$f":"'t-values'!A20","v":16},{"$f":"'t-values'!B20","v":2.1309999999999998}]
[null,null,"",9,null,null,"","",null,null,null,{"$f":"'t-values'!A21","v":17},{"$f":"'t-values'!B21","v":2.12}]
[null,null,"",10,null,null,"","",null,null,null,{"$f":"'t-values'!A22","v":18},{"$f":"'t-values'!B22","v":2.11}]
[null,null,"",11,null,null,"","",null,null,null,{"$f":"'t-values'!A23","v":19},{"$f":"'t-values'!B23","v":2.101}]
[null,null,"",12,null,null,"","",null,null,null,{"$f":"'t-values'!A24","v":20},{"$f":"'t-values'!B24","v":2.093}]
[null,null,"",13,null,null,"","",null,null,null,{"$f":"'t-values'!A25","v":21},{"$f":"'t-values'!B25","v":2.0859999999999999}]
[null,null,"",14,null,null,"","",null,null,null,{"$f":"'t-values'!A26","v":22},{"$f":"'t-values'!B26","v":2.08}]
[null,null,"",15,null,null,"","",null,null,null,{"$f":"'t-values'!A27","v":23},{"$f":"'t-values'!B27","v":2.0739999999999998}]
[null,null,"",16,null,null,"","",null,null,null,{"$f":"'t-values'!A28","v":24},{"$f":"'t-values'!B28","v":2.069}]
[null,null,"",17,null,null,"","",null,null,null,{"$f":"'t-values'!A29","v":25},{"$f":"'t-values'!B29","v":2.0640000000000001}]
[null,null,"",18,null,null,"","",null,null,null,{"$f":"'t-values'!A30","v":26},{"$f":"'t-values'!B30","v":2.06}]
[null,null,"",19,null,null,"","",null,null,null,{"$f":"'t-values'!A31","v":27},{"$f":"'t-values'!B31","v":2.056}]
[null,null,"",20,null,null,"","",null,null,null,{"$f":"'t-values'!A32","v":28},{"$f":"'t-values'!B32","v":2.052}]
[null,null,"",21,null,null,"","",null,null,null,{"$f":"'t-values'!A33","v":29},{"$f":"'t-values'!B33","v":2.048}]
[null,null,"",22,null,null,"","",null,null,null,{"$f":"'t-values'!A34","v":30},{"$f":"'t-values'!B34","v":2.0449999999999999}]
[null,null,"",23,null,null,"","",null,null,null,{"$f":"'t-values'!A35","v":"∞"},{"$f":"'t-values'!B35","v":1.96}]
[null,null,"",24,null,null,"",""]
[null,null,"",25,null,null,"",""]
[null,null,"",26,null,null,"",""]
[null,null,"",27,null,null,"",""]
[null,null,"",28,null,null,"",""]
[null,null,"",29,null,null,"",""]
[null,null,"",30,null,null,"",""]
[null,null,"",31,null,null,"",""]
[null,null,"",32,null,null,"",""]
[null,null,"",33,null,null,"",""]
[null,null,"",34,null,null,"",""]
[null,null,"",35,null,null,"",""]
[null,null,"",36,null,null,"",""]
[null,null,"",37,null,null,"",""]
[null,null,"",38,null,null,"",""]
[null,null,"",39,null,null,"",""]
[null,null,"",40,null,null,"",""]
[null,null,"",41,null,null,"",""]
[null,null,"",42,null,null,"",""]
[null,null,"",43,null,null,"",""]
[null,null,"",44,null,null,"",""]
[null,null,"",45,null,null,"",""]
["NOTE: If there are more than 45 items, insert additional cellss in the middle of the data area.  The formulae should update correctly but check."]

{"sheet":"Middendorf 1992b-4","index":44,"n_rows":69,"n_cols":21,"rows_kept":69,"cut":false,"hidden":false,"merged":[[8,2,8,8],[0,1,0,8],[1,1,1,8],[2,2,2,8],[3,2,3,4],[3,6,3,8],[9,2,9,4],[9,6,9,8],[15,3,15,4],[15,7,15,8],[21,0,21,8]]}
[null,"Middendorf 1992b"]
["Subgroup:","Site 1, low to medium bush, leather gloves"]
[null,null,"Confidence Intervals"]
[null,null,"Arithmetic",null,null,null,"Geometric (Log10)"]
[null,null,"Mean","Lower Limit","Upper Limit",null,"Mean","Lower Limit","Upper Limit"]
[null,null,{"$f":"IF(C15>0,AVERAGE(B24:B68), \"\")","v":4.0100853819265373E-3},{"$f":"IF(C15>1, C6-C20, \"\")","v":6.1091080874182448E-4},{"$f":"IF(C15>1, C6+C20, \"\")","v":7.4092599551112501E-3},"Inverse log",{"$f":"IF(C15>0, 10^G7, \"\")","v":3.2518048456831846E-3},{"$f":"IF(C15>1,10^H7, \"\")","v":1.2584354265159526E-3},{"$f":"IF(C15>1, 10^I7, \"\")","v":8.4026836273069488E-3}]
[null,null,null,null,null,"Log",{"$f":"IF(C15>0, AVERAGE(G24:G68), \"\")","v":-2.4878755261118237},{"$f":"IF(C15>1, G7-G20, \"\")","v":-2.9001690642850964},{"$f":"IF(C15>1, G7+G20, \"\")","v":-2.0755819879385511}]
[]
[null,null,"Prediction Intervals"]
[null,null,"Arithmetic",null,null,null,"Geometric (Log10)"]
[null,null,"Mean","Lower Limit","Upper Limit",null,"Mean","Lower Limit","Upper Limit"]
[null,null,{"$f":"IF(C15>0,AVERAGE(B24:B68), \"\")","v":4.0100853819265373E-3},{"$f":"IF(C15>1, C12-C21, \"\")","v":-4.3161578690188041E-3},{"$f":"IF(C15>1, C12+C21, \"\")","v":1.2336328632871879E-2},"Inverse log",{"$f":"IF($C$15>0, 10^G13, \"\")","v":3.2518048456831846E-3},{"$f":"IF($C$15>0, 10^H13, \"\")","v":3.1784521747844148E-4},{"$f":"IF($C$15>0, 10^I13, \"\")","v":3.3268503576354289E-2}]
[null,null,null,null,null,"Log",{"$f":"IF(C15>0, AVERAGE(G24:G68), \"\")","v":-2.4878755261118237},{"$f":"IF(C15>1, G13-G21, \"\")","v":-3.4977843188830393},{"$f":"IF(C15>1, G13+G21, \"\")","v":-1.4779667333406079},null,null,{"$f":"'t-values'!A3","v":"95% Confidence Interval"}]
[]
[null,"n:",{"$f":"COUNTA(B24:B68)","v":5},null,null,null,null,null,null,null,null,{"$f":"'t-values'!A4","v":"alpha = 0.025"}]
[null,"SSE:",{"$f":"IF(C15>0, SUM(C24:C68), \"\")","v":2.998734464145506E-5},"Check",null,"SSE:",{"$f":"IF(C15>0, SUM(H24:H68), \"\")","v":0.44116812701769548},"Check",null,null,null,{"$f":"'t-values'!A5","v":"n"},{"$f":"'t-values'!B5","v":"t-value"}]
[null,"Variance (s2):",{"$f":"IF(C15>1, C16/(C15-1), \"\")","v":7.4968361603637649E-6},{"$f":"IF(C15>1, VAR(B24:B68), \"\")","v":7.4968361603637683E-6},{"$f":"IF(C15>1, C17-D17, \"\")","v":-3.3881317890172014E-21},"Variance (s2):",{"$f":"IF(C15>1, G16/(C15-1), \"\")","v":0.11029203175442387},{"$f":"IF(C15>1, VAR(G24:G68), \"\")","v":0.11029203175442337},{"$f":"IF(C15>1, G17-H17, \"\")","v":4.9960036108132044E-16},null,null,{"$f":"'t-values'!A6","v":2},{"$f":"'t-values'!B6","v":12.706}]
[null,"Std Dev (s):",{"$f":"IF(C15>1, C17^0.5, \"\")","v":2.7380350911490824E-3},{"$f":"IF(C15>1, STDEV(B24:B68), \"\")","v":2.7380350911490833E-3},{"$f":"IF(C15>1, C18-D18, \"\")","v":-8.6736173798840355E-19},"Std Dev (s):",{"$f":"IF(C15>1, G17^0.5, \"\")","v":0.33210244165682351},{"$f":"IF(C15>1, STDEV(G24:G31), \"\")","v":0.33210244165682279},{"$f":"IF(C15>1, G18-H18, \"\")","v":7.2164496600635175E-16},null,null,{"$f":"'t-values'!A7","v":3},{"$f":"'t-values'!B7","v":4.3029999999999999}]
[null,"t-value:",{"$f":"IF(C15>1, IF(C15<31, OFFSET(M16, C15-1, 0), 1.96), \"\")","v":2.7759999999999998},null,null,"t-value:",{"$f":"C19","v":2.7759999999999998},null,null,null,null,{"$f":"'t-values'!A8","v":4},{"$f":"'t-values'!B8","v":3.1819999999999999}]
[null,"Conf. Interval Factor:",{"$f":"IF(C15>1, C19*C18/(C15^0.5), \"\")","v":3.3991745731847128E-3},"t x s / n0.5",null,"Conf. Interval Factor:",{"$f":"IF(C15>1, G19*G18/(C15^0.5), \"\")","v":0.41229353817327258},"t x s / n0.5",null,null,null,{"$f":"'t-values'!A9","v":5},{"$f":"'t-values'!B9","v":2.7759999999999998}]
[null,"Pred. Interal Factor:",{"$f":"IF(C15>1, C19*C18*(1+(1/C15))^0.5, \"\")","v":8.3262432509453414E-3},"t x s x (1+ 1/n)0.5",null,"Pred. Interal Factor:",{"$f":"IF(C15>1, G19*G18*((1+(1/C15))^0.5), \"\")","v":1.0099087927712158},"t x s x (1+ 1/n)0.5",null,null,null,{"$f":"'t-values'!A10","v":6},{"$f":"'t-values'!B10","v":2.5710000000000002}]
["RAW DATA (only enter data under Identifier and Rate.  Everything else is a link.)",null,null,null,null,null,null,null,null,null,null,{"$f":"'t-values'!A11","v":7},{"$f":"'t-values'!B11","v":2.4470000000000001},null,"Site","Worker","Dose","Amount","Assumed","Dose","Rate"]
["Identifier","Rate","(x - xbar)2","n",null,null,"Log Rate","(x - xbar)2",null,null,null,{"$f":"'t-values'!A12","v":8},{"$f":"'t-values'!B12","v":2.3650000000000002},null,"ID","ID","Ug","lb","BW (kg)","mg/kg bw","mg/kg per lb"]
[{"$f":"P24","v":"WT"},{"$f":"U24","v":4.2461750042977484E-3},{"$f":"IF(ISBLANK(B24)=FALSE, ($C$6-B24)^2, \"\")","v":5.5738309791381051E-8},1,null,null,{"$f":"IF(ISBLANK(B24)=FALSE,LOG10(B24), \"\")","v":-2.3720021105387019},{"$f":"IF(ISBLANK(B24)=FALSE, ($G$7-G24)^2, \"\")","v":1.3426648436581387E-2},null,null,null,{"$f":"'t-values'!A13","v":9},{"$f":"'t-values'!B13","v":2.306},null,"Site 1","WT",741,2.1,83.1,{"$f":"(Q24/1000)/S24","v":8.9169675090252712E-3},{"$f":"T24/R24","v":4.2461750042977484E-3}]
["MH",2.5213454816342905E-3,{"$f":"IF(ISBLANK(B25)=FALSE, ($C$6-B25)^2, \"\")","v":2.216346490722169E-6},{"$f":"D24+1","v":2},null,null,{"$f":"IF(ISBLANK(B25)=FALSE,LOG10(B25), \"\")","v":-2.5983676420318429},{"$f":"IF(ISBLANK(B25)=FALSE, ($G$7-G25)^2, \"\")","v":1.2208507680482955E-2},null,null,null,{"$f":"'t-values'!A14","v":10},{"$f":"'t-values'!B14","v":2.262},null,"Site 1","MH",440,2.1,83.1,{"$f":"(Q25/1000)/S25","v":5.29482551143201E-3},{"$f":"T25/R25","v":2.5213454816342905E-3}]
["JF",1.0486505071342618E-3,8.7700965176359422E-6,{"$f":"D25+1","v":3},null,null,-2.9793692287876006,0.24156605976994494,null,null,null,{"$f":"'t-values'!A15","v":11},{"$f":"'t-values'!B15","v":2.2280000000000002},null,"Site 1","JF",183,2.1,83.1,2.2021660649819497E-3,1.0486505071342618E-3]
["JDA",3.8737035126926826E-3,1.8600014255720242E-8,4,null,null,-2.4118736225763944,5.7762893410087078E-3,null,null,null,{"$f":"'t-values'!A16","v":12},{"$f":"'t-values'!B16","v":2.2010000000000001},null,"Site 1","JDA",676,2.1,83.1,8.1347773766546339E-3,3.8737035126926826E-3]
["CWH",8.3605524038737038E-3,1.8926563309049849E-5,5,null,null,-2.0777650266245788,0.16819062178967747,null,null,null,{"$f":"'t-values'!A17","v":13},{"$f":"'t-values'!B17","v":2.1789999999999998},null,"Site 1","CWH",1459,2.1,83.1,1.755716004813478E-2,8.3605524038737038E-3]
[null,null,null,6,null,null,"","",null,null,null,{"$f":"'t-values'!A18","v":14},{"$f":"'t-values'!B18","v":2.16}]
[null,null,null,7,null,null,"","",null,null,null,{"$f":"'t-values'!A19","v":15},{"$f":"'t-values'!B19","v":2.145}]
[null,null,null,8,null,null,"","",null,null,null,{"$f":"'t-values'!A20","v":16},{"$f":"'t-values'!B20","v":2.1309999999999998}]
[null,null,null,9,null,null,"","",null,null,null,{"$f":"'t-values'!A21","v":17},{"$f":"'t-values'!B21","v":2.12}]
[null,null,null,10,null,null,"","",null,null,null,{"$f":"'t-values'!A22","v":18},{"$f":"'t-values'!B22","v":2.11}]
[null,null,null,11,null,null,"","",null,null,null,{"$f":"'t-values'!A23","v":19},{"$f":"'t-values'!B23","v":2.101}]
[null,null,null,12,null,null,"","",null,null,null,{"$f":"'t-values'!A24","v":20},{"$f":"'t-values'!B24","v":2.093}]
[null,null,null,13,null,null,"","",null,null,null,{"$f":"'t-values'!A25","v":21},{"$f":"'t-values'!B25","v":2.0859999999999999}]
[null,null,null,14,null,null,"","",null,null,null,{"$f":"'t-values'!A26","v":22},{"$f":"'t-values'!B26","v":2.08}]
[null,null,null,15,null,null,"","",null,null,null,{"$f":"'t-values'!A27","v":23},{"$f":"'t-values'!B27","v":2.0739999999999998}]
[null,null,null,16,null,null,"","",null,null,null,{"$f":"'t-values'!A28","v":24},{"$f":"'t-values'!B28","v":2.069}]
[null,null,null,17,null,null,"","",null,null,null,{"$f":"'t-values'!A29","v":25},{"$f":"'t-values'!B29","v":2.0640000000000001}]
[null,null,null,18,null,null,"","",null,null,null,{"$f":"'t-values'!A30","v":26},{"$f":"'t-values'!B30","v":2.06}]
[null,null,null,19,null,null,"","",null,null,null,{"$f":"'t-values'!A31","v":27},{"$f":"'t-values'!B31","v":2.056}]
[null,null,null,20,null,null,"","",null,null,null,{"$f":"'t-values'!A32","v":28},{"$f":"'t-values'!B32","v":2.052}]
[null,null,null,21,null,null,"","",null,null,null,{"$f":"'t-values'!A33","v":29},{"$f":"'t-values'!B33","v":2.048}]
[null,null,null,22,null,null,"","",null,null,null,{"$f":"'t-values'!A34","v":30},{"$f":"'t-values'!B34","v":2.0449999999999999}]
[null,null,"",23,null,null,"","",null,null,null,{"$f":"'t-values'!A35","v":"∞"},{"$f":"'t-values'!B35","v":1.96}]
[null,null,"",24,null,null,"",""]
[null,null,"",25,null,null,"",""]
[null,null,"",26,null,null,"",""]
[null,null,"",27,null,null,"",""]
[null,null,"",28,null,null,"",""]
[null,null,"",29,null,null,"",""]
[null,null,"",30,null,null,"",""]
[null,null,"",31,null,null,"",""]
[null,null,"",32,null,null,"",""]
[null,null,"",33,null,null,"",""]
[null,null,"",34,null,null,"",""]
[null,null,"",35,null,null,"",""]
[null,null,"",36,null,null,"",""]
[null,null,"",37,null,null,"",""]
[null,null,"",38,null,null,"",""]
[null,null,"",39,null,null,"",""]
[null,null,"",40,null,null,"",""]
[null,null,"",41,null,null,"",""]
[null,null,"",42,null,null,"",""]
[null,null,"",43,null,null,"",""]
[null,null,"",44,null,null,"",""]
[null,null,"",45,null,null,"",""]
["NOTE: If there are more than 45 items, insert additional cellss in the middle of the data area.  The formulae should update correctly but check."]

{"sheet":"Middendorf 1992b-5","index":45,"n_rows":69,"n_cols":21,"rows_kept":69,"cut":false,"hidden":false,"merged":[[8,2,8,8],[0,1,0,8],[1,1,1,8],[2,2,2,8],[3,2,3,4],[3,6,3,8],[9,2,9,4],[9,6,9,8],[15,3,15,4],[15,7,15,8],[21,0,21,8]]}
[null,"Middendorf 1992b"]
["Subgroup:","Sites 2 and 4, low to medium bush height, latex or nitrile gloves"]
[null,null,"Confidence Intervals"]
[null,null,"Arithmetic",null,null,null,"Geometric (Log10)"]
[null,null,"Mean","Lower Limit","Upper Limit",null,"Mean","Lower Limit","Upper Limit"]
[null,null,{"$f":"IF(C15>0,AVERAGE(B24:B68), \"\")","v":1.1537853859858513E-2},{"$f":"IF(C15>1, C6-C20, \"\")","v":4.1172225114285803E-3},{"$f":"IF(C15>1, C6+C20, \"\")","v":1.8958485208288446E-2},"Inverse log",{"$f":"IF(C15>0, 10^G7, \"\")","v":7.4260081516590581E-3},{"$f":"IF(C15>1,10^H7, \"\")","v":3.9959257320094956E-3},{"$f":"IF(C15>1, 10^I7, \"\")","v":1.3800455956115799E-2}]
[null,null,null,null,null,"Log",{"$f":"IF(C15>0, AVERAGE(G24:G68), \"\")","v":-2.1292445783769476},{"$f":"IF(C15>1, G7-G20, \"\")","v":-2.3983825921372945},{"$f":"IF(C15>1, G7+G20, \"\")","v":-1.8601065646166006}]
[]
[null,null,"Prediction Intervals"]
[null,null,"Arithmetic",null,null,null,"Geometric (Log10)"]
[null,null,"Mean","Lower Limit","Upper Limit",null,"Mean","Lower Limit","Upper Limit"]
[null,null,{"$f":"IF(C15>0,AVERAGE(B24:B68), \"\")","v":1.1537853859858513E-2},{"$f":"IF(C15>1, C12-C21, \"\")","v":-1.5217612963221093E-2},{"$f":"IF(C15>1, C12+C21, \"\")","v":3.8293320682938121E-2},"Inverse log",{"$f":"IF($C$15>0, 10^G13, \"\")","v":7.4260081516590581E-3},{"$f":"IF($C$15>0, 10^H13, \"\")","v":7.9499521160637581E-4},6.9365948704369046E-2]
[null,null,null,null,null,"Log",{"$f":"IF(C15>0, AVERAGE(G24:G68), \"\")","v":-2.1292445783769476},{"$f":"IF(C15>1, G13-G21, \"\")","v":-3.0996354871664114},{"$f":"IF(C15>1, G13+G21, \"\")","v":-1.1588536695874836},null,null,{"$f":"'t-values'!A3","v":"95% Confidence Interval"}]
[]
[null,"n:",{"$f":"COUNTA(B24:B68)","v":12},null,null,null,null,null,null,null,null,{"$f":"'t-values'!A4","v":"alpha = 0.025"}]
[null,"SSE:",{"$f":"IF(C15>0, SUM(C24:C68), \"\")","v":1.5004293799022286E-3},"Check",null,"SSE:",{"$f":"IF(C15>0, SUM(H24:H68), \"\")","v":1.9737126838827228},"Check",null,null,null,{"$f":"'t-values'!A5","v":"n"},{"$f":"'t-values'!B5","v":"t-value"}]
[null,"Variance (s2):",{"$f":"IF(C15>1, C16/(C15-1), \"\")","v":1.3640267090020259E-4},{"$f":"IF(C15>1, VAR(B24:B68), \"\")","v":1.3640267090020257E-4},{"$f":"IF(C15>1, C17-D17, \"\")","v":2.7105054312137611E-20},"Variance (s2):",{"$f":"IF(C15>1, G16/(C15-1), \"\")","v":0.17942842580752025},{"$f":"IF(C15>1, VAR(G24:G68), \"\")","v":0.17942842580752097},{"$f":"IF(C15>1, G17-H17, \"\")","v":-7.2164496600635175E-16},null,null,{"$f":"'t-values'!A6","v":2},{"$f":"'t-values'!B6","v":12.706}]
[null,"Std Dev (s):",{"$f":"IF(C15>1, C17^0.5, \"\")","v":1.1679155401834613E-2},{"$f":"IF(C15>1, STDEV(B24:B68), \"\")","v":1.1679155401834611E-2},{"$f":"IF(C15>1, C18-D18, \"\")","v":1.7347234759768071E-18},"Std Dev (s):",{"$f":"IF(C15>1, G17^0.5, \"\")","v":0.42358992647077937},{"$f":"IF(C15>1, STDEV(G24:G31), \"\")","v":0.38718587336225208},{"$f":"IF(C15>1, G18-H18, \"\")","v":3.640405310852729E-2},null,null,{"$f":"'t-values'!A7","v":3},{"$f":"'t-values'!B7","v":4.3029999999999999}]
[null,"t-value:",{"$f":"IF(C15>1, IF(C15<31, OFFSET(M16, C15-1, 0), 1.96), \"\")","v":2.2010000000000001},null,null,"t-value:",{"$f":"C19","v":2.2010000000000001},null,null,null,null,{"$f":"'t-values'!A8","v":4},{"$f":"'t-values'!B8","v":3.1819999999999999}]
[null,"Conf. Interval Factor:",{"$f":"IF(C15>1, C19*C18/(C15^0.5), \"\")","v":7.4206313484299329E-3},"t x s / n0.5",null,"Conf. Interval Factor:",{"$f":"IF(C15>1, G19*G18/(C15^0.5), \"\")","v":0.26913801376034707},"t x s / n0.5",null,null,null,{"$f":"'t-values'!A9","v":5},{"$f":"'t-values'!B9","v":2.7759999999999998}]
[null,"Pred. Interal Factor:",{"$f":"IF(C15>1, C19*C18*(1+(1/C15))^0.5, \"\")","v":2.6755466823079607E-2},"t x s x (1+ 1/n)0.5",null,"Pred. Interal Factor:",{"$f":"IF(C15>1, G19*G18*((1+(1/C15))^0.5), \"\")","v":0.97039090878946399},"t x s x (1+ 1/n)0.5",null,null,null,{"$f":"'t-values'!A10","v":6},{"$f":"'t-values'!B10","v":2.5710000000000002}]
["RAW DATA (only enter data under Identifier and Rate.  Everything else is a link.)",null,null,null,null,null,null,null,null,null,null,{"$f":"'t-values'!A11","v":7},{"$f":"'t-values'!B11","v":2.4470000000000001},null,"Site","Worker","Dose","Amount","Assumed","Dose","Rate"]
["Identifier","Rate","(x - xbar)2","n",null,null,"Log Rate","(x - xbar)2",null,null,null,{"$f":"'t-values'!A12","v":8},{"$f":"'t-values'!B12","v":2.3650000000000002},null,"ID","ID","Ug","lb","BW (kg)","mg/kg bw","mg/kg per lb"]
[{"$f":"P24","v":"MEC"},{"$f":"U24","v":4.441527185209496E-3},{"$f":"IF(ISBLANK(B24)=FALSE, ($C$6-B24)^2, \"\")","v":5.0357852273335177E-5},1,null,null,{"$f":"IF(ISBLANK(B24)=FALSE,LOG10(B24), \"\")","v":-2.3524676753651419},{"$f":"IF(ISBLANK(B24)=FALSE, ($G$7-G24)^2, \"\")","v":4.9828551029000807E-2},null,null,null,{"$f":"'t-values'!A13","v":9},{"$f":"'t-values'!B13","v":2.306},null,"Site 2","MEC",812,2.2000000000000002,83.1,{"$f":"(Q24/1000)/S24","v":9.7713598074608918E-3},{"$f":"T24/R24","v":4.441527185209496E-3}]
["TRH",4.8791160704518112E-3,{"$f":"IF(ISBLANK(B25)=FALSE, ($C$6-B25)^2, \"\")","v":4.4338788948072855E-5},{"$f":"D24+1","v":2},null,null,{"$f":"IF(ISBLANK(B25)=FALSE,LOG10(B25), \"\")","v":-2.3116588502301942},{"$f":"IF(ISBLANK(B25)=FALSE, ($G$7-G25)^2, \"\")","v":3.3274966575750173E-2},null,null,null,{"$f":"'t-values'!A14","v":10},{"$f":"'t-values'!B14","v":2.262},null,"Site 2","TRH",892,2.2000000000000002,83.1,1.0734055354993985E-2,4.8791160704518112E-3]
["RVA",4.2555519089815122E-3,5.3031921703746977E-5,{"$f":"D25+1","v":3},null,null,-2.3710441076166284,5.8467012340531269E-2,null,null,null,{"$f":"'t-values'!A15","v":11},{"$f":"'t-values'!B15","v":2.2280000000000002},null,"Site 2","RVA",778,2.2000000000000002,83.1,9.3622141997593278E-3,4.2555519089815122E-3]
["LJK",3.6609780111585159E-2,6.286014859720198E-4,4,null,null,-1.4364028796028172,0.48002961956022283,null,null,null,{"$f":"'t-values'!A16","v":12},{"$f":"'t-values'!B16","v":2.2010000000000001},null,"Site 2","LJK",6693,2.2000000000000002,83.1,8.054151624548736E-2,3.6609780111585159E-2]
["WHS",2.0457280385078216E-3,9.0100452608352538E-5,5,null,null,-2.6891521024058371,0.3134964354641615,null,null,null,{"$f":"'t-values'!A17","v":13},{"$f":"'t-values'!B17","v":2.1789999999999998},null,"Site 2","WHS",374,2.2000000000000002,83.1,4.5006016847172082E-3,2.0457280385078216E-3]
["SGG",1.1519527404003938E-2,3.3585898418970002E-10,6,null,null,-1.9385653377568495,3.6358572803457272E-2,null,null,null,{"$f":"'t-values'!A18","v":14},{"$f":"'t-values'!B18","v":2.16},null,"Site 2","SGG",2106,2.2000000000000002,83.1,2.5342960288808666E-2,1.1519527404003938E-2]
["G",6.0469314079422383E-3,3.0150229372958237E-5,7,null,null,-2.2184649576915847,7.9602760850477263E-3,null,null,null,{"$f":"'t-values'!A19","v":15},{"$f":"'t-values'!B19","v":2.145},null,"Site 4","G",603,1.2,83.1,7.256317689530686E-3,6.0469314079422383E-3]
["H",1.3807550028970004E-2,5.1515207000793745E-6,8,null,null,-1.8598833745199113,7.2555458143311879E-2,null,null,null,{"$f":"'t-values'!A20","v":16},{"$f":"'t-values'!B20","v":2.1309999999999998},null,"Site 4","H",1549,1.35,83.1,1.8640192539109507E-2,1.3807550028970004E-2]
["I",1.7248295226634579E-2,3.260914060338731E-5,9,null,null,-1.7632538229241868,0.13394923307688258,null,null,null,{"$f":"'t-values'!A21","v":17},{"$f":"'t-values'!B21","v":2.12},null,"Site 4","I",1720,1.2,83.1,2.0697954271961493E-2,1.7248295226634579E-2]
["J",2.1857118298582974E-3,8.7462560549296539E-5,10,null,null,-2.6604070971677118,0.28213362136814901,null,null,null,{"$f":"'t-values'!A22","v":18},{"$f":"'t-values'!B22","v":2.11},null,"Site 4","J",267,1.47,83.1,3.2129963898916971E-3,2.1857118298582974E-3]
["K",3.520969826625663E-3,6.4270429602303824E-5,11,null,null,-2.4533376966526568,0.10503634931367282,null,null,null,{"$f":"'t-values'!A23","v":19},{"$f":"'t-values'!B23","v":2.101},null,"Site 4","K",474,1.62,83.1,5.7039711191335741E-3,3.520969826625663E-3]
["L",3.189355727953163E-2,4.1435466170969189E-4,12,null,null,-1.4962970385898533,0.40062258812253532,null,null,null,{"$f":"'t-values'!A24","v":20},{"$f":"'t-values'!B24","v":2.093},null,"Site 4","L",3737,1.41,83.1,4.4969915764139598E-2,3.189355727953163E-2]
[null,null,"",13,null,null,"","",null,null,null,{"$f":"'t-values'!A25","v":21},{"$f":"'t-values'!B25","v":2.0859999999999999}]
[null,null,"",14,null,null,"","",null,null,null,{"$f":"'t-values'!A26","v":22},{"$f":"'t-values'!B26","v":2.08}]
[null,null,"",15,null,null,"","",null,null,null,{"$f":"'t-values'!A27","v":23},{"$f":"'t-values'!B27","v":2.0739999999999998}]
[null,null,"",16,null,null,"","",null,null,null,{"$f":"'t-values'!A28","v":24},{"$f":"'t-values'!B28","v":2.069}]
[null,null,"",17,null,null,"","",null,null,null,{"$f":"'t-values'!A29","v":25},{"$f":"'t-values'!B29","v":2.0640000000000001}]
[null,null,"",18,null,null,"","",null,null,null,{"$f":"'t-values'!A30","v":26},{"$f":"'t-values'!B30","v":2.06}]
[null,null,"",19,null,null,"","",null,null,null,{"$f":"'t-values'!A31","v":27},{"$f":"'t-values'!B31","v":2.056}]
[null,null,"",20,null,null,"","",null,null,null,{"$f":"'t-values'!A32","v":28},{"$f":"'t-values'!B32","v":2.052}]
[null,null,"",21,null,null,"","",null,null,null,{"$f":"'t-values'!A33","v":29},{"$f":"'t-values'!B33","v":2.048}]
[null,null,"",22,null,null,"","",null,null,null,{"$f":"'t-values'!A34","v":30},{"$f":"'t-values'!B34","v":2.0449999999999999}]
[null,null,"",23,null,null,"","",null,null,null,{"$f":"'t-values'!A35","v":"∞"},{"$f":"'t-values'!B35","v":1.96}]
[null,null,"",24,null,null,"",""]
[null,null,"",25,null,null,"",""]
[null,null,"",26,null,null,"",""]
[null,null,"",27,null,null,"",""]
[null,null,"",28,null,null,"",""]
[null,null,"",29,null,null,"",""]
[null,null,"",30,null,null,"",""]
[null,null,"",31,null,null,"",""]
[null,null,"",32,null,null,"",""]
[null,null,"",33,null,null,"",""]
[null,null,"",34,null,null,"",""]
[null,null,"",35,null,null,"",""]
[null,null,"",36,null,null,"",""]
[null,null,"",37,null,null,"",""]
[null,null,"",38,null,null,"",""]
[null,null,"",39,null,null,"",""]
[null,null,"",40,null,null,"",""]
[null,null,"",41,null,null,"",""]
[null,null,"",42,null,null,"",""]
[null,null,"",43,null,null,"",""]
[null,null,"",44,null,null,"",""]
[null,null,"",45,null,null,"",""]
["NOTE: If there are more than 45 items, insert additional cellss in the middle of the data area.  The formulae should update correctly but check."]

{"sheet":"Middendorf 1992b-6","index":46,"n_rows":38,"n_cols":13,"rows_kept":38,"cut":false,"hidden":false,"merged":[[0,1,0,8],[1,1,1,8]]}
[null,"Middendorf 1992b"]
["Subgroup:","ANOVA on groups with leather, nitrile, and latex gloves"]
[null,null,null,null,null,null,"Below is a link from Worksheet Middendorf 1992b-2"]
[null,"Site 1","Site 2","Site 4",null,null,{"$f":"'Middendorf 1992b-2'!O22","v":"Site"},{"$f":"'Middendorf 1992b-2'!P22","v":"Worker"},{"$f":"'Middendorf 1992b-2'!Q22","v":"Dose"},{"$f":"'Middendorf 1992b-2'!R22","v":"Amount"},{"$f":"'Middendorf 1992b-2'!S22","v":"Assumed"},{"$f":"'Middendorf 1992b-2'!T22","v":"Dose"},{"$f":"'Middendorf 1992b-2'!U22","v":"Rate"}]
[null,"Leather","Latex","Nitrile",null,null,{"$f":"'Middendorf 1992b-2'!O23","v":"ID"},{"$f":"'Middendorf 1992b-2'!P23","v":"ID"},{"$f":"'Middendorf 1992b-2'!Q23","v":"Ug"},{"$f":"'Middendorf 1992b-2'!R23","v":"lb"},{"$f":"'Middendorf 1992b-2'!S23","v":"BW (kg)"},{"$f":"'Middendorf 1992b-2'!T23","v":"mg/kg bw"},{"$f":"'Middendorf 1992b-2'!U23","v":"mg/kg per lb"}]
[null,{"$f":"M6","v":4.2461750042977484E-3},{"$f":"M11","v":4.441527185209496E-3},{"$f":"M17","v":6.0469314079422383E-3},null,null,{"$f":"'Middendorf 1992b-2'!O24","v":"Site 1"},{"$f":"'Middendorf 1992b-2'!P24","v":"WT"},{"$f":"'Middendorf 1992b-2'!Q24","v":741},{"$f":"'Middendorf 1992b-2'!R24","v":2.1},{"$f":"'Middendorf 1992b-2'!S24","v":83.1},{"$f":"'Middendorf 1992b-2'!T24","v":8.9169675090252712E-3},{"$f":"'Middendorf 1992b-2'!U24","v":4.2461750042977484E-3}]
[null,2.5213454816342905E-3,4.8791160704518112E-3,1.3807550028970004E-2,null,null,{"$f":"'Middendorf 1992b-2'!O25","v":"Site 1"},{"$f":"'Middendorf 1992b-2'!P25","v":"MH"},{"$f":"'Middendorf 1992b-2'!Q25","v":440},{"$f":"'Middendorf 1992b-2'!R25","v":2.1},{"$f":"'Middendorf 1992b-2'!S25","v":83.1},{"$f":"'Middendorf 1992b-2'!T25","v":5.29482551143201E-3},{"$f":"'Middendorf 1992b-2'!U25","v":2.5213454816342905E-3}]
[null,1.0486505071342618E-3,4.2555519089815122E-3,1.7248295226634579E-2,null,null,{"$f":"'Middendorf 1992b-2'!O26","v":"Site 1"},{"$f":"'Middendorf 1992b-2'!P26","v":"JF"},{"$f":"'Middendorf 1992b-2'!Q26","v":183},{"$f":"'Middendorf 1992b-2'!R26","v":2.1},{"$f":"'Middendorf 1992b-2'!S26","v":83.1},{"$f":"'Middendorf 1992b-2'!T26","v":2.2021660649819497E-3},{"$f":"'Middendorf 1992b-2'!U26","v":1.0486505071342618E-3}]
[null,3.8737035126926826E-3,3.6609780111585159E-2,2.1857118298582974E-3,null,null,{"$f":"'Middendorf 1992b-2'!O27","v":"Site 1"},{"$f":"'Middendorf 1992b-2'!P27","v":"JDA"},{"$f":"'Middendorf 1992b-2'!Q27","v":676},{"$f":"'Middendorf 1992b-2'!R27","v":2.1},{"$f":"'Middendorf 1992b-2'!S27","v":83.1},{"$f":"'Middendorf 1992b-2'!T27","v":8.1347773766546339E-3},{"$f":"'Middendorf 1992b-2'!U27","v":3.8737035126926826E-3}]
[null,8.3605524038737038E-3,2.0457280385078216E-3,3.520969826625663E-3,null,null,{"$f":"'Middendorf 1992b-2'!O28","v":"Site 1"},{"$f":"'Middendorf 1992b-2'!P28","v":"CWH"},{"$f":"'Middendorf 1992b-2'!Q28","v":1459},{"$f":"'Middendorf 1992b-2'!R28","v":2.1},{"$f":"'Middendorf 1992b-2'!S28","v":83.1},{"$f":"'Middendorf 1992b-2'!T28","v":1.755716004813478E-2},{"$f":"'Middendorf 1992b-2'!U28","v":8.3605524038737038E-3}]
[null,null,1.1519527404003938E-2,3.189355727953163E-2,null,null,{"$f":"'Middendorf 1992b-2'!O29","v":"Site 2"},{"$f":"'Middendorf 1992b-2'!P29","v":"MEC"},{"$f":"'Middendorf 1992b-2'!Q29","v":812},{"$f":"'Middendorf 1992b-2'!R29","v":2.2000000000000002},{"$f":"'Middendorf 1992b-2'!S29","v":83.1},{"$f":"'Middendorf 1992b-2'!T29","v":9.7713598074608918E-3},{"$f":"'Middendorf 1992b-2'!U29","v":4.441527185209496E-3}]
[null,null,null,null,null,null,{"$f":"'Middendorf 1992b-2'!O30","v":"Site 2"},{"$f":"'Middendorf 1992b-2'!P30","v":"TRH"},{"$f":"'Middendorf 1992b-2'!Q30","v":892},{"$f":"'Middendorf 1992b-2'!R30","v":2.2000000000000002},{"$f":"'Middendorf 1992b-2'!S30","v":83.1},{"$f":"'Middendorf 1992b-2'!T30","v":1.0734055354993985E-2},{"$f":"'Middendorf 1992b-2'!U30","v":4.8791160704518112E-3}]
[null,null,null,null,null,null,{"$f":"'Middendorf 1992b-2'!O31","v":"Site 2"},{"$f":"'Middendorf 1992b-2'!P31","v":"RVA"},{"$f":"'Middendorf 1992b-2'!Q31","v":778},{"$f":"'Middendorf 1992b-2'!R31","v":2.2000000000000002},{"$f":"'Middendorf 1992b-2'!S31","v":83.1},{"$f":"'Middendorf 1992b-2'!T31","v":9.3622141997593278E-3},{"$f":"'Middendorf 1992b-2'!U31","v":4.2555519089815122E-3}]
[null,null,null,null,null,null,{"$f":"'Middendorf 1992b-2'!O32","v":"Site 2"},{"$f":"'Middendorf 1992b-2'!P32","v":"LJK"},{"$f":"'Middendorf 1992b-2'!Q32","v":6693},{"$f":"'Middendorf 1992b-2'!R32","v":2.2000000000000002},{"$f":"'Middendorf 1992b-2'!S32","v":83.1},{"$f":"'Middendorf 1992b-2'!T32","v":8.054151624548736E-2},{"$f":"'Middendorf 1992b-2'!U32","v":3.6609780111585159E-2}]
[null,null,null,null,null,null,{"$f":"'Middendorf 1992b-2'!O33","v":"Site 2"},{"$f":"'Middendorf 1992b-2'!P33","v":"WHS"},{"$f":"'Middendorf 1992b-2'!Q33","v":374},{"$f":"'Middendorf 1992b-2'!R33","v":2.2000000000000002},{"$f":"'Middendorf 1992b-2'!S33","v":83.1},{"$f":"'Middendorf 1992b-2'!T33","v":4.5006016847172082E-3},{"$f":"'Middendorf 1992b-2'!U33","v":2.0457280385078216E-3}]
[null,null,null,null,null,null,{"$f":"'Middendorf 1992b-2'!O34","v":"Site 2"},{"$f":"'Middendorf 1992b-2'!P34","v":"SGG"},{"$f":"'Middendorf 1992b-2'!Q34","v":2106},{"$f":"'Middendorf 1992b-2'!R34","v":2.2000000000000002},{"$f":"'Middendorf 1992b-2'!S34","v":83.1},{"$f":"'Middendorf 1992b-2'!T34","v":2.5342960288808666E-2},{"$f":"'Middendorf 1992b-2'!U34","v":1.1519527404003938E-2}]
[null,null,null,null,null,null,{"$f":"'Middendorf 1992b-2'!O35","v":"Site 4"},{"$f":"'Middendorf 1992b-2'!P35","v":"G"},{"$f":"'Middendorf 1992b-2'!Q35","v":603},{"$f":"'Middendorf 1992b-2'!R35","v":1.2},{"$f":"'Middendorf 1992b-2'!S35","v":83.1},{"$f":"'Middendorf 1992b-2'!T35","v":7.256317689530686E-3},{"$f":"'Middendorf 1992b-2'!U35","v":6.0469314079422383E-3}]
[null,null,null,null,null,null,{"$f":"'Middendorf 1992b-2'!O36","v":"Site 4"},{"$f":"'Middendorf 1992b-2'!P36","v":"H"},{"$f":"'Middendorf 1992b-2'!Q36","v":1549},{"$f":"'Middendorf 1992b-2'!R36","v":1.35},{"$f":"'Middendorf 1992b-2'!S36","v":83.1},{"$f":"'Middendorf 1992b-2'!T36","v":1.8640192539109507E-2},{"$f":"'Middendorf 1992b-2'!U36","v":1.3807550028970004E-2}]
[null,null,null,null,null,null,{"$f":"'Middendorf 1992b-2'!O37","v":"Site 4"},{"$f":"'Middendorf 1992b-2'!P37","v":"I"},{"$f":"'Middendorf 1992b-2'!Q37","v":1720},{"$f":"'Middendorf 1992b-2'!R37","v":1.2},{"$f":"'Middendorf 1992b-2'!S37","v":83.1},{"$f":"'Middendorf 1992b-2'!T37","v":2.0697954271961493E-2},{"$f":"'Middendorf 1992b-2'!U37","v":1.7248295226634579E-2}]
[null,null,null,null,null,null,{"$f":"'Middendorf 1992b-2'!O38","v":"Site 4"},{"$f":"'Middendorf 1992b-2'!P38","v":"J"},{"$f":"'Middendorf 1992b-2'!Q38","v":267},{"$f":"'Middendorf 1992b-2'!R38","v":1.47},{"$f":"'Middendorf 1992b-2'!S38","v":83.1},{"$f":"'Middendorf 1992b-2'!T38","v":3.2129963898916971E-3},{"$f":"'Middendorf 1992b-2'!U38","v":2.1857118298582974E-3}]
[null,null,null,null,null,null,{"$f":"'Middendorf 1992b-2'!O39","v":"Site 4"},{"$f":"'Middendorf 1992b-2'!P39","v":"K"},{"$f":"'Middendorf 1992b-2'!Q39","v":474},{"$f":"'Middendorf 1992b-2'!R39","v":1.62},{"$f":"'Middendorf 1992b-2'!S39","v":83.1},{"$f":"'Middendorf 1992b-2'!T39","v":5.7039711191335741E-3},{"$f":"'Middendorf 1992b-2'!U39","v":3.520969826625663E-3}]
[null,null,null,null,null,null,{"$f":"'Middendorf 1992b-2'!O40","v":"Site 4"},{"$f":"'Middendorf 1992b-2'!P40","v":"L"},{"$f":"'Middendorf 1992b-2'!Q40","v":3737},{"$f":"'Middendorf 1992b-2'!R40","v":1.41},{"$f":"'Middendorf 1992b-2'!S40","v":83.1},{"$f":"'Middendorf 1992b-2'!T40","v":4.4969915764139598E-2},{"$f":"'Middendorf 1992b-2'!U40","v":3.189355727953163E-2}]
[]
[null,"Anova: Single Factor"]
[]
[null,"SUMMARY"]
[null,"Groups","Count","Sum","Average","Variance"]
[null,"Leather",5,2.0050426909632685E-2,4.0100853819265373E-3,7.4968361603637683E-6,null,{"$f":"E28/$E$28","v":1}]
[null,"Latex",6,6.375123071873974E-2,1.0625205119789956E-2,1.7228665420560379E-4,null,{"$f":"E29/$E$28","v":2.6496206708410193}]
[null,"Nitrile",6,7.4703015599562411E-2,1.2450502599927069E-2,1.2580019524024497E-4,null,3.1047973831284263]
[]
[]
[null,"ANOVA"]
[null,"Source of Variation","SS","df","MS","F","P-value","F crit"]
[null,"Between Groups",2.0999736181655953E-4,2,1.0499868090827977E-4,0.96682495208929387,0.40428660815108497,3.7388918324923361]
[null,"Within Groups",1.5204215918706993E-3,14,1.0860154227647852E-4]
[]
[null,"Total",1.7304189536872588E-3,16]

{"sheet":"Middendorf 1993","index":47,"n_rows":69,"n_cols":29,"rows_kept":69,"cut":false,"hidden":false,"merged":[[8,2,8,8],[0,1,0,8],[1,1,1,8],[2,2,2,8],[3,2,3,4],[3,6,3,8],[9,2,9,4],[9,6,9,8],[15,3,15,4],[15,7,15,8],[21,0,21,8]]}
[null,"Middendorf 1993",null,null,null,null,null,null,null,null,null,null,null,null,null,null,null,null,null,null,null,null,"Anova: Single Factor"]
["Subgroup:","All groups combined"]
[null,null,"Confidence Intervals",null,null,null,null,null,null,null,null,null,null,null,null,null,null,null,null,null,null,null,"SUMMARY"]
[null,null,"Arithmetic",null,null,null,"Geometric (Log10)",null,null,null,null,null,null,null,null,null,null,null,"Below for ANOVA",null,null,null,"Groups","Count","Sum","Average","Variance"]
[null,null,"Mean","Lower Limit","Upper Limit",null,"Mean","Lower Limit","Upper Limit",null,null,null,null,null,null,null,null,null,"Site 1","Site 2","Site 3",null,"Site 1",4,9.5695187165775394E-4,2.3923796791443849E-4,3.0796655344469177E-10]
[null,null,{"$f":"IF(C15>0,AVERAGE(B24:B68), \"\")","v":4.1918527083232963E-4},{"$f":"IF(C15>1, C6-C20, \"\")","v":1.6284891628474084E-4},{"$f":"IF(C15>1, C6+C20, \"\")","v":6.7552162537991842E-4},"Inverse log",{"$f":"IF(C15>0, 10^G7, \"\")","v":3.0006110312512531E-4},{"$f":"IF(C15>1,10^H7, \"\")","v":1.9979146578750885E-4},{"$f":"IF(C15>1, 10^I7, \"\")","v":4.5065321110575725E-4},null,null,null,null,null,null,null,null,null,{"$f":"U24","v":2.372549019607843E-4},{"$f":"U28","v":1.5636363636363634E-4},{"$f":"U33","v":2.5333333333333333E-4},null,"Site 2",5,9.6181818181818174E-4,1.9236363636363635E-4,4.313471074380165E-9]
[null,null,null,null,null,"Log",{"$f":"IF(C15>0, AVERAGE(G24:G68), \"\")","v":-3.5227902984537645},{"$f":"IF(C15>1, G7-G20, \"\")","v":-3.6994230668635439},{"$f":"IF(C15>1, G7+G20, \"\")","v":-3.346157530043985},null,null,null,null,null,null,null,null,null,2.5227272727272728E-4,1.5909090909090905E-4,5.2333333333333333E-4,null,"Site 3",5,2.8311711711711709E-3,5.6623423423423421E-4,3.0865423829234635E-7]
[null,null,null,null,null,null,null,null,null,null,null,null,null,null,null,null,null,null,2.1515151515151513E-4,2.1272727272727272E-4,2.8333333333333341E-4]
[null,null,"Prediction Intervals",null,null,null,null,null,null,null,null,null,null,null,null,null,null,null,2.5227272727272728E-4,1.3545454545454543E-4,1.5378378378378378E-3]
[null,null,"Arithmetic",null,null,null,"Geometric (Log10)",null,null,null,null,null,null,null,null,null,null,null,null,2.9818181818181815E-4,2.3333333333333336E-4,null,"ANOVA"]
[null,null,"Mean","Lower Limit","Upper Limit",null,"Mean","Lower Limit","Upper Limit",null,null,null,null,null,null,null,null,null,null,null,null,null,"Source of Variation","SS","df","MS","F","P-value","F crit"]
[null,null,{"$f":"IF(C15>0,AVERAGE(B24:B68), \"\")","v":4.1918527083232963E-4},{"$f":"IF(C15>1, C12-C21, \"\")","v":-6.0616014735802553E-4},{"$f":"IF(C15>1, C12+C21, \"\")","v":1.4445306890226847E-3},"Inverse log",{"$f":"IF($C$15>0, 10^G13, \"\")","v":3.0006110312512531E-4},{"$f":"IF($C$15>0, 10^H13, \"\")","v":5.8976450083823943E-5},1.5266545456821626E-3,null,null,null,null,null,null,null,null,null,null,null,null,null,"Between Groups",4.0549684440795622E-7,2,2.0274842220397811E-7,1.7802059492665681,0.21389697050198631,3.9822979571449677]
[null,null,null,null,null,"Log",{"$f":"IF(C15>0, AVERAGE(G24:G68), \"\")","v":-3.5227902984537645},{"$f":"IF(C15>1, G13-G21, \"\")","v":-4.2293213720928824},{"$f":"IF(C15>1, G13+G21, \"\")","v":-2.8162592248146461},null,null,{"$f":"'t-values'!A3","v":"95% Confidence Interval"},null,null,null,null,null,null,null,null,null,null,"Within Groups",1.2527947371272402E-6,11,1.1389043064793093E-7]
[]
[null,"n:",{"$f":"COUNTA(B24:B68)","v":15},null,null,null,null,null,null,null,null,{"$f":"'t-values'!A4","v":"alpha = 0.025"},null,null,null,null,null,null,null,null,null,null,"Total",1.6582915815351964E-6,13]
[null,"SSE:",{"$f":"IF(C15>0, SUM(C24:C68), \"\")","v":2.9990596876080661E-6},"Check",null,"SSE:",{"$f":"IF(C15>0, SUM(H24:H68), \"\")","v":1.4239910289515041},"Check",null,null,null,{"$f":"'t-values'!A5","v":"n"},{"$f":"'t-values'!B5","v":"t-value"}]
[null,"Variance (s2):",{"$f":"IF(C15>1, C16/(C15-1), \"\")","v":2.1421854911486188E-7},{"$f":"IF(C15>1, VAR(B24:B68), \"\")","v":2.1421854911486188E-7},{"$f":"IF(C15>1, C17-D17, \"\")","v":0},"Variance (s2):",{"$f":"IF(C15>1, G16/(C15-1), \"\")","v":0.10171364492510744},{"$f":"IF(C15>1, VAR(G24:G68), \"\")","v":0.10171364492510744},{"$f":"IF(C15>1, G17-H17, \"\")","v":0},null,null,{"$f":"'t-values'!A6","v":2},{"$f":"'t-values'!B6","v":12.706}]
[null,"Std Dev (s):",{"$f":"IF(C15>1, C17^0.5, \"\")","v":4.6283749752463002E-4},{"$f":"IF(C15>1, STDEV(B24:B68), \"\")","v":4.6283749752463002E-4},{"$f":"IF(C15>1, C18-D18, \"\")","v":0},"Std Dev (s):",{"$f":"IF(C15>1, G17^0.5, \"\")","v":0.3189257671075002},{"$f":"IF(C15>1, STDEV(G24:G31), \"\")","v":0.10508345035178676},{"$f":"IF(C15>1, G18-H18, \"\")","v":0.21384231675571344},null,null,{"$f":"'t-values'!A7","v":3},{"$f":"'t-values'!B7","v":4.3029999999999999}]
[null,"t-value:",{"$f":"IF(C15>1, IF(C15<31, OFFSET(M16, C15-1, 0), 1.96), \"\")","v":2.145},null,null,"t-value:",{"$f":"C19","v":2.145},null,null,null,null,{"$f":"'t-values'!A8","v":4},{"$f":"'t-values'!B8","v":3.1819999999999999}]
[null,"Conf. Interval Factor:",{"$f":"IF(C15>1, C19*C18/(C15^0.5), \"\")","v":2.5633635454758879E-4},"t x s / n0.5",null,"Conf. Interval Factor:",{"$f":"IF(C15>1, G19*G18/(C15^0.5), \"\")","v":0.17663276840977959},"t x s / n0.5",null,null,null,{"$f":"'t-values'!A9","v":5},{"$f":"'t-values'!B9","v":2.7759999999999998}]
[null,"Pred. Interal Factor:",{"$f":"IF(C15>1, C19*C18*(1+(1/C15))^0.5, \"\")","v":1.0253454181903552E-3},"t x s x (1+ 1/n)0.5",null,"Pred. Interal Factor:",{"$f":"IF(C15>1, G19*G18*((1+(1/C15))^0.5), \"\")","v":0.70653107363911827},"t x s x (1+ 1/n)0.5",null,null,null,{"$f":"'t-values'!A10","v":6},{"$f":"'t-values'!B10","v":2.5710000000000002},null,null,"See Middendorf 1993, Table 2 (conditions) and Table 3 (absorbed dose)"]
["RAW DATA (only enter data under Identifier and Rate.  Everything else is a link.)",null,null,null,null,null,null,null,null,null,null,{"$f":"'t-values'!A11","v":7},{"$f":"'t-values'!B11","v":2.4470000000000001}]
["Identifier","Rate","(x - xbar)2","n",null,null,"Log Rate","(x - xbar)2",null,null,null,{"$f":"'t-values'!A12","v":8},{"$f":"'t-values'!B12","v":2.3650000000000002},null,"Site","Worker ID","Event(s)","Gloves","Amnt lbs","Dose ug/kg","Rate","Factor relative to Worker Q"]
[{"$f":"P24","v":"A"},{"$f":"U24","v":2.372549019607843E-4},{"$f":"IF(ISBLANK(B24)=FALSE, ($C$6-B24)^2, \"\")","v":3.3098659117736552E-8},1,null,null,{"$f":"IF(ISBLANK(B24)=FALSE,LOG10(B24), \"\")","v":-3.6247848057814864},{"$f":"IF(ISBLANK(B24)=FALSE, ($G$7-G24)^2, \"\")","v":1.0402879525024731E-2},null,null,null,{"$f":"'t-values'!A13","v":9},{"$f":"'t-values'!B13","v":2.306},null,1,"A",null,"Lat/Leath",1.02,0.24199999999999999,{"$f":"(T24/S24)/1000","v":2.372549019607843E-4},{"$f":"$U$38/U24","v":6.4817958454322087}]
["B",2.5227272727272728E-4,{"$f":"IF(ISBLANK(B25)=FALSE, ($C$6-B25)^2, \"\")","v":2.7859797197536151E-8},{"$f":"D24+1","v":2},null,null,{"$f":"IF(ISBLANK(B25)=FALSE,LOG10(B25), \"\")","v":-3.5981296976995298},{"$f":"IF(ISBLANK(B25)=FALSE, ($G$7-G25)^2, \"\")","v":5.6760250787128335E-3},null,null,null,{"$f":"'t-values'!A14","v":10},{"$f":"'t-values'!B14","v":2.262},null,null,"B",null,null,1.32,0.33300000000000002,{"$f":"(T25/S25)/1000","v":2.5227272727272728E-4},{"$f":"$U$38/U25","v":6.095933771609447}]
["D",2.1515151515151513E-4,4.1629773457218307E-8,{"$f":"D25+1","v":3},null,null,-3.6672555911588121,2.0870220796355077E-2,null,null,null,{"$f":"'t-values'!A15","v":11},{"$f":"'t-values'!B15","v":2.2280000000000002},null,null,"D",null,null,1.32,0.28399999999999997,2.1515151515151513E-4,7.1476969927674157]
["E",2.5227272727272728E-4,2.7859797197536151E-8,4,null,null,-3.5981296976995298,5.6760250787128335E-3,null,null,null,{"$f":"'t-values'!A16","v":12},{"$f":"'t-values'!B16","v":2.2010000000000001},null,null,"E","Splash","Leather",1.32,0.33300000000000002,2.5227272727272728E-4,6.095933771609447]
["H",1.5636363636363634E-4,6.9075211544795431E-8,5,null,null,-3.8058642382506762,8.0130855392145622E-2,null,null,null,{"$f":"'t-values'!A17","v":13},{"$f":"'t-values'!B17","v":2.1789999999999998},null,2,"H",null,"Latex",1.1000000000000001,0.17199999999999999,1.5636363636363634E-4,9.8350094280326843]
["I",1.5909090909090905E-4,6.7649077009676928E-8,6,null,null,-3.7983546364719305,7.5935704387390071E-2,null,null,null,{"$f":"'t-values'!A18","v":14},{"$f":"'t-values'!B18","v":2.16},null,null,"I",null,"Latex",1.1000000000000001,0.17499999999999999,1.5909090909090905E-4,9.6664092664092678]
["J",2.1272727272727272E-4,4.2624904981547684E-8,7,null,null,-3.6721768277480824,2.2316335134602114E-2,null,null,null,{"$f":"'t-values'!A19","v":15},{"$f":"'t-values'!B19","v":2.145},null,null,"J","Hose connect","Latex",1.1000000000000001,0.23400000000000001,2.1272727272727272E-4,7.2291522291522288]
["K",1.3545454545454543E-4,8.0503124523403591E-8,8,null,null,-3.8682064167459509,0.11931229477604173,null,null,null,{"$f":"'t-values'!A20","v":16},{"$f":"'t-values'!B20","v":2.1309999999999998},null,null,"K","Spill","Latex",1.1000000000000001,0.14899999999999999,1.3545454545454543E-4,11.353165245782696]
["L",2.9818181818181815E-4,1.4641835553344573E-8,9,null,null,-3.5255188414465461,7.4449468634580652E-6,null,null,null,{"$f":"'t-values'!A21","v":17},{"$f":"'t-values'!B21","v":2.12},null,null,"L",null,"Leather",1.1000000000000001,0.32800000000000001,2.9818181818181815E-4,5.1573829927488468]
["M",2.5333333333333333E-4,2.7506865172170977E-8,10,null,null,-3.5963076624388712,5.4048028073186748E-3,null,null,null,{"$f":"'t-values'!A22","v":18},{"$f":"'t-values'!B22","v":2.11},null,3,"M",null,"Neo/Cot",0.6,0.152,2.5333333333333333E-4,6.0704125177809383]
["N",5.2333333333333333E-4,1.0846818922712973E-8,11,null,null,-3.2812216023104286,5.8355434956391332E-2,null,null,null,{"$f":"'t-values'!A23","v":19},{"$f":"'t-values'!B23","v":2.101},null,null,"N",null,"Cotton",0.6,0.314,5.2333333333333333E-4,2.9385436391805815]
["P",2.8333333333333341E-4,1.8455748922231175E-8,12,null,null,-3.5477023290053697,6.2060926620411544E-4,null,null,null,{"$f":"'t-values'!A24","v":20},{"$f":"'t-values'!B24","v":2.093},null,null,"P",null,"Cotton",0.6,0.17,2.8333333333333341E-4,5.4276629570747197]
["Q",1.5378378378378378E-3,1.2513835656680125E-6,13,null,null,-2.8130894576719236,0.50367528340645173,null,null,null,{"$f":"'t-values'!A25","v":21},{"$f":"'t-values'!B25","v":2.0859999999999999},null,null,"Q",null,"Cotton",0.37,0.56899999999999995,1.5378378378378378E-3,1,"NOTE: No incidents are reported for this worker."]
["R",2.3333333333333336E-4,3.4540942672130814E-8,14,null,null,-3.6320232147054057,1.1931829992838065E-2,null,null,null,{"$f":"'t-values'!A26","v":22},{"$f":"'t-values'!B26","v":2.08},null,null,"R",null,"Cotton",0.6,0.14000000000000001,2.3333333333333336E-4,6.5907335907335893]
[null,1.5378378378378378E-3,1.2513835656680125E-6,15,null,null,-2.8130894576719236,0.50367528340645173,null,null,null,{"$f":"'t-values'!A27","v":23},{"$f":"'t-values'!B27","v":2.0739999999999998},null,null,null,null,null,null,"Max:",{"$f":"MAX(U24:U37)","v":1.5378378378378378E-3}]
[null,null,"",16,null,null,"","",null,null,null,{"$f":"'t-values'!A28","v":24},{"$f":"'t-values'!B28","v":2.069}]
[null,null,"",17,null,null,"","",null,null,null,{"$f":"'t-values'!A29","v":25},{"$f":"'t-values'!B29","v":2.0640000000000001}]
[null,null,"",18,null,null,"","",null,null,null,{"$f":"'t-values'!A30","v":26},{"$f":"'t-values'!B30","v":2.06}]
[null,null,"",19,null,null,"","",null,null,null,{"$f":"'t-values'!A31","v":27},{"$f":"'t-values'!B31","v":2.056}]
[null,null,"",20,null,null,"","",null,null,null,{"$f":"'t-values'!A32","v":28},{"$f":"'t-values'!B32","v":2.052}]
[null,null,"",21,null,null,"","",null,null,null,{"$f":"'t-values'!A33","v":29},{"$f":"'t-values'!B33","v":2.048}]
[null,null,"",22,null,null,"","",null,null,null,{"$f":"'t-values'!A34","v":30},{"$f":"'t-values'!B34","v":2.0449999999999999}]
[null,null,"",23,null,null,"","",null,null,null,{"$f":"'t-values'!A35","v":"∞"},{"$f":"'t-values'!B35","v":1.96}]
[null,null,"",24,null,null,"",""]
[null,null,"",25,null,null,"",""]
[null,null,"",26,null,null,"",""]
[null,null,"",27,null,null,"",""]
[null,null,"",28,null,null,"",""]
[null,null,"",29,null,null,"",""]
[null,null,"",30,null,null,"",""]
[null,null,"",31,null,null,"",""]
[null,null,"",32,null,null,"",""]
[null,null,"",33,null,null,"",""]
[null,null,"",34,null,null,"",""]
[null,null,"",35,null,null,"",""]
[null,null,"",36,null,null,"",""]
[null,null,"",37,null,null,"",""]
[null,null,"",38,null,null,"",""]
[null,null,"",39,null,null,"",""]
[null,null,"",40,null,null,"",""]
[null,null,"",41,null,null,"",""]
[null,null,"",42,null,null,"",""]
[null,null,"",43,null,null,"",""]
[null,null,"",44,null,null,"",""]
[null,null,"",45,null,null,"",""]
["NOTE: If there are more than 45 items, insert additional cellss in the middle of the data area.  The formulae should update correctly but check."]

{"sheet":"Nash et al. 1982-1","index":48,"n_rows":69,"n_cols":19,"rows_kept":69,"cut":false,"hidden":false,"merged":[[9,2,9,4],[9,6,9,8],[15,3,15,4],[15,7,15,8],[21,0,21,8],[8,2,8,8],[0,1,0,8],[1,1,1,8],[2,2,2,8],[3,2,3,4],[3,6,3,8]]}
[null,"Nash et al. 1982"]
["Subgroup:","Mixer/loaders in aerial application of 2,4-D"]
[null,null,"Confidence Intervals"]
[null,null,"Arithmetic",null,null,null,"Geometric (Log10)"]
[null,null,"Mean","Lower Limit","Upper Limit",null,"Mean","Lower Limit","Upper Limit"]
[null,null,{"$f":"IF(C15>0,AVERAGE(B24:B68), \"\")","v":1.3678409090909091E-5},{"$f":"IF(C15>1, C6-C20, \"\")","v":-1.3309000261607455E-5},{"$f":"IF(C15>1, C6+C20, \"\")","v":4.066581844342564E-5},"Inverse log",{"$f":"IF(C15>0, 10^G7, \"\")","v":1.0004789372491549E-5},{"$f":"IF(C15>1,10^H7, \"\")","v":6.9677752691783606E-7},{"$f":"IF(C15>1, 10^I7, \"\")","v":1.4365533692036443E-4}]
[null,null,null,null,null,"Log",{"$f":"IF(C15>0, AVERAGE(G24:G68), \"\")","v":-4.9997920499890425},{"$f":"IF(C15>1, G7-G20, \"\")","v":-6.1569058650224457},{"$f":"IF(C15>1, G7+G20, \"\")","v":-3.8426782349556392}]
[]
[null,null,"Prediction Intervals"]
[null,null,"Arithmetic",null,null,null,"Geometric (Log10)"]
[null,null,"Mean","Lower Limit","Upper Limit",null,"Mean","Lower Limit","Upper Limit"]
[null,null,{"$f":"IF(C15>0,AVERAGE(B24:B68), \"\")","v":1.3678409090909091E-5},{"$f":"IF(C15>1, C12-C21, \"\")","v":-4.0296409614123993E-5},{"$f":"IF(C15>1, C12+C21, \"\")","v":6.7653227795942168E-5},"Inverse log",{"$f":"IF($C$15>0, 10^G13, \"\")","v":1.0004789372491549E-5},{"$f":"IF($C$15>0, 10^H13, \"\")","v":4.8526650981042006E-8},{"$f":"IF($C$15>0, 10^I13, \"\")","v":2.0626976798177247E-3}]
[null,null,null,null,null,"Log",{"$f":"IF(C15>0, AVERAGE(G24:G68), \"\")","v":-4.9997920499890425},{"$f":"IF(C15>1, G13-G21, \"\")","v":-7.3140196800558481},{"$f":"IF(C15>1, G13+G21, \"\")","v":-2.6855644199222368},null,null,{"$f":"'t-values'!A3","v":"95% Confidence Interval"}]
[]
[null,"n:",{"$f":"COUNTA(B24:B68)","v":3},null,null,null,null,null,null,null,null,{"$f":"'t-values'!A4","v":"alpha = 0.025"}]
[null,"SSE:",{"$f":"IF(C15>0, SUM(C24:C68), \"\")","v":2.3601029700413224E-10},"Check",null,"SSE:",{"$f":"IF(C15>0, SUM(H24:H68), \"\")","v":0.4338710928400123},"Check",null,null,null,{"$f":"'t-values'!A5","v":"n"},{"$f":"'t-values'!B5","v":"t-value"}]
[null,"Variance (s2):",{"$f":"IF(C15>1, C16/(C15-1), \"\")","v":1.1800514850206612E-10},{"$f":"IF(C15>1, VAR(B24:B68), \"\")","v":1.1800514850206612E-10},{"$f":"IF(C15>1, C17-D17, \"\")","v":0},"Variance (s2):",{"$f":"IF(C15>1, G16/(C15-1), \"\")","v":0.21693554642000615},{"$f":"IF(C15>1, VAR(G24:G68), \"\")","v":0.21693554642000615},{"$f":"IF(C15>1, G17-H17, \"\")","v":0},null,null,{"$f":"'t-values'!A6","v":2},{"$f":"'t-values'!B6","v":12.706}]
[null,"Std Dev (s):",{"$f":"IF(C15>1, C17^0.5, \"\")","v":1.0863017467631456E-5},{"$f":"IF(C15>1, STDEV(B24:B68), \"\")","v":1.0863017467631456E-5},{"$f":"IF(C15>1, C18-D18, \"\")","v":0},"Std Dev (s):",{"$f":"IF(C15>1, G17^0.5, \"\")","v":0.46576340176102948},{"$f":"IF(C15>1, STDEV(G24:G31), \"\")","v":0.46576340176102948},{"$f":"IF(C15>1, G18-H18, \"\")","v":0},null,null,{"$f":"'t-values'!A7","v":3},{"$f":"'t-values'!B7","v":4.3029999999999999}]
[null,"t-value:",{"$f":"IF(C15>1, IF(C15<31, OFFSET(M16, C15-1, 0), 1.96), \"\")","v":4.3029999999999999},null,null,"t-value:",{"$f":"C19","v":4.3029999999999999},null,null,null,null,{"$f":"'t-values'!A8","v":4},{"$f":"'t-values'!B8","v":3.1819999999999999}]
[null,"Conf. Interval Factor:",{"$f":"IF(C15>1, C19*C18/(C15^0.5), \"\")","v":2.6987409352516545E-5},"t x s / n0.5",null,"Conf. Interval Factor:",{"$f":"IF(C15>1, G19*G18/(C15^0.5), \"\")","v":1.157113815033403},"t x s / n0.5",null,null,null,{"$f":"'t-values'!A9","v":5},{"$f":"'t-values'!B9","v":2.7759999999999998}]
[null,"Pred. Interal Factor:",{"$f":"IF(C15>1, C19*C18*(1+(1/C15))^0.5, \"\")","v":5.3974818705033084E-5},"t x s x (1+ 1/n)0.5",null,"Pred. Interal Factor:",{"$f":"IF(C15>1, G19*G18*((1+(1/C15))^0.5), \"\")","v":2.3142276300668057},"t x s x (1+ 1/n)0.5",null,null,null,{"$f":"'t-values'!A10","v":6},{"$f":"'t-values'!B10","v":2.5710000000000002},null,"See Table IV of paper"]
["RAW DATA (only enter data under Identifier and Rate.  Everything else is a link.)",null,null,null,null,null,null,null,null,null,null,{"$f":"'t-values'!A11","v":7},{"$f":"'t-values'!B11","v":2.4470000000000001},null,"Worker","Amount","Dose",null,"Rate"]
["Identifier","Rate","(x - xbar)2","n",null,null,"Log Rate","(x - xbar)2",null,null,null,{"$f":"'t-values'!A12","v":8},{"$f":"'t-values'!B12","v":2.3650000000000002},null,"No.","lbs","ug/kg bw","mg/kg bw","mg/kg per lb"]
[{"$f":"O24","v":1},1.3200000000000001E-5,{"$f":"IF(ISBLANK(B24)=FALSE, ($C$6-B24)^2, \"\")","v":2.2887525826446198E-13},1,null,null,{"$f":"IF(ISBLANK(B24)=FALSE,LOG10(B24), \"\")","v":-4.8794260687941504},{"$f":"IF(ISBLANK(B24)=FALSE, ($G$7-G24)^2, \"\")","v":1.4487969429009109E-2},null,null,null,{"$f":"'t-values'!A13","v":9},{"$f":"'t-values'!B13","v":2.306},null,1,500,6.6,{"$f":"Q24/1000","v":6.6E-3},{"$f":"R24/P24","v":1.3200000000000001E-5}]
[2,2.4772727272727273E-5,{"$f":"IF(ISBLANK(B25)=FALSE, ($C$6-B25)^2, \"\")","v":1.230838959194215E-10},{"$f":"D24+1","v":2},null,null,{"$f":"IF(ISBLANK(B25)=FALSE,LOG10(B25), \"\")","v":-4.6060261785455641},{"$f":"IF(ISBLANK(B25)=FALSE, ($G$7-G25)^2, \"\")","v":0.15505156151364197},null,null,null,{"$f":"'t-values'!A14","v":10},{"$f":"'t-values'!B14","v":2.262},null,2,2200,54.5,{"$f":"Q25/1000","v":5.45E-2},{"$f":"R25/P25","v":2.4772727272727273E-5}]
[3,3.0625000000000003E-6,1.1269752582644628E-10,{"$f":"D25+1","v":3},null,null,-5.5139239026274112,0.26433156189736123,null,null,null,{"$f":"'t-values'!A15","v":11},{"$f":"'t-values'!B15","v":2.2280000000000002},null,3,1600,4.9000000000000004,4.9000000000000007E-3,3.0625000000000003E-6]
[null,null,"",4,null,null,"","",null,null,null,{"$f":"'t-values'!A16","v":12},{"$f":"'t-values'!B16","v":2.2010000000000001}]
[null,null,"",5,null,null,"","",null,null,null,{"$f":"'t-values'!A17","v":13},{"$f":"'t-values'!B17","v":2.1789999999999998}]
[null,null,"",6,null,null,"","",null,null,null,{"$f":"'t-values'!A18","v":14},{"$f":"'t-values'!B18","v":2.16}]
[null,null,"",7,null,null,"","",null,null,null,{"$f":"'t-values'!A19","v":15},{"$f":"'t-values'!B19","v":2.145}]
[null,null,"",8,null,null,"","",null,null,null,{"$f":"'t-values'!A20","v":16},{"$f":"'t-values'!B20","v":2.1309999999999998}]
[null,null,"",9,null,null,"","",null,null,null,{"$f":"'t-values'!A21","v":17},{"$f":"'t-values'!B21","v":2.12}]
[null,null,"",10,null,null,"","",null,null,null,{"$f":"'t-values'!A22","v":18},{"$f":"'t-values'!B22","v":2.11}]
[null,null,"",11,null,null,"","",null,null,null,{"$f":"'t-values'!A23","v":19},{"$f":"'t-values'!B23","v":2.101}]
[null,null,"",12,null,null,"","",null,null,null,{"$f":"'t-values'!A24","v":20},{"$f":"'t-values'!B24","v":2.093}]
[null,null,"",13,null,null,"","",null,null,null,{"$f":"'t-values'!A25","v":21},{"$f":"'t-values'!B25","v":2.0859999999999999}]
[null,null,"",14,null,null,"","",null,null,null,{"$f":"'t-values'!A26","v":22},{"$f":"'t-values'!B26","v":2.08}]
[null,null,"",15,null,null,"","",null,null,null,{"$f":"'t-values'!A27","v":23},{"$f":"'t-values'!B27","v":2.0739999999999998}]
[null,null,"",16,null,null,"","",null,null,null,{"$f":"'t-values'!A28","v":24},{"$f":"'t-values'!B28","v":2.069}]
[null,null,"",17,null,null,"","",null,null,null,{"$f":"'t-values'!A29","v":25},{"$f":"'t-values'!B29","v":2.0640000000000001}]
[null,null,"",18,null,null,"","",null,null,null,{"$f":"'t-values'!A30","v":26},{"$f":"'t-values'!B30","v":2.06}]
[null,null,"",19,null,null,"","",null,null,null,{"$f":"'t-values'!A31","v":27},{"$f":"'t-values'!B31","v":2.056}]
[null,null,"",20,null,null,"","",null,null,null,{"$f":"'t-values'!A32","v":28},{"$f":"'t-values'!B32","v":2.052}]
[null,null,"",21,null,null,"","",null,null,null,{"$f":"'t-values'!A33","v":29},{"$f":"'t-values'!B33","v":2.048}]
[null,null,"",22,null,null,"","",null,null,null,{"$f":"'t-values'!A34","v":30},{"$f":"'t-values'!B34","v":2.0449999999999999}]
[null,null,"",23,null,null,"","",null,null,null,{"$f":"'t-values'!A35","v":"∞"},{"$f":"'t-values'!B35","v":1.96}]
[null,null,"",24,null,null,"",""]
[null,null,"",25,null,null,"",""]
[null,null,"",26,null,null,"",""]
[null,null,"",27,null,null,"",""]
[null,null,"",28,null,null,"",""]
[null,null,"",29,null,null,"",""]
[null,null,"",30,null,null,"",""]
[null,null,"",31,null,null,"",""]
[null,null,"",32,null,null,"",""]
[null,null,"",33,null,null,"",""]
[null,null,"",34,null,null,"",""]
[null,null,"",35,null,null,"",""]
[null,null,"",36,null,null,"",""]
[null,null,"",37,null,null,"",""]
[null,null,"",38,null,null,"",""]
[null,null,"",39,null,null,"",""]
[null,null,"",40,null,null,"",""]
[null,null,"",41,null,null,"",""]
[null,null,"",42,null,null,"",""]
[null,null,"",43,null,null,"",""]
[null,null,"",44,null,null,"",""]
[null,null,"",45,null,null,"",""]
["NOTE: If there are more than 45 items, insert additional cellss in the middle of the data area.  The formulae should update correctly but check."]

{"sheet":"Nash et al. 1982-2","index":49,"n_rows":69,"n_cols":20,"rows_kept":69,"cut":false,"hidden":false,"merged":[[9,2,9,4],[9,6,9,8],[15,3,15,4],[15,7,15,8],[21,0,21,8],[8,2,8,8],[0,1,0,8],[1,1,1,8],[2,2,2,8],[3,2,3,4],[3,6,3,8]]}
[null,"Nash et al. 1982"]
["Subgroup:","Pilots in aerial application of 2,4-D"]
[null,null,"Confidence Intervals"]
[null,null,"Arithmetic",null,null,null,"Geometric (Log10)"]
[null,null,"Mean","Lower Limit","Upper Limit",null,"Mean","Lower Limit","Upper Limit"]
[null,null,{"$f":"IF(C15>0,AVERAGE(B24:B68), \"\")","v":1.0007711550499331E-5},{"$f":"IF(C15>1, C6-C20, \"\")","v":3.776901989584826E-6},{"$f":"IF(C15>1, C6+C20, \"\")","v":1.6238521111413836E-5},"Inverse log",{"$f":"IF(C15>0, 10^G7, \"\")","v":7.5372798327495999E-6},{"$f":"IF(C15>1,10^H7, \"\")","v":3.229781402069403E-6},{"$f":"IF(C15>1, 10^I7, \"\")","v":1.7589607532192072E-5}]
[null,null,null,null,null,"Log",{"$f":"IF(C15>0, AVERAGE(G24:G68), \"\")","v":-5.1227853605988489},{"$f":"IF(C15>1, G7-G20, \"\")","v":-5.4908268705752938},{"$f":"IF(C15>1, G7+G20, \"\")","v":-4.754743850622404}]
[]
[null,null,"Prediction Intervals"]
[null,null,"Arithmetic",null,null,null,"Geometric (Log10)"]
[null,null,"Mean","Lower Limit","Upper Limit",null,"Mean","Lower Limit","Upper Limit"]
[null,null,{"$f":"IF(C15>0,AVERAGE(B24:B68), \"\")","v":1.0007711550499331E-5},{"$f":"IF(C15>1, C12-C21, \"\")","v":-7.615679220719154E-6},{"$f":"IF(C15>1, C12+C21, \"\")","v":2.7631102321717817E-5},"Inverse log",{"$f":"IF($C$15>0, 10^G13, \"\")","v":7.5372798327495999E-6},{"$f":"IF($C$15>0, 10^H13, \"\")","v":6.8586090714868894E-7},8.2831061932587714E-5]
[null,null,null,null,null,"Log",{"$f":"IF(C15>0, AVERAGE(G24:G68), \"\")","v":-5.1227853605988489},{"$f":"IF(C15>1, G13-G21, \"\")","v":-6.1637639504487725},{"$f":"IF(C15>1, G13+G21, \"\")","v":-4.0818067707489254},null,null,{"$f":"'t-values'!A3","v":"95% Confidence Interval"}]
[]
[null,"n:",{"$f":"COUNTA(B24:B68)","v":7},null,null,null,null,null,null,null,null,{"$f":"'t-values'!A4","v":"alpha = 0.025"}]
[null,"SSE:",{"$f":"IF(C15>0, SUM(C24:C68), \"\")","v":2.7231421158291981E-10},"Check",null,"SSE:",{"$f":"IF(C15>0, SUM(H24:H68), \"\")","v":0.95011234138583189},"Check",null,null,null,{"$f":"'t-values'!A5","v":"n"},{"$f":"'t-values'!B5","v":"t-value"}]
[null,"Variance (s2):",{"$f":"IF(C15>1, C16/(C15-1), \"\")","v":4.5385701930486635E-11},{"$f":"IF(C15>1, VAR(B24:B68), \"\")","v":4.5385701930486635E-11},{"$f":"IF(C15>1, C17-D17, \"\")","v":0},"Variance (s2):",{"$f":"IF(C15>1, G16/(C15-1), \"\")","v":0.15835205689763865},{"$f":"IF(C15>1, VAR(G24:G68), \"\")","v":0.15835205689763865},{"$f":"IF(C15>1, G17-H17, \"\")","v":0},null,null,{"$f":"'t-values'!A6","v":2},{"$f":"'t-values'!B6","v":12.706}]
[null,"Std Dev (s):",{"$f":"IF(C15>1, C17^0.5, \"\")","v":6.7368911176065947E-6},{"$f":"IF(C15>1, STDEV(B24:B68), \"\")","v":6.7368911176065947E-6},{"$f":"IF(C15>1, C18-D18, \"\")","v":0},"Std Dev (s):",{"$f":"IF(C15>1, G17^0.5, \"\")","v":0.39793473949586089},{"$f":"IF(C15>1, STDEV(G24:G31), \"\")","v":0.39793473949586089},{"$f":"IF(C15>1, G18-H18, \"\")","v":0},null,null,{"$f":"'t-values'!A7","v":3},{"$f":"'t-values'!B7","v":4.3029999999999999}]
[null,"t-value:",{"$f":"IF(C15>1, IF(C15<31, OFFSET(M16, C15-1, 0), 1.96), \"\")","v":2.4470000000000001},null,null,"t-value:",{"$f":"C19","v":2.4470000000000001},null,null,null,null,{"$f":"'t-values'!A8","v":4},{"$f":"'t-values'!B8","v":3.1819999999999999}]
[null,"Conf. Interval Factor:",{"$f":"IF(C15>1, C19*C18/(C15^0.5), \"\")","v":6.2308095609145047E-6},"t x s / n0.5",null,"Conf. Interval Factor:",{"$f":"IF(C15>1, G19*G18/(C15^0.5), \"\")","v":0.36804150997644525},"t x s / n0.5",null,null,null,{"$f":"'t-values'!A9","v":5},{"$f":"'t-values'!B9","v":2.7759999999999998}]
[null,"Pred. Interal Factor:",{"$f":"IF(C15>1, C19*C18*(1+(1/C15))^0.5, \"\")","v":1.7623390771218485E-5},"t x s x (1+ 1/n)0.5",null,"Pred. Interal Factor:",{"$f":"IF(C15>1, G19*G18*((1+(1/C15))^0.5), \"\")","v":1.0409785898499233},"t x s x (1+ 1/n)0.5",null,null,null,{"$f":"'t-values'!A10","v":6},{"$f":"'t-values'!B10","v":2.5710000000000002},null,"See Table IV of paper"]
["RAW DATA (only enter data under Identifier and Rate.  Everything else is a link.)",null,null,null,null,null,null,null,null,null,null,{"$f":"'t-values'!A11","v":7},{"$f":"'t-values'!B11","v":2.4470000000000001},null,"Worker","Amount","Dose",null,"Rate"]
["Identifier","Rate","(x - xbar)2","n",null,null,"Log Rate","(x - xbar)2",null,null,null,{"$f":"'t-values'!A12","v":8},{"$f":"'t-values'!B12","v":2.3650000000000002},null,"No.","lbs","ug/kg bw","mg/kg bw","mg/kg per lb"]
[{"$f":"O24","v":7},{"$f":"S24","v":2.0930232558139532E-5},{"$f":"IF(ISBLANK(B24)=FALSE, ($C$6-B24)^2, \"\")","v":1.1930146516234151E-10},1,null,null,{"$f":"IF(ISBLANK(B24)=FALSE,LOG10(B24), \"\")","v":-4.6792259461402619},{"$f":"IF(ISBLANK(B24)=FALSE, ($G$7-G24)^2, \"\")","v":0.19674495415484461},null,null,null,{"$f":"'t-values'!A13","v":9},{"$f":"'t-values'!B13","v":2.306},null,7,860,18,{"$f":"Q24/1000","v":1.7999999999999999E-2},{"$f":"R24/P24","v":2.0930232558139532E-5},"This pilot also mixed and loaded."]
[8,3.1428571428571429E-6,{"$f":"IF(ISBLANK(B25)=FALSE, ($C$6-B25)^2, \"\")","v":4.7126226038124375E-11},{"$f":"D24+1","v":2},null,null,{"$f":"IF(ISBLANK(B25)=FALSE,LOG10(B25), \"\")","v":-5.5026753591920503},{"$f":"IF(ISBLANK(B25)=FALSE, ($G$7-G25)^2, \"\")","v":0.14431641103114254},null,null,null,{"$f":"'t-values'!A14","v":10},{"$f":"'t-values'!B14","v":2.262},null,8,1050,3.3,{"$f":"Q25/1000","v":3.3E-3},{"$f":"R25/P25","v":3.1428571428571429E-6}]
[9,8.6607142857142842E-6,1.8144016313383966E-12,{"$f":"D25+1","v":3},null,null,-5.0624462884039367,3.6408036333428254E-3,null,null,null,{"$f":"'t-values'!A15","v":11},{"$f":"'t-values'!B15","v":2.2280000000000002},null,9,1120,9.6999999999999993,9.6999999999999986E-3,8.6607142857142842E-6]
[10,8.1052631578947364E-6,3.6193098865238047E-12,4,null,null,-5.0912328801163662,9.9555902459745257E-4,null,null,null,{"$f":"'t-values'!A16","v":12},{"$f":"'t-values'!B16","v":2.2010000000000001},null,10,950,7.7,7.7000000000000002E-3,{"$f":"R27/P27","v":8.1052631578947364E-6}]
[12,1.4E-5,1.5938367064016457E-11,5,null,null,-4.8538719643217618,7.2314414697277687E-2,null,null,null,{"$f":"'t-values'!A17","v":13},{"$f":"'t-values'!B17","v":2.1789999999999998},null,12,100,1.4,1.4E-3,1.4E-5]
[13,1.5662650602409638E-6,7.1258018847895284E-11,6,null,null,-5.8051347400692368,0.4656006756636234,null,null,null,{"$f":"'t-values'!A18","v":14},{"$f":"'t-values'!B18","v":2.16},null,13,830,1.3,1.2999999999999999E-3,1.5662650602409638E-6]
[15,1.3648648648648649E-5,1.3256422952679977E-11,7,null,null,-4.864910345948334,6.6499523181003259E-2,null,null,null,{"$f":"'t-values'!A19","v":15},{"$f":"'t-values'!B19","v":2.145},null,15,740,10.1,1.01E-2,1.3648648648648649E-5]
[null,null,"",8,null,null,"","",null,null,null,{"$f":"'t-values'!A20","v":16},{"$f":"'t-values'!B20","v":2.1309999999999998}]
[null,null,"",9,null,null,"","",null,null,null,{"$f":"'t-values'!A21","v":17},{"$f":"'t-values'!B21","v":2.12}]
[null,null,"",10,null,null,"","",null,null,null,{"$f":"'t-values'!A22","v":18},{"$f":"'t-values'!B22","v":2.11}]
[null,null,"",11,null,null,"","",null,null,null,{"$f":"'t-values'!A23","v":19},{"$f":"'t-values'!B23","v":2.101}]
[null,null,"",12,null,null,"","",null,null,null,{"$f":"'t-values'!A24","v":20},{"$f":"'t-values'!B24","v":2.093}]
[null,null,"",13,null,null,"","",null,null,null,{"$f":"'t-values'!A25","v":21},{"$f":"'t-values'!B25","v":2.0859999999999999}]
[null,null,"",14,null,null,"","",null,null,null,{"$f":"'t-values'!A26","v":22},{"$f":"'t-values'!B26","v":2.08}]
[null,null,"",15,null,null,"","",null,null,null,{"$f":"'t-values'!A27","v":23},{"$f":"'t-values'!B27","v":2.0739999999999998}]
[null,null,"",16,null,null,"","",null,null,null,{"$f":"'t-values'!A28","v":24},{"$f":"'t-values'!B28","v":2.069}]
[null,null,"",17,null,null,"","",null,null,null,{"$f":"'t-values'!A29","v":25},{"$f":"'t-values'!B29","v":2.0640000000000001}]
[null,null,"",18,null,null,"","",null,null,null,{"$f":"'t-values'!A30","v":26},{"$f":"'t-values'!B30","v":2.06}]
[null,null,"",19,null,null,"","",null,null,null,{"$f":"'t-values'!A31","v":27},{"$f":"'t-values'!B31","v":2.056}]
[null,null,"",20,null,null,"","",null,null,null,{"$f":"'t-values'!A32","v":28},{"$f":"'t-values'!B32","v":2.052}]
[null,null,"",21,null,null,"","",null,null,null,{"$f":"'t-values'!A33","v":29},{"$f":"'t-values'!B33","v":2.048}]
[null,null,"",22,null,null,"","",null,null,null,{"$f":"'t-values'!A34","v":30},{"$f":"'t-values'!B34","v":2.0449999999999999}]
[null,null,"",23,null,null,"","",null,null,null,{"$f":"'t-values'!A35","v":"∞"},{"$f":"'t-values'!B35","v":1.96}]
[null,null,"",24,null,null,"",""]
[null,null,"",25,null,null,"",""]
[null,null,"",26,null,null,"",""]
[null,null,"",27,null,null,"",""]
[null,null,"",28,null,null,"",""]
[null,null,"",29,null,null,"",""]
[null,null,"",30,null,null,"",""]
[null,null,"",31,null,null,"",""]
[null,null,"",32,null,null,"",""]
[null,null,"",33,null,null,"",""]
[null,null,"",34,null,null,"",""]
[null,null,"",35,null,null,"",""]
[null,null,"",36,null,null,"",""]
[null,null,"",37,null,null,"",""]
[null,null,"",38,null,null,"",""]
[null,null,"",39,null,null,"",""]
[null,null,"",40,null,null,"",""]
[null,null,"",41,null,null,"",""]
[null,null,"",42,null,null,"",""]
[null,null,"",43,null,null,"",""]
[null,null,"",44,null,null,"",""]
[null,null,"",45,null,null,"",""]
["NOTE: If there are more than 45 items, insert additional cellss in the middle of the data area.  The formulae should update correctly but check."]

{"sheet":"Nash et al. 1982-3","index":50,"n_rows":69,"n_cols":19,"rows_kept":69,"cut":false,"hidden":false,"merged":[[9,2,9,4],[9,6,9,8],[15,3,15,4],[15,7,15,8],[21,0,21,8],[8,2,8,8],[0,1,0,8],[1,1,1,8],[2,2,2,8],[3,2,3,4],[3,6,3,8]]}
[null,"Nash et al. 1982"]
["Subgroup:","Ground broadcast application of 2,4-D, Applicators only"]
[null,null,"Confidence Intervals"]
[null,null,"Arithmetic",null,null,null,"Geometric (Log10)"]
[null,null,"Mean","Lower Limit","Upper Limit",null,"Mean","Lower Limit","Upper Limit"]
[null,null,{"$f":"IF(C15>0,AVERAGE(B24:B68), \"\")","v":4.4876840762405143E-4},{"$f":"IF(C15>1, C6-C20, \"\")","v":-5.1697556343708586E-4},{"$f":"IF(C15>1, C6+C20, \"\")","v":1.4145123786851886E-3},"Inverse log",{"$f":"IF(C15>0, 10^G7, \"\")","v":2.8889946002158642E-5},{"$f":"IF(C15>1,10^H7, \"\")","v":3.2935803259581296E-6},{"$f":"IF(C15>1, 10^I7, \"\")","v":2.5341084698301435E-4}]
[null,null,null,null,null,"Log",{"$f":"IF(C15>0, AVERAGE(G24:G68), \"\")","v":-4.5392532698894978},{"$f":"IF(C15>1, G7-G20, \"\")","v":-5.4823317402397844},{"$f":"IF(C15>1, G7+G20, \"\")","v":-3.5961747995392113}]
[]
[null,null,"Prediction Intervals"]
[null,null,"Arithmetic",null,null,null,"Geometric (Log10)"]
[null,null,"Mean","Lower Limit","Upper Limit",null,"Mean","Lower Limit","Upper Limit"]
[null,null,{"$f":"IF(C15>0,AVERAGE(B24:B68), \"\")","v":4.4876840762405143E-4},{"$f":"IF(C15>1, C12-C21, \"\")","v":-2.4484635055593605E-3},{"$f":"IF(C15>1, C12+C21, \"\")","v":3.3460003208074631E-3},"Inverse log",{"$f":"IF($C$15>0, 10^G13, \"\")","v":2.8889946002158642E-5},{"$f":"IF($C$15>0, 10^H13, \"\")","v":4.2806657618194126E-8},1.9497644208804087E-2]
[null,null,null,null,null,"Log",{"$f":"IF(C15>0, AVERAGE(G24:G68), \"\")","v":-4.5392532698894978},{"$f":"IF(C15>1, G13-G21, \"\")","v":-7.3684886809403567},{"$f":"IF(C15>1, G13+G21, \"\")","v":-1.710017858838639},null,null,{"$f":"'t-values'!A3","v":"95% Confidence Interval"}]
[]
[null,"n:",{"$f":"COUNTA(B24:B68)","v":8},null,null,null,null,null,null,null,null,{"$f":"'t-values'!A4","v":"alpha = 0.025"}]
[null,"SSE:",{"$f":"IF(C15>0, SUM(C24:C68), \"\")","v":9.3379113816970265E-6},"Check",null,"SSE:",{"$f":"IF(C15>0, SUM(H24:H68), \"\")","v":8.9047431614750359},"Check",null,null,null,{"$f":"'t-values'!A5","v":"n"},{"$f":"'t-values'!B5","v":"t-value"}]
[null,"Variance (s2):",{"$f":"IF(C15>1, C16/(C15-1), \"\")","v":1.3339873402424324E-6},{"$f":"IF(C15>1, VAR(B24:B68), \"\")","v":1.3339873402424321E-6},{"$f":"IF(C15>1, C17-D17, \"\")","v":2.1175823681357508E-22},"Variance (s2):",{"$f":"IF(C15>1, G16/(C15-1), \"\")","v":1.272106165925005},{"$f":"IF(C15>1, VAR(G24:G68), \"\")","v":1.2721061659250057},{"$f":"IF(C15>1, G17-H17, \"\")","v":-6.6613381477509392E-16},null,null,{"$f":"'t-values'!A6","v":2},{"$f":"'t-values'!B6","v":12.706}]
[null,"Std Dev (s):",{"$f":"IF(C15>1, C17^0.5, \"\")","v":1.1549836969595858E-3},{"$f":"IF(C15>1, STDEV(B24:B68), \"\")","v":1.1549836969595858E-3},{"$f":"IF(C15>1, C18-D18, \"\")","v":0},"Std Dev (s):",{"$f":"IF(C15>1, G17^0.5, \"\")","v":1.1278768398743744},{"$f":"IF(C15>1, STDEV(G24:G31), \"\")","v":1.1278768398743746},{"$f":"IF(C15>1, G18-H18, \"\")","v":-2.2204460492503131E-16},null,null,{"$f":"'t-values'!A7","v":3},{"$f":"'t-values'!B7","v":4.3029999999999999}]
[null,"t-value:",{"$f":"IF(C15>1, IF(C15<31, OFFSET(M16, C15-1, 0), 1.96), \"\")","v":2.3650000000000002},null,null,"t-value:",{"$f":"C19","v":2.3650000000000002},null,null,null,null,{"$f":"'t-values'!A8","v":4},{"$f":"'t-values'!B8","v":3.1819999999999999}]
[null,"Conf. Interval Factor:",{"$f":"IF(C15>1, C19*C18/(C15^0.5), \"\")","v":9.6574397106113723E-4},"t x s / n0.5",null,"Conf. Interval Factor:",{"$f":"IF(C15>1, G19*G18/(C15^0.5), \"\")","v":0.94307847035028636},"t x s / n0.5",null,null,null,{"$f":"'t-values'!A9","v":5},{"$f":"'t-values'!B9","v":2.7759999999999998}]
[null,"Pred. Interal Factor:",{"$f":"IF(C15>1, C19*C18*(1+(1/C15))^0.5, \"\")","v":2.8972319131834118E-3},"t x s x (1+ 1/n)0.5",null,"Pred. Interal Factor:",{"$f":"IF(C15>1, G19*G18*((1+(1/C15))^0.5), \"\")","v":2.8292354110508589},"t x s x (1+ 1/n)0.5",null,null,null,{"$f":"'t-values'!A10","v":6},{"$f":"'t-values'!B10","v":2.5710000000000002},null,"See Table V of paper"]
["RAW DATA (only enter data under Identifier and Rate.  Everything else is a link.)",null,null,null,null,null,null,null,null,null,null,{"$f":"'t-values'!A11","v":7},{"$f":"'t-values'!B11","v":2.4470000000000001},null,"Worker","Amount","Dose",null,"Rate"]
["Identifier","Rate","(x - xbar)2","n",null,null,"Log Rate","(x - xbar)2",null,null,null,{"$f":"'t-values'!A12","v":8},{"$f":"'t-values'!B12","v":2.3650000000000002},null,"No.","lbs","ug/kg bw","mg/kg bw","mg/kg per lb"]
[{"$f":"O24","v":1},{"$f":"S24","v":1.4999999999999999E-5},{"$f":"IF(ISBLANK(B24)=FALSE, ($C$6-B24)^2, \"\")","v":1.8815503145270524E-7},1,null,null,{"$f":"IF(ISBLANK(B24)=FALSE,LOG10(B24), \"\")","v":-4.8239087409443187},{"$f":"IF(ISBLANK(B24)=FALSE, ($G$7-G24)^2, \"\")","v":8.1028737201441922E-2},null,null,null,{"$f":"'t-values'!A13","v":9},{"$f":"'t-values'!B13","v":2.306},null,1,20,0.3,{"$f":"Q24/1000","v":2.9999999999999997E-4},{"$f":"R24/P24","v":1.4999999999999999E-5}]
[3,5.2499999999999997E-6,{"$f":"IF(ISBLANK(B25)=FALSE, ($C$6-B25)^2, \"\")","v":1.9670857790137423E-7},{"$f":"D24+1","v":2},null,null,{"$f":"IF(ISBLANK(B25)=FALSE,LOG10(B25), \"\")","v":-5.279840696594043},{"$f":"IF(ISBLANK(B25)=FALSE, ($G$7-G25)^2, \"\")","v":0.54846973659286002},null,null,null,{"$f":"'t-values'!A14","v":10},{"$f":"'t-values'!B14","v":2.262},null,{"$f":"O24+2","v":3},40,0.21,{"$f":"Q25/1000","v":2.0999999999999998E-4},{"$f":"R25/P25","v":5.2499999999999997E-6}]
[4,4.4999999999999998E-7,2.0098939461456515E-7,{"$f":"D25+1","v":3},null,null,-6.346787486224656,3.2671799432223545,null,null,null,{"$f":"'t-values'!A15","v":11},{"$f":"'t-values'!B15","v":2.2280000000000002},null,{"$f":"O25+1","v":4},100,4.4999999999999998E-2,4.4999999999999996E-5,4.4999999999999998E-7]
[5,1.2999999999999999E-5,1.8989410508320146E-7,4,null,null,-4.8860566476931631,0.12027258285603175,null,null,null,{"$f":"'t-values'!A16","v":12},{"$f":"'t-values'!B16","v":2.2010000000000001},null,{"$f":"O26+1","v":5},120,1.56,1.56E-3,1.2999999999999999E-5]
[6,5.9500000000000003E-5,1.5152989317416468E-7,5,null,null,-4.2254830342714502,9.8451760759805121E-2,null,null,null,{"$f":"'t-values'!A17","v":13},{"$f":"'t-values'!B17","v":2.1789999999999998},null,{"$f":"O27+1","v":6},100,5.95,5.9500000000000004E-3,5.9500000000000003E-5]
[8,3.372093023255814E-5,1.7226440848904213E-7,6,null,null,-4.4721004533446118,4.5095007699111189E-3,null,null,null,{"$f":"'t-values'!A18","v":14},{"$f":"'t-values'!B18","v":2.16},null,{"$f":"O28+2","v":8},43,1.45,1.4499999999999999E-3,3.372093023255814E-5]
[9,3.3043478260869562E-3,8.1543338151489427E-6,7,null,null,-2.4809142437368017,4.2367595465832295,null,null,null,{"$f":"'t-values'!A19","v":15},{"$f":"'t-values'!B19","v":2.145},null,{"$f":"O29+1","v":9},23,76,7.5999999999999998E-2,3.3043478260869562E-3]
[10,1.5887850467289721E-4,8.4036155833029605E-8,8,null,null,-3.7989348563069356,0.54807135348940161,null,null,null,{"$f":"'t-values'!A20","v":16},{"$f":"'t-values'!B20","v":2.1309999999999998},null,{"$f":"O30+1","v":10},107,17,1.7000000000000001E-2,1.5887850467289721E-4]
[null,null,"",9,null,null,"","",null,null,null,{"$f":"'t-values'!A21","v":17},{"$f":"'t-values'!B21","v":2.12}]
[null,null,"",10,null,null,"","",null,null,null,{"$f":"'t-values'!A22","v":18},{"$f":"'t-values'!B22","v":2.11}]
[null,null,"",11,null,null,"","",null,null,null,{"$f":"'t-values'!A23","v":19},{"$f":"'t-values'!B23","v":2.101}]
[null,null,"",12,null,null,"","",null,null,null,{"$f":"'t-values'!A24","v":20},{"$f":"'t-values'!B24","v":2.093}]
[null,null,"",13,null,null,"","",null,null,null,{"$f":"'t-values'!A25","v":21},{"$f":"'t-values'!B25","v":2.0859999999999999}]
[null,null,"",14,null,null,"","",null,null,null,{"$f":"'t-values'!A26","v":22},{"$f":"'t-values'!B26","v":2.08}]
[null,null,"",15,null,null,"","",null,null,null,{"$f":"'t-values'!A27","v":23},{"$f":"'t-values'!B27","v":2.0739999999999998}]
[null,null,"",16,null,null,"","",null,null,null,{"$f":"'t-values'!A28","v":24},{"$f":"'t-values'!B28","v":2.069}]
[null,null,"",17,null,null,"","",null,null,null,{"$f":"'t-values'!A29","v":25},{"$f":"'t-values'!B29","v":2.0640000000000001}]
[null,null,"",18,null,null,"","",null,null,null,{"$f":"'t-values'!A30","v":26},{"$f":"'t-values'!B30","v":2.06}]
[null,null,"",19,null,null,"","",null,null,null,{"$f":"'t-values'!A31","v":27},{"$f":"'t-values'!B31","v":2.056}]
[null,null,"",20,null,null,"","",null,null,null,{"$f":"'t-values'!A32","v":28},{"$f":"'t-values'!B32","v":2.052}]
[null,null,"",21,null,null,"","",null,null,null,{"$f":"'t-values'!A33","v":29},{"$f":"'t-values'!B33","v":2.048}]
[null,null,"",22,null,null,"","",null,null,null,{"$f":"'t-values'!A34","v":30},{"$f":"'t-values'!B34","v":2.0449999999999999}]
[null,null,"",23,null,null,"","",null,null,null,{"$f":"'t-values'!A35","v":"∞"},{"$f":"'t-values'!B35","v":1.96}]
[null,null,"",24,null,null,"",""]
[null,null,"",25,null,null,"",""]
[null,null,"",26,null,null,"",""]
[null,null,"",27,null,null,"",""]
[null,null,"",28,null,null,"",""]
[null,null,"",29,null,null,"",""]
[null,null,"",30,null,null,"",""]
[null,null,"",31,null,null,"",""]
[null,null,"",32,null,null,"",""]
[null,null,"",33,null,null,"",""]
[null,null,"",34,null,null,"",""]
[null,null,"",35,null,null,"",""]
[null,null,"",36,null,null,"",""]
[null,null,"",37,null,null,"",""]
[null,null,"",38,null,null,"",""]
[null,null,"",39,null,null,"",""]
[null,null,"",40,null,null,"",""]
[null,null,"",41,null,null,"",""]
[null,null,"",42,null,null,"",""]
[null,null,"",43,null,null,"",""]
[null,null,"",44,null,null,"",""]
[null,null,"",45,null,null,"",""]
["NOTE: If there are more than 45 items, insert additional cellss in the middle of the data area.  The formulae should update correctly but check."]

{"sheet":"Nash et al. 1982-4","index":51,"n_rows":69,"n_cols":19,"rows_kept":69,"cut":false,"hidden":false,"merged":[[9,2,9,4],[9,6,9,8],[15,3,15,4],[15,7,15,8],[21,0,21,8],[8,2,8,8],[0,1,0,8],[1,1,1,8],[2,2,2,8],[3,2,3,4],[3,6,3,8]]}
[null,"Nash et al. 1982"]
["Subgroup:","Ground broadcast application of 2,4-D, Mixer/Loader/Applicators only"]
[null,null,"Confidence Intervals"]
[null,null,"Arithmetic",null,null,null,"Geometric (Log10)"]
[null,null,"Mean","Lower Limit","Upper Limit",null,"Mean","Lower Limit","Upper Limit"]
[null,null,{"$f":"IF(C15>0,AVERAGE(B24:B68), \"\")","v":3.766010042571245E-4},{"$f":"IF(C15>1, C6-C20, \"\")","v":-9.1968876125936066E-5},{"$f":"IF(C15>1, C6+C20, \"\")","v":8.4517088464018501E-4},"Inverse log",{"$f":"IF(C15>0, 10^G7, \"\")","v":2.1528265593528893E-4},{"$f":"IF(C15>1,10^H7, \"\")","v":7.8402942784964625E-5},{"$f":"IF(C15>1, 10^I7, \"\")","v":5.9113370366297021E-4}]
[null,null,null,null,null,"Log",{"$f":"IF(C15>0, AVERAGE(G24:G68), \"\")","v":-3.6669909573340211},{"$f":"IF(C15>1, G7-G20, \"\")","v":-4.1056676361511952},{"$f":"IF(C15>1, G7+G20, \"\")","v":-3.2283142785168466}]
[]
[null,null,"Prediction Intervals"]
[null,null,"Arithmetic",null,null,null,"Geometric (Log10)"]
[null,null,"Mean","Lower Limit","Upper Limit",null,"Mean","Lower Limit","Upper Limit"]
[null,null,{"$f":"IF(C15>0,AVERAGE(B24:B68), \"\")","v":3.766010042571245E-4},{"$f":"IF(C15>1, C12-C21, \"\")","v":-9.48714755257402E-4},{"$f":"IF(C15>1, C12+C21, \"\")","v":1.7019167637716509E-3},"Inverse log",{"$f":"IF($C$15>0, 10^G13, \"\")","v":2.1528265593528893E-4},{"$f":"IF($C$15>0, 10^H13, \"\")","v":1.2366420938938896E-5},3.7477797477051423E-3]
[null,null,null,null,null,"Log",{"$f":"IF(C15>0, AVERAGE(G24:G68), \"\")","v":-3.6669909573340211},{"$f":"IF(C15>1, G13-G21, \"\")","v":-4.9077559746940898},{"$f":"IF(C15>1, G13+G21, \"\")","v":-2.4262259399739525},null,null,{"$f":"'t-values'!A3","v":"95% Confidence Interval"}]
[]
[null,"n:",{"$f":"COUNTA(B24:B68)","v":7},null,null,null,null,null,null,null,null,{"$f":"'t-values'!A4","v":"alpha = 0.025"}]
[null,"SSE:",{"$f":"IF(C15>0, SUM(C24:C68), \"\")","v":1.5400332204471149E-6},"Check",null,"SSE:",{"$f":"IF(C15>0, SUM(H24:H68), \"\")","v":1.349803174850565},"Check",null,null,null,{"$f":"'t-values'!A5","v":"n"},{"$f":"'t-values'!B5","v":"t-value"}]
[null,"Variance (s2):",{"$f":"IF(C15>1, C16/(C15-1), \"\")","v":2.5667220340785248E-7},{"$f":"IF(C15>1, VAR(B24:B68), \"\")","v":2.5667220340785248E-7},{"$f":"IF(C15>1, C17-D17, \"\")","v":0},"Variance (s2):",{"$f":"IF(C15>1, G16/(C15-1), \"\")","v":0.2249671958084275},{"$f":"IF(C15>1, VAR(G24:G68), \"\")","v":0.22496719580842969},{"$f":"IF(C15>1, G17-H17, \"\")","v":-2.1926904736346842E-15},null,null,{"$f":"'t-values'!A6","v":2},{"$f":"'t-values'!B6","v":12.706}]
[null,"Std Dev (s):",{"$f":"IF(C15>1, C17^0.5, \"\")","v":5.0662826945192514E-4},{"$f":"IF(C15>1, STDEV(B24:B68), \"\")","v":5.0662826945192514E-4},{"$f":"IF(C15>1, C18-D18, \"\")","v":0},"Std Dev (s):",{"$f":"IF(C15>1, G17^0.5, \"\")","v":0.4743070691107476},{"$f":"IF(C15>1, STDEV(G24:G31), \"\")","v":0.47430706911074993},{"$f":"IF(C15>1, G18-H18, \"\")","v":-2.3314683517128287E-15},null,null,{"$f":"'t-values'!A7","v":3},{"$f":"'t-values'!B7","v":4.3029999999999999}]
[null,"t-value:",{"$f":"IF(C15>1, IF(C15<31, OFFSET(M16, C15-1, 0), 1.96), \"\")","v":2.4470000000000001},null,null,"t-value:",{"$f":"C19","v":2.4470000000000001},null,null,null,null,{"$f":"'t-values'!A8","v":4},{"$f":"'t-values'!B8","v":3.1819999999999999}]
[null,"Conf. Interval Factor:",{"$f":"IF(C15>1, C19*C18/(C15^0.5), \"\")","v":4.6856988038306057E-4},"t x s / n0.5",null,"Conf. Interval Factor:",{"$f":"IF(C15>1, G19*G18/(C15^0.5), \"\")","v":0.43867667881717437},"t x s / n0.5",null,null,null,{"$f":"'t-values'!A9","v":5},{"$f":"'t-values'!B9","v":2.7759999999999998}]
[null,"Pred. Interal Factor:",{"$f":"IF(C15>1, C19*C18*(1+(1/C15))^0.5, \"\")","v":1.3253157595145264E-3},"t x s x (1+ 1/n)0.5",null,"Pred. Interal Factor:",{"$f":"IF(C15>1, G19*G18*((1+(1/C15))^0.5), \"\")","v":1.2407650173600686},"t x s x (1+ 1/n)0.5",null,null,null,{"$f":"'t-values'!A10","v":6},{"$f":"'t-values'!B10","v":2.5710000000000002},null,"See Table V of paper"]
["RAW DATA (only enter data under Identifier and Rate.  Everything else is a link.)",null,null,null,null,null,null,null,null,null,null,{"$f":"'t-values'!A11","v":7},{"$f":"'t-values'!B11","v":2.4470000000000001},null,"Worker","Amount","Dose",null,"Rate"]
["Identifier","Rate","(x - xbar)2","n",null,null,"Log Rate","(x - xbar)2",null,null,null,{"$f":"'t-values'!A12","v":8},{"$f":"'t-values'!B12","v":2.3650000000000002},null,"No.","lbs","ug/kg bw","mg/kg bw","mg/kg per lb"]
[{"$f":"O24","v":19},{"$f":"S24","v":1.1607142857142857E-4},{"$f":"IF(ISBLANK(B24)=FALSE, ($C$6-B24)^2, \"\")","v":6.7875659806968777E-8},1,null,null,{"$f":"IF(ISBLANK(B24)=FALSE,LOG10(B24), \"\")","v":-3.935274670363345},{"$f":"IF(ISBLANK(B24)=FALSE, ($G$7-G24)^2, \"\")","v":7.197615067680059E-2},null,null,null,{"$f":"'t-values'!A13","v":9},{"$f":"'t-values'!B13","v":2.306},null,19,112,13,{"$f":"Q24/1000","v":1.2999999999999999E-2},{"$f":"R24/P24","v":1.1607142857142857E-4}]
[20,2.2100000000000001E-4,{"$f":"IF(ISBLANK(B25)=FALSE, ($C$6-B25)^2, \"\")","v":2.4211672525825676E-8},{"$f":"D24+1","v":2},null,null,{"$f":"IF(ISBLANK(B25)=FALSE,LOG10(B25), \"\")","v":-3.6556077263148894},{"$f":"IF(ISBLANK(B25)=FALSE, ($G$7-G25)^2, \"\")","v":1.2957794843492315E-4},null,null,null,{"$f":"'t-values'!A14","v":10},{"$f":"'t-values'!B14","v":2.262},null,20,200,44.2,{"$f":"Q25/1000","v":4.4200000000000003E-2},{"$f":"R25/P25","v":2.2100000000000001E-4}]
[21,1.5E-3,1.2620253036361013E-6,{"$f":"D25+1","v":3},null,null,-2.8239087409443187,0.71078762359257308,null,null,null,{"$f":"'t-values'!A15","v":11},{"$f":"'t-values'!B15","v":2.2280000000000002},null,21,14,21,2.1000000000000001E-2,1.5E-3]
[23,1.4366666666666664E-4,5.425840562870539E-8,4,null,null,-3.8426439845589311,3.0853985973274954E-2,null,null,null,{"$f":"'t-values'!A16","v":12},{"$f":"'t-values'!B16","v":2.2010000000000001},null,23,30,4.3099999999999996,4.3099999999999996E-3,1.4366666666666664E-4]
[24,3.8000000000000002E-4,1.1553172060085911E-11,5,null,null,-3.4202164033831899,6.0897680477631728E-2,null,null,null,{"$f":"'t-values'!A17","v":13},{"$f":"'t-values'!B17","v":2.1789999999999998},null,24,40,15.2,1.52E-2,3.8000000000000002E-4]
[25,4.4096385542168679E-5,1.1055932146677813E-7,6,null,null,-4.3555970069816636,0.47417829161133146,null,null,null,{"$f":"'t-values'!A18","v":14},{"$f":"'t-values'!B18","v":2.16},null,25,83,3.66,3.6600000000000001E-3,4.4096385542168679E-5]
[26,2.3137254901960786E-4,2.1091304210675376E-8,7,null,null,-3.6356881687918108,9.7986457051833613E-4,null,null,null,{"$f":"'t-values'!A19","v":15},{"$f":"'t-values'!B19","v":2.145},null,26,102,23.6,2.3600000000000003E-2,2.3137254901960786E-4]
[null,null,"",8,null,null,"","",null,null,null,{"$f":"'t-values'!A20","v":16},{"$f":"'t-values'!B20","v":2.1309999999999998}]
[null,null,"",9,null,null,"","",null,null,null,{"$f":"'t-values'!A21","v":17},{"$f":"'t-values'!B21","v":2.12}]
[null,null,"",10,null,null,"","",null,null,null,{"$f":"'t-values'!A22","v":18},{"$f":"'t-values'!B22","v":2.11}]
[null,null,"",11,null,null,"","",null,null,null,{"$f":"'t-values'!A23","v":19},{"$f":"'t-values'!B23","v":2.101}]
[null,null,"",12,null,null,"","",null,null,null,{"$f":"'t-values'!A24","v":20},{"$f":"'t-values'!B24","v":2.093}]
[null,null,"",13,null,null,"","",null,null,null,{"$f":"'t-values'!A25","v":21},{"$f":"'t-values'!B25","v":2.0859999999999999}]
[null,null,"",14,null,null,"","",null,null,null,{"$f":"'t-values'!A26","v":22},{"$f":"'t-values'!B26","v":2.08}]
[null,null,"",15,null,null,"","",null,null,null,{"$f":"'t-values'!A27","v":23},{"$f":"'t-values'!B27","v":2.0739999999999998}]
[null,null,"",16,null,null,"","",null,null,null,{"$f":"'t-values'!A28","v":24},{"$f":"'t-values'!B28","v":2.069}]
[null,null,"",17,null,null,"","",null,null,null,{"$f":"'t-values'!A29","v":25},{"$f":"'t-values'!B29","v":2.0640000000000001}]
[null,null,"",18,null,null,"","",null,null,null,{"$f":"'t-values'!A30","v":26},{"$f":"'t-values'!B30","v":2.06}]
[null,null,"",19,null,null,"","",null,null,null,{"$f":"'t-values'!A31","v":27},{"$f":"'t-values'!B31","v":2.056}]
[null,null,"",20,null,null,"","",null,null,null,{"$f":"'t-values'!A32","v":28},{"$f":"'t-values'!B32","v":2.052}]
[null,null,"",21,null,null,"","",null,null,null,{"$f":"'t-values'!A33","v":29},{"$f":"'t-values'!B33","v":2.048}]
[null,null,"",22,null,null,"","",null,null,null,{"$f":"'t-values'!A34","v":30},{"$f":"'t-values'!B34","v":2.0449999999999999}]
[null,null,"",23,null,null,"","",null,null,null,{"$f":"'t-values'!A35","v":"∞"},{"$f":"'t-values'!B35","v":1.96}]
[null,null,"",24,null,null,"",""]
[null,null,"",25,null,null,"",""]
[null,null,"",26,null,null,"",""]
[null,null,"",27,null,null,"",""]
[null,null,"",28,null,null,"",""]
[null,null,"",29,null,null,"",""]
[null,null,"",30,null,null,"",""]
[null,null,"",31,null,null,"",""]
[null,null,"",32,null,null,"",""]
[null,null,"",33,null,null,"",""]
[null,null,"",34,null,null,"",""]
[null,null,"",35,null,null,"",""]
[null,null,"",36,null,null,"",""]
[null,null,"",37,null,null,"",""]
[null,null,"",38,null,null,"",""]
[null,null,"",39,null,null,"",""]
[null,null,"",40,null,null,"",""]
[null,null,"",41,null,null,"",""]
[null,null,"",42,null,null,"",""]
[null,null,"",43,null,null,"",""]
[null,null,"",44,null,null,"",""]
[null,null,"",45,null,null,"",""]
["NOTE: If there are more than 45 items, insert additional cellss in the middle of the data area.  The formulae should update correctly but check."]

{"sheet":"Nash et al. 1982-5","index":52,"n_rows":69,"n_cols":25,"rows_kept":69,"cut":false,"hidden":false,"merged":[[9,2,9,4],[9,6,9,8],[15,3,15,4],[15,7,15,8],[21,0,21,8],[8,2,8,8],[0,1,0,8],[1,1,1,8],[2,2,2,8],[3,2,3,4],[3,6,3,8]]}
[null,"Nash et al. 1982"]
["Subgroup:","Ground broadcast application of 2,4-D, Applicators & M/L/A combined"]
[null,null,"Confidence Intervals"]
[null,null,"Arithmetic",null,null,null,"Geometric (Log10)"]
[null,null,"Mean","Lower Limit","Upper Limit",null,"Mean","Lower Limit","Upper Limit"]
[null,null,{"$f":"IF(C15>0,AVERAGE(B24:B68), \"\")","v":4.149598512702102E-4},{"$f":"IF(C15>1, C6-C20, \"\")","v":-7.3703903435614726E-5},{"$f":"IF(C15>1, C6+C20, \"\")","v":9.0362360597603508E-4},"Inverse log",{"$f":"IF(C15>0, 10^G7, \"\")","v":7.3072834381604913E-5},{"$f":"IF(C15>1,10^H7, \"\")","v":2.1199909395854554E-5},{"$f":"IF(C15>1, 10^I7, \"\")","v":2.5187084646718195E-4}]
[null,null,null,null,null,"Log",{"$f":"IF(C15>0, AVERAGE(G24:G68), \"\")","v":-4.1362440467205159},{"$f":"IF(C15>1, G7-G20, \"\")","v":-4.6736659951544786},{"$f":"IF(C15>1, G7+G20, \"\")","v":-3.5988220982865533}]
[]
[null,null,"Prediction Intervals"]
[null,null,"Arithmetic",null,null,null,"Geometric (Log10)",null,null,null,null,null,null,null,null,null,null,null,null,null,"Untransformed",null,"Log"]
[null,null,"Mean","Lower Limit","Upper Limit",null,"Mean","Lower Limit","Upper Limit",null,null,null,null,null,null,null,null,null,null,null,"Applicators","M/L/A","Applicators","M/L/A"]
[null,null,{"$f":"IF(C15>0,AVERAGE(B24:B68), \"\")","v":4.149598512702102E-4},{"$f":"IF(C15>1, C12-C21, \"\")","v":-1.539695167553089E-3},{"$f":"IF(C15>1, C12+C21, \"\")","v":2.3696148700935093E-3},"Inverse log",{"$f":"IF($C$15>0, 10^G13, \"\")","v":7.3072834381604913E-5},{"$f":"IF($C$15>0, 10^H13, \"\")","v":5.1768807317173654E-7},1.0314394712334992E-2,null,null,null,null,null,null,null,null,null,null,null,{"$f":"'Nash et al. 1982-3'!B24","v":1.4999999999999999E-5},{"$f":"'Nash et al. 1982-4'!B24","v":1.1607142857142857E-4},{"$f":"LOG10(U12)","v":-4.8239087409443187},{"$f":"LOG10(V12)","v":-3.935274670363345}]
[null,null,null,null,null,"Log",{"$f":"IF(C15>0, AVERAGE(G24:G68), \"\")","v":-4.1362440467205159},{"$f":"IF(C15>1, G13-G21, \"\")","v":-6.2859318404563664},{"$f":"IF(C15>1, G13+G21, \"\")","v":-1.9865562529846654},null,null,{"$f":"'t-values'!A3","v":"95% Confidence Interval"},null,null,null,null,null,null,null,null,{"$f":"'Nash et al. 1982-3'!B25","v":5.2499999999999997E-6},{"$f":"'Nash et al. 1982-4'!B25","v":2.2100000000000001E-4},{"$f":"LOG10(U13)","v":-5.279840696594043},{"$f":"LOG10(V13)","v":-3.6556077263148894}]
[null,null,null,null,null,null,null,null,null,null,null,null,null,null,null,null,null,null,null,null,{"$f":"'Nash et al. 1982-3'!B26","v":4.4999999999999998E-7},{"$f":"'Nash et al. 1982-4'!B26","v":1.5E-3},-6.346787486224656,-2.8239087409443187]
[null,"n:",{"$f":"COUNTA(B24:B68)","v":15},null,null,null,null,null,null,null,null,{"$f":"'t-values'!A4","v":"alpha = 0.025"},null,null,null,null,null,null,null,null,{"$f":"'Nash et al. 1982-3'!B27","v":1.2999999999999999E-5},{"$f":"'Nash et al. 1982-4'!B27","v":1.4366666666666664E-4},-4.8860566476931631,-3.8426439845589311]
[null,"SSE:",{"$f":"IF(C15>0, SUM(C24:C68), \"\")","v":1.0898957446280095E-5},"Check",null,"SSE:",{"$f":"IF(C15>0, SUM(H24:H68), \"\")","v":13.182430792768335},"Check",null,null,null,{"$f":"'t-values'!A5","v":"n"},{"$f":"'t-values'!B5","v":"t-value"},null,null,null,null,null,null,null,{"$f":"'Nash et al. 1982-3'!B28","v":5.9500000000000003E-5},{"$f":"'Nash et al. 1982-4'!B28","v":3.8000000000000002E-4},-4.2254830342714502,-3.4202164033831899]
[null,"Variance (s2):",{"$f":"IF(C15>1, C16/(C15-1), \"\")","v":7.7849696044857819E-7},{"$f":"IF(C15>1, VAR(B24:B68), \"\")","v":7.7849696044857798E-7},{"$f":"IF(C15>1, C17-D17, \"\")","v":2.1175823681357508E-22},"Variance (s2):",{"$f":"IF(C15>1, G16/(C15-1), \"\")","v":0.94160219948345247},{"$f":"IF(C15>1, VAR(G24:G68), \"\")","v":0.94160219948345714},{"$f":"IF(C15>1, G17-H17, \"\")","v":-4.6629367034256575E-15},null,null,{"$f":"'t-values'!A6","v":2},{"$f":"'t-values'!B6","v":12.706},null,null,null,null,null,null,null,{"$f":"'Nash et al. 1982-3'!B29","v":3.372093023255814E-5},{"$f":"'Nash et al. 1982-4'!B29","v":4.4096385542168679E-5},-4.4721004533446118,-4.3555970069816636]
[null,"Std Dev (s):",{"$f":"IF(C15>1, C17^0.5, \"\")","v":8.8232474772533616E-4},{"$f":"IF(C15>1, STDEV(B24:B68), \"\")","v":8.8232474772533605E-4},{"$f":"IF(C15>1, C18-D18, \"\")","v":1.0842021724855044E-19},"Std Dev (s):",{"$f":"IF(C15>1, G17^0.5, \"\")","v":0.97036189098884773},{"$f":"IF(C15>1, STDEV(G24:G31), \"\")","v":1.1302668967673346},{"$f":"IF(C15>1, G18-H18, \"\")","v":-0.15990500577848688},null,null,{"$f":"'t-values'!A7","v":3},{"$f":"'t-values'!B7","v":4.3029999999999999},null,null,null,null,null,null,null,{"$f":"'Nash et al. 1982-3'!B30","v":3.3043478260869562E-3},{"$f":"'Nash et al. 1982-4'!B30","v":2.3137254901960786E-4},-2.4809142437368017,-3.6356881687918108]
[null,"t-value:",{"$f":"IF(C15>1, IF(C15<31, OFFSET(M16, C15-1, 0), 1.96), \"\")","v":2.145},null,null,"t-value:",{"$f":"C19","v":2.145},null,null,null,null,{"$f":"'t-values'!A8","v":4},{"$f":"'t-values'!B8","v":3.1819999999999999},null,null,null,null,null,null,null,{"$f":"'Nash et al. 1982-3'!B31","v":1.5887850467289721E-4},null,{"$f":"LOG10(U19)","v":-3.7989348563069356}]
[null,"Conf. Interval Factor:",{"$f":"IF(C15>1, C19*C18/(C15^0.5), \"\")","v":4.8866375470582493E-4},"t x s / n0.5",null,"Conf. Interval Factor:",{"$f":"IF(C15>1, G19*G18/(C15^0.5), \"\")","v":0.53742194843396263},"t x s / n0.5",null,null,null,{"$f":"'t-values'!A9","v":5},{"$f":"'t-values'!B9","v":2.7759999999999998}]
[null,"Pred. Interal Factor:",{"$f":"IF(C15>1, C19*C18*(1+(1/C15))^0.5, \"\")","v":1.9546550188232993E-3},"t x s x (1+ 1/n)0.5",null,"Pred. Interal Factor:",{"$f":"IF(C15>1, G19*G18*((1+(1/C15))^0.5), \"\")","v":2.1496877937358505},"t x s x (1+ 1/n)0.5",null,null,null,{"$f":"'t-values'!A10","v":6},{"$f":"'t-values'!B10","v":2.5710000000000002},null,"See Table V of paper",null,null,null,null,null,null,"Untransformed"]
["RAW DATA (only enter data under Identifier and Rate.  Everything else is a link.)",null,null,null,null,null,null,null,null,null,null,{"$f":"'t-values'!A11","v":7},{"$f":"'t-values'!B11","v":2.4470000000000001},null,"Worker","Amount","Dose",null,"Rate",null,null,"t-Test: Two-Sample Assuming Unequal Variances"]
["Identifier","Rate","(x - xbar)2","n",null,null,"Log Rate","(x - xbar)2",null,null,null,{"$f":"'t-values'!A12","v":8},{"$f":"'t-values'!B12","v":2.3650000000000002},null,"No.","lbs","ug/kg bw","mg/kg bw","mg/kg per lb",null,null,null,"Applicators","M/L/A","Factor"]
[{"$f":"O24","v":1},{"$f":"S24","v":1.3043478260869564E-5},{"$f":"IF(ISBLANK(B24)=FALSE, ($C$6-B24)^2, \"\")","v":1.6153677089298344E-7},1,null,null,{"$f":"IF(ISBLANK(B24)=FALSE,LOG10(B24), \"\")","v":-4.8846065812979305},{"$f":"IF(ISBLANK(B24)=FALSE, ($G$7-G24)^2, \"\")","v":0.56004648315913197},null,null,null,{"$f":"'t-values'!A13","v":9},{"$f":"'t-values'!B13","v":2.306},null,1,23,0.3,{"$f":"Q24/1000","v":2.9999999999999997E-4},{"$f":"R24/P24","v":1.3043478260869564E-5},null,null,"Mean",4.4876840762405143E-4,3.766010042571245E-4,{"$f":"W24/X24","v":1.1916282817919801}]
[3,5.2499999999999997E-6,{"$f":"IF(ISBLANK(B25)=FALSE, ($C$6-B25)^2, \"\")","v":1.6786216222785777E-7},{"$f":"D24+1","v":2},null,null,{"$f":"IF(ISBLANK(B25)=FALSE,LOG10(B25), \"\")","v":-5.279840696594043},{"$f":"IF(ISBLANK(B25)=FALSE, ($G$7-G25)^2, \"\")","v":1.3078132976019543},null,null,null,{"$f":"'t-values'!A14","v":10},{"$f":"'t-values'!B14","v":2.262},null,{"$f":"O24+2","v":3},40,0.21,{"$f":"Q25/1000","v":2.0999999999999998E-4},{"$f":"R25/P25","v":5.2499999999999997E-6},null,null,"Variance",1.3339873402424321E-6,2.5667220340785248E-7]
[4,4.4999999999999998E-7,1.718184168000518E-7,{"$f":"D25+1","v":3},null,null,-6.346787486224656,4.8865022979347943,null,null,null,{"$f":"'t-values'!A15","v":11},{"$f":"'t-values'!B15","v":2.2280000000000002},null,{"$f":"O25+1","v":4},100,4.4999999999999998E-2,4.4999999999999996E-5,4.4999999999999998E-7,null,null,"Observations",8,7]
[5,1.2999999999999999E-5,1.615717220331695E-7,4,null,null,-4.8860566476931631,0.5622189365773661,null,null,null,{"$f":"'t-values'!A16","v":12},{"$f":"'t-values'!B16","v":2.2010000000000001},null,{"$f":"O26+1","v":5},120,1.56,1.56E-3,1.2999999999999999E-5,null,null,"Hypothesized Mean Difference",0]
[6,5.9500000000000003E-5,1.2635170586503998E-7,5,null,null,-4.2254830342714502,7.963596899115806E-3,null,null,null,{"$f":"'t-values'!A17","v":13},{"$f":"'t-values'!B17","v":2.1789999999999998},null,{"$f":"O27+1","v":6},100,5.95,5.9500000000000004E-3,5.9500000000000003E-5,null,null,"df",10]
[8,3.372093023255814E-5,1.453431149139531E-7,6,null,null,-4.4721004533446118,0.11279952587045004,null,null,null,{"$f":"'t-values'!A18","v":14},{"$f":"'t-values'!B18","v":2.16},null,{"$f":"O28+2","v":8},43,1.45,1.4499999999999999E-3,3.372093023255814E-5,null,null,"t Stat",0.16001056459342361]
[9,3.3043478260869562E-3,8.3485628690156183E-6,7,null,null,-2.4809142437368017,2.7401167566461022,null,null,null,{"$f":"'t-values'!A19","v":15},{"$f":"'t-values'!B19","v":2.145},null,{"$f":"O29+1","v":9},23,76,7.5999999999999998E-2,3.3043478260869562E-3,null,null,"P(T<=t) one-tail",0.43802934766401141]
[10,1.5887850467289721E-4,6.557765607509314E-8,8,null,null,-3.7989348563069356,0.11377748993746499,null,null,null,{"$f":"'t-values'!A20","v":16},{"$f":"'t-values'!B20","v":2.1309999999999998},null,{"$f":"O30+1","v":10},107,17,1.7000000000000001E-2,1.5887850467289721E-4,null,null,"t Critical one-tail",1.8124611021972235]
[{"$f":"O32","v":19},{"$f":"S32","v":1.1607142857142857E-4},8.933428922336558E-8,9,null,null,-3.935274670363345,4.0388690233390215E-2,null,null,null,{"$f":"'t-values'!A21","v":17},{"$f":"'t-values'!B21","v":2.12},null,19,112,13,1.2999999999999999E-2,{"$f":"R32/P32","v":1.1607142857142857E-4},null,null,"P(T<=t) two-tail",0.87605869532802283]
[20,2.2100000000000001E-4,3.7620423904762062E-8,10,null,null,-3.6556077263148894,0.23101127249306008,null,null,null,{"$f":"'t-values'!A22","v":18},{"$f":"'t-values'!B22","v":2.11},null,20,200,44.2,4.4200000000000003E-2,2.2100000000000001E-4,null,null,"t Critical two-tail",2.2281388424258681]
[21,1.5E-3,1.1773121243555644E-6,11,null,null,-2.8239087409443187,1.7222239547867053,null,null,null,{"$f":"'t-values'!A23","v":19},{"$f":"'t-values'!B23","v":2.101},null,21,14,21,2.1000000000000001E-2,1.5E-3]
[23,1.4366666666666664E-4,7.3599992012332344E-8,12,null,null,-3.8426439845589311,8.6200996501286486E-2,null,null,null,{"$f":"'t-values'!A24","v":20},{"$f":"'t-values'!B24","v":2.093},null,23,30,4.3099999999999996,4.3099999999999996E-3,1.4366666666666664E-4,null,null,"Log transformed"]
[24,3.8000000000000002E-4,1.2221912008352163E-9,13,null,null,-3.4202164033831899,0.51269558602320497,null,null,null,{"$f":"'t-values'!A25","v":21},{"$f":"'t-values'!B25","v":2.0859999999999999},null,24,40,15.2,1.52E-2,3.8000000000000002E-4,null,null,"t-Test: Two-Sample Assuming Unequal Variances"]
[25,4.4096385542168679E-5,1.3753971021181423E-7,14,null,null,-4.3555970069816636,4.8115721175328641E-2,null,null,null,{"$f":"'t-values'!A26","v":22},{"$f":"'t-values'!B26","v":2.08},null,25,83,3.66,3.6600000000000001E-3,4.4096385542168679E-5]
[26,2.3137254901960786E-4,3.3704297547654023E-8,15,null,null,-3.6356881687918108,0.2505561869289768,null,null,null,{"$f":"'t-values'!A27","v":23},{"$f":"'t-values'!B27","v":2.0739999999999998},null,26,102,23.6,2.3600000000000003E-2,2.3137254901960786E-4,null,null,null,"Applicators","M/L/A"]
[null,null,"",16,null,null,"","",null,null,null,{"$f":"'t-values'!A28","v":24},{"$f":"'t-values'!B28","v":2.069},null,null,null,null,null,null,null,null,"Mean",-4.5392532698894978,-3.6669909573340211]
[null,null,"",17,null,null,"","",null,null,null,{"$f":"'t-values'!A29","v":25},{"$f":"'t-values'!B29","v":2.0640000000000001},null,null,null,null,"Min",{"$f":"MIN(S24:S38)","v":4.4999999999999998E-7},null,null,"Variance",1.2721061659250057,0.22496719580842969]
[null,null,"",18,null,null,"","",null,null,null,{"$f":"'t-values'!A30","v":26},{"$f":"'t-values'!B30","v":2.06},null,null,null,null,"Max",{"$f":"MAX(S24:S38)","v":3.3043478260869562E-3},null,null,"Observations",8,7]
[null,null,"",19,null,null,"","",null,null,null,{"$f":"'t-values'!A31","v":27},{"$f":"'t-values'!B31","v":2.056},null,null,null,null,"Max/Min",{"$f":"S41/S40","v":7342.9951690821254},null,null,"Hypothesized Mean Difference",0]
[null,null,"",20,null,null,"","",null,null,null,{"$f":"'t-values'!A32","v":28},{"$f":"'t-values'!B32","v":2.052},null,null,null,null,null,null,null,null,"df",10]
[null,null,"",21,null,null,"","",null,null,null,{"$f":"'t-values'!A33","v":29},{"$f":"'t-values'!B33","v":2.048},null,null,null,null,null,null,null,null,"t Stat",-1.9950708340323329]
[null,null,"",22,null,null,"","",null,null,null,{"$f":"'t-values'!A34","v":30},{"$f":"'t-values'!B34","v":2.0449999999999999},null,null,null,null,null,null,null,null,"P(T<=t) one-tail",3.6996584640393002E-2]
[null,null,"",23,null,null,"","",null,null,null,{"$f":"'t-values'!A35","v":"∞"},{"$f":"'t-values'!B35","v":1.96},null,null,null,null,null,null,null,null,"t Critical one-tail",1.8124611021972235]
[null,null,"",24,null,null,"","",null,null,null,null,null,null,null,null,null,null,null,null,null,"P(T<=t) two-tail",7.3993169280786003E-2]
[null,null,"",25,null,null,"","",null,null,null,null,null,null,null,null,null,null,null,null,null,"t Critical two-tail",2.2281388424258681]
[null,null,"",26,null,null,"","",null,null,null,null,null,null,null,null,null,null,"Rate"]
[null,null,"",27,null,null,"","",null,null,null,null,null,null,null,null,null,null,"mg/kg per lb"]
[null,null,"",28,null,null,"","",null,null,null,null,null,null,null,null,null,null,1.3043478260869564E-5]
[null,null,"",29,null,null,"","",null,null,null,null,null,null,null,null,null,null,5.2499999999999997E-6]
[null,null,"",30,null,null,"","",null,null,null,null,null,null,null,null,null,null,1.2999999999999999E-5]
[null,null,"",31,null,null,"","",null,null,null,null,null,null,null,null,null,null,5.9500000000000003E-5]
[null,null,"",32,null,null,"","",null,null,null,null,null,null,null,null,null,null,3.372093023255814E-5]
[null,null,"",33,null,null,"","",null,null,null,null,null,null,null,null,null,null,3.3043478260869562E-3]
[null,null,"",34,null,null,"","",null,null,null,null,null,null,null,null,null,null,1.5887850467289721E-4]
[null,null,"",35,null,null,"","",null,null,null,null,null,null,null,null,null,null,1.1607142857142857E-4]
[null,null,"",36,null,null,"","",null,null,null,null,null,null,null,null,null,null,2.2100000000000001E-4]
[null,null,"",37,null,null,"","",null,null,null,null,null,null,null,null,null,null,1.5E-3]
[null,null,"",38,null,null,"","",null,null,null,null,null,null,null,null,null,null,1.4366666666666664E-4]
[null,null,"",39,null,null,"","",null,null,null,null,null,null,null,null,null,null,3.8000000000000002E-4]
[null,null,"",40,null,null,"","",null,null,null,null,null,null,null,null,null,null,4.4096385542168679E-5]
[null,null,"",41,null,null,"","",null,null,null,null,null,null,null,null,null,null,2.3137254901960786E-4]
[null,null,"",42,null,null,"","",null,null,null,null,null,null,null,null,null,"Min",{"$f":"MIN(S51:S64)","v":5.2499999999999997E-6}]
[null,null,"",43,null,null,"","",null,null,null,null,null,null,null,null,null,"Max",{"$f":"MAX(S51:S64)","v":3.3043478260869562E-3}]
[null,null,"",44,null,null,"","",null,null,null,null,null,null,null,null,null,"Max/Min",{"$f":"S66/S65","v":629.39958592132507}]
[null,null,"",45,null,null,"",""]
["NOTE: If there are more than 45 items, insert additional cellss in the middle of the data area.  The formulae should update correctly but check."]

{"sheet":"Nash et al. 1982-6","index":53,"n_rows":69,"n_cols":19,"rows_kept":69,"cut":false,"hidden":false,"merged":[[9,2,9,4],[9,6,9,8],[15,3,15,4],[15,7,15,8],[21,0,21,8],[8,2,8,8],[0,1,0,8],[1,1,1,8],[2,2,2,8],[3,2,3,4],[3,6,3,8]]}
[null,"Nash et al. 1982"]
["Subgroup:","Ground broadcast application of 2,4-D, Mixer/Loaders only"]
[null,null,"Confidence Intervals"]
[null,null,"Arithmetic",null,null,null,"Geometric (Log10)"]
[null,null,"Mean","Lower Limit","Upper Limit",null,"Mean","Lower Limit","Upper Limit"]
[null,null,{"$f":"IF(C15>0,AVERAGE(B24:B68), \"\")","v":1.8026757845567012E-4},{"$f":"IF(C15>1, C6-C20, \"\")","v":4.8795254267180603E-5},{"$f":"IF(C15>1, C6+C20, \"\")","v":3.1173990264415962E-4},"Inverse log",{"$f":"IF(C15>0, 10^G7, \"\")","v":1.4190268650115601E-4},{"$f":"IF(C15>1,10^H7, \"\")","v":7.1267376380886724E-5},{"$f":"IF(C15>1, 10^I7, \"\")","v":2.8254684624037595E-4}]
[null,null,null,null,null,"Log",{"$f":"IF(C15>0, AVERAGE(G24:G68), \"\")","v":-3.8480093824031081},{"$f":"IF(C15>1, G7-G20, \"\")","v":-4.1471092289156388},{"$f":"IF(C15>1, G7+G20, \"\")","v":-3.5489095358905773}]
[]
[null,null,"Prediction Intervals"]
[null,null,"Arithmetic",null,null,null,"Geometric (Log10)"]
[null,null,"Mean","Lower Limit","Upper Limit",null,"Mean","Lower Limit","Upper Limit"]
[null,null,{"$f":"IF(C15>0,AVERAGE(B24:B68), \"\")","v":1.8026757845567012E-4},{"$f":"IF(C15>1, C12-C21, \"\")","v":-2.9904781982322448E-4},{"$f":"IF(C15>1, C12+C21, \"\")","v":6.5958297673456478E-4},"Inverse log",{"$f":"IF($C$15>0, 10^G13, \"\")","v":1.4190268650115601E-4},{"$f":"IF($C$15>0, 10^H13, \"\")","v":1.1522506453481225E-5},1.7475687705222941E-3]
[null,null,null,null,null,"Log",{"$f":"IF(C15>0, AVERAGE(G24:G68), \"\")","v":-3.8480093824031081},{"$f":"IF(C15>1, G13-G21, \"\")","v":-4.9384530399653856},{"$f":"IF(C15>1, G13+G21, \"\")","v":-2.7575657248408305},null,null,{"$f":"'t-values'!A3","v":"95% Confidence Interval"}]
[]
[null,"n:",{"$f":"COUNTA(B24:B68)","v":7},null,null,null,null,null,null,null,null,{"$f":"'t-values'!A4","v":"alpha = 0.025"}]
[null,"SSE:",{"$f":"IF(C15>0, SUM(C24:C68), \"\")","v":1.2124114599446609E-7},"Check",null,"SSE:",{"$f":"IF(C15>0, SUM(H24:H68), \"\")","v":0.62750000270890782},"Check",null,null,null,{"$f":"'t-values'!A5","v":"n"},{"$f":"'t-values'!B5","v":"t-value"}]
[null,"Variance (s2):",{"$f":"IF(C15>1, C16/(C15-1), \"\")","v":2.0206857665744349E-8},{"$f":"IF(C15>1, VAR(B24:B68), \"\")","v":2.0206857665744349E-8},{"$f":"IF(C15>1, C17-D17, \"\")","v":0},"Variance (s2):",{"$f":"IF(C15>1, G16/(C15-1), \"\")","v":0.10458333378481798},{"$f":"IF(C15>1, VAR(G24:G68), \"\")","v":0.10458333378481798},{"$f":"IF(C15>1, G17-H17, \"\")","v":0},null,null,{"$f":"'t-values'!A6","v":2},{"$f":"'t-values'!B6","v":12.706}]
[null,"Std Dev (s):",{"$f":"IF(C15>1, C17^0.5, \"\")","v":1.4215082717221293E-4},{"$f":"IF(C15>1, STDEV(B24:B68), \"\")","v":1.4215082717221293E-4},{"$f":"IF(C15>1, C18-D18, \"\")","v":0},"Std Dev (s):",{"$f":"IF(C15>1, G17^0.5, \"\")","v":0.3233934658969132},{"$f":"IF(C15>1, STDEV(G24:G31), \"\")","v":0.3233934658969132},{"$f":"IF(C15>1, G18-H18, \"\")","v":0},null,null,{"$f":"'t-values'!A7","v":3},{"$f":"'t-values'!B7","v":4.3029999999999999}]
[null,"t-value:",{"$f":"IF(C15>1, IF(C15<31, OFFSET(M16, C15-1, 0), 1.96), \"\")","v":2.4470000000000001},null,null,"t-value:",{"$f":"C19","v":2.4470000000000001},null,null,null,null,{"$f":"'t-values'!A8","v":4},{"$f":"'t-values'!B8","v":3.1819999999999999}]
[null,"Conf. Interval Factor:",{"$f":"IF(C15>1, C19*C18/(C15^0.5), \"\")","v":1.3147232418848952E-4},"t x s / n0.5",null,"Conf. Interval Factor:",{"$f":"IF(C15>1, G19*G18/(C15^0.5), \"\")","v":0.29909984651253096},"t x s / n0.5",null,null,null,{"$f":"'t-values'!A9","v":5},{"$f":"'t-values'!B9","v":2.7759999999999998}]
[null,"Pred. Interal Factor:",{"$f":"IF(C15>1, C19*C18*(1+(1/C15^0.5)), \"\")","v":4.7931539827889463E-4},"t x s x (1+ 1/n)0.5",null,"Pred. Interal Factor:",{"$f":"IF(C15>1, G19*G18*(1+(1/C15^0.5)), \"\")","v":1.0904436575622776},"t x s x (1+ 1/n)0.5",null,null,null,{"$f":"'t-values'!A10","v":6},{"$f":"'t-values'!B10","v":2.5710000000000002},null,"See Table V of paper"]
["RAW DATA (only enter data under Identifier and Rate.  Everything else is a link.)",null,null,null,null,null,null,null,null,null,null,{"$f":"'t-values'!A11","v":7},{"$f":"'t-values'!B11","v":2.4470000000000001},null,"Worker","Amount","Dose",null,"Rate"]
["Identifier","Rate","(x - xbar)2","n",null,null,"Log Rate","(x - xbar)2",null,null,null,{"$f":"'t-values'!A12","v":8},{"$f":"'t-values'!B12","v":2.3650000000000002},null,"No.","lbs","ug/kg bw","mg/kg bw","mg/kg per lb"]
[{"$f":"O24","v":11},{"$f":"S24","v":1.27E-4},{"$f":"IF(ISBLANK(B24)=FALSE, ($C$6-B24)^2, \"\")","v":2.8374349145309723E-9},1,null,null,{"$f":"IF(ISBLANK(B24)=FALSE,LOG10(B24), \"\")","v":-3.8961962790440432},{"$f":"IF(ISBLANK(B24)=FALSE, ($G$7-G24)^2, \"\")","v":2.3219770078841641E-3},null,null,null,{"$f":"'t-values'!A13","v":9},{"$f":"'t-values'!B13","v":2.306},null,11,20,2.54,{"$f":"Q24/1000","v":2.5400000000000002E-3},{"$f":"R24/P24","v":1.27E-4}]
[12,7.1739130434782602E-5,{"$f":"IF(ISBLANK(B25)=FALSE, ($C$6-B25)^2, \"\")","v":1.1778424029822484E-8},{"$f":"D24+1","v":2},null,null,{"$f":"IF(ISBLANK(B25)=FALSE,LOG10(B25), \"\")","v":-4.1442438918036864},{"$f":"IF(ISBLANK(B25)=FALSE, ($G$7-G25)^2, \"\")","v":8.7754884559801294E-2},null,null,null,{"$f":"'t-values'!A14","v":10},{"$f":"'t-values'!B14","v":2.262},null,12,23,1.65,{"$f":"Q25/1000","v":1.65E-3},{"$f":"R25/P25","v":7.1739130434782602E-5}]
[13,1.5608695652173912E-4,5.8470247711170527E-10,{"$f":"D25+1","v":3},null,null,-3.8066333874392737,1.7119729592472474E-3,null,null,null,{"$f":"'t-values'!A15","v":11},{"$f":"'t-values'!B15","v":2.2280000000000002},null,13,23,3.59,3.5899999999999999E-3,1.5608695652173912E-4]
[14,1.4240000000000002E-4,1.4339534980963308E-9,4,null,null,-3.8464900106991622,2.308490374751447E-6,null,null,null,{"$f":"'t-values'!A16","v":12},{"$f":"'t-values'!B16","v":2.2010000000000001},null,14,50,7.12,7.1200000000000005E-3,1.4240000000000002E-4]
[15,4.6857142857142849E-4,8.3119109991569647E-8,5,null,null,-3.3292241963025777,0.26913806931736195,null,null,null,{"$f":"'t-values'!A17","v":13},{"$f":"'t-values'!B17","v":2.1789999999999998},null,15,35,16.399999999999999,1.6399999999999998E-2,4.6857142857142849E-4]
[16,2.4655172413793106E-4,4.3935879688271913E-9,6,null,null,-3.6080919560978755,5.756037144492672E-2,null,null,null,{"$f":"'t-values'!A18","v":14},{"$f":"'t-values'!B18","v":2.16},null,16,58,14.3,1.43E-2,2.4655172413793106E-4]
[17,4.9523809523809531E-5,1.7093933114507756E-8,7,null,null,-4.3051859554351388,0.20901041892931174,null,null,null,{"$f":"'t-values'!A19","v":15},{"$f":"'t-values'!B19","v":2.145},null,17,42,2.08,2.0800000000000003E-3,4.9523809523809531E-5]
[null,null,"",8,null,null,"","",null,null,null,{"$f":"'t-values'!A20","v":16},{"$f":"'t-values'!B20","v":2.1309999999999998}]
[null,null,"",9,null,null,"","",null,null,null,{"$f":"'t-values'!A21","v":17},{"$f":"'t-values'!B21","v":2.12}]
[null,null,"",10,null,null,"","",null,null,null,{"$f":"'t-values'!A22","v":18},{"$f":"'t-values'!B22","v":2.11}]
[null,null,"",11,null,null,"","",null,null,null,{"$f":"'t-values'!A23","v":19},{"$f":"'t-values'!B23","v":2.101}]
[null,null,"",12,null,null,"","",null,null,null,{"$f":"'t-values'!A24","v":20},{"$f":"'t-values'!B24","v":2.093}]
[null,null,"",13,null,null,"","",null,null,null,{"$f":"'t-values'!A25","v":21},{"$f":"'t-values'!B25","v":2.0859999999999999}]
[null,null,"",14,null,null,"","",null,null,null,{"$f":"'t-values'!A26","v":22},{"$f":"'t-values'!B26","v":2.08}]
[null,null,"",15,null,null,"","",null,null,null,{"$f":"'t-values'!A27","v":23},{"$f":"'t-values'!B27","v":2.0739999999999998}]
[null,null,"",16,null,null,"","",null,null,null,{"$f":"'t-values'!A28","v":24},{"$f":"'t-values'!B28","v":2.069}]
[null,null,"",17,null,null,"","",null,null,null,{"$f":"'t-values'!A29","v":25},{"$f":"'t-values'!B29","v":2.0640000000000001}]
[null,null,"",18,null,null,"","",null,null,null,{"$f":"'t-values'!A30","v":26},{"$f":"'t-values'!B30","v":2.06}]
[null,null,"",19,null,null,"","",null,null,null,{"$f":"'t-values'!A31","v":27},{"$f":"'t-values'!B31","v":2.056}]
[null,null,"",20,null,null,"","",null,null,null,{"$f":"'t-values'!A32","v":28},{"$f":"'t-values'!B32","v":2.052}]
[null,null,"",21,null,null,"","",null,null,null,{"$f":"'t-values'!A33","v":29},{"$f":"'t-values'!B33","v":2.048}]
[null,null,"",22,null,null,"","",null,null,null,{"$f":"'t-values'!A34","v":30},{"$f":"'t-values'!B34","v":2.0449999999999999}]
[null,null,"",23,null,null,"","",null,null,null,{"$f":"'t-values'!A35","v":"∞"},{"$f":"'t-values'!B35","v":1.96}]
[null,null,"",24,null,null,"",""]
[null,null,"",25,null,null,"",""]
[null,null,"",26,null,null,"",""]
[null,null,"",27,null,null,"",""]
[null,null,"",28,null,null,"",""]
[null,null,"",29,null,null,"",""]
[null,null,"",30,null,null,"",""]
[null,null,"",31,null,null,"",""]
[null,null,"",32,null,null,"",""]
[null,null,"",33,null,null,"",""]
[null,null,"",34,null,null,"",""]
[null,null,"",35,null,null,"",""]
[null,null,"",36,null,null,"",""]
[null,null,"",37,null,null,"",""]
[null,null,"",38,null,null,"",""]
[null,null,"",39,null,null,"",""]
[null,null,"",40,null,null,"",""]
[null,null,"",41,null,null,"",""]
[null,null,"",42,null,null,"",""]
[null,null,"",43,null,null,"",""]
[null,null,"",44,null,null,"",""]
[null,null,"",45,null,null,"",""]
["NOTE: If there are more than 45 items, insert additional cellss in the middle of the data area.  The formulae should update correctly but check."]

{"sheet":"Nigg and Stamper 1983a","index":54,"n_rows":69,"n_cols":20,"rows_kept":69,"cut":false,"hidden":false,"merged":[[9,2,9,4],[9,6,9,8],[15,3,15,4],[15,7,15,8],[21,0,21,8],[8,2,8,8],[0,1,0,8],[1,1,1,8],[2,2,2,8],[3,2,3,4],[3,6,3,8]]}
[null,"Nigg and Stamper 1983a"]
["Subgroup:","Aquatic applications of 2,4-D amine"]
[null,null,"Confidence Intervals"]
[null,null,"Arithmetic",null,null,null,"Geometric (Log10)"]
[null,null,"Mean","Lower Limit","Upper Limit",null,"Mean","Lower Limit","Upper Limit"]
[null,null,{"$f":"IF(C15>0,AVERAGE(B24:B68), \"\")","v":9.5102912863402904E-4},{"$f":"IF(C15>1, C6-C20, \"\")","v":2.5147602796997274E-4},{"$f":"IF(C15>1, C6+C20, \"\")","v":1.6505822292980853E-3},"Inverse log",{"$f":"IF(C15>0, 10^G7, \"\")","v":8.7519252961532925E-4},{"$f":"IF(C15>1,10^H7, \"\")","v":4.0913970969833774E-4},{"$f":"IF(C15>1, 10^I7, \"\")","v":1.8721281404321022E-3}]
[null,null,null,null,null,"Log",{"$f":"IF(C15>0, AVERAGE(G24:G68), \"\")","v":-3.0578963980041158},{"$f":"IF(C15>1, G7-G20, \"\")","v":-3.388128367321634},{"$f":"IF(C15>1, G7+G20, \"\")","v":-2.7276644286865976}]
[]
[null,null,"Prediction Intervals"]
[null,null,"Arithmetic",null,null,null,"Geometric (Log10)"]
[null,null,"Mean","Lower Limit","Upper Limit",null,"Mean","Lower Limit","Upper Limit"]
[null,null,{"$f":"IF(C15>0,AVERAGE(B24:B68), \"\")","v":9.5102912863402904E-4},{"$f":"IF(C15>1, C12-C21, \"\")","v":-6.1321915832155424E-4},{"$f":"IF(C15>1, C12+C21, \"\")","v":2.5152774155896124E-3},"Inverse log",{"$f":"IF($C$15>0, 10^G13, \"\")","v":8.7519252961532925E-4},{"$f":"IF($C$15>0, 10^H13, \"\")","v":1.598388956386915E-4},4.7920874380032071E-3,{"$f":"I12/H12","v":29.980734156444004},null,null,null,null,null,null,"range of PI",{"$f":"I12/H12","v":29.980734156444004}]
[null,null,null,null,null,"Log",{"$f":"IF(C15>0, AVERAGE(G24:G68), \"\")","v":-3.0578963980041158},{"$f":"IF(C15>1, G13-G21, \"\")","v":-3.7963175297417111},{"$f":"IF(C15>1, G13+G21, \"\")","v":-2.3194752662665206},null,null,{"$f":"'t-values'!A3","v":"95% Confidence Interval"}]
[]
[null,"n:",{"$f":"COUNTA(B24:B68)","v":4},null,null,null,null,null,null,null,null,{"$f":"'t-values'!A4","v":"alpha = 0.025"}]
[null,"SSE:",{"$f":"IF(C15>0, SUM(C24:C68), \"\")","v":5.7999235246742111E-7},"Check",null,"SSE:",{"$f":"IF(C15>0, SUM(H24:H68), \"\")","v":0.12924659912430853},"Check",null,null,null,{"$f":"'t-values'!A5","v":"n"},{"$f":"'t-values'!B5","v":"t-value"}]
[null,"Variance (s2):",{"$f":"IF(C15>1, C16/(C15-1), \"\")","v":1.9333078415580704E-7},{"$f":"IF(C15>1, VAR(B24:B68), \"\")","v":1.9333078415580704E-7},{"$f":"IF(C15>1, C17-D17, \"\")","v":0},"Variance (s2):",{"$f":"IF(C15>1, G16/(C15-1), \"\")","v":4.3082199708102842E-2},{"$f":"IF(C15>1, VAR(G24:G68), \"\")","v":4.3082199708102842E-2},{"$f":"IF(C15>1, G17-H17, \"\")","v":0},null,null,{"$f":"'t-values'!A6","v":2},{"$f":"'t-values'!B6","v":12.706}]
[null,"Std Dev (s):",{"$f":"IF(C15>1, C17^0.5, \"\")","v":4.3969396647646533E-4},{"$f":"IF(C15>1, STDEV(B24:B68), \"\")","v":4.3969396647646533E-4},{"$f":"IF(C15>1, C18-D18, \"\")","v":0},"Std Dev (s):",{"$f":"IF(C15>1, G17^0.5, \"\")","v":0.20756251999844008},{"$f":"IF(C15>1, STDEV(G24:G31), \"\")","v":0.20756251999844008},{"$f":"IF(C15>1, G18-H18, \"\")","v":0},null,null,{"$f":"'t-values'!A7","v":3},{"$f":"'t-values'!B7","v":4.3029999999999999}]
[null,"t-value:",{"$f":"IF(C15>1, IF(C15<31, OFFSET(M16, C15-1, 0), 1.96), \"\")","v":3.1819999999999999},null,null,"t-value:",{"$f":"C19","v":3.1819999999999999},null,null,null,null,{"$f":"'t-values'!A8","v":4},{"$f":"'t-values'!B8","v":3.1819999999999999}]
[null,"Conf. Interval Factor:",{"$f":"IF(C15>1, C19*C18/(C15^0.5), \"\")","v":6.995531006640563E-4},"t x s / n0.5",null,"Conf. Interval Factor:",{"$f":"IF(C15>1, G19*G18/(C15^0.5), \"\")","v":0.33023196931751814},"t x s / n0.5",null,null,null,{"$f":"'t-values'!A9","v":5},{"$f":"'t-values'!B9","v":2.7759999999999998}]
[null,"Pred. Interal Factor:",{"$f":"IF(C15>1, C19*C18*(1+(1/C15))^0.5, \"\")","v":1.5642482869555833E-3},"t x s x (1+ 1/n)0.5",null,"Pred. Interal Factor:",{"$f":"IF(C15>1, G19*G18*((1+(1/C15))^0.5), \"\")","v":0.73842113173759538},"t x s x (1+ 1/n)0.5",null,null,null,{"$f":"'t-values'!A10","v":6},{"$f":"'t-values'!B10","v":2.5710000000000002}]
["RAW DATA (only enter data under Identifier and Rate.  Everything else is a link.)",null,null,null,null,null,null,null,null,null,null,{"$f":"'t-values'!A11","v":7},{"$f":"'t-values'!B11","v":2.4470000000000001},null,"Worker","BW","Hanldled","Urine","Dose","Rate"]
["Identifier","Rate","(x - xbar)2","n",null,null,"Log Rate","(x - xbar)2",null,null,null,{"$f":"'t-values'!A12","v":8},{"$f":"'t-values'!B12","v":2.3650000000000002},null,"ID","kg","lb","mg/day","mg/kg bw","mg/kg bw per lb"]
[{"$f":"O24","v":"JD"},{"$f":"T24","v":4.8193993506493501E-4},{"$f":"IF(ISBLANK(B24)=FALSE, ($C$6-B24)^2, \"\")","v":2.2004467152330297E-7},1,null,null,{"$f":"IF(ISBLANK(B24)=FALSE,LOG10(B24), \"\")","v":-3.3170070851954838},{"$f":"IF(ISBLANK(B24)=FALSE, ($G$7-G24)^2, \"\")","v":6.7138348216782953E-2},null,null,null,{"$f":"'t-values'!A13","v":9},{"$f":"'t-values'!B13","v":2.306},null,"JD",70.400000000000006,5.6,0.19,{"$f":"R24/P24","v":2.698863636363636E-3},{"$f":"S24/Q24","v":4.8193993506493501E-4}]
["CH",1.5377646385657067E-3,{"$f":"IF(ISBLANK(B25)=FALSE, ($C$6-B25)^2, \"\")","v":3.4425855861478577E-7},{"$f":"D24+1","v":2},null,null,{"$f":"IF(ISBLANK(B25)=FALSE,LOG10(B25), \"\")","v":-2.8131101300703989},{"$f":"IF(ISBLANK(B25)=FALSE, ($G$7-G25)^2, \"\")","v":5.9920316968917454E-2},null,null,null,{"$f":"'t-values'!A14","v":10},{"$f":"'t-values'!B14","v":2.262},null,"CH",74.900000000000006,5.6,0.64500000000000002,{"$f":"R25/P25","v":8.6114819759679564E-3},{"$f":"S25/Q25","v":1.5377646385657067E-3}]
["KP",8.259911894273128E-4,1.5634486241062466E-8,{"$f":"D25+1","v":3},null,null,-3.0830245851293849,6.3142578820253961E-4,null,null,null,{"$f":"'t-values'!A15","v":11},{"$f":"'t-values'!B15","v":2.2280000000000002},null,"KP",68.099999999999994,5.6,0.315,4.6255506607929516E-3,8.259911894273128E-4]
["SS",9.5842075147816147E-4,5.4636088269900357E-11,4,null,null,-3.0184437916211966,1.5565081504055609E-3,null,null,null,{"$f":"'t-values'!A16","v":12},{"$f":"'t-values'!B16","v":2.2010000000000001},null,"SS",74.900000000000006,5.6,0.40200000000000002,5.3671562082777038E-3,9.5842075147816147E-4]
[null,null,"",5,null,null,"","",null,null,null,{"$f":"'t-values'!A17","v":13},{"$f":"'t-values'!B17","v":2.1789999999999998}]
[null,null,"",6,null,null,"","",null,null,null,{"$f":"'t-values'!A18","v":14},{"$f":"'t-values'!B18","v":2.16}]
[null,null,"",7,null,null,"","",null,null,null,{"$f":"'t-values'!A19","v":15},{"$f":"'t-values'!B19","v":2.145}]
[null,null,"",8,null,null,"","",null,null,null,{"$f":"'t-values'!A20","v":16},{"$f":"'t-values'!B20","v":2.1309999999999998}]
[null,null,"",9,null,null,"","",null,null,null,{"$f":"'t-values'!A21","v":17},{"$f":"'t-values'!B21","v":2.12}]
[null,null,"",10,null,null,"","",null,null,null,{"$f":"'t-values'!A22","v":18},{"$f":"'t-values'!B22","v":2.11}]
[null,null,"",11,null,null,"","",null,null,null,{"$f":"'t-values'!A23","v":19},{"$f":"'t-values'!B23","v":2.101}]
[null,null,"",12,null,null,"","",null,null,null,{"$f":"'t-values'!A24","v":20},{"$f":"'t-values'!B24","v":2.093}]
[null,null,"",13,null,null,"","",null,null,null,{"$f":"'t-values'!A25","v":21},{"$f":"'t-values'!B25","v":2.0859999999999999}]
[null,null,"",14,null,null,"","",null,null,null,{"$f":"'t-values'!A26","v":22},{"$f":"'t-values'!B26","v":2.08}]
[null,null,"",15,null,null,"","",null,null,null,{"$f":"'t-values'!A27","v":23},{"$f":"'t-values'!B27","v":2.0739999999999998}]
[null,null,"",16,null,null,"","",null,null,null,{"$f":"'t-values'!A28","v":24},{"$f":"'t-values'!B28","v":2.069}]
[null,null,"",17,null,null,"","",null,null,null,{"$f":"'t-values'!A29","v":25},{"$f":"'t-values'!B29","v":2.0640000000000001}]
[null,null,"",18,null,null,"","",null,null,null,{"$f":"'t-values'!A30","v":26},{"$f":"'t-values'!B30","v":2.06}]
[null,null,"",19,null,null,"","",null,null,null,{"$f":"'t-values'!A31","v":27},{"$f":"'t-values'!B31","v":2.056}]
[null,null,"",20,null,null,"","",null,null,null,{"$f":"'t-values'!A32","v":28},{"$f":"'t-values'!B32","v":2.052}]
[null,null,"",21,null,null,"","",null,null,null,{"$f":"'t-values'!A33","v":29},{"$f":"'t-values'!B33","v":2.048}]
[null,null,"",22,null,null,"","",null,null,null,{"$f":"'t-values'!A34","v":30},{"$f":"'t-values'!B34","v":2.0449999999999999}]
[null,null,"",23,null,null,"","",null,null,null,{"$f":"'t-values'!A35","v":"∞"},{"$f":"'t-values'!B35","v":1.96}]
[null,null,"",24,null,null,"",""]
[null,null,"",25,null,null,"",""]
[null,null,"",26,null,null,"",""]
[null,null,"",27,null,null,"",""]
[null,null,"",28,null,null,"",""]
[null,null,"",29,null,null,"",""]
[null,null,"",30,null,null,"",""]
[null,null,"",31,null,null,"",""]
[null,null,"",32,null,null,"",""]
[null,null,"",33,null,null,"",""]
[null,null,"",34,null,null,"",""]
[null,null,"",35,null,null,"",""]
[null,null,"",36,null,null,"",""]
[null,null,"",37,null,null,"",""]
[null,null,"",38,null,null,"",""]
[null,null,"",39,null,null,"",""]
[null,null,"",40,null,null,"",""]
[null,null,"",41,null,null,"",""]
[null,null,"",42,null,null,"",""]
[null,null,"",43,null,null,"",""]
[null,null,"",44,null,null,"",""]
[null,null,"",45,null,null,"",""]
["NOTE: If there are more than 45 items, insert additional cellss in the middle of the data area.  The formulae should update correctly but check."]

{"sheet":"Spenser et al. 2000-1","index":55,"n_rows":69,"n_cols":21,"rows_kept":69,"cut":false,"hidden":false,"merged":[[9,2,9,4],[9,6,9,8],[15,3,15,4],[15,7,15,8],[21,0,21,8],[8,2,8,8],[0,1,0,8],[1,1,1,8],[2,2,2,8],[3,2,3,4],[3,6,3,8]]}
[null,"Spenser et al. 2000"]
["Subgroup:","Backpack, directed foliar, triclopyr BEE.  Day 1 and 2 combined.  See plot.",null,null,null,null,null,null,null,null,null,null,null,null,null,null,null,null,"Below is plot of Day 1 vs Day 2"]
[null,null,"Confidence Intervals"]
[null,null,"Arithmetic",null,null,null,"Geometric (Log10)"]
[null,null,"Mean","Lower Limit","Upper Limit",null,"Mean","Lower Limit","Upper Limit"]
[null,null,{"$f":"IF(C15>0,AVERAGE(B24:B68), \"\")","v":1.7764558866600486E-2},{"$f":"IF(C15>1, C6-C20, \"\")","v":1.2701497043448961E-2},{"$f":"IF(C15>1, C6+C20, \"\")","v":2.2827620689752012E-2},"Inverse log",{"$f":"IF(C15>0, 10^G7, \"\")","v":1.4852529685067976E-2},{"$f":"IF(C15>1,10^H7, \"\")","v":1.1026670854695825E-2},{"$f":"IF(C15>1, 10^I7, \"\")","v":2.0005824146993693E-2}]
[null,null,null,null,null,"Log",{"$f":"IF(C15>0, AVERAGE(G24:G68), \"\")","v":-1.8281995709460013},{"$f":"IF(C15>1, G7-G20, \"\")","v":-1.9575555888901561},{"$f":"IF(C15>1, G7+G20, \"\")","v":-1.6988435530018464}]
[]
[null,null,"Prediction Intervals"]
[null,null,"Arithmetic",null,null,null,"Geometric (Log10)"]
[null,null,"Mean","Lower Limit","Upper Limit",null,"Mean","Lower Limit","Upper Limit"]
[null,null,{"$f":"IF(C15>0,AVERAGE(B24:B68), \"\")","v":1.7764558866600486E-2},{"$f":"IF(C15>1, C12-C21, \"\")","v":-5.4373051862325016E-3},{"$f":"IF(C15>1, C12+C21, \"\")","v":4.0966422919433476E-2},"Inverse log",{"$f":"IF($C$15>0, 10^G13, \"\")","v":1.4852529685067976E-2},{"$f":"IF($C$15>0, 10^H13, \"\")","v":3.7932955821467578E-3},5.8154613387913563E-2]
[null,null,null,null,null,"Log",{"$f":"IF(C15>0, AVERAGE(G24:G68), \"\")","v":-1.8281995709460013},{"$f":"IF(C15>1, G13-G21, \"\")","v":-2.4209833147731574},{"$f":"IF(C15>1, G13+G21, \"\")","v":-1.2354158271188451},null,null,{"$f":"'t-values'!A3","v":"95% Confidence Interval"}]
[]
[null,"n:",{"$f":"COUNTA(B24:B68)","v":20},null,null,null,null,null,null,null,null,{"$f":"'t-values'!A4","v":"alpha = 0.025"}]
[null,"SSE:",{"$f":"IF(C15>0, SUM(C24:C68), \"\")","v":2.2236764711166526E-3},"Check",null,"SSE:",{"$f":"IF(C15>0, SUM(H24:H68), \"\")","v":1.4515045975562171},"Check",null,null,null,{"$f":"'t-values'!A5","v":"n"},{"$f":"'t-values'!B5","v":"t-value"}]
[null,"Variance (s2):",{"$f":"IF(C15>1, C16/(C15-1), \"\")","v":1.1703560374298171E-4},{"$f":"IF(C15>1, VAR(B24:B68), \"\")","v":1.1703560374298157E-4},{"$f":"IF(C15>1, C17-D17, \"\")","v":1.3552527156068805E-19},"Variance (s2):",{"$f":"IF(C15>1, G16/(C15-1), \"\")","v":7.6394978818748266E-2},{"$f":"IF(C15>1, VAR(G24:G68), \"\")","v":7.6394978818746337E-2},{"$f":"IF(C15>1, G17-H17, \"\")","v":1.9290125052862095E-15},null,null,{"$f":"'t-values'!A6","v":2},{"$f":"'t-values'!B6","v":12.706}]
[null,"Std Dev (s):",{"$f":"IF(C15>1, C17^0.5, \"\")","v":1.0818299484807292E-2},{"$f":"IF(C15>1, STDEV(B24:B68), \"\")","v":1.0818299484807285E-2},{"$f":"IF(C15>1, C18-D18, \"\")","v":6.9388939039072284E-18},"Std Dev (s):",{"$f":"IF(C15>1, G17^0.5, \"\")","v":0.27639641607435556},{"$f":"IF(C15>1, STDEV(G24:G31), \"\")","v":0.33474642582343367},{"$f":"IF(C15>1, G18-H18, \"\")","v":-5.8350009749078113E-2},null,null,{"$f":"'t-values'!A7","v":3},{"$f":"'t-values'!B7","v":4.3029999999999999}]
[null,"t-value:",{"$f":"IF(C15>1, IF(C15<31, OFFSET(M16, C15-1, 0), 1.96), \"\")","v":2.093},null,null,"t-value:",{"$f":"C19","v":2.093},null,null,null,null,{"$f":"'t-values'!A8","v":4},{"$f":"'t-values'!B8","v":3.1819999999999999}]
[null,"Conf. Interval Factor:",{"$f":"IF(C15>1, C19*C18/(C15^0.5), \"\")","v":5.063061823151525E-3},"t x s / n0.5",null,"Conf. Interval Factor:",{"$f":"IF(C15>1, G19*G18/(C15^0.5), \"\")","v":0.12935601794415494},"t x s / n0.5",null,null,null,{"$f":"'t-values'!A9","v":5},{"$f":"'t-values'!B9","v":2.7759999999999998}]
[null,"Pred. Interal Factor:",{"$f":"IF(C15>1, C19*C18*(1+(1/C15))^0.5, \"\")","v":2.3201864052832987E-2},"t x s x (1+ 1/n)0.5",null,"Pred. Interal Factor:",{"$f":"IF(C15>1, G19*G18*((1+(1/C15))^0.5), \"\")","v":0.59278374382715604},"t x s x (1+ 1/n)0.5",null,null,null,{"$f":"'t-values'!A10","v":6},{"$f":"'t-values'!B10","v":2.5710000000000002},null,"See SERA  2011c (triclopyr RA), Table 14",null,null,null,"These are also in Spenser: BW in Table IV (p. 17),  amount handled in Table VI (p. 22), urne in Table IX, p. 26., "]
["RAW DATA (only enter data under Identifier and Rate.  Everything else is a link.)",null,null,null,null,null,null,null,null,null,null,{"$f":"'t-values'!A11","v":7},{"$f":"'t-values'!B11","v":2.4470000000000001},null,null,"Worker","Amount","BW","Urine","Dose","Rate"]
["Identifier","Rate","(x - xbar)2","n",null,null,"Log Rate","(x - xbar)2",null,null,null,{"$f":"'t-values'!A12","v":8},{"$f":"'t-values'!B12","v":2.3650000000000002},null,"Day","ID","lb","kg","mg","mg/kg bw","mg/kg bw per lb"]
[{"$f":"P24","v":1},{"$f":"U24","v":2.1681749622926093E-2},{"$f":"IF(ISBLANK(B24)=FALSE, ($C$6-B24)^2, \"\")","v":1.5344383421442783E-5},1,null,null,{"$f":"IF(ISBLANK(B24)=FALSE,LOG10(B24), \"\")","v":-1.6639056750431052},{"$f":"IF(ISBLANK(B24)=FALSE, ($G$7-G24)^2, \"\")","v":2.6992484230951665E-2},null,null,null,{"$f":"'t-values'!A13","v":9},{"$f":"'t-values'!B13","v":2.306},null,1,1,3.12,85,5.75,{"$f":"S24/R24","v":6.7647058823529407E-2},{"$f":"T24/Q24","v":2.1681749622926093E-2}]
[2,8.7111111111111104E-3,{"$f":"IF(ISBLANK(B25)=FALSE, ($C$6-B25)^2, \"\")","v":8.19649162613756E-5},{"$f":"D24+1","v":2},null,null,{"$f":"IF(ISBLANK(B25)=FALSE,LOG10(B25), \"\")","v":-2.0599264467548863},{"$f":"IF(ISBLANK(B25)=FALSE, ($G$7-G25)^2, \"\")","v":5.3697344972146441E-2},null,null,null,{"$f":"'t-values'!A14","v":10},{"$f":"'t-values'!B14","v":2.262},null,null,2,3,75,1.96,{"$f":"S25/R25","v":2.6133333333333331E-2},{"$f":"T25/Q25","v":8.7111111111111104E-3}]
[3,1.7789469440412833E-2,6.2053668766043032E-10,{"$f":"D25+1","v":3},null,null,-1.7498370042790341,6.1406918546348744E-3,null,null,null,{"$f":"'t-values'!A15","v":11},{"$f":"'t-values'!B15","v":2.2280000000000002},null,null,3,3.12,63.6,3.53,5.5503144654088045E-2,1.7789469440412833E-2]
[4,1.1976921393775842E-2,3.349674751684403E-5,4,null,null,-1.9216548007712206,8.7338799816845721E-3,null,null,null,{"$f":"'t-values'!A16","v":12},{"$f":"'t-values'!B16","v":2.2010000000000001},null,null,4,3.37,77.3,3.12,4.0362225097024584E-2,1.1976921393775842E-2]
[5,1.3325121773696881E-2,1.9708601701848402E-5,5,null,null,-1.8753288134156156,2.2211654957597022E-3,null,null,null,{"$f":"'t-values'!A17","v":13},{"$f":"'t-values'!B17","v":2.1789999999999998},null,null,5,3.37,79.5,3.57,4.4905660377358492E-2,1.3325121773696881E-2]
[6,4.4312561819980223E-3,1.7777696047922725E-4,6,null,null,-2.3534731415928571,0.27591232402009747,null,null,null,{"$f":"'t-values'!A18","v":14},{"$f":"'t-values'!B18","v":2.16},null,null,6,3.37,75,1.1200000000000001,1.4933333333333335E-2,4.4312561819980223E-3]
[7,4.0591330493610625E-3,1.8783869683185289E-4,7,null,null,-2.3915667132413923,0.31738253701807528,null,null,null,{"$f":"'t-values'!A19","v":15},{"$f":"'t-values'!B19","v":2.145},null,null,7,3.25,61.4,0.81,1.3192182410423454E-2,4.0591330493610625E-3]
[8,3.8769230769230771E-2,4.4119624173714618E-4,8,null,null,-1.4115128158613115,0.17362785186300825,null,null,null,{"$f":"'t-values'!A20","v":16},{"$f":"'t-values'!B20","v":2.1309999999999998},null,null,8,3.25,75,9.4499999999999993,0.126,3.8769230769230771E-2]
[9,1.6191786205541365E-2,2.4736138433749877E-6,9,null,null,-1.7907052391761789,1.4058249148655149E-3,null,null,null,{"$f":"'t-values'!A21","v":17},{"$f":"'t-values'!B21","v":2.12},null,null,9,3.5,72.7,4.12,5.6671251719394772E-2,1.6191786205541365E-2]
[10,1.5120274914089347E-2,6.9922376215079281E-6,10,null,null,-1.8204403124997199,6.0206091636188261E-5,null,null,null,{"$f":"'t-values'!A22","v":18},{"$f":"'t-values'!B22","v":2.11},null,null,10,3.25,58.2,2.86,4.9140893470790377E-2,1.5120274914089347E-2]
[1,1.9746754287546082E-2,3.9290986868176925E-6,11,null,null,-1.7045042778019566,1.5300525545991152E-2,null,null,null,{"$f":"'t-values'!A23","v":19},{"$f":"'t-values'!B23","v":2.101},null,2,1,3.67,85,6.16,7.247058823529412E-2,1.9746754287546082E-2]
[2,1.9498746867167918E-2,3.0074080213120698E-6,12,null,null,-1.7099932986970594,1.3972722798990964E-2,null,null,null,{"$f":"'t-values'!A24","v":20},{"$f":"'t-values'!B24","v":2.093},null,null,2,2.66,75,3.89,5.1866666666666665E-2,1.9498746867167918E-2]
[3,3.7744417596353226E-2,3.9919475486087678E-4,13,null,null,-1.4231472714884554,0.1640673652958454,null,null,null,{"$f":"'t-values'!A25","v":21},{"$f":"'t-values'!B25","v":2.0859999999999999},null,null,3,3.67,63.6,8.81,0.13852201257861635,3.7744417596353226E-2]
[4,1.6937624198130191E-2,6.838209459180757E-7,14,null,null,-1.7711475072286129,3.2549379744129408E-3,null,null,null,{"$f":"'t-values'!A26","v":22},{"$f":"'t-values'!B26","v":2.08},null,null,4,2.91,77.3,3.81,4.9288486416558863E-2,1.6937624198130191E-2]
[5,1.0763145950852622E-2,4.9019782816800998E-5,15,null,null,-1.9680607705466413,1.9561155153730071E-2,null,null,null,{"$f":"'t-values'!A27","v":23},{"$f":"'t-values'!B27","v":2.0739999999999998},null,null,5,2.91,79.5,2.4900000000000002,3.1320754716981133E-2,1.0763145950852622E-2]
[6,7.1935853379152355E-3,1.1174548134416427E-4,16,null,null,-2.1430545999683734,9.9133689300678826E-2,null,null,null,{"$f":"'t-values'!A28","v":24},{"$f":"'t-values'!B28","v":2.069},null,null,6,2.91,75,1.57,2.0933333333333335E-2,7.1935853379152355E-3]
[7,1.2857877593005317E-2,2.4075521120649507E-5,17,null,null,-1.8908307130383153,3.9226599597876289E-3,null,null,null,{"$f":"'t-values'!A29","v":25},{"$f":"'t-values'!B29","v":2.0640000000000001},null,null,7,3.42,61.4,2.7,4.3973941368078182E-2,1.2857877593005317E-2]
[8,4.1619585687382298E-2,5.6906230462021963E-4,18,null,null,-1.3807022473963584,0.20025385458409378,null,null,null,{"$f":"'t-values'!A30","v":26},{"$f":"'t-values'!B30","v":2.06},null,null,8,3.54,75,11.05,0.14733333333333334,4.1619585687382298E-2]
[9,1.1535180122925844E-2,3.8805159532145454E-5,19,null,null,-1.9379756195406339,1.2050780845051146E-2,null,null,null,{"$f":"'t-values'!A31","v":27},{"$f":"'t-values'!B31","v":2.056},null,null,9,3.16,72.7,2.65,3.6451169188445667E-2,1.1535180122925844E-2]
[10,2.5338205228587582E-2,5.7360119216440383E-5,20,null,null,-1.5962241505782921,5.3812595654775357E-2,null,null,null,{"$f":"'t-values'!A32","v":28},{"$f":"'t-values'!B32","v":2.052},null,null,10,3.16,58.2,4.66,8.0068728522336763E-2,2.5338205228587582E-2]
[null,null,null,21,null,null,"","",null,null,null,{"$f":"'t-values'!A33","v":29},{"$f":"'t-values'!B33","v":2.048},null,null,null,null,null,null,"Max:",{"$f":"MAX(U24:U43)","v":4.1619585687382298E-2}]
[null,null,"",22,null,null,"","",null,null,null,{"$f":"'t-values'!A34","v":30},{"$f":"'t-values'!B34","v":2.0449999999999999},null,null,null,null,null,null,{"$f":"AVERAGE(T34:T43)","v":6.7222901435964461E-2},"This is average for second day.  Agrees with Spenser et al. average"]
[null,null,"",23,null,null,"","",null,null,null,{"$f":"'t-values'!A35","v":"∞"},{"$f":"'t-values'!B35","v":1.96}]
[null,null,"",24,null,null,"",""]
[null,null,"",25,null,null,"",""]
[null,null,"",26,null,null,"",""]
[null,null,"",27,null,null,"",""]
[null,null,"",28,null,null,"",""]
[null,null,"",29,null,null,"",""]
[null,null,"",30,null,null,"",""]
[null,null,"",31,null,null,"",""]
[null,null,"",32,null,null,"",""]
[null,null,"",33,null,null,"",""]
[null,null,"",34,null,null,"",""]
[null,null,"",35,null,null,"",""]
[null,null,"",36,null,null,"",""]
[null,null,"",37,null,null,"",""]
[null,null,"",38,null,null,"",""]
[null,null,"",39,null,null,"",""]
[null,null,"",40,null,null,"",""]
[null,null,"",41,null,null,"",""]
[null,null,"",42,null,null,"",""]
[null,null,"",43,null,null,"",""]
[null,null,"",44,null,null,"",""]
[null,null,"",45,null,null,"",""]
["NOTE: If there are more than 45 items, insert additional cellss in the middle of the data area.  The formulae should update correctly but check."]

{"sheet":"Spenser et al. 2000-2","index":56,"n_rows":69,"n_cols":21,"rows_kept":69,"cut":false,"hidden":false,"merged":[[8,2,8,8],[0,1,0,8],[1,1,1,8],[2,2,2,8],[3,2,3,4],[3,6,3,8],[9,2,9,4],[9,6,9,8],[15,3,15,4],[15,7,15,8],[21,0,21,8]]}
[null,"Spenser et al. 2000"]
["Subgroup:","Check of Table IX in report for mg/kg dose (not rate) Day 2 only."]
[null,null,"Confidence Intervals"]
[null,null,"Arithmetic",null,null,null,"Geometric (Log10)"]
[null,null,"Mean","Lower Limit","Upper Limit",null,"Mean","Lower Limit","Upper Limit"]
[null,null,{"$f":"IF(C15>0,AVERAGE(B24:B68), \"\")","v":6.7222901435964461E-2},{"$f":"IF(C15>1, C6-C20, \"\")","v":3.5979305684621231E-2},{"$f":"IF(C15>1, C6+C20, \"\")","v":9.8466497187307683E-2},"Inverse log",{"$f":"IF(C15>0, 10^G7, \"\")","v":5.6268531481605669E-2},{"$f":"IF(C15>1,10^H7, \"\")","v":3.5971514322619733E-2},{"$f":"IF(C15>1, 10^I7, \"\")","v":8.801819146950679E-2}]
[null,null,null,null,null,"Log",{"$f":"IF(C15>0, AVERAGE(G24:G68), \"\")","v":-1.2497344190872999},{"$f":"IF(C15>1, G7-G20, \"\")","v":-1.444041278942281},{"$f":"IF(C15>1, G7+G20, \"\")","v":-1.0554275592323188}]
[]
[null,null,"Prediction Intervals"]
[null,null,"Arithmetic",null,null,null,"Geometric (Log10)"]
[null,null,"Mean","Lower Limit","Upper Limit",null,"Mean","Lower Limit","Upper Limit"]
[null,null,{"$f":"IF(C15>0,AVERAGE(B24:B68), \"\")","v":6.7222901435964461E-2},{"$f":"IF(C15>1, C12-C21, \"\")","v":-3.6400382772783166E-2},{"$f":"IF(C15>1, C12+C21, \"\")","v":0.1708461856447121},"Inverse log",{"$f":"IF($C$15>0, 10^G13, \"\")","v":5.6268531481605669E-2},{"$f":"IF($C$15>0, 10^H13, \"\")","v":1.2759176130765744E-2},0.24814671438401334]
[null,null,null,null,null,"Log",{"$f":"IF(C15>0, AVERAGE(G24:G68), \"\")","v":-1.2497344190872999},{"$f":"IF(C15>1, G13-G21, \"\")","v":-1.8941773674184426},{"$f":"IF(C15>1, G13+G21, \"\")","v":-0.60529147075615719},null,null,{"$f":"'t-values'!A3","v":"95% Confidence Interval"}]
[]
[null,"n:",{"$f":"COUNTA(B24:B68)","v":10},null,null,null,null,null,null,null,null,{"$f":"'t-values'!A4","v":"alpha = 0.025"}]
[null,"SSE:",{"$f":"IF(C15>0, SUM(C24:C68), \"\")","v":1.7170357131080796E-2},"Check",null,"SSE:",{"$f":"IF(C15>0, SUM(H24:H68), \"\")","v":0.66410014470486778},"Check",null,null,null,{"$f":"'t-values'!A5","v":"n"},{"$f":"'t-values'!B5","v":"t-value"}]
[null,"Variance (s2):",{"$f":"IF(C15>1, C16/(C15-1), \"\")","v":1.9078174590089773E-3},{"$f":"IF(C15>1, VAR(B24:B68), \"\")","v":1.9078174590089758E-3},{"$f":"IF(C15>1, C17-D17, \"\")","v":1.5178830414797062E-18},"Variance (s2):",{"$f":"IF(C15>1, G16/(C15-1), \"\")","v":7.3788904967207525E-2},{"$f":"IF(C15>1, VAR(G24:G68), \"\")","v":7.3788904967207747E-2},{"$f":"IF(C15>1, G17-H17, \"\")","v":-2.2204460492503131E-16},null,null,{"$f":"'t-values'!A6","v":2},{"$f":"'t-values'!B6","v":12.706}]
[null,"Std Dev (s):",{"$f":"IF(C15>1, C17^0.5, \"\")","v":4.367856979124863E-2},{"$f":"IF(C15>1, STDEV(B24:B68), \"\")","v":4.3678569791248609E-2},{"$f":"IF(C15>1, C18-D18, \"\")","v":2.0816681711721685E-17},"Std Dev (s):",{"$f":"IF(C15>1, G17^0.5, \"\")","v":0.27164113268650519},{"$f":"IF(C15>1, STDEV(G24:G31), \"\")","v":0.29396836524188491},{"$f":"IF(C15>1, G18-H18, \"\")","v":-2.2327232555379717E-2},null,null,{"$f":"'t-values'!A7","v":3},{"$f":"'t-values'!B7","v":4.3029999999999999}]
[null,"t-value:",{"$f":"IF(C15>1, IF(C15<31, OFFSET(M16, C15-1, 0), 1.96), \"\")","v":2.262},null,null,"t-value:",{"$f":"C19","v":2.262},null,null,null,null,{"$f":"'t-values'!A8","v":4},{"$f":"'t-values'!B8","v":3.1819999999999999}]
[null,"Conf. Interval Factor:",{"$f":"IF(C15>1, C19*C18/(C15^0.5), \"\")","v":3.124359575134323E-2},"t x s / n0.5",null,"Conf. Interval Factor:",{"$f":"IF(C15>1, G19*G18/(C15^0.5), \"\")","v":0.19430685985498106},"t x s / n0.5",null,null,null,{"$f":"'t-values'!A9","v":5},{"$f":"'t-values'!B9","v":2.7759999999999998}]
[null,"Pred. Interal Factor:",{"$f":"IF(C15>1, C19*C18*(1+(1/C15))^0.5, \"\")","v":0.10362328420874763},"t x s x (1+ 1/n)0.5",null,"Pred. Interal Factor:",{"$f":"IF(C15>1, G19*G18*((1+(1/C15))^0.5), \"\")","v":0.64444294833114268},"t x s x (1+ 1/n)0.5",null,null,null,{"$f":"'t-values'!A10","v":6},{"$f":"'t-values'!B10","v":2.5710000000000002},null,"See SERA  2011c (triclopyr RA), Table 14",null,null,null,"These are also in Spenser: BW in Table IV (p. 17),  amount handled in Table VI (p. 22), urne in Table IX, p. 26., "]
["RAW DATA (only enter data under Identifier and Rate.  Everything else is a link.)",null,null,null,null,null,null,null,null,null,null,{"$f":"'t-values'!A11","v":7},{"$f":"'t-values'!B11","v":2.4470000000000001},null,null,"Worker","Amount","BW","Urine","Dose","Rate"]
["Identifier","Rate","(x - xbar)2","n",null,null,"Log Rate","(x - xbar)2",null,null,null,{"$f":"'t-values'!A12","v":8},{"$f":"'t-values'!B12","v":2.3650000000000002},null,"Day","ID","lb","kg","mg","mg/kg bw","mg/kg bw per lb"]
[{"$f":"P24","v":1},{"$f":"T24","v":7.247058823529412E-2},{"$f":"IF(ISBLANK(B24)=FALSE, ($C$6-B24)^2, \"\")","v":2.7538216743858765E-5},1,null,null,{"$f":"IF(ISBLANK(B24)=FALSE,LOG10(B24), \"\")","v":-1.1398382135498673},{"$f":"IF(ISBLANK(B24)=FALSE, ($G$7-G24)^2, \"\")","v":1.2077175991525637E-2},null,null,null,{"$f":"'t-values'!A13","v":9},{"$f":"'t-values'!B13","v":2.306},null,2,1,3.67,85,6.16,{"$f":"S24/R24","v":7.247058823529412E-2},{"$f":"T24/Q24","v":1.9746754287546082E-2}]
[2,5.1866666666666665E-2,{"$f":"IF(ISBLANK(B25)=FALSE, ($C$6-B25)^2, \"\")","v":2.358139462897905E-4},{"$f":"D24+1","v":2},null,null,{"$f":"IF(ISBLANK(B25)=FALSE,LOG10(B25), \"\")","v":-1.2851116620659924},{"$f":"IF(ISBLANK(B25)=FALSE, ($G$7-G25)^2, \"\")","v":1.2515493207734471E-3},null,null,null,{"$f":"'t-values'!A14","v":10},{"$f":"'t-values'!B14","v":2.262},null,null,2,2.66,75,3.89,5.1866666666666665E-2,1.9498746867167918E-2]
[3,0.13852201257861635,5.0835632497322264E-3,{"$f":"D25+1","v":3},null,null,-0.85848120723636601,0.15307907578367175,null,null,null,{"$f":"'t-values'!A15","v":11},{"$f":"'t-values'!B15","v":2.2280000000000002},null,null,3,3.67,63.6,8.81,0.13852201257861635,3.7744417596353226E-2]
[4,4.9288486416558863E-2,3.216432420882811E-4,4,null,null,-1.3072545182427056,3.3085618068477013E-3,null,null,null,{"$f":"'t-values'!A16","v":12},{"$f":"'t-values'!B16","v":2.2010000000000001},null,null,4,2.91,77.3,3.81,4.9288486416558863E-2,1.6937624198130191E-2]
[5,3.1320754716981133E-2,1.2889641390314052E-3,5,null,null,-1.5041677815607339,6.4736335939537884E-2,null,null,null,{"$f":"'t-values'!A17","v":13},{"$f":"'t-values'!B17","v":2.1789999999999998},null,null,5,2.91,79.5,2.4900000000000002,3.1320754716981133E-2,1.0763145950852622E-2]
[6,2.0933333333333335E-2,2.1427241151281253E-3,6,null,null,-1.6791616109824663,0.18440771313896809,null,null,null,{"$f":"'t-values'!A18","v":14},{"$f":"'t-values'!B18","v":2.16},null,null,6,2.91,75,1.57,2.0933333333333335E-2,7.1935853379152355E-3]
[7,4.3973941368078182E-2,5.4051414423817075E-4,7,null,null,-1.3568046069821804,1.1464025135845024E-2,null,null,null,{"$f":"'t-values'!A19","v":15},{"$f":"'t-values'!B19","v":2.145},null,null,7,3.42,61.4,2.7,4.3973941368078182E-2,1.2857877593005317E-2]
[8,0.14733333333333334,6.4176812987829781E-3,8,null,null,-0.83169898537057052,0.17475362384273402,null,null,null,{"$f":"'t-values'!A20","v":16},{"$f":"'t-values'!B20","v":2.1309999999999998},null,null,8,3.54,75,11.05,0.14733333333333334,4.1619585687382298E-2]
[9,3.6451169188445667E-2,9.4689950551298798E-4,9,null,null,-1.43828853692223,3.5552655352508726E-2,null,null,null,{"$f":"'t-values'!A21","v":17},{"$f":"'t-values'!B21","v":2.12},null,null,9,3.16,72.7,2.65,3.6451169188445667E-2,1.1535180122925844E-2]
[10,8.0068728522336763E-2,1.6501527353297632E-4,10,null,null,-1.0965370679598883,2.3469428392455447E-2,null,null,null,{"$f":"'t-values'!A22","v":18},{"$f":"'t-values'!B22","v":2.11},null,null,10,3.16,58.2,4.66,8.0068728522336763E-2,2.5338205228587582E-2]
[null,null,"",11,null,null,"","",null,null,null,{"$f":"'t-values'!A23","v":19},{"$f":"'t-values'!B23","v":2.101}]
[null,null,"",12,null,null,"","",null,null,null,{"$f":"'t-values'!A24","v":20},{"$f":"'t-values'!B24","v":2.093}]
[null,null,"",13,null,null,"","",null,null,null,{"$f":"'t-values'!A25","v":21},{"$f":"'t-values'!B25","v":2.0859999999999999}]
[null,null,"",14,null,null,"","",null,null,null,{"$f":"'t-values'!A26","v":22},{"$f":"'t-values'!B26","v":2.08}]
[null,null,"",15,null,null,"","",null,null,null,{"$f":"'t-values'!A27","v":23},{"$f":"'t-values'!B27","v":2.0739999999999998}]
[null,null,"",16,null,null,"","",null,null,null,{"$f":"'t-values'!A28","v":24},{"$f":"'t-values'!B28","v":2.069}]
[null,null,"",17,null,null,"","",null,null,null,{"$f":"'t-values'!A29","v":25},{"$f":"'t-values'!B29","v":2.0640000000000001}]
[null,null,"",18,null,null,"","",null,null,null,{"$f":"'t-values'!A30","v":26},{"$f":"'t-values'!B30","v":2.06}]
[null,null,"",19,null,null,"","",null,null,null,{"$f":"'t-values'!A31","v":27},{"$f":"'t-values'!B31","v":2.056}]
[null,null,"",20,null,null,"","",null,null,null,{"$f":"'t-values'!A32","v":28},{"$f":"'t-values'!B32","v":2.052}]
[null,null,"",21,null,null,"","",null,null,null,{"$f":"'t-values'!A33","v":29},{"$f":"'t-values'!B33","v":2.048}]
[null,null,"",22,null,null,"","",null,null,null,{"$f":"'t-values'!A34","v":30},{"$f":"'t-values'!B34","v":2.0449999999999999}]
[null,null,"",23,null,null,"","",null,null,null,{"$f":"'t-values'!A35","v":"∞"},{"$f":"'t-values'!B35","v":1.96}]
[null,null,"",24,null,null,"",""]
[null,null,"",25,null,null,"",""]
[null,null,"",26,null,null,"",""]
[null,null,"",27,null,null,"",""]
[null,null,"",28,null,null,"",""]
[null,null,"",29,null,null,"",""]
[null,null,"",30,null,null,"",""]
[null,null,"",31,null,null,"",""]
[null,null,"",32,null,null,"",""]
[null,null,"",33,null,null,"",""]
[null,null,"",34,null,null,"",""]
[null,null,"",35,null,null,"",""]
[null,null,"",36,null,null,"",""]
[null,null,"",37,null,null,"",""]
[null,null,"",38,null,null,"",""]
[null,null,"",39,null,null,"",""]
[null,null,"",40,null,null,"",""]
[null,null,"",41,null,null,"",""]
[null,null,"",42,null,null,"",""]
[null,null,"",43,null,null,"",""]
[null,null,"",44,null,null,"",""]
[null,null,"",45,null,null,"",""]
["NOTE: If there are more than 45 items, insert additional cellss in the middle of the data area.  The formulae should update correctly but check."]

{"sheet":"Zhang et al. 2011-1","index":57,"n_rows":36,"n_cols":28,"rows_kept":36,"cut":false,"hidden":false,"merged":[]}
[null,null,null,null,null,null,null,null,null,null,"a.i. to a.e. factors","Conv. Factor","MW acid","MW ester"]
[null,"See Section 3.2.2.2.1 for discussion.",null,null,null,null,null,null,null,null,"Triclopyr:",{"$f":"M2/N2","v":0.71914869752965271},256.47000000000003,356.63,"BEE"]
[null,null,null,null,null,null,null,null,null,null,"2,4=D:",{"$f":"M3/N3","v":0.66324601674318118},221.04,333.27,"2-EHE"]
[null,null,null,null,null,null,null,null,null,null,null,null,null,null,null,null,null,null,null,null,null,null,"Amounts Applied/day","Triclopyr","2,4-D","p. 290 of paper"]
[null,"TRICHLOPYR (as ester, ug/kg/day)",null,null,null,null,null,null,null,null,"TRICHLOPYR (as acid, ug a.e./kg/day)",null,null,null,null,null,null,null,null,null,null,null,null,2,2.75,"lbs/day"]
[null,"GROUP A",null,null,null,null,"Group B"]
[null,"Worker",null,null,null,null,null,null,null,null,null,null,null,null,null,null,null,null,null,null,null,null,"Note change to mg/kg below to be consistent with the rates used in report."]
["Day","U-1022","U-1234","U-1970","U-1978","U-3525","U-2123","U-3335","U-6670",null,null,null,null,null,null,null,null,null,null,null,null,null,"Average of Last 3 days"]
["8-05",18.135016579681729,6.7665497862220265,6.3846351141631015,3.1484194766319886,4.5725049560712483,3.5828219948094637,2.0394480060276616,6.1543395395795368,null,null,null,null,null,null,null,null,null,null,null,null,null,null,"ug ester/kg bw/day"]
["8-06",16.599386708179839,11.283396738352286,17.621235619800132,11.625236712877538,15.961300795747723,10.364828488852158,20.759848395983592,41.952996423199025,null,null,null,null,null,null,null,null,null,null,null,null,null,"Worker","Triclopyr","2,4-D"]
["8-07",25.608253085299058,19.582577139199316,14.247955307007803,17.14370439989445,29.406156230216386,6.1371663334995556,28.852885530366148,27.799915309065906,null,null,null,null,null,null,null,null,null,null,null,null,null,"U-1022",22.94073713910123,14.233970160547504]
["8-08",35.346268281914099,29.023744991646023,22.977591998231581,20.439654423534936,42.193247923916012,8.962270140929931,18.118293383372293,34.80931477012426,null,null,null,null,null,null,null,null,null,null,null,null,null,"U-1234",26.53374427763438,11.201286249857771]
["8-09",28.12538597857867,39.364598241183756,44.792471039157903,31.29237916239925,62.438815367602011,9.4253627204639709,17.568061010516388,42.018958786504562,null,null,null,null,null,null,null,null,null,null,null,null,null,"U-1970",28.658995186876055,13.123243979187375]
["8-10",32.227902248077477,42.299798324460504,51.783773124683336,26.057876247613638,61.848840944460925,8.7926170907598937,37.78783006377023,117.27441717722313,null,null,null,null,null,null,null,null,null,null,"Ave",null,null,"U-1978",18.647504112581682,16.75367358013882]
["Average all",{"$f":"AVERAGE(B9:B14)","v":26.007035480288476},{"$f":"AVERAGE(C9:C14)","v":24.720110870177319},26.301277033840645,18.284545070491966,36.070144369669052,7.8775111282191617,20.854394398339384,45.0016570009494,null,"Average all",{"$f":"B15*$L$2","v":18.702925692256922},{"$f":"C15*$L$2","v":17.777435535076627},18.914529122253068,13.149306772366529,25.939797343154034,5.6651018676341556,14.997410569335454,32.362883018908938,{"$f":"AVERAGE(L15:S15)","v":18.438673740123214},null,null,"U-3525",39.908175148287704,19.466676426660097]
["Average Last 3",{"$f":"AVERAGE(B12:B14)","v":31.899852169523417},{"$f":"AVERAGE(C12:C14)","v":36.896047185763429},39.851278720690942,25.929969944515943,55.493634745326318,9.0600833173845992,24.491394819219636,64.700896911283976,null,"Average Last 3",{"$f":"B16*$L$2","v":22.94073713910123},26.53374427763438,28.658995186876055,18.647504112581682,39.908175148287704,6.5155471172072694,17.612954684926287,46.529565742750201,{"$f":"AVERAGE(L16:S16)","v":25.9184029261706},null,null,"U-2123",6.5155471172072694,4.9701393520603876]
["Max",{"$f":"MAX(B9:B14)","v":35.346268281914099},{"$f":"MAX(C9:C14)","v":42.299798324460504},51.783773124683336,31.29237916239925,62.438815367602011,10.364828488852158,37.78783006377023,117.27441717722313,null,"Max",25.419222797472202,30.419844870802759,37.240232995787053,22.503873717243465,44.902792746905448,7.4538529078762679,27.175068772832216,84.337744366549146,34.931579146933572,null,null,"U-3335",17.612954684926287,9.7787854285996971]
[null,null,null,null,null,null,null,null,null,null,null,null,null,null,null,null,null,null,null,null,null,null,"U-6670",46.529565742750201,34.72991434137117]
[]
[]
[null,null,null,null,null,null,null,null,null,null,null,null,null,null,null,null,null,null,null,null,null,null,null,"ug a.e./kg bw/day",null,null,"mg a.e./kg bw/day"]
[null,null,null,null,null,null,null,null,null,null,null,null,null,null,null,null,null,null,null,null,null,null,"Worker","Triclopyr","2,4-D",null,"Triclopyr","2,4-D"]
[null,null,null,null,null,null,null,null,null,null,null,null,null,null,null,null,null,null,null,null,null,null,"U-1022",{"$f":"X11/X$5","v":11.470368569550615},{"$f":"Y11/Y$5","v":5.1759891492900012},null,{"$f":"X23/1000","v":1.1470368569550615E-2},{"$f":"Y23/1000","v":5.1759891492900011E-3}]
[null,"2,4-D (as ester)",null,null,null,null,null,null,null,null,"2,4-D (as acid, ug a.e./kg/day)",null,null,null,null,null,null,null,null,null,null,null,"U-1234",{"$f":"X12/X$5","v":13.26687213881719},4.0731949999482806,null,{"$f":"X24/1000","v":1.3266872138817189E-2},4.0731949999482809E-3]
[null,"GROUP A",null,null,null,null,"Group B",null,null,null,null,null,null,null,null,null,null,null,null,null,null,null,"U-1970",14.329497593438028,4.7720887197044997,null,1.4329497593438028E-2,4.7720887197044998E-3]
[null,"Worker",null,null,null,null,null,null,null,null,null,null,null,null,null,null,null,null,null,null,null,null,"U-1978",9.3237520562908411,6.0922449382322981,null,9.3237520562908412E-3,6.0922449382322984E-3]
["Day","U-1022","U-1234","U-1970","U-1978","U-3525","U-2123","U-3335","U-6670",null,null,null,null,null,null,null,null,null,null,null,null,null,"U-3525",19.954087574143852,7.078791427876399,null,1.9954087574143853E-2,7.0787914278763993E-3]
["8-05",6.2237272109954818,3.8286032733499336,4.231320644269986,2.663218921745182,2.916922820692212,3.9737884549002054,1.5612219090103352,6.9644132537142909,null,null,null,null,null,null,null,null,null,null,null,null,null,"U-2123",3.2577735586036347,1.8073234007492318,null,3.2577735586036345E-3,1.8073234007492318E-3]
["8-06",7.6640582891501214,9.4127425670944032,7.5336692669197847,12.607282354460533,12.267995053983746,8.8986505834098129,12.060826779646842,38.347462496073831,null,null,null,null,null,null,null,null,null,null,null,null,null,"U-3335",8.8064773424631433,3.5559219740362535,null,8.806477342463143E-3,3.5559219740362536E-3]
["8-07",21.207341453357728,13.325064592311934,8.742327709923174,15.050605457819744,15.236453167014842,6.6556054499097117,18.052062919054048,32.327718954216543,null,null,null,null,null,null,null,null,null,null,null,null,null,"U-6670",23.2647828713751,12.629059760498608,null,2.3264782871375102E-2,1.2629059760498608E-2]
["8-08",18.399434764044877,14.163990868220017,18.026244088647928,29.95446062147542,30.505024150852798,7.5246664395113392,13.575563627893969,27.263775445533863,null,null,null,null,null,null,null,null,null,null,null,null,null,"Average:",{"$f":"AVERAGE(X23:X30)","v":12.9592014630853},{"$f":"AVERAGE(Y23:Y30)","v":5.6480767962919467},null,{"$f":"AVERAGE(AA23:AA30)","v":1.2959201463085303E-2},5.6480767962919466E-3]
["8-09",18.023487820391047,15.329567727696739,21.512374518168009,17.566773809352984,29.516077622507986,8.4177662413609475,14.479617783121343,37.97376996454998]
["8-10",27.960291794034031,21.172194233753444,19.820549701324353,28.259123794644779,28.030733904068796,6.5385437287526518,16.176303656702132,91.853097268373972,null,null,null,null,null,null,null,null,null,null,"Ave",null,null,"Results in paper based on curve fitting"]
["Average all",{"$f":"AVERAGE(B28:B33)","v":16.579723555328879},{"$f":"AVERAGE(C28:C33)","v":12.872027210404411},13.311080988208872,17.683577493249775,19.745534453186732,7.0015034829741118,12.650932779238111,39.121706230410418,null,"Average all",{"$f":"B34*$L$3","v":10.996435606774973},{"$f":"C34*$L$3","v":8.5373207747105671},8.828521443975422,11.728562334167282,13.096147074541348,4.6437192962960889,8.3906807739154203,25.947315825516604,{"$f":"AVERAGE(L34:S34)","v":11.521087891237212},null,null,null,14.7,6.2]
["Average Last 3",{"$f":"AVERAGE(B31:B33)","v":21.461071459489986},{"$f":"AVERAGE(C31:C33)","v":16.888584276556731},19.786389436046765,25.260119408491061,29.350611892476525,7.4936588032083122,14.743828355905814,52.363547559485937,null,"Average Last 3",{"$f":"B35*$L$3","v":14.233970160547504},11.201286249857771,13.123243979187375,16.75367358013882,19.466676426660097,4.9701393520603876,9.7787854285996971,34.72991434137117,{"$f":"AVERAGE(L35:S35)","v":15.532211189802855}]
["Max",{"$f":"MAX(B28:B33)","v":27.960291794034031},{"$f":"MAX(C28:C33)","v":21.172194233753444},21.512374518168009,29.95446062147542,30.505024150852798,8.8986505834098129,18.052062919054048,91.853097268373972,null,"Max",18.544552159370127,14.04237349124992,14.267996709862443,19.867176690884047,20.232335758707659,5.9019945538359435,11.972958825059882,60.921200888773015,20.718823634717879]

{"sheet":"Zhang et al. 2011-2 Triclopyr","index":58,"n_rows":69,"n_cols":13,"rows_kept":69,"cut":false,"hidden":false,"merged":[[9,2,9,4],[9,6,9,8],[15,3,15,4],[15,7,15,8],[21,0,21,8],[8,2,8,8],[0,1,0,8],[1,1,1,8],[2,2,2,8],[3,2,3,4],[3,6,3,8]]}
[null,"Zhang et al. 2011"]
["Subgroup:","Applicators, Triclopyr"]
[null,null,"Confidence Intervals"]
[null,null,"Arithmetic",null,null,null,"Geometric (Log10)"]
[null,null,"Mean","Lower Limit","Upper Limit",null,"Mean","Lower Limit","Upper Limit"]
[null,null,{"$f":"IF(C15>0,AVERAGE(B24:B68), \"\")","v":1.2959201463085303E-2},{"$f":"IF(C15>1, C6-C20, \"\")","v":7.6341824118404296E-3},{"$f":"IF(C15>1, C6+C20, \"\")","v":1.8284220514330176E-2},"Inverse log",{"$f":"IF(C15>0, 10^G7, \"\")","v":1.1326029768606043E-2},{"$f":"IF(C15>1,10^H7, \"\")","v":6.8219229665927687E-3},{"$f":"IF(C15>1, 10^I7, \"\")","v":1.8803928298155432E-2}]
[null,null,null,null,null,"Log",{"$f":"IF(C15>0, AVERAGE(G24:G68), \"\")","v":-1.945922301236388},{"$f":"IF(C15>1, G7-G20, \"\")","v":-2.166093188970335},{"$f":"IF(C15>1, G7+G20, \"\")","v":-1.725751413502441}]
[]
[null,null,"Prediction Intervals"]
[null,null,"Arithmetic",null,null,null,"Geometric (Log10)"]
[null,null,"Mean","Lower Limit","Upper Limit",null,"Mean","Lower Limit","Upper Limit"]
[null,null,{"$f":"IF(C15>0,AVERAGE(B24:B68), \"\")","v":1.2959201463085303E-2},{"$f":"IF(C15>1, C12-C21, \"\")","v":-3.0158556906493168E-3},{"$f":"IF(C15>1, C12+C21, \"\")","v":2.8934258616819922E-2},"Inverse log",{"$f":"IF($C$15>0, 10^G13, \"\")","v":1.1326029768606043E-2},{"$f":"IF($C$15>0, 10^H13, \"\")","v":2.4749420559474849E-3},5.1831092372884267E-2]
[null,null,null,null,null,"Log",{"$f":"IF(C15>0, AVERAGE(G24:G68), \"\")","v":-1.945922301236388},{"$f":"IF(C15>1, G13-G21, \"\")","v":-2.606434964438229},{"$f":"IF(C15>1, G13+G21, \"\")","v":-1.285409638034547},null,null,{"$f":"'t-values'!A3","v":"95% Confidence Interval"}]
[]
[null,"n:",{"$f":"COUNTA(B24:B68)","v":8},null,null,null,null,null,null,null,null,{"$f":"'t-values'!A4","v":"alpha = 0.025"}]
[null,"SSE:",{"$f":"IF(C15>0, SUM(C24:C68), \"\")","v":2.8390174938121884E-4},"Check",null,"SSE:",{"$f":"IF(C15>0, SUM(H24:H68), \"\")","v":0.48533937202795163},"Check",null,null,null,{"$f":"'t-values'!A5","v":"n"},{"$f":"'t-values'!B5","v":"t-value"}]
[null,"Variance (s2):",{"$f":"IF(C15>1, C16/(C15-1), \"\")","v":4.0557392768745551E-5},{"$f":"IF(C15>1, VAR(B24:B68), \"\")","v":4.0557392768745477E-5},{"$f":"IF(C15>1, C17-D17, \"\")","v":7.453889935837843E-20},"Variance (s2):",{"$f":"IF(C15>1, G16/(C15-1), \"\")","v":6.9334196003993084E-2},{"$f":"IF(C15>1, VAR(G24:G68), \"\")","v":6.9334196003993556E-2},{"$f":"IF(C15>1, G17-H17, \"\")","v":-4.7184478546569153E-16},null,null,{"$f":"'t-values'!A6","v":2},{"$f":"'t-values'!B6","v":12.706}]
[null,"Std Dev (s):",{"$f":"IF(C15>1, C17^0.5, \"\")","v":6.368468636080855E-3},{"$f":"IF(C15>1, STDEV(B24:B68), \"\")","v":6.3684686360808498E-3},{"$f":"IF(C15>1, C18-D18, \"\")","v":5.2041704279304213E-18},"Std Dev (s):",{"$f":"IF(C15>1, G17^0.5, \"\")","v":0.2633138735501665},{"$f":"IF(C15>1, STDEV(G24:G31), \"\")","v":0.26331387355016744},{"$f":"IF(C15>1, G18-H18, \"\")","v":-9.4368957093138306E-16},null,null,{"$f":"'t-values'!A7","v":3},{"$f":"'t-values'!B7","v":4.3029999999999999}]
[null,"t-value:",{"$f":"IF(C15>1, IF(C15<31, OFFSET(M16, C15-1, 0), 1.96), \"\")","v":2.3650000000000002},null,null,"t-value:",{"$f":"C19","v":2.3650000000000002},null,null,null,null,{"$f":"'t-values'!A8","v":4},{"$f":"'t-values'!B8","v":3.1819999999999999}]
[null,"Conf. Interval Factor:",{"$f":"IF(C15>1, C19*C18/(C15^0.5), \"\")","v":5.3250190512448732E-3},"t x s / n0.5",null,"Conf. Interval Factor:",{"$f":"IF(C15>1, G19*G18/(C15^0.5), \"\")","v":0.22017088773394694},"t x s / n0.5",null,null,null,{"$f":"'t-values'!A9","v":5},{"$f":"'t-values'!B9","v":2.7759999999999998}]
[null,"Pred. Interal Factor:",{"$f":"IF(C15>1, C19*C18*(1+(1/C15))^0.5, \"\")","v":1.597505715373462E-2},"t x s x (1+ 1/n)0.5",null,"Pred. Interal Factor:",{"$f":"IF(C15>1, G19*G18*((1+(1/C15))^0.5), \"\")","v":0.66051266320184088},"t x s x (1+ 1/n)0.5",null,null,null,{"$f":"'t-values'!A10","v":6},{"$f":"'t-values'!B10","v":2.5710000000000002}]
["RAW DATA (only enter data under Identifier and Rate.  Everything else is a link.)",null,null,null,null,null,null,null,null,null,null,{"$f":"'t-values'!A11","v":7},{"$f":"'t-values'!B11","v":2.4470000000000001}]
["Identifier","Rate","(x - xbar)2","n",null,null,"Log Rate","(x - xbar)2",null,null,null,{"$f":"'t-values'!A12","v":8},{"$f":"'t-values'!B12","v":2.3650000000000002}]
["U-1022",1.1470368569550615E-2,{"$f":"IF(ISBLANK(B24)=FALSE, ($C$6-B24)^2, \"\")","v":2.2166233848708712E-6},1,null,null,{"$f":"IF(ISBLANK(B24)=FALSE,LOG10(B24), \"\")","v":-1.9404226269853646},{"$f":"IF(ISBLANK(B24)=FALSE, ($G$7-G24)^2, \"\")","v":3.0246416867369561E-5},null,null,null,{"$f":"'t-values'!A13","v":9},{"$f":"'t-values'!B13","v":2.306}]
["U-1234",1.3266872138817189E-2,{"$f":"IF(ISBLANK(B25)=FALSE, ($C$6-B25)^2, \"\")","v":9.4661244705315707E-8},{"$f":"D24+1","v":2},null,null,{"$f":"IF(ISBLANK(B25)=FALSE,LOG10(B25), \"\")","v":-1.877231456410035},{"$f":"IF(ISBLANK(B25)=FALSE, ($G$7-G25)^2, \"\")","v":4.7184321629581086E-3},null,null,null,{"$f":"'t-values'!A14","v":10},{"$f":"'t-values'!B14","v":2.262}]
["U-1970",1.4329497593438028E-2,1.8777114848596527E-6,{"$f":"D25+1","v":3},null,null,-1.8437690361359782,1.04352895706746E-2,null,null,null,{"$f":"'t-values'!A15","v":11},{"$f":"'t-values'!B15","v":2.2280000000000002}]
["U-1978",9.3237520562908412E-3,1.3216492389362202E-5,4,null,null,-2.0304092840592749,7.1380502665147885E-3,null,null,null,{"$f":"'t-values'!A16","v":12},{"$f":"'t-values'!B16","v":2.2010000000000001}]
["U-3525",1.9954087574143853E-2,4.8928431706679807E-5,5,null,null,-1.6999681260896353,6.0493456272119488E-2,null,null,null,{"$f":"'t-values'!A17","v":13},{"$f":"'t-values'!B17","v":2.1789999999999998}]
["U-2123",3.2577735586036345E-3,9.4117703385855576E-5,6,null,null,-2.4870791059288675,0.29285068726497443,null,null,null,{"$f":"'t-values'!A18","v":14},{"$f":"'t-values'!B18","v":2.16}]
["U-3335",8.806477342463143E-3,1.7245117621997091E-5,7,null,null,-2.0551977779294996,1.194112980650679E-2,null,null,null,{"$f":"'t-values'!A19","v":15},{"$f":"'t-values'!B19","v":2.145}]
["U-6670",2.3264782871375102E-2,1.0620500816288835E-4,8,null,null,-1.6333009963524501,9.7732080267336055E-2,null,null,null,{"$f":"'t-values'!A20","v":16},{"$f":"'t-values'!B20","v":2.1309999999999998}]
[null,null,"",9,null,null,"","",null,null,null,{"$f":"'t-values'!A21","v":17},{"$f":"'t-values'!B21","v":2.12}]
[null,null,"",10,null,null,"","",null,null,null,{"$f":"'t-values'!A22","v":18},{"$f":"'t-values'!B22","v":2.11}]
[null,null,"",11,null,null,"","",null,null,null,{"$f":"'t-values'!A23","v":19},{"$f":"'t-values'!B23","v":2.101}]
[null,null,"",12,null,null,"","",null,null,null,{"$f":"'t-values'!A24","v":20},{"$f":"'t-values'!B24","v":2.093}]
[null,null,"",13,null,null,"","",null,null,null,{"$f":"'t-values'!A25","v":21},{"$f":"'t-values'!B25","v":2.0859999999999999}]
[null,null,"",14,null,null,"","",null,null,null,{"$f":"'t-values'!A26","v":22},{"$f":"'t-values'!B26","v":2.08}]
[null,null,"",15,null,null,"","",null,null,null,{"$f":"'t-values'!A27","v":23},{"$f":"'t-values'!B27","v":2.0739999999999998}]
[null,null,"",16,null,null,"","",null,null,null,{"$f":"'t-values'!A28","v":24},{"$f":"'t-values'!B28","v":2.069}]
[null,null,"",17,null,null,"","",null,null,null,{"$f":"'t-values'!A29","v":25},{"$f":"'t-values'!B29","v":2.0640000000000001}]
[null,null,"",18,null,null,"","",null,null,null,{"$f":"'t-values'!A30","v":26},{"$f":"'t-values'!B30","v":2.06}]
[null,null,"",19,null,null,"","",null,null,null,{"$f":"'t-values'!A31","v":27},{"$f":"'t-values'!B31","v":2.056}]
[null,null,"",20,null,null,"","",null,null,null,{"$f":"'t-values'!A32","v":28},{"$f":"'t-values'!B32","v":2.052}]
[null,null,"",21,null,null,"","",null,null,null,{"$f":"'t-values'!A33","v":29},{"$f":"'t-values'!B33","v":2.048}]
[null,null,"",22,null,null,"","",null,null,null,{"$f":"'t-values'!A34","v":30},{"$f":"'t-values'!B34","v":2.0449999999999999}]
[null,null,"",23,null,null,"","",null,null,null,{"$f":"'t-values'!A35","v":"∞"},{"$f":"'t-values'!B35","v":1.96}]
[null,null,"",24,null,null,"",""]
[null,null,"",25,null,null,"",""]
[null,null,"",26,null,null,"",""]
[null,null,"",27,null,null,"",""]
[null,null,"",28,null,null,"",""]
[null,null,"",29,null,null,"",""]
[null,null,"",30,null,null,"",""]
[null,null,"",31,null,null,"",""]
[null,null,"",32,null,null,"",""]
[null,null,"",33,null,null,"",""]
[null,null,"",34,null,null,"",""]
[null,null,"",35,null,null,"",""]
[null,null,"",36,null,null,"",""]
[null,null,"",37,null,null,"",""]
[null,null,"",38,null,null,"",""]
[null,null,"",39,null,null,"",""]
[null,null,"",40,null,null,"",""]
[null,null,"",41,null,null,"",""]
[null,null,"",42,null,null,"",""]
[null,null,"",43,null,null,"",""]
[null,null,"",44,null,null,"",""]
[null,null,"",45,null,null,"",""]
["NOTE: If there are more than 45 items, insert additional cellss in the middle of the data area.  The formulae should update correctly but check."]

{"sheet":"Zhang et al. 2011-3 2,4-D","index":59,"n_rows":69,"n_cols":13,"rows_kept":69,"cut":false,"hidden":false,"merged":[[9,2,9,4],[9,6,9,8],[15,3,15,4],[15,7,15,8],[21,0,21,8],[8,2,8,8],[0,1,0,8],[1,1,1,8],[2,2,2,8],[3,2,3,4],[3,6,3,8]]}
[null,"Zhang et al. 2011"]
["Subgroup:","Applicators, 2,4-D"]
[null,null,"Confidence Intervals"]
[null,null,"Arithmetic",null,null,null,"Geometric (Log10)"]
[null,null,"Mean","Lower Limit","Upper Limit",null,"Mean","Lower Limit","Upper Limit"]
[null,null,{"$f":"IF(C15>0,AVERAGE(B24:B68), \"\")","v":5.6480767962919466E-3},{"$f":"IF(C15>1, C6-C20, \"\")","v":2.9372040513747566E-3},{"$f":"IF(C15>1, C6+C20, \"\")","v":8.3589495412091375E-3},"Inverse log",{"$f":"IF(C15>0, 10^G7, \"\")","v":4.9356184803837919E-3},{"$f":"IF(C15>1,10^H7, \"\")","v":3.0839661958151324E-3},{"$f":"IF(C15>1, 10^I7, \"\")","v":7.8990262010531723E-3}]
[null,null,null,null,null,"Log",{"$f":"IF(C15>0, AVERAGE(G24:G68), \"\")","v":-2.3066584183159451},{"$f":"IF(C15>1, G7-G20, \"\")","v":-2.5108903910138864},{"$f":"IF(C15>1, G7+G20, \"\")","v":-2.1024264456180037}]
[]
[null,null,"Prediction Intervals"]
[null,null,"Arithmetic",null,null,null,"Geometric (Log10)"]
[null,null,"Mean","Lower Limit","Upper Limit",null,"Mean","Lower Limit","Upper Limit"]
[null,null,{"$f":"IF(C15>0,AVERAGE(B24:B68), \"\")","v":5.6480767962919466E-3},{"$f":"IF(C15>1, C12-C21, \"\")","v":-2.4845414384596235E-3},{"$f":"IF(C15>1, C12+C21, \"\")","v":1.3780695031043518E-2},"Inverse log",{"$f":"IF($C$15>0, 10^G13, \"\")","v":4.9356184803837919E-3},{"$f":"IF($C$15>0, 10^H13, \"\")","v":1.2040531648904256E-3},2.0231938667029624E-2]
[null,null,null,null,null,"Log",{"$f":"IF(C15>0, AVERAGE(G24:G68), \"\")","v":-2.3066584183159451},{"$f":"IF(C15>1, G13-G21, \"\")","v":-2.9193543364097687},{"$f":"IF(C15>1, G13+G21, \"\")","v":-1.6939625002221215},null,null,{"$f":"'t-values'!A3","v":"95% Confidence Interval"}]
[]
[null,"n:",{"$f":"COUNTA(B24:B68)","v":8},null,null,null,null,null,null,null,null,{"$f":"'t-values'!A4","v":"alpha = 0.025"}]
[null,"SSE:",{"$f":"IF(C15>0, SUM(C24:C68), \"\")","v":7.3577325816778712E-5},"Check",null,"SSE:",{"$f":"IF(C15>0, SUM(H24:H68), \"\")","v":0.41761222293706857},"Check",null,null,null,{"$f":"'t-values'!A5","v":"n"},{"$f":"'t-values'!B5","v":"t-value"}]
[null,"Variance (s2):",{"$f":"IF(C15>1, C16/(C15-1), \"\")","v":1.0511046545254101E-5},{"$f":"IF(C15>1, VAR(B24:B68), \"\")","v":1.0511046545254098E-5},{"$f":"IF(C15>1, C17-D17, \"\")","v":3.3881317890172014E-21},"Variance (s2):",{"$f":"IF(C15>1, G16/(C15-1), \"\")","v":5.9658888991009795E-2},{"$f":"IF(C15>1, VAR(G24:G68), \"\")","v":5.9658888991009795E-2},{"$f":"IF(C15>1, G17-H17, \"\")","v":0},null,null,{"$f":"'t-values'!A6","v":2},{"$f":"'t-values'!B6","v":12.706}]
[null,"Std Dev (s):",{"$f":"IF(C15>1, C17^0.5, \"\")","v":3.2420744200672047E-3},{"$f":"IF(C15>1, STDEV(B24:B68), \"\")","v":3.2420744200672043E-3},{"$f":"IF(C15>1, C18-D18, \"\")","v":4.3368086899420177E-19},"Std Dev (s):",{"$f":"IF(C15>1, G17^0.5, \"\")","v":0.24425169188975906},{"$f":"IF(C15>1, STDEV(G24:G31), \"\")","v":0.24425169188975906},{"$f":"IF(C15>1, G18-H18, \"\")","v":0},null,null,{"$f":"'t-values'!A7","v":3},{"$f":"'t-values'!B7","v":4.3029999999999999}]
[null,"t-value:",{"$f":"IF(C15>1, IF(C15<31, OFFSET(M16, C15-1, 0), 1.96), \"\")","v":2.3650000000000002},null,null,"t-value:",{"$f":"C19","v":2.3650000000000002},null,null,null,null,{"$f":"'t-values'!A8","v":4},{"$f":"'t-values'!B8","v":3.1819999999999999}]
[null,"Conf. Interval Factor:",{"$f":"IF(C15>1, C19*C18/(C15^0.5), \"\")","v":2.71087274491719E-3},"t x s / n0.5",null,"Conf. Interval Factor:",{"$f":"IF(C15>1, G19*G18/(C15^0.5), \"\")","v":0.20423197269794119},"t x s / n0.5",null,null,null,{"$f":"'t-values'!A9","v":5},{"$f":"'t-values'!B9","v":2.7759999999999998}]
[null,"Pred. Interal Factor:",{"$f":"IF(C15>1, C19*C18*(1+(1/C15))^0.5, \"\")","v":8.1326182347515701E-3},"t x s x (1+ 1/n)0.5",null,"Pred. Interal Factor:",{"$f":"IF(C15>1, G19*G18*((1+(1/C15))^0.5), \"\")","v":0.61269591809382351},"t x s x (1+ 1/n)0.5",null,null,null,{"$f":"'t-values'!A10","v":6},{"$f":"'t-values'!B10","v":2.5710000000000002}]
["RAW DATA (only enter data under Identifier and Rate.  Everything else is a link.)",null,null,null,null,null,null,null,null,null,null,{"$f":"'t-values'!A11","v":7},{"$f":"'t-values'!B11","v":2.4470000000000001}]
["Identifier","Rate","(x - xbar)2","n",null,null,"Log Rate","(x - xbar)2",null,null,null,{"$f":"'t-values'!A12","v":8},{"$f":"'t-values'!B12","v":2.3650000000000002}]
["U-1022",5.1759891492900011E-3,{"$f":"IF(ISBLANK(B24)=FALSE, ($C$6-B24)^2, \"\")","v":2.2286674645183346E-7},1,null,null,{"$f":"IF(ISBLANK(B24)=FALSE,LOG10(B24), \"\")","v":-2.2860066427737489},{"$f":"IF(ISBLANK(B24)=FALSE, ($G$7-G24)^2, \"\")","v":4.2649583304525381E-4},null,null,null,{"$f":"'t-values'!A13","v":9},{"$f":"'t-values'!B13","v":2.306}]
["U-1234",4.0731949999482809E-3,{"$f":"IF(ISBLANK(B25)=FALSE, ($C$6-B25)^2, \"\")","v":2.4802526724546513E-6},{"$f":"D24+1","v":2},null,null,{"$f":"IF(ISBLANK(B25)=FALSE,LOG10(B25), \"\")","v":-2.3900647980224439},{"$f":"IF(ISBLANK(B25)=FALSE, ($G$7-G25)^2, \"\")","v":6.9566241757446513E-3},null,null,null,{"$f":"'t-values'!A14","v":10},{"$f":"'t-values'!B14","v":2.262}]
["U-1970",4.7720887197044998E-3,7.6735511032337447E-7,{"$f":"D25+1","v":3},null,null,-2.3212914907938309,2.1412681014305919E-4,null,null,null,{"$f":"'t-values'!A15","v":11},{"$f":"'t-values'!B15","v":2.2280000000000002}]
["U-1978",6.0922449382322984E-3,1.9728533831474452E-7,4,null,null,-2.2152226442092289,8.3605007864944354E-3,null,null,null,{"$f":"'t-values'!A16","v":12},{"$f":"'t-values'!B16","v":2.2010000000000001}]
["U-3525",7.0787914278763993E-3,2.0469443570298364E-6,5,null,null,-2.1500408836955618,2.4529052150566961E-2,null,null,null,{"$f":"'t-values'!A17","v":13},{"$f":"'t-values'!B17","v":2.1789999999999998}]
["U-2123",1.8073234007492318E-3,1.4751386645372892E-5,6,null,null,-2.7429641282392971,0.19036267251172023,null,null,null,{"$f":"'t-values'!A18","v":14},{"$f":"'t-values'!B18","v":2.16}]
["U-3335",3.5559219740362536E-3,4.3771118002877502E-6,7,null,null,-2.4490477771217543,2.0274729501129463E-2,null,null,null,{"$f":"'t-values'!A19","v":15},{"$f":"'t-values'!B19","v":2.145}]
["U-6670",1.2629059760498608E-2,4.8734123146543626E-5,8,null,null,-1.8986289816716946,0.16648802116822445,null,null,null,{"$f":"'t-values'!A20","v":16},{"$f":"'t-values'!B20","v":2.1309999999999998}]
[null,null,"",9,null,null,"","",null,null,null,{"$f":"'t-values'!A21","v":17},{"$f":"'t-values'!B21","v":2.12}]
[null,null,"",10,null,null,"","",null,null,null,{"$f":"'t-values'!A22","v":18},{"$f":"'t-values'!B22","v":2.11}]
[null,null,"",11,null,null,"","",null,null,null,{"$f":"'t-values'!A23","v":19},{"$f":"'t-values'!B23","v":2.101}]
[null,null,"",12,null,null,"","",null,null,null,{"$f":"'t-values'!A24","v":20},{"$f":"'t-values'!B24","v":2.093}]
[null,null,"",13,null,null,"","",null,null,null,{"$f":"'t-values'!A25","v":21},{"$f":"'t-values'!B25","v":2.0859999999999999}]
[null,null,"",14,null,null,"","",null,null,null,{"$f":"'t-values'!A26","v":22},{"$f":"'t-values'!B26","v":2.08}]
[null,null,"",15,null,null,"","",null,null,null,{"$f":"'t-values'!A27","v":23},{"$f":"'t-values'!B27","v":2.0739999999999998}]
[null,null,"",16,null,null,"","",null,null,null,{"$f":"'t-values'!A28","v":24},{"$f":"'t-values'!B28","v":2.069}]
[null,null,"",17,null,null,"","",null,null,null,{"$f":"'t-values'!A29","v":25},{"$f":"'t-values'!B29","v":2.0640000000000001}]
[null,null,"",18,null,null,"","",null,null,null,{"$f":"'t-values'!A30","v":26},{"$f":"'t-values'!B30","v":2.06}]
[null,null,"",19,null,null,"","",null,null,null,{"$f":"'t-values'!A31","v":27},{"$f":"'t-values'!B31","v":2.056}]
[null,null,"",20,null,null,"","",null,null,null,{"$f":"'t-values'!A32","v":28},{"$f":"'t-values'!B32","v":2.052}]
[null,null,"",21,null,null,"","",null,null,null,{"$f":"'t-values'!A33","v":29},{"$f":"'t-values'!B33","v":2.048}]
[null,null,"",22,null,null,"","",null,null,null,{"$f":"'t-values'!A34","v":30},{"$f":"'t-values'!B34","v":2.0449999999999999}]
[null,null,"",23,null,null,"","",null,null,null,{"$f":"'t-values'!A35","v":"∞"},{"$f":"'t-values'!B35","v":1.96}]
[null,null,"",24,null,null,"",""]
[null,null,"",25,null,null,"",""]
[null,null,"",26,null,null,"",""]
[null,null,"",27,null,null,"",""]
[null,null,"",28,null,null,"",""]
[null,null,"",29,null,null,"",""]
[null,null,"",30,null,null,"",""]
[null,null,"",31,null,null,"",""]
[null,null,"",32,null,null,"",""]
[null,null,"",33,null,null,"",""]
[null,null,"",34,null,null,"",""]
[null,null,"",35,null,null,"",""]
[null,null,"",36,null,null,"",""]
[null,null,"",37,null,null,"",""]
[null,null,"",38,null,null,"",""]
[null,null,"",39,null,null,"",""]
[null,null,"",40,null,null,"",""]
[null,null,"",41,null,null,"",""]
[null,null,"",42,null,null,"",""]
[null,null,"",43,null,null,"",""]
[null,null,"",44,null,null,"",""]
[null,null,"",45,null,null,"",""]
["NOTE: If there are more than 45 items, insert additional cellss in the middle of the data area.  The formulae should update correctly but check."]

{"sheet":"Zhang et al. 2011-4","index":60,"n_rows":12,"n_cols":4,"rows_kept":12,"cut":false,"hidden":false,"merged":[[0,1,0,8],[1,1,1,8]]}
[null,"Zhang et al. 2011"]
["Subgroup:","Comparison of Exposure Rates for 2,4-D and Triclopyr"]
[]
[null,"Dermal Abs. Rate","First Order Rate (hr-1)","First Order Rate (day-1)"]
[null,"2,4-D",6.6E-4,5.8]
[null,"Triclopyr",2.0999999999999999E-3,1.6]
[null,"Ratio",{"$f":"C5/C6","v":0.31428571428571428},{"$f":"D5/D6","v":3.6249999999999996}]
[]
[null,null,"Exposure rate based on curve fitting.  See pp. 289-290 of paper."]
[null,"2,4-D",6.1999999999999998E-3,"mg/kg bw per lb handled"]
[null,"Triclopyr",1.47E-2]
[null,"Ratio",{"$f":"C10/C11","v":0.42176870748299322}]

{"sheet":"BkPkComposite","index":61,"n_rows":69,"n_cols":28,"rows_kept":69,"cut":false,"hidden":false,"merged":[[8,2,8,8],[0,1,0,8],[1,1,1,8],[2,2,2,8],[3,2,3,4],[3,6,3,8],[9,2,9,4],[9,6,9,8],[15,3,15,4],[15,7,15,8],[21,0,21,8]]}
[null,"Composite Middendorf, Spenser, and Zhang"]
["Subgroup:","Triclopyr BEE Middendorf low to medium bush, Spenser, and Zhang individaul measurements."]
[null,null,"Confidence Intervals"]
[null,null,"Arithmetic",null,null,null,"Geometric (Log10)"]
[null,null,"Mean","Lower Limit","Upper Limit",null,"Mean","Lower Limit","Upper Limit"]
[null,null,{"$f":"IF(C15>0,AVERAGE(B24:B68), \"\")","v":1.3721543605880598E-2},{"$f":"IF(C15>1, C6-C20, \"\")","v":1.0638722761248567E-2},{"$f":"IF(C15>1, C6+C20, \"\")","v":1.6804364450512629E-2},"Inverse log",{"$f":"IF(C15>0, 10^G7, \"\")","v":9.9379303042888088E-3},{"$f":"IF(C15>1,10^H7, \"\")","v":7.6957279997689728E-3},{"$f":"IF(C15>1, 10^I7, \"\")","v":1.2833413386734384E-2}]
[null,null,null,null,null,"Log",{"$f":"IF(C15>0, AVERAGE(G24:G68), \"\")","v":-2.002704053330969},{"$f":"IF(C15>1, G7-G20, \"\")","v":-2.1137502905397554},{"$f":"IF(C15>1, G7+G20, \"\")","v":-1.8916578161221826}]
[]
[null,null,"Prediction Intervals"]
[null,null,"Arithmetic",null,null,null,"Geometric (Log10)",null,null,null,null,null,null,null,null,null,null,"Below are links"]
[null,null,"Mean","Lower Limit","Upper Limit",null,"Mean","Lower Limit","Upper Limit",null,null,null,null,null,null,null,null,"Middendorf ","Spencer","Zhang et al. ",null,"Anova: Single Factor"]
[null,null,{"$f":"IF(C15>0,AVERAGE(B24:B68), \"\")","v":1.3721543605880598E-2},{"$f":"IF(C15>1, C12-C21, \"\")","v":-7.1871646412707824E-3},{"$f":"IF(C15>1, C12+C21, \"\")","v":3.4630251853031979E-2},"Inverse log",{"$f":"IF($C$15>0, 10^G13, \"\")","v":9.9379303042888088E-3},{"$f":"IF($C$15>0, 10^H13, \"\")","v":1.7544610154697857E-3},5.6292193364271756E-2,null,null,null,null,null,null,null,null,{"$f":"'Middendorf 1992b-2'!B24","v":4.2461750042977484E-3},{"$f":"'Spenser et al. 2000-1'!B24","v":2.1681749622926093E-2},{"$f":"'Zhang et al. 2011-2 Triclopyr'!B24","v":1.1470368569550615E-2}]
[null,null,null,null,null,"Log",{"$f":"IF(C15>0, AVERAGE(G24:G68), \"\")","v":-2.002704053330969},{"$f":"IF(C15>1, G13-G21, \"\")","v":-2.7558562774653619},{"$f":"IF(C15>1, G13+G21, \"\")","v":-1.2495518291965761},null,null,{"$f":"'t-values'!A3","v":"95% Confidence Interval"},null,null,null,null,null,{"$f":"'Middendorf 1992b-2'!B25","v":2.5213454816342905E-3},{"$f":"'Spenser et al. 2000-1'!B25","v":8.7111111111111104E-3},{"$f":"'Zhang et al. 2011-2 Triclopyr'!B25","v":1.3266872138817189E-2},null,"SUMMARY"]
[null,null,null,null,null,null,null,null,null,null,null,null,null,null,null,null,null,{"$f":"'Middendorf 1992b-2'!B26","v":1.0486505071342618E-3},{"$f":"'Spenser et al. 2000-1'!B26","v":1.7789469440412833E-2},{"$f":"'Zhang et al. 2011-2 Triclopyr'!B26","v":1.4329497593438028E-2},null,"Groups","Count","Sum","Average","Variance"]
[null,"n:",{"$f":"COUNTA(B24:B68)","v":45},null,null,null,null,null,null,null,null,{"$f":"'t-values'!A4","v":"alpha = 0.025"},null,null,null,null,null,{"$f":"'Middendorf 1992b-2'!B27","v":3.8737035126926826E-3},{"$f":"'Spenser et al. 2000-1'!B27","v":1.1976921393775842E-2},{"$f":"'Zhang et al. 2011-2 Triclopyr'!B27","v":9.3237520562908412E-3},null,"Middendorf ",18,0.19511445333952002,1.0839691852195556E-2,1.431518210824378E-4]
[null,"SSE:",{"$f":"IF(C15>0, SUM(C24:C68), \"\")","v":4.8983478324118946E-3},"Check",null,"SSE:",{"$f":"IF(C15>0, SUM(H24:H68), \"\")","v":6.3556612506496037},"Check",null,null,null,{"$f":"'t-values'!A5","v":"n"},{"$f":"'t-values'!B5","v":"t-value"},null,null,null,null,{"$f":"'Middendorf 1992b-2'!B28","v":8.3605524038737038E-3},{"$f":"'Spenser et al. 2000-1'!B28","v":1.3325121773696881E-2},{"$f":"'Zhang et al. 2011-2 Triclopyr'!B28","v":1.9954087574143853E-2},null,"Spencer",20,0.35529117733200971,1.7764558866600486E-2,1.1703560374298157E-4]
[null,"Variance (s2):",{"$f":"IF(C15>1, C16/(C15-1), \"\")","v":1.1132608710027033E-4},{"$f":"IF(C15>1, VAR(B24:B68), \"\")","v":1.1132608710027027E-4},{"$f":"IF(C15>1, C17-D17, \"\")","v":5.4210108624275222E-20},"Variance (s2):",{"$f":"IF(C15>1, G16/(C15-1), \"\")","v":0.14444684660567281},{"$f":"IF(C15>1, VAR(G24:G68), \"\")","v":0.14444684660567475},{"$f":"IF(C15>1, G17-H17, \"\")","v":-1.9428902930940239E-15},null,null,{"$f":"'t-values'!A6","v":2},{"$f":"'t-values'!B6","v":12.706},null,null,null,null,{"$f":"'Middendorf 1992b-2'!B29","v":4.441527185209496E-3},{"$f":"'Spenser et al. 2000-1'!B29","v":4.4312561819980223E-3},{"$f":"'Zhang et al. 2011-2 Triclopyr'!B29","v":3.2577735586036345E-3},null,"Zhang et al. ",8,0.10367361170468242,1.2959201463085303E-2,4.0557392768745477E-5]
[null,"Std Dev (s):",{"$f":"IF(C15>1, C17^0.5, \"\")","v":1.0551117812832455E-2},{"$f":"IF(C15>1, STDEV(B24:B68), \"\")","v":1.0551117812832453E-2},{"$f":"IF(C15>1, C18-D18, \"\")","v":1.7347234759768071E-18},"Std Dev (s):",{"$f":"IF(C15>1, G17^0.5, \"\")","v":0.38006163527206061},{"$f":"IF(C15>1, STDEV(G24:G31), \"\")","v":0.26220452708141911},{"$f":"IF(C15>1, G18-H18, \"\")","v":0.11785710819064149},null,null,{"$f":"'t-values'!A7","v":3},{"$f":"'t-values'!B7","v":4.3029999999999999},null,null,null,null,{"$f":"'Middendorf 1992b-2'!B30","v":4.8791160704518112E-3},{"$f":"'Spenser et al. 2000-1'!B30","v":4.0591330493610625E-3},{"$f":"'Zhang et al. 2011-2 Triclopyr'!B30","v":8.806477342463143E-3}]
[null,"t-value:",{"$f":"IF(C15>1, IF(C15<31, OFFSET(M16, C15-1, 0), 1.96), \"\")","v":1.96},null,null,"t-value:",{"$f":"C19","v":1.96},null,null,null,null,{"$f":"'t-values'!A8","v":4},{"$f":"'t-values'!B8","v":3.1819999999999999},null,null,null,null,{"$f":"'Middendorf 1992b-2'!B31","v":4.2555519089815122E-3},{"$f":"'Spenser et al. 2000-1'!B31","v":3.8769230769230771E-2},{"$f":"'Zhang et al. 2011-2 Triclopyr'!B31","v":2.3264782871375102E-2}]
[null,"Conf. Interval Factor:",{"$f":"IF(C15>1, C19*C18/(C15^0.5), \"\")","v":3.0828208446320301E-3},"t x s / n0.5",null,"Conf. Interval Factor:",{"$f":"IF(C15>1, G19*G18/(C15^0.5), \"\")","v":0.11104623720878641},"t x s / n0.5",null,null,null,{"$f":"'t-values'!A9","v":5},{"$f":"'t-values'!B9","v":2.7759999999999998},null,null,null,null,{"$f":"'Middendorf 1992b-2'!B32","v":3.6609780111585159E-2},{"$f":"'Spenser et al. 2000-1'!B32","v":1.6191786205541365E-2},null,null,"ANOVA"]
[null,"Pred. Interal Factor:",{"$f":"IF(C15>1, C19*C18*(1+(1/C15))^0.5, \"\")","v":2.0908708247151381E-2},"t x s x (1+ 1/n)0.5",null,"Pred. Interal Factor:",{"$f":"IF(C15>1, G19*G18*((1+(1/C15))^0.5), \"\")","v":0.75315222413439287},"t x s x (1+ 1/n)0.5",null,null,null,{"$f":"'t-values'!A10","v":6},{"$f":"'t-values'!B10","v":2.5710000000000002},null,null,null,null,{"$f":"'Middendorf 1992b-2'!B33","v":2.0457280385078216E-3},{"$f":"'Spenser et al. 2000-1'!B33","v":1.5120274914089347E-2},null,null,"Source of Variation","SS","df","MS","F","P-value","F crit"]
["RAW DATA (only enter data under Identifier and Rate.  Everything else is a link.)",null,null,null,null,null,null,null,null,null,null,{"$f":"'t-values'!A11","v":7},{"$f":"'t-values'!B11","v":2.4470000000000001},null,null,null,null,{"$f":"'Middendorf 1992b-2'!B34","v":1.1519527404003938E-2},{"$f":"'Spenser et al. 2000-1'!B34","v":1.9746754287546082E-2},null,null,"Between Groups",4.6967151580275431E-4,2,2.3483575790137715E-4,2.043637378225208,0.14195325201317444,3.2144803278830421]
["Identifier","Rate","(x - xbar)2","n",null,null,"Log Rate","(x - xbar)2",null,null,null,{"$f":"'t-values'!A12","v":8},{"$f":"'t-values'!B12","v":2.3650000000000002},null,null,null,null,{"$f":"'Middendorf 1992b-2'!B35","v":6.0469314079422383E-3},{"$f":"'Spenser et al. 2000-1'!B35","v":1.9498746867167918E-2},null,null,"Within Groups",4.9411591788993152E-3,43,1.1491067857905384E-4]
["WT",4.2461750042977484E-3,{"$f":"IF(ISBLANK(B24)=FALSE, ($C$6-B24)^2, \"\")","v":8.9782610135862151E-5},1,null,null,{"$f":"IF(ISBLANK(B24)=FALSE,LOG10(B24), \"\")","v":-2.3720021105387019},{"$f":"IF(ISBLANK(B24)=FALSE, ($G$7-G24)^2, \"\")","v":0.13638105505740597},null,null,null,{"$f":"'t-values'!A13","v":9},{"$f":"'t-values'!B13","v":2.306},null,null,null,null,{"$f":"'Middendorf 1992b-2'!B36","v":1.3807550028970004E-2},{"$f":"'Spenser et al. 2000-1'!B36","v":3.7744417596353226E-2}]
["MH",2.5213454816342905E-3,{"$f":"IF(ISBLANK(B25)=FALSE, ($C$6-B25)^2, \"\")","v":1.2544443802237049E-4},{"$f":"D24+1","v":2},null,null,{"$f":"IF(ISBLANK(B25)=FALSE,LOG10(B25), \"\")","v":-2.5983676420318429},{"$f":"IF(ISBLANK(B25)=FALSE, ($G$7-G25)^2, \"\")","v":0.35481511090400386},null,null,null,{"$f":"'t-values'!A14","v":10},{"$f":"'t-values'!B14","v":2.262},null,null,null,null,{"$f":"'Middendorf 1992b-2'!B37","v":1.7248295226634579E-2},{"$f":"'Spenser et al. 2000-1'!B37","v":1.6937624198130191E-2},null,null,"Total",5.4108306947020695E-3,45]
["JF",1.0486505071342618E-3,1.6060221949225253E-4,{"$f":"D25+1","v":3},null,null,-2.9793692287876006,0.95387486494973295,null,null,null,{"$f":"'t-values'!A15","v":11},{"$f":"'t-values'!B15","v":2.2280000000000002},null,null,null,null,{"$f":"'Middendorf 1992b-2'!B38","v":2.1857118298582974E-3},{"$f":"'Spenser et al. 2000-1'!B38","v":1.0763145950852622E-2}]
["JDA",3.8737035126926826E-3,9.6979954500999379E-5,4,null,null,-2.4118736225763944,0.16741973639648694,null,null,null,{"$f":"'t-values'!A16","v":12},{"$f":"'t-values'!B16","v":2.2010000000000001},null,null,null,null,{"$f":"'Middendorf 1992b-2'!B39","v":3.520969826625663E-3},{"$f":"'Spenser et al. 2000-1'!B39","v":7.1935853379152355E-3}]
["CWH",8.3605524038737038E-3,2.874022666799533E-5,5,null,null,-2.0777650266245788,5.6341497117840091E-3,null,null,null,{"$f":"'t-values'!A17","v":13},{"$f":"'t-values'!B17","v":2.1789999999999998},null,null,null,null,{"$f":"'Middendorf 1992b-2'!B40","v":3.189355727953163E-2},{"$f":"'Spenser et al. 2000-1'!B40","v":1.2857877593005317E-2}]
["MEC",4.441527185209496E-3,8.6118704767925298E-5,6,null,null,-2.3524676753651419,0.12233459129846375,null,null,null,{"$f":"'t-values'!A18","v":14},{"$f":"'t-values'!B18","v":2.16},null,null,null,null,{"$f":"'Middendorf 1992b-2'!B41","v":3.6609780111585159E-2},{"$f":"'Spenser et al. 2000-1'!B41","v":4.1619585687382298E-2}]
["TRH",4.8791160704518112E-3,7.8188524719309226E-5,7,null,null,-2.3116588502301942,9.5453066527041511E-2,null,null,null,{"$f":"'t-values'!A19","v":15},{"$f":"'t-values'!B19","v":2.145},null,null,null,null,null,{"$f":"'Spenser et al. 2000-1'!B42","v":1.1535180122925844E-2}]
["RVA",4.2555519089815122E-3,8.9604998805762454E-5,8,null,null,-2.3710441076166284,0.13567439559116251,null,null,null,{"$f":"'t-values'!A20","v":16},{"$f":"'t-values'!B20","v":2.1309999999999998},null,null,null,null,null,{"$f":"'Spenser et al. 2000-1'!B43","v":2.5338205228587582E-2}]
["LJK",3.6609780111585159E-2,5.2387137034106692E-4,9,null,null,-1.4364028796028172,0.32069701936588235,null,null,null,{"$f":"'t-values'!A21","v":17},{"$f":"'t-values'!B21","v":2.12}]
["WHS",2.0457280385078216E-3,1.3632466916330447E-4,10,null,null,-2.6891521024058371,0.47121092407869253,null,null,null,{"$f":"'t-values'!A22","v":18},{"$f":"'t-values'!B22","v":2.11}]
["SGG",1.1519527404003938E-2,4.848875353327314E-6,11,null,null,-1.9385653377568495,4.1137748354978044E-3,null,null,null,{"$f":"'t-values'!A23","v":19},{"$f":"'t-values'!B23","v":2.101}]
["G",6.0469314079422383E-3,5.8899672388744265E-5,12,null,null,-2.2184649576915847,4.6552767850510747E-2,null,null,null,{"$f":"'t-values'!A24","v":20},{"$f":"'t-values'!B24","v":2.093}]
["H",1.3807550028970004E-2,7.3971048126337556E-9,13,null,null,-1.8598833745199113,2.039774629605132E-2,null,null,null,{"$f":"'t-values'!A25","v":21},{"$f":"'t-values'!B25","v":2.0859999999999999}]
["I",1.7248295226634579E-2,1.2437976994490832E-5,14,null,null,-1.7632538229241868,5.7336412841861112E-2,null,null,null,{"$f":"'t-values'!A26","v":22},{"$f":"'t-values'!B26","v":2.08}]
["J",2.1857118298582974E-3,1.3307541476468586E-4,15,null,null,-2.6604070971677118,0.43257329387211646,null,null,null,{"$f":"'t-values'!A27","v":23},{"$f":"'t-values'!B27","v":2.0739999999999998}]
["K",3.520969826625663E-3,1.0405170542602332E-4,16,null,null,-2.4533376966526568,0.20307068049337809,null,null,null,{"$f":"'t-values'!A28","v":24},{"$f":"'t-values'!B28","v":2.069}]
["L",3.189355727953163E-2,3.3022208095536006E-4,17,null,null,-1.4962970385898533,0.25644806457900859,null,null,null,{"$f":"'t-values'!A29","v":25},{"$f":"'t-values'!B29","v":2.0640000000000001}]
[1,2.1681749622926093E-2,6.336487983380729E-5,18,null,null,-1.6639056750431052,0.11478434113048649,null,null,null,{"$f":"'t-values'!A30","v":26},{"$f":"'t-values'!B30","v":2.06}]
[2,8.7111111111111104E-3,2.5104433784641995E-5,19,null,null,-2.0599264467548863,3.274402309161577E-3,null,null,null,{"$f":"'t-values'!A31","v":27},{"$f":"'t-values'!B31","v":2.056}]
[3,1.7789469440412833E-2,1.6548020595254782E-5,20,null,null,-1.7498370042790341,6.394174449623366E-2,null,null,null,{"$f":"'t-values'!A32","v":28},{"$f":"'t-values'!B32","v":2.052}]
[4,1.1976921393775842E-2,3.0437066629692954E-6,21,null,null,-1.9216548007712206,6.5689813404938785E-3,null,null,null,{"$f":"'t-values'!A33","v":29},{"$f":"'t-values'!B33","v":2.048}]
[5,1.3325121773696881E-2,1.5715026903189508E-7,22,null,null,-1.8753288134156156,1.6224451743493833E-2,null,null,null,{"$f":"'t-values'!A34","v":30},{"$f":"'t-values'!B34","v":2.0449999999999999}]
[6,4.4312561819980223E-3,8.6309440418350759E-5,23,null,null,-2.3534731415928571,0.12303895328007626,null,null,null,{"$f":"'t-values'!A35","v":"∞"},{"$f":"'t-values'!B35","v":1.96}]
[7,4.0591330493610625E-3,9.3362177762740147E-5,24,null,null,-2.3915667132413923,0.15121416827260947]
[8,3.8769230769230771E-2,6.2738663223305699E-4,25,null,null,-1.4115128158613115,0.34950707926090496]
[9,1.6191786205541365E-2,6.1020985011787815E-6,26,null,null,-1.7907052391761789,4.494349720303726E-2]
[10,1.5120274914089347E-2,1.9564492725633578E-6,27,null,null,-1.8204403124997199,3.3220071221800734E-2]
[1,1.9746754287546082E-2,3.6303163758455846E-5,28,null,null,-1.7045042778019566,8.8923106125553403E-2]
[2,1.9498746867167918E-2,3.3376077522228844E-5,29,null,null,-1.7099932986970594,8.5679585878352837E-2]
[3,3.7744417596353226E-2,5.7709847476212627E-4,30,null,null,-1.4231472714884554,0.33588606337965088]
[4,1.6937624198130191E-2,1.0343174375844492E-5,31,null,null,-1.7711475072286129,5.3618434042852568E-2]
[5,1.0763145950852622E-2,8.7521166852750272E-6,32,null,null,-1.9680607705466413,1.2001570420748968E-3]
[6,7.1935853379152355E-3,4.2614239148297339E-5,33,null,null,-2.1430545999683734,1.9698275941418236E-2]
[7,1.2857877593005317E-2,7.4591898179588588E-7,34,null,null,-1.8908307130383153,1.2515644268235898E-2]
[8,4.1619585687382298E-2,7.7830075198123965E-4,35,null,null,-1.3807022473963584,0.38688624658591703]
[9,1.1535180122925844E-2,4.7801852795980451E-6,36,null,null,-1.9379756195406339,4.189770140949795E-3]
[10,2.5338205228587582E-2,1.3494682725647325E-4,37,null,null,-1.5962241505782921,0.16522591134182565]
["U-1022",1.1470368569550615E-2,5.0677890441953026E-6,38,null,null,-1.9404226269853646,3.8789760676429469E-3]
["U-1234",1.3266872138817189E-2,2.0672614296159262E-7,39,null,null,-1.877231456410035,1.5743372578083187E-2]
["U-1970",1.4329497593438028E-2,3.6960805098697921E-7,40,null,null,-1.8437690361359782,2.5260339690772026E-2]
["U-1978",9.3237520562908412E-3,1.9340570513643077E-5,41,null,null,-2.0304092840592749,7.675798097086646E-4]
["U-3525",1.9954087574143853E-2,3.8844604316334674E-5,42,null,null,-1.6999681260896353,9.1649041642670084E-2]
["U-2123",3.2577735586036345E-3,1.0949048360229056E-4,43,null,null,-2.4870791059288675,0.23461919157921693]
["U-3335",8.806477342463143E-3,2.4157876373784427E-5,44,null,null,-2.0551977779294996,2.75559112222638E-3]
["U-6670",2.3264782871375102E-2,9.107341567847607E-5,45,null,null,-1.6333009963524501,0.1364586185050749]
["NOTE: If there are more than 45 items, insert additional cellss in the middle of the data area.  The formulae should update correctly but check."]

{"sheet":"2,4-D GrndPool","index":62,"n_rows":39,"n_cols":10,"rows_kept":39,"cut":false,"hidden":false,"merged":[[1,1,1,8],[0,1,0,8]]}
[null,"t-test for 2,4-2  Ground Broadcast"]
["Subgroup:","Grover et al. 1986 and Nashet al. 1982, Applicators & MLA"]
[]
["Below is using day adjusted values"]
["Grover et al. 1986","Nash et al. 1982",null,"Anova: Single Factor"]
[{"$f":"'Grover et al. 1986-2'!B24","v":3.580696175905053E-4},{"$f":"'Nash et al. 1982-5'!B24","v":1.3043478260869564E-5}]
[{"$f":"'Grover et al. 1986-2'!B25","v":3.0055786606859333E-5},{"$f":"'Nash et al. 1982-5'!B25","v":5.2499999999999997E-6},null,"SUMMARY"]
[{"$f":"'Grover et al. 1986-2'!B26","v":1.6385443172285739E-4},{"$f":"'Nash et al. 1982-5'!B26","v":4.4999999999999998E-7},null,"Groups","Count","Sum","Average","Variance"]
[{"$f":"'Grover et al. 1986-2'!B27","v":2.5534781670878368E-5},{"$f":"'Nash et al. 1982-5'!B27","v":1.2999999999999999E-5},null,"Grover et al. 1986",9,7.8870772613006659E-4,8.7634191792229621E-5,1.2819572213900222E-8]
[{"$f":"'Grover et al. 1986-2'!B28","v":7.4936350522803724E-5},{"$f":"'Nash et al. 1982-5'!B28","v":5.9500000000000003E-5},null,"Nash et al. 1982",15,6.2263542907922834E-3,4.1509028605281887E-4,7.7838487877262219E-7]
[{"$f":"'Grover et al. 1986-2'!B29","v":1.2350414030788909E-5},{"$f":"'Nash et al. 1982-5'!B29","v":3.372093023255814E-5}]
[{"$f":"'Grover et al. 1986-2'!B30","v":1.3566057999978005E-5},{"$f":"'Nash et al. 1982-5'!B30","v":3.3043478260869562E-3}]
[{"$f":"'Grover et al. 1986-2'!B31","v":9.4011641348148869E-5},{"$f":"'Nash et al. 1982-5'!B31","v":1.5887850467289721E-4},null,"ANOVA"]
[{"$f":"'Grover et al. 1986-2'!B32","v":1.6328644637246859E-5},{"$f":"'Nash et al. 1982-5'!B32","v":1.1607142857142857E-4},null,"Source of Variation","SS","df","MS","F","P-value","F crit"]
[null,{"$f":"'Nash et al. 1982-5'!B33","v":2.2100000000000001E-4},null,"Between Groups",6.0315465188474914E-7,1,6.0315465188474914E-7,1.2063153484481506,0.28393851150296623,4.3009494620073259]
[null,{"$f":"'Nash et al. 1982-5'!B34","v":1.5E-3},null,"Within Groups",1.0999944880527913E-5,22,4.9999749456945061E-7]
[null,{"$f":"'Nash et al. 1982-5'!B35","v":1.4366666666666664E-4}]
[null,{"$f":"'Nash et al. 1982-5'!B36","v":3.8000000000000002E-4},null,"Total",1.1603099532412662E-5,23]
[null,{"$f":"'Nash et al. 1982-5'!B37","v":4.4096385542168679E-5}]
[null,{"$f":"'Nash et al. 1982-5'!B38","v":2.3137254901960786E-4}]
[]
[]
["Below does not use day adjusted values"]
["Grover et al. 1986",{"$f":"B5","v":"Nash et al. 1982"},null,"Anova: Single Factor"]
[{"$f":"'Grover et al. 1986-1'!B24","v":1.0742088527715158E-3},1.3043478260869564E-5]
[{"$f":"'Grover et al. 1986-1'!B25","v":9.0167359820578002E-5},5.2499999999999997E-6,null,"Anova: Single Factor"]
[{"$f":"'Grover et al. 1986-1'!B26","v":3.2770886344571479E-4},4.4999999999999998E-7]
[{"$f":"'Grover et al. 1986-1'!B27","v":2.5534781670878368E-5},1.2999999999999999E-5,null,"SUMMARY"]
[{"$f":"'Grover et al. 1986-1'!B28","v":1.4987270104560745E-4},5.9500000000000003E-5,null,"Groups","Count","Sum","Average","Variance"]
[{"$f":"'Grover et al. 1986-1'!B29","v":4.9401656123155634E-5},3.372093023255814E-5,null,"Grover et al. 1986",9,2.0978517713970751E-3,2.3309464126634166E-4,1.0749667259277753E-7]
[{"$f":"'Grover et al. 1986-1'!B30","v":9.4962405999846037E-5},3.3043478260869562E-3,null,"Nash et al. 1982",15,6.2263542907922834E-3,4.1509028605281887E-4,7.7838487877262219E-7]
[{"$f":"'Grover et al. 1986-1'!B31","v":1.8802328269629774E-4},1.5887850467289721E-4]
[{"$f":"'Grover et al. 1986-1'!B32","v":9.7971867823481155E-5},1.1607142857142857E-4]
[null,2.2100000000000001E-4,null,"ANOVA"]
[null,1.5E-3,null,"Source of Variation","SS","df","MS","F","P-value","F crit"]
[null,1.4366666666666664E-4,null,"Between Groups",1.8631358280700699E-7,1,1.8631358280700699E-7,0.34862403080496412,0.56090999940472042,4.3009494620073259]
[null,3.8000000000000002E-4,null,"Within Groups",1.1757361683558933E-5,22,5.3442553107086054E-7]
[null,4.4096385542168679E-5]
[null,2.3137254901960786E-4,null,"Total",1.194367526636594E-5,23]

{"sheet":"GrndComposite","index":63,"n_rows":69,"n_cols":13,"rows_kept":69,"cut":false,"hidden":false,"merged":[[8,2,8,8],[0,1,0,8],[1,1,1,8],[2,2,2,8],[3,2,3,4],[3,6,3,8],[9,2,9,4],[9,6,9,8],[15,3,15,4],[15,7,15,8],[21,0,21,8]]}
[null,"Composite"]
["Subgroup:","Grover et al. 1986 and Nash et al. 1982"]
[null,null,"Confidence Intervals"]
[null,null,"Arithmetic",null,null,null,"Geometric (Log10)"]
[null,null,"Mean","Lower Limit","Upper Limit",null,"Mean","Lower Limit","Upper Limit"]
[null,null,{"$f":"IF(C15>0,AVERAGE(B24:B68), \"\")","v":3.4676039751875949E-4},{"$f":"IF(C15>1, C6-C20, \"\")","v":4.2403170335590407E-5},{"$f":"IF(C15>1, C6+C20, \"\")","v":6.5111762470192853E-4},"Inverse log",{"$f":"IF(C15>0, 10^G7, \"\")","v":9.0655210423803807E-5},{"$f":"IF(C15>1,10^H7, \"\")","v":4.1014080966373523E-5},{"$f":"IF(C15>1, 10^I7, \"\")","v":2.0037916206685683E-4}]
[null,null,null,null,null,"Log",{"$f":"IF(C15>0, AVERAGE(G24:G68), \"\")","v":-4.0426072297011135},{"$f":"IF(C15>1, G7-G20, \"\")","v":-4.3870670155699019},{"$f":"IF(C15>1, G7+G20, \"\")","v":-3.6981474438323252}]
[]
[null,null,"Prediction Intervals"]
[null,null,"Arithmetic",null,null,null,"Geometric (Log10)"]
[null,null,"Mean","Lower Limit","Upper Limit",null,"Mean","Lower Limit","Upper Limit"]
[null,null,{"$f":"IF(C15>0,AVERAGE(B24:B68), \"\")","v":3.4676039751875949E-4},{"$f":"IF(C15>1, C12-C21, \"\")","v":-1.175025738397086E-3},{"$f":"IF(C15>1, C12+C21, \"\")","v":1.8685465334346049E-3},"Inverse log",{"$f":"IF($C$15>0, 10^G13, \"\")","v":9.0655210423803807E-5},{"$f":"IF($C$15>0, 10^H13, \"\")","v":1.7182796273837919E-6},4.7829043922828956E-3]
[null,null,null,null,null,"Log",{"$f":"IF(C15>0, AVERAGE(G24:G68), \"\")","v":-4.0426072297011135},{"$f":"IF(C15>1, G13-G21, \"\")","v":-5.7649061590450543},{"$f":"IF(C15>1, G13+G21, \"\")","v":-2.3203083003571727},null,null,{"$f":"'t-values'!A3","v":"95% Confidence Interval"}]
[]
[null,"n:",{"$f":"COUNTA(B24:B68)","v":24},null,null,null,null,null,null,null,null,{"$f":"'t-values'!A4","v":"alpha = 0.025"}]
[null,"SSE:",{"$f":"IF(C15>0, SUM(C24:C68), \"\")","v":1.1944977446702165E-5},"Check",null,"SSE:",{"$f":"IF(C15>0, SUM(H24:H68), \"\")","v":15.300131059077071},"Check",null,null,null,{"$f":"'t-values'!A5","v":"n"},{"$f":"'t-values'!B5","v":"t-value"}]
[null,"Variance (s2):",{"$f":"IF(C15>1, C16/(C15-1), \"\")","v":5.1934684550878976E-7},{"$f":"IF(C15>1, VAR(B24:B68), \"\")","v":5.1934684550878976E-7},{"$f":"IF(C15>1, C17-D17, \"\")","v":0},"Variance (s2):",{"$f":"IF(C15>1, G16/(C15-1), \"\")","v":0.66522308952509002},{"$f":"IF(C15>1, VAR(G24:G68), \"\")","v":0.66522308952508891},{"$f":"IF(C15>1, G17-H17, \"\")","v":1.1102230246251565E-15},null,null,{"$f":"'t-values'!A6","v":2},{"$f":"'t-values'!B6","v":12.706}]
[null,"Std Dev (s):",{"$f":"IF(C15>1, C17^0.5, \"\")","v":7.2065723163567145E-4},{"$f":"IF(C15>1, STDEV(B24:B68), \"\")","v":7.2065723163567145E-4},{"$f":"IF(C15>1, C18-D18, \"\")","v":0},"Std Dev (s):",{"$f":"IF(C15>1, G17^0.5, \"\")","v":0.8156120950090735},{"$f":"IF(C15>1, STDEV(G24:G68), \"\")","v":0.81561209500907283},{"$f":"IF(C15>1, G18-H18, \"\")","v":6.6613381477509392E-16},null,null,{"$f":"'t-values'!A7","v":3},{"$f":"'t-values'!B7","v":4.3029999999999999}]
[null,"t-value:",{"$f":"IF(C15>1, IF(C15<31, OFFSET(M16, C15-1, 0), 1.96), \"\")","v":2.069},null,null,"t-value:",{"$f":"C19","v":2.069},null,null,null,null,{"$f":"'t-values'!A8","v":4},{"$f":"'t-values'!B8","v":3.1819999999999999}]
[null,"Conf. Interval Factor:",{"$f":"IF(C15>1, C19*C18/(C15^0.5), \"\")","v":3.0435722718316909E-4},"t x s / n0.5",null,"Conf. Interval Factor:",{"$f":"IF(C15>1, G19*G18/(C15^0.5), \"\")","v":0.34445978586878817},"t x s / n0.5",null,null,null,{"$f":"'t-values'!A9","v":5},{"$f":"'t-values'!B9","v":2.7759999999999998}]
[null,"Pred. Interal Factor:",{"$f":"IF(C15>1, C19*C18*(1+(1/C15))^0.5, \"\")","v":1.5217861359158454E-3},"t x s x (1+ 1/n)0.5",null,"Pred. Interal Factor:",{"$f":"IF(C15>1, G19*G18*((1+(1/C15))^0.5), \"\")","v":1.7222989293439408},"t x s x (1+ 1/n)0.5",null,null,null,{"$f":"'t-values'!A10","v":6},{"$f":"'t-values'!B10","v":2.5710000000000002}]
["RAW DATA (only enter data under Identifier and Rate.  Everything else is a link.)",null,null,null,null,null,null,null,null,null,null,{"$f":"'t-values'!A11","v":7},{"$f":"'t-values'!B11","v":2.4470000000000001}]
["Identifier","Rate","(x - xbar)2","n",null,null,"Log Rate","(x - xbar)2",null,null,null,{"$f":"'t-values'!A12","v":8},{"$f":"'t-values'!B12","v":2.3650000000000002}]
["Grover",{"$f":"'2,4-D GrndPool'!A25","v":1.0742088527715158E-3},{"$f":"IF(ISBLANK(B24)=FALSE, ($C$6-B24)^2, \"\")","v":5.2918125504962155E-7},1,null,null,{"$f":"IF(ISBLANK(B24)=FALSE,LOG10(B24), \"\")","v":-2.9689112728374729},{"$f":"IF(ISBLANK(B24)=FALSE, ($G$7-G24)^2, \"\")","v":1.1528230077853288},null,null,null,{"$f":"'t-values'!A13","v":9},{"$f":"'t-values'!B13","v":2.306}]
[null,{"$f":"'2,4-D GrndPool'!A26","v":9.0167359820578002E-5},{"$f":"IF(ISBLANK(B25)=FALSE, ($C$6-B25)^2, \"\")","v":6.5839986995180388E-8},{"$f":"D24+1","v":2},null,null,{"$f":"IF(ISBLANK(B25)=FALSE,LOG10(B25), \"\")","v":-4.0449506466623415},{"$f":"IF(ISBLANK(B25)=FALSE, ($G$7-G25)^2, \"\")","v":5.4916030541709477E-6},null,null,null,{"$f":"'t-values'!A14","v":10},{"$f":"'t-values'!B14","v":2.262}]
[null,{"$f":"'2,4-D GrndPool'!A27","v":3.2770886344571479E-4},3.6296095053638335E-10,{"$f":"D25+1","v":3},null,null,-3.4845118122230314,0.31147049501003476,null,null,null,{"$f":"'t-values'!A15","v":11},{"$f":"'t-values'!B15","v":2.2280000000000002}]
[null,{"$f":"'2,4-D GrndPool'!A28","v":2.5534781670878368E-5},1.031858962768505E-7,4,null,null,-4.5928678511249919,0.30278675148979273,null,null,null,{"$f":"'t-values'!A16","v":12},{"$f":"'t-values'!B16","v":2.2010000000000001}]
[null,{"$f":"'2,4-D GrndPool'!A29","v":1.4987270104560745E-4},3.8764765022504049E-8,5,null,null,-3.8242774656503218,4.7667885870474394E-2,null,null,null,{"$f":"'t-values'!A17","v":13},{"$f":"'t-values'!B17","v":2.1789999999999998}]
[null,{"$f":"'2,4-D GrndPool'!A30","v":4.9401656123155634E-5},8.8422221084377627E-8,6,null,null,-4.3062584917020237,6.9511987954672574E-2,null,null,null,{"$f":"'t-values'!A18","v":14},{"$f":"'t-values'!B18","v":2.16}]
[null,{"$f":"'2,4-D GrndPool'!A31","v":9.4962405999846037E-5},6.3402228532958816E-8,7,null,null,-4.0224482904812309,4.063828304709231E-4,null,null,null,{"$f":"'t-values'!A19","v":15},{"$f":"'t-values'!B19","v":2.145}]
[null,{"$f":"'2,4-D GrndPool'!A32","v":1.8802328269629774E-4},2.5197471622159406E-8,8,null,null,-3.7257883692445661,0.10037419034098524,null,null,null,{"$f":"'t-values'!A20","v":16},{"$f":"'t-values'!B20","v":2.1309999999999998}]
[null,{"$f":"'2,4-D GrndPool'!A33","v":9.7971867823481155E-5},6.1895732507938376E-8,9,null,null,-4.0088986120930095,1.1362709010493833E-3,null,null,null,{"$f":"'t-values'!A21","v":17},{"$f":"'t-values'!B21","v":2.12}]
["Nash",{"$f":"'2,4-D GrndPool'!B6","v":1.3043478260869564E-5},1.1136698219897702E-7,10,null,null,-4.8846065812979305,0.70896290808946016,null,null,null,{"$f":"'t-values'!A22","v":18},{"$f":"'t-values'!B22","v":2.11}]
[null,{"$f":"'2,4-D GrndPool'!B7","v":5.2499999999999997E-6},1.1662935161342114E-7,11,null,null,-5.279840696594043,1.5307466515998975,null,null,null,{"$f":"'t-values'!A23","v":19},{"$f":"'t-values'!B23","v":2.101}]
[null,{"$f":"'2,4-D GrndPool'!B8","v":4.4999999999999998E-7},1.1993089142960123E-7,12,null,null,-6.346787486224656,5.309246654552898,null,null,null,{"$f":"'t-values'!A24","v":20},{"$f":"'t-values'!B24","v":2.093}]
[null,{"$f":"'2,4-D GrndPool'!B9","v":1.2999999999999999E-5},1.1139600295188036E-7,13,null,null,-4.8860566476931631,0.7114069207111271,null,null,null,{"$f":"'t-values'!A25","v":21},{"$f":"'t-values'!B25","v":2.0859999999999999}]
[null,{"$f":"'2,4-D GrndPool'!B10","v":5.9500000000000003E-5},8.2518535982635742E-8,14,null,null,-4.2254830342714502,3.3443559897247982E-2,null,null,null,{"$f":"'t-values'!A26","v":22},{"$f":"'t-values'!B26","v":2.08}]
[null,{"$f":"'2,4-D GrndPool'!B11","v":3.372093023255814E-5},9.7993708078828734E-8,15,null,null,-4.4721004533446118,0.18446442915568403,null,null,null,{"$f":"'t-values'!A27","v":23},{"$f":"'t-values'!B27","v":2.0739999999999998}]
[null,{"$f":"'2,4-D GrndPool'!B12","v":3.3043478260869562E-3},8.7473233976246378E-6,16,null,null,-2.4809142437368017,2.4388849824101282,null,null,null,{"$f":"'t-values'!A28","v":24},{"$f":"'t-values'!B28","v":2.069}]
[null,{"$f":"'2,4-D GrndPool'!B13","v":1.5887850467289721E-4},3.5299605659344073E-8,17,null,null,-3.7989348563069356,5.9376225555551665E-2,null,null,null,{"$f":"'t-values'!A29","v":25},{"$f":"'t-values'!B29","v":2.0640000000000001}]
[null,{"$f":"'2,4-D GrndPool'!B14","v":1.1607142857142857E-4},5.3217400393982613E-8,18,null,null,-3.935274670363345,1.1520278293995602E-2,null,null,null,{"$f":"'t-values'!A30","v":26},{"$f":"'t-values'!B30","v":2.06}]
[null,{"$f":"'2,4-D GrndPool'!B15","v":2.2100000000000001E-4},1.5815677584076407E-8,19,null,null,-3.6556077263148894,0.1497686156211841,null,null,null,{"$f":"'t-values'!A31","v":27},{"$f":"'t-values'!B31","v":2.056}]
[null,{"$f":"'2,4-D GrndPool'!B16","v":1.5E-3},1.3299615807310897E-6,20,null,null,-2.8239087409443187,1.4852260064980958,null,null,null,{"$f":"'t-values'!A32","v":28},{"$f":"'t-values'!B32","v":2.052}]
[null,{"$f":"'2,4-D GrndPool'!B17","v":1.4366666666666664E-4},4.1247063511422329E-8,21,null,null,-3.8426439845589311,3.9985299407792552E-2,null,null,null,{"$f":"'t-values'!A33","v":29},{"$f":"'t-values'!B33","v":2.048}]
[null,{"$f":"'2,4-D GrndPool'!B18","v":3.8000000000000002E-4},1.1048711731108914E-9,22,null,null,-3.4202164033831899,0.38737034068470777,null,null,null,{"$f":"'t-values'!A34","v":30},{"$f":"'t-values'!B34","v":2.0449999999999999}]
[null,{"$f":"'2,4-D GrndPool'!B19","v":4.4096385542168679E-5},9.1605504145765894E-8,23,null,null,-4.3555970069816636,9.7962600682128365E-2,null,null,null,{"$f":"'t-values'!A35","v":"∞"},{"$f":"'t-values'!B35","v":1.96}]
[null,{"$f":"'2,4-D GrndPool'!B20","v":2.3137254901960786E-4},1.331435558126317E-8,24,null,null,-3.6356881687918108,0.16558312213130882]
[null,null,"",25,null,null,"",""]
[null,null,"",26,null,null,"",""]
[null,null,"",27,null,null,"",""]
[null,null,"",28,null,null,"",""]
[null,null,"",29,null,null,"",""]
[null,null,"",30,null,null,"",""]
[null,null,"",31,null,null,"",""]
[null,null,"",32,null,null,"",""]
[null,null,"",33,null,null,"",""]
[null,null,"",34,null,null,"",""]
[null,null,"",35,null,null,"",""]
[null,null,"",36,null,null,"",""]
[null,null,"",37,null,null,"",""]
[null,null,"",38,null,null,"",""]
[null,null,"",39,null,null,"",""]
[null,null,"",40,null,null,"",""]
[null,null,"",41,null,null,"",""]
[null,null,"",42,null,null,"",""]
[null,null,"",43,null,null,"",""]
[null,null,"",44,null,null,"",""]
[null,null,"",45,null,null,"",""]
["NOTE: If there are more than 45 items, insert additional cellss in the middle of the data area.  The formulae should update correctly but check."]

{"sheet":"PilotComposite","index":64,"n_rows":69,"n_cols":22,"rows_kept":69,"cut":false,"hidden":false,"merged":[[9,2,9,4],[9,6,9,8],[15,3,15,4],[15,7,15,8],[21,0,21,8],[8,2,8,8],[0,1,0,8],[1,1,1,8],[2,2,2,8],[3,2,3,4],[3,6,3,8]]}
[null,"All pilot data"]
["Subgroup:","Lavy et al. 1982 (T1&T2) and Nash et al. 1982"]
[null,null,"Confidence Intervals"]
[null,null,"Arithmetic",null,null,null,"Geometric (Log10)"]
[null,null,"Mean","Lower Limit","Upper Limit",null,"Mean","Lower Limit","Upper Limit"]
[null,null,{"$f":"IF(C15>0,AVERAGE(B24:B68), \"\")","v":5.8360653409090909E-5},{"$f":"IF(C15>1, C6-C20, \"\")","v":-2.2480716528050904E-5},{"$f":"IF(C15>1, C6+C20, \"\")","v":1.3920202334623272E-4},"Inverse log",{"$f":"IF(C15>0, 10^G7, \"\")","v":2.0335851489606659E-5},{"$f":"IF(C15>1,10^H7, \"\")","v":5.868266518805863E-6},{"$f":"IF(C15>1, 10^I7, \"\")","v":7.0471723545966397E-5}]
[null,null,null,null,null,"Log",{"$f":"IF(C15>0, AVERAGE(G24:G68), \"\")","v":-4.6917376383813254},{"$f":"IF(C15>1, G7-G20, \"\")","v":-5.2314901700471905},{"$f":"IF(C15>1, G7+G20, \"\")","v":-4.1519851067154603}]
[]
[null,null,"Prediction Intervals"]
[null,null,"Arithmetic",null,null,null,"Geometric (Log10)"]
[null,null,"Mean","Lower Limit","Upper Limit",null,"Mean","Lower Limit","Upper Limit",null,null,null,null,null,null,null,null,"Untransformed",null,null,"Log Transformed"]
[null,null,{"$f":"IF(C15>0,AVERAGE(B24:B68), \"\")","v":5.8360653409090909E-5},{"$f":"IF(C15>1, C12-C21, \"\")","v":-1.8416345640233451E-4},{"$f":"IF(C15>1, C12+C21, \"\")","v":3.0088476322051632E-4},"Inverse log",{"$f":"IF($C$15>0, 10^G13, \"\")","v":2.0335851489606659E-5},{"$f":"IF($C$15>0, 10^H13, \"\")","v":4.8865772260098028E-7},8.4629145653556911E-4,null,null,null,null,null,null,null,null,"Lavy","Nash",null,"Lavy","Nash"]
[null,null,null,null,null,"Log",{"$f":"IF(C15>0, AVERAGE(G24:G68), \"\")","v":-4.6917376383813254},{"$f":"IF(C15>1, G13-G21, \"\")","v":-6.3109952333789217},{"$f":"IF(C15>1, G13+G21, \"\")","v":-3.0724800433837292},null,null,{"$f":"'t-values'!A3","v":"95% Confidence Interval"},null,null,null,null,null,{"$f":"P24","v":8.949999999999999E-6},{"$f":"P29","v":1.3200000000000001E-5},null,{"$f":"LOG10(R13)","v":-5.0481769646840879},{"$f":"LOG10(S13)","v":-4.8794260687941504}]
[null,null,null,null,null,null,null,null,null,null,null,null,null,null,null,null,null,2.7849999999999999E-4,2.4772727272727273E-5,null,{"$f":"LOG10(R14)","v":-3.5551748004902524},-4.6060261785455641]
[null,"n:",{"$f":"COUNTA(B24:B68)","v":8},null,null,null,null,null,null,null,null,{"$f":"'t-values'!A4","v":"alpha = 0.025"},null,null,null,null,null,1.0300000000000001E-5,3.0625000000000003E-6,null,-4.987162775294828,-5.5139239026274112]
[null,"SSE:",{"$f":"IF(C15>0, SUM(C24:C68), \"\")","v":6.5432432492090652E-8},"Check",null,"SSE:",{"$f":"IF(C15>0, SUM(H24:H68), \"\")","v":2.9168568302944746},"Check",null,null,null,{"$f":"'t-values'!A5","v":"n"},{"$f":"'t-values'!B5","v":"t-value"},null,null,null,null,1.1849999999999999E-4,null,null,-3.9262816496538773]
[null,"Variance (s2):",{"$f":"IF(C15>1, C16/(C15-1), \"\")","v":9.3474903560129505E-9},{"$f":"IF(C15>1, VAR(B24:B68), \"\")","v":9.3474903560129505E-9},{"$f":"IF(C15>1, C17-D17, \"\")","v":0},"Variance (s2):",{"$f":"IF(C15>1, G16/(C15-1), \"\")","v":0.41669383289921064},{"$f":"IF(C15>1, VAR(G24:G68), \"\")","v":0.41669383289920703},{"$f":"IF(C15>1, G17-H17, \"\")","v":3.6082248300317588E-15},null,null,{"$f":"'t-values'!A6","v":2},{"$f":"'t-values'!B6","v":12.706},null,null,null,null,9.5999999999999996E-6,null,null,-5.017728766960432]
[null,"Std Dev (s):",{"$f":"IF(C15>1, C17^0.5, \"\")","v":9.6682420098035142E-5},{"$f":"IF(C15>1, STDEV(B24:B68), \"\")","v":9.6682420098035142E-5},{"$f":"IF(C15>1, C18-D18, \"\")","v":0},"Std Dev (s):",{"$f":"IF(C15>1, G17^0.5, \"\")","v":0.64551826689816505},{"$f":"IF(C15>1, STDEV(G24:G31), \"\")","v":0.64551826689816227},{"$f":"IF(C15>1, G18-H18, \"\")","v":2.7755575615628914E-15},null,null,{"$f":"'t-values'!A7","v":3},{"$f":"'t-values'!B7","v":4.3029999999999999}]
[null,"t-value:",{"$f":"IF(C15>1, IF(C15<31, OFFSET(M16, C15-1, 0), 1.96), \"\")","v":2.3650000000000002},null,null,"t-value:",{"$f":"C19","v":2.3650000000000002},null,null,null,null,{"$f":"'t-values'!A8","v":4},{"$f":"'t-values'!B8","v":3.1819999999999999},null,null,null,null,"Untransformed"]
[null,"Conf. Interval Factor:",{"$f":"IF(C15>1, C19*C18/(C15^0.5), \"\")","v":8.0841369937141813E-5},"t x s / n0.5",null,"Conf. Interval Factor:",{"$f":"IF(C15>1, G19*G18/(C15^0.5), \"\")","v":0.53975253166586534},"t x s / n0.5",null,null,null,{"$f":"'t-values'!A9","v":5},{"$f":"'t-values'!B9","v":2.7759999999999998},null,null,null,null,"t-Test: Two-Sample Assuming Equal Variances"]
[null,"Pred. Interal Factor:",{"$f":"IF(C15>1, C19*C18*(1+(1/C15))^0.5, \"\")","v":2.4252410981142543E-4},"t x s x (1+ 1/n)0.5",null,"Pred. Interal Factor:",{"$f":"IF(C15>1, G19*G18*((1+(1/C15))^0.5), \"\")","v":1.619257594997596},"t x s x (1+ 1/n)0.5",null,null,null,{"$f":"'t-values'!A10","v":6},{"$f":"'t-values'!B10","v":2.5710000000000002},null,null,null,null,null,"Lavy",1.3200000000000001E-5]
["RAW DATA (only enter data under Identifier and Rate.  Everything else is a link.)",null,null,null,null,null,null,null,null,null,null,{"$f":"'t-values'!A11","v":7},{"$f":"'t-values'!B11","v":2.4470000000000001},null,null,null,null,"Mean",8.5169999999999999E-5,1.3917613636363637E-5]
["Identifier","Rate","(x - xbar)2","n",null,null,"Log Rate","(x - xbar)2",null,null,null,{"$f":"'t-values'!A12","v":8},{"$f":"'t-values'!B12","v":2.3650000000000002},null,"Group","Indivd",null,"Variance",1.3903301999999999E-8,2.3566698411673554E-10]
[{"$f":"O24","v":"Lavy T1"},8.949999999999999E-6,{"$f":"IF(ISBLANK(B24)=FALSE, ($C$6-B24)^2, \"\")","v":2.4414126703133069E-9},1,null,null,{"$f":"IF(ISBLANK(B24)=FALSE,LOG10(B24), \"\")","v":-5.0481769646840879},{"$f":"IF(ISBLANK(B24)=FALSE, ($G$7-G24)^2, \"\")","v":0.12704899333516723},null,null,null,{"$f":"'t-values'!A13","v":9},{"$f":"'t-values'!B13","v":2.306},null,"Lavy T1",{"$f":"'Lavy et al. 1982-1'!B24","v":8.949999999999999E-6},null,"Observations",5,2]
["Lavy T1",2.7849999999999999E-4,{"$f":"IF(ISBLANK(B25)=FALSE, ($C$6-B25)^2, \"\")","v":4.8461331917472395E-8},{"$f":"D24+1","v":2},null,null,{"$f":"IF(ISBLANK(B25)=FALSE,LOG10(B25), \"\")","v":-3.5551748004902524},{"$f":"IF(ISBLANK(B25)=FALSE, ($G$7-G25)^2, \"\")","v":1.2917750844750095},null,null,null,{"$f":"'t-values'!A14","v":10},{"$f":"'t-values'!B14","v":2.262},null,"Lavy T1",{"$f":"'Lavy et al. 1982-1'!B25","v":2.7849999999999999E-4},null,"Pooled Variance",1.1169774996823346E-8]
["Lavy T1",1.0300000000000001E-5,2.3098264061087617E-9,{"$f":"D25+1","v":3},null,null,-4.987162775294828,8.727601152036174E-2,null,null,null,{"$f":"'t-values'!A15","v":11},{"$f":"'t-values'!B15","v":2.2280000000000002},null,"Lavy T1",{"$f":"'Lavy et al. 1982-1'!B26","v":1.0300000000000001E-5},null,"Hypothesized Mean Difference",0]
["Lavy T2",1.1849999999999999E-4,3.6167410083814882E-9,4,null,null,-3.9262816496538773,0.58592287067871518,null,null,null,{"$f":"'t-values'!A16","v":12},{"$f":"'t-values'!B16","v":2.2010000000000001},null,"Lavy T2",{"$f":"'Lavy et al. 1982-1'!B27","v":1.1849999999999999E-4},null,"df",5]
["Lavy T2",9.5999999999999996E-6,2.3776013208814894E-9,5,null,null,-5.017728766960432,0.10627021591227963,null,null,null,{"$f":"'t-values'!A17","v":13},{"$f":"'t-values'!B17","v":2.1789999999999998},null,"Lavy T2",{"$f":"'Lavy et al. 1982-1'!B28","v":9.5999999999999996E-6},null,"t Stat",0.80580170462137013]
["Nash",1.3200000000000001E-5,2.0394846163360341E-9,6,null,null,-4.8794260687941504,3.5226946910829858E-2,null,null,null,{"$f":"'t-values'!A18","v":14},{"$f":"'t-values'!B18","v":2.16},null,"Nash",{"$f":"'Nash et al. 1982-1'!B24","v":1.3200000000000001E-5},null,"P(T<=t) one-tail",0.22847633931705968]
["Nash",2.4772727272727273E-5,1.1281487821418192E-9,7,null,null,-4.6060261785455641,7.3464543471773291E-3,null,null,null,{"$f":"'t-values'!A19","v":15},{"$f":"'t-values'!B19","v":2.145},null,"Nash",{"$f":"'Nash et al. 1982-1'!B25","v":2.4772727272727273E-5},null,"t Critical one-tail",2.0150483720881205]
["Nash",3.0625000000000003E-6,3.0578857704553526E-9,8,null,null,-5.5139239026274112,0.67599025311493433,null,null,null,{"$f":"'t-values'!A20","v":16},{"$f":"'t-values'!B20","v":2.1309999999999998},null,"Nash",{"$f":"'Nash et al. 1982-1'!B26","v":3.0625000000000003E-6},null,"P(T<=t) two-tail",0.45695267863411937]
[null,null,"",9,null,null,"","",null,null,null,{"$f":"'t-values'!A21","v":17},{"$f":"'t-values'!B21","v":2.12},null,null,null,null,"t Critical two-tail",2.5705818346975402]
[null,null,"",10,null,null,"","",null,null,null,{"$f":"'t-values'!A22","v":18},{"$f":"'t-values'!B22","v":2.11}]
[null,null,"",11,null,null,"","",null,null,null,{"$f":"'t-values'!A23","v":19},{"$f":"'t-values'!B23","v":2.101},null,null,null,null,"Log Trasformed"]
[null,null,"",12,null,null,"","",null,null,null,{"$f":"'t-values'!A24","v":20},{"$f":"'t-values'!B24","v":2.093},null,null,null,null,"t-Test: Two-Sample Assuming Equal Variances"]
[null,null,"",13,null,null,"","",null,null,null,{"$f":"'t-values'!A25","v":21},{"$f":"'t-values'!B25","v":2.0859999999999999}]
[null,null,"",14,null,null,"","",null,null,null,{"$f":"'t-values'!A26","v":22},{"$f":"'t-values'!B26","v":2.08},null,null,null,null,null,"Lavy","Nash"]
[null,null,"",15,null,null,"","",null,null,null,{"$f":"'t-values'!A27","v":23},{"$f":"'t-values'!B27","v":2.0739999999999998},null,null,null,null,"Mean",-4.506904991416695,-4.9997920499890425]
[null,null,"",16,null,null,"","",null,null,null,{"$f":"'t-values'!A28","v":24},{"$f":"'t-values'!B28","v":2.069},null,null,null,null,"Variance",0.50686940975044337,0.21693554642000379]
[null,null,"",17,null,null,"","",null,null,null,{"$f":"'t-values'!A29","v":25},{"$f":"'t-values'!B29","v":2.0640000000000001},null,null,null,null,"Observations",5,3]
[null,null,"",18,null,null,"","",null,null,null,{"$f":"'t-values'!A30","v":26},{"$f":"'t-values'!B30","v":2.06},null,null,null,null,"Pooled Variance",0.41022478864029682]
[null,null,"",19,null,null,"","",null,null,null,{"$f":"'t-values'!A31","v":27},{"$f":"'t-values'!B31","v":2.056},null,null,null,null,"Hypothesized Mean Difference",0]
[null,null,"",20,null,null,"","",null,null,null,{"$f":"'t-values'!A32","v":28},{"$f":"'t-values'!B32","v":2.052},null,null,null,null,"df",6]
[null,null,"",21,null,null,"","",null,null,null,{"$f":"'t-values'!A33","v":29},{"$f":"'t-values'!B33","v":2.048},null,null,null,null,"t Stat",1.0537488201701162]
[null,null,"",22,null,null,"","",null,null,null,{"$f":"'t-values'!A34","v":30},{"$f":"'t-values'!B34","v":2.0449999999999999},null,null,null,null,"P(T<=t) one-tail",0.16628574019442327]
[null,null,"",23,null,null,"","",null,null,null,{"$f":"'t-values'!A35","v":"∞"},{"$f":"'t-values'!B35","v":1.96},null,null,null,null,"t Critical one-tail",1.943180274291977]
[null,null,"",24,null,null,"","",null,null,null,null,null,null,null,null,null,"P(T<=t) two-tail",0.33257148038884654]
[null,null,"",25,null,null,"","",null,null,null,null,null,null,null,null,null,"t Critical two-tail",2.4469118464326822]
[null,null,"",26,null,null,"",""]
[null,null,"",27,null,null,"",""]
[null,null,"",28,null,null,"",""]
[null,null,"",29,null,null,"",""]
[null,null,"",30,null,null,"",""]
[null,null,"",31,null,null,"",""]
[null,null,"",32,null,null,"",""]
[null,null,"",33,null,null,"",""]
[null,null,"",34,null,null,"",""]
[null,null,"",35,null,null,"",""]
[null,null,"",36,null,null,"",""]
[null,null,"",37,null,null,"",""]
[null,null,"",38,null,null,"",""]
[null,null,"",39,null,null,"",""]
[null,null,"",40,null,null,"",""]
[null,null,"",41,null,null,"",""]
[null,null,"",42,null,null,"",""]
[null,null,"",43,null,null,"",""]
[null,null,"",44,null,null,"",""]
[null,null,"",45,null,null,"",""]
["NOTE: If there are more than 45 items, insert additional cellss in the middle of the data area.  The formulae should update correctly but check."]

{"sheet":"MxLdAerialComp","index":65,"n_rows":69,"n_cols":25,"rows_kept":69,"cut":false,"hidden":false,"merged":[[8,2,8,8],[0,1,0,8],[1,1,1,8],[2,2,2,8],[3,2,3,4],[3,6,3,8],[9,2,9,4],[9,6,9,8],[15,3,15,4],[15,7,15,8],[21,0,21,8]]}
[null,"All aerial mixer/loaders"]
["Subgroup:","Chester, Lavy et al. 1982 and Nash et al. 1982"]
[null,null,"Confidence Intervals"]
[null,null,"Arithmetic",null,null,null,"Geometric (Log10)"]
[null,null,"Mean","Lower Limit","Upper Limit",null,"Mean","Lower Limit","Upper Limit"]
[null,null,{"$f":"IF(C15>0,AVERAGE(B24:B68), \"\")","v":5.146285624098123E-5},{"$f":"IF(C15>1, C6-C20, \"\")","v":1.4595759446431271E-5},{"$f":"IF(C15>1, C6+C20, \"\")","v":8.832995303553119E-5},"Inverse log",{"$f":"IF(C15>0, 10^G7, \"\")","v":2.5400778701589017E-5},{"$f":"IF(C15>1,10^H7, \"\")","v":1.0645092294362413E-5},{"$f":"IF(C15>1, 10^I7, \"\")","v":6.0610048349584892E-5}]
[null,null,null,null,null,"Log",{"$f":"IF(C15>0, AVERAGE(G24:G68), \"\")","v":-4.5951529691824513},{"$f":"IF(C15>1, G7-G20, \"\")","v":-4.9728505688185614},{"$f":"IF(C15>1, G7+G20, \"\")","v":-4.2174553695463413}]
[]
[null,null,"Prediction Intervals"]
[null,null,"Arithmetic",null,null,null,"Geometric (Log10)"]
[null,null,"Mean","Lower Limit","Upper Limit",null,"Mean","Lower Limit","Upper Limit"]
[null,null,{"$f":"IF(C15>0,AVERAGE(B24:B68), \"\")","v":5.146285624098123E-5},{"$f":"IF(C15>1, C12-C21, \"\")","v":-8.1463351629262724E-5},{"$f":"IF(C15>1, C12+C21, \"\")","v":1.8438906411122517E-4},"Inverse log",{"$f":"IF($C$15>0, 10^G13, \"\")","v":2.5400778701589017E-5},{"$f":"IF($C$15>0, 10^H13, \"\")","v":1.104177691963885E-6},5.8432584116017603E-4]
[null,null,null,null,null,"Log",{"$f":"IF(C15>0, AVERAGE(G24:G68), \"\")","v":-4.5951529691824513},{"$f":"IF(C15>1, G13-G21, \"\")","v":-5.9569610312901142},{"$f":"IF(C15>1, G13+G21, \"\")","v":-3.2333449070747884},null,null,{"$f":"'t-values'!A3","v":"95% Confidence Interval"}]
[]
[null,"n:",{"$f":"COUNTA(B24:B68)","v":12},null,null,null,null,null,null,null,null,{"$f":"'t-values'!A4","v":"alpha = 0.025"}]
[null,"SSE:",{"$f":"IF(C15>0, SUM(C24:C68), \"\")","v":3.7034946743622265E-8},"Check",null,"SSE:",{"$f":"IF(C15>0, SUM(H24:H68), \"\")","v":3.8870694093565019},"Check",null,null,null,{"$f":"'t-values'!A5","v":"n"},{"$f":"'t-values'!B5","v":"t-value"},null,null,null,null,null,"ANOVA"]
[null,"Variance (s2):",{"$f":"IF(C15>1, C16/(C15-1), \"\")","v":3.3668133403292967E-9},{"$f":"IF(C15>1, VAR(B24:B68), \"\")","v":3.3668133403292967E-9},{"$f":"IF(C15>1, C17-D17, \"\")","v":0},"Variance (s2):",{"$f":"IF(C15>1, G16/(C15-1), \"\")","v":0.35336994630513652},{"$f":"IF(C15>1, VAR(G24:G68), \"\")","v":0.35336994630514018},{"$f":"IF(C15>1, G17-H17, \"\")","v":-3.6637359812630166E-15},null,null,{"$f":"'t-values'!A6","v":2},{"$f":"'t-values'!B6","v":12.706},null,null,null,null,null,"Chester","Lavy","Nash"]
[null,"Std Dev (s):",{"$f":"IF(C15>1, C17^0.5, \"\")","v":5.8024247865261443E-5},{"$f":"IF(C15>1, STDEV(B24:B68), \"\")","v":5.8024247865261443E-5},{"$f":"IF(C15>1, C18-D18, \"\")","v":0},"Std Dev (s):",{"$f":"IF(C15>1, G17^0.5, \"\")","v":0.59444927984239038},{"$f":"IF(C15>1, STDEV(G24:G31), \"\")","v":0.59968667349997506},{"$f":"IF(C15>1, G18-H18, \"\")","v":-5.237393657584688E-3},null,null,{"$f":"'t-values'!A7","v":3},{"$f":"'t-values'!B7","v":4.3029999999999999},null,null,null,null,null,{"$f":"Q24","v":1.8253968253968254E-5},{"$f":"Q27","v":1.075E-5},{"$f":"Q33","v":1.3200000000000001E-5}]
[null,"t-value:",{"$f":"IF(C15>1, IF(C15<31, OFFSET(M16, C15-1, 0), 1.96), \"\")","v":2.2010000000000001},null,null,"t-value:",{"$f":"C19","v":2.2010000000000001},null,null,null,null,{"$f":"'t-values'!A8","v":4},{"$f":"'t-values'!B8","v":3.1819999999999999},null,null,null,null,null,2.3412698412698411E-5,9.4500000000000007E-5,2.4772727272727273E-5]
[null,"Conf. Interval Factor:",{"$f":"IF(C15>1, C19*C18/(C15^0.5), \"\")","v":3.686709679454996E-5},"t x s / n0.5",null,"Conf. Interval Factor:",{"$f":"IF(C15>1, G19*G18/(C15^0.5), \"\")","v":0.37769759963610994},"t x s / n0.5",null,null,null,{"$f":"'t-values'!A9","v":5},{"$f":"'t-values'!B9","v":2.7759999999999998},null,null,null,null,null,3.0952380952380953E-5,1.8849999999999997E-4,3.0625000000000003E-6]
[null,"Pred. Interal Factor:",{"$f":"IF(C15>1, C19*C18*(1+(1/C15))^0.5, \"\")","v":1.3292620787024395E-4},"t x s x (1+ 1/n)0.5",null,"Pred. Interal Factor:",{"$f":"IF(C15>1, G19*G18*((1+(1/C15))^0.5), \"\")","v":1.3618080621076631},"t x s x (1+ 1/n)0.5",null,null,null,{"$f":"'t-values'!A10","v":6},{"$f":"'t-values'!B10","v":2.5710000000000002},null,null,null,null,null,null,2.65E-6]
["RAW DATA (only enter data under Identifier and Rate.  Everything else is a link.)",null,null,null,null,null,null,null,null,null,null,{"$f":"'t-values'!A11","v":7},{"$f":"'t-values'!B11","v":2.4470000000000001},null,"Below are links",null,null,null,null,9.7999999999999997E-5]
["Identifier","Rate","(x - xbar)2","n",null,null,"Log Rate","(x - xbar)2",null,null,null,{"$f":"'t-values'!A12","v":8},{"$f":"'t-values'!B12","v":2.3650000000000002},null,"Study","Worker","Rate",null,null,1.0949999999999999E-4]
[{"$f":"P24","v":"Worker 1"},{"$f":"Q24","v":1.8253968253968254E-5},{"$f":"IF(ISBLANK(B24)=FALSE, ($C$6-B24)^2, \"\")","v":1.102830241333975E-9},1,null,null,{"$f":"IF(ISBLANK(B24)=FALSE,LOG10(B24), \"\")","v":-4.7386427090999703},{"$f":"IF(ISBLANK(B24)=FALSE, ($G$7-G24)^2, \"\")","v":2.0589305461597249E-2},null,null,null,{"$f":"'t-values'!A13","v":9},{"$f":"'t-values'!B13","v":2.306},null,"Chester",{"$f":"'Chester et al. 1987'!A24","v":"Worker 1"},{"$f":"'Chester et al. 1987'!B24","v":1.8253968253968254E-5}]
["Worker 2",2.3412698412698411E-5,{"$f":"IF(ISBLANK(B25)=FALSE, ($C$6-B25)^2, \"\")","v":7.8681135419157595E-10},{"$f":"D24+1","v":2},null,null,{"$f":"IF(ISBLANK(B25)=FALSE,LOG10(B25), \"\")","v":-4.6305485291394},{"$f":"IF(ISBLANK(B25)=FALSE, ($G$7-G25)^2, \"\")","v":1.2528456646659469E-3},null,null,null,{"$f":"'t-values'!A14","v":10},{"$f":"'t-values'!B14","v":2.262},null,null,{"$f":"'Chester et al. 1987'!A25","v":"Worker 2"},{"$f":"'Chester et al. 1987'!B25","v":2.3412698412698411E-5},null,"Anova: Single Factor"]
["Worker 3",3.0952380952380953E-5,4.2067959656428265E-10,{"$f":"D25+1","v":3},null,null,-4.5093059380910638,7.3697127472056468E-3,null,null,null,{"$f":"'t-values'!A15","v":11},{"$f":"'t-values'!B15","v":2.2280000000000002},null,null,{"$f":"'Chester et al. 1987'!A26","v":"Worker 3"},{"$f":"'Chester et al. 1987'!B26","v":3.0952380952380953E-5}]
["M/L 11, T1",1.075E-5,1.6575366632988046E-9,4,null,null,-4.9685915357483754,0.13945636299881214,null,null,null,{"$f":"'t-values'!A16","v":12},{"$f":"'t-values'!B16","v":2.2010000000000001},null,"Lavy",{"$f":"'Lavy et al. 1982-3'!A24","v":"M/L 11, T1"},{"$f":"'Lavy et al. 1982-3'!B24","v":1.075E-5},null,"SUMMARY"]
["M/L 21, T1",9.4500000000000007E-5,1.8521957429344488E-9,5,null,null,-4.0245681914907374,0.32556698853350258,null,null,null,{"$f":"'t-values'!A17","v":13},{"$f":"'t-values'!B17","v":2.1789999999999998},null,null,{"$f":"'Lavy et al. 1982-3'!A25","v":"M/L 21, T1"},{"$f":"'Lavy et al. 1982-3'!B25","v":9.4500000000000007E-5},null,"Groups","Count","Sum","Average","Variance"]
["M/L 31, T1",1.8849999999999997E-4,1.8779178769629971E-8,6,null,null,-3.7246886454581882,0.75770813887673871,null,null,null,{"$f":"'t-values'!A18","v":14},{"$f":"'t-values'!B18","v":2.16},null,null,{"$f":"'Lavy et al. 1982-3'!A26","v":"M/L 31, T1"},{"$f":"'Lavy et al. 1982-3'!B26","v":1.8849999999999997E-4},null,"Chester",3,7.2619047619047625E-5,2.4206349206349209E-5,4.0784832451499126E-11]
["M/L 11, T2",2.65E-6,2.3826949344026998E-9,7,null,null,-5.5767541260631921,0.96354083118960865,null,null,null,{"$f":"'t-values'!A19","v":15},{"$f":"'t-values'!B19","v":2.145},null,null,{"$f":"'Lavy et al. 1982-3'!A27","v":"M/L 11, T2"},{"$f":"'Lavy et al. 1982-3'!B27","v":2.65E-6},null,"Lavy",6,5.0389999999999994E-4,8.3983333333333319E-5,4.772026666666666E-9]
["M/L 21, T2",9.7999999999999997E-5,2.1657057492475794E-9,8,null,null,-4.0087739243075049,0.34384038426845442,null,null,null,{"$f":"'t-values'!A20","v":16},{"$f":"'t-values'!B20","v":2.1309999999999998},null,null,{"$f":"'Lavy et al. 1982-3'!A28","v":"M/L 21, T2"},{"$f":"'Lavy et al. 1982-3'!B28","v":9.7999999999999997E-5},null,"Nash",3,4.1035227272727272E-5,1.3678409090909091E-5,1.1800514850206612E-10]
["M/L 31, T2",1.0949999999999999E-4,3.3683100557050104E-9,9,null,null,-3.9605858808238628,0.40267538962789673,null,null,null,{"$f":"'t-values'!A21","v":17},{"$f":"'t-values'!B21","v":2.12},null,null,{"$f":"'Lavy et al. 1982-3'!A29","v":"M/L 31, T2"},{"$f":"'Lavy et al. 1982-3'!B29","v":1.0949999999999999E-4}]
[1,1.3200000000000001E-5,1.4640461677179961E-9,10,null,null,-4.8794260687941504,8.0811195162843005E-2,null,null,null,{"$f":"'t-values'!A22","v":18},{"$f":"'t-values'!B22","v":2.11},null,"Nash",{"$f":"'Nash et al. 1982-1'!A24","v":1},{"$f":"'Nash et al. 1982-1'!B24","v":1.3200000000000001E-5}]
[2,2.4772727272727273E-5,7.1236298434202908E-10,11,null,null,-4.6060261785455641,1.1822668185408292E-4,null,null,null,{"$f":"'t-values'!A23","v":19},{"$f":"'t-values'!B23","v":2.101},null,null,{"$f":"'Nash et al. 1982-1'!A25","v":2},{"$f":"'Nash et al. 1982-1'!B25","v":2.4772727272727273E-5},null,"ANOVA"]
[3,3.0625000000000003E-6,2.3425944842538908E-9,12,null,null,-5.5139239026274112,0.8441400281433229,null,null,null,{"$f":"'t-values'!A24","v":20},{"$f":"'t-values'!B24","v":2.093},null,null,{"$f":"'Nash et al. 1982-1'!A26","v":3},{"$f":"'Nash et al. 1982-1'!B26","v":3.0625000000000003E-6},null,"Source of Variation","SS","df","MS","F","P-value","F crit"]
[null,null,"",13,null,null,"","",null,null,null,{"$f":"'t-values'!A25","v":21},{"$f":"'t-values'!B25","v":2.0859999999999999},null,null,null,null,null,"Between Groups",1.28572334483818E-8,2,6.4286167241908998E-9,2.3930116885416015,0.14676271754351033,4.2564947291425614]
[null,null,"",14,null,null,"","",null,null,null,{"$f":"'t-values'!A26","v":22},{"$f":"'t-values'!B26","v":2.08},null,null,null,null,null,"Within Groups",2.4177713295240458E-8,9,2.6864125883600509E-9]
[null,null,"",15,null,null,"","",null,null,null,{"$f":"'t-values'!A27","v":23},{"$f":"'t-values'!B27","v":2.0739999999999998}]
[null,null,"",16,null,null,"","",null,null,null,{"$f":"'t-values'!A28","v":24},{"$f":"'t-values'!B28","v":2.069},null,null,null,null,null,"Total",3.7034946743622258E-8,11]
[null,null,"",17,null,null,"","",null,null,null,{"$f":"'t-values'!A29","v":25},{"$f":"'t-values'!B29","v":2.0640000000000001}]
[null,null,"",18,null,null,"","",null,null,null,{"$f":"'t-values'!A30","v":26},{"$f":"'t-values'!B30","v":2.06}]
[null,null,"",19,null,null,"","",null,null,null,{"$f":"'t-values'!A31","v":27},{"$f":"'t-values'!B31","v":2.056}]
[null,null,"",20,null,null,"","",null,null,null,{"$f":"'t-values'!A32","v":28},{"$f":"'t-values'!B32","v":2.052}]
[null,null,"",21,null,null,"","",null,null,null,{"$f":"'t-values'!A33","v":29},{"$f":"'t-values'!B33","v":2.048}]
[null,null,"",22,null,null,"","",null,null,null,{"$f":"'t-values'!A34","v":30},{"$f":"'t-values'!B34","v":2.0449999999999999}]
[null,null,"",23,null,null,"","",null,null,null,{"$f":"'t-values'!A35","v":"∞"},{"$f":"'t-values'!B35","v":1.96}]
[null,null,"",24,null,null,"",""]
[null,null,"",25,null,null,"",""]
[null,null,"",26,null,null,"",""]
[null,null,"",27,null,null,"",""]
[null,null,"",28,null,null,"",""]
[null,null,"",29,null,null,"",""]
[null,null,"",30,null,null,"",""]
[null,null,"",31,null,null,"",""]
[null,null,"",32,null,null,"",""]
[null,null,"",33,null,null,"",""]
[null,null,"",34,null,null,"",""]
[null,null,"",35,null,null,"",""]
[null,null,"",36,null,null,"",""]
[null,null,"",37,null,null,"",""]
[null,null,"",38,null,null,"",""]
[null,null,"",39,null,null,"",""]
[null,null,"",40,null,null,"",""]
[null,null,"",41,null,null,"",""]
[null,null,"",42,null,null,"",""]
[null,null,"",43,null,null,"",""]
[null,null,"",44,null,null,"",""]
[null,null,"",45,null,null,"",""]
["NOTE: If there are more than 45 items, insert additional cellss in the middle of the data area.  The formulae should update correctly but check."]

{"sheet":"RelRatesMixData","index":66,"n_rows":43,"n_cols":10,"rows_kept":43,"cut":false,"hidden":false,"merged":[[15,2,15,5],[16,1,17,1],[16,2,16,3],[16,4,17,5],[0,1,0,9],[1,1,1,9],[4,2,4,3],[4,4,4,5],[4,6,4,7],[4,1,5,1],[4,8,5,8],[3,2,3,5],[18,4,18,5],[27,1,28,1],[27,2,27,3],[27,4,28,5],[29,4,29,5],[23,4,23,5],[24,4,24,5],[19,4,19,5],[20,4,20,5],[21,4,21,5],[22,4,22,5],[25,3,25,4],[33,1,34,1],[33,2,33,3],[33,4,34,5],[35,4,35,5],[38,2,38,3],[38,4,39,5],[38,1,39,1],[38,6,39,7],[40,6,40,7],[41,6,41,7],[42,6,42,7],[26,2,26,5],[42,4,42,5],[30,4,30,5],[41,4,41,5],[40,4,40,5]]}
[null,"Relative Exposure Rates, Mixture Data"]
["Subgroup:","Data on relative exposure rates from mixture studies"]
[]
[null,"Libich et al. 1984","See Worksheet Libich et al. 1984-1"]
[null,"Worker Decription","Excretion Rate \n(mg/kg)",null,"Relative Amounts",null,"Corrected Excretion Rate",null,"Relative Exposure Rate\nPicloram/2,4D"]
[null,null,"2,4-D","Picloram","2,4-D","Picloram","2,4-D","Picloram"]
[null,"Kapuskasing",6.17,0.52,4,1,{"$f":"C7/E7","v":1.5425},{"$f":"D7/F7","v":0.52},{"$f":"H7/G7","v":0.33711507293354948}]
[null,"North Bay",3.16,0.26,4,1,{"$f":"C8/E8","v":0.79},{"$f":"D8/F8","v":0.26},{"$f":"H8/G8","v":0.32911392405063289}]
[null,"Applicator 1",7.29,0.3,4,1,1.8225,0.3,0.16460905349794239]
[null,"Applicator 2",2.54,0.15,4,1,0.63500000000000001,0.15,0.23622047244094488]
[null,"Driver 1",0.64,0.13,4,1,0.16,0.13,0.8125]
[null,"Driver 2",1.07,7.0000000000000007E-2,4,1,0.26750000000000002,7.0000000000000007E-2,0.26168224299065423,"Rel. Derm."]
[null,"Average:",null,null,null,null,null,"Average:",{"$f":"AVERAGE(I7:I12)","v":0.35687346098562062},7.575757575757576E-2]
[null,null,null,null,null,null,null,"Geo. Mean:",{"$f":"PRODUCT(I7:I12)^(1/6)","v":0.31170867117383805},7.575757575757576E-2]
[null,null,null,null,null,null,null,null,"Above is link to RelRatesComposite1"]
[null,"Lavy et al. 1987","See Worksheet Lavy et al. 1987-8"]
[null,"Worker Decription","Exposure Rate\nmg/kg bw per lb",null,"Relative Exposure Rate\nPicloram/2,4D"]
[null,null,"2,4-D","Picloram"]
[null,"Injection Bar, T1",7.8986049999999995E-3,4.1121400000000002E-3,{"$f":"D19/C19","v":0.52061598218926008}]
[null,"Injection Bar, T2",4.076919E-3,4.5162889999999997E-3,{"$f":"D20/C20","v":1.1077701077701076}]
[null,"Hypohatchet, T1",5.6524343999999997E-2,7.1033199999999998E-3,0.12566833150686366]
[null,"Hypohatchet, T2",3.8407015000000003E-2,6.0488709999999999E-3,0.15749391094309204]
[null,"Hack-and-squirt, T1",1.4015965E-2,7.1985759999999999E-3,0.5135983144935079]
[null,"Hack-and-squirt, T2",9.4333790000000004E-3,5.6704290000000003E-3,0.60110263777168282,null,"Rel. Derm."]
[null,null,null,"Average:",{"$f":"AVERAGE(E18:F23)","v":0.48502932938056631},null,7.575757575757576E-2]
[null,null,null,"Geo. Mean:",null,{"$f":"PRODUCT(E19:F24)^(1/6)","v":0.39009599934230799},7.575757575757576E-2]
[null,"Lavy et al. 1987","See Worksheets Lavy et al. 1987-1 though 4"]
[null,"Worker Decription","Exposure Rate\nmg/kg bw per lb",null,"Relative Exposure Rate\nDichlorprop/2,4-D"]
[null,null,"2,4-D","Dichlorprop"]
[null,"Backpack, T1",3.1891229E-2,3.3663268000000003E-2,{"$f":"D30/C30","v":1.0555650896991144}]
[null,"Backpack, T2",3.5350060000000003E-2,3.0866325E-2,{"$f":"D31/C31","v":0.8731618843079757}]
[]
[null,"Zhang et al. 2011"]
[null,"Worker Decription","Exposure Rate\nmg/kg bw per lb",null,"Relative Exposure Rate\nTriclopyr/2,4D"]
[null,null,"2,4-D","Triclopyr"]
[null,"Backpack",4.8999999999999998E-3,1.0999999999999999E-2,{"$f":"D36/C36","v":2.2448979591836733},null,null,"This is updated for individual data from Zhang et al. 2011."]
[]
[null,"Relative Dermal Absorption Rates"]
[null,"Other Chemical","Dermal Absorption Rate",null,"Relative Dermal Absorptoin Rate\nOther/2,4D",null,"Basis for Dermal Rates"]
[null,null,"2,4-D","Other Chemical"]
[null,"Dichlorprop",1.1999999999999999E-3,1.2999999999999999E-3,{"$f":"D41/C41","v":1.0833333333333335},null,"QSAR"]
[null,"Picloram",6.6E-4,5.0000000000000002E-5,{"$f":"D42/C42","v":7.575757575757576E-2},null,"Humans"]
[null,"Triclopyr BEE",6.6E-4,2.0999999999999999E-3,{"$f":"D43/C43","v":3.1818181818181817},null,"Humans"]

{"sheet":"RelRatesMixAnal","index":67,"n_rows":65,"n_cols":17,"rows_kept":65,"cut":false,"hidden":false,"merged":[[3,13,4,14],[0,1,0,9],[1,1,1,9],[3,8,4,8],[3,9,3,10],[3,11,4,12],[5,11,5,12],[5,13,5,14],[6,11,6,12],[6,13,6,14],[7,11,7,12],[7,13,7,14],[10,0,15,0],[10,2,15,2],[16,0,17,0],[16,2,17,2],[4,0,9,0],[4,2,9,2]]}
[null,"Relative Exposure Rates, Mixture Data"]
["Subgroup:","Analysis of Mixture Data (linear)"]
[null,"All data are in RelRatesMixData"]
["Study","Subgroup","Other Chemical","Relative Exposure Rate","Relative Dermal Absorption Rate",null,null,null,"Other Chemical","Dermal Absorption Rate",null,"Relative Dermal Absorptoin Rate\nOther/2,4-D",null,"Basis for Dermal Rates"]
["Picloram Libich et al. 1984","Kapuskasing","Picloram",{"$f":"RelRatesMixData!I7","v":0.33711507293354948},{"$f":"$L$7","v":7.575757575757576E-2},null,null,null,null,"2,4-D","Other Chemical"]
[null,"North Bay",null,{"$f":"RelRatesMixData!I8","v":0.32911392405063289},{"$f":"$L$7","v":7.575757575757576E-2},null,null,null,"Dichlorprop",1.1999999999999999E-3,1.2999999999999999E-3,{"$f":"K6/J6","v":1.0833333333333335},null,"QSAR"]
[null,"Applicator 1",null,{"$f":"RelRatesMixData!I9","v":0.16460905349794239},7.575757575757576E-2,null,null,null,"Picloram",6.6E-4,5.0000000000000002E-5,{"$f":"K7/J7","v":7.575757575757576E-2},null,"Humans"]
[null,"Applicator 2",null,{"$f":"RelRatesMixData!I10","v":0.23622047244094488},7.575757575757576E-2,null,null,null,"Triclopyr BEE",6.6E-4,2.0999999999999999E-3,{"$f":"K8/J8","v":3.1818181818181817},null,"Humans"]
[null,"Driver 1",null,{"$f":"RelRatesMixData!I11","v":0.8125},7.575757575757576E-2]
[null,"Driver 2",null,{"$f":"RelRatesMixData!I12","v":0.26168224299065423},7.575757575757576E-2,null,null,null,"Concordance (Eq. 4)"]
["Picloram Lavy et al. 1987","Injection Bar, T1","Picloram",{"$f":"RelRatesMixData!E19","v":0.52061598218926008},7.575757575757576E-2,null,null,null,"Derm","WR"]
[null,"Injection Bar, T2",null,{"$f":"RelRatesMixData!E20","v":1.1077701077701076},7.575757575757576E-2,null,null,null,0,0]
[null,"Hypohatchet, T1",null,{"$f":"RelRatesMixData!E21","v":0.12566833150686366},7.575757575757576E-2,null,null,null,3,3]
[null,"Hypohatchet, T2",null,{"$f":"RelRatesMixData!E22","v":0.15749391094309204},7.575757575757576E-2]
[null,"Hack-and-squirt, T1",null,{"$f":"RelRatesMixData!E23","v":0.5135983144935079},7.575757575757576E-2,null,null,null,"Constrained Regression (r2=0.85, p=0.00003)"]
[null,"Hack-and-squirt, T2",null,{"$f":"RelRatesMixData!E24","v":0.60110263777168282},7.575757575757576E-2,null,null,null,"Derm","WR"]
["Dichlorprop Lavy et al. 1987","Backpack, T1","Dichlorprop",{"$f":"RelRatesMixData!E30","v":1.0555650896991144},{"$f":"$L$6","v":1.0833333333333335},null,null,null,0,0]
[null,"Backpack, T2",null,{"$f":"RelRatesMixData!E31","v":0.8731618843079757},1.0833333333333335,null,null,null,3.2,{"$f":"I18*J43","v":2.4558193497097771}]
["Triclopyr Zhang et al. 2011","Backpack","Triclopyr",{"$f":"RelRatesMixData!$E$36","v":2.2448979591836733},{"$f":"$L$8","v":3.1818181818181817}]
[null,null,null,null,null,null,null,null,"Unconstrained Regression (r2=0.88, p=0.00002)"]
[null,null,null,null,null,null,null,null,"Derm","WR"]
[null,null,null,null,null,null,null,null,0,{"$f":"$J$64 + ($J$65*I22)","v":0.38213486205351727}]
[null,null,null,null,null,null,null,null,3.2,{"$f":"$J$64 + ($J$65*I23)","v":2.2277528804278082}]
[]
[null,null,null,null,null,null,null,null,"Constrained Regression"]
[null,null,null,null,null,null,null,null,"SUMMARY OUTPUT"]
[]
[null,null,null,null,null,null,null,null,"Regression Statistics"]
[null,null,null,null,null,null,null,null,"Multiple R",0.85456202941312021]
[null,null,null,null,null,null,null,null,"R Square",0.73027626211467045]
[null,null,null,null,null,null,null,null,"Adjusted R Square",0.65884769068609905]
[null,null,null,null,null,null,null,null,"Standard Error",0.44141614675963092]
[null,null,null,null,null,null,null,null,"Observations",15]
[]
[null,null,null,null,null,null,null,null,"ANOVA"]
[null,null,null,null,null,null,null,null,null,"df","SS","MS","F","Significance F"]
[null,null,null,null,null,null,null,null,"Regression",1,7.3857139069528248,7.3857139069528248,37.904960645147099,3.450385107584829E-5]
[null,null,null,null,null,null,null,null,"Residual",14,2.7278750046816804,0.19484821462012003]
[null,null,null,null,null,null,null,null,"Total",15,10.113588911634505]
[]
[null,null,null,null,null,null,null,null,null,"Coefficients","Standard Error","t Stat","P-value","Lower 95%","Upper 95%","Lower 95.0%","Upper 95.0%"]
[null,null,null,null,null,null,null,null,"Intercept",0,{"$error":"#N/A"},{"$error":"#N/A"},{"$error":"#N/A"},{"$error":"#N/A"},{"$error":"#N/A"},{"$error":"#N/A"},{"$error":"#N/A"}]
[null,null,null,null,null,null,null,null,"X Variable 1",0.76744354678430526,0.12465175963153192,6.156700467388931,2.4903143125458749E-5,0.50009211210106563,1.0347949814675448,0.50009211210106563,1.0347949814675448]
[]
[]
[]
[null,null,null,null,null,null,null,null,"Unconstrained Regression"]
[null,null,null,null,null,null,null,null,"SUMMARY OUTPUT"]
[]
[null,null,null,null,null,null,null,null,"Regression Statistics"]
[null,null,null,null,null,null,null,null,"Multiple R",0.87679913002923227]
[null,null,null,null,null,null,null,null,"R Square",0.76877671442001849]
[null,null,null,null,null,null,null,null,"Adjusted R Square",0.75099030783694309]
[null,null,null,null,null,null,null,null,"Standard Error",0.27644019730273933]
[null,null,null,null,null,null,null,null,"Observations",15]
[]
[null,null,null,null,null,null,null,null,"ANOVA"]
[null,null,null,null,null,null,null,null,null,"df","SS","MS","F","Significance F"]
[null,null,null,null,null,null,null,null,"Regression",1,3.3030442607203607,3.3030442607203607,43.222711165927201,1.7847224116052414E-5]
[null,null,null,null,null,null,null,null,"Residual",13,0.99344937490210672,7.6419182684777445E-2]
[null,null,null,null,null,null,null,null,"Total",14,4.2964936356224674]
[]
[null,null,null,null,null,null,null,null,null,"Coefficients","Standard Error","t Stat","P-value","Lower 95%","Upper 95%","Lower 95.0%","Upper 95.0%"]
[null,null,null,null,null,null,null,null,"Intercept",0.38213486205351727,8.0212123361676754E-2,4.7640536871274408,3.6996219049219888E-4,0.20884710487462388,0.55542261923241065,0.20884710487462388,0.55542261923241065]
[null,null,null,null,null,null,null,null,"X Variable 1",0.5767556307419659,8.7727517668911903E-2,6.5743981599783874,1.7847224116052414E-5,0.38723185126076276,0.76627941022316903,0.38723185126076276,0.76627941022316903]

{"sheet":"BackpackTypFolDerm1a-1","index":68,"n_rows":74,"n_cols":16,"rows_kept":74,"cut":false,"hidden":false,"merged":[[0,1,0,9],[1,1,1,9]]}
[null,"Backpack Foliar",null,null,null,null,null,null,null,null,null,"Plot of regression"]
["Subgroup:","Dermal Abs Rate vs Worker Exposure Rate (untransformed, constrained regression)",null,null,null,null,null,null,null,null,null,"ka","WS"]
[null,"This is the source for links in following worksheets.",null,null,null,null,null,null,null,null,null,0,{"$f":"L3*$I$24","v":0}]
[null,"ABSOLUTE DERMAL RATES vs Absolute Worker Rates",null,null,null,null,null,null,null,null,null,2.5000000000000001E-3,{"$f":"L4*$I$24","v":1.2622787784427715E-2}]
[null,"Study","Pesticide","Exposure Rate (mg/kg bw per lb)","Dermal Absorption Rate (hour-1_","Source of Dermal Absorption Rate"]
[null,"Middendorf 1993","Glyphosate",2.9999999999999997E-4,4.0999999999999999E-4,"Humans",null,"Constraining intercept to zero"]
[null,"Lavy et al. 1993","Glyphosate",1.9000000000000001E-4,4.0999999999999999E-4,"Humans",null,"SUMMARY OUTPUT"]
[null,"Middendorf 1992b, low bush","Triclopyr",5.8199999999999997E-3,2.0999999999999999E-3,"Humans"]
[null,"Spenser et al. 2000","Triclopyr",1.49E-2,2.0999999999999999E-3,"Humans",null,"Regression Statistics"]
[null,"Zhang et al. 2011","2,4-D",4.9300000000000004E-3,6.6E-4,"Humans",null,"Multiple R",0.93535251016774612]
[null,"Zhang et al. 2011","Triclopyr",1.1299999999999999E-2,2.0999999999999999E-3,"Humans",null,"R Square",0.87488431827710356]
[null,null,null,null,null,null,null,"Adjusted R Square",0.6748843182771036]
[null,null,null,null,null,null,null,"Standard Error",3.1952346873511382E-3]
[null,null,null,null,null,null,null,"Observations",6]
[]
[null,null,null,null,null,null,null,"ANOVA"]
[null,null,null,null,null,null,null,null,"df","SS","MS","F","Significance F"]
[null,null,null,null,null,null,null,"Regression",1,3.5695577646374042E-4,3.5695577646374042E-4,34.963016075585891,4.0959021870559465E-3]
[null,null,null,null,null,null,null,"Residual",5,5.104762353625962E-5,1.0209524707251925E-5]
[null,null,null,null,null,null,null,"Total",6,4.0800340000000002E-4]
[]
[null,null,null,null,null,null,null,null,"Coefficients","Standard Error","t Stat","P-value","Lower 95%","Upper 95%","Lower 95.0%","Upper 95.0%"]
[null,null,null,null,null,null,null,"Intercept",0,{"$error":"#N/A"},{"$error":"#N/A"},{"$error":"#N/A"},{"$error":"#N/A"},{"$error":"#N/A"},{"$error":"#N/A"},{"$error":"#N/A"}]
[null,null,null,null,null,null,null,"X Variable 1",5.0491151137710863,0.8539074984539885,5.9129532448334041,1.9707157726567347E-3,2.8540760089316186,7.2441542186105536,2.8540760089316186,7.2441542186105536]
[]
[]
[]
[]
[]
[]
[null,null,null,null,null,null,null,"Calculation of SSx",null,null,"Calculation of s (Standard Dev.)"]
[null,null,null,null,null,null,null,"x-bar:",{"$f":"AVERAGE(E6:E11)","v":1.2966666666666667E-3}]
[null,null,null,null,null,null,null,"(xi-x-bar)2",null,null,"yi","y-hat","(yi - y-hat)2"]
[null,null,null,null,null,null,null,{"$f":"(E6-$I$32)^2","v":7.8617777777777779E-7},null,null,{"$f":"D6","v":2.9999999999999997E-4},{"$f":"$I$23+ ($I$24*E6)","v":2.0701371966461452E-3},{"$f":"(K34-L34)^2","v":3.1333856949502739E-6}]
[null,null,null,null,null,null,null,7.8617777777777779E-7,null,null,1.9000000000000001E-4,{"$f":"$I$23+ ($I$24*E7)","v":2.0701371966461452E-3},{"$f":"(K35-L35)^2","v":3.5349158782124253E-6}]
[null,null,null,null,null,null,null,6.4534444444444418E-7,null,null,5.8199999999999997E-3,1.060314173891928E-2,2.2878444894591755E-5]
[null,null,null,null,null,null,null,6.4534444444444418E-7,null,null,1.49E-2,1.060314173891928E-2,1.8462990915817632E-5]
[null,null,null,null,null,null,null,4.0534444444444446E-7,null,null,4.9300000000000004E-3,3.3324159750889168E-3,2.5522747166510976E-6]
[null,null,null,null,null,null,null,6.4534444444444418E-7,null,null,1.1299999999999999E-2,1.060314173891928E-2,4.8561143603644406E-7]
[null,null,null,null,null,null,null,{"$f":"SUM(H34:H39)","v":3.9137333333333329E-6},"SSx",null,null,"∑",{"$f":"SUM(M34:M39)","v":5.1047623536259627E-5},"SSE"]
[null,null,null,null,null,null,null,null,null,null,null,"s",{"$f":"(M40^0.5)/4","v":1.786190491245608E-3},"Standard Dev."]
[]
[null,null,null,null,null,null,null,null,"t for 0.025, 5 d.f.",2.5710000000000002]
[null,null,null,null,null,null,null,null,"n",6]
[]
[null,null,null,null,null,null,null,null,"Increment for X",1E-4]
[]
[null,null,null,null,null,null,null,null,"X","Factor for CI","Y-hat","Y Lower CI","Y Upper CI","Factor for PI","Y Lower PI","Y Upper PI"]
[null,null,null,null,null,null,null,null,0,{"$f":"$J$43*$M$41*((1/$J$44)+(((I49-$I$32)^2)/$H$40))^0.5","v":3.54609645118835E-3},{"$f":"$I$23 + ($I$24*I49)","v":0},{"$f":"K49-J49","v":-3.54609645118835E-3},{"$f":"K49+J49","v":3.54609645118835E-3},{"$f":"$J$43*$M$41*(1+(1/$J$44)+(((I49-$I$32)^2)/$H$40))^0.5","v":5.8020669010347675E-3},{"$f":"K49-N49","v":-5.8020669010347675E-3},{"$f":"K49+N49","v":5.8020669010347675E-3}]
[null,null,null,null,null,null,null,null,{"$f":"I49+$J$46","v":1E-4},{"$f":"$J$43*$M$41*((1/$J$44)+(((I50-$I$32)^2)/$H$40))^0.5","v":3.3513080396885202E-3},{"$f":"$I$23 + ($I$24*I50)","v":5.0491151137710866E-4},{"$f":"K50-J50","v":-2.8463965283114113E-3},{"$f":"K50+J50","v":3.856219551065629E-3},{"$f":"$J$43*$M$41*(1+(1/$J$44)+(((I50-$I$32)^2)/$H$40))^0.5","v":5.6851073745210383E-3},{"$f":"K50-N50","v":-5.1801958631439299E-3},{"$f":"K50+N50","v":6.1900188858981468E-3}]
[null,null,null,null,null,null,null,null,2.0000000000000001E-4,3.1615662663974585E-3,1.0098230227542173E-3,-2.1517432436432412E-3,4.1713892891516759E-3,5.575363803356239E-3,-4.5655407806020221E-3,6.5851868261104559E-3]
[null,null,null,null,null,null,null,null,3.0000000000000003E-4,2.9778359728089413E-3,1.514734534131326E-3,-1.4631014386776154E-3,4.4925705069402671E-3,5.4732702622753392E-3,-3.958535728144013E-3,6.9880047964066654E-3]
[null,null,null,null,null,null,null,null,4.0000000000000002E-4,2.8013002426156924E-3,2.0196460455084346E-3,-7.8165419710725772E-4,4.8209462881241266E-3,5.3792623409005917E-3,-3.3596162953921571E-3,7.3989083864090264E-3]
[null,null,null,null,null,null,null,null,5.0000000000000001E-4,2.6334063799181564E-3,2.5245575568855431E-3,-1.0884882303261335E-4,5.1579639368036995E-3,5.2937708152833961E-3,-2.769213258397853E-3,7.8183283721689392E-3]
[null,null,null,null,null,null,null,null,6.0000000000000006E-4,2.4759130474432487E-3,3.029469068262652E-3,5.5355602081940325E-4,5.5053821157059011E-3,5.2172143622293589E-3,-2.1877452939667069E-3,8.2466834304920113E-3]
[null,null,null,null,null,null,null,null,7.000000000000001E-4,2.3309293896205713E-3,3.5343805796397608E-3,1.2034511900191895E-3,5.8653099692603326E-3,5.1499914662404547E-3,-1.6156108866006939E-3,8.6843720458802155E-3]
[null,null,null,null,null,null,null,null,8.0000000000000015E-4,2.2009289776104314E-3,4.0392920910168701E-3,1.8383631134064387E-3,6.2402210686273015E-3,5.0924717620658318E-3,-1.0531796710489616E-3,9.1317638530827028E-3]
[null,null,null,null,null,null,null,null,9.0000000000000019E-4,2.0887113380658466E-3,4.5442036023939786E-3,2.455492264328132E-3,6.6329149404598248E-3,5.0449871493114234E-3,-5.007835469174448E-4,9.589190751705402E-3]
[null,null,null,null,null,null,null,null,1.0000000000000002E-3,1.9972761169241202E-3,5.0491151137710879E-3,3.0518389968469677E-3,7.0463912306952085E-3,5.0078230969342434E-3,4.1292016836844483E-5,1.0056938210705331E-2]
[null,null,null,null,null,null,null,null,1.1000000000000003E-3,1.9295799711070069E-3,5.5540266251481963E-3,3.6244466540411892E-3,7.4836065962552035E-3,4.9812106106698496E-3,5.7281601447834677E-4,1.0535237235818045E-2]
[null,null,null,null,null,null,null,null,1.2000000000000003E-3,1.8881779542061958E-3,6.0589381365253056E-3,4.1707601823191102E-3,7.947116090731501E-3,4.9653193522373636E-3,1.0936187842879421E-3,1.1024257488762668E-2]
[null,null,null,null,null,null,null,null,1.3000000000000004E-3,1.8748128580726195E-3,6.5638496479024141E-3,4.6890367898297942E-3,8.438662505975034E-3,4.9602523661349124E-3,1.6035972817675017E-3,1.1524102014037326E-2]
[null,null,null,null,null,null,null,null,1.4000000000000004E-3,1.8900795388103924E-3,7.0687611592795234E-3,5.178681620469131E-3,8.9588406980899149E-3,4.9660427853555874E-3,2.102718373923936E-3,1.203480394463511E-2]
[null,null,null,null,null,null,null,null,1.5000000000000005E-3,1.9332998260632361E-3,7.5736726706566318E-3,5.6403728445933955E-3,9.5069724967198673E-3,4.9826527573581438E-3,2.591019913298488E-3,1.2556325428014777E-2]
[null,null,null,null,null,null,null,null,1.6000000000000005E-3,2.0026647038567701E-3,8.0785841820337403E-3,6.0759194781769702E-3,1.0081248885890511E-2,5.0099746704974765E-3,3.0686095115362638E-3,1.3088558852531216E-2]
[null,null,null,null,null,null,null,null,1.7000000000000006E-3,2.0955795758888429E-3,8.5834956934108496E-3,6.4879161175220067E-3,1.0679075269299693E-2,5.0478345893892988E-3,3.5356611040215508E-3,1.3631330282800148E-2]
[null,null,null,null,null,null,null,null,1.8000000000000006E-3,2.2090748619914072E-3,9.0884072047879589E-3,6.8793323427965517E-3,1.1297482066779366E-2,5.095997648040561E-3,3.9924095567473979E-3,1.4184404852828521E-2]
[null,null,null,null,null,null,null,null,1.9000000000000006E-3,2.3401580880516161E-3,9.5933187161650665E-3,7.25316062811345E-3,1.1933476804216683E-2,5.1541750222538988E-3,4.4391436939111677E-3,1.4747493738418965E-2]
[null,null,null,null,null,null,null,null,2.0000000000000005E-3,2.486048702752138E-3,1.0098230227542176E-2,7.6121815247900378E-3,1.2584278930294315E-2,5.2220320216758691E-3,4.8761982058663066E-3,1.5320262249218045E-2]
[null,null,null,null,null,null,null,null,2.1000000000000003E-3,2.6442969901334708E-3,1.0603141738919283E-2,7.9588447487858125E-3,1.3247438729052754E-2,5.2991968122519766E-3,5.3039449266673068E-3,1.590233855117126E-2]
[null,null,null,null,null,null,null,null,2.2000000000000001E-3,2.8128180061627573E-3,1.1108053250296391E-2,8.2952352441336332E-3,1.3920871256459149E-2,5.3852692986280648E-3,5.7227839516683261E-3,1.6493322548924456E-2]
[null,null,null,null,null,null,null,null,2.3E-3,2.9898752221036041E-3,1.1612964761673499E-2,8.6230895395698944E-3,1.4602839983777103E-2,5.4798297534414016E-3,6.1331350082320969E-3,1.70927945151149E-2]
[null,null,null,null,null,null,null,null,2.3999999999999998E-3,3.1740404370290995E-3,1.2117876273050606E-2,8.9438358360215062E-3,1.5291916710079706E-2,5.5824468630564193E-3,6.5354294099941868E-3,1.7700323136107025E-2]
[null,null,null,null,null,null,null,null,2.4999999999999996E-3,3.364146502789947E-3,1.2622787784427714E-2,9.2586412816377667E-3,1.5986934287217661E-2,5.6926849530943135E-3,6.9301028313334002E-3,1.8315472737522029E-2]

{"sheet":"BackpackTypFolDerm1a-2","index":69,"n_rows":74,"n_cols":16,"rows_kept":74,"cut":false,"hidden":false,"merged":[[0,1,0,9],[1,1,1,9]]}
[null,"Backpack Foliar",null,null,null,null,null,null,null,null,null,"For Plot of regression"]
["Subgroup:","Dermal Abs Rate vs Worker Exposure Rate (untransformed, unconstrained regression)",null,null,null,null,null,null,null,null,null,"ka","WS"]
[null,"This is linked to BackpackTypFolDerm1a-1",null,null,null,null,null,null,null,null,null,0,{"$f":"L3*$I$24","v":0}]
[null,"ABSOLUTE DERMAL RATES vs Absolute Worker Rates",null,null,null,null,null,null,null,null,null,2.5000000000000001E-3,{"$f":"I23+(L4*$I$24)","v":1.305018081627091E-2}]
[null,"Study","Pesticide","Exposure Rate (mg/kg bw per lb)","Dermal Absorption Rate (hour-1_","Source of Dermal Absorption Rate"]
[null,"Middendorf 1993","Glyphosate",{"$f":"'BackpackTypFolDerm1a-1'!D6","v":2.9999999999999997E-4},{"$f":"'BackpackTypFolDerm1a-1'!E6","v":4.0999999999999999E-4},"Humans",null,"Not constraining intercept to zero"]
[null,"Lavy et al. 1993","Glyphosate",{"$f":"'BackpackTypFolDerm1a-1'!D7","v":1.9000000000000001E-4},{"$f":"'BackpackTypFolDerm1a-1'!E7","v":4.0999999999999999E-4},"Humans",null,"SUMMARY OUTPUT"]
[null,"Middendorf 1992b, low bush","Triclopyr",{"$f":"'BackpackTypFolDerm1a-1'!D8","v":5.8199999999999997E-3},{"$f":"'BackpackTypFolDerm1a-1'!E8","v":2.0999999999999999E-3},"Humans"]
[null,"Spenser et al. 2000","Triclopyr",{"$f":"'BackpackTypFolDerm1a-1'!D9","v":1.49E-2},{"$f":"'BackpackTypFolDerm1a-1'!E9","v":2.0999999999999999E-3},"Humans",null,"Regression Statistics"]
[null,"Zhang et al. 2011","2,4-D",{"$f":"'BackpackTypFolDerm1a-1'!D10","v":4.9300000000000004E-3},{"$f":"'BackpackTypFolDerm1a-1'!E10","v":6.6E-4},"Humans",null,"Multiple R",0.8478572033855809]
[null,"Zhang et al. 2011","Triclopyr",{"$f":"'BackpackTypFolDerm1a-1'!D11","v":1.1299999999999999E-2},{"$f":"'BackpackTypFolDerm1a-1'!E11","v":2.0999999999999999E-3},"Humans",null,"R Square",0.71886183733281839]
[null,null,null,null,null,null,null,"Adjusted R Square",0.64857729666602304]
[null,null,null,null,null,null,null,"Standard Error",3.5008661179037285E-3]
[null,null,null,null,null,null,null,"Observations",6]
[]
[null,null,null,null,null,null,null,"ANOVA"]
[null,null,null,null,null,null,null,null,"df","SS","MS","F","Significance F"]
[null,null,null,null,null,null,null,"Regression",1,1.2535354569805475E-4,1.2535354569805475E-4,10.227879851143863,3.2960288432440484E-2]
[null,null,null,null,null,null,null,"Residual",4,4.9024254301945289E-5,1.2256063575486322E-5]
[null,null,null,null,null,null,null,"Total",5,1.7437780000000003E-4]
[]
[null,null,null,null,null,null,null,null,"Coefficients","Standard Error","t Stat","P-value","Lower 95%","Upper 95%","Lower 95.0%","Upper 95.0%"]
[null,null,null,null,null,null,null,"Intercept",-1.0983942867849976E-3,2.7033121524663115E-3,-0.40631426370162249,0.70531041025850727,-8.6039920803217991E-3,6.4072035067518039E-3,-8.6039920803217991E-3,6.4072035067518039E-3]
[null,null,null,null,null,null,null,"X Variable 1",5.6594300412223628,1.769619466086539,3.1981056660379221,3.2960288432440497E-2,0.7461787365436594,10.572681345901067,0.7461787365436594,10.572681345901067]
[]
[]
[]
[]
[]
[]
[null,null,null,null,null,null,null,"Calculation of SSx",null,null,"Calculation of s (Standard Dev.)"]
[null,null,null,null,null,null,null,"x-bar:",{"$f":"AVERAGE(E6:E11)","v":1.2966666666666667E-3}]
[null,null,null,null,null,null,null,"(xi-x-bar)2",null,null,"yi","y-hat","(yi - y-hat)2"]
[null,null,null,null,null,null,null,{"$f":"(E6-$I$32)^2","v":7.8617777777777779E-7},null,null,{"$f":"D6","v":2.9999999999999997E-4},{"$f":"$I$23+ ($I$24*E6)","v":1.2219720301161713E-3},{"$f":"(K34-L34)^2","v":8.5003242431653441E-7}]
[null,null,null,null,null,null,null,7.8617777777777779E-7,null,null,1.9000000000000001E-4,{"$f":"$I$23+ ($I$24*E7)","v":1.2219720301161713E-3},{"$f":"(K35-L35)^2","v":1.0649662709420917E-6}]
[null,null,null,null,null,null,null,6.4534444444444418E-7,null,null,5.8199999999999997E-3,1.0786408799781964E-2,2.4665216366551729E-5]
[null,null,null,null,null,null,null,6.4534444444444418E-7,null,null,1.49E-2,1.0786408799781964E-2,1.6921632562511265E-5]
[null,null,null,null,null,null,null,4.0534444444444446E-7,null,null,4.9300000000000004E-3,2.6368295404217619E-3,5.2586307566822699E-6]
[null,null,null,null,null,null,null,6.4534444444444418E-7,null,null,1.1299999999999999E-2,1.0786408799781964E-2,2.6377592094140234E-7]
[null,null,null,null,null,null,null,{"$f":"SUM(H34:H39)","v":3.9137333333333329E-6},"SSx",null,null,"∑",{"$f":"SUM(M34:M39)","v":4.9024254301945296E-5},"SSE"]
[null,null,null,null,null,null,null,null,null,null,null,"s",{"$f":"(M40^0.5)/4","v":1.7504330589518642E-3},"Standard Dev."]
[]
[null,null,null,null,null,null,null,null,"t for 0.025, 4 d.f.",2.7759999999999998]
[null,null,null,null,null,null,null,null,"n",6]
[]
[null,null,null,null,null,null,null,null,"Increment for X",1E-4]
[]
[null,null,null,null,null,null,null,null,"X","Factor for CI","Y-hat","Y Lower CI","Y Upper CI","Factor for PI","Y Lower PI","Y Upper PI"]
[null,null,null,null,null,null,null,null,0,{"$f":"$J$43*$M$41*((1/$J$44)+(((I49-$I$32)^2)/$H$40))^0.5","v":3.7521972676232405E-3},{"$f":"$I$23 + ($I$24*I49)","v":-1.0983942867849976E-3},{"$f":"K49-J49","v":-4.8505915544082377E-3},{"$f":"K49+J49","v":2.6538029808382429E-3},{"$f":"$J$43*$M$41*(1+(1/$J$44)+(((I49-$I$32)^2)/$H$40))^0.5","v":6.139285795606117E-3},{"$f":"K49-N49","v":-7.2376800823911146E-3},{"$f":"K49+N49","v":5.0408915088211194E-3}]
[null,null,null,null,null,null,null,null,{"$f":"I49+$J$46","v":1E-4},{"$f":"$J$43*$M$41*((1/$J$44)+(((I50-$I$32)^2)/$H$40))^0.5","v":3.5460876607767027E-3},{"$f":"$I$23 + ($I$24*I50)","v":-5.3245128266276134E-4},{"$f":"K50-J50","v":-4.0785389434394642E-3},{"$f":"K50+J50","v":3.0136363781139413E-3},{"$f":"$J$43*$M$41*(1+(1/$J$44)+(((I50-$I$32)^2)/$H$40))^0.5","v":6.0155285256479757E-3},{"$f":"K50-N50","v":-6.5479798083107367E-3},{"$f":"K50+N50","v":5.4830772429852147E-3}]
[null,null,null,null,null,null,null,null,2.0000000000000001E-4,3.3453180051577409E-3,3.349172145947492E-5,-3.3118262836982658E-3,3.378809726617216E-3,5.8994066058040348E-3,-5.8659148843445601E-3,5.9328983272635095E-3]
[null,null,null,null,null,null,null,null,3.0000000000000003E-4,3.1509092193077607E-3,5.994347255817115E-4,-2.5514744937260494E-3,3.750343944889472E-3,5.7913793394398167E-3,-5.1919446138581054E-3,6.390814065021528E-3]
[null,null,null,null,null,null,null,null,4.0000000000000002E-4,2.9641131483077732E-3,1.1653777297039474E-3,-1.7987354186038257E-3,4.1294908780117202E-3,5.6919076328540976E-3,-4.5265299031501498E-3,6.8572853625580455E-3]
[null,null,null,null,null,null,null,null,5.0000000000000001E-4,2.78646121426258E-3,1.731320733826184E-3,-1.0551404804363959E-3,4.517781948088764E-3,5.6014472990077672E-3,-3.8701265651815832E-3,7.3327680328339508E-3]
[null,null,null,null,null,null,null,null,6.0000000000000006E-4,2.6198142942152722E-3,2.2972637379484206E-3,-3.225505562668516E-4,4.9170780321636928E-3,5.5204413484019905E-3,-3.2231776104535699E-3,7.8177050863504106E-3]
[null,null,null,null,null,null,null,null,7.000000000000001E-4,2.4664041170752884E-3,2.8632067420706567E-3,3.9680262499536831E-4,5.3296108591459456E-3,5.4493114256479831E-3,-2.5861046835773263E-3,8.312518167718639E-3]
[null,null,null,null,null,null,null,null,8.0000000000000015E-4,2.3288480191381105E-3,3.4291497461928933E-3,1.1003017270547828E-3,5.7579977653310042E-3,5.3884486488427466E-3,-1.9592989026498532E-3,8.817598395035639E-3]
[null,null,null,null,null,null,null,null,9.0000000000000019E-4,2.2101082368805765E-3,3.9950927503151299E-3,1.7849845134345534E-3,6.2052009871957064E-3,5.3382042077555533E-3,-1.3431114574404233E-3,9.3332969580706832E-3]
[null,null,null,null,null,null,null,null,1.0000000000000002E-3,2.1133587570920215E-3,4.5610357544373665E-3,2.447676997345345E-3,6.6743945115293885E-3,5.2988801629353021E-3,-7.3784440849793565E-4,9.8599159173726678E-3]
[null,null,null,null,null,null,null,null,1.1000000000000003E-3,2.0417280790041557E-3,5.1269787585596031E-3,3.0852506795554474E-3,7.1687068375637583E-3,5.2707209462810409E-3,-1.4374218772143788E-4,1.0397699704840644E-2]
[null,null,null,null,null,null,null,null,1.2000000000000003E-3,1.9979197571416028E-3,5.6929217626818397E-3,3.6950020055402369E-3,7.6908415198234424E-3,5.2539060803318974E-3,4.3901568234994224E-4,1.0946827843013738E-2]
[null,null,null,null,null,null,null,null,1.3000000000000004E-3,1.9837778752485932E-3,6.2588647668040762E-3,4.2750868915554831E-3,8.2426426420526694E-3,5.2485445985813572E-3,1.0103201682227191E-3,1.1507409365385433E-2]
[null,null,null,null,null,null,null,null,1.4000000000000004E-3,1.9999318627496243E-3,6.8248077709263128E-3,4.8248759081766885E-3,8.8247396336759362E-3,5.2546715597278672E-3,1.5701362111984456E-3,1.207947933065418E-2]
[null,null,null,null,null,null,null,null,1.5000000000000005E-3,2.0456641337039763E-3,7.3907507750485494E-3,5.3450866413445736E-3,9.4364149087525252E-3,5.2722469112224399E-3,2.1185038638261095E-3,1.266299768627099E-2]
[null,null,null,null,null,null,null,null,1.6000000000000005E-3,2.1190605312663433E-3,7.956693779170786E-3,5.8376332479044427E-3,1.007575431043713E-2,5.3011567869798489E-3,2.6555369921909371E-3,1.3257850566150635E-2]
[null,null,null,null,null,null,null,null,1.7000000000000006E-3,2.2173756599604523E-3,8.5226367832930226E-3,6.3052611233325702E-3,1.0740012443253476E-2,5.3412171424083443E-3,3.1814196408846782E-3,1.3863853925701367E-2]
[null,null,null,null,null,null,null,null,1.8000000000000006E-3,2.3374673462030668E-3,9.0885797874152591E-3,6.7511124412121919E-3,1.1426047133618326E-2,5.3921794609913826E-3,3.6964003264238765E-3,1.4480759248406642E-2]
[null,null,null,null,null,null,null,null,1.9000000000000006E-3,2.4761691918591625E-3,9.6545227915374957E-3,7.1783535996783332E-3,1.2130691983396658E-2,5.4537381319315452E-3,4.2007846596059505E-3,1.5108260923469041E-2]
[null,null,null,null,null,null,null,null,2.0000000000000005E-3,2.6305390386431463E-3,1.0220465795659731E-2,7.5899267570165843E-3,1.2851004834302876E-2,5.525539012512474E-3,4.6949267831472566E-3,1.5746004808172204E-2]
[null,null,null,null,null,null,null,null,2.1000000000000003E-3,2.7979847919359846E-3,1.0786408799781965E-2,7.9884240078459817E-3,1.3584393591717949E-2,5.6071886575071441E-3,5.1792201422748213E-3,1.6393597457289109E-2]
[null,null,null,null,null,null,null,null,2.2000000000000001E-3,2.9763003297635809E-3,1.1352351803904202E-2,8.3760514741406215E-3,1.4328652133667782E-2,5.6982637178286614E-3,5.6540880860755406E-3,1.7050615521732863E-2]
[null,null,null,null,null,null,null,null,2.3E-3,3.163648195511448E-3,1.1918294808026437E-2,8.754646612514988E-3,1.5081943003537886E-2,5.7983200713598556E-3,6.1199747366665813E-3,1.7716614879386292E-2]
[null,null,null,null,null,null,null,null,2.3999999999999998E-3,3.3585171805338709E-3,1.2484237812148672E-2,9.1257206316148008E-3,1.5842754992682541E-2,5.906901336311019E-3,6.5773364758376527E-3,1.839113914845969E-2]
[null,null,null,null,null,null,null,null,2.4999999999999996E-3,3.5596723014746489E-3,1.3050180816270907E-2,9.4905085147962576E-3,1.6609853117745557E-2,6.0235465167007337E-3,7.0266342995701728E-3,1.9073727332971642E-2]

{"sheet":"BackpackTypFolDerm1b1","index":70,"n_rows":77,"n_cols":16,"rows_kept":77,"cut":false,"hidden":false,"merged":[[0,1,0,9],[1,1,1,9]]}
[null,"Backpack Foliar",null,null,null,null,null,null,null,null,null,"Plot of regression"]
["Subgroup:","Relative Dermal Abs Rate vs Worker Exposure Rate (constrained regression) - Eq. 3 in report",null,null,null,null,null,null,null,null,null,"ka","WS"]
[null,"This is linked to BackpackTypFolDerm1a-1",null,null,null,null,null,null,null,null,null,0,{"$f":"L3*$I$24","v":0}]
[null,"RELATIVE DERMAL RATES vs Absolute Worker Rates",null,null,null,null,null,null,null,null,null,3.75,{"$f":"L4*$I$24","v":1.3906810374380435E-2}]
[null,"Study","Pesticide","Exposure Rate (mg/kg bw per lb)","Dermal Absorption Rate (hour-1_","Source of Dermal Absorption Rate"]
[null,"Middendorf 1993","Glyphosate",{"$f":"#REF!","v":{"$error":"#REF!"}},{"$f":"#REF!/#REF!","v":{"$error":"#REF!"}},"Humans",null,"Constraining intercept to zero"]
[null,"Lavy et al. 1993","Glyphosate",{"$f":"#REF!","v":{"$error":"#REF!"}},{"$f":"#REF!/#REF!","v":{"$error":"#REF!"}},"Humans",null,"SUMMARY OUTPUT"]
[null,"Middendorf 1992b, low bush","Triclopyr",{"$f":"#REF!","v":{"$error":"#REF!"}},{"$f":"#REF!/#REF!","v":{"$error":"#REF!"}},"Humans"]
[null,"Spenser et al. 2000","Triclopyr",{"$f":"#REF!","v":{"$error":"#REF!"}},{"$f":"#REF!/#REF!","v":{"$error":"#REF!"}},"Humans",null,"Regression Statistics"]
[null,"Zhang et al. 2011","2,4-D",{"$f":"#REF!","v":{"$error":"#REF!"}},{"$f":"#REF!/#REF!","v":{"$error":"#REF!"}},"Humans",null,"Multiple R",0.93052922085564693]
[null,"Zhang et al. 2011","Triclopyr",{"$f":"#REF!","v":{"$error":"#REF!"}},{"$f":"#REF!/#REF!","v":{"$error":"#REF!"}},"Humans",null,"R Square",0.86588463086621736]
[null,null,null,null,null,null,null,"Adjusted R Square",0.66588463086621741]
[null,null,null,null,null,null,null,"Standard Error",3.700569128782969E-3]
[null,null,null,null,null,null,null,"Observations",6]
[]
[null,null,null,null,null,null,null,"ANOVA"]
[null,null,null,null,null,null,null,null,"df","SS","MS","F","Significance F"]
[null,null,null,null,null,null,null,"Regression",1,4.4206744061549231E-4,4.4206744061549231E-4,32.281334960293798,4.7368378977125942E-3]
[null,null,null,null,null,null,null,"Residual",5,6.8471059384507717E-5,1.3694211876901543E-5]
[null,null,null,null,null,null,null,"Total",6,5.105385E-4]
[]
[null,null,null,null,null,null,null,null,"Coefficients","Standard Error","t Stat","P-value","Lower 95%","Upper 95%","Lower 95.0%","Upper 95.0%"]
[null,null,null,null,null,null,null,"Intercept",0,{"$error":"#N/A"},{"$error":"#N/A"},{"$error":"#N/A"},{"$error":"#N/A"},{"$error":"#N/A"},{"$error":"#N/A"},{"$error":"#N/A"}]
[null,null,null,null,null,null,null,"X Variable 1",3.7084827665014495E-3,6.5271038414862711E-4,5.6816665653920406,2.3528910735401498E-3,2.0306373096905354E-3,5.3863282233123635E-3,2.0306373096905354E-3,5.3863282233123635E-3]
[]
[]
[]
[]
[]
[]
[null,null,null,null,null,null,null,"Calculation of SSx",null,null,"Calculation of s (Standard Dev.)"]
[null,null,null,null,null,null,null,"x-bar:",{"$f":"AVERAGE(E6:E11)","v":{"$error":"#REF!"}}]
[null,null,null,null,null,null,null,"(xi-x-bar)2",null,null,"yi","y-hat","(yi - y-hat)2"]
[null,null,null,null,null,null,null,{"$f":"(E6-$I$32)^2","v":{"$error":"#REF!"}},null,null,{"$f":"D6","v":{"$error":"#REF!"}},{"$f":"$I$23+ ($I$24*E6)","v":{"$error":"#REF!"}},{"$f":"(K34-L34)^2","v":{"$error":"#REF!"}}]
[null,null,null,null,null,null,null,{"$error":"#REF!"},null,null,{"$error":"#REF!"},{"$f":"$I$23+ ($I$24*E7)","v":{"$error":"#REF!"}},{"$f":"(K35-L35)^2","v":{"$error":"#REF!"}}]
[null,null,null,null,null,null,null,{"$error":"#REF!"},null,null,{"$error":"#REF!"},{"$error":"#REF!"},{"$error":"#REF!"}]
[null,null,null,null,null,null,null,{"$error":"#REF!"},null,null,{"$error":"#REF!"},{"$error":"#REF!"},{"$error":"#REF!"}]
[null,null,null,null,null,null,null,{"$error":"#REF!"},null,null,{"$error":"#REF!"},{"$error":"#REF!"},{"$error":"#REF!"}]
[null,null,null,null,null,null,null,{"$error":"#REF!"},null,null,{"$error":"#REF!"},{"$error":"#REF!"},{"$error":"#REF!"}]
[null,null,null,null,null,null,null,{"$f":"SUM(H34:H39)","v":{"$error":"#REF!"}},"SSx",null,null,"∑",{"$f":"SUM(M34:M39)","v":{"$error":"#REF!"}},"SSE"]
[null,null,null,null,null,null,null,null,null,null,null,"s",{"$f":"(M40^0.5)/4","v":{"$error":"#REF!"}},"Standard Dev."]
[]
[null,null,null,null,null,null,null,null,"t for 0.025, 5 d.f.",2.5710000000000002]
[null,null,null,null,null,null,null,null,"n",6]
[]
[null,null,null,null,null,null,null,null,"Increment for X",0.15]
[]
[null,null,null,null,null,null,null,null,"X","Factor for CI","Y-hat","Y Lower CI","Y Upper CI","Factor for PI","Y Lower PI","Y Upper PI"]
[null,null,null,null,null,null,null,null,0,{"$f":"$J$43*$M$41*((1/$J$44)+(((I49-$I$32)^2)/$H$40))^0.5","v":{"$error":"#REF!"}},{"$f":"$I$23 + ($I$24*I49)","v":0},{"$f":"K49-J49","v":{"$error":"#REF!"}},{"$f":"K49+J49","v":{"$error":"#REF!"}},{"$f":"$J$43*$M$41*(1+(1/$J$44)+(((I49-$I$32)^2)/$H$40))^0.5","v":{"$error":"#REF!"}},{"$f":"K49-N49","v":{"$error":"#REF!"}},{"$f":"K49+N49","v":{"$error":"#REF!"}}]
[null,null,null,null,null,null,null,null,{"$f":"I49+$J$46","v":0.15},{"$f":"$J$43*$M$41*((1/$J$44)+(((I50-$I$32)^2)/$H$40))^0.5","v":{"$error":"#REF!"}},{"$f":"$I$23 + ($I$24*I50)","v":5.562724149752174E-4},{"$f":"K50-J50","v":{"$error":"#REF!"}},{"$f":"K50+J50","v":{"$error":"#REF!"}},{"$f":"$J$43*$M$41*(1+(1/$J$44)+(((I50-$I$32)^2)/$H$40))^0.5","v":{"$error":"#REF!"}},{"$f":"K50-N50","v":{"$error":"#REF!"}},{"$f":"K50+N50","v":{"$error":"#REF!"}}]
[null,null,null,null,null,null,null,null,0.3,{"$error":"#REF!"},1.1125448299504348E-3,{"$error":"#REF!"},{"$error":"#REF!"},{"$error":"#REF!"},{"$error":"#REF!"},{"$error":"#REF!"}]
[null,null,null,null,null,null,null,null,0.44999999999999996,{"$error":"#REF!"},1.6688172449256522E-3,{"$error":"#REF!"},{"$error":"#REF!"},{"$error":"#REF!"},{"$error":"#REF!"},{"$error":"#REF!"}]
[null,null,null,null,null,null,null,null,0.6,{"$error":"#REF!"},2.2250896599008696E-3,{"$error":"#REF!"},{"$error":"#REF!"},{"$error":"#REF!"},{"$error":"#REF!"},{"$error":"#REF!"}]
[null,null,null,null,null,null,null,"This is estimated rate for Glyphosate:",{"$f":"$E$7","v":{"$error":"#REF!"}},{"$f":"$J$43*$M$41*((1/$J$44)+(((I54-$I$32)^2)/$H$40))^0.5","v":{"$error":"#REF!"}},{"$f":"$I$23 + ($I$24*I54)","v":{"$error":"#REF!"}},{"$f":"K54-J54","v":{"$error":"#REF!"}},{"$f":"K54+J54","v":{"$error":"#REF!"}},{"$f":"$J$43*$M$41*(1+(1/$J$44)+(((I54-$I$32)^2)/$H$40))^0.5","v":{"$error":"#REF!"}},{"$f":"K54-N54","v":{"$error":"#REF!"}},{"$f":"K54+N54","v":{"$error":"#REF!"}}]
[null,null,null,null,null,null,null,null,{"$f":"I53+$J$46","v":0.75},{"$error":"#REF!"},2.781362074876087E-3,{"$error":"#REF!"},{"$error":"#REF!"},{"$error":"#REF!"},{"$error":"#REF!"},{"$error":"#REF!"}]
[null,null,null,null,null,null,null,null,0.9,{"$error":"#REF!"},3.3376344898513044E-3,{"$error":"#REF!"},{"$error":"#REF!"},{"$error":"#REF!"},{"$error":"#REF!"},{"$error":"#REF!"}]
[null,null,null,null,null,null,null,"This is estimated rate for 2,4-D:",1,{"$error":"#REF!"},{"$f":"$I$23 + ($I$24*I57)","v":3.7084827665014495E-3},{"$f":"K57-J57","v":{"$error":"#REF!"}},{"$f":"K57+J57","v":{"$error":"#REF!"}},{"$f":"$J$43*$M$41*(1+(1/$J$44)+(((I57-$I$32)^2)/$H$40))^0.5","v":{"$error":"#REF!"}},{"$f":"K57-N57","v":{"$error":"#REF!"}},{"$f":"K57+N57","v":{"$error":"#REF!"}}]
[null,null,null,null,null,null,null,null,{"$f":"I56+$J$46","v":1.05},{"$error":"#REF!"},3.8939069048265222E-3,{"$error":"#REF!"},{"$error":"#REF!"},{"$error":"#REF!"},{"$error":"#REF!"},{"$error":"#REF!"}]
[null,null,null,null,null,null,null,null,{"$f":"I58+$J$46","v":1.2},{"$error":"#REF!"},4.4501793198017392E-3,{"$error":"#REF!"},{"$error":"#REF!"},{"$error":"#REF!"},{"$error":"#REF!"},{"$error":"#REF!"}]
[null,null,null,null,null,null,null,null,1.3499999999999999,{"$error":"#REF!"},5.0064517347769566E-3,{"$error":"#REF!"},{"$error":"#REF!"},{"$error":"#REF!"},{"$error":"#REF!"},{"$error":"#REF!"}]
[null,null,null,null,null,null,null,null,1.4999999999999998,{"$error":"#REF!"},5.5627241497521731E-3,{"$error":"#REF!"},{"$error":"#REF!"},{"$error":"#REF!"},{"$error":"#REF!"},{"$error":"#REF!"}]
[null,null,null,null,null,null,null,null,1.6499999999999997,{"$error":"#REF!"},6.1189965647273905E-3,{"$error":"#REF!"},{"$error":"#REF!"},{"$error":"#REF!"},{"$error":"#REF!"},{"$error":"#REF!"}]
[null,null,null,null,null,null,null,null,1.7999999999999996,{"$error":"#REF!"},6.6752689797026079E-3,{"$error":"#REF!"},{"$error":"#REF!"},{"$error":"#REF!"},{"$error":"#REF!"},{"$error":"#REF!"}]
[null,null,null,null,null,null,null,null,1.9499999999999995,{"$error":"#REF!"},7.2315413946778245E-3,{"$error":"#REF!"},{"$error":"#REF!"},{"$error":"#REF!"},{"$error":"#REF!"},{"$error":"#REF!"}]
[null,null,null,null,null,null,null,null,2.0999999999999996,{"$error":"#REF!"},7.7878138096530427E-3,{"$error":"#REF!"},{"$error":"#REF!"},{"$error":"#REF!"},{"$error":"#REF!"},{"$error":"#REF!"}]
[null,null,null,null,null,null,null,null,2.2499999999999996,{"$error":"#REF!"},8.3440862246282593E-3,{"$error":"#REF!"},{"$error":"#REF!"},{"$error":"#REF!"},{"$error":"#REF!"},{"$error":"#REF!"}]
[null,null,null,null,null,null,null,null,2.3999999999999995,{"$error":"#REF!"},8.9003586396034767E-3,{"$error":"#REF!"},{"$error":"#REF!"},{"$error":"#REF!"},{"$error":"#REF!"},{"$error":"#REF!"}]
[null,null,null,null,null,null,null,null,2.5499999999999994,{"$error":"#REF!"},9.4566310545786941E-3,{"$error":"#REF!"},{"$error":"#REF!"},{"$error":"#REF!"},{"$error":"#REF!"},{"$error":"#REF!"}]
[null,null,null,null,null,null,null,null,2.6999999999999993,{"$error":"#REF!"},1.0012903469553911E-2,{"$error":"#REF!"},{"$error":"#REF!"},{"$error":"#REF!"},{"$error":"#REF!"},{"$error":"#REF!"}]
[null,null,null,null,null,null,null,null,2.8499999999999992,{"$error":"#REF!"},1.0569175884529129E-2,{"$error":"#REF!"},{"$error":"#REF!"},{"$error":"#REF!"},{"$error":"#REF!"},{"$error":"#REF!"}]
[null,null,null,null,null,null,null,null,2.9999999999999991,{"$error":"#REF!"},1.1125448299504345E-2,{"$error":"#REF!"},{"$error":"#REF!"},{"$error":"#REF!"},{"$error":"#REF!"},{"$error":"#REF!"}]
[null,null,null,null,null,null,null,null,3.149999999999999,{"$error":"#REF!"},1.1681720714479562E-2,{"$error":"#REF!"},{"$error":"#REF!"},{"$error":"#REF!"},{"$error":"#REF!"},{"$error":"#REF!"}]
[null,null,null,null,null,null,null,"This is estimated rate for triclopry:",{"$f":"$E$8","v":{"$error":"#REF!"}},{"$f":"$J$43*$M$41*((1/$J$44)+(((I73-$I$32)^2)/$H$40))^0.5","v":{"$error":"#REF!"}},{"$f":"$I$23 + ($I$24*I73)","v":{"$error":"#REF!"}},{"$f":"K73-J73","v":{"$error":"#REF!"}},{"$f":"K73+J73","v":{"$error":"#REF!"}},{"$f":"$J$43*$M$41*(1+(1/$J$44)+(((I73-$I$32)^2)/$H$40))^0.5","v":{"$error":"#REF!"}},{"$f":"K73-N73","v":{"$error":"#REF!"}},{"$f":"K73+N73","v":{"$error":"#REF!"}}]
[null,null,null,null,null,null,null,null,{"$f":"I72+$J$46","v":3.2999999999999989},{"$error":"#REF!"},1.2237993129454779E-2,{"$error":"#REF!"},{"$error":"#REF!"},{"$error":"#REF!"},{"$error":"#REF!"},{"$error":"#REF!"}]
[null,null,null,null,null,null,null,null,3.4499999999999988,{"$error":"#REF!"},1.2794265544429997E-2,{"$error":"#REF!"},{"$error":"#REF!"},{"$error":"#REF!"},{"$error":"#REF!"},{"$error":"#REF!"}]
[null,null,null,null,null,null,null,null,{"$f":"I75+$J$46","v":3.5999999999999988},{"$error":"#REF!"},1.3350537959405214E-2,{"$error":"#REF!"},{"$error":"#REF!"},{"$error":"#REF!"},{"$error":"#REF!"},{"$error":"#REF!"}]
[null,null,null,null,null,null,null,null,3.7499999999999987,{"$error":"#REF!"},1.390681037438043E-2,{"$error":"#REF!"},{"$error":"#REF!"},{"$error":"#REF!"},{"$error":"#REF!"},{"$error":"#REF!"}]

{"sheet":"BackpackTypFolDerm1b2","index":71,"n_rows":76,"n_cols":16,"rows_kept":76,"cut":false,"hidden":false,"merged":[[0,1,0,9],[1,1,1,9]]}
[null,"Backpack Foliar",null,null,null,null,null,null,null,null,null,"Plot of regression"]
["Subgroup:","Relative Dermal Abs Rate vs Worker Exposure Rate (constrained regression) - Eq. 3 in report - censoring Middendorf 1992b",null,null,null,null,null,null,null,null,null,"ka","WS"]
[null,"This is linked to BackpackTypFolDerm1a-1",null,null,null,null,null,null,null,null,null,0,{"$f":"L3*$I$24","v":0}]
[null,"RELATIVE DERMAL RATES vs Absolute Worker Rates",null,null,null,null,null,null,null,null,null,3.75,{"$f":"L4*$I$24","v":1.714703470672866E-2}]
[null,"Study","Pesticide","Exposure Rate (mg/kg bw per lb)","Dermal Absorption Rate (hour-1_","Source of Dermal Absorption Rate"]
[null,"Middendorf 1993","Glyphosate",{"$f":"#REF!","v":{"$error":"#REF!"}},{"$f":"#REF!/#REF!","v":{"$error":"#REF!"}},"Humans",null,"Constraining intercept to zero"]
[null,"Lavy et al. 1993","Glyphosate",{"$f":"#REF!","v":{"$error":"#REF!"}},{"$f":"#REF!/#REF!","v":{"$error":"#REF!"}},"Humans",null,"SUMMARY OUTPUT"]
[null,"Spenser et al. 2000","Triclopyr",{"$f":"#REF!","v":{"$error":"#REF!"}},{"$f":"#REF!/#REF!","v":{"$error":"#REF!"}},"Humans"]
[null,"Zhang et al. 2011","2,4-D",{"$f":"#REF!","v":{"$error":"#REF!"}},{"$f":"#REF!/#REF!","v":{"$error":"#REF!"}},"Humans",null,"Regression Statistics"]
[null,"Zhang et al. 2011","Triclopyr",{"$f":"#REF!","v":{"$error":"#REF!"}},{"$f":"#REF!/#REF!","v":{"$error":"#REF!"}},"Humans",null,"Multiple R",0.98278099095628824]
[null,null,null,null,null,null,null,"R Square",0.96585847618502396]
[null,null,null,null,null,null,null,"Adjusted R Square",0.71585847618502396]
[null,null,null,null,null,null,null,"Standard Error",2.0170589359846266E-3]
[null,null,null,null,null,null,null,"Observations",5]
[]
[null,null,null,null,null,null,null,"ANOVA"]
[null,null,null,null,null,null,null,null,"df","SS","MS","F","Significance F"]
[null,null,null,null,null,null,null,"Regression",1,4.6039199299505829E-4,4.6039199299505829E-4,113.15938695874556,1.7753672167714338E-3]
[null,null,null,null,null,null,null,"Residual",4,1.6274107004941732E-5,4.0685267512354331E-6]
[null,null,null,null,null,null,null,"Total",5,4.7666610000000003E-4]
[]
[null,null,null,null,null,null,null,null,"Coefficients","Standard Error","t Stat","P-value","Lower 95%","Upper 95%","Lower 95.0%","Upper 95.0%"]
[null,null,null,null,null,null,null,"Intercept",0,{"$error":"#N/A"},{"$error":"#N/A"},{"$error":"#N/A"},{"$error":"#N/A"},{"$error":"#N/A"},{"$error":"#N/A"},{"$error":"#N/A"}]
[null,null,null,null,null,null,null,"X Variable 1",4.5725425884609759E-3,4.2984558080847812E-4,10.637640102896199,4.4218873985490948E-4,3.3790999297005665E-3,5.7659852472213852E-3,3.3790999297005665E-3,5.7659852472213852E-3]
[]
[]
[]
[]
[]
[]
[null,null,null,null,null,null,null,"Calculation of SSx",null,null,"Calculation of s (Standard Dev.)"]
[null,null,null,null,null,null,null,"x-bar:",{"$f":"AVERAGE(E6:E10)","v":{"$error":"#REF!"}}]
[null,null,null,null,null,null,null,"(xi-x-bar)2",null,null,"yi","y-hat","(yi - y-hat)2"]
[null,null,null,null,null,null,null,{"$f":"(E6-$I$32)^2","v":{"$error":"#REF!"}},null,null,{"$f":"D6","v":{"$error":"#REF!"}},{"$f":"$I$23+ ($I$24*E6)","v":{"$error":"#REF!"}},{"$f":"(K34-L34)^2","v":{"$error":"#REF!"}}]
[null,null,null,null,null,null,null,{"$error":"#REF!"},null,null,{"$error":"#REF!"},{"$f":"$I$23+ ($I$24*E7)","v":{"$error":"#REF!"}},{"$f":"(K35-L35)^2","v":{"$error":"#REF!"}}]
[null,null,null,null,null,null,null,{"$f":"(E8-$I$32)^2","v":{"$error":"#REF!"}},null,null,{"$f":"D8","v":{"$error":"#REF!"}},{"$f":"$I$23+ ($I$24*E8)","v":{"$error":"#REF!"}},{"$error":"#REF!"}]
[null,null,null,null,null,null,null,{"$f":"(E9-$I$32)^2","v":{"$error":"#REF!"}},null,null,{"$f":"D9","v":{"$error":"#REF!"}},{"$f":"$I$23+ ($I$24*E9)","v":{"$error":"#REF!"}},{"$error":"#REF!"}]
[null,null,null,null,null,null,null,{"$f":"(E10-$I$32)^2","v":{"$error":"#REF!"}},null,null,{"$f":"D10","v":{"$error":"#REF!"}},{"$f":"$I$23+ ($I$24*E10)","v":{"$error":"#REF!"}},{"$error":"#REF!"}]
[null,null,null,null,null,null,null,{"$f":"SUM(H34:H38)","v":{"$error":"#REF!"}},"SSx",null,null,"∑",{"$f":"SUM(M34:M38)","v":{"$error":"#REF!"}}]
[null,null,null,null,null,null,null,null,null,null,null,"s",{"$f":"(M39^0.5)/4","v":{"$error":"#REF!"}},"SSE"]
[null,null,null,null,null,null,null,null,null,null,null,null,null,"Standard Dev."]
[null,null,null,null,null,null,null,null,"t for 0.025, 4 d.f.",2.7759999999999998]
[null,null,null,null,null,null,null,null,"n",5]
[]
[null,null,null,null,null,null,null,null,"Increment for X",0.15]
[]
[null,null,null,null,null,null,null,null,"X","Factor for CI","Y-hat","Y Lower CI","Y Upper CI","Factor for PI","Y Lower PI","Y Upper PI"]
[null,null,null,null,null,null,null,null,0,{"$f":"$J$42*$M$40*((1/$J$43)+(((I48-$I$32)^2)/$H$39))^0.5","v":{"$error":"#REF!"}},{"$f":"$I$23 + ($I$24*I48)","v":0},{"$f":"K48-J48","v":{"$error":"#REF!"}},{"$f":"K48+J48","v":{"$error":"#REF!"}},{"$f":"$J$42*$M$40*(1+(1/$J$43)+(((I48-$I$32)^2)/$H$39))^0.5","v":{"$error":"#REF!"}},{"$f":"K48-N48","v":{"$error":"#REF!"}},{"$f":"K48+N48","v":{"$error":"#REF!"}}]
[null,null,null,null,null,null,null,null,{"$f":"I48+$J$45","v":0.15},{"$error":"#REF!"},{"$f":"$I$23 + ($I$24*I49)","v":6.8588138826914638E-4},{"$f":"K49-J49","v":{"$error":"#REF!"}},{"$f":"K49+J49","v":{"$error":"#REF!"}},{"$error":"#REF!"},{"$error":"#REF!"},{"$error":"#REF!"}]
[null,null,null,null,null,null,null,null,0.3,{"$error":"#REF!"},1.3717627765382928E-3,{"$error":"#REF!"},{"$error":"#REF!"},{"$error":"#REF!"},{"$error":"#REF!"},{"$error":"#REF!"}]
[null,null,null,null,null,null,null,null,0.44999999999999996,{"$error":"#REF!"},2.0576441648074389E-3,{"$error":"#REF!"},{"$error":"#REF!"},{"$error":"#REF!"},{"$error":"#REF!"},{"$error":"#REF!"}]
[null,null,null,null,null,null,null,null,0.6,{"$error":"#REF!"},2.7435255530765855E-3,{"$error":"#REF!"},{"$error":"#REF!"},{"$error":"#REF!"},{"$error":"#REF!"},{"$error":"#REF!"}]
[null,null,null,null,null,null,null,"This is estimated rate for Glyphosate:",{"$f":"$E$7","v":{"$error":"#REF!"}},{"$error":"#REF!"},{"$error":"#REF!"},{"$error":"#REF!"},{"$error":"#REF!"},{"$error":"#REF!"},{"$error":"#REF!"},{"$error":"#REF!"}]
[null,null,null,null,null,null,null,null,{"$f":"I52+$J$45","v":0.75},{"$error":"#REF!"},3.4294069413457317E-3,{"$error":"#REF!"},{"$error":"#REF!"},{"$error":"#REF!"},{"$error":"#REF!"},{"$error":"#REF!"}]
[null,null,null,null,null,null,null,null,0.9,{"$error":"#REF!"},4.1152883296148787E-3,{"$error":"#REF!"},{"$error":"#REF!"},{"$error":"#REF!"},{"$error":"#REF!"},{"$error":"#REF!"}]
[null,null,null,null,null,null,null,"This is estimated rate for 2,4-D:",1,{"$error":"#REF!"},4.5725425884609759E-3,{"$error":"#REF!"},{"$error":"#REF!"},{"$error":"#REF!"},{"$error":"#REF!"},{"$error":"#REF!"}]
[null,null,null,null,null,null,null,null,{"$f":"I55+$J$45","v":1.05},{"$error":"#REF!"},4.8011697178840249E-3,{"$error":"#REF!"},{"$error":"#REF!"},{"$error":"#REF!"},{"$error":"#REF!"},{"$error":"#REF!"}]
[null,null,null,null,null,null,null,null,{"$f":"I57+$J$45","v":1.2},{"$error":"#REF!"},5.4870511061531711E-3,{"$error":"#REF!"},{"$error":"#REF!"},{"$error":"#REF!"},{"$error":"#REF!"},{"$error":"#REF!"}]
[null,null,null,null,null,null,null,null,1.3499999999999999,{"$error":"#REF!"},6.1729324944223172E-3,{"$error":"#REF!"},{"$error":"#REF!"},{"$error":"#REF!"},{"$error":"#REF!"},{"$error":"#REF!"}]
[null,null,null,null,null,null,null,null,1.4999999999999998,{"$error":"#REF!"},6.8588138826914625E-3,{"$error":"#REF!"},{"$error":"#REF!"},{"$error":"#REF!"},{"$error":"#REF!"},{"$error":"#REF!"}]
[null,null,null,null,null,null,null,null,1.6499999999999997,{"$error":"#REF!"},7.5446952709606087E-3,{"$error":"#REF!"},{"$error":"#REF!"},{"$error":"#REF!"},{"$error":"#REF!"},{"$error":"#REF!"}]
[null,null,null,null,null,null,null,null,1.7999999999999996,{"$error":"#REF!"},8.230576659229754E-3,{"$error":"#REF!"},{"$error":"#REF!"},{"$error":"#REF!"},{"$error":"#REF!"},{"$error":"#REF!"}]
[null,null,null,null,null,null,null,null,1.9499999999999995,{"$error":"#REF!"},8.916458047498901E-3,{"$error":"#REF!"},{"$error":"#REF!"},{"$error":"#REF!"},{"$error":"#REF!"},{"$error":"#REF!"}]
[null,null,null,null,null,null,null,null,2.0999999999999996,{"$error":"#REF!"},9.602339435768048E-3,{"$error":"#REF!"},{"$error":"#REF!"},{"$error":"#REF!"},{"$error":"#REF!"},{"$error":"#REF!"}]
[null,null,null,null,null,null,null,null,2.2499999999999996,{"$error":"#REF!"},1.0288220824037193E-2,{"$error":"#REF!"},{"$error":"#REF!"},{"$error":"#REF!"},{"$error":"#REF!"},{"$error":"#REF!"}]
[null,null,null,null,null,null,null,null,2.3999999999999995,{"$error":"#REF!"},1.097410221230634E-2,{"$error":"#REF!"},{"$error":"#REF!"},{"$error":"#REF!"},{"$error":"#REF!"},{"$error":"#REF!"}]
[null,null,null,null,null,null,null,null,2.5499999999999994,{"$error":"#REF!"},1.1659983600575486E-2,{"$error":"#REF!"},{"$error":"#REF!"},{"$error":"#REF!"},{"$error":"#REF!"},{"$error":"#REF!"}]
[null,null,null,null,null,null,null,null,2.6999999999999993,{"$error":"#REF!"},1.2345864988844631E-2,{"$error":"#REF!"},{"$error":"#REF!"},{"$error":"#REF!"},{"$error":"#REF!"},{"$error":"#REF!"}]
[null,null,null,null,null,null,null,null,2.8499999999999992,{"$error":"#REF!"},1.3031746377113778E-2,{"$error":"#REF!"},{"$error":"#REF!"},{"$error":"#REF!"},{"$error":"#REF!"},{"$error":"#REF!"}]
[null,null,null,null,null,null,null,null,2.9999999999999991,{"$error":"#REF!"},1.3717627765382923E-2,{"$error":"#REF!"},{"$error":"#REF!"},{"$error":"#REF!"},{"$error":"#REF!"},{"$error":"#REF!"}]
[null,null,null,null,null,null,null,null,3.149999999999999,{"$error":"#REF!"},1.440350915365207E-2,{"$error":"#REF!"},{"$error":"#REF!"},{"$error":"#REF!"},{"$error":"#REF!"},{"$error":"#REF!"}]
[null,null,null,null,null,null,null,"This is estimated rate for triclopry:",{"$f":"$E$8","v":{"$error":"#REF!"}},{"$error":"#REF!"},{"$error":"#REF!"},{"$error":"#REF!"},{"$error":"#REF!"},{"$error":"#REF!"},{"$error":"#REF!"},{"$error":"#REF!"}]
[null,null,null,null,null,null,null,null,{"$f":"I71+$J$45","v":3.2999999999999989},{"$error":"#REF!"},1.5089390541921216E-2,{"$error":"#REF!"},{"$error":"#REF!"},{"$error":"#REF!"},{"$error":"#REF!"},{"$error":"#REF!"}]
[null,null,null,null,null,null,null,null,3.4499999999999988,{"$error":"#REF!"},1.5775271930190363E-2,{"$error":"#REF!"},{"$error":"#REF!"},{"$error":"#REF!"},{"$error":"#REF!"},{"$error":"#REF!"}]
[null,null,null,null,null,null,null,null,3.5999999999999988,{"$error":"#REF!"},1.6461153318459508E-2,{"$error":"#REF!"},{"$error":"#REF!"},{"$error":"#REF!"},{"$error":"#REF!"},{"$error":"#REF!"}]
[null,null,null,null,null,null,null,null,3.7499999999999987,{"$error":"#REF!"},1.7147034706728653E-2,{"$error":"#REF!"},{"$error":"#REF!"},{"$error":"#REF!"},{"$error":"#REF!"},{"$error":"#REF!"}]

{"sheet":"BackpackTypFolDerm1c","index":72,"n_rows":77,"n_cols":16,"rows_kept":77,"cut":false,"hidden":false,"merged":[[0,1,0,9],[1,1,1,9]]}
[null,"Backpack Foliar",null,null,null,null,null,null,null,null,null,"Plot of regression"]
["Subgroup:","Relative Dermal Abs Rate vs Relative Worker Exposure Rate (constrained regression) - Eq. 4 in report",null,null,null,null,null,null,null,null,null,"ka","WS"]
[null,"This is linked to BackpackTypFolDerm1a-1",null,null,null,null,null,null,null,null,null,0,{"$f":"L3*$I$24","v":0}]
[null,"RELATIVE DERMAL RATES vs RELATIVE Worker Rates",null,null,null,null,null,null,null,null,null,4,{"$f":"L4*$I$24","v":2.7037857810052062}]
[null,"Study","Pesticide","Exposure Rate (mg/kg bw per lb)","Dermal Absorption Rate (hour-1_","Source of Dermal Absorption Rate"]
[null,"Middendorf 1993","Glyphosate",{"$f":"'BackpackTypFolDerm1a-1'!D6/'BackpackTypFolDerm1a-1'!$D$10","v":6.0851926977687619E-2},{"$f":"'BackpackTypFolDerm1a-1'!E6/'BackpackTypFolDerm1a-1'!$E$10","v":0.62121212121212122},"Humans",null,"Constraining intercept to zero"]
[null,"Lavy et al. 1993","Glyphosate",{"$f":"'BackpackTypFolDerm1a-1'!D7/'BackpackTypFolDerm1a-1'!$D$10","v":3.8539553752535496E-2},{"$f":"'BackpackTypFolDerm1a-1'!E7/'BackpackTypFolDerm1a-1'!$E$10","v":0.62121212121212122},"Humans",null,"SUMMARY OUTPUT"]
[null,"Middendorf 1992b, low bush","Triclopyr",{"$f":"'BackpackTypFolDerm1a-1'!D8/'BackpackTypFolDerm1a-1'!$D$10","v":1.1805273833671397},{"$f":"'BackpackTypFolDerm1a-1'!E8/'BackpackTypFolDerm1a-1'!$E$10","v":3.1818181818181817},"Humans"]
[null,"Spenser et al. 2000","Triclopyr",{"$f":"'BackpackTypFolDerm1a-1'!D9/'BackpackTypFolDerm1a-1'!$D$10","v":3.022312373225152},{"$f":"'BackpackTypFolDerm1a-1'!E9/'BackpackTypFolDerm1a-1'!$E$10","v":3.1818181818181817},"Humans",null,"Regression Statistics"]
[null,"Zhang et al. 2011","2,4-D",{"$f":"'BackpackTypFolDerm1a-1'!D10/'BackpackTypFolDerm1a-1'!$D$10","v":1},{"$f":"'BackpackTypFolDerm1a-1'!E10/'BackpackTypFolDerm1a-1'!$E$10","v":1},"Humans",null,"Multiple R",0.93535251016774601]
[null,"Zhang et al. 2011","Triclopyr",{"$f":"'BackpackTypFolDerm1a-1'!D11/'BackpackTypFolDerm1a-1'!$D$10","v":2.2920892494929004},{"$f":"'BackpackTypFolDerm1a-1'!E11/'BackpackTypFolDerm1a-1'!$E$10","v":3.1818181818181817},"Humans",null,"R Square",0.87488431827710345]
[null,null,null,null,null,null,null,"Adjusted R Square",0.67488431827710349]
[null,null,null,null,null,null,null,"Standard Error",0.64812062623755351]
[null,null,null,null,null,null,null,"Observations",6]
[]
[null,null,null,null,null,null,null,"ANOVA"]
[null,null,null,null,null,null,null,null,"df","SS","MS","F","Significance F"]
[null,null,null,null,null,null,null,"Regression",1,14.686576635317994,14.686576635317994,34.96301607558587,4.0959021870559508E-3]
[null,null,null,null,null,null,null,"Residual",5,2.1003017307727925,0.42006034615455851]
[null,null,null,null,null,null,null,"Total",6,16.786878366090786]
[]
[null,null,null,null,null,null,null,null,"Coefficients","Standard Error","t Stat","P-value","Lower 95%","Upper 95%","Lower 95.0%","Upper 95.0%"]
[null,null,null,null,null,null,null,"Intercept",0,{"$error":"#N/A"},{"$error":"#N/A"},{"$error":"#N/A"},{"$error":"#N/A"},{"$error":"#N/A"},{"$error":"#N/A"},{"$error":"#N/A"}]
[null,null,null,null,null,null,null,"X Variable 1",0.67594644525130154,0.11431621683156845,5.9129532448334032,1.9707157726567368E-3,0.38208725474540928,0.96980563575719381,0.38208725474540928,0.96980563575719381]
[]
[]
[]
[]
[]
[]
[null,null,null,null,null,null,null,"Calculation of SSx",null,null,"Calculation of s (Standard Dev.)"]
[null,null,null,null,null,null,null,"x-bar:",{"$f":"AVERAGE(E6:E11)","v":1.9646464646464645}]
[null,null,null,null,null,null,null,"(xi-x-bar)2",null,null,"yi","y-hat","(yi - y-hat)2"]
[null,null,null,null,null,null,null,{"$f":"(E6-$I$32)^2","v":1.8048158351188655},null,null,{"$f":"D6","v":6.0851926977687619E-2},{"$f":"$I$23+ ($I$24*E6)","v":0.41990612508035396},{"$f":"(K34-L34)^2","v":0.12891991717514878}]
[null,null,null,null,null,null,null,1.8048158351188655,null,null,3.8539553752535496E-2,{"$f":"$I$23+ ($I$24*E7)","v":0.41990612508035396},{"$f":"(K35-L35)^2","v":0.14544046172633607}]
[null,null,null,null,null,null,null,1.4815069890827466,null,null,1.1805273833671397,2.1507386894359595,0.94130997842376507]
[null,null,null,null,null,null,null,1.4815069890827466,null,null,3.022312373225152,2.1507386894359595,0.75964068627386339]
[null,null,null,null,null,null,null,0.93054280175492277,null,null,1,0.67594644525130154,0.10501070634526771]
[null,null,null,null,null,null,null,1.4815069890827466,null,null,2.2920892494929004,2.1507386894359595,1.9979980828410859E-2]
[null,null,null,null,null,null,null,{"$f":"SUM(H34:H39)","v":8.9846954392408929},"SSx",null,null,"∑",{"$f":"SUM(M34:M39)","v":2.1003017307727916},"SSE"]
[null,null,null,null,null,null,null,null,null,null,null,"s",{"$f":"(M40^0.5)/4","v":0.36231044447172578},"Standard Dev."]
[]
[null,null,null,null,null,null,null,null,"t for 0.025, 5 d.f.",2.5710000000000002]
[null,null,null,null,null,null,null,null,"n",6]
[]
[null,null,null,null,null,null,null,null,"Increment for X",0.15]
[]
[null,null,null,null,null,null,null,null,"X","Factor for CI","Y-hat","Y Lower CI","Y Upper CI","Factor for PI","Y Lower PI","Y Upper PI"]
[null,null,null,null,null,null,null,null,0,{"$f":"$J$43*$M$41*((1/$J$44)+(((I49-$I$32)^2)/$H$40))^0.5","v":0.71928934101183561},{"$f":"$I$23 + ($I$24*I49)","v":0},{"$f":"K49-J49","v":-0.71928934101183561},{"$f":"K49+J49","v":0.71928934101183561},{"$f":"$J$43*$M$41*(1+(1/$J$44)+(((I49-$I$32)^2)/$H$40))^0.5","v":1.1768898379380865},{"$f":"K49-N49","v":-1.1768898379380865},{"$f":"K49+N49","v":1.1768898379380865}]
[null,null,null,null,null,null,null,null,{"$f":"I49+$J$46","v":0.15},{"$f":"$J$43*$M$41*((1/$J$44)+(((I50-$I$32)^2)/$H$40))^0.5","v":0.68016884172342684},{"$f":"$I$23 + ($I$24*I50)","v":0.10139196678769523},{"$f":"K50-J50","v":-0.5787768749357316},{"$f":"K50+J50","v":0.78156080851112208},{"$f":"$J$43*$M$41*(1+(1/$J$44)+(((I50-$I$32)^2)/$H$40))^0.5","v":1.153395937135242},{"$f":"K50-N50","v":-1.0520039703475468},{"$f":"K50+N50","v":1.2547879039229373}]
[null,null,null,null,null,null,null,null,0.3,0.64204984482074789,0.20278393357539046,-0.43926591124535741,0.84483377839613838,1.1313357316831467,-0.92855179810775623,1.3341196652585372]
[null,null,null,null,null,null,null,null,0.44999999999999996,0.60512164565657012,0.30417590036308567,-0.30094574529348445,0.90929754601965573,1.1107946437532055,-0.80661874339011974,1.4149705441162912]
[null,null,null,null,null,null,null,null,0.6,0.5696158895911313,0.40556786715078091,-0.16404802244035038,0.97518375674191216,1.0918584140003642,-0.68629054684958324,1.4974262811511452]
[null,null,null,null,null,null,null,null,0.75,0.53581542543313099,0.50695983393847621,-2.8855591494654775E-2,1.0427752593716071,1.0746118856037197,-0.56765205166524346,1.5815717195421959]
[null,null,null,null,null,null,null,null,0.9,0.50406342003193338,0.60835180072617145,0.10428838069423807,1.1124152207581048,1.0591376048290346,-0.45078580410286317,1.6674894055552061]
[null,null,null,null,null,null,null,null,1,0.48423355413430541,0.67594644525130154,0.19171289111699613,1.160179999385607,1.0498450692831949,-0.37389862403189333,1.7257915145344964]
[null,null,null,null,null,null,null,null,{"$f":"I55+$J$46","v":1.05},0.4747710453695575,0.7097437675138667,0.2349727221443092,1.1845148128834242,1.0455142658376295,-0.33577049832376282,1.7552580333514962]
[null,null,null,null,null,null,null,null,{"$f":"I57+$J$46","v":1.2},0.44842057541233155,0.81113573430156183,0.36271515888923028,1.2595563097138933,1.0338150448710937,-0.22267931056953183,1.8449507791726556]
[null,null,null,null,null,null,null,null,1.3499999999999999,0.42555884694100965,0.91252770108925696,0.48696885414824731,1.3380865480302666,1.0241058864973176,-0.11157818540806064,1.9366335875865746]
[null,null,null,null,null,null,null,null,1.4999999999999998,0.40677451344843091,1.0139196678769522,0.60714515442852135,1.4206941813253831,1.0164438200608543,-2.5241521839021175E-3,2.0303634879378065]
[null,null,null,null,null,null,null,null,1.6499999999999997,0.39265319328570947,1.1153116346646474,0.72265844137893798,1.507964827950357,1.0108753952620271,0.10443623940262037,2.1261870299266743]
[null,null,null,null,null,null,null,null,1.7999999999999996,0.38371005776306244,1.2167036014523425,0.83299354368928002,1.600413659215405,1.0074353294267717,0.20926827202557075,2.2241389308791142]
[null,null,null,null,null,null,null,null,1.9499999999999995,0.38031058292455089,1.3180955682400377,0.93778498531548682,1.6984061511645887,1.0061454537158665,0.31195011452417121,2.3242410219559044]
[null,null,null,null,null,null,null,null,2.0999999999999996,0.38260256581092295,1.4194875350277329,1.0368849692168101,1.8020901008386558,1.0070140306439612,0.41247350438377173,2.4265015656716944]
[null,null,null,null,null,null,null,null,2.2499999999999996,0.39048580008830347,1.5208795018154282,1.1303937017271246,1.9113653019037318,1.0100354917621943,0.51084401005323388,2.5309149935776225]
[null,null,null,null,null,null,null,null,2.3999999999999995,0.40363281531723155,1.6222714686031234,1.2186386532858919,2.0259042839203549,1.0151906146875125,0.60708085391561095,2.6374620832906359]
[null,null,null,null,null,null,null,null,2.5499999999999994,0.42155141081016112,1.7236634353908185,1.3021120245806572,2.1452148462009797,1.0224471265081301,0.70121630888268838,2.7461105618989485]
[null,null,null,null,null,null,null,null,2.6999999999999993,0.4436638222077286,1.8250554021785137,1.381391579970785,2.2687192243862424,1.0317606901237641,0.79329471205474955,2.8568160923022781]
[null,null,null,null,null,null,null,null,2.8499999999999992,0.46937771052822241,1.9264473689662089,1.4570696584379865,2.3958250794944314,1.0430762051208966,0.88337116384531233,2.9695235740871055]
[null,null,null,null,null,null,null,null,2.9999999999999991,0.49813566020740924,2.027839335753904,1.5297036755464948,2.5259749959613131,1.0563293380944061,0.97150999765949786,3.0841686738483101]
[null,null,null,null,null,null,null,null,3.149999999999999,0.52944186614267497,2.1292313025415992,1.5997894363989242,2.6586731686842739,1.0714481901488906,1.0577831123927086,3.2006794926904898]
[null,null,null,null,null,null,null,null,3.2999999999999989,0.5628712962159429,2.2306232693292944,1.6677519731133517,2.7934945655452372,1.0883550113140981,1.1422682580151964,3.3189782806433925]
[null,null,null,null,null,null,null,null,3.4499999999999988,0.59806801904783735,2.3320152361169897,1.7339472170691523,2.9300832551648268,1.1069678811765493,1.2250473549404404,3.4389831172935388]
[null,null,null,null,null,null,null,null,{"$f":"I73+$J$46","v":3.5999999999999988},0.6347381094093878,2.4334072029046849,1.7986690934952971,3.0681453123140727,1.1272022897800107,1.3062049131246742,3.5606094926846956]
[null,null,null,null,null,null,null,null,3.7499999999999987,{"$f":"$J$43*$M$41*((1/$J$44)+(((I75-$I$32)^2)/$H$40))^0.5","v":0.67264064142022706},{"$f":"$I$23 + ($I$24*I75)","v":2.5347991696923797},{"$f":"K75-J75","v":1.8621585282721527},{"$f":"K75+J75","v":3.2074398111126068},{"$f":"$J$43*$M$41*(1+(1/$J$44)+(((I75-$I$32)^2)/$H$40))^0.5","v":1.1489725701856026},{"$f":"K75-N75","v":1.3858265995067771},{"$f":"K75+N75","v":3.6837717398779821}]
[null,null,null,null,null,null,null,null,3.8999999999999986,0.71157870279304736,2.636191136480075,1.9246124336870276,3.3477698392731225,1.1721931516679882,1.4639979848120868,3.808384288148063]
[null,null,null,null,null,null,null,null,4,0.73803194926419102,2.7037857810052062,1.965753831741015,3.4418177302693973,1.1884375005373216,1.5153482804678846,3.8922232815425275]

{"sheet":"BackpackTypFolDerm1d","index":73,"n_rows":77,"n_cols":16,"rows_kept":77,"cut":false,"hidden":false,"merged":[[0,1,0,9],[1,1,1,9]]}
[null,"Relative Directed Foliar",null,null,null,null,null,null,null,null,null,"Plot of regression"]
["Subgroup:","As in 1c but adding Lavy et al. 1987 Dicloprop Backpack, T1 and T2 (from RelRatesMixData)",null,null,null,null,null,null,null,null,null,"ka","WS"]
[null,"This is linked to BackpackTypFolDerm1a-1",null,null,null,null,null,null,null,null,null,0,{"$f":"L3*$I$24","v":0}]
[null,"RELATIVE DERMAL RATES vs RELATIVE Worker Rates",null,null,null,null,null,null,null,null,null,3.75,{"$f":"L4*$I$24","v":2.3175623389771398}]
[null,"Study","Pesticide","Exposure Rate (mg/kg bw per lb)","Dermal Absorption Rate (hour-1_","Source of Dermal Absorption Rate"]
[null,"Middendorf 1993","Glyphosate",{"$f":"#REF!/#REF!","v":{"$error":"#REF!"}},{"$f":"#REF!/#REF!","v":{"$error":"#REF!"}},"Humans",null,"Constraining intercept to zero"]
[null,"Lavy et al. 1987","Dichlorprop",{"$f":"#REF!","v":{"$error":"#REF!"}},{"$f":"#REF!","v":{"$error":"#REF!"}},"QSAR",null,"SUMMARY OUTPUT"]
[null,"Lavy et al. 1987","Dichlorprop",{"$f":"#REF!","v":{"$error":"#REF!"}},{"$f":"#REF!","v":{"$error":"#REF!"}},"QSAR"]
[null,"Lavy et al. 1993","Glyphosate",{"$f":"#REF!/#REF!","v":{"$error":"#REF!"}},{"$f":"#REF!/#REF!","v":{"$error":"#REF!"}},"Humans",null,"Regression Statistics"]
[null,"Middendorf 1992b, low bush","Triclopyr",{"$f":"#REF!/#REF!","v":{"$error":"#REF!"}},{"$f":"#REF!/#REF!","v":{"$error":"#REF!"}},"Humans",null,"Multiple R",0.93224636297742702]
[null,"Spenser et al. 2000","Triclopyr",{"$f":"#REF!/#REF!","v":{"$error":"#REF!"}},{"$f":"#REF!/#REF!","v":{"$error":"#REF!"}},"Humans",null,"R Square",0.86908328128464063]
[null,"Zhang et al. 2011","2,4-D",{"$f":"#REF!/#REF!","v":{"$error":"#REF!"}},{"$f":"#REF!/#REF!","v":{"$error":"#REF!"}},"Humans",null,"Adjusted R Square",0.72622613842749772]
[null,"Zhang et al. 2011","Triclopyr",{"$f":"#REF!/#REF!","v":{"$error":"#REF!"}},{"$f":"#REF!/#REF!","v":{"$error":"#REF!"}},"Humans",null,"Standard Error",0.53243973727739202]
[null,null,null,null,null,null,null,"Observations",8]
[]
[null,null,null,null,null,null,null,"ANOVA"]
[null,null,null,null,null,null,null,null,"df","SS","MS","F","Significance F"]
[null,null,null,null,null,null,null,"Regression",1,13.173623423594774,13.173623423594774,46.469106686209273,4.8882992234903296E-4]
[null,null,null,null,null,null,null,"Residual",7,1.9844445168241283,0.2834920738320183]
[null,null,null,null,null,null,null,"Total",8,15.158067940418903]
[]
[null,null,null,null,null,null,null,null,"Coefficients","Standard Error","t Stat","P-value","Lower 95%","Upper 95%","Lower 95.0%","Upper 95.0%"]
[null,null,null,null,null,null,null,"Intercept",0,{"$error":"#N/A"},{"$error":"#N/A"},{"$error":"#N/A"},{"$error":"#N/A"},{"$error":"#N/A"},{"$error":"#N/A"},{"$error":"#N/A"}]
[null,null,null,null,null,null,null,"X Variable 1",0.61801662372723731,9.06604760648798E-2,6.8168252644621354,2.4936809698399085E-4,0.40363866342161225,0.83239458403286237,0.40363866342161225,0.83239458403286237]
[]
[]
[]
[]
[]
[]
[null,null,null,null,null,null,null,"Calculation of SSx",null,null,"Calculation of s (Standard Dev.)"]
[null,null,null,null,null,null,null,"x-bar:",{"$f":"AVERAGE(E6:E13)","v":{"$error":"#REF!"}}]
[null,null,null,null,null,null,null,"(xi-x-bar)2",null,null,"yi","y-hat","(yi - y-hat)2"]
[null,null,null,null,null,null,null,{"$f":"(E6-$I$32)^2","v":{"$error":"#REF!"}},null,null,{"$f":"D6","v":{"$error":"#REF!"}},{"$f":"$I$23+ ($I$24*E6)","v":{"$error":"#REF!"}},{"$f":"(K34-L34)^2","v":{"$error":"#REF!"}}]
[null,null,null,null,null,null,null,{"$f":"(E7-$I$32)^2","v":{"$error":"#REF!"}},null,null,{"$error":"#REF!"},{"$f":"$I$23+ ($I$24*E7)","v":{"$error":"#REF!"}},{"$f":"(K35-L35)^2","v":{"$error":"#REF!"}}]
[null,null,null,null,null,null,null,{"$error":"#REF!"},null,null,{"$error":"#REF!"},{"$error":"#REF!"},{"$error":"#REF!"}]
[null,null,null,null,null,null,null,{"$error":"#REF!"},null,null,{"$error":"#REF!"},{"$f":"$I$23+ ($I$24*E9)","v":{"$error":"#REF!"}},{"$f":"(K37-L37)^2","v":{"$error":"#REF!"}}]
[null,null,null,null,null,null,null,{"$error":"#REF!"},null,null,{"$error":"#REF!"},{"$error":"#REF!"},{"$error":"#REF!"}]
[null,null,null,null,null,null,null,{"$error":"#REF!"},null,null,{"$error":"#REF!"},{"$error":"#REF!"},{"$error":"#REF!"}]
[null,null,null,null,null,null,null,{"$error":"#REF!"},null,null,{"$error":"#REF!"},{"$error":"#REF!"},{"$error":"#REF!"}]
[null,null,null,null,null,null,null,{"$error":"#REF!"},null,null,{"$error":"#REF!"},{"$error":"#REF!"},{"$error":"#REF!"}]
[null,null,null,null,null,null,null,{"$f":"SUM(H34:H41)","v":{"$error":"#REF!"}},"SSx",null,null,"∑",{"$f":"SUM(M34:M41)","v":{"$error":"#REF!"}},"SSE"]
[null,null,null,null,null,null,null,null,null,null,null,"s",{"$f":"(M42^0.5)/4","v":{"$error":"#REF!"}},"Standard Dev."]
[]
[null,null,null,null,null,null,null,null,"t for 0.025, 7 d.f.",2.3650000000000002]
[null,null,null,null,null,null,null,null,"n",8]
[]
[null,null,null,null,null,null,null,null,"Increment for X",0.15]
[]
[null,null,null,null,null,null,null,null,"X","Factor for CI","Y-hat","Y Lower CI","Y Upper CI","Factor for PI","Y Lower PI","Y Upper PI"]
[null,null,null,null,null,null,null,null,0,{"$f":"$J$45*$M$43*((1/$J$46)+(((I51-$I$32)^2)/$H$42))^0.5","v":{"$error":"#REF!"}},{"$f":"$I$23 + ($I$24*I51)","v":0},{"$f":"K51-J51","v":{"$error":"#REF!"}},{"$f":"K51+J51","v":{"$error":"#REF!"}},{"$f":"$J$45*$M$43*(1+(1/$J$46)+(((I51-$I$32)^2)/$H$42))^0.5","v":{"$error":"#REF!"}},{"$f":"K51-N51","v":{"$error":"#REF!"}},{"$f":"K51+N51","v":{"$error":"#REF!"}}]
[null,null,null,null,null,null,null,null,{"$f":"I51+$J$48","v":0.15},{"$error":"#REF!"},{"$f":"$I$23 + ($I$24*I52)","v":9.2702493559085594E-2},{"$f":"K52-J52","v":{"$error":"#REF!"}},{"$f":"K52+J52","v":{"$error":"#REF!"}},{"$error":"#REF!"},{"$f":"K52-N52","v":{"$error":"#REF!"}},{"$f":"K52+N52","v":{"$error":"#REF!"}}]
[null,null,null,null,null,null,null,null,0.3,{"$error":"#REF!"},0.18540498711817119,{"$error":"#REF!"},{"$error":"#REF!"},{"$error":"#REF!"},{"$error":"#REF!"},{"$error":"#REF!"}]
[null,null,null,null,null,null,null,null,0.44999999999999996,{"$error":"#REF!"},0.27810748067725677,{"$error":"#REF!"},{"$error":"#REF!"},{"$error":"#REF!"},{"$error":"#REF!"},{"$error":"#REF!"}]
[null,null,null,null,null,null,null,null,0.6,{"$error":"#REF!"},0.37080997423634238,{"$error":"#REF!"},{"$error":"#REF!"},{"$error":"#REF!"},{"$error":"#REF!"},{"$error":"#REF!"}]
[null,null,null,null,null,null,null,null,0.75,{"$error":"#REF!"},0.46351246779542798,{"$error":"#REF!"},{"$error":"#REF!"},{"$error":"#REF!"},{"$error":"#REF!"},{"$error":"#REF!"}]
[null,null,null,null,null,null,null,null,0.9,{"$error":"#REF!"},0.55621496135451365,{"$error":"#REF!"},{"$error":"#REF!"},{"$error":"#REF!"},{"$error":"#REF!"},{"$error":"#REF!"}]
[null,null,null,null,null,null,null,"This is estimated rate for 2,4-D:",1,{"$error":"#REF!"},0.61801662372723731,{"$error":"#REF!"},{"$error":"#REF!"},{"$error":"#REF!"},{"$error":"#REF!"},{"$error":"#REF!"}]
[null,null,null,null,null,null,null,null,{"$f":"I57+$J$48","v":1.05},{"$error":"#REF!"},0.6489174549135992,{"$error":"#REF!"},{"$error":"#REF!"},{"$error":"#REF!"},{"$error":"#REF!"},{"$error":"#REF!"}]
[null,null,null,null,null,null,null,null,{"$f":"I59+$J$48","v":1.2},{"$error":"#REF!"},0.74161994847268475,{"$error":"#REF!"},{"$error":"#REF!"},{"$error":"#REF!"},{"$error":"#REF!"},{"$error":"#REF!"}]
[null,null,null,null,null,null,null,null,1.3499999999999999,{"$error":"#REF!"},0.83432244203177031,{"$error":"#REF!"},{"$error":"#REF!"},{"$error":"#REF!"},{"$error":"#REF!"},{"$error":"#REF!"}]
[null,null,null,null,null,null,null,null,1.4999999999999998,{"$error":"#REF!"},0.92702493559085586,{"$error":"#REF!"},{"$error":"#REF!"},{"$error":"#REF!"},{"$error":"#REF!"},{"$error":"#REF!"}]
[null,null,null,null,null,null,null,null,1.6499999999999997,{"$error":"#REF!"},1.0197274291499414,{"$error":"#REF!"},{"$error":"#REF!"},{"$error":"#REF!"},{"$error":"#REF!"},{"$error":"#REF!"}]
[null,null,null,null,null,null,null,null,1.7999999999999996,{"$error":"#REF!"},1.1124299227090269,{"$error":"#REF!"},{"$error":"#REF!"},{"$error":"#REF!"},{"$error":"#REF!"},{"$error":"#REF!"}]
[null,null,null,null,null,null,null,null,1.9499999999999995,{"$error":"#REF!"},1.2051324162681125,{"$error":"#REF!"},{"$error":"#REF!"},{"$error":"#REF!"},{"$error":"#REF!"},{"$error":"#REF!"}]
[null,null,null,null,null,null,null,null,2.0999999999999996,{"$error":"#REF!"},1.2978349098271982,{"$error":"#REF!"},{"$error":"#REF!"},{"$error":"#REF!"},{"$error":"#REF!"},{"$error":"#REF!"}]
[null,null,null,null,null,null,null,null,2.2499999999999996,{"$error":"#REF!"},1.3905374033862836,{"$error":"#REF!"},{"$error":"#REF!"},{"$error":"#REF!"},{"$error":"#REF!"},{"$error":"#REF!"}]
[null,null,null,null,null,null,null,null,2.3999999999999995,{"$error":"#REF!"},1.4832398969453693,{"$error":"#REF!"},{"$error":"#REF!"},{"$error":"#REF!"},{"$error":"#REF!"},{"$error":"#REF!"}]
[null,null,null,null,null,null,null,null,2.5499999999999994,{"$error":"#REF!"},1.5759423905044547,{"$error":"#REF!"},{"$error":"#REF!"},{"$error":"#REF!"},{"$error":"#REF!"},{"$error":"#REF!"}]
[null,null,null,null,null,null,null,null,2.6999999999999993,{"$error":"#REF!"},1.6686448840635404,{"$error":"#REF!"},{"$error":"#REF!"},{"$error":"#REF!"},{"$error":"#REF!"},{"$error":"#REF!"}]
[null,null,null,null,null,null,null,null,2.8499999999999992,{"$error":"#REF!"},1.7613473776226258,{"$error":"#REF!"},{"$error":"#REF!"},{"$error":"#REF!"},{"$error":"#REF!"},{"$error":"#REF!"}]
[null,null,null,null,null,null,null,null,2.9999999999999991,{"$error":"#REF!"},1.8540498711817115,{"$error":"#REF!"},{"$error":"#REF!"},{"$error":"#REF!"},{"$error":"#REF!"},{"$error":"#REF!"}]
[null,null,null,null,null,null,null,null,3.149999999999999,{"$error":"#REF!"},1.9467523647407969,{"$error":"#REF!"},{"$error":"#REF!"},{"$error":"#REF!"},{"$error":"#REF!"},{"$error":"#REF!"}]
[null,null,null,null,null,null,null,null,3.2999999999999989,{"$error":"#REF!"},2.0394548582998824,{"$error":"#REF!"},{"$error":"#REF!"},{"$error":"#REF!"},{"$error":"#REF!"},{"$error":"#REF!"}]
[null,null,null,null,null,null,null,null,3.4499999999999988,{"$error":"#REF!"},2.132157351858968,{"$error":"#REF!"},{"$error":"#REF!"},{"$error":"#REF!"},{"$error":"#REF!"},{"$error":"#REF!"}]
[null,null,null,null,null,null,null,null,{"$f":"I75+$J$48","v":3.5999999999999988},{"$error":"#REF!"},2.2248598454180537,{"$error":"#REF!"},{"$error":"#REF!"},{"$error":"#REF!"},{"$error":"#REF!"},{"$error":"#REF!"}]
[null,null,null,null,null,null,null,null,3.7499999999999987,{"$error":"#REF!"},2.3175623389771389,{"$error":"#REF!"},{"$error":"#REF!"},{"$error":"#REF!"},{"$error":"#REF!"},{"$error":"#REF!"}]

{"sheet":"RelRatesComposite","index":74,"n_rows":78,"n_cols":16,"rows_kept":78,"cut":false,"hidden":false,"merged":[[0,1,0,9],[1,1,1,9]]}
[null,"Relative Directed Foliar",null,null,null,null,null,null,null,null,null,"Plot of regression"]
["Subgroup:","As in 1c but adding Lavy et al. 1987 Dicloprop Backpack, T1 and T2 and Picloram Libich 1984 geo. mean (from RelRatesMixData)",null,null,null,null,null,null,null,null,null,"ka","WS"]
[null,null,null,null,null,null,null,null,null,null,null,0,{"$f":"L3*$I$24","v":0}]
[null,"RELATIVE DERMAL RATES vs RELATIVE Worker Rates",null,null,null,null,null,null,null,null,null,3.75,{"$f":"L4*$I$24","v":2.5943891287690639}]
[null,"Study","Pesticide","Exposure Rate (mg/kg bw per lb)","Dermal Absorption Rate (hour-1_","Source of Dermal Absorption Rate"]
[null,"Middendorf 1993","Glyphosate",{"$f":"'BackpackTypFolDerm1a-1'!D6/'BackpackTypFolDerm1a-1'!$D$10","v":6.0851926977687619E-2},{"$f":"'BackpackTypFolDerm1a-1'!E6/'BackpackTypFolDerm1a-1'!E10","v":0.62121212121212122},"Humans",null,"Constraining intercept to zero"]
[null,"Lavy et al. 1987, T1","Dichlorprop",{"$f":"RelRatesMixData!E30","v":1.0555650896991144},{"$f":"RelRatesMixData!$E$41","v":1.0833333333333335},"QSAR",null,"SUMMARY OUTPUT"]
[null,"Lavy et al. 1987, T2","Dichlorprop",{"$f":"RelRatesMixData!E31","v":0.8731618843079757},{"$f":"RelRatesMixData!$E$41","v":1.0833333333333335},"QSAR"]
[null,"Lavy et al. 1987","Picloram",{"$f":"RelRatesMixData!F26","v":0.39009599934230799},{"$f":"RelRatesMixData!G26","v":7.575757575757576E-2},null,null,"Regression Statistics"]
[null,"Lavy et al. 1993","Glyphosate",{"$f":"'BackpackTypFolDerm1a-1'!D7/'BackpackTypFolDerm1a-1'!D10","v":3.8539553752535496E-2},{"$f":"'BackpackTypFolDerm1a-1'!E7/'BackpackTypFolDerm1a-1'!E10","v":0.62121212121212122},"Humans",null,"Multiple R",0.93443723694549563]
[null,"Libich et al. 1984","Picloram",{"$f":"RelRatesMixData!I14","v":0.31170867117383805},{"$f":"RelRatesMixData!J14","v":7.575757575757576E-2},"Humans",null,"R Square",0.87317294979033233]
[null,"Middendorf 1992b, low bush","Triclopyr",{"$f":"'BackpackTypFolDerm1a-1'!D8/'BackpackTypFolDerm1a-1'!D10","v":1.1805273833671397},{"$f":"'BackpackTypFolDerm1a-1'!E8/'BackpackTypFolDerm1a-1'!E10","v":3.1818181818181817},"Humans",null,"Adjusted R Square",0.76206183867922117]
[null,"Spenser et al. 2000","Triclopyr",{"$f":"'BackpackTypFolDerm1a-1'!D9/'BackpackTypFolDerm1a-1'!D10","v":3.022312373225152},{"$f":"'BackpackTypFolDerm1a-1'!E9/'BackpackTypFolDerm1a-1'!E10","v":3.1818181818181817},"Humans",null,"Standard Error",0.51625363360280119]
[null,"Zhang et al. 2011","2,4-D",{"$f":"'BackpackTypFolDerm1a-1'!D10/'BackpackTypFolDerm1a-1'!D10","v":1},{"$f":"'BackpackTypFolDerm1a-1'!E10/'BackpackTypFolDerm1a-1'!E10","v":1},"Humans",null,"Observations",10]
[null,"Zhang et al. 2011","Triclopyr",{"$f":"'BackpackTypFolDerm1a-1'!D11/'BackpackTypFolDerm1a-1'!D10","v":2.2920892494929004},{"$f":"'BackpackTypFolDerm1a-1'!E11/'BackpackTypFolDerm1a-1'!E10","v":3.1818181818181817},"Humans"]
[null,null,null,null,null,null,null,"ANOVA"]
[null,null,null,null,null,null,null,null,"df","SS","MS","F","Significance F"]
[null,null,null,null,null,null,null,"Regression",1,16.514184557405517,16.514184557405517,61.962779510533416,4.9051186650100874E-5]
[null,null,null,null,null,null,null,"Residual",9,2.3986603278728573,0.26651781420809528]
[null,null,null,null,null,null,null,"Total",10,18.912844885278375]
[]
[null,null,null,null,null,null,null,null,"Coefficients","Standard Error","t Stat","P-value","Lower 95%","Upper 95%","Lower 95.0%","Upper 95.0%"]
[null,null,null,null,null,null,null,"Intercept",0,{"$error":"#N/A"},{"$error":"#N/A"},{"$error":"#N/A"},{"$error":"#N/A"},{"$error":"#N/A"},{"$error":"#N/A"},{"$error":"#N/A"}]
[null,null,null,null,null,null,null,"X Variable 1",0.69183710100508367,8.7889785109909607E-2,7.8716440157398768,2.5182332968952547E-5,0.49301659408190657,0.89065760792826076,0.49301659408190657,0.89065760792826076]
[]
[]
[]
[]
[]
[]
[null,null,null,null,null,null,null,"Calculation of SSx",null,null,"Calculation of s (Standard Dev.)"]
[null,null,null,null,null,null,null,"x-bar:",{"$f":"AVERAGE(E6:E15)","v":1.4106060606060606}]
[null,null,null,null,null,null,null,"(xi-x-bar)2",null,null,"yi","y-hat","(yi - y-hat)2"]
[null,null,null,null,null,null,null,{"$f":"(E6-$I$32)^2","v":0.62314279155188246},null,null,{"$f":"D6","v":6.0851926977687619E-2},{"$f":"$I$23+ ($I$24*E6)","v":0.42977759304861257},{"$f":"(K34-L34)^2","v":0.13610614708587565}]
[null,null,null,null,null,null,null,{"$f":"(E7-$I$32)^2","v":0.10710743801652885},null,null,{"$f":"D7","v":1.0555650896991144},{"$f":"$I$23+ ($I$24*E7)","v":0.74949019275550743},{"$f":"(K35-L35)^2","v":9.3681842539039648E-2}]
[null,null,null,null,null,null,null,0.10710743801652885,null,null,0.8731618843079757,0.74949019275550743,1.5294687291448851E-2]
[null,null,null,null,null,null,null,{"$f":"(E10-$I$32)^2","v":0.62314279155188246},null,null,{"$f":"D10","v":3.8539553752535496E-2},{"$f":"$I$23+ ($I$24*E10)","v":0.42977759304861257},0.15306720339223875]
[null,null,null,null,null,null,null,1.7818204775022959,null,null,0.31170867117383805,5.2411901591294219E-2,6.7234814715942823E-2]
[null,null,null,null,null,null,null,3.1371923783287414,null,null,1.1805273833671397,2.2012998668343569,1.0419764630038302]
[null,null,null,null,null,null,null,3.1371923783287414,null,null,3.022312373225152,2.2012998668343569,0.67406153565009541]
[null,null,null,null,null,null,null,0.16859733700642796,null,null,1,0.69183710100508367,9.4964372316951012E-2]
[null,null,null,null,null,null,null,3.1371923783287414,null,null,2.2920892494929004,2.2012998668343569,8.2427120035194444E-3]
[null,null,null,null,null,null,null,{"$f":"SUM(H34:H42)","v":12.82249540863177},"SSx",null,null,"∑",{"$f":"SUM(M34:M42)","v":2.284629777998942},"SSE"]
[null,null,null,null,null,null,null,null,null,null,null,"s",{"$f":"(M43^0.5)/4","v":0.37787479556717446},"Standard Dev."]
[]
[null,null,null,null,null,null,null,null,"t for 0.025, 8 d.f.",2.306]
[null,null,null,null,null,null,null,null,"n",9]
[]
[null,null,null,null,null,null,null,null,"Increment for X",0.15]
[]
[null,null,null,null,null,null,null,null,"X","Factor for CI","Y-hat","Y Lower CI","Y Upper CI","Factor for PI","Y Lower PI","Y Upper PI"]
[null,null,null,null,null,null,null,null,0,{"$f":"$J$46*$M$44*((1/$J$47)+(((I52-$I$32)^2)/$H$43))^0.5","v":0.44966231588574213},{"$f":"$I$23 + ($I$24*I52)","v":0},{"$f":"K52-J52","v":-0.44966231588574213},{"$f":"K52+J52","v":0.44966231588574213},{"$f":"$J$46*$M$44*(1+(1/$J$47)+(((I52-$I$32)^2)/$H$43))^0.5","v":0.98056006723845224},{"$f":"K52-N52","v":-0.98056006723845224},{"$f":"K52+N52","v":0.98056006723845224}]
[null,null,null,null,null,null,null,null,{"$f":"I52+$J$49","v":0.15},0.42245623302439889,{"$f":"$I$23 + ($I$24*I53)","v":0.10377556515076254},{"$f":"K53-J53","v":-0.31868066787363636},{"$f":"K53+J53","v":0.52623179817516141},0.96838583010911217,{"$f":"K53-N53","v":-0.86461026495834958},{"$f":"K53+N53","v":1.0721613952598747}]
[null,null,null,null,null,null,null,null,0.3,0.39674560705578221,0.20755113030152508,-0.18919447675425713,0.60429673735730727,0.95744917559785392,-0.74989804529632886,1.165000305899379]
[null,null,null,null,null,null,null,null,0.44999999999999996,0.37283994155457234,0.31132669545228764,-6.1513246102284702E-2,0.68416663700685998,0.94779294635134625,-0.63646625089905862,1.2591196418036339]
[null,null,null,null,null,null,null,null,0.6,0.35110810973577999,0.41510226060305017,6.3994150867270172E-2,0.7662103703388301,0.93945662585197698,-0.52435436524892687,1.3545588864550271]
[null,null,null,null,null,null,null,null,0.75,0.33197729565364542,0.51887782575381269,0.18690053010016727,0.85085512140745811,0.932475614675503,-0.4135977889216903,1.4513534404293158]
[null,null,null,null,null,null,null,null,0.9,0.31592037341748491,0.62265339090457528,0.30673301748709036,0.93857376432206019,0.92688053678734239,-0.30422714588276711,1.5495339276919178]
[null,null,null,null,null,null,null,"This is estimated rate for 2,4-D:",1,0.30716542288478482,0.69183710100508367,0.38467167812029884,0.99900252388986854,0.92393313835522617,-0.2320960373501425,1.6157702393603097]
[null,null,null,null,null,null,null,null,{"$f":"I58+$J$49","v":1.05},0.30342573597906641,0.72642895605533786,0.42300322007627145,1.0298546920344043,0.92269660473494064,-0.19626764867960278,1.6491255607902784]
[null,null,null,null,null,null,null,null,{"$f":"I60+$J$49","v":1.2},0.29494645204187986,0.83020452120610033,0.53525806916422047,1.1251509732479801,0.91994307253603569,-8.9738551329935357E-2,1.750147593742136]
[null,null,null,null,null,null,null,null,1.3499999999999999,0.29083393765722659,0.9339800863568628,0.64314614869963616,1.2248140240140895,0.91863280282611104,1.5347283530751765E-2,1.8526128891829738]
[null,null,null,null,null,null,null,null,1.4999999999999998,0.29127321610093504,1.0377556515076254,0.74648243540669035,1.3290288676085604,0.91877197037824943,0.11898368112937596,1.9565276218858747]
[null,null,null,null,null,null,null,null,1.6499999999999997,0.29624403951103589,1.1415312166583877,0.8452871771473518,1.4377752561694237,0.92035991768479641,0.22117129897359133,2.0618911343431843]
[null,null,null,null,null,null,null,null,1.7999999999999996,0.30552530644336195,1.2453067818091503,0.93978147536578838,1.5508320882525122,0.92338917040014024,0.3219176114090101,2.1686959522092906]
[null,null,null,null,null,null,null,null,1.9499999999999995,0.31874069745212025,1.3490823469599129,1.0303416495077926,1.6678230444120332,0.9278456118057643,0.42123673515414861,2.2769279587656772]
[null,null,null,null,null,null,null,null,2.0999999999999996,0.33542553413638282,1.4528579121106755,1.1174323779742927,1.7882834462470583,0.9337088069016094,0.5191491052090661,2.386566719012285]
[null,null,null,null,null,null,null,null,2.2499999999999996,0.35509109126046962,1.5566334772614379,1.2015423860009682,1.9117245685219075,0.94095245906873548,0.61568101819270238,2.4975859363301733]
[null,null,null,null,null,null,null,null,2.3999999999999995,0.37727153966060623,1.6604090424122004,1.2831375027515941,2.0376805820728068,0.94954497617165745,0.71086406624054299,2.6099540185838581]
[null,null,null,null,null,null,null,null,2.5499999999999994,0.40155035000193617,1.764184607562963,1.3626342575610269,2.165734957564899,0.95945011893356202,0.804734488629401,2.7236347264965248]
[null,null,null,null,null,null,null,null,2.6999999999999993,0.42757021638431542,1.8679601727137254,1.44038995632941,2.2955303890980407,0.97062770260995501,0.89733247010377037,2.8385878753236806]
[null,null,null,null,null,null,null,null,2.8499999999999992,0.45503256333436498,1.971735737864488,1.5167031745301229,2.426768301198853,0.98303432332222862,0.98870141454225935,2.9547700611867165]
[null,null,null,null,null,null,null,null,2.9999999999999991,0.48369175603251224,2.0755113030152503,1.5918195469827381,2.5592030590477624,0.99662408258518642,1.0788872204300639,3.0721353856004368]
[null,null,null,null,null,null,null,null,3.149999999999999,0.51334738084112952,2.1792868681660127,1.6659394873248832,2.692634249007142,1.01134928711667,1.1679375810493426,3.1906361552826827]
[null,null,null,null,null,null,null,null,3.2999999999999989,0.54383645462817198,2.2830624333167755,1.7392259786886035,2.8268988879449477,1.0271611054345315,1.255901327882244,3.3102235387513073]
[null,null,null,null,null,null,null,null,3.4499999999999988,0.57502641917749453,2.3868379984675379,1.8118115792900433,2.9618644176450326,1.044010167520911,1.3428278309466268,3.4308481659884489]
[null,null,null,null,null,null,null,null,{"$f":"I76+$J$49","v":3.5999999999999988},0.60680920685591377,2.4906135636183002,1.8838043567623863,3.0974227704742141,1.0618470985316353,1.4287664650866649,3.5524606621499357]
[null,null,null,null,null,null,null,null,3.7499999999999987,0.63909637903963645,2.594389128769063,1.9552927497294266,3.2334855078086995,1.0806229818195261,1.5137661469495369,3.6750121105885891]

{"sheet":"BroadcastAnal-1a","index":75,"n_rows":24,"n_cols":16,"rows_kept":24,"cut":false,"hidden":false,"merged":[[0,1,0,9],[1,1,1,9]]}
[null,"Broadcast Applications",null,null,null,null,null,null,null,null,0,0]
["Subgroup:","Correlation with Best Available Dermal Absorption Rates",null,null,null,null,null,null,null,null,3.5,3.5]
[]
[null,"Study","Pesticide","Exposure Rate (mg/kg bw per lb)","Dermal Absorption Rate (hour-1_","Source of Dermal Absorption Rate"]
[null,"Grover et al. 1986 and Nash et al. 1982 Combined","2,4-D",9.1199999999999994E-5,6.6E-4,"Humans"]
[null,"Dubelman and Cowell 1989, all","Alachlor",5.22E-6,2.29E-2,"Monkeys"]
[null,"Franklin et al. 1981","Azinphos-methyl",7.8600000000000003E-2,2.2700000000000001E-2,"Rats",null,"SUMMARY OUTPUT"]
[null,"Cessna and Grover 2002, all","Bromoxynil ester",2.34E-5,1.0999999999999999E-2,"Rats"]
[null,"Lunchick et al. 2005","Ethoprop",6.7599999999999997E-6,9.2999999999999992E-3,"QSAR",null,"Regression Statistics"]
[null,null,null,null,null,null,null,"Multiple R",0.55131931405808998]
[null,null,null,null,null,null,null,"R Square",0.30395298605348281]
[null,null,null,null,null,null,null,"Adjusted R Square",7.1937314737977084E-2]
[null,null,null,null,null,null,null,"Standard Error",3.384944331365905E-2]
[null,null,null,null,null,null,null,"Observations",5]
[]
[null,null,null,null,null,null,null,"ANOVA"]
[null,null,null,null,null,null,null,null,"df","SS","MS","F","Significance F"]
[null,null,null,null,null,null,null,"Regression",1,1.5010396203128675E-3,1.5010396203128675E-3,1.3100536887448149,0.33542794737374687]
[null,null,null,null,null,null,null,"Residual",3,3.437354437933852E-3,1.1457848126446173E-3]
[null,null,null,null,null,null,null,"Total",4,4.9383940582467195E-3]
[]
[null,null,null,null,null,null,null,null,"Coefficients","Standard Error","t Stat","P-value","Lower 95%","Upper 95%","Lower 95.0%","Upper 95.0%"]
[null,null,null,null,null,null,null,"Intercept",-1.1377692446213672E-2,2.8119470574988221E-2,-0.40461972482276859,0.71287795040744106,-0.10086639768411891,7.8111012791691567E-2,-0.10086639768411891,7.8111012791691567E-2]
[null,null,null,null,null,null,null,"X Variable 1",2.0374856104427339,1.7801229655268018,1.1445757680227271,0.33542794737374665,-3.6276601441487157,7.7026313650341836,-3.6276601441487157,7.7026313650341836]

{"sheet":"BroadcastAnal-1b","index":76,"n_rows":22,"n_cols":17,"rows_kept":22,"cut":false,"hidden":false,"merged":[[0,1,0,9],[1,1,1,9]]}
[null,"Broadcast Applications",null,null,null,null,null,null,null,null,0,0]
["Subgroup:","As in 1a but censoring the data on azinphos-methyl (orchard air blast)",null,null,null,null,null,null,null,null,3.5,3.5]
[]
[null,"Study","Pesticide","Exposure Rate (mg/kg bw per lb)","Dermal Absorption Rate (hour-1_","Source of Dermal Absorption Rate"]
[null,"Grover et al. 1986 and Nash et al. 1982 Combined","2,4-D",9.1199999999999994E-5,6.6E-4,"Humans",null,null,"SUMMARY OUTPUT"]
[null,"Dubelman and Cowell 1989, all","Alachlor",5.22E-6,2.29E-2,"Monkeys"]
[null,"Cessna and Grover 2002, all","Bromoxynil ester",2.34E-5,1.0999999999999999E-2,"Rats",null,null,"Regression Statistics"]
[null,"Lunchick et al. 2005","Ethoprop",6.7599999999999997E-6,9.2999999999999992E-3,"QSAR",null,null,"Multiple R",0.79739178706641101]
[null,null,null,null,null,null,null,null,"R Square",0.63583366208096459]
[null,null,null,null,null,null,null,null,"Adjusted R Square",0.45375049312144689]
[null,null,null,null,null,null,null,null,"Standard Error",2.9968196506971006E-5]
[null,null,null,null,null,null,null,null,"Observations",4]
[]
[null,null,null,null,null,null,null,null,"ANOVA"]
[null,null,null,null,null,null,null,null,null,"df","SS","MS","F","Significance F"]
[null,null,null,null,null,null,null,null,"Regression",1,3.1361362962391406E-9,3.1361362962391406E-9,3.4919958045234183,0.20260821293358899]
[null,null,null,null,null,null,null,null,"Residual",2,1.7961856037608586E-9,8.9809280188042928E-10]
[null,null,null,null,null,null,null,null,"Total",3,4.9323218999999991E-9]
[]
[null,null,null,null,null,null,null,null,null,"Coefficients","Standard Error","t Stat","P-value","Lower 95%","Upper 95%","Lower 95.0%","Upper 95.0%"]
[null,null,null,null,null,null,null,null,"Intercept",7.0372032662094353E-5,2.5573714159111856E-5,2.7517329795844674,0.1105855853346861,-3.966277837444079E-5,1.8040684369862949E-4,-3.966277837444079E-5,1.8040684369862949E-4]
[null,null,null,null,null,null,null,null,"X Variable 1",-3.5318771237660145E-3,1.8900301370138508E-3,-1.8686882577154016,0.20260821293358888,-1.1664020452097412E-2,4.6002662045653842E-3,-1.1664020452097412E-2,4.6002662045653842E-3]

{"sheet":"BroadcastAnal-1c","index":77,"n_rows":22,"n_cols":17,"rows_kept":22,"cut":false,"hidden":false,"merged":[[0,1,0,9],[1,1,1,9]]}
[null,"Broadcast Applications"]
["Subgroup:","As in 1b but using log transformation"]
[]
[null,"Study","Pesticide","Exposure Rate (mg/kg bw per lb)","Dermal Absorption Rate (hour-1_","Source of Dermal Absorption Rate"]
[null,"Grover et al. 1986 and Nash et al. 1982 Combined","2,4-D",{"$f":"LOG('BroadcastAnal-1b'!D5)","v":-4.0400051616715835},{"$f":"LOG('BroadcastAnal-1b'!E5)","v":-3.1804560644581312},"Humans",null,null,"SUMMARY OUTPUT"]
[null,"Dubelman and Cowell 1989, all","Alachlor",{"$f":"LOG('BroadcastAnal-1b'!D6)","v":-5.2823294969977379},{"$f":"LOG('BroadcastAnal-1b'!E6)","v":-1.6401645176601121},"Monkeys"]
[null,"Cessna and Grover 2002, all","Bromoxynil ester",{"$f":"LOG('BroadcastAnal-1b'!D7)","v":-4.6307841425898575},{"$f":"LOG('BroadcastAnal-1b'!E7)","v":-1.9586073148417751},"Rats",null,null,"Regression Statistics"]
[null,"Lunchick et al. 2005","Ethoprop",{"$f":"LOG('BroadcastAnal-1b'!D8)","v":-5.1700533040583645},{"$f":"LOG('BroadcastAnal-1b'!E8)","v":-2.0315170514460648},"QSAR",null,null,"Multiple R",0.89994584893822194]
[null,null,null,null,null,null,null,null,"R Square",0.80990253102113707]
[null,null,null,null,null,null,null,null,"Adjusted R Square",0.71485379653170567]
[null,null,null,null,null,null,null,null,"Standard Error",0.30431726378896468]
[null,null,null,null,null,null,null,null,"Observations",4]
[]
[null,null,null,null,null,null,null,null,"ANOVA"]
[null,null,null,null,null,null,null,null,null,"df","SS","MS","F","Significance F"]
[null,null,null,null,null,null,null,null,"Regression",1,0.7891137267731495,0.7891137267731495,8.5209186147679912,0.10005415106177806]
[null,null,null,null,null,null,null,null,"Residual",2,0.18521799408000464,9.2608997040002319E-2]
[null,null,null,null,null,null,null,null,"Total",3,0.97433172085315412]
[]
[null,null,null,null,null,null,null,null,null,"Coefficients","Standard Error","t Stat","P-value","Lower 95%","Upper 95%","Lower 95.0%","Upper 95.0%"]
[null,null,null,null,null,null,null,null,"Intercept",-6.4578177474709868,0.59431637862185149,-10.865959579384119,8.3635132155828913E-3,-9.0149547362831122,-3.9006807586588619,-9.0149547362831122,-3.9006807586588619]
[null,null,null,null,null,null,null,null,"X Variable 1",-0.76135433766924987,0.26082163783712431,-2.9190612557409596,0.10005415106177806,-1.8835792696868787,0.36087059434837909,-1.8835792696868787,0.36087059434837909]

{"sheet":"Template","index":78,"n_rows":69,"n_cols":13,"rows_kept":69,"cut":false,"hidden":false,"merged":[[21,0,21,8],[15,3,15,4],[15,7,15,8],[0,1,0,8],[1,1,1,8],[2,2,2,8],[8,2,8,8],[9,2,9,4],[9,6,9,8],[3,2,3,4],[3,6,3,8]]}
[]
["Subgroup:"]
[null,null,"Confidence Intervals"]
[null,null,"Arithmetic",null,null,null,"Geometric (Log10)"]
[null,null,"Mean","Lower Limit","Upper Limit",null,"Mean","Lower Limit","Upper Limit"]
[null,null,{"$f":"IF(C15>0,AVERAGE(B24:B68), \"\")","v":""},{"$f":"IF(C15>1, C6-C20, \"\")","v":""},{"$f":"IF(C15>1, C6+C20, \"\")","v":""},"Inverse log",{"$f":"IF(C15>0, 10^G7, \"\")","v":""},{"$f":"IF(C15>1,10^H7, \"\")","v":""},{"$f":"IF(C15>1, 10^I7, \"\")","v":""}]
[null,null,null,null,null,"Log",{"$f":"IF(C15>0, AVERAGE(G24:G68), \"\")","v":""},{"$f":"IF(C15>1, G7-G20, \"\")","v":""},{"$f":"IF(C15>1, G7+G20, \"\")","v":""}]
[]
[null,null,"Prediction Intervals"]
[null,null,"Arithmetic",null,null,null,"Geometric (Log10)"]
[null,null,"Mean","Lower Limit","Upper Limit",null,"Mean","Lower Limit","Upper Limit"]
[null,null,{"$f":"IF(C15>0,AVERAGE(B24:B68), \"\")","v":""},{"$f":"IF(C15>1, C12-C21, \"\")","v":""},{"$f":"IF(C15>1, C12+C21, \"\")","v":""},"Inverse log",{"$f":"IF($C$15>0, 10^G13, \"\")","v":""},{"$f":"IF($C$15>0, 10^H13, \"\")","v":""},""]
[null,null,null,null,null,"Log",{"$f":"IF(C15>0, AVERAGE(G24:G68), \"\")","v":""},{"$f":"IF(C15>1, G13-G21, \"\")","v":""},{"$f":"IF(C15>1, G13+G21, \"\")","v":""},null,null,{"$f":"'t-values'!A3","v":"95% Confidence Interval"}]
[]
[null,"n:",{"$f":"COUNTA(B24:B68)","v":0},null,null,null,null,null,null,null,null,{"$f":"'t-values'!A4","v":"alpha = 0.025"}]
[null,"SSE:",{"$f":"IF(C15>0, SUM(C24:C68), \"\")","v":""},"Check",null,"SSE:",{"$f":"IF(C15>0, SUM(H24:H68), \"\")","v":""},"Check",null,null,null,{"$f":"'t-values'!A5","v":"n"},{"$f":"'t-values'!B5","v":"t-value"}]
[null,"Variance (s2):",{"$f":"IF(C15>1, C16/(C15-1), \"\")","v":""},{"$f":"IF(C15>1, VAR(B24:B68), \"\")","v":""},{"$f":"IF(C15>1, C17-D17, \"\")","v":""},"Variance (s2):",{"$f":"IF(C15>1, G16/(C15-1), \"\")","v":""},{"$f":"IF(C15>1, VAR(G24:G68), \"\")","v":""},{"$f":"IF(C15>1, G17-H17, \"\")","v":""},null,null,{"$f":"'t-values'!A6","v":2},{"$f":"'t-values'!B6","v":12.706}]
[null,"Std Dev (s):",{"$f":"IF(C15>1, C17^0.5, \"\")","v":""},{"$f":"IF(C15>1, STDEV(B24:B68), \"\")","v":""},{"$f":"IF(C15>1, C18-D18, \"\")","v":""},"Std Dev (s):",{"$f":"IF(C15>1, G17^0.5, \"\")","v":""},{"$f":"IF(C15>1, STDEV(G24:G31), \"\")","v":""},{"$f":"IF(C15>1, G18-H18, \"\")","v":""},null,null,{"$f":"'t-values'!A7","v":3},{"$f":"'t-values'!B7","v":4.3029999999999999}]
[null,"t-value:",{"$f":"IF(C15>1, IF(C15<31, OFFSET(M16, C15-1, 0), 1.96), \"\")","v":""},null,null,"t-value:",{"$f":"C19","v":""},null,null,null,null,{"$f":"'t-values'!A8","v":4},{"$f":"'t-values'!B8","v":3.1819999999999999}]
[null,"Conf. Interval Factor:",{"$f":"IF(C15>1, C19*C18/(C15^0.5), \"\")","v":""},"t x s / n0.5",null,"Conf. Interval Factor:",{"$f":"IF(C15>1, G19*G18/(C15^0.5), \"\")","v":""},"t x s / n0.5",null,null,null,{"$f":"'t-values'!A9","v":5},{"$f":"'t-values'!B9","v":2.7759999999999998}]
[null,"Pred. Interal Factor:",{"$f":"IF(C15>1, C19*C18*(1+(1/C15))^0.5, \"\")","v":""},"t x s x (1+ 1/n)0.5",null,"Pred. Interal Factor:",{"$f":"IF(C15>1, G19*G18*((1+(1/C15))^0.5), \"\")","v":""},"t x s x (1+ 1/n)0.5",null,null,null,{"$f":"'t-values'!A10","v":6},{"$f":"'t-values'!B10","v":2.5710000000000002}]
["RAW DATA (only enter data under Identifier and Rate.  Everything else is a link.)",null,null,null,null,null,null,null,null,null,null,{"$f":"'t-values'!A11","v":7},{"$f":"'t-values'!B11","v":2.4470000000000001}]
["Identifier","Rate","(x - xbar)2","n",null,null,"Log Rate","(x - xbar)2",null,null,null,{"$f":"'t-values'!A12","v":8},{"$f":"'t-values'!B12","v":2.3650000000000002}]
[null,null,{"$f":"IF(ISBLANK(B24)=FALSE, ($C$6-B24)^2, \"\")","v":""},1,null,null,{"$f":"IF(ISBLANK(B24)=FALSE,LOG10(B24), \"\")","v":""},{"$f":"IF(ISBLANK(B24)=FALSE, ($G$7-G24)^2, \"\")","v":""},null,null,null,{"$f":"'t-values'!A13","v":9},{"$f":"'t-values'!B13","v":2.306}]
[null,null,{"$f":"IF(ISBLANK(B25)=FALSE, ($C$6-B25)^2, \"\")","v":""},{"$f":"D24+1","v":2},null,null,{"$f":"IF(ISBLANK(B25)=FALSE,LOG10(B25), \"\")","v":""},{"$f":"IF(ISBLANK(B25)=FALSE, ($G$7-G25)^2, \"\")","v":""},null,null,null,{"$f":"'t-values'!A14","v":10},{"$f":"'t-values'!B14","v":2.262}]
[null,null,"",{"$f":"D25+1","v":3},null,null,"","",null,null,null,{"$f":"'t-values'!A15","v":11},{"$f":"'t-values'!B15","v":2.2280000000000002}]
[null,null,"",4,null,null,"","",null,null,null,{"$f":"'t-values'!A16","v":12},{"$f":"'t-values'!B16","v":2.2010000000000001}]
[null,null,"",5,null,null,"","",null,null,null,{"$f":"'t-values'!A17","v":13},{"$f":"'t-values'!B17","v":2.1789999999999998}]
[null,null,"",6,null,null,"","",null,null,null,{"$f":"'t-values'!A18","v":14},{"$f":"'t-values'!B18","v":2.16}]
[null,null,"",7,null,null,"","",null,null,null,{"$f":"'t-values'!A19","v":15},{"$f":"'t-values'!B19","v":2.145}]
[null,null,"",8,null,null,"","",null,null,null,{"$f":"'t-values'!A20","v":16},{"$f":"'t-values'!B20","v":2.1309999999999998}]
[null,null,"",9,null,null,"","",null,null,null,{"$f":"'t-values'!A21","v":17},{"$f":"'t-values'!B21","v":2.12}]
[null,null,"",10,null,null,"","",null,null,null,{"$f":"'t-values'!A22","v":18},{"$f":"'t-values'!B22","v":2.11}]
[null,null,"",11,null,null,"","",null,null,null,{"$f":"'t-values'!A23","v":19},{"$f":"'t-values'!B23","v":2.101}]
[null,null,"",12,null,null,"","",null,null,null,{"$f":"'t-values'!A24","v":20},{"$f":"'t-values'!B24","v":2.093}]
[null,null,"",13,null,null,"","",null,null,null,{"$f":"'t-values'!A25","v":21},{"$f":"'t-values'!B25","v":2.0859999999999999}]
[null,null,"",14,null,null,"","",null,null,null,{"$f":"'t-values'!A26","v":22},{"$f":"'t-values'!B26","v":2.08}]
[null,null,"",15,null,null,"","",null,null,null,{"$f":"'t-values'!A27","v":23},{"$f":"'t-values'!B27","v":2.0739999999999998}]
[null,null,"",16,null,null,"","",null,null,null,{"$f":"'t-values'!A28","v":24},{"$f":"'t-values'!B28","v":2.069}]
[null,null,"",17,null,null,"","",null,null,null,{"$f":"'t-values'!A29","v":25},{"$f":"'t-values'!B29","v":2.0640000000000001}]
[null,null,"",18,null,null,"","",null,null,null,{"$f":"'t-values'!A30","v":26},{"$f":"'t-values'!B30","v":2.06}]
[null,null,"",19,null,null,"","",null,null,null,{"$f":"'t-values'!A31","v":27},{"$f":"'t-values'!B31","v":2.056}]
[null,null,"",20,null,null,"","",null,null,null,{"$f":"'t-values'!A32","v":28},{"$f":"'t-values'!B32","v":2.052}]
[null,null,"",21,null,null,"","",null,null,null,{"$f":"'t-values'!A33","v":29},{"$f":"'t-values'!B33","v":2.048}]
[null,null,"",22,null,null,"","",null,null,null,{"$f":"'t-values'!A34","v":30},{"$f":"'t-values'!B34","v":2.0449999999999999}]
[null,null,"",23,null,null,"","",null,null,null,{"$f":"'t-values'!A35","v":"∞"},{"$f":"'t-values'!B35","v":1.96}]
[null,null,"",24,null,null,"",""]
[null,null,"",25,null,null,"",""]
[null,null,"",26,null,null,"",""]
[null,null,"",27,null,null,"",""]
[null,null,"",28,null,null,"",""]
[null,null,"",29,null,null,"",""]
[null,null,"",30,null,null,"",""]
[null,null,"",31,null,null,"",""]
[null,null,"",32,null,null,"",""]
[null,null,"",33,null,null,"",""]
[null,null,"",34,null,null,"",""]
[null,null,"",35,null,null,"",""]
[null,null,"",36,null,null,"",""]
[null,null,"",37,null,null,"",""]
[null,null,"",38,null,null,"",""]
[null,null,"",39,null,null,"",""]
[null,null,"",40,null,null,"",""]
[null,null,"",41,null,null,"",""]
[null,null,"",42,null,null,"",""]
[null,null,"",43,null,null,"",""]
[null,null,"",44,null,null,"",""]
[null,null,"",45,null,null,"",""]
["NOTE: If there are more than 45 items, insert additional cellss in the middle of the data area.  The formulae should update correctly but check."]

{"sheet":"t-values","index":79,"n_rows":35,"n_cols":2,"rows_kept":35,"cut":false,"hidden":false,"merged":[]}
[]
[]
["95% Confidence Interval"]
["alpha = 0.025"]
["n","t-value"]
[2,12.706]
[{"$f":"A6+1","v":3},4.3029999999999999]
[{"$f":"A7+1","v":4},3.1819999999999999]
[5,2.7759999999999998]
[6,2.5710000000000002]
[7,2.4470000000000001]
[8,2.3650000000000002]
[9,2.306]
[10,2.262]
[11,2.2280000000000002]
[12,2.2010000000000001]
[13,2.1789999999999998]
[14,2.16]
[15,2.145]
[16,2.1309999999999998]
[17,2.12]
[18,2.11]
[19,2.101]
[20,2.093]
[21,2.0859999999999999]
[22,2.08]
[23,2.0739999999999998]
[24,2.069]
[25,2.0640000000000001]
[26,2.06]
[27,2.056]
[28,2.052]
[29,2.048]
[30,2.0449999999999999]
["∞",1.96]